Workbook
Name Assemblage: Feuil2!$B$1:$M$8
Name cout: Feuil1!$G$4:$K$14

Sheet Feuil1
A1: Reference/Tache | B1: A | C1: B | D1: C | E1: D | F1: E | G1: F | H1: G | I1: H | J1: I | K1: J | L1: K
B2: 2 | C2: 3 | D2: 4 | E2: 5 | F2: 6 | G2: 7 | H2: 8 | I2: 9 | J2: 10 | K2: 11 | L2: 12
A3: Usinage | B3: =IF(VLOOKUP($A3,Feuil2!$B$1:$M$5,B$2,FALSE)=0,"",VLOOKUP($A3,Feuil2!$B$1:$M$5,B$2,FALSE)) -> 1 | C3: =IF(VLOOKUP($A3,Feuil2!$B$1:$M$5,C$2,FALSE)=0,"",VLOOKUP($A3,Feuil2!$B$1:$M$5,C$2,FALSE)) | D3: =IF(VLOOKUP($A3,Feuil2!$B$1:$M$5,D$2,FALSE)=0,"",VLOOKUP($A3,Feuil2!$B$1:$M$5,D$2,FALSE)) -> 1 | E3: =IF(VLOOKUP($A3,Feuil2!$B$1:$M$5,E$2,FALSE)=0,"",VLOOKUP($A3,Feuil2!$B$1:$M$5,E$2,FALSE)) -> 1 | F3: =IF(VLOOKUP($A3,Feuil2!$B$1:$M$5,F$2,FALSE)=0,"",VLOOKUP($A3,Feuil2!$B$1:$M$5,F$2,FALSE)) -> 2 | G3: =IF(VLOOKUP($A3,Feuil2!$B$1:$M$5,G$2,FALSE)=0,"",VLOOKUP($A3,Feuil2!$B$1:$M$5,G$2,FALSE)) -> 3 | H3: =IF(VLOOKUP($A3,Feuil2!$B$1:$M$5,H$2,FALSE)=0,"",VLOOKUP($A3,Feuil2!$B$1:$M$5,H$2,FALSE)) -> 4 | I3: =IF(VLOOKUP($A3,Feuil2!$B$1:$M$5,I$2,FALSE)=0,"",VLOOKUP($A3,Feuil2!$B$1:$M$5,I$2,FALSE)) -> 5 | ... L3: =IF(VLOOKUP($A3,Feuil2!$B$1:$M$5,L$2,FALSE)=0,"",VLOOKUP($A3,Feuil2!$B$1:$M$5,L$2,FALSE)) -> 8
A4: découpe | B4: =IF(VLOOKUP($A4,Feuil2!$B$1:$M$5,B$2,FALSE)=0,"",VLOOKUP($A4,Feuil2!$B$1:$M$5,B$2,FALSE)) -> 6 | C4: =IF(VLOOKUP($A4,Feuil2!$B$1:$M$5,C$2,FALSE)=0,"",VLOOKUP($A4,Feuil2!$B$1:$M$5,C$2,FALSE)) | D4: =IF(VLOOKUP($A4,Feuil2!$B$1:$M$5,D$2,FALSE)=0,"",VLOOKUP($A4,Feuil2!$B$1:$M$5,D$2,FALSE)) -> 2 | E4: =IF(VLOOKUP($A4,Feuil2!$B$1:$M$5,E$2,FALSE)=0,"",VLOOKUP($A4,Feuil2!$B$1:$M$5,E$2,FALSE)) | F4: =IF(VLOOKUP($A4,Feuil2!$B$1:$M$5,F$2,FALSE)=0,"",VLOOKUP($A4,Feuil2!$B$1:$M$5,F$2,FALSE)) | G4: =IF(VLOOKUP($A4,Feuil2!$B$1:$M$5,G$2,FALSE)=0,"",VLOOKUP($A4,Feuil2!$B$1:$M$5,G$2,FALSE)) | H4: =IF(VLOOKUP($A4,Feuil2!$B$1:$M$5,H$2,FALSE)=0,"",VLOOKUP($A4,Feuil2!$B$1:$M$5,H$2,FALSE)) | I4: =IF(VLOOKUP($A4,Feuil2!$B$1:$M$5,I$2,FALSE)=0,"",VLOOKUP($A4,Feuil2!$B$1:$M$5,I$2,FALSE)) | ... L4: =IF(VLOOKUP($A4,Feuil2!$B$1:$M$5,L$2,FALSE)=0,"",VLOOKUP($A4,Feuil2!$B$1:$M$5,L$2,FALSE))
A5: montage | B5: =IF(VLOOKUP($A5,Feuil2!$B$1:$M$5,B$2,FALSE)=0,"",VLOOKUP($A5,Feuil2!$B$1:$M$5,B$2,FALSE)) -> 7 | C5: =IF(VLOOKUP($A5,Feuil2!$B$1:$M$5,C$2,FALSE)=0,"",VLOOKUP($A5,Feuil2!$B$1:$M$5,C$2,FALSE)) -> 5 | D5: =IF(VLOOKUP($A5,Feuil2!$B$1:$M$5,D$2,FALSE)=0,"",VLOOKUP($A5,Feuil2!$B$1:$M$5,D$2,FALSE)) -> 3 | E5: =IF(VLOOKUP($A5,Feuil2!$B$1:$M$5,E$2,FALSE)=0,"",VLOOKUP($A5,Feuil2!$B$1:$M$5,E$2,FALSE)) | F5: =IF(VLOOKUP($A5,Feuil2!$B$1:$M$5,F$2,FALSE)=0,"",VLOOKUP($A5,Feuil2!$B$1:$M$5,F$2,FALSE)) | G5: =IF(VLOOKUP($A5,Feuil2!$B$1:$M$5,G$2,FALSE)=0,"",VLOOKUP($A5,Feuil2!$B$1:$M$5,G$2,FALSE)) | H5: =IF(VLOOKUP($A5,Feuil2!$B$1:$M$5,H$2,FALSE)=0,"",VLOOKUP($A5,Feuil2!$B$1:$M$5,H$2,FALSE)) | I5: =IF(VLOOKUP($A5,Feuil2!$B$1:$M$5,I$2,FALSE)=0,"",VLOOKUP($A5,Feuil2!$B$1:$M$5,I$2,FALSE)) | ... L5: =IF(VLOOKUP($A5,Feuil2!$B$1:$M$5,L$2,FALSE)=0,"",VLOOKUP($A5,Feuil2!$B$1:$M$5,L$2,FALSE))
A6: assemblage | B6: =IF(VLOOKUP($A6,Feuil2!$B$1:$M$5,B$2,FALSE)=0,"",VLOOKUP($A6,Feuil2!$B$1:$M$5,B$2,FALSE)) -> 8 | C6: =IF(VLOOKUP($A6,Feuil2!$B$1:$M$5,C$2,FALSE)=0,"",VLOOKUP($A6,Feuil2!$B$1:$M$5,C$2,FALSE)) -> 2 | D6: =IF(VLOOKUP($A6,Feuil2!$B$1:$M$5,D$2,FALSE)=0,"",VLOOKUP($A6,Feuil2!$B$1:$M$5,D$2,FALSE)) -> 4 | E6: =IF(VLOOKUP($A6,Feuil2!$B$1:$M$5,E$2,FALSE)=0,"",VLOOKUP($A6,Feuil2!$B$1:$M$5,E$2,FALSE)) | F6: =IF(VLOOKUP($A6,Feuil2!$B$1:$M$5,F$2,FALSE)=0,"",VLOOKUP($A6,Feuil2!$B$1:$M$5,F$2,FALSE)) | G6: =IF(VLOOKUP($A6,Feuil2!$B$1:$M$5,G$2,FALSE)=0,"",VLOOKUP($A6,Feuil2!$B$1:$M$5,G$2,FALSE)) | H6: =IF(VLOOKUP($A6,Feuil2!$B$1:$M$5,H$2,FALSE)=0,"",VLOOKUP($A6,Feuil2!$B$1:$M$5,H$2,FALSE)) | I6: =IF(VLOOKUP($A6,Feuil2!$B$1:$M$5,I$2,FALSE)=0,"",VLOOKUP($A6,Feuil2!$B$1:$M$5,I$2,FALSE)) | ... L6: =IF(VLOOKUP($A6,Feuil2!$B$1:$M$5,L$2,FALSE)=0,"",VLOOKUP($A6,Feuil2!$B$1:$M$5,L$2,FALSE))

Sheet Feuil2
B1: Reference/Tache | C1: A | D1: B | E1: C | F1: D | G1: E | H1: F | I1: G | J1: H | K1: I | L1: J | M1: K
B2: Usinage | C2: 1 | D2: 0 | E2: 1 | F2: 1 | G2: 2 | H2: 3 | I2: 4 | J2: 5 | K2: 6 | L2: 7 | M2: 8
A3: Assemblage | B3: Découpe | C3: 6 | D3: 0 | E3: 2
B4: Montage | C4: 7 | D4: 5 | E4: 3
B5: ASSEMBLage | C5: 8 | D5: 2 | E5: 4
