Workbook
Name Compteur: 'Priorité de passage'!$A$31:$C$54
Name Ctrl_roulage: 'Priorité de passage'!$F$31:$T$55
Name table_km: 'Priorité de passage'!#REF!
Name Zone_de_travail: 'Priorité de passage'!$A$2:$E$26
Name Zone_dimpression: 'Priorité de passage'!$A$2:$N$26

Sheet Priorité de passage
D1: =TODAY() -> 42608
A2: Tramway | B2: Type | C2: Km prochaine révision | D2: Km jour | E2: Ecart
A3: TW05 | B3: 9000 | C3: 1323000 | D3: =VLOOKUP(A3,Compteur,2,FALSE) -> 1324814 | E3: =D3-C3 -> 1814
A4: TW09 | B4: 9000 | C4: 1305000 | D4: =VLOOKUP(A4,Compteur,2,FALSE) -> 1304969 | E4: =D4-C4 -> -31
A5: TW12 | B5: 36000 | C5: 1404000 | D5: =VLOOKUP(A5,Compteur,2,FALSE) -> 1403040 | E5: =D5-C5 -> -960
A6: TW03 | B6: 36000 | C6: 1332000 | D6: =VLOOKUP(A6,Compteur,2,FALSE) -> 1330856 | E6: =D6-C6 -> -1144
A7: TW11 | B7: 9000 | C7: 1377000 | D7: =VLOOKUP(A7,Compteur,2,FALSE) -> 1375845 | E7: =D7-C7 -> -1155
A8: TW06 | B8: 72000 | C8: 1224000 | D8: =VLOOKUP(A8,Compteur,2,FALSE) -> 1222522 | E8: =D8-C8 -> -1478
A9: TW13 | B9: 18000 | C9: =1242000 -> 1242000 | D9: =VLOOKUP(A9,Compteur,2,FALSE) -> 1240462 | E9: =D9-C9 -> -1538
A10: TW08 | B10: 18000 | C10: 1386000 | D10: =VLOOKUP(A10,Compteur,2,FALSE) -> 1383644 | E10: =D10-C10 -> -2356
A11: TW02 | B11: 9000 | C11: 1125000 | D11: =VLOOKUP(A11,Compteur,2,FALSE) -> 1122172 | E11: =D11-C11 -> -2828
A12: TW14 | B12: 36000 | C12: 1260000 | D12: =VLOOKUP(A12,Compteur,2,FALSE) -> 1256839 | E12: =D12-C12 -> -3161
A13: TW10 | B13: 9000 | C13: 1431000 | D13: =VLOOKUP(A13,Compteur,2,FALSE) -> 1427560 | E13: =D13-C13 -> -3440
A14: TW18 | B14: 9000 | C14: 1341000 | D14: =VLOOKUP(A14,Compteur,2,FALSE) -> 1337366 | E14: =D14-C14 -> -3634
A15: TW07 | B15: 9000 | C15: 1179000 | D15: =VLOOKUP(A15,Compteur,2,FALSE) -> 1174866 | E15: =D15-C15 -> -4134
A16: TW16 | B16: 18000 | C16: 1386000 | D16: =VLOOKUP(A16,Compteur,2,FALSE) -> 1381850 | E16: =D16-C16 -> -4150
A17: TW23 | B17: 9000 | C17: 1341000 | D17: =VLOOKUP(A17,Compteur,2,FALSE) -> 1336665 | E17: =D17-C17 -> -4335
A18: TW22 | B18: 18000 | C18: 1386000 | D18: =VLOOKUP(A18,Compteur,2,FALSE) -> 1381601 | E18: =D18-C18 -> -4399
A19: TW01 | B19: 18000 | C19: =1233000+9000 -> 1242000 | D19: =VLOOKUP(A19,Compteur,2,FALSE) -> 1236350 | E19: =D19-C19 -> -5650
A20: TW17 | B20: 18000 | C20: 1422000 | D20: =VLOOKUP(A20,Compteur,2,FALSE) -> 1415979 | E20: =D20-C20 -> -6021
A21: TW15 | B21: 9000 | C21: 1395000 | D21: =VLOOKUP(A21,Compteur,2,FALSE) -> 1388838 | E21: =D21-C21 -> -6162
A22: TW20 | B22: 9000 | C22: 1323000 | D22: =VLOOKUP(A22,Compteur,2,FALSE) -> 1316032 | E22: =D22-C22 -> -6968
A23: TW19 | B23: 9000 | C23: 1341000 | D23: =VLOOKUP(A23,Compteur,2,FALSE) -> 1333192 | E23: =D23-C23 -> -7808
A24: TW04 | B24: 9000 | C24: =1350000+9000 -> 1359000 | D24: =VLOOKUP(A24,Compteur,2,FALSE) -> 1350687 | E24: =D24-C24 -> -8313
A25: TW21 | B25: 72000 | C25: 1368000 | D25: =VLOOKUP(A25,Compteur,2,FALSE) -> 1359485 | E25: =D25-C25 -> -8515
A26: TW24 | B26: 72000 | C26: 1368000 | D26: =VLOOKUP(A26,Compteur,2,FALSE) -> 1359418 | E26: =D26-C26 -> -8582
A30: Aide ? | F30: Aide ? | H30: 2 | K30: 1
A31: TW01 | B31: 1236350 | C31: 42606.083 | F31: TW | G31: N | H31: Roulage | J31: N-1 | K31: Roulage | M31: N-2 | Q31: Passage Rév | R31: Jour Rev +/- 1 | S31: Ecart | T31: Type
A32: TW02 | B32: 1122172 | C32: 42549.083 | F32: TW05 | G32: =VLOOKUP(F32,Compteur,2,FALSE) -> 1324814 | H32: =IF(G32-J32=0,"",IF(G32-J32>VLOOKUP(F32,'Priorité de passage'!$A$2:$N$26,7,FALSE),G32-J32,VLOOKUP(F32,'Priorité de passage'!$A$2:$N$26,7,FALSE))) -> 246 | I32: =IF(H32="","",IF(H32<=160,1,IF(H32<=280,2,3))) -> 2 | J32: 1324568 | K32: =IF(J32-M32=0,"",IF(J32-M32>VLOOKUP(F32,'Priorité de passage'!$A$2:$N$26,7,FALSE),J32-M32,VLOOKUP(F32,'Priorité de passage'!$A$2:$N$26,7,FALSE))) -> 258 | L32: =IF(K32="","",IF(K32<=160,1,IF(K32<=280,2,3))) -> 2 | M32: 1324310 | Q32: =IF(AND(H32="",K32=""),"",IF(AND(H32>"",K32=""),-VLOOKUP(F32,Zone_de_travail,5,FALSE)/H32,IF(AND(K32>"",H32=""),-VLOOKUP(F32,Zone_de_travail,5,FALSE)/K32,-VLOOKUP(F32,Zone_de_travail,5,FALSE)/(AVERAGE(H32,K32))))) -> -7.1984127 | R32: =IFERROR(TODAY()+Q32,"") -> 42600.802 | S32: =VLOOKUP(F32,Zone_de_travail,5,FALSE) -> 1814 | T32: =VLOOKUP(F32,Zone_de_travail,2,FALSE) -> 9000
A33: TW03 | B33: 1330856 | C33: 42607.083 | F33: TW09 | G33: =VLOOKUP(F33,Compteur,2,FALSE) -> 1304969 | H33: =IF(G33-J33=0,"",IF(G33-J33>VLOOKUP(F33,'Priorité de passage'!$A$2:$N$26,7,FALSE),G33-J33,VLOOKUP(F33,'Priorité de passage'!$A$2:$N$26,7,FALSE))) -> 374 | I33: =IF(H33="","",IF(H33<=160,1,IF(H33<=280,2,3))) -> 3 | J33: 1304595 | K33: =IF(J33-M33=0,"",IF(J33-M33>VLOOKUP(F33,'Priorité de passage'!$A$2:$N$26,7,FALSE),J33-M33,VLOOKUP(F33,'Priorité de passage'!$A$2:$N$26,7,FALSE))) -> 268 | L33: =IF(K33="","",IF(K33<=160,1,IF(K33<=280,2,3))) -> 2 | M33: 1304327 | Q33: =IF(AND(H33="",K33=""),"",IF(AND(H33>"",K33=""),-VLOOKUP(F33,Zone_de_travail,5,FALSE)/H33,IF(AND(K33>"",H33=""),-VLOOKUP(F33,Zone_de_travail,5,FALSE)/K33,-VLOOKUP(F33,Zone_de_travail,5,FALSE)/(AVERAGE(H33,K33))))) -> 0.096573209 | R33: =IFERROR(TODAY()+Q33,"") -> 42608.097 | S33: =VLOOKUP(F33,Zone_de_travail,5,FALSE) -> -31 | T33: =VLOOKUP(F33,Zone_de_travail,2,FALSE) -> 9000
A34: TW04 | B34: 1350687 | C34: 42606.083 | F34: TW12 | G34: =VLOOKUP(F34,Compteur,2,FALSE) -> 1403040 | H34: =IF(G34-J34=0,"",IF(G34-J34>VLOOKUP(F34,'Priorité de passage'!$A$2:$N$26,7,FALSE),G34-J34,VLOOKUP(F34,'Priorité de passage'!$A$2:$N$26,7,FALSE))) -> 76 | I34: =IF(H34="","",IF(H34<=160,1,IF(H34<=280,2,3))) -> 1 | J34: 1402964 | K34: =IF(J34-M34=0,"",IF(J34-M34>VLOOKUP(F34,'Priorité de passage'!$A$2:$N$26,7,FALSE),J34-M34,VLOOKUP(F34,'Priorité de passage'!$A$2:$N$26,7,FALSE))) -> 32 | L34: =IF(K34="","",IF(K34<=160,1,IF(K34<=280,2,3))) -> 1 | M34: 1402932 | Q34: =IF(AND(H34="",K34=""),"",IF(AND(H34>"",K34=""),-VLOOKUP(F34,Zone_de_travail,5,FALSE)/H34,IF(AND(K34>"",H34=""),-VLOOKUP(F34,Zone_de_travail,5,FALSE)/K34,-VLOOKUP(F34,Zone_de_travail,5,FALSE)/(AVERAGE(H34,K34))))) -> 17.777778 | R34: =IFERROR(TODAY()+Q34,"") -> 42625.778 | S34: =VLOOKUP(F34,Zone_de_travail,5,FALSE) -> -960 | T34: =VLOOKUP(F34,Zone_de_travail,2,FALSE) -> 36000
A35: TW05 | B35: 1324814 | C35: 42607.083 | F35: TW03 | G35: =VLOOKUP(F35,Compteur,2,FALSE) -> 1330856 | H35: =IF(G35-J35=0,"",IF(G35-J35>VLOOKUP(F35,'Priorité de passage'!$A$2:$N$26,7,FALSE),G35-J35,VLOOKUP(F35,'Priorité de passage'!$A$2:$N$26,7,FALSE))) -> 119 | I35: =IF(H35="","",IF(H35<=160,1,IF(H35<=280,2,3))) -> 1 | J35: 1330737 | K35: =IF(J35-M35=0,"",IF(J35-M35>VLOOKUP(F35,'Priorité de passage'!$A$2:$N$26,7,FALSE),J35-M35,VLOOKUP(F35,'Priorité de passage'!$A$2:$N$26,7,FALSE))) | L35: =IF(K35="","",IF(K35<=160,1,IF(K35<=280,2,3))) | M35: 1330737 | Q35: =IF(AND(H35="",K35=""),"",IF(AND(H35>"",K35=""),-VLOOKUP(F35,Zone_de_travail,5,FALSE)/H35,IF(AND(K35>"",H35=""),-VLOOKUP(F35,Zone_de_travail,5,FALSE)/K35,-VLOOKUP(F35,Zone_de_travail,5,FALSE)/(AVERAGE(H35,K35))))) -> 9.6134454 | R35: =IFERROR(TODAY()+Q35,"") -> 42617.613 | S35: =VLOOKUP(F35,Zone_de_travail,5,FALSE) -> -1144 | T35: =VLOOKUP(F35,Zone_de_travail,2,FALSE) -> 36000
A36: TW06 | B36: 1222522 | C36: 42607.083 | F36: TW11 | G36: =VLOOKUP(F36,Compteur,2,FALSE) -> 1375845 | H36: =IF(G36-J36=0,"",IF(G36-J36>VLOOKUP(F36,'Priorité de passage'!$A$2:$N$26,7,FALSE),G36-J36,VLOOKUP(F36,'Priorité de passage'!$A$2:$N$26,7,FALSE))) -> 175 | I36: =IF(H36="","",IF(H36<=160,1,IF(H36<=280,2,3))) -> 2 | J36: 1375670 | K36: =IF(J36-M36=0,"",IF(J36-M36>VLOOKUP(F36,'Priorité de passage'!$A$2:$N$26,7,FALSE),J36-M36,VLOOKUP(F36,'Priorité de passage'!$A$2:$N$26,7,FALSE))) -> 368 | L36: =IF(K36="","",IF(K36<=160,1,IF(K36<=280,2,3))) -> 3 | M36: 1375302 | Q36: =IF(AND(H36="",K36=""),"",IF(AND(H36>"",K36=""),-VLOOKUP(F36,Zone_de_travail,5,FALSE)/H36,IF(AND(K36>"",H36=""),-VLOOKUP(F36,Zone_de_travail,5,FALSE)/K36,-VLOOKUP(F36,Zone_de_travail,5,FALSE)/(AVERAGE(H36,K36))))) -> 4.2541436 | R36: =IFERROR(TODAY()+Q36,"") -> 42612.254 | S36: =VLOOKUP(F36,Zone_de_travail,5,FALSE) -> -1155 | T36: =VLOOKUP(F36,Zone_de_travail,2,FALSE) -> 9000
A37: TW07 | B37: 1174866 | C37: 42607.083 | F37: TW06 | G37: =VLOOKUP(F37,Compteur,2,FALSE) -> 1222522 | H37: =IF(G37-J37=0,"",IF(G37-J37>VLOOKUP(F37,'Priorité de passage'!$A$2:$N$26,7,FALSE),G37-J37,VLOOKUP(F37,'Priorité de passage'!$A$2:$N$26,7,FALSE))) -> 198 | I37: =IF(H37="","",IF(H37<=160,1,IF(H37<=280,2,3))) -> 2 | J37: 1222324 | K37: =IF(J37-M37=0,"",IF(J37-M37>VLOOKUP(F37,'Priorité de passage'!$A$2:$N$26,7,FALSE),J37-M37,VLOOKUP(F37,'Priorité de passage'!$A$2:$N$26,7,FALSE))) | L37: =IF(K37="","",IF(K37<=160,1,IF(K37<=280,2,3))) | M37: 1222324 | Q37: =IF(AND(H37="",K37=""),"",IF(AND(H37>"",K37=""),-VLOOKUP(F37,Zone_de_travail,5,FALSE)/H37,IF(AND(K37>"",H37=""),-VLOOKUP(F37,Zone_de_travail,5,FALSE)/K37,-VLOOKUP(F37,Zone_de_travail,5,FALSE)/(AVERAGE(H37,K37))))) -> 7.4646465 | R37: =IFERROR(TODAY()+Q37,"") -> 42615.465 | S37: =VLOOKUP(F37,Zone_de_travail,5,FALSE) -> -1478 | T37: =VLOOKUP(F37,Zone_de_travail,2,FALSE) -> 72000
A38: TW08 | B38: 1383644 | C38: 42607.083 | F38: TW13 | G38: =VLOOKUP(F38,Compteur,2,FALSE) -> 1240462 | H38: =IF(G38-J38=0,"",IF(G38-J38>VLOOKUP(F38,'Priorité de passage'!$A$2:$N$26,7,FALSE),G38-J38,VLOOKUP(F38,'Priorité de passage'!$A$2:$N$26,7,FALSE))) | I38: =IF(H38="","",IF(H38<=160,1,IF(H38<=280,2,3))) | J38: 1240462 | K38: =IF(J38-M38=0,"",IF(J38-M38>VLOOKUP(F38,'Priorité de passage'!$A$2:$N$26,7,FALSE),J38-M38,VLOOKUP(F38,'Priorité de passage'!$A$2:$N$26,7,FALSE))) | L38: =IF(K38="","",IF(K38<=160,1,IF(K38<=280,2,3))) | M38: 1240462 | Q38: =IF(AND(H38="",K38=""),"",IF(AND(H38>"",K38=""),-VLOOKUP(F38,Zone_de_travail,5,FALSE)/H38,IF(AND(K38>"",H38=""),-VLOOKUP(F38,Zone_de_travail,5,FALSE)/K38,-VLOOKUP(F38,Zone_de_travail,5,FALSE)/(AVERAGE(H38,K38))))) | R38: =IFERROR(TODAY()+Q38,"") | S38: =VLOOKUP(F38,Zone_de_travail,5,FALSE) -> -1538 | T38: =VLOOKUP(F38,Zone_de_travail,2,FALSE) -> 18000
A39: TW09 | B39: 1304969 | C39: 42607.083 | F39: TW08 | G39: =VLOOKUP(F39,Compteur,2,FALSE) -> 1383644 | H39: =IF(G39-J39=0,"",IF(G39-J39>VLOOKUP(F39,'Priorité de passage'!$A$2:$N$26,7,FALSE),G39-J39,VLOOKUP(F39,'Priorité de passage'!$A$2:$N$26,7,FALSE))) -> 182 | I39: =IF(H39="","",IF(H39<=160,1,IF(H39<=280,2,3))) -> 2 | J39: 1383462 | K39: =IF(J39-M39=0,"",IF(J39-M39>VLOOKUP(F39,'Priorité de passage'!$A$2:$N$26,7,FALSE),J39-M39,VLOOKUP(F39,'Priorité de passage'!$A$2:$N$26,7,FALSE))) -> 367 | L39: =IF(K39="","",IF(K39<=160,1,IF(K39<=280,2,3))) -> 3 | M39: 1383095 | Q39: =IF(AND(H39="",K39=""),"",IF(AND(H39>"",K39=""),-VLOOKUP(F39,Zone_de_travail,5,FALSE)/H39,IF(AND(K39>"",H39=""),-VLOOKUP(F39,Zone_de_travail,5,FALSE)/K39,-VLOOKUP(F39,Zone_de_travail,5,FALSE)/(AVERAGE(H39,K39))))) -> 8.582878 | R39: =IFERROR(TODAY()+Q39,"") -> 42616.583 | S39: =VLOOKUP(F39,Zone_de_travail,5,FALSE) -> -2356 | T39: =VLOOKUP(F39,Zone_de_travail,2,FALSE) -> 18000
A40: TW10 | B40: 1427560 | C40: 42607.083 | F40: TW02 | G40: =VLOOKUP(F40,Compteur,2,FALSE) -> 1122172 | H40: =IF(G40-J40=0,"",IF(G40-J40>VLOOKUP(F40,'Priorité de passage'!$A$2:$N$26,7,FALSE),G40-J40,VLOOKUP(F40,'Priorité de passage'!$A$2:$N$26,7,FALSE))) | I40: =IF(H40="","",IF(H40<=160,1,IF(H40<=280,2,3))) | J40: 1122172 | K40: =IF(J40-M40=0,"",IF(J40-M40>VLOOKUP(F40,'Priorité de passage'!$A$2:$N$26,7,FALSE),J40-M40,VLOOKUP(F40,'Priorité de passage'!$A$2:$N$26,7,FALSE))) | L40: =IF(K40="","",IF(K40<=160,1,IF(K40<=280,2,3))) | M40: 1122172 | Q40: =IF(AND(H40="",K40=""),"",IF(AND(H40>"",K40=""),-VLOOKUP(F40,Zone_de_travail,5,FALSE)/H40,IF(AND(K40>"",H40=""),-VLOOKUP(F40,Zone_de_travail,5,FALSE)/K40,-VLOOKUP(F40,Zone_de_travail,5,FALSE)/(AVERAGE(H40,K40))))) | R40: =IFERROR(TODAY()+Q40,"") | S40: =VLOOKUP(F40,Zone_de_travail,5,FALSE) -> -2828 | T40: =VLOOKUP(F40,Zone_de_travail,2,FALSE) -> 9000
A41: TW11 | B41: 1375845 | C41: 42607.083 | F41: TW14 | G41: =VLOOKUP(F41,Compteur,2,FALSE) -> 1256839 | H41: =IF(G41-J41=0,"",IF(G41-J41>VLOOKUP(F41,'Priorité de passage'!$A$2:$N$26,7,FALSE),G41-J41,VLOOKUP(F41,'Priorité de passage'!$A$2:$N$26,7,FALSE))) -> 32 | I41: =IF(H41="","",IF(H41<=160,1,IF(H41<=280,2,3))) -> 1 | J41: 1256807 | K41: =IF(J41-M41=0,"",IF(J41-M41>VLOOKUP(F41,'Priorité de passage'!$A$2:$N$26,7,FALSE),J41-M41,VLOOKUP(F41,'Priorité de passage'!$A$2:$N$26,7,FALSE))) | L41: =IF(K41="","",IF(K41<=160,1,IF(K41<=280,2,3))) | M41: 1256807 | Q41: =IF(AND(H41="",K41=""),"",IF(AND(H41>"",K41=""),-VLOOKUP(F41,Zone_de_travail,5,FALSE)/H41,IF(AND(K41>"",H41=""),-VLOOKUP(F41,Zone_de_travail,5,FALSE)/K41,-VLOOKUP(F41,Zone_de_travail,5,FALSE)/(AVERAGE(H41,K41))))) -> 98.78125 | R41: =IFERROR(TODAY()+Q41,"") -> 42706.781 | S41: =VLOOKUP(F41,Zone_de_travail,5,FALSE) -> -3161 | T41: =VLOOKUP(F41,Zone_de_travail,2,FALSE) -> 36000
A42: TW12 | B42: 1403040 | C42: 42607.083 | F42: TW10 | G42: =VLOOKUP(F42,Compteur,2,FALSE) -> 1427560 | H42: =IF(G42-J42=0,"",IF(G42-J42>VLOOKUP(F42,'Priorité de passage'!$A$2:$N$26,7,FALSE),G42-J42,VLOOKUP(F42,'Priorité de passage'!$A$2:$N$26,7,FALSE))) -> 271 | I42: =IF(H42="","",IF(H42<=160,1,IF(H42<=280,2,3))) -> 2 | J42: 1427289 | K42: =IF(J42-M42=0,"",IF(J42-M42>VLOOKUP(F42,'Priorité de passage'!$A$2:$N$26,7,FALSE),J42-M42,VLOOKUP(F42,'Priorité de passage'!$A$2:$N$26,7,FALSE))) -> 290 | L42: =IF(K42="","",IF(K42<=160,1,IF(K42<=280,2,3))) -> 3 | M42: 1426999 | Q42: =IF(AND(H42="",K42=""),"",IF(AND(H42>"",K42=""),-VLOOKUP(F42,Zone_de_travail,5,FALSE)/H42,IF(AND(K42>"",H42=""),-VLOOKUP(F42,Zone_de_travail,5,FALSE)/K42,-VLOOKUP(F42,Zone_de_travail,5,FALSE)/(AVERAGE(H42,K42))))) -> 12.263815 | R42: =IFERROR(TODAY()+Q42,"") -> 42620.264 | S42: =VLOOKUP(F42,Zone_de_travail,5,FALSE) -> -3440 | T42: =VLOOKUP(F42,Zone_de_travail,2,FALSE) -> 9000
A43: TW13 | B43: 1240462 | C43: 42578.083 | F43: TW18 | G43: =VLOOKUP(F43,Compteur,2,FALSE) -> 1337366 | H43: =IF(G43-J43=0,"",IF(G43-J43>VLOOKUP(F43,'Priorité de passage'!$A$2:$N$26,7,FALSE),G43-J43,VLOOKUP(F43,'Priorité de passage'!$A$2:$N$26,7,FALSE))) -> 211 | I43: =IF(H43="","",IF(H43<=160,1,IF(H43<=280,2,3))) -> 2 | J43: 1337155 | K43: =IF(J43-M43=0,"",IF(J43-M43>VLOOKUP(F43,'Priorité de passage'!$A$2:$N$26,7,FALSE),J43-M43,VLOOKUP(F43,'Priorité de passage'!$A$2:$N$26,7,FALSE))) -> 233 | L43: =IF(K43="","",IF(K43<=160,1,IF(K43<=280,2,3))) -> 2 | M43: 1336922 | Q43: =IF(AND(H43="",K43=""),"",IF(AND(H43>"",K43=""),-VLOOKUP(F43,Zone_de_travail,5,FALSE)/H43,IF(AND(K43>"",H43=""),-VLOOKUP(F43,Zone_de_travail,5,FALSE)/K43,-VLOOKUP(F43,Zone_de_travail,5,FALSE)/(AVERAGE(H43,K43))))) -> 16.369369 | R43: =IFERROR(TODAY()+Q43,"") -> 42624.369 | S43: =VLOOKUP(F43,Zone_de_travail,5,FALSE) -> -3634 | T43: =VLOOKUP(F43,Zone_de_travail,2,FALSE) -> 9000
... A54: TW24 | B54: 1359418 | C54: 42607.083 | F54: TW21 | G54: =VLOOKUP(F54,Compteur,2,FALSE) -> 1359485 | H54: =IF(G54-J54=0,"",IF(G54-J54>VLOOKUP(F54,'Priorité de passage'!$A$2:$N$26,7,FALSE),G54-J54,VLOOKUP(F54,'Priorité de passage'!$A$2:$N$26,7,FALSE))) | I54: =IF(H54="","",IF(H54<=160,1,IF(H54<=280,2,3))) | J54: 1359485 | K54: =IF(J54-M54=0,"",IF(J54-M54>VLOOKUP(F54,'Priorité de passage'!$A$2:$N$26,7,FALSE),J54-M54,VLOOKUP(F54,'Priorité de passage'!$A$2:$N$26,7,FALSE))) | L54: =IF(K54="","",IF(K54<=160,1,IF(K54<=280,2,3))) | M54: 1359485 | Q54: =IF(AND(H54="",K54=""),"",IF(AND(H54>"",K54=""),-VLOOKUP(F54,Zone_de_travail,5,FALSE)/H54,IF(AND(K54>"",H54=""),-VLOOKUP(F54,Zone_de_travail,5,FALSE)/K54,-VLOOKUP(F54,Zone_de_travail,5,FALSE)/(AVERAGE(H54,K54))))) | R54: =IFERROR(TODAY()+Q54,"") | S54: =VLOOKUP(F54,Zone_de_travail,5,FALSE) -> -8515 | T54: =VLOOKUP(F54,Zone_de_travail,2,FALSE) -> 72000
F55: TW24 | G55: =VLOOKUP(F55,Compteur,2,FALSE) -> 1359418 | H55: =IF(G55-J55=0,"",IF(G55-J55>VLOOKUP(F55,'Priorité de passage'!$A$2:$N$26,7,FALSE),G55-J55,VLOOKUP(F55,'Priorité de passage'!$A$2:$N$26,7,FALSE))) -> 263 | I55: =IF(H55="","",IF(H55<=160,1,IF(H55<=280,2,3))) -> 2 | J55: 1359155 | K55: =IF(J55-M55=0,"",IF(J55-M55>VLOOKUP(F55,'Priorité de passage'!$A$2:$N$26,7,FALSE),J55-M55,VLOOKUP(F55,'Priorité de passage'!$A$2:$N$26,7,FALSE))) -> 137 | L55: =IF(K55="","",IF(K55<=160,1,IF(K55<=280,2,3))) -> 1 | M55: 1359018 | Q55: =IF(AND(H55="",K55=""),"",IF(AND(H55>"",K55=""),-VLOOKUP(F55,Zone_de_travail,5,FALSE)/H55,IF(AND(K55>"",H55=""),-VLOOKUP(F55,Zone_de_travail,5,FALSE)/K55,-VLOOKUP(F55,Zone_de_travail,5,FALSE)/(AVERAGE(H55,K55))))) -> 42.91 | R55: =IFERROR(TODAY()+Q55,"") -> 42650.91 | S55: =VLOOKUP(F55,Zone_de_travail,5,FALSE) -> -8582 | T55: =VLOOKUP(F55,Zone_de_travail,2,FALSE) -> 72000
G57: Moyenne : | H57: =IFERROR(AVERAGE(H32:H55),"") -> 242.83333 | I57: Nb tramway | J57: Moyenne : | K57: =IFERROR(AVERAGE(K32:K55),"") -> 259.88235 | L57: Nb tramway
I58: =24-COUNTBLANK(I32:I55) -> 18 | L58: =24-COUNTBLANK(L32:L55) -> 17
