Workbook
Name Impact: Data!$I$4:$I$7
Name Probabilité: Data!$F$4:$F$7
Name RàS1: Data!$C$6
Name RàS2: Data!$D$6
Name RàT: Data!$C$7
Name RN: Data!$D$5
Name TblImpact: Data!$I$4:$J$7
Name TblProb: Data!$F$4:$G$7
Name TblZone: Data!$B$12:$D$27
Name Zone: OFFSET(BDD!$R$4,,,MATCH("zzzzz",BDD!$R:$R)-3,1)

Sheet BDD
C2: No | D2: Catégorie | E2: Date | F2: Risque | G2: Probabilité | I2: Impact | K2: Criticité | L2: Resp | M2: Conséquences | N2: Solutions adoptées | O2: Résultats | R2: Zone
G3: Libelle | H3: Coéfficient | I3: Libelle | J3: Coéfficient
C4: 1 | D4: Soins | E4: 42249 | F4: Accident exposition liquides biologiques | G4: 1xsem /mois | H4: =IF(G4="","",VLOOKUP(G4,TblProb,2,0)) -> 15 | I4: Impact les clients et ou collab non majeur | J4: =IF(I4="","",VLOOKUP(I4,TblImpact,2,0)) -> 10 | K4: =IFERROR(H4*J4,"") -> 150 | L4: IC | M4: Arret de travail -risque pénal-dédomagement- Image | N4: Procédures | O4: J | R4: {=IFERROR(INDEX(Data!$D$12:$D$27,MATCH($J4&$H4,Data!$B$12:$B$27&Data!$C$12:$C$27,0),1),"")} -> B3
C5: 2 | D5: Soins | E5: 42249 | F5: Infectieux par non respect des régles d'hygiène | G5: Permanent (1xJ) | H5: =IF(G5="","",VLOOKUP(G5,TblProb,2,0)) -> 20 | I5: Très important (perennité RSG) | J5: =IF(I5="","",VLOOKUP(I5,TblImpact,2,0)) -> 20 | K5: =IFERROR(H5*J5,"") -> 400 | L5: IC | M5: Infections noso-comiales par contamination croisées | N5: Respect des directives - concept hygiène -directives élimination déchets | O5: J | R5: {=IFERROR(INDEX(Data!$D$12:$D$27,MATCH($J5&$H5,Data!$B$12:$B$27&Data!$C$12:$C$27,0),1),"")} -> D4
C6: 3 | D6: Soins | E6: 42249 | F6: Epidémie | G6: exceptionnel | H6: =IF(G6="","",VLOOKUP(G6,TblProb,2,0)) -> 5 | I6: Très important (perennité RSG) | J6: =IF(I6="","",VLOOKUP(I6,TblImpact,2,0)) -> 20 | K6: =IFERROR(H6*J6,"") -> 100 | L6: IC | M6: Pertes en vie humaines personnel- résidents-population | N6: Procédures isolement | O6: J | R6: {=IFERROR(INDEX(Data!$D$12:$D$27,MATCH($J6&$H6,Data!$B$12:$B$27&Data!$C$12:$C$27,0),1),"")} -> D1
C7: 4 | D7: Soins | E7: 42250 | F7: Suicide d'un résident | G7: exceptionnel | H7: =IF(G7="","",VLOOKUP(G7,TblProb,2,0)) -> 5 | I7: Très important (perennité RSG) | J7: =IF(I7="","",VLOOKUP(I7,TblImpact,2,0)) -> 20 | K7: =IFERROR(H7*J7,"") -> 100 | L7: IC | M7: Pertes en vie humaine Image | N7: Procédures | O7: J | R7: {=IFERROR(INDEX(Data!$D$12:$D$27,MATCH($J7&$H7,Data!$B$12:$B$27&Data!$C$12:$C$27,0),1),"")} -> D1
C8: 5 | D8: Soins | E8: 42249 | F8: Médicaments rupture chaine du froid | G8: 1Xmois/trim. | H8: =IF(G8="","",VLOOKUP(G8,TblProb,2,0)) -> 10 | I8: Important (impacte objectifs stratégiques) | J8: =IF(I8="","",VLOOKUP(I8,TblImpact,2,0)) -> 15 | K8: =IFERROR(H8*J8,"") -> 150 | L8: IC | M8: Perte d'efficaité du médicament | N8: Procédures | O8: J | R8: {=IFERROR(INDEX(Data!$D$12:$D$27,MATCH($J8&$H8,Data!$B$12:$B$27&Data!$C$12:$C$27,0),1),"")} -> C2
C9: 6 | D9: Soins | E9: 42250 | F9: Erreurs médicamenteuses | G9: 1xsem /mois | H9: =IF(G9="","",VLOOKUP(G9,TblProb,2,0)) -> 15 | I9: Très important (perennité RSG) | J9: =IF(I9="","",VLOOKUP(I9,TblImpact,2,0)) -> 20 | K9: =IFERROR(H9*J9,"") -> 300 | L9: IC | M9: Pertes en vie humaines résidents | N9: Culture positive erreur Relevé systématique et mesures correctives | O9: J | R9: {=IFERROR(INDEX(Data!$D$12:$D$27,MATCH($J9&$H9,Data!$B$12:$B$27&Data!$C$12:$C$27,0),1),"")} -> D3
C10: 9 | D10: Soins | E10: 42249 | F10: Maltraitance | G10: Permanent (1xJ) | H10: =IF(G10="","",VLOOKUP(G10,TblProb,2,0)) -> 20 | I10: Très important (perennité RSG) | J10: =IF(I10="","",VLOOKUP(I10,TblImpact,2,0)) -> 20 | K10: =IFERROR(H10*J10,"") -> 400 | L10: IC | M10: Perte d'image- risque pénal-dédommagement financier- fermeture d'établissement | N10: formation humanitude | O10: J | R10: {=IFERROR(INDEX(Data!$D$12:$D$27,MATCH($J10&$H10,Data!$B$12:$B$27&Data!$C$12:$C$27,0),1),"")} -> D4
C11: 10 | D11: RH | E11: 42252 | F11: Manque de communication et de coordination entre secteurs | G11: 1xsem /mois | H11: =IF(G11="","",VLOOKUP(G11,TblProb,2,0)) -> 15 | I11: Important (impacte objectifs stratégiques) | J11: =IF(I11="","",VLOOKUP(I11,TblImpact,2,0)) -> 15 | K11: =IFERROR(H11*J11,"") -> 225 | L11: IC | M11: Mauvaise ambiance de travail, état d'esprit négatif, démotivation | N11: communication | O11: K | R11: {=IFERROR(INDEX(Data!$D$12:$D$27,MATCH($J11&$H11,Data!$B$12:$B$27&Data!$C$12:$C$27,0),1),"")} -> C3
C12: 11 | D12: RH | E12: 42252 | F12: Mobbing | G12: 1xsem /mois | H12: =IF(G12="","",VLOOKUP(G12,TblProb,2,0)) -> 15 | I12: Important (impacte objectifs stratégiques) | J12: =IF(I12="","",VLOOKUP(I12,TblImpact,2,0)) -> 15 | K12: =IFERROR(H12*J12,"") -> 225 | L12: IC | M12: Turn over, burnout, absenteisme risque pénal | N12: information- procédure- personne de confiance | O12: K | R12: {=IFERROR(INDEX(Data!$D$12:$D$27,MATCH($J12&$H12,Data!$B$12:$B$27&Data!$C$12:$C$27,0),1),"")} -> C3
C13: 12 | H13: =IF(G13="","",VLOOKUP(G13,TblProb,2,0)) | J13: =IF(I13="","",VLOOKUP(I13,TblImpact,2,0)) | K13: =IFERROR(H13*J13,"") | R13: {=IFERROR(INDEX(Data!$D$12:$D$27,MATCH($J13&$H13,Data!$B$12:$B$27&Data!$C$12:$C$27,0),1),"")}
H14: =IF(G14="","",VLOOKUP(G14,TblProb,2,0)) | J14: =IF(I14="","",VLOOKUP(I14,TblImpact,2,0)) | K14: =IFERROR(H14*J14,"") | R14: {=IFERROR(INDEX(Data!$D$12:$D$27,MATCH($J14&$H14,Data!$B$12:$B$27&Data!$C$12:$C$27,0),1),"")}
H15: =IF(G15="","",VLOOKUP(G15,TblProb,2,0)) | J15: =IF(I15="","",VLOOKUP(I15,TblImpact,2,0)) | K15: =IFERROR(H15*J15,"") | R15: {=IFERROR(INDEX(Data!$D$12:$D$27,MATCH($J15&$H15,Data!$B$12:$B$27&Data!$C$12:$C$27,0),1),"")}
H16: =IF(G16="","",VLOOKUP(G16,TblProb,2,0)) | J16: =IF(I16="","",VLOOKUP(I16,TblImpact,2,0)) | K16: =IFERROR(H16*J16,"") | R16: {=IFERROR(INDEX(Data!$D$12:$D$27,MATCH($J16&$H16,Data!$B$12:$B$27&Data!$C$12:$C$27,0),1),"")}
H17: =IF(G17="","",VLOOKUP(G17,TblProb,2,0)) | J17: =IF(I17="","",VLOOKUP(I17,TblImpact,2,0)) | K17: =IFERROR(H17*J17,"") | R17: {=IFERROR(INDEX(Data!$D$12:$D$27,MATCH($J17&$H17,Data!$B$12:$B$27&Data!$C$12:$C$27,0),1),"")}
H18: =IF(G18="","",VLOOKUP(G18,TblProb,2,0)) | J18: =IF(I18="","",VLOOKUP(I18,TblImpact,2,0)) | K18: =IFERROR(H18*J18,"") | R18: {=IFERROR(INDEX(Data!$D$12:$D$27,MATCH($J18&$H18,Data!$B$12:$B$27&Data!$C$12:$C$27,0),1),"")}
H19: =IF(G19="","",VLOOKUP(G19,TblProb,2,0)) | J19: =IF(I19="","",VLOOKUP(I19,TblImpact,2,0)) | K19: =IFERROR(H19*J19,"") | R19: {=IFERROR(INDEX(Data!$D$12:$D$27,MATCH($J19&$H19,Data!$B$12:$B$27&Data!$C$12:$C$27,0),1),"")}
H20: =IF(G20="","",VLOOKUP(G20,TblProb,2,0)) | J20: =IF(I20="","",VLOOKUP(I20,TblImpact,2,0)) | K20: =IFERROR(H20*J20,"") | R20: {=IFERROR(INDEX(Data!$D$12:$D$27,MATCH($J20&$H20,Data!$B$12:$B$27&Data!$C$12:$C$27,0),1),"")}
H21: =IF(G21="","",VLOOKUP(G21,TblProb,2,0)) | J21: =IF(I21="","",VLOOKUP(I21,TblImpact,2,0)) | K21: =IFERROR(H21*J21,"") | R21: {=IFERROR(INDEX(Data!$D$12:$D$27,MATCH($J21&$H21,Data!$B$12:$B$27&Data!$C$12:$C$27,0),1),"")}
H22: =IF(G22="","",VLOOKUP(G22,TblProb,2,0)) | J22: =IF(I22="","",VLOOKUP(I22,TblImpact,2,0)) | K22: =IFERROR(H22*J22,"") | R22: {=IFERROR(INDEX(Data!$D$12:$D$27,MATCH($J22&$H22,Data!$B$12:$B$27&Data!$C$12:$C$27,0),1),"")}
H23: =IF(G23="","",VLOOKUP(G23,TblProb,2,0)) | J23: =IF(I23="","",VLOOKUP(I23,TblImpact,2,0)) | K23: =IFERROR(H23*J23,"") | R23: {=IFERROR(INDEX(Data!$D$12:$D$27,MATCH($J23&$H23,Data!$B$12:$B$27&Data!$C$12:$C$27,0),1),"")}
H24: =IF(G24="","",VLOOKUP(G24,TblProb,2,0)) | J24: =IF(I24="","",VLOOKUP(I24,TblImpact,2,0)) | K24: =IFERROR(H24*J24,"") | R24: {=IFERROR(INDEX(Data!$D$12:$D$27,MATCH($J24&$H24,Data!$B$12:$B$27&Data!$C$12:$C$27,0),1),"")}
H25: =IF(G25="","",VLOOKUP(G25,TblProb,2,0)) | J25: =IF(I25="","",VLOOKUP(I25,TblImpact,2,0)) | K25: =IFERROR(H25*J25,"") | R25: {=IFERROR(INDEX(Data!$D$12:$D$27,MATCH($J25&$H25,Data!$B$12:$B$27&Data!$C$12:$C$27,0),1),"")}
... H1003: =IF(G1003="","",VLOOKUP(G1003,TblProb,2,0)) | J1003: =IF(I1003="","",VLOOKUP(I1003,TblImpact,2,0)) | K1003: =IFERROR(H1003*J1003,"") | R1003: {=IFERROR(INDEX(Data!$D$12:$D$27,MATCH($J1003&$H1003,Data!$B$12:$B$27&Data!$C$12:$C$27,0),1),"")}

Sheet Graph
D3: Probabilité | E3: 20 | F3: =IF($E3*F$7<=Data!$D$5,Data!$B$5,IF($E3*F$7<=Data!$D$6,Data!$B$6,Data!$B$7)) -> Risque à surveiller | G3: =IF($E3*G$7<=Data!$D$5,Data!$B$5,IF($E3*G$7<=Data!$D$6,Data!$B$6,Data!$B$7)) -> Risque à surveiller | H3: =IF($E3*H$7<=Data!$D$5,Data!$B$5,IF($E3*H$7<=Data!$D$6,Data!$B$6,Data!$B$7)) -> Risque à traiter | I3: =IF($E3*I$7<=Data!$D$5,Data!$B$5,IF($E3*I$7<=Data!$D$6,Data!$B$6,Data!$B$7)) -> Risque à traiter | K3: Pondération du risque: probabilité de survenance x par impact
E4: 15 | F4: =IF($E4*F$7<=Data!$D$5,Data!$B$5,IF($E4*F$7<=Data!$D$6,Data!$B$6,Data!$B$7)) -> Risque non critique | G4: =IF($E4*G$7<=Data!$D$5,Data!$B$5,IF($E4*G$7<=Data!$D$6,Data!$B$6,Data!$B$7)) -> Risque à surveiller | H4: =IF($E4*H$7<=Data!$D$5,Data!$B$5,IF($E4*H$7<=Data!$D$6,Data!$B$6,Data!$B$7)) -> Risque à traiter | I4: =IF($E4*I$7<=Data!$D$5,Data!$B$5,IF($E4*I$7<=Data!$D$6,Data!$B$6,Data!$B$7)) -> Risque à traiter | K4: Risque à traiter | L4: Risques à traiter en priorité. Situations à risques non acceptables en l’état, nécessitant des actions d’analyse et de traitement pour réduire le risque au moins jusqu’à un risque à surveiller
E5: 10 | F5: =IF($E5*F$7<=Data!$D$5,Data!$B$5,IF($E5*F$7<=Data!$D$6,Data!$B$6,Data!$B$7)) -> Risque non critique | G5: =IF($E5*G$7<=Data!$D$5,Data!$B$5,IF($E5*G$7<=Data!$D$6,Data!$B$6,Data!$B$7)) -> Risque à surveiller | H5: =IF($E5*H$7<=Data!$D$5,Data!$B$5,IF($E5*H$7<=Data!$D$6,Data!$B$6,Data!$B$7)) -> Risque à surveiller | I5: =IF($E5*I$7<=Data!$D$5,Data!$B$5,IF($E5*I$7<=Data!$D$6,Data!$B$6,Data!$B$7)) -> Risque à surveiller | K5: Risque à surveiller | L5: Risques à surveiller. Situations à risques acceptables en l’état à condition que des actions soient menées pour mieux les identifier et les surveiller
E6: 5 | F6: =IF($E6*F$7<=Data!$D$5,Data!$B$5,IF($E6*F$7<=Data!$D$6,Data!$B$6,Data!$B$7)) -> Risque non critique | G6: =IF($E6*G$7<=Data!$D$5,Data!$B$5,IF($E6*G$7<=Data!$D$6,Data!$B$6,Data!$B$7)) -> Risque non critique | H6: =IF($E6*H$7<=Data!$D$5,Data!$B$5,IF($E6*H$7<=Data!$D$6,Data!$B$6,Data!$B$7)) -> Risque non critique | I6: =IF($E6*I$7<=Data!$D$5,Data!$B$5,IF($E6*I$7<=Data!$D$6,Data!$B$6,Data!$B$7)) -> Risque à surveiller | K6: Risque négligeable | L6: Risques non critiques. Situations à risques acceptables en l’état, correspond à un risque faible
F7: 5 | G7: 10 | H7: 15 | I7: 20
F8: Impact
F9: A | G9: B | H9: C | I9: D

Sheet Data
B2: Pondération des Risques | F2: Probabilité de survenance | G2: Coéfficient | I2: Impact | J2: Coéfficient
B3: Impact * Probabilité
B4: Classement des Risques | C4: à partir de | D4: Jusqu'à (inclus) | F4: Permanent (1xJ) | G4: 20 | I4: Très important (perennité RSG) | J4: 20
B5: Risque non critique | C5: 0 | D5: 75 | F5: 1xsem /mois | G5: 15 | I5: Important (impacte objectifs stratégiques) | J5: 15
B6: Risque à surveiller | C6: 75 | D6: 200 | F6: 1Xmois/trim. | G6: 10 | I6: Impact les clients et ou collab non majeur | J6: 10
B7: Risque à traiter | C7: 200 | D7: 400 | F7: exceptionnel | G7: 5 | I7: Peu d'impact sur les clients et ou collab | J7: 5
B11: Valeur Impact | C11: Valeur Probabilité | D11: Zone | F11: Somme des évenement / Zone
B12: 5 | C12: 5 | D12: A1 | F12: =IF(COUNTIF(Zone,D12)=0,"",COUNTIF(Zone,D12))
B13: 5 | C13: 10 | D13: A2 | F13: =IF(COUNTIF(Zone,D13)=0,"",COUNTIF(Zone,D13))
B14: 5 | C14: 15 | D14: A3 | F14: =IF(COUNTIF(Zone,D14)=0,"",COUNTIF(Zone,D14))
B15: 5 | C15: 20 | D15: A4 | F15: =IF(COUNTIF(Zone,D15)=0,"",COUNTIF(Zone,D15))
B16: 10 | C16: 5 | D16: B1 | F16: =IF(COUNTIF(Zone,D16)=0,"",COUNTIF(Zone,D16))
B17: 10 | C17: 10 | D17: B2 | F17: =IF(COUNTIF(Zone,D17)=0,"",COUNTIF(Zone,D17))
B18: 10 | C18: 15 | D18: B3 | F18: =IF(COUNTIF(Zone,D18)=0,"",COUNTIF(Zone,D18)) -> 1
B19: 10 | C19: 20 | D19: B4 | F19: =IF(COUNTIF(Zone,D19)=0,"",COUNTIF(Zone,D19))
B20: 15 | C20: 5 | D20: C1 | F20: =IF(COUNTIF(Zone,D20)=0,"",COUNTIF(Zone,D20))
B21: 15 | C21: 10 | D21: C2 | F21: =IF(COUNTIF(Zone,D21)=0,"",COUNTIF(Zone,D21)) -> 1
B22: 15 | C22: 15 | D22: C3 | F22: =IF(COUNTIF(Zone,D22)=0,"",COUNTIF(Zone,D22)) -> 2
B23: 15 | C23: 20 | D23: C4 | F23: =IF(COUNTIF(Zone,D23)=0,"",COUNTIF(Zone,D23))
... B27: 20 | C27: 20 | D27: D4 | F27: =IF(COUNTIF(Zone,D27)=0,"",COUNTIF(Zone,D27)) -> 2
