Workbook
Name Date: OFFSET(Page1!$B$3,,,DD-ROW(Page1!$B$3)+1,1)
Name DD: MAX(IFERROR(MATCH("zzzzz",Page1!$B:$B),ROW(Page1!$B$3)),IFERROR(MATCH(9.99999E+307,Page1!$B:$B),ROW(Page1!$B$3)),ROW(Page1!$B$3))
Name Jours: Page2!$D$2:$E$8
Name Mois: Page2!$A$2:$B$13
Name NbJour: Page2!$L$2:$L$8
Name NbMois: Page2!$H$2:$H$13
Name NoJour: Page2!$K$2:$K$8
Name NoMois: Page2!$G$2:$G$13
Name OrdJour: Page2!$M$2:$M$8
Name OrdMois: Page2!$I$2:$I$13
Name yval1: OFFSET(Page1!$I$3,,,COUNT(Page1!$I$3:$I$14),1)
Name yval2: OFFSET(Page1!$S$3,,,COUNT(Page1!$S$3:$S$9),1)

Sheet Page1
B2: Données - DATES | D2: Votre CHOIX | H2: Mois | I2: Nb. Jours | K2: Nb JOURS / Mois pour les Dates Choisies | R2: Jours | S2: Nb. Jours | U2: Nb JOURS de Semaine pour les Dates Choisies
B3: 42370 | H3: =IFERROR(VLOOKUP(INDEX(NoMois,MATCH(ROWS($1:1),OrdMois,0),1),Mois,2,0),"") -> Janvier | I3: =IFERROR(INDEX(NbMois,MATCH(ROWS($1:1),OrdMois,0),1),0) -> 18 | R3: =IFERROR(VLOOKUP(INDEX(NoJour,MATCH(ROWS($1:1),OrdJour,0),1),Jours,2,0),"") -> Lundi | S3: =IFERROR(INDEX(NbJour,MATCH(ROWS($1:1),OrdJour,0),1),0) -> 12
B4: 42373 | D4: Année | E4: 2017 | H4: =IFERROR(VLOOKUP(INDEX(NoMois,MATCH(ROWS($1:2),OrdMois,0),1),Mois,2,0),"") -> Février | I4: =IFERROR(INDEX(NbMois,MATCH(ROWS($1:2),OrdMois,0),1),"") -> 19 | R4: =IFERROR(VLOOKUP(INDEX(NoJour,MATCH(ROWS($1:2),OrdJour,0),1),Jours,2,0),"") -> Mardi | S4: =IFERROR(INDEX(NbJour,MATCH(ROWS($1:2),OrdJour,0),1),"") -> 12
B5: 42374 | H5: =IFERROR(VLOOKUP(INDEX(NoMois,MATCH(ROWS($1:3),OrdMois,0),1),Mois,2,0),"") -> Mars | I5: =IFERROR(INDEX(NbMois,MATCH(ROWS($1:3),OrdMois,0),1),"") -> 16 | R5: =IFERROR(VLOOKUP(INDEX(NoJour,MATCH(ROWS($1:3),OrdJour,0),1),Jours,2,0),"") -> Mercredi | S5: =IFERROR(INDEX(NbJour,MATCH(ROWS($1:3),OrdJour,0),1),"") -> 11
B6: 42379 | D6: Date DEBUT | E6: 42736 | H6: =IFERROR(VLOOKUP(INDEX(NoMois,MATCH(ROWS($1:4),OrdMois,0),1),Mois,2,0),"") -> Juin | I6: =IFERROR(INDEX(NbMois,MATCH(ROWS($1:4),OrdMois,0),1),"") -> 7 | R6: =IFERROR(VLOOKUP(INDEX(NoJour,MATCH(ROWS($1:4),OrdJour,0),1),Jours,2,0),"") -> Jeudi | S6: =IFERROR(INDEX(NbJour,MATCH(ROWS($1:4),OrdJour,0),1),"") -> 11
B7: 42380 | H7: =IFERROR(VLOOKUP(INDEX(NoMois,MATCH(ROWS($1:5),OrdMois,0),1),Mois,2,0),"") -> Juillet | I7: =IFERROR(INDEX(NbMois,MATCH(ROWS($1:5),OrdMois,0),1),"") -> 24 | R7: =IFERROR(VLOOKUP(INDEX(NoJour,MATCH(ROWS($1:5),OrdJour,0),1),Jours,2,0),"") -> Vendredi | S7: =IFERROR(INDEX(NbJour,MATCH(ROWS($1:5),OrdJour,0),1),"") -> 11
B8: 42384 | D8: Date FIN | E8: 42952 | H8: =IFERROR(VLOOKUP(INDEX(NoMois,MATCH(ROWS($1:6),OrdMois,0),1),Mois,2,0),"") | I8: =IFERROR(INDEX(NbMois,MATCH(ROWS($1:6),OrdMois,0),1),"") | R8: =IFERROR(VLOOKUP(INDEX(NoJour,MATCH(ROWS($1:6),OrdJour,0),1),Jours,2,0),"") -> Samedi | S8: =IFERROR(INDEX(NbJour,MATCH(ROWS($1:6),OrdJour,0),1),"") -> 12
B9: 42385 | H9: =IFERROR(VLOOKUP(INDEX(NoMois,MATCH(ROWS($1:7),OrdMois,0),1),Mois,2,0),"") | I9: =IFERROR(INDEX(NbMois,MATCH(ROWS($1:7),OrdMois,0),1),"") | R9: =IFERROR(VLOOKUP(INDEX(NoJour,MATCH(ROWS($1:7),OrdJour,0),1),Jours,2,0),"") -> Dimanche | S9: =IFERROR(INDEX(NbJour,MATCH(ROWS($1:7),OrdJour,0),1),"") -> 15
B10: 42386 | D10: =IF(D11="","","E R R E U R") | H10: =IFERROR(VLOOKUP(INDEX(NoMois,MATCH(ROWS($1:8),OrdMois,0),1),Mois,2,0),"") | I10: =IFERROR(INDEX(NbMois,MATCH(ROWS($1:8),OrdMois,0),1),"")
B11: 42387 | D11: =IF(OR(E4="",E4<YEAR(MIN(Date)),E4>YEAR(MAX(Date))),"L'Année choisie"&CHAR(10)&"n'est pas cohérent"&CHAR(10)&"aux conditions",IF(OR(E6="",YEAR(E6)<>E4),"La Date DEBUT"&CHAR(10)&"n'est pas cohérent"&CHAR(10)&"aux conditions",IF(OR(E8<E6,YEAR(E8)<>E4),"La Date FIN"&CHAR(10)&"n'est pas cohérent"&CHAR(10)&"aux conditions",""))) | H11: =IFERROR(VLOOKUP(INDEX(NoMois,MATCH(ROWS($1:9),OrdMois,0),1),Mois,2,0),"") | I11: =IFERROR(INDEX(NbMois,MATCH(ROWS($1:9),OrdMois,0),1),"")
B12: 42391 | H12: =IFERROR(VLOOKUP(INDEX(NoMois,MATCH(ROWS($1:10),OrdMois,0),1),Mois,2,0),"") | I12: =IFERROR(INDEX(NbMois,MATCH(ROWS($1:10),OrdMois,0),1),"")
B13: 42392 | H13: =IFERROR(VLOOKUP(INDEX(NoMois,MATCH(ROWS($1:11),OrdMois,0),1),Mois,2,0),"") | I13: =IFERROR(INDEX(NbMois,MATCH(ROWS($1:11),OrdMois,0),1),"")
B14: 42393 | H14: =IFERROR(VLOOKUP(INDEX(NoMois,MATCH(ROWS($1:12),OrdMois,0),1),Mois,2,0),"") | I14: =IFERROR(INDEX(NbMois,MATCH(ROWS($1:12),OrdMois,0),1),"")
B15: 42394
B16: 42395
B17: 42400
B18: 42401
B19: 42402
B20: 42403
B21: 42404
B22: 42405
B23: 42410
B24: 42411
B25: 42412
B26: 42413
... B417: 43229

Sheet Page2
A1: No | B1: Mois | D1: No | E1: Jours | G1: Calculs pour les Graphiques
A2: 1 | B2: Janvier | D2: 1 | E2: Lundi | G2: 1 | H2: =IF(Page1!$D$11="",SUMPRODUCT(--(MONTH(Date)=G2)*--(Date>=Page1!$E$6)*--(Date<=Page1!$E$8)),0) -> 18 | I2: =IF(H2="","",IF(H2<>0,MAX(I$1:I1)+1,"")) -> 1 | K2: 1 | L2: =IF(Page1!$D$11="",SUMPRODUCT(--(WEEKDAY(Date,2)=K2)*--(Date>=Page1!$E$6)*--(Date<=Page1!$E$8)),0) -> 12 | M2: =IF(L2="","",IF(L2<>0,MAX(M$1:M1)+1,"")) -> 1
A3: 2 | B3: Février | D3: 2 | E3: Mardi | G3: 2 | H3: =IF(Page1!$D$11="",SUMPRODUCT(--(MONTH(Date)=G3)*--(Date>=Page1!$E$6)*--(Date<=Page1!$E$8)),"") -> 19 | I3: =IF(H3="","",IF(H3<>0,MAX(I$1:I2)+1,"")) -> 2 | K3: 2 | L3: =IF(Page1!$D$11="",SUMPRODUCT(--(WEEKDAY(Date,2)=K3)*--(Date>=Page1!$E$6)*--(Date<=Page1!$E$8)),"") -> 12 | M3: =IF(L3="","",IF(L3<>0,MAX(M$1:M2)+1,"")) -> 2
A4: 3 | B4: Mars | D4: 3 | E4: Mercredi | G4: 3 | H4: =IF(Page1!$D$11="",SUMPRODUCT(--(MONTH(Date)=G4)*--(Date>=Page1!$E$6)*--(Date<=Page1!$E$8)),"") -> 16 | I4: =IF(H4="","",IF(H4<>0,MAX(I$1:I3)+1,"")) -> 3 | K4: 3 | L4: =IF(Page1!$D$11="",SUMPRODUCT(--(WEEKDAY(Date,2)=K4)*--(Date>=Page1!$E$6)*--(Date<=Page1!$E$8)),"") -> 11 | M4: =IF(L4="","",IF(L4<>0,MAX(M$1:M3)+1,"")) -> 3
A5: 4 | B5: Avril | D5: 4 | E5: Jeudi | G5: 4 | H5: =IF(Page1!$D$11="",SUMPRODUCT(--(MONTH(Date)=G5)*--(Date>=Page1!$E$6)*--(Date<=Page1!$E$8)),"") -> 0 | I5: =IF(H5="","",IF(H5<>0,MAX(I$1:I4)+1,"")) | K5: 4 | L5: =IF(Page1!$D$11="",SUMPRODUCT(--(WEEKDAY(Date,2)=K5)*--(Date>=Page1!$E$6)*--(Date<=Page1!$E$8)),"") -> 11 | M5: =IF(L5="","",IF(L5<>0,MAX(M$1:M4)+1,"")) -> 4
A6: 5 | B6: Mai | D6: 5 | E6: Vendredi | G6: 5 | H6: =IF(Page1!$D$11="",SUMPRODUCT(--(MONTH(Date)=G6)*--(Date>=Page1!$E$6)*--(Date<=Page1!$E$8)),"") -> 0 | I6: =IF(H6="","",IF(H6<>0,MAX(I$1:I5)+1,"")) | K6: 5 | L6: =IF(Page1!$D$11="",SUMPRODUCT(--(WEEKDAY(Date,2)=K6)*--(Date>=Page1!$E$6)*--(Date<=Page1!$E$8)),"") -> 11 | M6: =IF(L6="","",IF(L6<>0,MAX(M$1:M5)+1,"")) -> 5
A7: 6 | B7: Juin | D7: 6 | E7: Samedi | G7: 6 | H7: =IF(Page1!$D$11="",SUMPRODUCT(--(MONTH(Date)=G7)*--(Date>=Page1!$E$6)*--(Date<=Page1!$E$8)),"") -> 7 | I7: =IF(H7="","",IF(H7<>0,MAX(I$1:I6)+1,"")) -> 4 | K7: 6 | L7: =IF(Page1!$D$11="",SUMPRODUCT(--(WEEKDAY(Date,2)=K7)*--(Date>=Page1!$E$6)*--(Date<=Page1!$E$8)),"") -> 12 | M7: =IF(L7="","",IF(L7<>0,MAX(M$1:M6)+1,"")) -> 6
A8: 7 | B8: Juillet | D8: 7 | E8: Dimanche | G8: 7 | H8: =IF(Page1!$D$11="",SUMPRODUCT(--(MONTH(Date)=G8)*--(Date>=Page1!$E$6)*--(Date<=Page1!$E$8)),"") -> 24 | I8: =IF(H8="","",IF(H8<>0,MAX(I$1:I7)+1,"")) -> 5 | K8: 7 | L8: =IF(Page1!$D$11="",SUMPRODUCT(--(WEEKDAY(Date,2)=K8)*--(Date>=Page1!$E$6)*--(Date<=Page1!$E$8)),"") -> 15 | M8: =IF(L8="","",IF(L8<>0,MAX(M$1:M7)+1,"")) -> 7
A9: 8 | B9: Aout | G9: 8 | H9: =IF(Page1!$D$11="",SUMPRODUCT(--(MONTH(Date)=G9)*--(Date>=Page1!$E$6)*--(Date<=Page1!$E$8)),"") -> 0 | I9: =IF(H9="","",IF(H9<>0,MAX(I$1:I8)+1,""))
A10: 9 | B10: Septembre | G10: 9 | H10: =IF(Page1!$D$11="",SUMPRODUCT(--(MONTH(Date)=G10)*--(Date>=Page1!$E$6)*--(Date<=Page1!$E$8)),"") -> 0 | I10: =IF(H10="","",IF(H10<>0,MAX(I$1:I9)+1,""))
A11: 10 | B11: Octobre | G11: 10 | H11: =IF(Page1!$D$11="",SUMPRODUCT(--(MONTH(Date)=G11)*--(Date>=Page1!$E$6)*--(Date<=Page1!$E$8)),"") -> 0 | I11: =IF(H11="","",IF(H11<>0,MAX(I$1:I10)+1,""))
A12: 11 | B12: Novembre | G12: 11 | H12: =IF(Page1!$D$11="",SUMPRODUCT(--(MONTH(Date)=G12)*--(Date>=Page1!$E$6)*--(Date<=Page1!$E$8)),"") -> 0 | I12: =IF(H12="","",IF(H12<>0,MAX(I$1:I11)+1,""))
A13: 12 | B13: Décembre | G13: 12 | H13: =IF(Page1!$D$11="",SUMPRODUCT(--(MONTH(Date)=G13)*--(Date>=Page1!$E$6)*--(Date<=Page1!$E$8)),"") -> 0 | I13: =IF(H13="","",IF(H13<>0,MAX(I$1:I12)+1,""))
