Workbook
Name ColAux: OFFSET(MRT!$L$5,1,,DD-5,1)
Name DD: MAX(IFERROR(MATCH(9.99999E+307,MRT!$D:$D),6),IFERROR(MATCH(9.99999E+307,MRT!$F:$F),6),6)
Name ferier: '[1]jours ferier'!$A$1:$B$12
Name PickUp: OFFSET(MRT!$K$5,1,,DD-5,1)
Name tableheber: [1]HEBER2015!$B$2:$AE$367

Sheet MRT
Q3: j
L4: Colonne
D5: Date | E5: Day N | F5: Date N-1 | G5: Day N-1 | H5: PTFL N | I5: PTFN N-1 | J5: ∆ | K5: Pick up | L5: Auxiliaire
D6: 42370 | E6: 42370 | F6: 42005 | G6: 42005 | H6: 14 | I6: 56 | J6: 42 | K6: =Q6-H6 -> 0 | L6: =IF(K6="","",RANK(K6,PickUp)+COUNTIF($K$6:K6,K6)-1) -> 23 | Q6: 14
D7: 42371 | E7: 42371 | F7: 42006 | G7: 42006 | H7: 24 | I7: 58 | J7: 34 | K7: =Q7-H7 -> 0 | L7: =IF(K7="","",RANK(K7,PickUp)+COUNTIF($K$6:K7,K7)-1) -> 24 | Q7: 24
D8: 42372 | E8: 42372 | F8: 42007 | G8: 42007 | H8: 14 | I8: 23 | J8: 9 | K8: =Q8-H8 -> 0 | L8: =IF(K8="","",RANK(K8,PickUp)+COUNTIF($K$6:K8,K8)-1) -> 25 | Q8: 14
D9: 42373 | E9: 42373 | F9: 42008 | G9: 42008 | H9: 29 | I9: 12 | J9: -17 | K9: =Q9-H9 -> 0 | L9: =IF(K9="","",RANK(K9,PickUp)+COUNTIF($K$6:K9,K9)-1) -> 26 | Q9: 29
D10: 42374 | E10: 42374 | F10: 42009 | G10: 42009 | H10: 31 | I10: 48 | J10: 17 | K10: =Q10-H10 -> 0 | L10: =IF(K10="","",RANK(K10,PickUp)+COUNTIF($K$6:K10,K10)-1) -> 27 | Q10: 31
D11: 42375 | E11: 42375 | F11: 42010 | G11: 42010 | H11: 23 | I11: 46 | J11: 23 | K11: =Q11-H11 -> 0 | L11: =IF(K11="","",RANK(K11,PickUp)+COUNTIF($K$6:K11,K11)-1) -> 28 | Q11: 23
D12: 42376 | E12: 42376 | F12: 42011 | G12: 42011 | H12: 29 | I12: 49 | J12: 20 | K12: =Q12-H12 -> 0 | L12: =IF(K12="","",RANK(K12,PickUp)+COUNTIF($K$6:K12,K12)-1) -> 29 | Q12: 29
D13: 42377 | E13: 42377 | F13: 42012 | G13: 42012 | H13: 11 | I13: 28 | J13: 17 | K13: =Q13-H13 -> 0 | L13: =IF(K13="","",RANK(K13,PickUp)+COUNTIF($K$6:K13,K13)-1) -> 30 | Q13: 11
D14: 42378 | E14: 42378 | F14: 42013 | G14: 42013 | H14: 19 | I14: 13 | J14: -6 | K14: =Q14-H14 -> 0 | L14: =IF(K14="","",RANK(K14,PickUp)+COUNTIF($K$6:K14,K14)-1) -> 31 | Q14: 19
D15: 42379 | E15: 42379 | F15: 42014 | G15: 42014 | H15: 18 | I15: 45 | J15: 27 | K15: =Q15-H15 -> 0 | L15: =IF(K15="","",RANK(K15,PickUp)+COUNTIF($K$6:K15,K15)-1) -> 32 | Q15: 18
D16: 42380 | E16: 42380 | F16: 42015 | G16: 42015 | H16: 59 | I16: 37 | J16: -22 | K16: =Q16-H16 -> 0 | L16: =IF(K16="","",RANK(K16,PickUp)+COUNTIF($K$6:K16,K16)-1) -> 33 | Q16: 59
D17: 42381 | E17: 42381 | F17: 42016 | G17: 42016 | H17: 60 | I17: 57 | J17: -3 | K17: =Q17-H17 -> 0 | L17: =IF(K17="","",RANK(K17,PickUp)+COUNTIF($K$6:K17,K17)-1) -> 34 | Q17: 60
... D370: 42734 | E370: 42734 | F370: 42369 | G370: 42369 | H370: 0 | I370: 46 | J370: 46 | K370: =Q370-H370 -> 0 | L370: =IF(K370="","",RANK(K370,PickUp)+COUNTIF($K$6:K370,K370)-1) -> 365 | Q370: 0
D371: 42735 | E371: 42735 | G371: 0

Sheet résultat souhaité
B2: Date | C2: Day N | D2: Date N-1 | E2: Day N-1 | F2: PTFL N | G2: PTFN N-1 | H2: ∆ | I2: Pick up | K2: Critère ≥ | L2: 1
B3: =IF(ROW()-ROW($B$2)>COUNTIF(MRT!$K$6:$K$371,">="&$L$2),"",INDEX(MRT!D$6:D$371,MATCH(ROW()-ROW($B$2),ColAux,0),1)) -> 42599 | C3: =IF(ROW()-ROW($B$2)>COUNTIF(MRT!$K$6:$K$371,">="&$L$2),"",INDEX(MRT!E$6:E$371,MATCH(ROW()-ROW($B$2),ColAux,0),1)) -> 42599 | D3: =IF(ROW()-ROW($B$2)>COUNTIF(MRT!$K$6:$K$371,">="&$L$2),"",INDEX(MRT!F$6:F$371,MATCH(ROW()-ROW($B$2),ColAux,0),1)) -> 42234 | E3: =IF(ROW()-ROW($B$2)>COUNTIF(MRT!$K$6:$K$371,">="&$L$2),"",INDEX(MRT!G$6:G$371,MATCH(ROW()-ROW($B$2),ColAux,0),1)) -> 42234 | F3: =IF(ROW()-ROW($B$2)>COUNTIF(MRT!$K$6:$K$371,">="&$L$2),"",INDEX(MRT!H$6:H$371,MATCH(ROW()-ROW($B$2),ColAux,0),1)) -> 8 | G3: =IF(ROW()-ROW($B$2)>COUNTIF(MRT!$K$6:$K$371,">="&$L$2),"",INDEX(MRT!I$6:I$371,MATCH(ROW()-ROW($B$2),ColAux,0),1)) -> 40 | H3: =IF(ROW()-ROW($B$2)>COUNTIF(MRT!$K$6:$K$371,">="&$L$2),"",INDEX(MRT!J$6:J$371,MATCH(ROW()-ROW($B$2),ColAux,0),1)) -> 32 | I3: =IF(ROW()-ROW($B$2)>COUNTIF(MRT!$K$6:$K$371,">="&$L$2),"",INDEX(MRT!K$6:K$371,MATCH(ROW()-ROW($B$2),ColAux,0),1)) -> 36
B4: =IF(ROW()-ROW($B$2)>COUNTIF(MRT!$K$6:$K$371,">="&$L$2),"",INDEX(MRT!D$6:D$371,MATCH(ROW()-ROW($B$2),ColAux,0),1)) -> 42602 | C4: =IF(ROW()-ROW($B$2)>COUNTIF(MRT!$K$6:$K$371,">="&$L$2),"",INDEX(MRT!E$6:E$371,MATCH(ROW()-ROW($B$2),ColAux,0),1)) -> 42602 | D4: =IF(ROW()-ROW($B$2)>COUNTIF(MRT!$K$6:$K$371,">="&$L$2),"",INDEX(MRT!F$6:F$371,MATCH(ROW()-ROW($B$2),ColAux,0),1)) -> 42237 | E4: =IF(ROW()-ROW($B$2)>COUNTIF(MRT!$K$6:$K$371,">="&$L$2),"",INDEX(MRT!G$6:G$371,MATCH(ROW()-ROW($B$2),ColAux,0),1)) -> 42237 | F4: =IF(ROW()-ROW($B$2)>COUNTIF(MRT!$K$6:$K$371,">="&$L$2),"",INDEX(MRT!H$6:H$371,MATCH(ROW()-ROW($B$2),ColAux,0),1)) -> 10 | G4: =IF(ROW()-ROW($B$2)>COUNTIF(MRT!$K$6:$K$371,">="&$L$2),"",INDEX(MRT!I$6:I$371,MATCH(ROW()-ROW($B$2),ColAux,0),1)) -> 49 | H4: =IF(ROW()-ROW($B$2)>COUNTIF(MRT!$K$6:$K$371,">="&$L$2),"",INDEX(MRT!J$6:J$371,MATCH(ROW()-ROW($B$2),ColAux,0),1)) -> 39 | I4: =IF(ROW()-ROW($B$2)>COUNTIF(MRT!$K$6:$K$371,">="&$L$2),"",INDEX(MRT!K$6:K$371,MATCH(ROW()-ROW($B$2),ColAux,0),1)) -> 25
B5: =IF(ROW()-ROW($B$2)>COUNTIF(MRT!$K$6:$K$371,">="&$L$2),"",INDEX(MRT!D$6:D$371,MATCH(ROW()-ROW($B$2),ColAux,0),1)) -> 42568 | C5: =IF(ROW()-ROW($B$2)>COUNTIF(MRT!$K$6:$K$371,">="&$L$2),"",INDEX(MRT!E$6:E$371,MATCH(ROW()-ROW($B$2),ColAux,0),1)) -> 42568 | D5: =IF(ROW()-ROW($B$2)>COUNTIF(MRT!$K$6:$K$371,">="&$L$2),"",INDEX(MRT!F$6:F$371,MATCH(ROW()-ROW($B$2),ColAux,0),1)) -> 42203 | E5: =IF(ROW()-ROW($B$2)>COUNTIF(MRT!$K$6:$K$371,">="&$L$2),"",INDEX(MRT!G$6:G$371,MATCH(ROW()-ROW($B$2),ColAux,0),1)) -> 42203 | F5: =IF(ROW()-ROW($B$2)>COUNTIF(MRT!$K$6:$K$371,">="&$L$2),"",INDEX(MRT!H$6:H$371,MATCH(ROW()-ROW($B$2),ColAux,0),1)) -> 1 | G5: =IF(ROW()-ROW($B$2)>COUNTIF(MRT!$K$6:$K$371,">="&$L$2),"",INDEX(MRT!I$6:I$371,MATCH(ROW()-ROW($B$2),ColAux,0),1)) -> 47 | H5: =IF(ROW()-ROW($B$2)>COUNTIF(MRT!$K$6:$K$371,">="&$L$2),"",INDEX(MRT!J$6:J$371,MATCH(ROW()-ROW($B$2),ColAux,0),1)) -> 46 | I5: =IF(ROW()-ROW($B$2)>COUNTIF(MRT!$K$6:$K$371,">="&$L$2),"",INDEX(MRT!K$6:K$371,MATCH(ROW()-ROW($B$2),ColAux,0),1)) -> 22
B6: =IF(ROW()-ROW($B$2)>COUNTIF(MRT!$K$6:$K$371,">="&$L$2),"",INDEX(MRT!D$6:D$371,MATCH(ROW()-ROW($B$2),ColAux,0),1)) -> 42573 | C6: =IF(ROW()-ROW($B$2)>COUNTIF(MRT!$K$6:$K$371,">="&$L$2),"",INDEX(MRT!E$6:E$371,MATCH(ROW()-ROW($B$2),ColAux,0),1)) -> 42573 | D6: =IF(ROW()-ROW($B$2)>COUNTIF(MRT!$K$6:$K$371,">="&$L$2),"",INDEX(MRT!F$6:F$371,MATCH(ROW()-ROW($B$2),ColAux,0),1)) -> 42208 | E6: =IF(ROW()-ROW($B$2)>COUNTIF(MRT!$K$6:$K$371,">="&$L$2),"",INDEX(MRT!G$6:G$371,MATCH(ROW()-ROW($B$2),ColAux,0),1)) -> 42208 | F6: =IF(ROW()-ROW($B$2)>COUNTIF(MRT!$K$6:$K$371,">="&$L$2),"",INDEX(MRT!H$6:H$371,MATCH(ROW()-ROW($B$2),ColAux,0),1)) -> 5 | G6: =IF(ROW()-ROW($B$2)>COUNTIF(MRT!$K$6:$K$371,">="&$L$2),"",INDEX(MRT!I$6:I$371,MATCH(ROW()-ROW($B$2),ColAux,0),1)) -> 32 | H6: =IF(ROW()-ROW($B$2)>COUNTIF(MRT!$K$6:$K$371,">="&$L$2),"",INDEX(MRT!J$6:J$371,MATCH(ROW()-ROW($B$2),ColAux,0),1)) -> 27 | I6: =IF(ROW()-ROW($B$2)>COUNTIF(MRT!$K$6:$K$371,">="&$L$2),"",INDEX(MRT!K$6:K$371,MATCH(ROW()-ROW($B$2),ColAux,0),1)) -> 18
B7: =IF(ROW()-ROW($B$2)>COUNTIF(MRT!$K$6:$K$371,">="&$L$2),"",INDEX(MRT!D$6:D$371,MATCH(ROW()-ROW($B$2),ColAux,0),1)) -> 42574 | C7: =IF(ROW()-ROW($B$2)>COUNTIF(MRT!$K$6:$K$371,">="&$L$2),"",INDEX(MRT!E$6:E$371,MATCH(ROW()-ROW($B$2),ColAux,0),1)) -> 42574 | D7: =IF(ROW()-ROW($B$2)>COUNTIF(MRT!$K$6:$K$371,">="&$L$2),"",INDEX(MRT!F$6:F$371,MATCH(ROW()-ROW($B$2),ColAux,0),1)) -> 42209 | E7: =IF(ROW()-ROW($B$2)>COUNTIF(MRT!$K$6:$K$371,">="&$L$2),"",INDEX(MRT!G$6:G$371,MATCH(ROW()-ROW($B$2),ColAux,0),1)) -> 42209 | F7: =IF(ROW()-ROW($B$2)>COUNTIF(MRT!$K$6:$K$371,">="&$L$2),"",INDEX(MRT!H$6:H$371,MATCH(ROW()-ROW($B$2),ColAux,0),1)) -> 5 | G7: =IF(ROW()-ROW($B$2)>COUNTIF(MRT!$K$6:$K$371,">="&$L$2),"",INDEX(MRT!I$6:I$371,MATCH(ROW()-ROW($B$2),ColAux,0),1)) -> 31 | H7: =IF(ROW()-ROW($B$2)>COUNTIF(MRT!$K$6:$K$371,">="&$L$2),"",INDEX(MRT!J$6:J$371,MATCH(ROW()-ROW($B$2),ColAux,0),1)) -> 26 | I7: =IF(ROW()-ROW($B$2)>COUNTIF(MRT!$K$6:$K$371,">="&$L$2),"",INDEX(MRT!K$6:K$371,MATCH(ROW()-ROW($B$2),ColAux,0),1)) -> 18
B8: =IF(ROW()-ROW($B$2)>COUNTIF(MRT!$K$6:$K$371,">="&$L$2),"",INDEX(MRT!D$6:D$371,MATCH(ROW()-ROW($B$2),ColAux,0),1)) -> 42578 | C8: =IF(ROW()-ROW($B$2)>COUNTIF(MRT!$K$6:$K$371,">="&$L$2),"",INDEX(MRT!E$6:E$371,MATCH(ROW()-ROW($B$2),ColAux,0),1)) -> 42578 | D8: =IF(ROW()-ROW($B$2)>COUNTIF(MRT!$K$6:$K$371,">="&$L$2),"",INDEX(MRT!F$6:F$371,MATCH(ROW()-ROW($B$2),ColAux,0),1)) -> 42213 | E8: =IF(ROW()-ROW($B$2)>COUNTIF(MRT!$K$6:$K$371,">="&$L$2),"",INDEX(MRT!G$6:G$371,MATCH(ROW()-ROW($B$2),ColAux,0),1)) -> 42213 | F8: =IF(ROW()-ROW($B$2)>COUNTIF(MRT!$K$6:$K$371,">="&$L$2),"",INDEX(MRT!H$6:H$371,MATCH(ROW()-ROW($B$2),ColAux,0),1)) -> 28 | G8: =IF(ROW()-ROW($B$2)>COUNTIF(MRT!$K$6:$K$371,">="&$L$2),"",INDEX(MRT!I$6:I$371,MATCH(ROW()-ROW($B$2),ColAux,0),1)) -> 56 | H8: =IF(ROW()-ROW($B$2)>COUNTIF(MRT!$K$6:$K$371,">="&$L$2),"",INDEX(MRT!J$6:J$371,MATCH(ROW()-ROW($B$2),ColAux,0),1)) -> 28 | I8: =IF(ROW()-ROW($B$2)>COUNTIF(MRT!$K$6:$K$371,">="&$L$2),"",INDEX(MRT!K$6:K$371,MATCH(ROW()-ROW($B$2),ColAux,0),1)) -> 17
B9: =IF(ROW()-ROW($B$2)>COUNTIF(MRT!$K$6:$K$371,">="&$L$2),"",INDEX(MRT!D$6:D$371,MATCH(ROW()-ROW($B$2),ColAux,0),1)) -> 42565 | C9: =IF(ROW()-ROW($B$2)>COUNTIF(MRT!$K$6:$K$371,">="&$L$2),"",INDEX(MRT!E$6:E$371,MATCH(ROW()-ROW($B$2),ColAux,0),1)) -> 42565 | D9: =IF(ROW()-ROW($B$2)>COUNTIF(MRT!$K$6:$K$371,">="&$L$2),"",INDEX(MRT!F$6:F$371,MATCH(ROW()-ROW($B$2),ColAux,0),1)) -> 42200 | E9: =IF(ROW()-ROW($B$2)>COUNTIF(MRT!$K$6:$K$371,">="&$L$2),"",INDEX(MRT!G$6:G$371,MATCH(ROW()-ROW($B$2),ColAux,0),1)) -> 42200 | F9: =IF(ROW()-ROW($B$2)>COUNTIF(MRT!$K$6:$K$371,">="&$L$2),"",INDEX(MRT!H$6:H$371,MATCH(ROW()-ROW($B$2),ColAux,0),1)) -> 14 | G9: =IF(ROW()-ROW($B$2)>COUNTIF(MRT!$K$6:$K$371,">="&$L$2),"",INDEX(MRT!I$6:I$371,MATCH(ROW()-ROW($B$2),ColAux,0),1)) -> 58 | H9: =IF(ROW()-ROW($B$2)>COUNTIF(MRT!$K$6:$K$371,">="&$L$2),"",INDEX(MRT!J$6:J$371,MATCH(ROW()-ROW($B$2),ColAux,0),1)) -> 44 | I9: =IF(ROW()-ROW($B$2)>COUNTIF(MRT!$K$6:$K$371,">="&$L$2),"",INDEX(MRT!K$6:K$371,MATCH(ROW()-ROW($B$2),ColAux,0),1)) -> 16
B10: =IF(ROW()-ROW($B$2)>COUNTIF(MRT!$K$6:$K$371,">="&$L$2),"",INDEX(MRT!D$6:D$371,MATCH(ROW()-ROW($B$2),ColAux,0),1)) -> 42564 | C10: =IF(ROW()-ROW($B$2)>COUNTIF(MRT!$K$6:$K$371,">="&$L$2),"",INDEX(MRT!E$6:E$371,MATCH(ROW()-ROW($B$2),ColAux,0),1)) -> 42564 | D10: =IF(ROW()-ROW($B$2)>COUNTIF(MRT!$K$6:$K$371,">="&$L$2),"",INDEX(MRT!F$6:F$371,MATCH(ROW()-ROW($B$2),ColAux,0),1)) -> 42199 | E10: =IF(ROW()-ROW($B$2)>COUNTIF(MRT!$K$6:$K$371,">="&$L$2),"",INDEX(MRT!G$6:G$371,MATCH(ROW()-ROW($B$2),ColAux,0),1)) -> 42199 | F10: =IF(ROW()-ROW($B$2)>COUNTIF(MRT!$K$6:$K$371,">="&$L$2),"",INDEX(MRT!H$6:H$371,MATCH(ROW()-ROW($B$2),ColAux,0),1)) -> 25 | G10: =IF(ROW()-ROW($B$2)>COUNTIF(MRT!$K$6:$K$371,">="&$L$2),"",INDEX(MRT!I$6:I$371,MATCH(ROW()-ROW($B$2),ColAux,0),1)) -> 47 | H10: =IF(ROW()-ROW($B$2)>COUNTIF(MRT!$K$6:$K$371,">="&$L$2),"",INDEX(MRT!J$6:J$371,MATCH(ROW()-ROW($B$2),ColAux,0),1)) -> 22 | I10: =IF(ROW()-ROW($B$2)>COUNTIF(MRT!$K$6:$K$371,">="&$L$2),"",INDEX(MRT!K$6:K$371,MATCH(ROW()-ROW($B$2),ColAux,0),1)) -> 15
B11: =IF(ROW()-ROW($B$2)>COUNTIF(MRT!$K$6:$K$371,">="&$L$2),"",INDEX(MRT!D$6:D$371,MATCH(ROW()-ROW($B$2),ColAux,0),1)) -> 42577 | C11: =IF(ROW()-ROW($B$2)>COUNTIF(MRT!$K$6:$K$371,">="&$L$2),"",INDEX(MRT!E$6:E$371,MATCH(ROW()-ROW($B$2),ColAux,0),1)) -> 42577 | D11: =IF(ROW()-ROW($B$2)>COUNTIF(MRT!$K$6:$K$371,">="&$L$2),"",INDEX(MRT!F$6:F$371,MATCH(ROW()-ROW($B$2),ColAux,0),1)) -> 42212 | E11: =IF(ROW()-ROW($B$2)>COUNTIF(MRT!$K$6:$K$371,">="&$L$2),"",INDEX(MRT!G$6:G$371,MATCH(ROW()-ROW($B$2),ColAux,0),1)) -> 42212 | F11: =IF(ROW()-ROW($B$2)>COUNTIF(MRT!$K$6:$K$371,">="&$L$2),"",INDEX(MRT!H$6:H$371,MATCH(ROW()-ROW($B$2),ColAux,0),1)) -> 21 | G11: =IF(ROW()-ROW($B$2)>COUNTIF(MRT!$K$6:$K$371,">="&$L$2),"",INDEX(MRT!I$6:I$371,MATCH(ROW()-ROW($B$2),ColAux,0),1)) -> 37 | H11: =IF(ROW()-ROW($B$2)>COUNTIF(MRT!$K$6:$K$371,">="&$L$2),"",INDEX(MRT!J$6:J$371,MATCH(ROW()-ROW($B$2),ColAux,0),1)) -> 16 | I11: =IF(ROW()-ROW($B$2)>COUNTIF(MRT!$K$6:$K$371,">="&$L$2),"",INDEX(MRT!K$6:K$371,MATCH(ROW()-ROW($B$2),ColAux,0),1)) -> 13
B12: =IF(ROW()-ROW($B$2)>COUNTIF(MRT!$K$6:$K$371,">="&$L$2),"",INDEX(MRT!D$6:D$371,MATCH(ROW()-ROW($B$2),ColAux,0),1)) -> 42567 | C12: =IF(ROW()-ROW($B$2)>COUNTIF(MRT!$K$6:$K$371,">="&$L$2),"",INDEX(MRT!E$6:E$371,MATCH(ROW()-ROW($B$2),ColAux,0),1)) -> 42567 | D12: =IF(ROW()-ROW($B$2)>COUNTIF(MRT!$K$6:$K$371,">="&$L$2),"",INDEX(MRT!F$6:F$371,MATCH(ROW()-ROW($B$2),ColAux,0),1)) -> 42202 | E12: =IF(ROW()-ROW($B$2)>COUNTIF(MRT!$K$6:$K$371,">="&$L$2),"",INDEX(MRT!G$6:G$371,MATCH(ROW()-ROW($B$2),ColAux,0),1)) -> 42202 | F12: =IF(ROW()-ROW($B$2)>COUNTIF(MRT!$K$6:$K$371,">="&$L$2),"",INDEX(MRT!H$6:H$371,MATCH(ROW()-ROW($B$2),ColAux,0),1)) -> 4 | G12: =IF(ROW()-ROW($B$2)>COUNTIF(MRT!$K$6:$K$371,">="&$L$2),"",INDEX(MRT!I$6:I$371,MATCH(ROW()-ROW($B$2),ColAux,0),1)) -> 51 | H12: =IF(ROW()-ROW($B$2)>COUNTIF(MRT!$K$6:$K$371,">="&$L$2),"",INDEX(MRT!J$6:J$371,MATCH(ROW()-ROW($B$2),ColAux,0),1)) -> 47 | I12: =IF(ROW()-ROW($B$2)>COUNTIF(MRT!$K$6:$K$371,">="&$L$2),"",INDEX(MRT!K$6:K$371,MATCH(ROW()-ROW($B$2),ColAux,0),1)) -> 11
B13: =IF(ROW()-ROW($B$2)>COUNTIF(MRT!$K$6:$K$371,">="&$L$2),"",INDEX(MRT!D$6:D$371,MATCH(ROW()-ROW($B$2),ColAux,0),1)) -> 42570 | C13: =IF(ROW()-ROW($B$2)>COUNTIF(MRT!$K$6:$K$371,">="&$L$2),"",INDEX(MRT!E$6:E$371,MATCH(ROW()-ROW($B$2),ColAux,0),1)) -> 42570 | D13: =IF(ROW()-ROW($B$2)>COUNTIF(MRT!$K$6:$K$371,">="&$L$2),"",INDEX(MRT!F$6:F$371,MATCH(ROW()-ROW($B$2),ColAux,0),1)) -> 42205 | E13: =IF(ROW()-ROW($B$2)>COUNTIF(MRT!$K$6:$K$371,">="&$L$2),"",INDEX(MRT!G$6:G$371,MATCH(ROW()-ROW($B$2),ColAux,0),1)) -> 42205 | F13: =IF(ROW()-ROW($B$2)>COUNTIF(MRT!$K$6:$K$371,">="&$L$2),"",INDEX(MRT!H$6:H$371,MATCH(ROW()-ROW($B$2),ColAux,0),1)) -> 39 | G13: =IF(ROW()-ROW($B$2)>COUNTIF(MRT!$K$6:$K$371,">="&$L$2),"",INDEX(MRT!I$6:I$371,MATCH(ROW()-ROW($B$2),ColAux,0),1)) -> 55 | H13: =IF(ROW()-ROW($B$2)>COUNTIF(MRT!$K$6:$K$371,">="&$L$2),"",INDEX(MRT!J$6:J$371,MATCH(ROW()-ROW($B$2),ColAux,0),1)) -> 16 | I13: =IF(ROW()-ROW($B$2)>COUNTIF(MRT!$K$6:$K$371,">="&$L$2),"",INDEX(MRT!K$6:K$371,MATCH(ROW()-ROW($B$2),ColAux,0),1)) -> 11
B14: =IF(ROW()-ROW($B$2)>COUNTIF(MRT!$K$6:$K$371,">="&$L$2),"",INDEX(MRT!D$6:D$371,MATCH(ROW()-ROW($B$2),ColAux,0),1)) -> 42562 | C14: =IF(ROW()-ROW($B$2)>COUNTIF(MRT!$K$6:$K$371,">="&$L$2),"",INDEX(MRT!E$6:E$371,MATCH(ROW()-ROW($B$2),ColAux,0),1)) -> 42562 | D14: =IF(ROW()-ROW($B$2)>COUNTIF(MRT!$K$6:$K$371,">="&$L$2),"",INDEX(MRT!F$6:F$371,MATCH(ROW()-ROW($B$2),ColAux,0),1)) -> 42197 | E14: =IF(ROW()-ROW($B$2)>COUNTIF(MRT!$K$6:$K$371,">="&$L$2),"",INDEX(MRT!G$6:G$371,MATCH(ROW()-ROW($B$2),ColAux,0),1)) -> 42197 | F14: =IF(ROW()-ROW($B$2)>COUNTIF(MRT!$K$6:$K$371,">="&$L$2),"",INDEX(MRT!H$6:H$371,MATCH(ROW()-ROW($B$2),ColAux,0),1)) -> 46 | G14: =IF(ROW()-ROW($B$2)>COUNTIF(MRT!$K$6:$K$371,">="&$L$2),"",INDEX(MRT!I$6:I$371,MATCH(ROW()-ROW($B$2),ColAux,0),1)) -> 38 | H14: =IF(ROW()-ROW($B$2)>COUNTIF(MRT!$K$6:$K$371,">="&$L$2),"",INDEX(MRT!J$6:J$371,MATCH(ROW()-ROW($B$2),ColAux,0),1)) -> -8 | I14: =IF(ROW()-ROW($B$2)>COUNTIF(MRT!$K$6:$K$371,">="&$L$2),"",INDEX(MRT!K$6:K$371,MATCH(ROW()-ROW($B$2),ColAux,0),1)) -> 9
... B369: =IF(ROW()-ROW($B$2)>COUNTIF(MRT!$K$6:$K$371,">="&$L$2),"",INDEX(MRT!D$6:D$371,MATCH(ROW()-ROW($B$2),ColAux,0),1)) | C369: =IF(ROW()-ROW($B$2)>COUNTIF(MRT!$K$6:$K$371,">="&$L$2),"",INDEX(MRT!E$6:E$371,MATCH(ROW()-ROW($B$2),ColAux,0),1)) | D369: =IF(ROW()-ROW($B$2)>COUNTIF(MRT!$K$6:$K$371,">="&$L$2),"",INDEX(MRT!F$6:F$371,MATCH(ROW()-ROW($B$2),ColAux,0),1)) | E369: =IF(ROW()-ROW($B$2)>COUNTIF(MRT!$K$6:$K$371,">="&$L$2),"",INDEX(MRT!G$6:G$371,MATCH(ROW()-ROW($B$2),ColAux,0),1)) | F369: =IF(ROW()-ROW($B$2)>COUNTIF(MRT!$K$6:$K$371,">="&$L$2),"",INDEX(MRT!H$6:H$371,MATCH(ROW()-ROW($B$2),ColAux,0),1)) | G369: =IF(ROW()-ROW($B$2)>COUNTIF(MRT!$K$6:$K$371,">="&$L$2),"",INDEX(MRT!I$6:I$371,MATCH(ROW()-ROW($B$2),ColAux,0),1)) | H369: =IF(ROW()-ROW($B$2)>COUNTIF(MRT!$K$6:$K$371,">="&$L$2),"",INDEX(MRT!J$6:J$371,MATCH(ROW()-ROW($B$2),ColAux,0),1)) | I369: =IF(ROW()-ROW($B$2)>COUNTIF(MRT!$K$6:$K$371,">="&$L$2),"",INDEX(MRT!K$6:K$371,MATCH(ROW()-ROW($B$2),ColAux,0),1))
