Workbook

Sheet Tabelle1
A1: Client | B1: Nombre de commandes | C1: Montant
A2: Client A | B2: 12 | C2: 1500
A3: Client B | B3: 4 | C3: 3500
A4: Client C | B4: 5 | C4: 500
A5: Client D | B5: 1 | C5: 2000
A6: Client E | B6: 10 | C6: 50
A8: Exercice A
A9: Nombre de clients ayant plus de 6 commandes ou un montant supérieur à 1000 euros
A10: Résultat attendu : 4 (Clients A, B, D, E)
A13: Exercice B
A14: Montant total généré par les clients ayant généré soit plus de 1'800 euros, soit ayant fait plus de 6 commandes
A15: Résultat attendu : 7'050 euros (Clients A, B, D, E)
A18: Exercice C
A19: Nombre total de commandes effectuées par les clients ayant passé au moins 10 commandes ou pour plus de 3'000 euros
A20: Résultat attendu : 26 commandes (Clients A, B, E)

Sheet page
A1: Exercice A
A2: Nombre de clients ayant plus de 6 commandes ou un montant supérieur à 1000 euros
A3: Résultat attendu : 4 (Clients A, B, D, E)
B5: CLIENT | C5: Nb Commande | D5: Montant
B6: {=IF(ROWS($1:1)<=SUM(IF(((Tabelle1!$B$2:$B$6>$G$6)+(Tabelle1!$C$2:$C$6>$G$8)),1)),INDEX(Tabelle1!A$2:A$6,SMALL(IF(((Tabelle1!$B$2:$B$6>$G$6)+(Tabelle1!$C$2:$C$6>$G$8)),ROW($A$1:$A$5)),ROWS($1:1))),"")} -> Client A | C6: {=IF(ROWS($1:1)<=SUM(IF(((Tabelle1!$B$2:$B$6>$G$6)+(Tabelle1!$C$2:$C$6>$G$8)),1)),INDEX(Tabelle1!B$2:B$6,SMALL(IF(((Tabelle1!$B$2:$B$6>$G$6)+(Tabelle1!$C$2:$C$6>$G$8)),ROW($A$1:$A$5)),ROWS($1:1))),"")} -> 12 | D6: {=IF(ROWS($1:1)<=SUM(IF(((Tabelle1!$B$2:$B$6>$G$6)+(Tabelle1!$C$2:$C$6>$G$8)),1)),INDEX(Tabelle1!C$2:C$6,SMALL(IF(((Tabelle1!$B$2:$B$6>$G$6)+(Tabelle1!$C$2:$C$6>$G$8)),ROW($A$1:$A$5)),ROWS($1:1))),"")} -> 1500 | F6: plus de | G6: 6 | H6: commandes
B7: {=IF(ROWS($1:2)<=SUM(IF(((Tabelle1!$B$2:$B$6>$G$6)+(Tabelle1!$C$2:$C$6>$G$8)),1)),INDEX(Tabelle1!A$2:A$6,SMALL(IF(((Tabelle1!$B$2:$B$6>$G$6)+(Tabelle1!$C$2:$C$6>$G$8)),ROW($A$1:$A$5)),ROWS($1:2))),"")} -> Client B | C7: {=IF(ROWS($1:2)<=SUM(IF(((Tabelle1!$B$2:$B$6>$G$6)+(Tabelle1!$C$2:$C$6>$G$8)),1)),INDEX(Tabelle1!B$2:B$6,SMALL(IF(((Tabelle1!$B$2:$B$6>$G$6)+(Tabelle1!$C$2:$C$6>$G$8)),ROW($A$1:$A$5)),ROWS($1:2))),"")} -> 4 | D7: {=IF(ROWS($1:2)<=SUM(IF(((Tabelle1!$B$2:$B$6>$G$6)+(Tabelle1!$C$2:$C$6>$G$8)),1)),INDEX(Tabelle1!C$2:C$6,SMALL(IF(((Tabelle1!$B$2:$B$6>$G$6)+(Tabelle1!$C$2:$C$6>$G$8)),ROW($A$1:$A$5)),ROWS($1:2))),"")} -> 3500
B8: {=IF(ROWS($1:3)<=SUM(IF(((Tabelle1!$B$2:$B$6>$G$6)+(Tabelle1!$C$2:$C$6>$G$8)),1)),INDEX(Tabelle1!A$2:A$6,SMALL(IF(((Tabelle1!$B$2:$B$6>$G$6)+(Tabelle1!$C$2:$C$6>$G$8)),ROW($A$1:$A$5)),ROWS($1:3))),"")} -> Client D | C8: {=IF(ROWS($1:3)<=SUM(IF(((Tabelle1!$B$2:$B$6>$G$6)+(Tabelle1!$C$2:$C$6>$G$8)),1)),INDEX(Tabelle1!B$2:B$6,SMALL(IF(((Tabelle1!$B$2:$B$6>$G$6)+(Tabelle1!$C$2:$C$6>$G$8)),ROW($A$1:$A$5)),ROWS($1:3))),"")} -> 1 | D8: {=IF(ROWS($1:3)<=SUM(IF(((Tabelle1!$B$2:$B$6>$G$6)+(Tabelle1!$C$2:$C$6>$G$8)),1)),INDEX(Tabelle1!C$2:C$6,SMALL(IF(((Tabelle1!$B$2:$B$6>$G$6)+(Tabelle1!$C$2:$C$6>$G$8)),ROW($A$1:$A$5)),ROWS($1:3))),"")} -> 2000 | F8: plus de | G8: 1000 | H8: Euros
B9: {=IF(ROWS($1:4)<=SUM(IF(((Tabelle1!$B$2:$B$6>$G$6)+(Tabelle1!$C$2:$C$6>$G$8)),1)),INDEX(Tabelle1!A$2:A$6,SMALL(IF(((Tabelle1!$B$2:$B$6>$G$6)+(Tabelle1!$C$2:$C$6>$G$8)),ROW($A$1:$A$5)),ROWS($1:4))),"")} -> Client E | C9: {=IF(ROWS($1:4)<=SUM(IF(((Tabelle1!$B$2:$B$6>$G$6)+(Tabelle1!$C$2:$C$6>$G$8)),1)),INDEX(Tabelle1!B$2:B$6,SMALL(IF(((Tabelle1!$B$2:$B$6>$G$6)+(Tabelle1!$C$2:$C$6>$G$8)),ROW($A$1:$A$5)),ROWS($1:4))),"")} -> 10 | D9: {=IF(ROWS($1:4)<=SUM(IF(((Tabelle1!$B$2:$B$6>$G$6)+(Tabelle1!$C$2:$C$6>$G$8)),1)),INDEX(Tabelle1!C$2:C$6,SMALL(IF(((Tabelle1!$B$2:$B$6>$G$6)+(Tabelle1!$C$2:$C$6>$G$8)),ROW($A$1:$A$5)),ROWS($1:4))),"")} -> 50
B10: {=IF(ROWS($1:5)<=SUM(IF(((Tabelle1!$B$2:$B$6>$G$6)+(Tabelle1!$C$2:$C$6>$G$8)),1)),INDEX(Tabelle1!A$2:A$6,SMALL(IF(((Tabelle1!$B$2:$B$6>$G$6)+(Tabelle1!$C$2:$C$6>$G$8)),ROW($A$1:$A$5)),ROWS($1:5))),"")} | C10: {=IF(ROWS($1:5)<=SUM(IF(((Tabelle1!$B$2:$B$6>$G$6)+(Tabelle1!$C$2:$C$6>$G$8)),1)),INDEX(Tabelle1!B$2:B$6,SMALL(IF(((Tabelle1!$B$2:$B$6>$G$6)+(Tabelle1!$C$2:$C$6>$G$8)),ROW($A$1:$A$5)),ROWS($1:5))),"")} | D10: {=IF(ROWS($1:5)<=SUM(IF(((Tabelle1!$B$2:$B$6>$G$6)+(Tabelle1!$C$2:$C$6>$G$8)),1)),INDEX(Tabelle1!C$2:C$6,SMALL(IF(((Tabelle1!$B$2:$B$6>$G$6)+(Tabelle1!$C$2:$C$6>$G$8)),ROW($A$1:$A$5)),ROWS($1:5))),"")}
B12: {=SUM(IF(((Tabelle1!$B$2:$B$6>$G$6)+(Tabelle1!$C$2:$C$6>$G$8)),1))} -> 4 | C12: Nombre de Clients
A14: Exercice B
A15: Montant total généré par les clients ayant généré soit plus de 1'800 euros, soit ayant fait plus de 6 commandes
A16: Résultat attendu : 7'050 euros (Clients A, B, D, E)
B19: CLIENT | C19: Nb Commande | D19: Montant
B20: {=IF(ROWS($1:1)<=SUM(IF(((Tabelle1!$B$2:$B$6>$G$20)+(Tabelle1!$C$2:$C$6>$G$22)),1)),INDEX(Tabelle1!A$2:A$6,SMALL(IF(((Tabelle1!$B$2:$B$6>$G$20)+(Tabelle1!$C$2:$C$6>$G$22)),ROW($A$1:$A$5)),ROWS($1:1))),"")} -> Client A | C20: {=IF(ROWS($1:1)<=SUM(IF(((Tabelle1!$B$2:$B$6>$G$20)+(Tabelle1!$C$2:$C$6>$G$22)),1)),INDEX(Tabelle1!B$2:B$6,SMALL(IF(((Tabelle1!$B$2:$B$6>$G$20)+(Tabelle1!$C$2:$C$6>$G$22)),ROW($A$1:$A$5)),ROWS($1:1))),"")} -> 12 | D20: {=IF(ROWS($1:1)<=SUM(IF(((Tabelle1!$B$2:$B$6>$G$20)+(Tabelle1!$C$2:$C$6>$G$22)),1)),INDEX(Tabelle1!C$2:C$6,SMALL(IF(((Tabelle1!$B$2:$B$6>$G$20)+(Tabelle1!$C$2:$C$6>$G$22)),ROW($A$1:$A$5)),ROWS($1:1))),"")} -> 1500 | F20: plus de | G20: 6 | H20: commandes
B21: {=IF(ROWS($1:2)<=SUM(IF(((Tabelle1!$B$2:$B$6>$G$20)+(Tabelle1!$C$2:$C$6>$G$22)),1)),INDEX(Tabelle1!A$2:A$6,SMALL(IF(((Tabelle1!$B$2:$B$6>$G$20)+(Tabelle1!$C$2:$C$6>$G$22)),ROW($A$1:$A$5)),ROWS($1:2))),"")} -> Client B | C21: {=IF(ROWS($1:2)<=SUM(IF(((Tabelle1!$B$2:$B$6>$G$20)+(Tabelle1!$C$2:$C$6>$G$22)),1)),INDEX(Tabelle1!B$2:B$6,SMALL(IF(((Tabelle1!$B$2:$B$6>$G$20)+(Tabelle1!$C$2:$C$6>$G$22)),ROW($A$1:$A$5)),ROWS($1:2))),"")} -> 4 | D21: {=IF(ROWS($1:2)<=SUM(IF(((Tabelle1!$B$2:$B$6>$G$20)+(Tabelle1!$C$2:$C$6>$G$22)),1)),INDEX(Tabelle1!C$2:C$6,SMALL(IF(((Tabelle1!$B$2:$B$6>$G$20)+(Tabelle1!$C$2:$C$6>$G$22)),ROW($A$1:$A$5)),ROWS($1:2))),"")} -> 3500
B22: {=IF(ROWS($1:3)<=SUM(IF(((Tabelle1!$B$2:$B$6>$G$20)+(Tabelle1!$C$2:$C$6>$G$22)),1)),INDEX(Tabelle1!A$2:A$6,SMALL(IF(((Tabelle1!$B$2:$B$6>$G$20)+(Tabelle1!$C$2:$C$6>$G$22)),ROW($A$1:$A$5)),ROWS($1:3))),"")} -> Client D | C22: {=IF(ROWS($1:3)<=SUM(IF(((Tabelle1!$B$2:$B$6>$G$20)+(Tabelle1!$C$2:$C$6>$G$22)),1)),INDEX(Tabelle1!B$2:B$6,SMALL(IF(((Tabelle1!$B$2:$B$6>$G$20)+(Tabelle1!$C$2:$C$6>$G$22)),ROW($A$1:$A$5)),ROWS($1:3))),"")} -> 1 | D22: {=IF(ROWS($1:3)<=SUM(IF(((Tabelle1!$B$2:$B$6>$G$20)+(Tabelle1!$C$2:$C$6>$G$22)),1)),INDEX(Tabelle1!C$2:C$6,SMALL(IF(((Tabelle1!$B$2:$B$6>$G$20)+(Tabelle1!$C$2:$C$6>$G$22)),ROW($A$1:$A$5)),ROWS($1:3))),"")} -> 2000 | F22: plus de | G22: 1800 | H22: Euros
B23: {=IF(ROWS($1:4)<=SUM(IF(((Tabelle1!$B$2:$B$6>$G$20)+(Tabelle1!$C$2:$C$6>$G$22)),1)),INDEX(Tabelle1!A$2:A$6,SMALL(IF(((Tabelle1!$B$2:$B$6>$G$20)+(Tabelle1!$C$2:$C$6>$G$22)),ROW($A$1:$A$5)),ROWS($1:4))),"")} -> Client E | C23: {=IF(ROWS($1:4)<=SUM(IF(((Tabelle1!$B$2:$B$6>$G$20)+(Tabelle1!$C$2:$C$6>$G$22)),1)),INDEX(Tabelle1!B$2:B$6,SMALL(IF(((Tabelle1!$B$2:$B$6>$G$20)+(Tabelle1!$C$2:$C$6>$G$22)),ROW($A$1:$A$5)),ROWS($1:4))),"")} -> 10 | D23: {=IF(ROWS($1:4)<=SUM(IF(((Tabelle1!$B$2:$B$6>$G$20)+(Tabelle1!$C$2:$C$6>$G$22)),1)),INDEX(Tabelle1!C$2:C$6,SMALL(IF(((Tabelle1!$B$2:$B$6>$G$20)+(Tabelle1!$C$2:$C$6>$G$22)),ROW($A$1:$A$5)),ROWS($1:4))),"")} -> 50
B24: {=IF(ROWS($1:5)<=SUM(IF(((Tabelle1!$B$2:$B$6>$G$20)+(Tabelle1!$C$2:$C$6>$G$22)),1)),INDEX(Tabelle1!A$2:A$6,SMALL(IF(((Tabelle1!$B$2:$B$6>$G$20)+(Tabelle1!$C$2:$C$6>$G$22)),ROW($A$1:$A$5)),ROWS($1:5))),"")} | C24: {=IF(ROWS($1:5)<=SUM(IF(((Tabelle1!$B$2:$B$6>$G$20)+(Tabelle1!$C$2:$C$6>$G$22)),1)),INDEX(Tabelle1!B$2:B$6,SMALL(IF(((Tabelle1!$B$2:$B$6>$G$20)+(Tabelle1!$C$2:$C$6>$G$22)),ROW($A$1:$A$5)),ROWS($1:5))),"")} | D24: {=IF(ROWS($1:5)<=SUM(IF(((Tabelle1!$B$2:$B$6>$G$20)+(Tabelle1!$C$2:$C$6>$G$22)),1)),INDEX(Tabelle1!C$2:C$6,SMALL(IF(((Tabelle1!$B$2:$B$6>$G$20)+(Tabelle1!$C$2:$C$6>$G$22)),ROW($A$1:$A$5)),ROWS($1:5))),"")}
C26: Montant Total | D26: {=SUM(IF(((Tabelle1!$B$2:$B$6>$G$20)+(Tabelle1!$C$2:$C$6>$G$22)),Tabelle1!$C$2:$C$6))} -> 7050
A29: Exercice C
A30: Nombre total de commandes effectuées par les clients ayant passé au moins 10 commandes ou pour plus de 3'000 euros
A31: Résultat attendu : 26 commandes (Clients A, B, E)
B34: CLIENT | C34: Nb Commande | D34: Montant
B35: {=IF(ROWS($1:1)<=SUM(IF(((Tabelle1!$B$2:$B$6>=$G$35)+(Tabelle1!$C$2:$C$6>$G$37)),1)),INDEX(Tabelle1!A$2:A$6,SMALL(IF(((Tabelle1!$B$2:$B$6>=$G$35)+(Tabelle1!$C$2:$C$6>$G$37)),ROW($A$1:$A$5)),ROWS($1:1))),"")} -> Client A | C35: {=IF(ROWS($1:1)<=SUM(IF(((Tabelle1!$B$2:$B$6>=$G$35)+(Tabelle1!$C$2:$C$6>$G$37)),1)),INDEX(Tabelle1!B$2:B$6,SMALL(IF(((Tabelle1!$B$2:$B$6>=$G$35)+(Tabelle1!$C$2:$C$6>$G$37)),ROW($A$1:$A$5)),ROWS($1:1))),"")} -> 12 | D35: {=IF(ROWS($1:1)<=SUM(IF(((Tabelle1!$B$2:$B$6>=$G$35)+(Tabelle1!$C$2:$C$6>$G$37)),1)),INDEX(Tabelle1!C$2:C$6,SMALL(IF(((Tabelle1!$B$2:$B$6>=$G$35)+(Tabelle1!$C$2:$C$6>$G$37)),ROW($A$1:$A$5)),ROWS($1:1))),"")} -> 1500 | F35: égal ou plus de | G35: 10 | H35: commandes
B36: {=IF(ROWS($1:2)<=SUM(IF(((Tabelle1!$B$2:$B$6>=$G$35)+(Tabelle1!$C$2:$C$6>$G$37)),1)),INDEX(Tabelle1!A$2:A$6,SMALL(IF(((Tabelle1!$B$2:$B$6>=$G$35)+(Tabelle1!$C$2:$C$6>$G$37)),ROW($A$1:$A$5)),ROWS($1:2))),"")} -> Client B | C36: {=IF(ROWS($1:2)<=SUM(IF(((Tabelle1!$B$2:$B$6>=$G$35)+(Tabelle1!$C$2:$C$6>$G$37)),1)),INDEX(Tabelle1!B$2:B$6,SMALL(IF(((Tabelle1!$B$2:$B$6>=$G$35)+(Tabelle1!$C$2:$C$6>$G$37)),ROW($A$1:$A$5)),ROWS($1:2))),"")} -> 4 | D36: {=IF(ROWS($1:2)<=SUM(IF(((Tabelle1!$B$2:$B$6>=$G$35)+(Tabelle1!$C$2:$C$6>$G$37)),1)),INDEX(Tabelle1!C$2:C$6,SMALL(IF(((Tabelle1!$B$2:$B$6>=$G$35)+(Tabelle1!$C$2:$C$6>$G$37)),ROW($A$1:$A$5)),ROWS($1:2))),"")} -> 3500
B37: {=IF(ROWS($1:3)<=SUM(IF(((Tabelle1!$B$2:$B$6>=$G$35)+(Tabelle1!$C$2:$C$6>$G$37)),1)),INDEX(Tabelle1!A$2:A$6,SMALL(IF(((Tabelle1!$B$2:$B$6>=$G$35)+(Tabelle1!$C$2:$C$6>$G$37)),ROW($A$1:$A$5)),ROWS($1:3))),"")} -> Client E | C37: {=IF(ROWS($1:3)<=SUM(IF(((Tabelle1!$B$2:$B$6>=$G$35)+(Tabelle1!$C$2:$C$6>$G$37)),1)),INDEX(Tabelle1!B$2:B$6,SMALL(IF(((Tabelle1!$B$2:$B$6>=$G$35)+(Tabelle1!$C$2:$C$6>$G$37)),ROW($A$1:$A$5)),ROWS($1:3))),"")} -> 10 | D37: {=IF(ROWS($1:3)<=SUM(IF(((Tabelle1!$B$2:$B$6>=$G$35)+(Tabelle1!$C$2:$C$6>$G$37)),1)),INDEX(Tabelle1!C$2:C$6,SMALL(IF(((Tabelle1!$B$2:$B$6>=$G$35)+(Tabelle1!$C$2:$C$6>$G$37)),ROW($A$1:$A$5)),ROWS($1:3))),"")} -> 50 | F37: plus de | G37: 3000 | H37: Euros
B38: {=IF(ROWS($1:4)<=SUM(IF(((Tabelle1!$B$2:$B$6>=$G$35)+(Tabelle1!$C$2:$C$6>$G$37)),1)),INDEX(Tabelle1!A$2:A$6,SMALL(IF(((Tabelle1!$B$2:$B$6>=$G$35)+(Tabelle1!$C$2:$C$6>$G$37)),ROW($A$1:$A$5)),ROWS($1:4))),"")} | C38: {=IF(ROWS($1:4)<=SUM(IF(((Tabelle1!$B$2:$B$6>=$G$35)+(Tabelle1!$C$2:$C$6>$G$37)),1)),INDEX(Tabelle1!B$2:B$6,SMALL(IF(((Tabelle1!$B$2:$B$6>=$G$35)+(Tabelle1!$C$2:$C$6>$G$37)),ROW($A$1:$A$5)),ROWS($1:4))),"")} | D38: {=IF(ROWS($1:4)<=SUM(IF(((Tabelle1!$B$2:$B$6>=$G$35)+(Tabelle1!$C$2:$C$6>$G$37)),1)),INDEX(Tabelle1!C$2:C$6,SMALL(IF(((Tabelle1!$B$2:$B$6>=$G$35)+(Tabelle1!$C$2:$C$6>$G$37)),ROW($A$1:$A$5)),ROWS($1:4))),"")}
B39: {=IF(ROWS($1:5)<=SUM(IF(((Tabelle1!$B$2:$B$6>=$G$35)+(Tabelle1!$C$2:$C$6>$G$37)),1)),INDEX(Tabelle1!A$2:A$6,SMALL(IF(((Tabelle1!$B$2:$B$6>=$G$35)+(Tabelle1!$C$2:$C$6>$G$37)),ROW($A$1:$A$5)),ROWS($1:5))),"")} | C39: {=IF(ROWS($1:5)<=SUM(IF(((Tabelle1!$B$2:$B$6>=$G$35)+(Tabelle1!$C$2:$C$6>$G$37)),1)),INDEX(Tabelle1!B$2:B$6,SMALL(IF(((Tabelle1!$B$2:$B$6>=$G$35)+(Tabelle1!$C$2:$C$6>$G$37)),ROW($A$1:$A$5)),ROWS($1:5))),"")} | D39: {=IF(ROWS($1:5)<=SUM(IF(((Tabelle1!$B$2:$B$6>=$G$35)+(Tabelle1!$C$2:$C$6>$G$37)),1)),INDEX(Tabelle1!C$2:C$6,SMALL(IF(((Tabelle1!$B$2:$B$6>=$G$35)+(Tabelle1!$C$2:$C$6>$G$37)),ROW($A$1:$A$5)),ROWS($1:5))),"")}
C41: {=SUM(IF(((Tabelle1!$B$2:$B$6>=$G$35)+(Tabelle1!$C$2:$C$6>$G$37)),Tabelle1!$B$2:$B$6))} -> 26 | D41: Total de Commandes
