Workbook
Name MOTIFSORTIE: Feuil2!$A$3:$A$7
Name TYPESORTIE: Feuil2!$A$3:$A$9

Sheet CROIX-ROUGE
D2: CROIX ROUGE -TABLEAU PREVISIONNEL DE RECRUTEMENT
A5: RSA / HORS RSA | C5: Prénom | D5: Nom | E5: R en 2014 | F5: R en 2015 | G5: Statut | H5: Type de contrat | I5: Date entrée | J5: date sortie | K5: 2015 | L5: 2016 | M5: Nombre de mois de présence | N5: Sorties
A6: HORS RSA | B6: CDDI | C6: Anthony | H6: CAE ETAT | I6: 42009 | J6: 42373 | K6: =COUNT(1/FREQUENCY(IF(YEAR(ROW(INDIRECT(I6&":"&J6)))=$K$5,MONTH(ROW(INDIRECT(I6&":"&J6)))),ROW($6:$39))) -> 1 | L6: =COUNT(1/FREQUENCY(IF(YEAR(ROW(INDIRECT(I6&":"&J6)))=$L$5,MONTH(ROW(INDIRECT(I6&":"&J6)))),ROW($6:$39))) -> 0 | M6: =DATEDIF( I6,J6, "D" )/30.5 -> 11.934426
A7: HORS RSA | B7: CDDI | C7: Diane | H7: CAE ETAT | I7: 42019 | J7: 42383 | K7: =COUNT(1/FREQUENCY(IF(YEAR(ROW(INDIRECT(I7&":"&J7)))=$K$5,MONTH(ROW(INDIRECT(I7&":"&J7)))),ROW($6:$92))) -> 1 | L7: =COUNT(1/FREQUENCY(IF(YEAR(ROW(INDIRECT(I7&":"&J7)))=$L$5,MONTH(ROW(INDIRECT(I7&":"&J7)))),ROW($6:$39))) -> 0 | M7: =DATEDIF( I7,J7, "D" )/30.5 -> 11.934426
A8: HORS RSA | B8: CDDI | C8: Faïma | H8: CAE ETAT | I8: 42200 | J8: 42565 | K8: =COUNT(1/FREQUENCY(IF(YEAR(ROW(INDIRECT(I8&":"&J8)))=$K$5,MONTH(ROW(INDIRECT(I8&":"&J8)))),ROW($6:$92))) -> 1 | L8: =COUNT(1/FREQUENCY(IF(YEAR(ROW(INDIRECT(I8&":"&J8)))=$L$5,MONTH(ROW(INDIRECT(I8&":"&J8)))),ROW($6:$39))) -> 0 | M8: =DATEDIF( I8,J8, "D" )/30.5 -> 11.967213
A9: HORS RSA | B9: CDDI | C9: Hanifa | H9: CAE ETAT | I9: 41926 | J9: 42283 | K9: =COUNT(1/FREQUENCY(IF(YEAR(ROW(INDIRECT(I9&":"&J9)))=$K$5,MONTH(ROW(INDIRECT(I9&":"&J9)))),ROW($6:$39))) -> 0 | L9: =COUNT(1/FREQUENCY(IF(YEAR(ROW(INDIRECT(I9&":"&J9)))=$L$5,MONTH(ROW(INDIRECT(I9&":"&J9)))),ROW($6:$39))) -> 0 | M9: =DATEDIF( I9,J9, "D" )/30.5 -> 11.704918 | N9: Sans emploi
A10: HORS RSA | B10: CAE | C10: Kahina | E10: R | F10: R | H10: CAE ETAT | I10: 41739 | J10: 42469 | K10: =COUNT(1/FREQUENCY(IF(YEAR(ROW(INDIRECT(I10&":"&J10)))=$K$5,MONTH(ROW(INDIRECT(I10&":"&J10)))),ROW($6:$92))) -> 0 | L10: =COUNT(1/FREQUENCY(IF(YEAR(ROW(INDIRECT(I10&":"&J10)))=$L$5,MONTH(ROW(INDIRECT(I10&":"&J10)))),ROW($6:$39))) -> 0 | M10: =DATEDIF( I10,J10, "D" )/30.5 -> 23.934426
A11: HORS RSA | B11: CDDI | C11: Khalatoumi | H11: CAE ETAT | I11: 41897 | J11: 42261 | K11: =COUNT(1/FREQUENCY(IF(YEAR(ROW(INDIRECT(I11&":"&J11)))=$K$5,MONTH(ROW(INDIRECT(I11&":"&J11)))),ROW($6:$39))) -> 0 | L11: =COUNT(1/FREQUENCY(IF(YEAR(ROW(INDIRECT(I11&":"&J11)))=$L$5,MONTH(ROW(INDIRECT(I11&":"&J11)))),ROW($6:$39))) -> 0 | M11: =DATEDIF( I11,J11, "D" )/30.5 -> 11.934426 | N11: Sans emploi
A12: HORS RSA | B12: CDDI | C12: Omar | H12: CAE ETAT | I12: 42009 | J12: 42373 | K12: =COUNT(1/FREQUENCY(IF(YEAR(ROW(INDIRECT(I12&":"&J12)))=$K$5,MONTH(ROW(INDIRECT(I12&":"&J12)))),ROW($6:$39))) -> 1 | L12: =COUNT(1/FREQUENCY(IF(YEAR(ROW(INDIRECT(I12&":"&J12)))=$L$5,MONTH(ROW(INDIRECT(I12&":"&J12)))),ROW($6:$39))) -> 0 | M12: =DATEDIF( I12,J12, "D" )/30.5 -> 11.934426
A13: HORS RSA | B13: CDDI | C13: Saida | H13: CAE ETAT | I13: 42347 | J13: 42712 | K13: =COUNT(1/FREQUENCY(IF(YEAR(ROW(INDIRECT(I13&":"&J13)))=$K$5,MONTH(ROW(INDIRECT(I13&":"&J13)))),ROW($6:$92))) -> 1 | L13: =COUNT(1/FREQUENCY(IF(YEAR(ROW(INDIRECT(I13&":"&J13)))=$L$5,MONTH(ROW(INDIRECT(I13&":"&J13)))),ROW($6:$39))) -> 0 | M13: =DATEDIF( I13,J13, "D" )/30.5 -> 11.967213
A14: HORS RSA | B14: CDDI | C14: Soraya | H14: CAE ETAT | I14: 42009 | J14: 42373 | K14: =COUNT(1/FREQUENCY(IF(YEAR(ROW(INDIRECT(I14&":"&J14)))=$K$5,MONTH(ROW(INDIRECT(I14&":"&J14)))),ROW($6:$92))) -> 1 | L14: =COUNT(1/FREQUENCY(IF(YEAR(ROW(INDIRECT(I14&":"&J14)))=$L$5,MONTH(ROW(INDIRECT(I14&":"&J14)))),ROW($6:$39))) -> 0 | M14: =DATEDIF( I14,J14, "D" )/30.5 -> 11.934426
A15: HORS RSA | B15: CAE | C15: Yves | F15: R | H15: CAE ETAT | I15: 41673 | J15: 42369 | K15: =COUNT(1/FREQUENCY(IF(YEAR(ROW(INDIRECT(I15&":"&J15)))=$K$5,MONTH(ROW(INDIRECT(I15&":"&J15)))),ROW($6:$39))) -> 0 | L15: =COUNT(1/FREQUENCY(IF(YEAR(ROW(INDIRECT(I15&":"&J15)))=$L$5,MONTH(ROW(INDIRECT(I15&":"&J15)))),ROW($6:$39))) -> 0 | M15: =DATEDIF( I15,J15, "D" )/30.5 -> 22.819672 | N15: Positive
A16: RSA | B16: CDDI | C16: Amina | H16: CAE Cg | I16: 42079 | J16: 42444 | K16: =COUNT(1/FREQUENCY(IF(YEAR(ROW(INDIRECT(I16&":"&J16)))=$K$5,MONTH(ROW(INDIRECT(I16&":"&J16)))),ROW($6:$92))) -> 1 | L16: =COUNT(1/FREQUENCY(IF(YEAR(ROW(INDIRECT(I16&":"&J16)))=$L$5,MONTH(ROW(INDIRECT(I16&":"&J16)))),ROW($6:$39))) -> 0 | M16: =DATEDIF( I16,J16, "D" )/30.5 -> 11.967213
A17: RSA | B17: CDDI | C17: Catherine | H17: CAE Cg | I17: 42200 | J17: 42338 | K17: =COUNT(1/FREQUENCY(IF(YEAR(ROW(INDIRECT(I17&":"&J17)))=$K$5,MONTH(ROW(INDIRECT(I17&":"&J17)))),ROW($6:$39))) -> 1 | L17: =COUNT(1/FREQUENCY(IF(YEAR(ROW(INDIRECT(I17&":"&J17)))=$L$5,MONTH(ROW(INDIRECT(I17&":"&J17)))),ROW($6:$39))) -> 0 | M17: =DATEDIF( I17,J17, "D" )/30.5 -> 4.5245902 | N17: Transition
A18: RSA | B18: CDDI | C18: Chérazad | H18: CAE Cg | I18: 41842 | J18: 42206 | K18: =COUNT(1/FREQUENCY(IF(YEAR(ROW(INDIRECT(I18&":"&J18)))=$K$5,MONTH(ROW(INDIRECT(I18&":"&J18)))),ROW($6:$39))) -> 0 | L18: =COUNT(1/FREQUENCY(IF(YEAR(ROW(INDIRECT(I18&":"&J18)))=$L$5,MONTH(ROW(INDIRECT(I18&":"&J18)))),ROW($6:$39))) -> 0 | M18: =DATEDIF( I18,J18, "D" )/30.5 -> 11.934426 | N18: Sans emploi
A19: RSA | B19: CDDI | C19: Danielle | H19: CAE CG | I19: 42310 | J19: 42675 | K19: =COUNT(1/FREQUENCY(IF(YEAR(ROW(INDIRECT(I19&":"&J19)))=$K$5,MONTH(ROW(INDIRECT(I19&":"&J19)))),ROW($6:$92))) -> 1 | L19: =COUNT(1/FREQUENCY(IF(YEAR(ROW(INDIRECT(I19&":"&J19)))=$L$5,MONTH(ROW(INDIRECT(I19&":"&J19)))),ROW($6:$39))) -> 0 | M19: =DATEDIF( I19,J19, "D" )/30.5 -> 11.967213
A20: RSA | B20: CDDI | C20: Fatima | H20: CAE CG | I20: 42009 | J20: 42373 | K20: =COUNT(1/FREQUENCY(IF(YEAR(ROW(INDIRECT(I20&":"&J20)))=$K$5,MONTH(ROW(INDIRECT(I20&":"&J20)))),ROW($6:$92))) -> 1 | L20: =COUNT(1/FREQUENCY(IF(YEAR(ROW(INDIRECT(I20&":"&J20)))=$L$5,MONTH(ROW(INDIRECT(I20&":"&J20)))),ROW($6:$39))) -> 0 | M20: =DATEDIF( I20,J20, "D" )/30.5 -> 11.934426
A21: RSA | B21: CDDI | C21: Fatima | H21: CAE Cg | I21: 42128 | J21: 42493 | K21: =COUNT(1/FREQUENCY(IF(YEAR(ROW(INDIRECT(I21&":"&J21)))=$K$5,MONTH(ROW(INDIRECT(I21&":"&J21)))),ROW($6:$92))) -> 1 | L21: =COUNT(1/FREQUENCY(IF(YEAR(ROW(INDIRECT(I21&":"&J21)))=$L$5,MONTH(ROW(INDIRECT(I21&":"&J21)))),ROW($6:$39))) -> 0 | M21: =DATEDIF( I21,J21, "D" )/30.5 -> 11.967213
A22: RSA | B22: CDDI | C22: Irshad | H22: CAE CG | I22: 42291 | J22: 42656 | K22: =COUNT(1/FREQUENCY(IF(YEAR(ROW(INDIRECT(I22&":"&J22)))=$K$5,MONTH(ROW(INDIRECT(I22&":"&J22)))),ROW($6:$92))) -> 1 | L22: =COUNT(1/FREQUENCY(IF(YEAR(ROW(INDIRECT(I22&":"&J22)))=$L$5,MONTH(ROW(INDIRECT(I22&":"&J22)))),ROW($6:$39))) -> 0 | M22: =DATEDIF( I22,J22, "D" )/30.5 -> 11.967213
A23: RSA | B23: CDDI | C23: Leila | H23: CAE Cg | I23: 41835 | J23: 42199 | K23: =COUNT(1/FREQUENCY(IF(YEAR(ROW(INDIRECT(I23&":"&J23)))=$K$5,MONTH(ROW(INDIRECT(I23&":"&J23)))),ROW($6:$39))) -> 0 | L23: =COUNT(1/FREQUENCY(IF(YEAR(ROW(INDIRECT(I23&":"&J23)))=$L$5,MONTH(ROW(INDIRECT(I23&":"&J23)))),ROW($6:$39))) -> 0 | M23: =DATEDIF( I23,J23, "D" )/30.5 -> 11.934426 | N23: Sans emploi
A24: RSA | B24: CDDI | C24: Lotfi | H24: CAE Cg | I24: 41955 | J24: 42172 | K24: =COUNT(1/FREQUENCY(IF(YEAR(ROW(INDIRECT(I24&":"&J24)))=$K$5,MONTH(ROW(INDIRECT(I24&":"&J24)))),ROW($6:$39))) -> 0 | L24: =COUNT(1/FREQUENCY(IF(YEAR(ROW(INDIRECT(I24&":"&J24)))=$L$5,MONTH(ROW(INDIRECT(I24&":"&J24)))),ROW($6:$39))) -> 0 | M24: =DATEDIF( I24,J24, "D" )/30.5 -> 7.1147541 | N24: Positive
A25: RSA | B25: CDDI | C25: Louisa | H25: CAE Cg | I25: 42079 | J25: 42083 | K25: =COUNT(1/FREQUENCY(IF(YEAR(ROW(INDIRECT(I25&":"&J25)))=$K$5,MONTH(ROW(INDIRECT(I25&":"&J25)))),ROW($6:$39))) -> 1 | L25: =COUNT(1/FREQUENCY(IF(YEAR(ROW(INDIRECT(I25&":"&J25)))=$L$5,MONTH(ROW(INDIRECT(I25&":"&J25)))),ROW($6:$39))) -> 0 | M25: =DATEDIF( I25,J25, "D" )/30.5 -> 0.13114754 | N25: FIn de période essai
A26: RSA | B26: CDDI | C26: Maguema | H26: CAE Cg | I26: 42200 | J26: 42565 | K26: =COUNT(1/FREQUENCY(IF(YEAR(ROW(INDIRECT(I26&":"&J26)))=$K$5,MONTH(ROW(INDIRECT(I26&":"&J26)))),ROW($6:$92))) -> 1 | L26: =COUNT(1/FREQUENCY(IF(YEAR(ROW(INDIRECT(I26&":"&J26)))=$L$5,MONTH(ROW(INDIRECT(I26&":"&J26)))),ROW($6:$39))) -> 0 | M26: =DATEDIF( I26,J26, "D" )/30.5 -> 11.967213
A27: RSA | B27: CDDI | C27: Mahrzia | H27: CAE CG | I27: 42009 | J27: 42373 | K27: =COUNT(1/FREQUENCY(IF(YEAR(ROW(INDIRECT(I27&":"&J27)))=$K$5,MONTH(ROW(INDIRECT(I27&":"&J27)))),ROW($6:$92))) -> 1 | L27: =COUNT(1/FREQUENCY(IF(YEAR(ROW(INDIRECT(I27&":"&J27)))=$L$5,MONTH(ROW(INDIRECT(I27&":"&J27)))),ROW($6:$39))) -> 0 | M27: =DATEDIF( I27,J27, "D" )/30.5 -> 11.934426
A28: RSA | B28: CDDI | C28: Mbsouri | H28: CAE CG | I28: 42009 | J28: 42373 | K28: =COUNT(1/FREQUENCY(IF(YEAR(ROW(INDIRECT(I28&":"&J28)))=$K$5,MONTH(ROW(INDIRECT(I28&":"&J28)))),ROW($6:$92))) -> 1 | L28: =COUNT(1/FREQUENCY(IF(YEAR(ROW(INDIRECT(I28&":"&J28)))=$L$5,MONTH(ROW(INDIRECT(I28&":"&J28)))),ROW($6:$39))) -> 0 | M28: =DATEDIF( I28,J28, "D" )/30.5 -> 11.934426
A29: RSA | B29: CDDI | C29: Medhi | H29: CAE Cg | I29: 42128 | J29: 42493 | K29: =COUNT(1/FREQUENCY(IF(YEAR(ROW(INDIRECT(I29&":"&J29)))=$K$5,MONTH(ROW(INDIRECT(I29&":"&J29)))),ROW($6:$92))) -> 1 | L29: =COUNT(1/FREQUENCY(IF(YEAR(ROW(INDIRECT(I29&":"&J29)))=$L$5,MONTH(ROW(INDIRECT(I29&":"&J29)))),ROW($6:$39))) -> 0 | M29: =DATEDIF( I29,J29, "D" )/30.5 -> 11.967213
A30: RSA | B30: CDDI | C30: Mikael | H30: CAE CG | I30: 42347 | J30: 42712 | K30: =COUNT(1/FREQUENCY(IF(YEAR(ROW(INDIRECT(I30&":"&J30)))=$K$5,MONTH(ROW(INDIRECT(I30&":"&J30)))),ROW($6:$92))) -> 1 | L30: =COUNT(1/FREQUENCY(IF(YEAR(ROW(INDIRECT(I30&":"&J30)))=$L$5,MONTH(ROW(INDIRECT(I30&":"&J30)))),ROW($6:$39))) -> 0 | M30: =DATEDIF( I30,J30, "D" )/30.5 -> 11.967213
A31: RSA | B31: CAE + CDDI | C31: Nassima | E31: R | H31: CAE Cg | I31: 41470 | J31: 42018 | K31: =COUNT(1/FREQUENCY(IF(YEAR(ROW(INDIRECT(I31&":"&J31)))=$K$5,MONTH(ROW(INDIRECT(I31&":"&J31)))),ROW($6:$39))) -> 0 | L31: =COUNT(1/FREQUENCY(IF(YEAR(ROW(INDIRECT(I31&":"&J31)))=$L$5,MONTH(ROW(INDIRECT(I31&":"&J31)))),ROW($6:$39))) -> 0 | M31: =DATEDIF( I31,J31, "D" )/30.5 -> 17.967213 | N31: Sans emploi
A32: RSA | B32: CDDI | C32: Réda | H32: CAE Cg | I32: 42200 | J32: 42565 | K32: =COUNT(1/FREQUENCY(IF(YEAR(ROW(INDIRECT(I32&":"&J32)))=$K$5,MONTH(ROW(INDIRECT(I32&":"&J32)))),ROW($6:$92))) -> 1 | L32: =COUNT(1/FREQUENCY(IF(YEAR(ROW(INDIRECT(I32&":"&J32)))=$L$5,MONTH(ROW(INDIRECT(I32&":"&J32)))),ROW($6:$39))) -> 0 | M32: =DATEDIF( I32,J32, "D" )/30.5 -> 11.967213
A33: RSA | B33: CAE + CDDI | C33: Rina Erica | E33: R | H33: CAE Cg | I33: 41533 | J33: 42085 | K33: =COUNT(1/FREQUENCY(IF(YEAR(ROW(INDIRECT(I33&":"&J33)))=$K$5,MONTH(ROW(INDIRECT(I33&":"&J33)))),ROW($6:$39))) -> 0 | L33: =COUNT(1/FREQUENCY(IF(YEAR(ROW(INDIRECT(I33&":"&J33)))=$L$5,MONTH(ROW(INDIRECT(I33&":"&J33)))),ROW($6:$39))) -> 0 | M33: =DATEDIF( I33,J33, "D" )/30.5 -> 18.098361 | N33: Durable
A34: RSA | B34: CDDI | C34: Sabine | H34: CAE CG | I34: 42262 | J34: 42675 | K34: =COUNT(1/FREQUENCY(IF(YEAR(ROW(INDIRECT(I34&":"&J34)))=$K$5,MONTH(ROW(INDIRECT(I34&":"&J34)))),ROW($6:$92))) -> 1 | L34: =COUNT(1/FREQUENCY(IF(YEAR(ROW(INDIRECT(I34&":"&J34)))=$L$5,MONTH(ROW(INDIRECT(I34&":"&J34)))),ROW($6:$39))) -> 0 | M34: =DATEDIF( I34,J34, "D" )/30.5 -> 13.540984
A35: RSA | B35: CDDI | C35: Saliha | F35: R | H35: CAE Cg | I35: 41905 | J35: 42338 | K35: =COUNT(1/FREQUENCY(IF(YEAR(ROW(INDIRECT(I35&":"&J35)))=$K$5,MONTH(ROW(INDIRECT(I35&":"&J35)))),ROW($6:$39))) -> 0 | L35: =COUNT(1/FREQUENCY(IF(YEAR(ROW(INDIRECT(I35&":"&J35)))=$L$5,MONTH(ROW(INDIRECT(I35&":"&J35)))),ROW($6:$39))) -> 0 | M35: =DATEDIF( I35,J35, "D" )/30.5 -> 14.196721 | N35: Transition
A36: RSA | B36: CDDI | C36: Sébastien | H36: CAE CG | I36: 42324 | J36: 42689 | K36: =COUNT(1/FREQUENCY(IF(YEAR(ROW(INDIRECT(I36&":"&J36)))=$K$5,MONTH(ROW(INDIRECT(I36&":"&J36)))),ROW($6:$92))) -> 1 | L36: =COUNT(1/FREQUENCY(IF(YEAR(ROW(INDIRECT(I36&":"&J36)))=$L$5,MONTH(ROW(INDIRECT(I36&":"&J36)))),ROW($6:$39))) -> 0 | M36: =DATEDIF( I36,J36, "D" )/30.5 -> 11.967213
A37: RSA | B37: CDDI | C37: Touatia | H37: CAE CG | I37: 42262 | J37: 42675 | K37: =COUNT(1/FREQUENCY(IF(YEAR(ROW(INDIRECT(I37&":"&J37)))=$K$5,MONTH(ROW(INDIRECT(I37&":"&J37)))),ROW($6:$92))) -> 1 | L37: =COUNT(1/FREQUENCY(IF(YEAR(ROW(INDIRECT(I37&":"&J37)))=$L$5,MONTH(ROW(INDIRECT(I37&":"&J37)))),ROW($6:$39))) -> 0 | M37: =DATEDIF( I37,J37, "D" )/30.5 -> 13.540984
A38: RSA | B38: CDDI | C38: Valérie | H38: CAE Cg | I38: 41955 | J38: 42075 | K38: =COUNT(1/FREQUENCY(IF(YEAR(ROW(INDIRECT(I38&":"&J38)))=$K$5,MONTH(ROW(INDIRECT(I38&":"&J38)))),ROW($6:$39))) -> 0 | L38: =COUNT(1/FREQUENCY(IF(YEAR(ROW(INDIRECT(I38&":"&J38)))=$L$5,MONTH(ROW(INDIRECT(I38&":"&J38)))),ROW($6:$39))) -> 0 | M38: =DATEDIF( I38,J38, "D" )/30.5 -> 3.9344262 | N38: Transition
B39: CDDI | C39: Sahadia | E39: R | H39: CAE Cg | I39: 41540 | J39: 42041 | K39: =COUNT(1/FREQUENCY(IF(YEAR(ROW(INDIRECT(I39&":"&J39)))=$K$5,MONTH(ROW(INDIRECT(I39&":"&J39)))),ROW($6:$39))) -> 0 | L39: =COUNT(1/FREQUENCY(IF(YEAR(ROW(INDIRECT(I39&":"&J39)))=$L$5,MONTH(ROW(INDIRECT(I39&":"&J39)))),ROW($6:$39))) -> 0 | M39: =DATEDIF( I39,J39, "D" )/30.5 -> 16.42623 | N39: Sans emploi
K40: =SUM(K6:K39) -> 22 | L40: =SUM(L6:L39) -> 0
B43: CHIFFRES CLES 2015
B45: Nbre de salariés présents | D45: =COUNTA($C$6:$C$39) -> 34 | F45: TYPOLOGIES DES SORTIES | H45: en % | J45: NB DE POSTE CONVENTIONNES
B46: Nb de renouvellements | D46: =COUNTA($F$6:$F$39) -> 3 | F46: =Feuil2!A3 -> Durable | G46: =COUNTIF($N$6:$N$39,F46) -> 1 | H46: =G46/$G$50 -> 0.083333333 | J46: POSTE ETAT | K46: 7 | L46: =K46/K48 -> 0.38888889
B47: Durée moyenne du parcours | D47: =AVERAGE($M$6:$M$39) -> 12.321119 | F47: =Feuil2!A4 -> Transition | G47: =COUNTIF($N$6:$N$39,F47) -> 3 | H47: =G47/$G$50 -> 0.25 | J47: POSTE CG | K47: 11 | L47: =K47/K48 -> 0.61111111
B48: Nb de salariés sortis | F48: =Feuil2!A5 -> Positive | G48: =COUNTIF($N$6:$N$39,F48) -> 2 | H48: =G48/$G$50 -> 0.16666667 | J48: TOTAL | K48: =K46+K47 -> 18 | L48: =L46+L47 -> 1
F49: =Feuil2!A8 -> Sans emploi | G49: =COUNTIF($N$6:$N$39,F49) -> 6 | H49: =G49/$G$50 -> 0.5
F50: SOUS TOTAL | G50: =SUM(G46:G49) -> 12 | H50: =G50/$G$50 -> 1 | J50: NB DE MOIS REALISES | L50: en %
F51: =Feuil2!A7 -> FIn de période essai | G51: =COUNTIF($N$6:$N$39,F51) -> 1 | H51: =G51/$G$53 -> 0.076923077 | J51: CAE ETAT | K51: =SUMIF(H5:H38,$J$51,K5:$K$39) -> 6 | L51: =K51/$K$53 -> 0.27272727
F52: =Feuil2!A6 -> Licenciement | G52: =COUNTIF($N$6:$N$39,F52) -> 0 | H52: =G52/$G$53 -> 0 | J52: CAE CG | K52: =SUMIF(H6:H39,$J$52,K6:$K$39) -> 16 | L52: =K52/$K$53 -> 0.72727273
F53: TOTAL | G53: =G50+G51+G52 -> 13 | H53: =G53/$G$50 -> 1.0833333 | J53: TOTAL | K53: =K51+K52 -> 22 | L53: =K53/$K$53 -> 1

Sheet Feuil2
A3: Durable
A4: Transition
A5: Positive
A6: Licenciement
A7: FIn de période essai
A8: Sans emploi
A9: Autre
