Workbook

Sheet Liste Générale
A1: N°INTERNE | B1: N° IME | C1: MARQUE | D1: TYPE | E1: N° SERIE | F1: DESCRIPTION | G1: RANGE | H1: DATE DE VALIDITE | I1: JOURS RESTANTS | J1: APPARTENANT A | K1: TRIGRAMME | L1: DATE ENVOI ETALONNAGE | M1: REMARQUES
A2: CLED01549 | B2: PCT-IMT-14-CLED-01549 | C2: FACOM | F2: CLE DYNAMOMETRIQUE | G2: 5 - 25 Nm | H2: 43026 | I2: =IF(NOT(ISBLANK(H2)),IF(H2<TODAY(),-DATEDIF(H2,TODAY(),"d"),DATEDIF(TODAY(),H2,"d")),"") -> -5 | J2: DISPONIBLE | K2: DIS
A3: CLED01550 | B3: PCT-IMT-14-CLED-01550 | C3: FACOM | F3: CLE DYNAMOMETRIQUE | G3: 20 - 100 Nm | I3: =IF(NOT(ISBLANK(H3)),IF(H3<TODAY(),-DATEDIF(H3,TODAY(),"d"),DATEDIF(TODAY(),H3,"d")),"") | J3: DISPONIBLE | K3: DIS
A4: CLED01551 | B4: PCT-IMT-14-CLED-01551 | C4: FACOM | F4: CLE DYNAMOMETRIQUE | G4: 5 - 25 Nm | I4: =IF(NOT(ISBLANK(H4)),IF(H4<TODAY(),-DATEDIF(H4,TODAY(),"d"),DATEDIF(TODAY(),H4,"d")),"") | J4: DISPONIBLE | K4: DIS
A5: CLED01552 | B5: PCT-IMT-14-CLED-01552 | C5: FACOM | F5: CLE DYNAMOMETRIQUE | G5: 20 - 100 Nm | I5: =IF(NOT(ISBLANK(H5)),IF(H5<TODAY(),-DATEDIF(H5,TODAY(),"d"),DATEDIF(TODAY(),H5,"d")),"") | J5: DISPONIBLE | K5: DIS
A6: CLED03665 | B6: PCT-IMT-14-CLED-03665 | C6: FACOM | F6: CLE DYNAMOMETRIQUE | G6: 5 - 25 Nm | I6: =IF(NOT(ISBLANK(H6)),IF(H6<TODAY(),-DATEDIF(H6,TODAY(),"d"),DATEDIF(TODAY(),H6,"d")),"") | J6: DISPONIBLE | K6: DIS
A7: CLED03666 | B7: PCT-IMT-14-CLED-03666 | C7: FACOM | F7: CLE DYNAMOMETRIQUE | G7: 20 - 100 Nm | I7: =IF(NOT(ISBLANK(H7)),IF(H7<TODAY(),-DATEDIF(H7,TODAY(),"d"),DATEDIF(TODAY(),H7,"d")),"") | J7: DISPONIBLE | K7: DIS
A8: CLED04690 | B8: PCT-IME-14-CLED-04690 | C8: FACOM | D8: S.306-100D | F8: CLE DYNAMOMETRIQUE | G8: 20 - 100 Nm | H8: 43368 | I8: =IF(NOT(ISBLANK(H8)),IF(H8<TODAY(),-DATEDIF(H8,TODAY(),"d"),DATEDIF(TODAY(),H8,"d")),"") -> 337 | J8: DISPONIBLE | K8: DIS
A9: CLED04691 | B9: PCT-IME-14-CLED-04691 | C9: FACOM | D9: S.306-200D | F9: CLE DYNAMOMETRIQUE | G9: 40 - 200 Nm | H9: 43368 | I9: =IF(NOT(ISBLANK(H9)),IF(H9<TODAY(),-DATEDIF(H9,TODAY(),"d"),DATEDIF(TODAY(),H9,"d")),"") -> 337 | J9: DISPONIBLE | K9: DIS
A10: CLED04772 | B10: PCT-IMT-14-CLED-04772 | C10: FACOM | F10: CLE DYNAMOMETRIQUE | I10: =IF(NOT(ISBLANK(H10)),IF(H10<TODAY(),-DATEDIF(H10,TODAY(),"d"),DATEDIF(TODAY(),H10,"d")),"") | J10: DISPONIBLE | K10: DIS
A11: CLED04773 | B11: PCT-IMT-14-CLED-04773 | C11: FACOM | F11: CLE DYNAMOMETRIQUE | I11: =IF(NOT(ISBLANK(H11)),IF(H11<TODAY(),-DATEDIF(H11,TODAY(),"d"),DATEDIF(TODAY(),H11,"d")),"") | J11: DISPONIBLE | K11: DIS
A12: CLED04774 | B12: PCT-IMT-14-CLED-04774 | C12: FACOM | F12: CLE DYNAMOMETRIQUE | I12: =IF(NOT(ISBLANK(H12)),IF(H12<TODAY(),-DATEDIF(H12,TODAY(),"d"),DATEDIF(TODAY(),H12,"d")),"") | J12: DISPONIBLE | K12: DIS
A13: DYNA01161 | B13: PCT-IME-14-DYNA-01161 | C13: CHATILLON | D13: DFGS10 | E13: A36487 | F13: FORCE GAUGE | G13: 0 - 5 Kg | H13: 43182 | I13: =IF(NOT(ISBLANK(H13)),IF(H13<TODAY(),-DATEDIF(H13,TODAY(),"d"),DATEDIF(TODAY(),H13,"d")),"") -> 151 | J13: DISPONIBLE | K13: DIS
A14: ENRE01101 | B14: PCT-IME-14-ENRE-01101 | C14: SEFRAM | E14: 82110PFF1985 | F14: ENREGISTREUR PAPIER | G14: NA | I14: =IF(NOT(ISBLANK(H14)),IF(H14<TODAY(),-DATEDIF(H14,TODAY(),"d"),DATEDIF(TODAY(),H14,"d")),"") | J14: DISPONIBLE | K14: DIS
A15: ENRE01162 | B15: PCT-IME-14-ENRE-01162 | C15: YOKOGAMA | E15: S5EC04913 | F15: ENREGISTREUR DIGITAL | G15: NA | I15: =IF(NOT(ISBLANK(H15)),IF(H15<TODAY(),-DATEDIF(H15,TODAY(),"d"),DATEDIF(TODAY(),H15,"d")),"") | J15: DISPONIBLE | K15: DIS
A16: GENE01065 | B16: PCT-IME-14-GENE-01065 | C16: DRUCK | D16: UNOMAT UPS III | F16: GENERATEUR COURANT | G16: NA | I16: =IF(NOT(ISBLANK(H16)),IF(H16<TODAY(),-DATEDIF(H16,TODAY(),"d"),DATEDIF(TODAY(),H16,"d")),"") | J16: BUTERA Frédéric | K16: BTF
A17: GENE01066 | B17: PCT-IME-14-GENE-01066 | C17: DRUCK | D17: UNOMAT UPS III | F17: GENERATEUR COURANT | G17: NA | I17: =IF(NOT(ISBLANK(H17)),IF(H17<TODAY(),-DATEDIF(H17,TODAY(),"d"),DATEDIF(TODAY(),H17,"d")),"") | J17: COMPERE Bernard | K17: CMB
A18: GENE01068 | B18: PCT-IME-14-GENE-01068 | C18: DRUCK | D18: UNOMAT UPS III | F18: GENERATEUR COURANT | G18: NA | I18: =IF(NOT(ISBLANK(H18)),IF(H18<TODAY(),-DATEDIF(H18,TODAY(),"d"),DATEDIF(TODAY(),H18,"d")),"") | J18: DELHEZ José | K18: PERDU
A19: GENE01069 | B19: PCT-IME-14-GENE-01069 | C19: DRUCK | D19: UNOMAT UPS III | F19: GENERATEUR COURANT | G19: NA | I19: =IF(NOT(ISBLANK(H19)),IF(H19<TODAY(),-DATEDIF(H19,TODAY(),"d"),DATEDIF(TODAY(),H19,"d")),"") | J19: POUPEART Fabrice | K19: PPR
A20: GENE01070 | B20: PCT-IME-14-GENE-01070 | C20: DRUCK | D20: UNOMAT UPS III | E20: R1532 | F20: GENERATEUR COURANT | G20: NA | H20: 43362 | I20: =IF(NOT(ISBLANK(H20)),IF(H20<TODAY(),-DATEDIF(H20,TODAY(),"d"),DATEDIF(TODAY(),H20,"d")),"") -> 331 | J20: LEMOINE Antoine | K20: LMA
A21: GENE01073 | B21: PCT-IME-14-GENE-01073 | C21: DRUCK | D21: UNOMAT UPS-II | F21: GENERATEUR COURANT | G21: NA | I21: =IF(NOT(ISBLANK(H21)),IF(H21<TODAY(),-DATEDIF(H21,TODAY(),"d"),DATEDIF(TODAY(),H21,"d")),"") | J21: DISPONIBLE | K21: PERDU
A22: GENE01074 | B22: PCT-IME-14-GENE-01074 | C22: DRUCK | D22: UNOMAT UPS II | F22: GENERATEUR COURANT | G22: NA | I22: =IF(NOT(ISBLANK(H22)),IF(H22<TODAY(),-DATEDIF(H22,TODAY(),"d"),DATEDIF(TODAY(),H22,"d")),"") | J22: DISPONIBLE | K22: DIS
A23: GENE01075 | B23: PCT-IME-14-GENE-01075 | C23: DRUCK | D23: UNOMAT UPS-II | F23: GENERATEUR COURANT | G23: NA | I23: =IF(NOT(ISBLANK(H23)),IF(H23<TODAY(),-DATEDIF(H23,TODAY(),"d"),DATEDIF(TODAY(),H23,"d")),"") | J23: DISPONIBLE | K23: PERDU
A24: GENE01076 | B24: PCT-IME-14-GENE-01076 | C24: DRUCK | D24: UNOMAT UPS III | F24: GENERATEUR COURANT | G24: NA | I24: =IF(NOT(ISBLANK(H24)),IF(H24<TODAY(),-DATEDIF(H24,TODAY(),"d"),DATEDIF(TODAY(),H24,"d")),"") | J24: VOETS Raphael | K24: VTR
A25: GENE01077 | B25: PCT-IME-14-GENE-01077 | C25: DRUCK | D25: UNOMAT UPS-III | F25: GENERATEUR COURANT | G25: NA | I25: =IF(NOT(ISBLANK(H25)),IF(H25<TODAY(),-DATEDIF(H25,TODAY(),"d"),DATEDIF(TODAY(),H25,"d")),"") | J25: DISPONIBLE | K25: PERDU
A26: GENE01311 | B26: PCT-IME-14-GENE-01311 | C26: DRUCK | D26: UNOMAT UPS III | F26: GENERATEUR COURANT | G26: NA | I26: =IF(NOT(ISBLANK(H26)),IF(H26<TODAY(),-DATEDIF(H26,TODAY(),"d"),DATEDIF(TODAY(),H26,"d")),"") | J26: DEHARD Michel | K26: DHD
A27: GENE02930 | B27: PCT-IME-14-GENE-02930 | C27: DRUCK | D27: UNOMAT UPS III | F27: GENERATEUR COURANT | G27: NA | I27: =IF(NOT(ISBLANK(H27)),IF(H27<TODAY(),-DATEDIF(H27,TODAY(),"d"),DATEDIF(TODAY(),H27,"d")),"") | J27: FERRAILLE Vincent | K27: FEV
A28: GENE02931 | B28: PCT-IME-14-GENE-02931 | C28: DRUCK | D28: UNOMAT UPS III | F28: GENERATEUR COURANT | G28: NA | I28: =IF(NOT(ISBLANK(H28)),IF(H28<TODAY(),-DATEDIF(H28,TODAY(),"d"),DATEDIF(TODAY(),H28,"d")),"") | J28: LECLERCQ Michel | K28: LLM
A29: GENE02932 | B29: PCT-IME-14-GENE-02932 | C29: DRUCK | D29: UNOMAT UPS III | E29: R4628 | F29: GENERATEUR COURANT | G29: NA | H29: 43133 | I29: =IF(NOT(ISBLANK(H29)),IF(H29<TODAY(),-DATEDIF(H29,TODAY(),"d"),DATEDIF(TODAY(),H29,"d")),"") -> 102 | J29: GEORLETTE David | K29: GTD
A30: GENE02933 | B30: PCT-IME-14-GENE-02933 | C30: DRUCK | D30: UNOMAT UPS III | F30: GENERATEUR COURANT | G30: NA | I30: =IF(NOT(ISBLANK(H30)),IF(H30<TODAY(),-DATEDIF(H30,TODAY(),"d"),DATEDIF(TODAY(),H30,"d")),"") | J30: DISPONIBLE | K30: DIS
A31: GENE02934 | B31: PCT-IME-14-GENE-02934 | C31: DRUCK | D31: UNOMAT UPS III | F31: GENERATEUR COURANT | G31: NA | I31: =IF(NOT(ISBLANK(H31)),IF(H31<TODAY(),-DATEDIF(H31,TODAY(),"d"),DATEDIF(TODAY(),H31,"d")),"") | J31: DISPONIBLE | K31: DIS
A32: GENE02935 | B32: PCT-IME-14-GENE-02935 | C32: DRUCK | D32: UNOMAT UPS III | F32: GENERATEUR COURANT | G32: NA | I32: =IF(NOT(ISBLANK(H32)),IF(H32<TODAY(),-DATEDIF(H32,TODAY(),"d"),DATEDIF(TODAY(),H32,"d")),"") | J32: LEVECQ Jonathan | K32: LVJ
A33: GENE02936 | B33: PCT-IME-14-GENE-02936 | C33: DRUCK | D33: UNOMAT UPS III | F33: GENERATEUR COURANT | G33: NA | I33: =IF(NOT(ISBLANK(H33)),IF(H33<TODAY(),-DATEDIF(H33,TODAY(),"d"),DATEDIF(TODAY(),H33,"d")),"") | J33: DE VOS Serge | K33: DVS
A34: GENE02937 | B34: PCT-IME-14-GENE-02937 | C34: DRUCK | D34: UNOMAT UPS III | E34: R4637 | F34: GENERATEUR COURANT | G34: NA | H34: 43342 | I34: =IF(NOT(ISBLANK(H34)),IF(H34<TODAY(),-DATEDIF(H34,TODAY(),"d"),DATEDIF(TODAY(),H34,"d")),"") -> 311 | J34: BOUHY Nicolas | K34: BHN | L34: 43026 | M34: Fonctionnement aléatoire
A35: GENE02938 | B35: PCT-IME-14-GENE-02938 | C35: DRUCK | D35: UNOMAT UPS III | F35: GENERATEUR COURANT | G35: NA | I35: =IF(NOT(ISBLANK(H35)),IF(H35<TODAY(),-DATEDIF(H35,TODAY(),"d"),DATEDIF(TODAY(),H35,"d")),"") | J35: DISPONIBLE | K35: DIS
A36: GENE02939 | B36: PCT-IME-14-GENE-02939 | C36: DRUCK | D36: UNOMAT UPS III | F36: GENERATEUR COURANT | G36: NA | H36: 43180 | I36: =IF(NOT(ISBLANK(H36)),IF(H36<TODAY(),-DATEDIF(H36,TODAY(),"d"),DATEDIF(TODAY(),H36,"d")),"") -> 149 | J36: DISPONIBLE | K36: DIS
A37: GENE03843 | B37: PCT-IME-14-GENE-03843 | C37: DRUCK | D37: UNOMAT UPS-III | F37: GENERATEUR COURANT | G37: NA | I37: =IF(NOT(ISBLANK(H37)),IF(H37<TODAY(),-DATEDIF(H37,TODAY(),"d"),DATEDIF(TODAY(),H37,"d")),"") | J37: DISPONIBLE | K37: PERDU
A38: GENE03844 | B38: PCT-IME-14-GENE-03844 | C38: DRUCK | D38: UNOMAT UPS III | F38: GENERATEUR COURANT | G38: NA | I38: =IF(NOT(ISBLANK(H38)),IF(H38<TODAY(),-DATEDIF(H38,TODAY(),"d"),DATEDIF(TODAY(),H38,"d")),"") | J38: LEVECQ Jonathan | K38: LVJ | M38: Attente retour calibration
A39: GENE04880 | B39: PCT-IME-14-GENE-04880 | C39: DRUCK | D39: UNOMAT UPS III | E39: S2809 | F39: GENERATEUR COURANT | G39: NA | H39: 43026 | I39: =IF(NOT(ISBLANK(H39)),IF(H39<TODAY(),-DATEDIF(H39,TODAY(),"d"),DATEDIF(TODAY(),H39,"d")),"") -> -5 | J39: DISPONIBLE | K39: DIS | L39: 43026
A40: GENE04881 | B40: PCT-IME-14-GENE-04881 | C40: DRUCK | D40: UNOMAT UPS III | E40: S2524 | F40: GENERATEUR COURANT | G40: NA | H40: 43028 | I40: =IF(NOT(ISBLANK(H40)),IF(H40<TODAY(),-DATEDIF(H40,TODAY(),"d"),DATEDIF(TODAY(),H40,"d")),"") -> -3 | J40: DISPONIBLE | K40: DIS | L40: 43026
...

Sheet Récapitulatifs
A1: Nombre Total d'Appareil | B1: Nombre d'Appareil Ordre Etalonnage | C1: Nombre d'Appareil Limite Etalonnage | D1: Nombre d'Appareil Retard Etalonnage | E1: Nombre d'Appareil En Etalonnage | F1: Nombre d'Appareil Perdu | G1: Date Mise à Jour Listing
A3: =COUNTIF('Liste Générale'!A2:A188,"<>") -> 152 | B3: =COUNTIF('Liste Générale'!I2:I188,">15") -> 19 | C3: =COUNTIF('Liste Générale'!I2:I188,"$I2>0;$I2<14") -> 0 | D3: =COUNTIF('Liste Générale'!I2:I188,"<0") -> 10 | E3: =COUNTIF('Liste Générale'!L2:L188,"<>") -> 19 | F3: =COUNTIF('Liste Générale'!K2:K189,"PERDU") -> 12 | G3: =TODAY() -> 43031

Sheet Feuil3
