Workbook

Sheet Liste Générale
A1: N°INTERNE | B1: N° IME | C1: MARQUE | D1: TYPE | E1: N° SERIE | F1: DESCRIPTION | G1: RANGE | H1: DATE DE VALIDITE | I1: JOURS RESTANTS | J1: APPARTENANT A | K1: TRIGRAMME | L1: DATE ENVOI ETALONNAGE | M1: REMARQUES
A2: CLED01549 | B2: PCT-IMT-14-CLED-01549 | C2: FACOM | F2: CLE DYNAMOMETRIQUE | G2: 5 - 25 Nm | H2: 43026 | I2: =IF(NOT(ISBLANK(H2)),IF(H2<TODAY(),-DATEDIF(H2,TODAY(),"d"),DATEDIF(TODAY(),H2,"d")),"") -> -5 | J2: DISPONIBLE | K2: DIS
A3: CLED01550 | B3: PCT-IMT-14-CLED-01550 | C3: FACOM | F3: CLE DYNAMOMETRIQUE | G3: 20 - 100 Nm | I3: =IF(NOT(ISBLANK(H3)),IF(H3<TODAY(),-DATEDIF(H3,TODAY(),"d"),DATEDIF(TODAY(),H3,"d")),"") | J3: DISPONIBLE | K3: DIS
A4: CLED01551 | B4: PCT-IMT-14-CLED-01551 | C4: FACOM | F4: CLE DYNAMOMETRIQUE | G4: 5 - 25 Nm | I4: =IF(NOT(ISBLANK(H4)),IF(H4<TODAY(),-DATEDIF(H4,TODAY(),"d"),DATEDIF(TODAY(),H4,"d")),"") | J4: DISPONIBLE | K4: DIS
A5: CLED01552 | B5: PCT-IMT-14-CLED-01552 | C5: FACOM | F5: CLE DYNAMOMETRIQUE | G5: 20 - 100 Nm | I5: =IF(NOT(ISBLANK(H5)),IF(H5<TODAY(),-DATEDIF(H5,TODAY(),"d"),DATEDIF(TODAY(),H5,"d")),"") | J5: DISPONIBLE | K5: DIS
A6: CLED03665 | B6: PCT-IMT-14-CLED-03665 | C6: FACOM | F6: CLE DYNAMOMETRIQUE | G6: 5 - 25 Nm | I6: =IF(NOT(ISBLANK(H6)),IF(H6<TODAY(),-DATEDIF(H6,TODAY(),"d"),DATEDIF(TODAY(),H6,"d")),"") | J6: DISPONIBLE | K6: DIS
A7: CLED03666 | B7: PCT-IMT-14-CLED-03666 | C7: FACOM | F7: CLE DYNAMOMETRIQUE | G7: 20 - 100 Nm | I7: =IF(NOT(ISBLANK(H7)),IF(H7<TODAY(),-DATEDIF(H7,TODAY(),"d"),DATEDIF(TODAY(),H7,"d")),"") | J7: DISPONIBLE | K7: DIS
A8: CLED04690 | B8: PCT-IME-14-CLED-04690 | C8: FACOM | D8: S.306-100D | F8: CLE DYNAMOMETRIQUE | G8: 20 - 100 Nm | H8: 43368 | I8: =IF(NOT(ISBLANK(H8)),IF(H8<TODAY(),-DATEDIF(H8,TODAY(),"d"),DATEDIF(TODAY(),H8,"d")),"") -> 337 | J8: DISPONIBLE | K8: DIS
A9: CLED04691 | B9: PCT-IME-14-CLED-04691 | C9: FACOM | D9: S.306-200D | F9: CLE DYNAMOMETRIQUE | G9: 40 - 200 Nm | H9: 43368 | I9: =IF(NOT(ISBLANK(H9)),IF(H9<TODAY(),-DATEDIF(H9,TODAY(),"d"),DATEDIF(TODAY(),H9,"d")),"") -> 337 | J9: DISPONIBLE | K9: DIS
A10: CLED04772 | B10: PCT-IMT-14-CLED-04772 | C10: FACOM | F10: CLE DYNAMOMETRIQUE | I10: =IF(NOT(ISBLANK(H10)),IF(H10<TODAY(),-DATEDIF(H10,TODAY(),"d"),DATEDIF(TODAY(),H10,"d")),"") | J10: DISPONIBLE | K10: DIS
A11: CLED04773 | B11: PCT-IMT-14-CLED-04773 | C11: FACOM | F11: CLE DYNAMOMETRIQUE | I11: =IF(NOT(ISBLANK(H11)),IF(H11<TODAY(),-DATEDIF(H11,TODAY(),"d"),DATEDIF(TODAY(),H11,"d")),"") | J11: DISPONIBLE | K11: DIS
A12: CLED04774 | B12: PCT-IMT-14-CLED-04774 | C12: FACOM | F12: CLE DYNAMOMETRIQUE | I12: =IF(NOT(ISBLANK(H12)),IF(H12<TODAY(),-DATEDIF(H12,TODAY(),"d"),DATEDIF(TODAY(),H12,"d")),"") | J12: DISPONIBLE | K12: DIS
A13: DYNA01161 | B13: PCT-IME-14-DYNA-01161 | C13: CHATILLON | D13: DFGS10 | E13: A36487 | F13: FORCE GAUGE | G13: 0 - 5 Kg | H13: 43182 | I13: =IF(NOT(ISBLANK(H13)),IF(H13<TODAY(),-DATEDIF(H13,TODAY(),"d"),DATEDIF(TODAY(),H13,"d")),"") -> 151 | J13: DISPONIBLE | K13: DIS
A14: ENRE01101 | B14: PCT-IME-14-ENRE-01101 | C14: SEFRAM | E14: 82110PFF1985 | F14: ENREGISTREUR PAPIER | G14: NA | I14: =IF(NOT(ISBLANK(H14)),IF(H14<TODAY(),-DATEDIF(H14,TODAY(),"d"),DATEDIF(TODAY(),H14,"d")),"") | J14: DISPONIBLE | K14: DIS
A15: ENRE01162 | B15: PCT-IME-14-ENRE-01162 | C15: YOKOGAMA | E15: S5EC04913 | F15: ENREGISTREUR DIGITAL | G15: NA | I15: =IF(NOT(ISBLANK(H15)),IF(H15<TODAY(),-DATEDIF(H15,TODAY(),"d"),DATEDIF(TODAY(),H15,"d")),"") | J15: DISPONIBLE | K15: DIS
A16: GENE01065 | B16: PCT-IME-14-GENE-01065 | C16: DRUCK | D16: UNOMAT UPS III | F16: GENERATEUR COURANT | G16: NA | I16: =IF(NOT(ISBLANK(H16)),IF(H16<TODAY(),-DATEDIF(H16,TODAY(),"d"),DATEDIF(TODAY(),H16,"d")),"") | J16: BUTERA Frédéric | K16: BTF
A17: GENE01066 | B17: PCT-IME-14-GENE-01066 | C17: DRUCK | D17: UNOMAT UPS III | F17: GENERATEUR COURANT | G17: NA | I17: =IF(NOT(ISBLANK(H17)),IF(H17<TODAY(),-DATEDIF(H17,TODAY(),"d"),DATEDIF(TODAY(),H17,"d")),"") | J17: COMPERE Bernard | K17: CMB
A18: GENE01068 | B18: PCT-IME-14-GENE-01068 | C18: DRUCK | D18: UNOMAT UPS III | F18: GENERATEUR COURANT | G18: NA | I18: =IF(NOT(ISBLANK(H18)),IF(H18<TODAY(),-DATEDIF(H18,TODAY(),"d"),DATEDIF(TODAY(),H18,"d")),"") | J18: DELHEZ José | K18: PERDU
A19: GENE01069 | B19: PCT-IME-14-GENE-01069 | C19: DRUCK | D19: UNOMAT UPS III | F19: GENERATEUR COURANT | G19: NA | I19: =IF(NOT(ISBLANK(H19)),IF(H19<TODAY(),-DATEDIF(H19,TODAY(),"d"),DATEDIF(TODAY(),H19,"d")),"") | J19: POUPEART Fabrice | K19: PPR
A20: GENE01070 | B20: PCT-IME-14-GENE-01070 | C20: DRUCK | D20: UNOMAT UPS III | E20: R1532 | F20: GENERATEUR COURANT | G20: NA | H20: 43362 | I20: =IF(NOT(ISBLANK(H20)),IF(H20<TODAY(),-DATEDIF(H20,TODAY(),"d"),DATEDIF(TODAY(),H20,"d")),"") -> 331 | J20: LEMOINE Antoine | K20: LMA
A21: GENE01073 | B21: PCT-IME-14-GENE-01073 | C21: DRUCK | D21: UNOMAT UPS-II | F21: GENERATEUR COURANT | G21: NA | I21: =IF(NOT(ISBLANK(H21)),IF(H21<TODAY(),-DATEDIF(H21,TODAY(),"d"),DATEDIF(TODAY(),H21,"d")),"") | J21: DISPONIBLE | K21: PERDU
A22: GENE01074 | B22: PCT-IME-14-GENE-01074 | C22: DRUCK | D22: UNOMAT UPS II | F22: GENERATEUR COURANT | G22: NA | I22: =IF(NOT(ISBLANK(H22)),IF(H22<TODAY(),-DATEDIF(H22,TODAY(),"d"),DATEDIF(TODAY(),H22,"d")),"") | J22: DISPONIBLE | K22: DIS
A23: GENE01075 | B23: PCT-IME-14-GENE-01075 | C23: DRUCK | D23: UNOMAT UPS-II | F23: GENERATEUR COURANT | G23: NA | I23: =IF(NOT(ISBLANK(H23)),IF(H23<TODAY(),-DATEDIF(H23,TODAY(),"d"),DATEDIF(TODAY(),H23,"d")),"") | J23: DISPONIBLE | K23: PERDU
A24: GENE01076 | B24: PCT-IME-14-GENE-01076 | C24: DRUCK | D24: UNOMAT UPS III | F24: GENERATEUR COURANT | G24: NA | I24: =IF(NOT(ISBLANK(H24)),IF(H24<TODAY(),-DATEDIF(H24,TODAY(),"d"),DATEDIF(TODAY(),H24,"d")),"") | J24: VOETS Raphael | K24: VTR
A25: GENE01077 | B25: PCT-IME-14-GENE-01077 | C25: DRUCK | D25: UNOMAT UPS-III | F25: GENERATEUR COURANT | G25: NA | I25: =IF(NOT(ISBLANK(H25)),IF(H25<TODAY(),-DATEDIF(H25,TODAY(),"d"),DATEDIF(TODAY(),H25,"d")),"") | J25: DISPONIBLE | K25: PERDU
A26: GENE01311 | B26: PCT-IME-14-GENE-01311 | C26: DRUCK | D26: UNOMAT UPS III | F26: GENERATEUR COURANT | G26: NA | I26: =IF(NOT(ISBLANK(H26)),IF(H26<TODAY(),-DATEDIF(H26,TODAY(),"d"),DATEDIF(TODAY(),H26,"d")),"") | J26: DEHARD Michel | K26: DHD
A27: GENE02930 | B27: PCT-IME-14-GENE-02930 | C27: DRUCK | D27: UNOMAT UPS III | F27: GENERATEUR COURANT | G27: NA | I27: =IF(NOT(ISBLANK(H27)),IF(H27<TODAY(),-DATEDIF(H27,TODAY(),"d"),DATEDIF(TODAY(),H27,"d")),"") | J27: FERRAILLE Vincent | K27: FEV
A28: GENE02931 | B28: PCT-IME-14-GENE-02931 | C28: DRUCK | D28: UNOMAT UPS III | F28: GENERATEUR COURANT | G28: NA | I28: =IF(NOT(ISBLANK(H28)),IF(H28<TODAY(),-DATEDIF(H28,TODAY(),"d"),DATEDIF(TODAY(),H28,"d")),"") | J28: LECLERCQ Michel | K28: LLM
A29: GENE02932 | B29: PCT-IME-14-GENE-02932 | C29: DRUCK | D29: UNOMAT UPS III | E29: R4628 | F29: GENERATEUR COURANT | G29: NA | H29: 43133 | I29: =IF(NOT(ISBLANK(H29)),IF(H29<TODAY(),-DATEDIF(H29,TODAY(),"d"),DATEDIF(TODAY(),H29,"d")),"") -> 102 | J29: GEORLETTE David | K29: GTD
A30: GENE02933 | B30: PCT-IME-14-GENE-02933 | C30: DRUCK | D30: UNOMAT UPS III | F30: GENERATEUR COURANT | G30: NA | I30: =IF(NOT(ISBLANK(H30)),IF(H30<TODAY(),-DATEDIF(H30,TODAY(),"d"),DATEDIF(TODAY(),H30,"d")),"") | J30: DISPONIBLE | K30: DIS
A31: GENE02934 | B31: PCT-IME-14-GENE-02934 | C31: DRUCK | D31: UNOMAT UPS III | F31: GENERATEUR COURANT | G31: NA | I31: =IF(NOT(ISBLANK(H31)),IF(H31<TODAY(),-DATEDIF(H31,TODAY(),"d"),DATEDIF(TODAY(),H31,"d")),"") | J31: DISPONIBLE | K31: DIS
A32: GENE02935 | B32: PCT-IME-14-GENE-02935 | C32: DRUCK | D32: UNOMAT UPS III | F32: GENERATEUR COURANT | G32: NA | I32: =IF(NOT(ISBLANK(H32)),IF(H32<TODAY(),-DATEDIF(H32,TODAY(),"d"),DATEDIF(TODAY(),H32,"d")),"") | J32: LEVECQ Jonathan | K32: LVJ
A33: GENE02936 | B33: PCT-IME-14-GENE-02936 | C33: DRUCK | D33: UNOMAT UPS III | F33: GENERATEUR COURANT | G33: NA | I33: =IF(NOT(ISBLANK(H33)),IF(H33<TODAY(),-DATEDIF(H33,TODAY(),"d"),DATEDIF(TODAY(),H33,"d")),"") | J33: DE VOS Serge | K33: DVS
A34: GENE02937 | B34: PCT-IME-14-GENE-02937 | C34: DRUCK | D34: UNOMAT UPS III | E34: R4637 | F34: GENERATEUR COURANT | G34: NA | H34: 43342 | I34: =IF(NOT(ISBLANK(H34)),IF(H34<TODAY(),-DATEDIF(H34,TODAY(),"d"),DATEDIF(TODAY(),H34,"d")),"") -> 311 | J34: BOUHY Nicolas | K34: BHN | L34: 43026 | M34: Fonctionnement aléatoire
A35: GENE02938 | B35: PCT-IME-14-GENE-02938 | C35: DRUCK | D35: UNOMAT UPS III | F35: GENERATEUR COURANT | G35: NA | I35: =IF(NOT(ISBLANK(H35)),IF(H35<TODAY(),-DATEDIF(H35,TODAY(),"d"),DATEDIF(TODAY(),H35,"d")),"") | J35: DISPONIBLE | K35: DIS
A36: GENE02939 | B36: PCT-IME-14-GENE-02939 | C36: DRUCK | D36: UNOMAT UPS III | F36: GENERATEUR COURANT | G36: NA | H36: 43180 | I36: =IF(NOT(ISBLANK(H36)),IF(H36<TODAY(),-DATEDIF(H36,TODAY(),"d"),DATEDIF(TODAY(),H36,"d")),"") -> 149 | J36: DISPONIBLE | K36: DIS
A37: GENE03843 | B37: PCT-IME-14-GENE-03843 | C37: DRUCK | D37: UNOMAT UPS-III | F37: GENERATEUR COURANT | G37: NA | I37: =IF(NOT(ISBLANK(H37)),IF(H37<TODAY(),-DATEDIF(H37,TODAY(),"d"),DATEDIF(TODAY(),H37,"d")),"") | J37: DISPONIBLE | K37: PERDU
A38: GENE03844 | B38: PCT-IME-14-GENE-03844 | C38: DRUCK | D38: UNOMAT UPS III | F38: GENERATEUR COURANT | G38: NA | I38: =IF(NOT(ISBLANK(H38)),IF(H38<TODAY(),-DATEDIF(H38,TODAY(),"d"),DATEDIF(TODAY(),H38,"d")),"") | J38: LEVECQ Jonathan | K38: LVJ | M38: Attente retour calibration
A39: GENE04880 | B39: PCT-IME-14-GENE-04880 | C39: DRUCK | D39: UNOMAT UPS III | E39: S2809 | F39: GENERATEUR COURANT | G39: NA | H39: 43026 | I39: =IF(NOT(ISBLANK(H39)),IF(H39<TODAY(),-DATEDIF(H39,TODAY(),"d"),DATEDIF(TODAY(),H39,"d")),"") -> -5 | J39: DISPONIBLE | K39: DIS | L39: 43026
A40: GENE04881 | B40: PCT-IME-14-GENE-04881 | C40: DRUCK | D40: UNOMAT UPS III | E40: S2524 | F40: GENERATEUR COURANT | G40: NA | H40: 43028 | I40: =IF(NOT(ISBLANK(H40)),IF(H40<TODAY(),-DATEDIF(H40,TODAY(),"d"),DATEDIF(TODAY(),H40,"d")),"") -> -3 | J40: DISPONIBLE | K40: DIS | L40: 43026
A41: GENE04882 | B41: PCT-IME-14-GENE-04882 | C41: DRUCK | D41: UNOMAT UPS III | E41: S2810 | F41: GENERATEUR COURANT | G41: NA | H41: 43026 | I41: =IF(NOT(ISBLANK(H41)),IF(H41<TODAY(),-DATEDIF(H41,TODAY(),"d"),DATEDIF(TODAY(),H41,"d")),"") -> -5 | J41: DISPONIBLE | K41: DIS | L41: 43026
A42: GENE04883 | B42: PCT-IME-14-GENE-04883 | C42: DRUCK | D42: UNOMAT UPS III | E42: S2774 | F42: GENERATEUR COURANT | G42: NA | H42: 43026 | I42: =IF(NOT(ISBLANK(H42)),IF(H42<TODAY(),-DATEDIF(H42,TODAY(),"d"),DATEDIF(TODAY(),H42,"d")),"") -> -5 | J42: DISPONIBLE | K42: DIS | L42: 43026
A43: GENE04884 | B43: PCT-IME-14-GENE-04884 | C43: DRUCK | D43: UNOMAT UPS III | E43: S2705 | F43: GENERATEUR COURANT | G43: NA | I43: =IF(NOT(ISBLANK(H43)),IF(H43<TODAY(),-DATEDIF(H43,TODAY(),"d"),DATEDIF(TODAY(),H43,"d")),"") | J43: DISPONIBLE | K43: DIS
A44: MANO01089 | B44: PCT-IME-14-MANO-01089 | C44: TEMPCO | F44: TRADINCO | G44: 0 - 30 PSI | I44: =IF(NOT(ISBLANK(H44)),IF(H44<TODAY(),-DATEDIF(H44,TODAY(),"d"),DATEDIF(TODAY(),H44,"d")),"") | J44: DISPONIBLE | K44: DIS
A45: MANO01090 | B45: PCT-IME-14-MANO-01090 | C45: FRANKIGNOUL | F45: TRADINCO | G45: 0 - 60 PSI | I45: =IF(NOT(ISBLANK(H45)),IF(H45<TODAY(),-DATEDIF(H45,TODAY(),"d"),DATEDIF(TODAY(),H45,"d")),"") | J45: DISPONIBLE | K45: DIS
A46: MANO01091 | B46: PCT-IME-14-MANO-01091 | C46: I-TEC | F46: TRADINCO | G46: 0 - 30 PSI | I46: =IF(NOT(ISBLANK(H46)),IF(H46<TODAY(),-DATEDIF(H46,TODAY(),"d"),DATEDIF(TODAY(),H46,"d")),"") | J46: DISPONIBLE | K46: DIS
A47: MANO01092 | B47: PCT-IME-14-MANO-01092 | C47: FRANKIGNOUL | F47: TRADINCO | G47: 0 - 60PSI | I47: =IF(NOT(ISBLANK(H47)),IF(H47<TODAY(),-DATEDIF(H47,TODAY(),"d"),DATEDIF(TODAY(),H47,"d")),"") | J47: DISPONIBLE | K47: DIS
A48: MANO01093 | B48: PCT-IME-14-MANO-01093 | C48: TEMPCO | F48: TRADINCO | G48: 0 - 60 PSI | I48: =IF(NOT(ISBLANK(H48)),IF(H48<TODAY(),-DATEDIF(H48,TODAY(),"d"),DATEDIF(TODAY(),H48,"d")),"") | J48: DISPONIBLE | K48: DIS
A49: MANO01094 | B49: PCT-IME-14-MANO-01094 | C49: BOURDON | F49: TRADINCO | G49: 0 - 2,5 BAR | I49: =IF(NOT(ISBLANK(H49)),IF(H49<TODAY(),-DATEDIF(H49,TODAY(),"d"),DATEDIF(TODAY(),H49,"d")),"") | J49: DISPONIBLE | K49: DIS
A50: MANO01095 | B50: PCT-IME-14-MANO-01095 | C50: BOURDON | F50: TRADINCO | G50: 0 - 80 PSI | I50: =IF(NOT(ISBLANK(H50)),IF(H50<TODAY(),-DATEDIF(H50,TODAY(),"d"),DATEDIF(TODAY(),H50,"d")),"") | J50: DISPONIBLE | K50: DIS
A51: MANO01096 | B51: PCT-IME-14-MANO-01096 | C51: BOURDON | F51: TRADINCO | G51: 0 - 30 PSI | I51: =IF(NOT(ISBLANK(H51)),IF(H51<TODAY(),-DATEDIF(H51,TODAY(),"d"),DATEDIF(TODAY(),H51,"d")),"") | J51: DISPONIBLE | K51: DIS
A52: MANO01097 | B52: PCT-IME-14-MANO-01097 | C52: WICA | F52: TRADINCO | G52: 0 - 36 PSI | I52: =IF(NOT(ISBLANK(H52)),IF(H52<TODAY(),-DATEDIF(H52,TODAY(),"d"),DATEDIF(TODAY(),H52,"d")),"") | J52: DISPONIBLE | K52: DIS
A53: MANO03660 | B53: PCT-IME-14-MANO-03660 | C53: KELLER | D53: LEO2 | F53: MANOMETRE | I53: =IF(NOT(ISBLANK(H53)),IF(H53<TODAY(),-DATEDIF(H53,TODAY(),"d"),DATEDIF(TODAY(),H53,"d")),"") | J53: DISPONIBLE | K53: PERDU
A54: MANO04116 | B54: PCT-IME-14-MANO-04116 | C54: ESSOR Français | D54: MD9 | E54: 75941 | F54: MANOMETRE | G54: 0 - 200 Bars | H54: 43369 | I54: =IF(NOT(ISBLANK(H54)),IF(H54<TODAY(),-DATEDIF(H54,TODAY(),"d"),DATEDIF(TODAY(),H54,"d")),"") -> 338 | J54: SEBIM | K54: SEB
A55: MANO04327 | B55: PCT-IME-14-MANO-04327 | C55: BOURDON | F55: MANOMETRE | G55: 0 - 600 Bars | I55: =IF(NOT(ISBLANK(H55)),IF(H55<TODAY(),-DATEDIF(H55,TODAY(),"d"),DATEDIF(TODAY(),H55,"d")),"") | J55: SEBIM | K55: SEB
A56: MANO04505 | B56: PCT-IME-14-MANO-04505 | C56: TEMPCO | F56: TRADINCO | G56: 0 - 30 PSI | I56: =IF(NOT(ISBLANK(H56)),IF(H56<TODAY(),-DATEDIF(H56,TODAY(),"d"),DATEDIF(TODAY(),H56,"d")),"") | J56: DISPONIBLE | K56: DIS
A57: MANO04817 | B57: PCT-IME-14-MANO-04817 | C57: FRANKIGNOUL | D57: MANOMETRE | F57: TRADINCO | G57: 0 - 60 PSI | H57: 43363 | I57: =IF(NOT(ISBLANK(H57)),IF(H57<TODAY(),-DATEDIF(H57,TODAY(),"d"),DATEDIF(TODAY(),H57,"d")),"") -> 332 | J57: DISPONIBLE | K57: DIS
A58: MICR04326 | B58: PCT-IME-14-MICR-04326 | C58: MAHR | F58: MICROMETRE | I58: =IF(NOT(ISBLANK(H58)),IF(H58<TODAY(),-DATEDIF(H58,TODAY(),"d"),DATEDIF(TODAY(),H58,"d")),"") | J58: SEBIM | K58: SEB
A59: MICR043261 | B59: PCT-IME-14-MICR-04326-1 | C59: MAHR | F59: PIGE ETALON | I59: =IF(NOT(ISBLANK(H59)),IF(H59<TODAY(),-DATEDIF(H59,TODAY(),"d"),DATEDIF(TODAY(),H59,"d")),"") | J59: SEBIM | K59: SEB
A60: MULT01079 | B60: PCT -IMT-14-MULT-01079 | C60: FLUKE | D60: 87 V | F60: MULTIMETER | G60: NA | I60: =IF(NOT(ISBLANK(H60)),IF(H60<TODAY(),-DATEDIF(H60,TODAY(),"d"),DATEDIF(TODAY(),H60,"d")),"") | J60: BUTERA Frédéric | K60: BTF
A61: MULT01083 | B61: PCT -IMT-14-MULT-01083 | C61: FLUKE | D61: 787 PROCESSMETER | F61: MULTIMETER | G61: NA | I61: =IF(NOT(ISBLANK(H61)),IF(H61<TODAY(),-DATEDIF(H61,TODAY(),"d"),DATEDIF(TODAY(),H61,"d")),"") | J61: DISPONIBLE | K61: DIS
A62: MULT01084 | B62: PCT -IMT-14-MULT-01084 | C62: FLUKE | D62: 189 MULTIMETER | F62: MULTIMETER | G62: NA | I62: =IF(NOT(ISBLANK(H62)),IF(H62<TODAY(),-DATEDIF(H62,TODAY(),"d"),DATEDIF(TODAY(),H62,"d")),"") | J62: POUPAERT Fabrice | K62: PPR
A63: MULT01086 | B63: PCT -IMT-14-MULT-01086 | C63: FLUKE | D63: 87 | F63: MULTIMETER | G63: NA | I63: =IF(NOT(ISBLANK(H63)),IF(H63<TODAY(),-DATEDIF(H63,TODAY(),"d"),DATEDIF(TODAY(),H63,"d")),"") | J63: LECLERCQ Michel | K63: LLM
A64: MULT01087 | B64: PCT -IMT-14-MULT-01087 | C64: FLUKE | D64: 87 V | F64: MULTIMETER | G64: NA | I64: =IF(NOT(ISBLANK(H64)),IF(H64<TODAY(),-DATEDIF(H64,TODAY(),"d"),DATEDIF(TODAY(),H64,"d")),"") | J64: DISPONIBLE | K64: DIS
A65: MULT01102 | B65: PCT -IMT-14-MULT-01102 | C65: FLUKE | D65: 83 | E65: 58600069 | F65: MULTIMETER | G65: NA | H65: 43181 | I65: =IF(NOT(ISBLANK(H65)),IF(H65<TODAY(),-DATEDIF(H65,TODAY(),"d"),DATEDIF(TODAY(),H65,"d")),"") -> 150 | J65: GEORLETTE David | K65: GTD
A66: MULT01103 | B66: PCT-IMT-14-MULT-01103 | C66: FLUKE | D66: 83 | F66: MULTIMETER | G66: NA | I66: =IF(NOT(ISBLANK(H66)),IF(H66<TODAY(),-DATEDIF(H66,TODAY(),"d"),DATEDIF(TODAY(),H66,"d")),"") | J66: BEAUDRY Bruno | K66: BDR
A67: MULT01104 | B67: PCT-IMT-14-MULT-01104 | C67: FLUKE | D67: 179 | F67: MULTIMETER | G67: NA | I67: =IF(NOT(ISBLANK(H67)),IF(H67<TODAY(),-DATEDIF(H67,TODAY(),"d"),DATEDIF(TODAY(),H67,"d")),"") | J67: CANTAMESSA Tony | K67: CTS
A68: MULT01106 | B68: PCT -IMT-14-MULT-01106 | C68: FLUKE | D68: 179 | F68: MULTIMETER | G68: NA | I68: =IF(NOT(ISBLANK(H68)),IF(H68<TODAY(),-DATEDIF(H68,TODAY(),"d"),DATEDIF(TODAY(),H68,"d")),"") | J68: DISPONIBLE | K68: DIS
A69: MULT01107 | B69: PCT -IMT-14-MULT-01107 | C69: FLUKE | D69: 179 | F69: MULTIMETER | G69: NA | H69: 42871 | I69: =IF(NOT(ISBLANK(H69)),IF(H69<TODAY(),-DATEDIF(H69,TODAY(),"d"),DATEDIF(TODAY(),H69,"d")),"") -> -160 | J69: DISPONIBLE | K69: DIS
A70: MULT01108 | B70: PCT -IMT-14-MULT-01108 | C70: FLUKE | D70: 179 | E70: 89160413 | F70: MULTIMETER | G70: NA | H70: 43362 | I70: =IF(NOT(ISBLANK(H70)),IF(H70<TODAY(),-DATEDIF(H70,TODAY(),"d"),DATEDIF(TODAY(),H70,"d")),"") -> 331 | J70: GILSOUL Denis | K70: GLD
A71: MULT01109 | B71: PCT-IMT-14-MULT-01109 | C71: FLUKE | D71: 179 | F71: MULTIMETER | G71: NA | I71: =IF(NOT(ISBLANK(H71)),IF(H71<TODAY(),-DATEDIF(H71,TODAY(),"d"),DATEDIF(TODAY(),H71,"d")),"") | J71: LAMBERTY Olivier | K71: LMO
A72: MULT01110 | B72: PCT-IMT-14-MULT-01110 | C72: FLUKE | D72: 179 | F72: MULTIMETER | G72: NA | I72: =IF(NOT(ISBLANK(H72)),IF(H72<TODAY(),-DATEDIF(H72,TODAY(),"d"),DATEDIF(TODAY(),H72,"d")),"") | J72: BRISBOIS Gilbert | K72: BRS
A73: MULT01112 | B73: PCT-IMT-14-MULT-01112 | C73: FLUKE | D73: 179 | F73: MULTIMETER | G73: NA | I73: =IF(NOT(ISBLANK(H73)),IF(H73<TODAY(),-DATEDIF(H73,TODAY(),"d"),DATEDIF(TODAY(),H73,"d")),"") | J73: BEAUDRY Bruno | K73: BDR
A74: MULT01113 | B74: PCT-IMT-14-MULT-01113 | C74: FLUKE | D74: 179 | F74: MULTIMETER | G74: NA | I74: =IF(NOT(ISBLANK(H74)),IF(H74<TODAY(),-DATEDIF(H74,TODAY(),"d"),DATEDIF(TODAY(),H74,"d")),"") | J74: BRISBOIS Gilbert | K74: BRS
A75: MULT01114 | B75: PCT-IMT-14-MULT-01114 | C75: FLUKE | D75: 179 | F75: MULTIMETER | G75: NA | I75: =IF(NOT(ISBLANK(H75)),IF(H75<TODAY(),-DATEDIF(H75,TODAY(),"d"),DATEDIF(TODAY(),H75,"d")),"") | J75: CANTAMESSA Tony | K75: CTS
A76: MULT01117 | B76: PCT-IMT-14-MULT-01117 | C76: FLUKE | D76: 179 | F76: MULTIMETER | G76: NA | I76: =IF(NOT(ISBLANK(H76)),IF(H76<TODAY(),-DATEDIF(H76,TODAY(),"d"),DATEDIF(TODAY(),H76,"d")),"") | J76: LAMBERTY Olivier | K76: LMO
A77: MULT01118 | B77: PCT -IMT-14-MULT-01118 | C77: FLUKE | D77: 179 | F77: MULTIMETER | G77: NA | I77: =IF(NOT(ISBLANK(H77)),IF(H77<TODAY(),-DATEDIF(H77,TODAY(),"d"),DATEDIF(TODAY(),H77,"d")),"") | J77: DISPONIBLE | K77: DIS
A78: MULT01119 | B78: PCT-IMT-14-MULT-01119 | C78: FLUKE | D78: 179 | E78: 77640286 | F78: MULTIMETER | G78: NA | H78: 43026 | I78: =IF(NOT(ISBLANK(H78)),IF(H78<TODAY(),-DATEDIF(H78,TODAY(),"d"),DATEDIF(TODAY(),H78,"d")),"") -> -5 | J78: GILSOUL Denis | K78: GLD | L78: 43028
A79: MULT01121 | B79: PCT-IMT-14-MULT-01121 | C79: FLUKE | D79: 179 | F79: MULTIMETER | G79: NA | I79: =IF(NOT(ISBLANK(H79)),IF(H79<TODAY(),-DATEDIF(H79,TODAY(),"d"),DATEDIF(TODAY(),H79,"d")),"") | J79: BEAUDRY Bruno | K79: BDR
A80: MULT01122 | B80: PCT-IMT-14-MULT-01122 | C80: FLUKE | D80: 179 | F80: MULTIMETER | G80: NA | I80: =IF(NOT(ISBLANK(H80)),IF(H80<TODAY(),-DATEDIF(H80,TODAY(),"d"),DATEDIF(TODAY(),H80,"d")),"") | J80: BRISBOIS Gilbert | K80: BRS
A81: MULT01123 | B81: PCT -IMT-14-MULT-01123 | C81: FLUKE | D81: 179 | F81: MULTIMETER | G81: NA | I81: =IF(NOT(ISBLANK(H81)),IF(H81<TODAY(),-DATEDIF(H81,TODAY(),"d"),DATEDIF(TODAY(),H81,"d")),"") | J81: DISPONIBLE | K81: DIS
A82: MULT01124 | B82: PCT -IMT-14-MULT-01124 | C82: FLUKE | D82: 179 | F82: MULTIMETER | G82: NA | I82: =IF(NOT(ISBLANK(H82)),IF(H82<TODAY(),-DATEDIF(H82,TODAY(),"d"),DATEDIF(TODAY(),H82,"d")),"") | J82: DISPONIBLE | K82: DIS
A83: MULT01124 | B83: PCT-IMT-14-MULT-01124 | C83: FLUKE | D83: 179 | F83: MULTIMETER | G83: NA | I83: =IF(NOT(ISBLANK(H83)),IF(H83<TODAY(),-DATEDIF(H83,TODAY(),"d"),DATEDIF(TODAY(),H83,"d")),"") | J83: GILSOUL Denis | K83: GLD
A84: MULT01125 | B84: PCT-IMT-14-MULT-01125 | C84: FLUKE | D84: 179 | F84: MULTIMETER | G84: NA | I84: =IF(NOT(ISBLANK(H84)),IF(H84<TODAY(),-DATEDIF(H84,TODAY(),"d"),DATEDIF(TODAY(),H84,"d")),"") | J84: LAMBERTY Olivier | K84: LMO
A85: MULT01126 | B85: PCT -IMT-14-MULT-01126 | C85: FLUKE | D85: 179 | F85: MULTIMETER | G85: NA | I85: =IF(NOT(ISBLANK(H85)),IF(H85<TODAY(),-DATEDIF(H85,TODAY(),"d"),DATEDIF(TODAY(),H85,"d")),"") | J85: LEMOINE Antoine | K85: LMA
A86: MULT01127 | B86: PCT-IMT-14-MULT-01127 | C86: FLUKE | D86: 179 | F86: MULTIMETER | G86: NA | I86: =IF(NOT(ISBLANK(H86)),IF(H86<TODAY(),-DATEDIF(H86,TODAY(),"d"),DATEDIF(TODAY(),H86,"d")),"") | J86: CANTAMESSA Tony | K86: CTS
A87: MULT01128 | B87: PCT-IMT-14-MULT-01128 | C87: FLUKE | D87: 179 | F87: MULTIMETER | G87: NA | I87: =IF(NOT(ISBLANK(H87)),IF(H87<TODAY(),-DATEDIF(H87,TODAY(),"d"),DATEDIF(TODAY(),H87,"d")),"") | J87: DISPONIBLE | K87: DIS
A88: MULT01130 | B88: PCT-IMT-14-MULT-01130 | C88: FLUKE | D88: 73 | F88: MULTIMETER | G88: NA | I88: =IF(NOT(ISBLANK(H88)),IF(H88<TODAY(),-DATEDIF(H88,TODAY(),"d"),DATEDIF(TODAY(),H88,"d")),"") | J88: BEAUDRY Bruno | K88: BDR
A89: MULT01132 | B89: PCT -IMT-14-MULT-01132 | C89: FLUKE | D89: 73 | F89: MULTIMETER | G89: NA | I89: =IF(NOT(ISBLANK(H89)),IF(H89<TODAY(),-DATEDIF(H89,TODAY(),"d"),DATEDIF(TODAY(),H89,"d")),"") | J89: DISPONIBLE | K89: DIS
A90: MULT01133 | B90: PCT-IMT-14-MULT-01133 | C90: FLUKE | D90: GOSSEN METRAWATT | F90: MULTIMETER | G90: NA | I90: =IF(NOT(ISBLANK(H90)),IF(H90<TODAY(),-DATEDIF(H90,TODAY(),"d"),DATEDIF(TODAY(),H90,"d")),"") | J90: DISPONIBLE | K90: DIS
A91: MULT01313 | B91: PCT -IMT-14-MULT-01313 | C91: FLUKE | D91: 787 PROCESSMETER | F91: MULTIMETER | G91: NA | I91: =IF(NOT(ISBLANK(H91)),IF(H91<TODAY(),-DATEDIF(H91,TODAY(),"d"),DATEDIF(TODAY(),H91,"d")),"") | J91: DEHARD Michel | K91: DHD
A92: MULT01314 | B92: PCT -IMT-14-MULT-01314 | C92: FLUKE | D92: 179 | F92: MULTIMETER | G92: NA | I92: =IF(NOT(ISBLANK(H92)),IF(H92<TODAY(),-DATEDIF(H92,TODAY(),"d"),DATEDIF(TODAY(),H92,"d")),"") | J92: POUPAERT Fabrice | K92: PPR
A93: MULT01399 | B93: PCT-IMT-14-MULT-01399 | C93: FLUKE | D93: 179 | F93: MULTIMETER | G93: NA | I93: =IF(NOT(ISBLANK(H93)),IF(H93<TODAY(),-DATEDIF(H93,TODAY(),"d"),DATEDIF(TODAY(),H93,"d")),"") | J93: DISPONIBLE | K93: DIS
A94: MULT01782 | B94: PCT -IMT-14-MULT-01782 | C94: FLUKE | D94: 179 | F94: MULTIMETER | G94: NA | I94: =IF(NOT(ISBLANK(H94)),IF(H94<TODAY(),-DATEDIF(H94,TODAY(),"d"),DATEDIF(TODAY(),H94,"d")),"") | J94: DISPONIBLE | K94: PERDU
A95: MULT02884 | B95: PCT -IMT-14-MULT-02884 | C95: FLUKE | D95: 787 PROCESSMETER | F95: MULTIMETER | G95: NA | I95: =IF(NOT(ISBLANK(H95)),IF(H95<TODAY(),-DATEDIF(H95,TODAY(),"d"),DATEDIF(TODAY(),H95,"d")),"") | J95: COMPERE Bernard | K95: CMB
A96: MULT02940 | B96: PCT -IMT-14-MULT-02940 | C96: FLUKE | D96: 787 PROCESSMETER | F96: MULTIMETER | G96: NA | I96: =IF(NOT(ISBLANK(H96)),IF(H96<TODAY(),-DATEDIF(H96,TODAY(),"d"),DATEDIF(TODAY(),H96,"d")),"") | J96: DISPONIBLE | K96: PERDU
A97: MULT02941 | B97: PCT -IMT-14-MULT-02941 | C97: FLUKE | D97: 787 PROCESSMETER | F97: MULTIMETER | G97: NA | I97: =IF(NOT(ISBLANK(H97)),IF(H97<TODAY(),-DATEDIF(H97,TODAY(),"d"),DATEDIF(TODAY(),H97,"d")),"") | J97: VOETS Raphaël | K97: VTR
A98: MULT02942 | B98: PCT -IMT-14-MULT-02942 | C98: FLUKE | D98: 787 PROCESSMETER | F98: MULTIMETER | G98: NA | I98: =IF(NOT(ISBLANK(H98)),IF(H98<TODAY(),-DATEDIF(H98,TODAY(),"d"),DATEDIF(TODAY(),H98,"d")),"") | J98: FERAILLE Vincent | K98: FEV
A99: MULT02943 | B99: PCT -IMT-14-MULT-02943 | C99: FLUKE | D99: 787 PROCESSMETER | F99: MULTIMETER | G99: NA | I99: =IF(NOT(ISBLANK(H99)),IF(H99<TODAY(),-DATEDIF(H99,TODAY(),"d"),DATEDIF(TODAY(),H99,"d")),"") | J99: DE VOS Serge | K99: DVS
A100: MULT02944 | B100: PCT -IMT-14-MULT-02944 | C100: FLUKE | D100: 787 PROCESSMETER | F100: MULTIMETER | G100: NA | I100: =IF(NOT(ISBLANK(H100)),IF(H100<TODAY(),-DATEDIF(H100,TODAY(),"d"),DATEDIF(TODAY(),H100,"d")),"") | J100: DISPONIBLE | K100: DIS
...

Sheet Récapitulatifs
A1: Nombre Total d'Appareil | B1: Nombre d'Appareil Ordre Etalonnage | C1: Nombre d'Appareil Limite Etalonnage | D1: Nombre d'Appareil Retard Etalonnage | E1: Nombre d'Appareil En Etalonnage | F1: Nombre d'Appareil Perdu | G1: Date Mise à Jour Listing
A3: =COUNTIF('Liste Générale'!A2:A188,"<>") -> 152 | B3: =COUNTIF('Liste Générale'!I2:I188,">15") -> 19 | C3: =COUNTIF('Liste Générale'!I2:I188,"$I2>0;$I2<14") -> 0 | D3: =COUNTIF('Liste Générale'!I2:I188,"<0") -> 10 | E3: =COUNTIF('Liste Générale'!L2:L188,"<>") -> 19 | F3: =COUNTIF('Liste Générale'!K2:K189,"PERDU") -> 12 | G3: =TODAY() -> 43031

Sheet Feuil3
