Workbook

Sheet Parametres
A1: NLB SMART-DESK : Paramètres du BP
B3: Salaires
B4: Collaborateur | C4: Montant brut | D4: Date début | E4: Date fin | F4: Augmentation | G4: Date augmentation
B5: BDF | C5: 50000 | D5: 42370 | E5: 42614 | F5: 0.2 | G5: 43466
B6: DEV 1 | C6: 38000 | D6: 42522 | E6: 42614 | F6: 0.08 | G6: 43101
B7: DEV 2 | C7: 38000 | D7: 42979 | F7: 0.08 | G7: 43466
B8: Stagiaire Dev 1 | C8: 12000 | D8: 42522 | E8: 42856 | F8: 0
B9: Stagiaire Design 1 | C9: 12000 | D9: 42522 | E9: 42675 | F9: 0
B10: Commercial 1 | C10: 35000 | D10: 43466
B11: TMA 1 | C11: 28000 | D11: 42979
B12: TMA 2 | C12: 28000 | D12: 43344

Sheet Salaires
A1: NLB SMART-DESK : Hypothèses
C4: 42522 | D4: 42552 | E4: 42583 | F4: 42614 | G4: 42644 | H4: 42675 | I4: 42705 | J4: 42736 | K4: 42767 | L4: 42795 | M4: 42826 | N4: 42856 | O4: 42887 | P4: 42917 | Q4: 42948 | R4: 42979 | S4: 43009 | T4: 43040 | U4: 43070 | V4: 43101 | W4: 43132 | X4: 43160 | Y4: 43191 | Z4: 43221 | AA4: 43252 | AB4: 43282 | AC4: 43313 | AD4: 43344 | AE4: 43374 | AF4: 43405 | AG4: 43435 | AH4: 43466 | AI4: 43497 | AJ4: 43525 | AK4: 43556 | AL4: 43586 | AM4: 43617 | AN4: 43647 | AO4: 43678 | AP4: 43709
B5: BDF | C5: =IF(AND(C4 >= INDIRECT(CONCATENATE("Parametres!D", MATCH(Salaires!$B$5,Parametres!$B$1:$B$12,0))), C4 <= INDIRECT(CONCATENATE("Parametres!E", MATCH(Salaires!$B$5,Parametres!$B$1:$B$12,0)))), INDIRECT(CONCATENATE("Parametres!C", MATCH($B$5,Parametres!$B$1:$B$12,0)))/12, "") -> 4166.6667 | D5: =IF(AND(D4 >= INDIRECT(CONCATENATE("Parametres!D", MATCH(Salaires!$B$5,Parametres!$B$1:$B$12,0))), D4 <= INDIRECT(CONCATENATE("Parametres!E", MATCH(Salaires!$B$5,Parametres!$B$1:$B$12,0)))), INDIRECT(CONCATENATE("Parametres!C", MATCH($B$5,Parametres!$B$1:$B$12,0)))/12, "") -> 4166.6667 | E5: =IF(AND(E4 >= INDIRECT(CONCATENATE("Parametres!D", MATCH(Salaires!$B$5,Parametres!$B$1:$B$12,0))), E4 <= INDIRECT(CONCATENATE("Parametres!E", MATCH(Salaires!$B$5,Parametres!$B$1:$B$12,0)))), INDIRECT(CONCATENATE("Parametres!C", MATCH($B$5,Parametres!$B$1:$B$12,0)))/12, "") -> 4166.6667 | F5: =IF(AND(F4 >= INDIRECT(CONCATENATE("Parametres!D", MATCH(Salaires!$B$5,Parametres!$B$1:$B$12,0))), F4 <= INDIRECT(CONCATENATE("Parametres!E", MATCH(Salaires!$B$5,Parametres!$B$1:$B$12,0)))), INDIRECT(CONCATENATE("Parametres!C", MATCH($B$5,Parametres!$B$1:$B$12,0)))/12, "") -> 4166.6667 | G5: =IF(AND(G4 >= INDIRECT(CONCATENATE("Parametres!D", MATCH(Salaires!$B$5,Parametres!$B$1:$B$12,0))), G4 <= INDIRECT(CONCATENATE("Parametres!E", MATCH(Salaires!$B$5,Parametres!$B$1:$B$12,0)))), INDIRECT(CONCATENATE("Parametres!C", MATCH($B$5,Parametres!$B$1:$B$12,0)))/12, "") | H5: =IF(AND(H4 >= INDIRECT(CONCATENATE("Parametres!D", MATCH(Salaires!$B$5,Parametres!$B$1:$B$12,0))), H4 <= INDIRECT(CONCATENATE("Parametres!E", MATCH(Salaires!$B$5,Parametres!$B$1:$B$12,0)))), INDIRECT(CONCATENATE("Parametres!C", MATCH($B$5,Parametres!$B$1:$B$12,0)))/12, "") | I5: =IF(AND(I4 >= INDIRECT(CONCATENATE("Parametres!D", MATCH(Salaires!$B$5,Parametres!$B$1:$B$12,0))), I4 <= INDIRECT(CONCATENATE("Parametres!E", MATCH(Salaires!$B$5,Parametres!$B$1:$B$12,0)))), INDIRECT(CONCATENATE("Parametres!C", MATCH($B$5,Parametres!$B$1:$B$12,0)))/12, "") | J5: =IF(AND(J4 >= INDIRECT(CONCATENATE("Parametres!D", MATCH(Salaires!$B$5,Parametres!$B$1:$B$12,0))), J4 <= INDIRECT(CONCATENATE("Parametres!E", MATCH(Salaires!$B$5,Parametres!$B$1:$B$12,0)))), INDIRECT(CONCATENATE("Parametres!C", MATCH($B$5,Parametres!$B$1:$B$12,0)))/12, "") | ... AP5: =IF(AND(AP4 >= INDIRECT(CONCATENATE("Parametres!D", MATCH(Salaires!$B$5,Parametres!$B$1:$B$12,0))), AP4 <= INDIRECT(CONCATENATE("Parametres!E", MATCH(Salaires!$B$5,Parametres!$B$1:$B$12,0)))), INDIRECT(CONCATENATE("Parametres!C", MATCH($B$5,Parametres!$B$1:$B$12,0)))/12, "")
B6: DEV 1 | C6: =IF(AND(C4 >= INDIRECT(CONCATENATE("Parametres!D", MATCH(Salaires!$B$6,Parametres!$B$1:$B$12,0))), C4 <= INDIRECT(CONCATENATE("Parametres!E", MATCH(Salaires!$B$6,Parametres!$B$1:$B$12,0)))), INDIRECT(CONCATENATE("Parametres!C", MATCH($B$6,Parametres!$B$1:$B$12,0)))/12, "") -> 3166.6667 | D6: =IF(AND(D4 >= INDIRECT(CONCATENATE("Parametres!D", MATCH(Salaires!$B$6,Parametres!$B$1:$B$12,0))), D4 <= INDIRECT(CONCATENATE("Parametres!E", MATCH(Salaires!$B$6,Parametres!$B$1:$B$12,0)))), INDIRECT(CONCATENATE("Parametres!C", MATCH($B$6,Parametres!$B$1:$B$12,0)))/12, "") -> 3166.6667 | E6: =IF(AND(E4 >= INDIRECT(CONCATENATE("Parametres!D", MATCH(Salaires!$B$6,Parametres!$B$1:$B$12,0))), E4 <= INDIRECT(CONCATENATE("Parametres!E", MATCH(Salaires!$B$6,Parametres!$B$1:$B$12,0)))), INDIRECT(CONCATENATE("Parametres!C", MATCH($B$6,Parametres!$B$1:$B$12,0)))/12, "") -> 3166.6667 | F6: =IF(AND(F4 >= INDIRECT(CONCATENATE("Parametres!D", MATCH(Salaires!$B$6,Parametres!$B$1:$B$12,0))), F4 <= INDIRECT(CONCATENATE("Parametres!E", MATCH(Salaires!$B$6,Parametres!$B$1:$B$12,0)))), INDIRECT(CONCATENATE("Parametres!C", MATCH($B$6,Parametres!$B$1:$B$12,0)))/12, "") -> 3166.6667 | G6: =IF(AND(G4 >= INDIRECT(CONCATENATE("Parametres!D", MATCH(Salaires!$B$6,Parametres!$B$1:$B$12,0))), G4 <= INDIRECT(CONCATENATE("Parametres!E", MATCH(Salaires!$B$6,Parametres!$B$1:$B$12,0)))), INDIRECT(CONCATENATE("Parametres!C", MATCH($B$6,Parametres!$B$1:$B$12,0)))/12, "") | H6: =IF(AND(H4 >= INDIRECT(CONCATENATE("Parametres!D", MATCH(Salaires!$B$6,Parametres!$B$1:$B$12,0))), H4 <= INDIRECT(CONCATENATE("Parametres!E", MATCH(Salaires!$B$6,Parametres!$B$1:$B$12,0)))), INDIRECT(CONCATENATE("Parametres!C", MATCH($B$6,Parametres!$B$1:$B$12,0)))/12, "") | I6: =IF(AND(I4 >= INDIRECT(CONCATENATE("Parametres!D", MATCH(Salaires!$B$6,Parametres!$B$1:$B$12,0))), I4 <= INDIRECT(CONCATENATE("Parametres!E", MATCH(Salaires!$B$6,Parametres!$B$1:$B$12,0)))), INDIRECT(CONCATENATE("Parametres!C", MATCH($B$6,Parametres!$B$1:$B$12,0)))/12, "")
B7: DEV 2 | C7: =IF(AND(C6 >= INDIRECT(CONCATENATE("Parametres!D", MATCH(Salaires!$B$5,Parametres!$B$1:$B$12,0))), C6 <= INDIRECT(CONCATENATE("Parametres!E", MATCH(Salaires!$B$5,Parametres!$B$1:$B$12,0)))), INDIRECT(CONCATENATE("Parametres!C", MATCH($B$5,Parametres!$B$1:$B$12,0)))/12, "")
B8: Stagiaire Dev 1 | C8: =IF(AND(C7 >= INDIRECT(CONCATENATE("Parametres!D", MATCH(Salaires!$B$5,Parametres!$B$1:$B$12,0))), C7 <= INDIRECT(CONCATENATE("Parametres!E", MATCH(Salaires!$B$5,Parametres!$B$1:$B$12,0)))), INDIRECT(CONCATENATE("Parametres!C", MATCH($B$5,Parametres!$B$1:$B$12,0)))/12, "")
B9: Stagiaire Design 1 | C9: =IF(AND(C8 >= INDIRECT(CONCATENATE("Parametres!D", MATCH(Salaires!$B$5,Parametres!$B$1:$B$12,0))), C8 <= INDIRECT(CONCATENATE("Parametres!E", MATCH(Salaires!$B$5,Parametres!$B$1:$B$12,0)))), INDIRECT(CONCATENATE("Parametres!C", MATCH($B$5,Parametres!$B$1:$B$12,0)))/12, "")
B10: Commercial 1 | C10: =IF(AND(C9 >= INDIRECT(CONCATENATE("Parametres!D", MATCH(Salaires!$B$5,Parametres!$B$1:$B$12,0))), C9 <= INDIRECT(CONCATENATE("Parametres!E", MATCH(Salaires!$B$5,Parametres!$B$1:$B$12,0)))), INDIRECT(CONCATENATE("Parametres!C", MATCH($B$5,Parametres!$B$1:$B$12,0)))/12, "")
B11: TMA 1 | C11: =IF(AND(C10 >= INDIRECT(CONCATENATE("Parametres!D", MATCH(Salaires!$B$5,Parametres!$B$1:$B$12,0))), C10 <= INDIRECT(CONCATENATE("Parametres!E", MATCH(Salaires!$B$5,Parametres!$B$1:$B$12,0)))), INDIRECT(CONCATENATE("Parametres!C", MATCH($B$5,Parametres!$B$1:$B$12,0)))/12, "")
B12: TMA 2 | C12: =IF(AND(C11 >= INDIRECT(CONCATENATE("Parametres!D", MATCH(Salaires!$B$5,Parametres!$B$1:$B$12,0))), C11 <= INDIRECT(CONCATENATE("Parametres!E", MATCH(Salaires!$B$5,Parametres!$B$1:$B$12,0)))), INDIRECT(CONCATENATE("Parametres!C", MATCH($B$5,Parametres!$B$1:$B$12,0)))/12, "")
