Workbook

Sheet les mois
A1: 2016
A2: MOIS DE JANVIER
B3: 42370 | D3: 42371 | F3: 42372 | H3: 42373 | J3: 42374 | L3: 42375 | N3: 42376 | P3: 42377 | R3: 42378 | T3: 42379 | V3: 42380 | X3: 42381 | Z3: 42382 | AB3: 42383 | AD3: 42384 | AF3: 42385 | AH3: 42386 | AJ3: 42387 | AL3: 42388 | AN3: 42389 | AP3: 42390 | AR3: 42391 | AT3: 42392 | AV3: 42393 | AX3: 42394 | AZ3: 42395 | BB3: 42396 | BD3: 42397 | BF3: 42398 | BH3: 42399 | BJ3: 42400 | BL3: TOTAL HEURES | BM3: TOTAL FRAIS ENTRETIEN | BO3: mon problème se trouve ici : si les heures sont notées en 1 seul chiffre le calcul est bon mais s'il y a des minutes alors le montant est de 2,65€ tout le temps
A4: ENFANT 1 | B4: 0.34027778 | C4: =IF(B4<>"",IF(B4<=8,2.65,2.99),"") -> 2.65 | E4: =IF(D4<>"",IF(D4<=8,2.65,2.99),"") | G4: =IF(F4<>"",IF(F4<=8,2.65,2.99),"") | I4: =IF(H4<>"",IF(H4<=8,2.65,2.99),"") | K4: =IF(J4<>"",IF(J4<=8,2.65,2.99),"") | M4: =IF(L4<>"",IF(L4<=8,2.65,2.99),"") | O4: =IF(N4<>"",IF(N4<=8,2.65,2.99),"") | Q4: =IF(P4<>"",IF(P4<=8,2.65,2.99),"") | S4: =IF(R4<>"",IF(R4<=8,2.65,2.99),"") | U4: =IF(T4<>"",IF(T4<=8,2.65,2.99),"") | W4: =IF(V4<>"",IF(V4<=8,2.65,2.99),"") | Y4: =IF(X4<>"",IF(X4<=8,2.65,2.99),"") | AA4: =IF(Z4<>"",IF(Z4<=8,2.65,2.99),"") | AC4: =IF(AB4<>"",IF(AB4<=8,2.65,2.99),"") | AE4: =IF(AD4<>"",IF(AD4<=8,2.65,2.99),"") | AG4: =IF(AF4<>"",IF(AF4<=8,2.65,2.99),"") | AI4: =IF(AH4<>"",IF(AH4<=8,2.65,2.99),"") | AK4: =IF(AJ4<>"",IF(AJ4<=8,2.65,2.99),"") | AM4: =IF(AL4<>"",IF(AL4<=8,2.65,2.99),"") | AO4: =IF(AN4<>"",IF(AN4<=8,2.65,2.99),"") | AQ4: =IF(AP4<>"",IF(AP4<=8,2.65,2.99),"") | AS4: =IF(AR4<>"",IF(AR4<=8,2.65,2.99),"") | AU4: =IF(AT4<>"",IF(AT4<=8,2.65,2.99),"") | AW4: =IF(AV4<>"",IF(AV4<=8,2.65,2.99),"") | AY4: =IF(AX4<>"",IF(AX4<=8,2.65,2.99),"") | BA4: =IF(AZ4<>"",IF(AZ4<=8,2.65,2.99),"") | BC4: =IF(BB4<>"",IF(BB4<=8,2.65,2.99),"") | BE4: =IF(BD4<>"",IF(BD4<=8,2.65,2.99),"") | BG4: =IF(BF4<>"",IF(BF4<=8,2.65,2.99),"") | BI4: =IF(BH4<>"",IF(BH4<=8,2.65,2.99),"") | BK4: =IF(BJ4<>"",IF(BJ4<=8,2.65,2.99),"") | BL4: =B4+D4+F4+H4+J4+L4+N4+P4+R4+T4+V4+X4+Z4+AB4+AD4+AF4+AH4+AJ4+AL4+AN4+AP4+AR4+AT4+BJ4 -> 0.34027778 | BM4: =SUM(BA4,BC4,BE4,BG4,BI4,BK4,,AY4,AW4,AU4,AS4,AQ4,AO4,AM4,AK4,AI4,AG4,AE4,AC4,AA4,Y4,W4,U4,S4,Q4,O4,M4,K4,I4,G4,E4+C4) -> #VALUE!
A5: ENFANT 2 | B5: 0.38888889 | C5: =IF(B5<>"",IF(B5<=8,2.65,2.99),"") -> 2.65 | E5: =IF(D5<>"",IF(D5<=8,2.65,2.99),"") | G5: =IF(F5<>"",IF(F5<=8,2.65,2.99),"") | I5: =IF(H5<>"",IF(H5<=8,2.65,2.99),"") | K5: =IF(J5<>"",IF(J5<=8,2.65,2.99),"") | M5: =IF(L5<>"",IF(L5<=8,2.65,2.99),"") | O5: =IF(N5<>"",IF(N5<=8,2.65,2.99),"") | Q5: =IF(P5<>"",IF(P5<=8,2.65,2.99),"") | S5: =IF(R5<>"",IF(R5<=8,2.65,2.99),"") | U5: =IF(T5<>"",IF(T5<=8,2.65,2.99),"") | W5: =IF(V5<>"",IF(V5<=8,2.65,2.99),"") | Y5: =IF(X5<>"",IF(X5<=8,2.65,2.99),"") | AA5: =IF(Z5<>"",IF(Z5<=8,2.65,2.99),"") | AC5: =IF(AB5<>"",IF(AB5<=8,2.65,2.99),"") | AE5: =IF(AD5<>"",IF(AD5<=8,2.65,2.99),"") | AG5: =IF(AF5<>"",IF(AF5<=8,2.65,2.99),"") | AI5: =IF(AH5<>"",IF(AH5<=8,2.65,2.99),"") | AK5: =IF(AJ5<>"",IF(AJ5<=8,2.65,2.99),"") | AM5: =IF(AL5<>"",IF(AL5<=8,2.65,2.99),"") | AO5: =IF(AN5<>"",IF(AN5<=8,2.65,2.99),"") | AQ5: =IF(AP5<>"",IF(AP5<=8,2.65,2.99),"") | AS5: =IF(AR5<>"",IF(AR5<=8,2.65,2.99),"") | AU5: =IF(AT5<>"",IF(AT5<=8,2.65,2.99),"") | AW5: =IF(AV5<>"",IF(AV5<=8,2.65,2.99),"") | AY5: =IF(AX5<>"",IF(AX5<=8,2.65,2.99),"") | BA5: =IF(AZ5<>"",IF(AZ5<=8,2.65,2.99),"") | BC5: =IF(BB5<>"",IF(BB5<=8,2.65,2.99),"") | BE5: =IF(BD5<>"",IF(BD5<=8,2.65,2.99),"") | BG5: =IF(BF5<>"",IF(BF5<=8,2.65,2.99),"") | BI5: =IF(BH5<>"",IF(BH5<=8,2.65,2.99),"") | BK5: =IF(BJ5<>"",IF(BJ5<=8,2.65,2.99),"") | BL5: =B5+D5+F5+H5+J5+L5+N5+P5+R5+T5+V5+X5+Z5+AB5+AD5+AF5+AH5+AJ5+AL5+AN5+AP5+AR5+AT5+BJ5 -> 0.38888889 | BM5: =SUM(BA5,BC5,BE5,BG5,BI5,BK5,,AY5,AW5,AU5,AS5,AQ5,AO5,AM5,AK5,AI5,AG5,AE5,AC5,AA5,Y5,W5,U5,S5,Q5,O5,M5,K5,I5,G5,E5+C5) -> #VALUE!
A6: ENFANT 3 | B6: 5 | C6: =IF(B6<>"",IF(B6<=8,2.65,2.99),"") -> 2.65 | E6: =IF(D6<>"",IF(D6<=8,2.65,2.99),"") | G6: =IF(F6<>"",IF(F6<=8,2.65,2.99),"") | I6: =IF(H6<>"",IF(H6<=8,2.65,2.99),"") | K6: =IF(J6<>"",IF(J6<=8,2.65,2.99),"") | M6: =IF(L6<>"",IF(L6<=8,2.65,2.99),"") | O6: =IF(N6<>"",IF(N6<=8,2.65,2.99),"") | Q6: =IF(P6<>"",IF(P6<=8,2.65,2.99),"") | S6: =IF(R6<>"",IF(R6<=8,2.65,2.99),"") | U6: =IF(T6<>"",IF(T6<=8,2.65,2.99),"") | W6: =IF(V6<>"",IF(V6<=8,2.65,2.99),"") | Y6: =IF(X6<>"",IF(X6<=8,2.65,2.99),"") | AA6: =IF(Z6<>"",IF(Z6<=8,2.65,2.99),"") | AC6: =IF(AB6<>"",IF(AB6<=8,2.65,2.99),"") | AE6: =IF(AD6<>"",IF(AD6<=8,2.65,2.99),"") | AG6: =IF(AF6<>"",IF(AF6<=8,2.65,2.99),"") | AI6: =IF(AH6<>"",IF(AH6<=8,2.65,2.99),"") | AK6: =IF(AJ6<>"",IF(AJ6<=8,2.65,2.99),"") | AM6: =IF(AL6<>"",IF(AL6<=8,2.65,2.99),"") | AO6: =IF(AN6<>"",IF(AN6<=8,2.65,2.99),"") | AQ6: =IF(AP6<>"",IF(AP6<=8,2.65,2.99),"") | AS6: =IF(AR6<>"",IF(AR6<=8,2.65,2.99),"") | AU6: =IF(AT6<>"",IF(AT6<=8,2.65,2.99),"") | AW6: =IF(AV6<>"",IF(AV6<=8,2.65,2.99),"") | AY6: =IF(AX6<>"",IF(AX6<=8,2.65,2.99),"") | BA6: =IF(AZ6<>"",IF(AZ6<=8,2.65,2.99),"") | BC6: =IF(BB6<>"",IF(BB6<=8,2.65,2.99),"") | BE6: =IF(BD6<>"",IF(BD6<=8,2.65,2.99),"") | BG6: =IF(BF6<>"",IF(BF6<=8,2.65,2.99),"") | BI6: =IF(BH6<>"",IF(BH6<=8,2.65,2.99),"") | BK6: =IF(BJ6<>"",IF(BJ6<=8,2.65,2.99),"") | BL6: =B6+D6+F6+H6+J6+L6+N6+P6+R6+T6+V6+X6+Z6+AB6+AD6+AF6+AH6+AJ6+AL6+AN6+AP6+AR6+AT6+BJ6 -> 5 | BM6: =SUM(BA6,BC6,BE6,BG6,BI6,BK6,,AY6,AW6,AU6,AS6,AQ6,AO6,AM6,AK6,AI6,AG6,AE6,AC6,AA6,Y6,W6,U6,S6,Q6,O6,M6,K6,I6,G6,E6+C6) -> #VALUE!
A7: ENFANT 4 | B7: 10 | C7: =IF(B7<>"",IF(B7<=8,2.65,2.99),"") -> 2.99 | E7: =IF(D7<>"",IF(D7<=8,2.65,2.99),"") | G7: =IF(F7<>"",IF(F7<=8,2.65,2.99),"") | I7: =IF(H7<>"",IF(H7<=8,2.65,2.99),"") | K7: =IF(J7<>"",IF(J7<=8,2.65,2.99),"") | M7: =IF(L7<>"",IF(L7<=8,2.65,2.99),"") | O7: =IF(N7<>"",IF(N7<=8,2.65,2.99),"") | Q7: =IF(P7<>"",IF(P7<=8,2.65,2.99),"") | S7: =IF(R7<>"",IF(R7<=8,2.65,2.99),"") | U7: =IF(T7<>"",IF(T7<=8,2.65,2.99),"") | W7: =IF(V7<>"",IF(V7<=8,2.65,2.99),"") | Y7: =IF(X7<>"",IF(X7<=8,2.65,2.99),"") | AA7: =IF(Z7<>"",IF(Z7<=8,2.65,2.99),"") | AC7: =IF(AB7<>"",IF(AB7<=8,2.65,2.99),"") | AE7: =IF(AD7<>"",IF(AD7<=8,2.65,2.99),"") | AG7: =IF(AF7<>"",IF(AF7<=8,2.65,2.99),"") | AI7: =IF(AH7<>"",IF(AH7<=8,2.65,2.99),"") | AK7: =IF(AJ7<>"",IF(AJ7<=8,2.65,2.99),"") | AM7: =IF(AL7<>"",IF(AL7<=8,2.65,2.99),"") | AO7: =IF(AN7<>"",IF(AN7<=8,2.65,2.99),"") | AQ7: =IF(AP7<>"",IF(AP7<=8,2.65,2.99),"") | AS7: =IF(AR7<>"",IF(AR7<=8,2.65,2.99),"") | AU7: =IF(AT7<>"",IF(AT7<=8,2.65,2.99),"") | AW7: =IF(AV7<>"",IF(AV7<=8,2.65,2.99),"") | AY7: =IF(AX7<>"",IF(AX7<=8,2.65,2.99),"") | BA7: =IF(AZ7<>"",IF(AZ7<=8,2.65,2.99),"") | BC7: =IF(BB7<>"",IF(BB7<=8,2.65,2.99),"") | BE7: =IF(BD7<>"",IF(BD7<=8,2.65,2.99),"") | BG7: =IF(BF7<>"",IF(BF7<=8,2.65,2.99),"") | BI7: =IF(BH7<>"",IF(BH7<=8,2.65,2.99),"") | BK7: =IF(BJ7<>"",IF(BJ7<=8,2.65,2.99),"") | BL7: =B7+D7+F7+H7+J7+L7+N7+P7+R7+T7+V7+X7+Z7+AB7+AD7+AF7+AH7+AJ7+AL7+AN7+AP7+AR7+AT7+BJ7 -> 10 | BM7: =SUM(BA7,BC7,BE7,BG7,BI7,BK7,,AY7,AW7,AU7,AS7,AQ7,AO7,AM7,AK7,AI7,AG7,AE7,AC7,AA7,Y7,W7,U7,S7,Q7,O7,M7,K7,I7,G7,E7+C7) -> #VALUE!
A8: ENFANT 5 | B8: 0.18055556 | C8: =IF(B8<>"",IF(B8<=8,2.65,2.99),"") -> 2.65 | E8: =IF(D8<>"",IF(D8<=8,2.65,2.99),"") | G8: =IF(F8<>"",IF(F8<=8,2.65,2.99),"") | I8: =IF(H8<>"",IF(H8<=8,2.65,2.99),"") | K8: =IF(J8<>"",IF(J8<=8,2.65,2.99),"") | M8: =IF(L8<>"",IF(L8<=8,2.65,2.99),"") | O8: =IF(N8<>"",IF(N8<=8,2.65,2.99),"") | Q8: =IF(P8<>"",IF(P8<=8,2.65,2.99),"") | S8: =IF(R8<>"",IF(R8<=8,2.65,2.99),"") | U8: =IF(T8<>"",IF(T8<=8,2.65,2.99),"") | W8: =IF(V8<>"",IF(V8<=8,2.65,2.99),"") | Y8: =IF(X8<>"",IF(X8<=8,2.65,2.99),"") | AA8: =IF(Z8<>"",IF(Z8<=8,2.65,2.99),"") | AC8: =IF(AB8<>"",IF(AB8<=8,2.65,2.99),"") | AE8: =IF(AD8<>"",IF(AD8<=8,2.65,2.99),"") | AG8: =IF(AF8<>"",IF(AF8<=8,2.65,2.99),"") | AI8: =IF(AH8<>"",IF(AH8<=8,2.65,2.99),"") | AK8: =IF(AJ8<>"",IF(AJ8<=8,2.65,2.99),"") | AM8: =IF(AL8<>"",IF(AL8<=8,2.65,2.99),"") | AO8: =IF(AN8<>"",IF(AN8<=8,2.65,2.99),"") | AQ8: =IF(AP8<>"",IF(AP8<=8,2.65,2.99),"") | AS8: =IF(AR8<>"",IF(AR8<=8,2.65,2.99),"") | AU8: =IF(AT8<>"",IF(AT8<=8,2.65,2.99),"") | AW8: =IF(AV8<>"",IF(AV8<=8,2.65,2.99),"") | AY8: =IF(AX8<>"",IF(AX8<=8,2.65,2.99),"") | BA8: =IF(AZ8<>"",IF(AZ8<=8,2.65,2.99),"") | BC8: =IF(BB8<>"",IF(BB8<=8,2.65,2.99),"") | BE8: =IF(BD8<>"",IF(BD8<=8,2.65,2.99),"") | BG8: =IF(BF8<>"",IF(BF8<=8,2.65,2.99),"") | BI8: =IF(BH8<>"",IF(BH8<=8,2.65,2.99),"") | BK8: =IF(BJ8<>"",IF(BJ8<=8,2.65,2.99),"") | BL8: =B8+D8+F8+H8+J8+L8+N8+P8+R8+T8+V8+X8+Z8+AB8+AD8+AF8+AH8+AJ8+AL8+AN8+AP8+AR8+AT8+BJ8 -> 0.18055556 | BM8: =SUM(BA8,BC8,BE8,BG8,BI8,BK8,,AY8,AW8,AU8,AS8,AQ8,AO8,AM8,AK8,AI8,AG8,AE8,AC8,AA8,Y8,W8,U8,S8,Q8,O8,M8,K8,I8,G8,E8+C8) -> #VALUE!
B9: =SUM(B4:B8) -> 15.909722 | C9: =SUM(C4:C8) -> 13.59 | D9: =SUM(D4:D8) -> 0 | E9: =SUM(E4:E8) -> 0 | F9: =SUM(F4:F8) -> 0 | G9: =SUM(G4:G8) -> 0 | H9: =SUM(H4:H8) -> 0 | I9: =SUM(I4:I8) -> 0 | ... BM9: =SUM(BM4:BM8) -> #VALUE!
A10: MOIS DE FEVRIER
B11: 42401 | D11: 42402 | F11: 42403 | H11: 42404 | J11: 42405 | L11: 42406 | N11: 42407 | P11: 42408 | R11: 42409 | T11: 42410 | V11: 42411 | X11: 42412 | Z11: 42413 | AB11: 42414 | AD11: 42415 | AF11: 42416 | AH11: 42417 | AJ11: 42418 | AL11: 42419 | AN11: 42420 | AP11: 42421 | AR11: 42422 | AT11: 42423 | AV11: 42424 | AX11: 42425 | AZ11: 42426 | BB11: 42427 | BD11: 42428 | BF11: 42429 | BL11: TOTAL HEURES | BM11: TOTAL FRAIS ENTRETIEN | BO11: dans les cellules b4 à b8 : apparaissent les heures effectuées
A12: ENFANT 1 | C12: =IF(B12<>"",IF(B12<=8,2.65,2.99),"") | E12: =IF(D12<>"",IF(D12<=8,2.65,2.99),"") | G12: =IF(F12<>"",IF(F12<=8,2.65,2.99),"") | I12: =IF(H12<>"",IF(H12<=8,2.65,2.99),"") | K12: =IF(J12<>"",IF(J12<=8,2.65,2.99),"") | M12: =IF(L12<>"",IF(L12<=8,2.65,2.99),"") | O12: =IF(N12<>"",IF(N12<=8,2.65,2.99),"") | Q12: =IF(P12<>"",IF(P12<=8,2.65,2.99),"") | S12: =IF(R12<>"",IF(R12<=8,2.65,2.99),"") | U12: =IF(T12<>"",IF(T12<=8,2.65,2.99),"") | W12: =IF(V12<>"",IF(V12<=8,2.65,2.99),"") | Y12: =IF(X12<>"",IF(X12<=8,2.65,2.99),"") | AA12: =IF(Z12<>"",IF(Z12<=8,2.65,2.99),"") | AC12: =IF(AB12<>"",IF(AB12<=8,2.65,2.99),"") | AE12: =IF(AD12<>"",IF(AD12<=8,2.65,2.99),"") | AG12: =IF(AF12<>"",IF(AF12<=8,2.65,2.99),"") | AI12: =IF(AH12<>"",IF(AH12<=8,2.65,2.99),"") | AK12: =IF(AJ12<>"",IF(AJ12<=8,2.65,2.99),"") | AM12: =IF(AL12<>"",IF(AL12<=8,2.65,2.99),"") | AO12: =IF(AN12<>"",IF(AN12<=8,2.65,2.99),"") | AQ12: =IF(AP12<>"",IF(AP12<=8,2.65,2.99),"") | AS12: =IF(AR12<>"",IF(AR12<=8,2.65,2.99),"") | AU12: =IF(AT12<>"",IF(AT12<=8,2.65,2.99),"") | AW12: =IF(AV12<>"",IF(AV12<=8,2.65,2.99),"") | AY12: =IF(AX12<>"",IF(AX12<=8,2.65,2.99),"") | BA12: =IF(AZ12<>"",IF(AZ12<=8,2.65,2.99),"") | BC12: =IF(BB12<>"",IF(BB12<=8,2.65,2.99),"") | BE12: =IF(BD12<>"",IF(BD12<=8,2.65,2.99),"") | BG12: =IF(BF12<>"",IF(BF12<=8,2.65,2.99),"") | BI12: =IF(BH12<>"",IF(BH12<=8,2.65,2.99),"") | BK12: =IF(BJ12<>"",IF(BJ12<=8,2.65,2.99),"") | BL12: =B12+D12+F12+H12+J12+L12+N12+P12+R12+T12+V12+X12+Z12+AB12+AD12+AF12+AH12+AJ12+AL12+AN12+AP12+AR12+AT12+BJ12 -> 0 | BM12: =SUM(BA12,BC12,BE12,BG12,BI12,BK12,,AY12,AW12,AU12,AS12,AQ12,AO12,AM12,AK12,AI12,AG12,AE12,AC12,AA12,Y12,W12,U12,S12,Q12,O12,M12,K12,I12,G12,E12) -> 0
A13: ENFANT 2 | C13: =IF(B13<>"",IF(B13<=8,2.65,2.99),"") | E13: =IF(D13<>"",IF(D13<=8,2.65,2.99),"") | G13: =IF(F13<>"",IF(F13<=8,2.65,2.99),"") | I13: =IF(H13<>"",IF(H13<=8,2.65,2.99),"") | K13: =IF(J13<>"",IF(J13<=8,2.65,2.99),"") | M13: =IF(L13<>"",IF(L13<=8,2.65,2.99),"") | O13: =IF(N13<>"",IF(N13<=8,2.65,2.99),"") | Q13: =IF(P13<>"",IF(P13<=8,2.65,2.99),"") | S13: =IF(R13<>"",IF(R13<=8,2.65,2.99),"") | U13: =IF(T13<>"",IF(T13<=8,2.65,2.99),"") | W13: =IF(V13<>"",IF(V13<=8,2.65,2.99),"") | Y13: =IF(X13<>"",IF(X13<=8,2.65,2.99),"") | AA13: =IF(Z13<>"",IF(Z13<=8,2.65,2.99),"") | AC13: =IF(AB13<>"",IF(AB13<=8,2.65,2.99),"") | AE13: =IF(AD13<>"",IF(AD13<=8,2.65,2.99),"") | AG13: =IF(AF13<>"",IF(AF13<=8,2.65,2.99),"") | AI13: =IF(AH13<>"",IF(AH13<=8,2.65,2.99),"") | AK13: =IF(AJ13<>"",IF(AJ13<=8,2.65,2.99),"") | AM13: =IF(AL13<>"",IF(AL13<=8,2.65,2.99),"") | AO13: =IF(AN13<>"",IF(AN13<=8,2.65,2.99),"") | AQ13: =IF(AP13<>"",IF(AP13<=8,2.65,2.99),"") | AS13: =IF(AR13<>"",IF(AR13<=8,2.65,2.99),"") | AU13: =IF(AT13<>"",IF(AT13<=8,2.65,2.99),"") | AW13: =IF(AV13<>"",IF(AV13<=8,2.65,2.99),"") | AY13: =IF(AX13<>"",IF(AX13<=8,2.65,2.99),"") | BA13: =IF(AZ13<>"",IF(AZ13<=8,2.65,2.99),"") | BC13: =IF(BB13<>"",IF(BB13<=8,2.65,2.99),"") | BE13: =IF(BD13<>"",IF(BD13<=8,2.65,2.99),"") | BG13: =IF(BF13<>"",IF(BF13<=8,2.65,2.99),"") | BI13: =IF(BH13<>"",IF(BH13<=8,2.65,2.99),"") | BK13: =IF(BJ13<>"",IF(BJ13<=8,2.65,2.99),"") | BL13: =B13+D13+F13+H13+J13+L13+N13+P13+R13+T13+V13+X13+Z13+AB13+AD13+AF13+AH13+AJ13+AL13+AN13+AP13+AR13+AT13+BJ13 -> 0 | BM13: =SUM(BA13,BC13,BE13,BG13,BI13,BK13,,AY13,AW13,AU13,AS13,AQ13,AO13,AM13,AK13,AI13,AG13,AE13,AC13,AA13,Y13,W13,U13,S13,Q13,O13,M13,K13,I13,G13,E13) -> 0
A14: ENFANT 3 | C14: =IF(B14<>"",IF(B14<=8,2.65,2.99),"") | E14: =IF(D14<>"",IF(D14<=8,2.65,2.99),"") | G14: =IF(F14<>"",IF(F14<=8,2.65,2.99),"") | I14: =IF(H14<>"",IF(H14<=8,2.65,2.99),"") | K14: =IF(J14<>"",IF(J14<=8,2.65,2.99),"") | M14: =IF(L14<>"",IF(L14<=8,2.65,2.99),"") | O14: =IF(N14<>"",IF(N14<=8,2.65,2.99),"") | Q14: =IF(P14<>"",IF(P14<=8,2.65,2.99),"") | S14: =IF(R14<>"",IF(R14<=8,2.65,2.99),"") | U14: =IF(T14<>"",IF(T14<=8,2.65,2.99),"") | W14: =IF(V14<>"",IF(V14<=8,2.65,2.99),"") | Y14: =IF(X14<>"",IF(X14<=8,2.65,2.99),"") | AA14: =IF(Z14<>"",IF(Z14<=8,2.65,2.99),"") | AC14: =IF(AB14<>"",IF(AB14<=8,2.65,2.99),"") | AE14: =IF(AD14<>"",IF(AD14<=8,2.65,2.99),"") | AG14: =IF(AF14<>"",IF(AF14<=8,2.65,2.99),"") | AI14: =IF(AH14<>"",IF(AH14<=8,2.65,2.99),"") | AK14: =IF(AJ14<>"",IF(AJ14<=8,2.65,2.99),"") | AM14: =IF(AL14<>"",IF(AL14<=8,2.65,2.99),"") | AO14: =IF(AN14<>"",IF(AN14<=8,2.65,2.99),"") | AQ14: =IF(AP14<>"",IF(AP14<=8,2.65,2.99),"") | AS14: =IF(AR14<>"",IF(AR14<=8,2.65,2.99),"") | AU14: =IF(AT14<>"",IF(AT14<=8,2.65,2.99),"") | AW14: =IF(AV14<>"",IF(AV14<=8,2.65,2.99),"") | AY14: =IF(AX14<>"",IF(AX14<=8,2.65,2.99),"") | BA14: =IF(AZ14<>"",IF(AZ14<=8,2.65,2.99),"") | BC14: =IF(BB14<>"",IF(BB14<=8,2.65,2.99),"") | BE14: =IF(BD14<>"",IF(BD14<=8,2.65,2.99),"") | BG14: =IF(BF14<>"",IF(BF14<=8,2.65,2.99),"") | BI14: =IF(BH14<>"",IF(BH14<=8,2.65,2.99),"") | BK14: =IF(BJ14<>"",IF(BJ14<=8,2.65,2.99),"") | BL14: =B14+D14+F14+H14+J14+L14+N14+P14+R14+T14+V14+X14+Z14+AB14+AD14+AF14+AH14+AJ14+AL14+AN14+AP14+AR14+AT14+BJ14 -> 0 | BM14: =SUM(BA14,BC14,BE14,BG14,BI14,BK14,,AY14,AW14,AU14,AS14,AQ14,AO14,AM14,AK14,AI14,AG14,AE14,AC14,AA14,Y14,W14,U14,S14,Q14,O14,M14,K14,I14,G14,E14) -> 0
A15: ENFANT 4 | C15: =IF(B15<>"",IF(B15<=8,2.65,2.99),"") | E15: =IF(D15<>"",IF(D15<=8,2.65,2.99),"") | G15: =IF(F15<>"",IF(F15<=8,2.65,2.99),"") | I15: =IF(H15<>"",IF(H15<=8,2.65,2.99),"") | K15: =IF(J15<>"",IF(J15<=8,2.65,2.99),"") | M15: =IF(L15<>"",IF(L15<=8,2.65,2.99),"") | O15: =IF(N15<>"",IF(N15<=8,2.65,2.99),"") | Q15: =IF(P15<>"",IF(P15<=8,2.65,2.99),"") | S15: =IF(R15<>"",IF(R15<=8,2.65,2.99),"") | U15: =IF(T15<>"",IF(T15<=8,2.65,2.99),"") | W15: =IF(V15<>"",IF(V15<=8,2.65,2.99),"") | Y15: =IF(X15<>"",IF(X15<=8,2.65,2.99),"") | AA15: =IF(Z15<>"",IF(Z15<=8,2.65,2.99),"") | AC15: =IF(AB15<>"",IF(AB15<=8,2.65,2.99),"") | AE15: =IF(AD15<>"",IF(AD15<=8,2.65,2.99),"") | AG15: =IF(AF15<>"",IF(AF15<=8,2.65,2.99),"") | AI15: =IF(AH15<>"",IF(AH15<=8,2.65,2.99),"") | AK15: =IF(AJ15<>"",IF(AJ15<=8,2.65,2.99),"") | AM15: =IF(AL15<>"",IF(AL15<=8,2.65,2.99),"") | AO15: =IF(AN15<>"",IF(AN15<=8,2.65,2.99),"") | AQ15: =IF(AP15<>"",IF(AP15<=8,2.65,2.99),"") | AS15: =IF(AR15<>"",IF(AR15<=8,2.65,2.99),"") | AU15: =IF(AT15<>"",IF(AT15<=8,2.65,2.99),"") | AW15: =IF(AV15<>"",IF(AV15<=8,2.65,2.99),"") | AY15: =IF(AX15<>"",IF(AX15<=8,2.65,2.99),"") | BA15: =IF(AZ15<>"",IF(AZ15<=8,2.65,2.99),"") | BC15: =IF(BB15<>"",IF(BB15<=8,2.65,2.99),"") | BE15: =IF(BD15<>"",IF(BD15<=8,2.65,2.99),"") | BG15: =IF(BF15<>"",IF(BF15<=8,2.65,2.99),"") | BI15: =IF(BH15<>"",IF(BH15<=8,2.65,2.99),"") | BK15: =IF(BJ15<>"",IF(BJ15<=8,2.65,2.99),"") | BL15: =B15+D15+F15+H15+J15+L15+N15+P15+R15+T15+V15+X15+Z15+AB15+AD15+AF15+AH15+AJ15+AL15+AN15+AP15+AR15+AT15+BJ15 -> 0 | BM15: =SUM(BA15,BC15,BE15,BG15,BI15,BK15,,AY15,AW15,AU15,AS15,AQ15,AO15,AM15,AK15,AI15,AG15,AE15,AC15,AA15,Y15,W15,U15,S15,Q15,O15,M15,K15,I15,G15,E15) -> 0 | BO15: dans les cellules c4 à c8 : si b4 à b8 inférieur ou égal à 8:00 alors 2,65€ ou sinon 2,99€
A16: ENFANT 5 | C16: =IF(B16<>"",IF(B16<=8,2.65,2.99),"") | E16: =IF(D16<>"",IF(D16<=8,2.65,2.99),"") | G16: =IF(F16<>"",IF(F16<=8,2.65,2.99),"") | I16: =IF(H16<>"",IF(H16<=8,2.65,2.99),"") | K16: =IF(J16<>"",IF(J16<=8,2.65,2.99),"") | M16: =IF(L16<>"",IF(L16<=8,2.65,2.99),"") | O16: =IF(N16<>"",IF(N16<=8,2.65,2.99),"") | Q16: =IF(P16<>"",IF(P16<=8,2.65,2.99),"") | S16: =IF(R16<>"",IF(R16<=8,2.65,2.99),"") | U16: =IF(T16<>"",IF(T16<=8,2.65,2.99),"") | W16: =IF(V16<>"",IF(V16<=8,2.65,2.99),"") | Y16: =IF(X16<>"",IF(X16<=8,2.65,2.99),"") | AA16: =IF(Z16<>"",IF(Z16<=8,2.65,2.99),"") | AC16: =IF(AB16<>"",IF(AB16<=8,2.65,2.99),"") | AE16: =IF(AD16<>"",IF(AD16<=8,2.65,2.99),"") | AG16: =IF(AF16<>"",IF(AF16<=8,2.65,2.99),"") | AI16: =IF(AH16<>"",IF(AH16<=8,2.65,2.99),"") | AK16: =IF(AJ16<>"",IF(AJ16<=8,2.65,2.99),"") | AM16: =IF(AL16<>"",IF(AL16<=8,2.65,2.99),"") | AO16: =IF(AN16<>"",IF(AN16<=8,2.65,2.99),"") | AQ16: =IF(AP16<>"",IF(AP16<=8,2.65,2.99),"") | AS16: =IF(AR16<>"",IF(AR16<=8,2.65,2.99),"") | AU16: =IF(AT16<>"",IF(AT16<=8,2.65,2.99),"") | AW16: =IF(AV16<>"",IF(AV16<=8,2.65,2.99),"") | AY16: =IF(AX16<>"",IF(AX16<=8,2.65,2.99),"") | BA16: =IF(AZ16<>"",IF(AZ16<=8,2.65,2.99),"") | BC16: =IF(BB16<>"",IF(BB16<=8,2.65,2.99),"") | BE16: =IF(BD16<>"",IF(BD16<=8,2.65,2.99),"") | BG16: =IF(BF16<>"",IF(BF16<=8,2.65,2.99),"") | BI16: =IF(BH16<>"",IF(BH16<=8,2.65,2.99),"") | BK16: =IF(BJ16<>"",IF(BJ16<=8,2.65,2.99),"") | BL16: =B16+D16+F16+H16+J16+L16+N16+P16+R16+T16+V16+X16+Z16+AB16+AD16+AF16+AH16+AJ16+AL16+AN16+AP16+AR16+AT16+BJ16 -> 0 | BM16: =SUM(BA16,BC16,BE16,BG16,BI16,BK16,,AY16,AW16,AU16,AS16,AQ16,AO16,AM16,AK16,AI16,AG16,AE16,AC16,AA16,Y16,W16,U16,S16,Q16,O16,M16,K16,I16,G16,E16) -> 0
B17: =SUM(B12:B16) -> 0 | C17: =SUM(C12:C16) -> 0 | D17: =SUM(D12:D16) -> 0 | E17: =SUM(E12:E16) -> 0 | F17: =SUM(F12:F16) -> 0 | G17: =SUM(G12:G16) -> 0 | H17: =SUM(H12:H16) -> 0 | I17: =SUM(I12:I16) -> 0 | ... BG17: =SUM(BG12:BG16) -> 0 | BL17: =SUM(BL12:BL16) -> 0 | BM17: =SUM(BM12:BM16) -> 0
A18: MOIS DE MARS
B19: 42430 | D19: 42431 | F19: 42432 | H19: 42433 | J19: 42434 | L19: 42435 | N19: 42436 | P19: 42437 | R19: 42438 | T19: 42439 | V19: 42440 | X19: 42441 | Z19: 42442 | AB19: 42443 | AD19: 42444 | AF19: 42445 | AH19: 42446 | AJ19: 42447 | AL19: 42448 | AN19: 42449 | AP19: 42450 | AR19: 42451 | AT19: 42452 | AV19: 42453 | AX19: 42454 | AZ19: 42455 | BB19: 42456 | BD19: 42457 | BF19: 42458 | BH19: 42459 | BJ19: 42460 | BL19: TOTAL HEURES | BM19: TOTAL FRAIS ENTRETIEN | BO19: aussi y a-t-il une possibilité de faire la somme de la ligne 4 mais une cellule sur 2 pour avoir le total en heures de garde par enfant en bl4 et total de frais en bm4 pour l'instant j'ai mis = et un clic dans chaque cellule avec des + il y a peut être mieux sans compter qu'à faire 70 clics possible que j'en oublie une
A20: ENFANT 1 | C20: =IF(B20<>"",IF(B20<=8,2.65,2.99),"") | E20: =IF(D20<>"",IF(D20<=8,2.65,2.99),"") | G20: =IF(F20<>"",IF(F20<=8,2.65,2.99),"") | I20: =IF(H20<>"",IF(H20<=8,2.65,2.99),"") | K20: =IF(J20<>"",IF(J20<=8,2.65,2.99),"") | M20: =IF(L20<>"",IF(L20<=8,2.65,2.99),"") | O20: =IF(N20<>"",IF(N20<=8,2.65,2.99),"") | Q20: =IF(P20<>"",IF(P20<=8,2.65,2.99),"") | S20: =IF(R20<>"",IF(R20<=8,2.65,2.99),"") | U20: =IF(T20<>"",IF(T20<=8,2.65,2.99),"") | W20: =IF(V20<>"",IF(V20<=8,2.65,2.99),"") | Y20: =IF(X20<>"",IF(X20<=8,2.65,2.99),"") | AA20: =IF(Z20<>"",IF(Z20<=8,2.65,2.99),"") | AC20: =IF(AB20<>"",IF(AB20<=8,2.65,2.99),"") | AE20: =IF(AD20<>"",IF(AD20<=8,2.65,2.99),"") | AG20: =IF(AF20<>"",IF(AF20<=8,2.65,2.99),"") | AI20: =IF(AH20<>"",IF(AH20<=8,2.65,2.99),"") | AK20: =IF(AJ20<>"",IF(AJ20<=8,2.65,2.99),"") | AM20: =IF(AL20<>"",IF(AL20<=8,2.65,2.99),"") | AO20: =IF(AN20<>"",IF(AN20<=8,2.65,2.99),"") | AQ20: =IF(AP20<>"",IF(AP20<=8,2.65,2.99),"") | AS20: =IF(AR20<>"",IF(AR20<=8,2.65,2.99),"") | AU20: =IF(AT20<>"",IF(AT20<=8,2.65,2.99),"") | AW20: =IF(AV20<>"",IF(AV20<=8,2.65,2.99),"") | AY20: =IF(AX20<>"",IF(AX20<=8,2.65,2.99),"") | BA20: =IF(AZ20<>"",IF(AZ20<=8,2.65,2.99),"") | BC20: =IF(BB20<>"",IF(BB20<=8,2.65,2.99),"") | BE20: =IF(BD20<>"",IF(BD20<=8,2.65,2.99),"") | BG20: =IF(BF20<>"",IF(BF20<=8,2.65,2.99),"") | BI20: =IF(BH20<>"",IF(BH20<=8,2.65,2.99),"") | BK20: =IF(BJ20<>"",IF(BJ20<=8,2.65,2.99),"") | BL20: =B20+D20+F20+H20+J20+L20+N20+P20+R20+T20+V20+X20+Z20+AB20+AD20+AF20+AH20+AJ20+AL20+AN20+AP20+AR20+AT20+BJ20 -> 0 | BM20: =SUM(BA20,BC20,BE20,BG20,BI20,BK20,,AY20,AW20,AU20,AS20,AQ20,AO20,AM20,AK20,AI20,AG20,AE20,AC20,AA20,Y20,W20,U20,S20,Q20,O20,M20,K20,I20,G20,E20) -> 0
A21: ENFANT 2 | C21: =IF(B21<>"",IF(B21<=8,2.65,2.99),"") | E21: =IF(D21<>"",IF(D21<=8,2.65,2.99),"") | G21: =IF(F21<>"",IF(F21<=8,2.65,2.99),"") | I21: =IF(H21<>"",IF(H21<=8,2.65,2.99),"") | K21: =IF(J21<>"",IF(J21<=8,2.65,2.99),"") | M21: =IF(L21<>"",IF(L21<=8,2.65,2.99),"") | O21: =IF(N21<>"",IF(N21<=8,2.65,2.99),"") | Q21: =IF(P21<>"",IF(P21<=8,2.65,2.99),"") | S21: =IF(R21<>"",IF(R21<=8,2.65,2.99),"") | U21: =IF(T21<>"",IF(T21<=8,2.65,2.99),"") | W21: =IF(V21<>"",IF(V21<=8,2.65,2.99),"") | Y21: =IF(X21<>"",IF(X21<=8,2.65,2.99),"") | AA21: =IF(Z21<>"",IF(Z21<=8,2.65,2.99),"") | AC21: =IF(AB21<>"",IF(AB21<=8,2.65,2.99),"") | AE21: =IF(AD21<>"",IF(AD21<=8,2.65,2.99),"") | AG21: =IF(AF21<>"",IF(AF21<=8,2.65,2.99),"") | AI21: =IF(AH21<>"",IF(AH21<=8,2.65,2.99),"") | AK21: =IF(AJ21<>"",IF(AJ21<=8,2.65,2.99),"") | AM21: =IF(AL21<>"",IF(AL21<=8,2.65,2.99),"") | AO21: =IF(AN21<>"",IF(AN21<=8,2.65,2.99),"") | AQ21: =IF(AP21<>"",IF(AP21<=8,2.65,2.99),"") | AS21: =IF(AR21<>"",IF(AR21<=8,2.65,2.99),"") | AU21: =IF(AT21<>"",IF(AT21<=8,2.65,2.99),"") | AW21: =IF(AV21<>"",IF(AV21<=8,2.65,2.99),"") | AY21: =IF(AX21<>"",IF(AX21<=8,2.65,2.99),"") | BA21: =IF(AZ21<>"",IF(AZ21<=8,2.65,2.99),"") | BC21: =IF(BB21<>"",IF(BB21<=8,2.65,2.99),"") | BE21: =IF(BD21<>"",IF(BD21<=8,2.65,2.99),"") | BG21: =IF(BF21<>"",IF(BF21<=8,2.65,2.99),"") | BI21: =IF(BH21<>"",IF(BH21<=8,2.65,2.99),"") | BK21: =IF(BJ21<>"",IF(BJ21<=8,2.65,2.99),"") | BL21: =B21+D21+F21+H21+J21+L21+N21+P21+R21+T21+V21+X21+Z21+AB21+AD21+AF21+AH21+AJ21+AL21+AN21+AP21+AR21+AT21+BJ21 -> 0 | BM21: =SUM(BA21,BC21,BE21,BG21,BI21,BK21,,AY21,AW21,AU21,AS21,AQ21,AO21,AM21,AK21,AI21,AG21,AE21,AC21,AA21,Y21,W21,U21,S21,Q21,O21,M21,K21,I21,G21,E21) -> 0
A22: ENFANT 3 | C22: =IF(B22<>"",IF(B22<=8,2.65,2.99),"") | E22: =IF(D22<>"",IF(D22<=8,2.65,2.99),"") | G22: =IF(F22<>"",IF(F22<=8,2.65,2.99),"") | I22: =IF(H22<>"",IF(H22<=8,2.65,2.99),"") | K22: =IF(J22<>"",IF(J22<=8,2.65,2.99),"") | M22: =IF(L22<>"",IF(L22<=8,2.65,2.99),"") | O22: =IF(N22<>"",IF(N22<=8,2.65,2.99),"") | Q22: =IF(P22<>"",IF(P22<=8,2.65,2.99),"") | S22: =IF(R22<>"",IF(R22<=8,2.65,2.99),"") | U22: =IF(T22<>"",IF(T22<=8,2.65,2.99),"") | W22: =IF(V22<>"",IF(V22<=8,2.65,2.99),"") | Y22: =IF(X22<>"",IF(X22<=8,2.65,2.99),"") | AA22: =IF(Z22<>"",IF(Z22<=8,2.65,2.99),"") | AC22: =IF(AB22<>"",IF(AB22<=8,2.65,2.99),"") | AE22: =IF(AD22<>"",IF(AD22<=8,2.65,2.99),"") | AG22: =IF(AF22<>"",IF(AF22<=8,2.65,2.99),"") | AI22: =IF(AH22<>"",IF(AH22<=8,2.65,2.99),"") | AK22: =IF(AJ22<>"",IF(AJ22<=8,2.65,2.99),"") | AM22: =IF(AL22<>"",IF(AL22<=8,2.65,2.99),"") | AO22: =IF(AN22<>"",IF(AN22<=8,2.65,2.99),"") | AQ22: =IF(AP22<>"",IF(AP22<=8,2.65,2.99),"") | AS22: =IF(AR22<>"",IF(AR22<=8,2.65,2.99),"") | AU22: =IF(AT22<>"",IF(AT22<=8,2.65,2.99),"") | AW22: =IF(AV22<>"",IF(AV22<=8,2.65,2.99),"") | AY22: =IF(AX22<>"",IF(AX22<=8,2.65,2.99),"") | BA22: =IF(AZ22<>"",IF(AZ22<=8,2.65,2.99),"") | BC22: =IF(BB22<>"",IF(BB22<=8,2.65,2.99),"") | BE22: =IF(BD22<>"",IF(BD22<=8,2.65,2.99),"") | BG22: =IF(BF22<>"",IF(BF22<=8,2.65,2.99),"") | BI22: =IF(BH22<>"",IF(BH22<=8,2.65,2.99),"") | BK22: =IF(BJ22<>"",IF(BJ22<=8,2.65,2.99),"") | BL22: =B22+D22+F22+H22+J22+L22+N22+P22+R22+T22+V22+X22+Z22+AB22+AD22+AF22+AH22+AJ22+AL22+AN22+AP22+AR22+AT22+BJ22 -> 0 | BM22: =SUM(BA22,BC22,BE22,BG22,BI22,BK22,,AY22,AW22,AU22,AS22,AQ22,AO22,AM22,AK22,AI22,AG22,AE22,AC22,AA22,Y22,W22,U22,S22,Q22,O22,M22,K22,I22,G22,E22) -> 0
A23: ENFANT 4 | C23: =IF(B23<>"",IF(B23<=8,2.65,2.99),"") | E23: =IF(D23<>"",IF(D23<=8,2.65,2.99),"") | G23: =IF(F23<>"",IF(F23<=8,2.65,2.99),"") | I23: =IF(H23<>"",IF(H23<=8,2.65,2.99),"") | K23: =IF(J23<>"",IF(J23<=8,2.65,2.99),"") | M23: =IF(L23<>"",IF(L23<=8,2.65,2.99),"") | O23: =IF(N23<>"",IF(N23<=8,2.65,2.99),"") | Q23: =IF(P23<>"",IF(P23<=8,2.65,2.99),"") | S23: =IF(R23<>"",IF(R23<=8,2.65,2.99),"") | U23: =IF(T23<>"",IF(T23<=8,2.65,2.99),"") | W23: =IF(V23<>"",IF(V23<=8,2.65,2.99),"") | Y23: =IF(X23<>"",IF(X23<=8,2.65,2.99),"") | AA23: =IF(Z23<>"",IF(Z23<=8,2.65,2.99),"") | AC23: =IF(AB23<>"",IF(AB23<=8,2.65,2.99),"") | AE23: =IF(AD23<>"",IF(AD23<=8,2.65,2.99),"") | AG23: =IF(AF23<>"",IF(AF23<=8,2.65,2.99),"") | AI23: =IF(AH23<>"",IF(AH23<=8,2.65,2.99),"") | AK23: =IF(AJ23<>"",IF(AJ23<=8,2.65,2.99),"") | AM23: =IF(AL23<>"",IF(AL23<=8,2.65,2.99),"") | AO23: =IF(AN23<>"",IF(AN23<=8,2.65,2.99),"") | AQ23: =IF(AP23<>"",IF(AP23<=8,2.65,2.99),"") | AS23: =IF(AR23<>"",IF(AR23<=8,2.65,2.99),"") | AU23: =IF(AT23<>"",IF(AT23<=8,2.65,2.99),"") | AW23: =IF(AV23<>"",IF(AV23<=8,2.65,2.99),"") | AY23: =IF(AX23<>"",IF(AX23<=8,2.65,2.99),"") | BA23: =IF(AZ23<>"",IF(AZ23<=8,2.65,2.99),"") | BC23: =IF(BB23<>"",IF(BB23<=8,2.65,2.99),"") | BE23: =IF(BD23<>"",IF(BD23<=8,2.65,2.99),"") | BG23: =IF(BF23<>"",IF(BF23<=8,2.65,2.99),"") | BI23: =IF(BH23<>"",IF(BH23<=8,2.65,2.99),"") | BK23: =IF(BJ23<>"",IF(BJ23<=8,2.65,2.99),"") | BL23: =B23+D23+F23+H23+J23+L23+N23+P23+R23+T23+V23+X23+Z23+AB23+AD23+AF23+AH23+AJ23+AL23+AN23+AP23+AR23+AT23+BJ23 -> 0 | BM23: =SUM(BA23,BC23,BE23,BG23,BI23,BK23,,AY23,AW23,AU23,AS23,AQ23,AO23,AM23,AK23,AI23,AG23,AE23,AC23,AA23,Y23,W23,U23,S23,Q23,O23,M23,K23,I23,G23,E23) -> 0
A24: ENFANT 5 | C24: =IF(B24<>"",IF(B24<=8,2.65,2.99),"") | E24: =IF(D24<>"",IF(D24<=8,2.65,2.99),"") | G24: =IF(F24<>"",IF(F24<=8,2.65,2.99),"") | I24: =IF(H24<>"",IF(H24<=8,2.65,2.99),"") | K24: =IF(J24<>"",IF(J24<=8,2.65,2.99),"") | M24: =IF(L24<>"",IF(L24<=8,2.65,2.99),"") | O24: =IF(N24<>"",IF(N24<=8,2.65,2.99),"") | Q24: =IF(P24<>"",IF(P24<=8,2.65,2.99),"") | S24: =IF(R24<>"",IF(R24<=8,2.65,2.99),"") | U24: =IF(T24<>"",IF(T24<=8,2.65,2.99),"") | W24: =IF(V24<>"",IF(V24<=8,2.65,2.99),"") | Y24: =IF(X24<>"",IF(X24<=8,2.65,2.99),"") | AA24: =IF(Z24<>"",IF(Z24<=8,2.65,2.99),"") | AC24: =IF(AB24<>"",IF(AB24<=8,2.65,2.99),"") | AE24: =IF(AD24<>"",IF(AD24<=8,2.65,2.99),"") | AG24: =IF(AF24<>"",IF(AF24<=8,2.65,2.99),"") | AI24: =IF(AH24<>"",IF(AH24<=8,2.65,2.99),"") | AK24: =IF(AJ24<>"",IF(AJ24<=8,2.65,2.99),"") | AM24: =IF(AL24<>"",IF(AL24<=8,2.65,2.99),"") | AO24: =IF(AN24<>"",IF(AN24<=8,2.65,2.99),"") | AQ24: =IF(AP24<>"",IF(AP24<=8,2.65,2.99),"") | AS24: =IF(AR24<>"",IF(AR24<=8,2.65,2.99),"") | AU24: =IF(AT24<>"",IF(AT24<=8,2.65,2.99),"") | AW24: =IF(AV24<>"",IF(AV24<=8,2.65,2.99),"") | AY24: =IF(AX24<>"",IF(AX24<=8,2.65,2.99),"") | BA24: =IF(AZ24<>"",IF(AZ24<=8,2.65,2.99),"") | BC24: =IF(BB24<>"",IF(BB24<=8,2.65,2.99),"") | BE24: =IF(BD24<>"",IF(BD24<=8,2.65,2.99),"") | BG24: =IF(BF24<>"",IF(BF24<=8,2.65,2.99),"") | BI24: =IF(BH24<>"",IF(BH24<=8,2.65,2.99),"") | BK24: =IF(BJ24<>"",IF(BJ24<=8,2.65,2.99),"") | BL24: =B24+D24+F24+H24+J24+L24+N24+P24+R24+T24+V24+X24+Z24+AB24+AD24+AF24+AH24+AJ24+AL24+AN24+AP24+AR24+AT24+BJ24 -> 0 | BM24: =SUM(BA24,BC24,BE24,BG24,BI24,BK24,,AY24,AW24,AU24,AS24,AQ24,AO24,AM24,AK24,AI24,AG24,AE24,AC24,AA24,Y24,W24,U24,S24,Q24,O24,M24,K24,I24,G24,E24) -> 0
B25: =SUM(B20:B24) -> 0 | C25: =SUM(C20:C24) -> 0 | D25: =SUM(D20:D24) -> 0 | E25: =SUM(E20:E24) -> 0 | F25: =SUM(F20:F24) -> 0 | G25: =SUM(G20:G24) -> 0 | H25: =SUM(H20:H24) -> 0 | I25: =SUM(I20:I24) -> 0 | ... BM25: =SUM(BM20:BM24) -> 0
A26: MOIS DE AVRIL
B27: 42461 | D27: 42462 | F27: 42463 | H27: 42464 | J27: 42465 | L27: 42466 | N27: 42467 | P27: 42468 | R27: 42469 | T27: 42470 | V27: 42471 | X27: 42472 | Z27: 42473 | AB27: 42474 | AD27: 42475 | AF27: 42476 | AH27: 42477 | AJ27: 42478 | AL27: 42479 | AN27: 42480 | AP27: 42481 | AR27: 42482 | AT27: 42483 | AV27: 42484 | AX27: 42485 | AZ27: 42486 | BB27: 42487 | BD27: 42488 | BF27: 42489 | BH27: 42490 | BL27: TOTAL HEURES | BM27: TOTAL FRAIS ENTRETIEN
A28: ENFANT 1 | C28: =IF(B28<>"",IF(B28<=8,2.65,2.99),"") | E28: =IF(D28<>"",IF(D28<=8,2.65,2.99),"") | G28: =IF(F28<>"",IF(F28<=8,2.65,2.99),"") | I28: =IF(H28<>"",IF(H28<=8,2.65,2.99),"") | K28: =IF(J28<>"",IF(J28<=8,2.65,2.99),"") | M28: =IF(L28<>"",IF(L28<=8,2.65,2.99),"") | O28: =IF(N28<>"",IF(N28<=8,2.65,2.99),"") | Q28: =IF(P28<>"",IF(P28<=8,2.65,2.99),"") | S28: =IF(R28<>"",IF(R28<=8,2.65,2.99),"") | U28: =IF(T28<>"",IF(T28<=8,2.65,2.99),"") | W28: =IF(V28<>"",IF(V28<=8,2.65,2.99),"") | Y28: =IF(X28<>"",IF(X28<=8,2.65,2.99),"") | AA28: =IF(Z28<>"",IF(Z28<=8,2.65,2.99),"") | AC28: =IF(AB28<>"",IF(AB28<=8,2.65,2.99),"") | AE28: =IF(AD28<>"",IF(AD28<=8,2.65,2.99),"") | AG28: =IF(AF28<>"",IF(AF28<=8,2.65,2.99),"") | AI28: =IF(AH28<>"",IF(AH28<=8,2.65,2.99),"") | AK28: =IF(AJ28<>"",IF(AJ28<=8,2.65,2.99),"") | AM28: =IF(AL28<>"",IF(AL28<=8,2.65,2.99),"") | AO28: =IF(AN28<>"",IF(AN28<=8,2.65,2.99),"") | AQ28: =IF(AP28<>"",IF(AP28<=8,2.65,2.99),"") | AS28: =IF(AR28<>"",IF(AR28<=8,2.65,2.99),"") | AU28: =IF(AT28<>"",IF(AT28<=8,2.65,2.99),"") | AW28: =IF(AV28<>"",IF(AV28<=8,2.65,2.99),"") | AY28: =IF(AX28<>"",IF(AX28<=8,2.65,2.99),"") | BA28: =IF(AZ28<>"",IF(AZ28<=8,2.65,2.99),"") | BC28: =IF(BB28<>"",IF(BB28<=8,2.65,2.99),"") | BE28: =IF(BD28<>"",IF(BD28<=8,2.65,2.99),"") | BG28: =IF(BF28<>"",IF(BF28<=8,2.65,2.99),"") | BI28: =IF(BH28<>"",IF(BH28<=8,2.65,2.99),"") | BK28: =IF(BJ28<>"",IF(BJ28<=8,2.65,2.99),"") | BL28: =B28+D28+F28+H28+J28+L28+N28+P28+R28+T28+V28+X28+Z28+AB28+AD28+AF28+AH28+AJ28+AL28+AN28+AP28+AR28+AT28+BJ28 -> 0 | BM28: =SUM(BA28,BC28,BE28,BG28,BI28,BK28,,AY28,AW28,AU28,AS28,AQ28,AO28,AM28,AK28,AI28,AG28,AE28,AC28,AA28,Y28,W28,U28,S28,Q28,O28,M28,K28,I28,G28,E28) -> 0
A29: ENFANT 2 | C29: =IF(B29<>"",IF(B29<=8,2.65,2.99),"") | E29: =IF(D29<>"",IF(D29<=8,2.65,2.99),"") | G29: =IF(F29<>"",IF(F29<=8,2.65,2.99),"") | I29: =IF(H29<>"",IF(H29<=8,2.65,2.99),"") | K29: =IF(J29<>"",IF(J29<=8,2.65,2.99),"") | M29: =IF(L29<>"",IF(L29<=8,2.65,2.99),"") | O29: =IF(N29<>"",IF(N29<=8,2.65,2.99),"") | Q29: =IF(P29<>"",IF(P29<=8,2.65,2.99),"") | S29: =IF(R29<>"",IF(R29<=8,2.65,2.99),"") | U29: =IF(T29<>"",IF(T29<=8,2.65,2.99),"") | W29: =IF(V29<>"",IF(V29<=8,2.65,2.99),"") | Y29: =IF(X29<>"",IF(X29<=8,2.65,2.99),"") | AA29: =IF(Z29<>"",IF(Z29<=8,2.65,2.99),"") | AC29: =IF(AB29<>"",IF(AB29<=8,2.65,2.99),"") | AE29: =IF(AD29<>"",IF(AD29<=8,2.65,2.99),"") | AG29: =IF(AF29<>"",IF(AF29<=8,2.65,2.99),"") | AI29: =IF(AH29<>"",IF(AH29<=8,2.65,2.99),"") | AK29: =IF(AJ29<>"",IF(AJ29<=8,2.65,2.99),"") | AM29: =IF(AL29<>"",IF(AL29<=8,2.65,2.99),"") | AO29: =IF(AN29<>"",IF(AN29<=8,2.65,2.99),"") | AQ29: =IF(AP29<>"",IF(AP29<=8,2.65,2.99),"") | AS29: =IF(AR29<>"",IF(AR29<=8,2.65,2.99),"") | AU29: =IF(AT29<>"",IF(AT29<=8,2.65,2.99),"") | AW29: =IF(AV29<>"",IF(AV29<=8,2.65,2.99),"") | AY29: =IF(AX29<>"",IF(AX29<=8,2.65,2.99),"") | BA29: =IF(AZ29<>"",IF(AZ29<=8,2.65,2.99),"") | BC29: =IF(BB29<>"",IF(BB29<=8,2.65,2.99),"") | BE29: =IF(BD29<>"",IF(BD29<=8,2.65,2.99),"") | BG29: =IF(BF29<>"",IF(BF29<=8,2.65,2.99),"") | BI29: =IF(BH29<>"",IF(BH29<=8,2.65,2.99),"") | BK29: =IF(BJ29<>"",IF(BJ29<=8,2.65,2.99),"") | BL29: =B29+D29+F29+H29+J29+L29+N29+P29+R29+T29+V29+X29+Z29+AB29+AD29+AF29+AH29+AJ29+AL29+AN29+AP29+AR29+AT29+BJ29 -> 0 | BM29: =SUM(BA29,BC29,BE29,BG29,BI29,BK29,,AY29,AW29,AU29,AS29,AQ29,AO29,AM29,AK29,AI29,AG29,AE29,AC29,AA29,Y29,W29,U29,S29,Q29,O29,M29,K29,I29,G29,E29) -> 0
A30: ENFANT 3 | C30: =IF(B30<>"",IF(B30<=8,2.65,2.99),"") | E30: =IF(D30<>"",IF(D30<=8,2.65,2.99),"") | G30: =IF(F30<>"",IF(F30<=8,2.65,2.99),"") | I30: =IF(H30<>"",IF(H30<=8,2.65,2.99),"") | K30: =IF(J30<>"",IF(J30<=8,2.65,2.99),"") | M30: =IF(L30<>"",IF(L30<=8,2.65,2.99),"") | O30: =IF(N30<>"",IF(N30<=8,2.65,2.99),"") | Q30: =IF(P30<>"",IF(P30<=8,2.65,2.99),"") | S30: =IF(R30<>"",IF(R30<=8,2.65,2.99),"") | U30: =IF(T30<>"",IF(T30<=8,2.65,2.99),"") | W30: =IF(V30<>"",IF(V30<=8,2.65,2.99),"") | Y30: =IF(X30<>"",IF(X30<=8,2.65,2.99),"") | AA30: =IF(Z30<>"",IF(Z30<=8,2.65,2.99),"") | AC30: =IF(AB30<>"",IF(AB30<=8,2.65,2.99),"") | AE30: =IF(AD30<>"",IF(AD30<=8,2.65,2.99),"") | AG30: =IF(AF30<>"",IF(AF30<=8,2.65,2.99),"") | AI30: =IF(AH30<>"",IF(AH30<=8,2.65,2.99),"") | AK30: =IF(AJ30<>"",IF(AJ30<=8,2.65,2.99),"") | AM30: =IF(AL30<>"",IF(AL30<=8,2.65,2.99),"") | AO30: =IF(AN30<>"",IF(AN30<=8,2.65,2.99),"") | AQ30: =IF(AP30<>"",IF(AP30<=8,2.65,2.99),"") | AS30: =IF(AR30<>"",IF(AR30<=8,2.65,2.99),"") | AU30: =IF(AT30<>"",IF(AT30<=8,2.65,2.99),"") | AW30: =IF(AV30<>"",IF(AV30<=8,2.65,2.99),"") | AY30: =IF(AX30<>"",IF(AX30<=8,2.65,2.99),"") | BA30: =IF(AZ30<>"",IF(AZ30<=8,2.65,2.99),"") | BC30: =IF(BB30<>"",IF(BB30<=8,2.65,2.99),"") | BE30: =IF(BD30<>"",IF(BD30<=8,2.65,2.99),"") | BG30: =IF(BF30<>"",IF(BF30<=8,2.65,2.99),"") | BI30: =IF(BH30<>"",IF(BH30<=8,2.65,2.99),"") | BK30: =IF(BJ30<>"",IF(BJ30<=8,2.65,2.99),"") | BL30: =B30+D30+F30+H30+J30+L30+N30+P30+R30+T30+V30+X30+Z30+AB30+AD30+AF30+AH30+AJ30+AL30+AN30+AP30+AR30+AT30+BJ30 -> 0 | BM30: =SUM(BA30,BC30,BE30,BG30,BI30,BK30,,AY30,AW30,AU30,AS30,AQ30,AO30,AM30,AK30,AI30,AG30,AE30,AC30,AA30,Y30,W30,U30,S30,Q30,O30,M30,K30,I30,G30,E30) -> 0
A31: ENFANT 4 | C31: =IF(B31<>"",IF(B31<=8,2.65,2.99),"") | E31: =IF(D31<>"",IF(D31<=8,2.65,2.99),"") | G31: =IF(F31<>"",IF(F31<=8,2.65,2.99),"") | I31: =IF(H31<>"",IF(H31<=8,2.65,2.99),"") | K31: =IF(J31<>"",IF(J31<=8,2.65,2.99),"") | M31: =IF(L31<>"",IF(L31<=8,2.65,2.99),"") | O31: =IF(N31<>"",IF(N31<=8,2.65,2.99),"") | Q31: =IF(P31<>"",IF(P31<=8,2.65,2.99),"") | S31: =IF(R31<>"",IF(R31<=8,2.65,2.99),"") | U31: =IF(T31<>"",IF(T31<=8,2.65,2.99),"") | W31: =IF(V31<>"",IF(V31<=8,2.65,2.99),"") | Y31: =IF(X31<>"",IF(X31<=8,2.65,2.99),"") | AA31: =IF(Z31<>"",IF(Z31<=8,2.65,2.99),"") | AC31: =IF(AB31<>"",IF(AB31<=8,2.65,2.99),"") | AE31: =IF(AD31<>"",IF(AD31<=8,2.65,2.99),"") | AG31: =IF(AF31<>"",IF(AF31<=8,2.65,2.99),"") | AI31: =IF(AH31<>"",IF(AH31<=8,2.65,2.99),"") | AK31: =IF(AJ31<>"",IF(AJ31<=8,2.65,2.99),"") | AM31: =IF(AL31<>"",IF(AL31<=8,2.65,2.99),"") | AO31: =IF(AN31<>"",IF(AN31<=8,2.65,2.99),"") | AQ31: =IF(AP31<>"",IF(AP31<=8,2.65,2.99),"") | AS31: =IF(AR31<>"",IF(AR31<=8,2.65,2.99),"") | AU31: =IF(AT31<>"",IF(AT31<=8,2.65,2.99),"") | AW31: =IF(AV31<>"",IF(AV31<=8,2.65,2.99),"") | AY31: =IF(AX31<>"",IF(AX31<=8,2.65,2.99),"") | BA31: =IF(AZ31<>"",IF(AZ31<=8,2.65,2.99),"") | BC31: =IF(BB31<>"",IF(BB31<=8,2.65,2.99),"") | BE31: =IF(BD31<>"",IF(BD31<=8,2.65,2.99),"") | BG31: =IF(BF31<>"",IF(BF31<=8,2.65,2.99),"") | BI31: =IF(BH31<>"",IF(BH31<=8,2.65,2.99),"") | BK31: =IF(BJ31<>"",IF(BJ31<=8,2.65,2.99),"") | BL31: =B31+D31+F31+H31+J31+L31+N31+P31+R31+T31+V31+X31+Z31+AB31+AD31+AF31+AH31+AJ31+AL31+AN31+AP31+AR31+AT31+BJ31 -> 0 | BM31: =SUM(BA31,BC31,BE31,BG31,BI31,BK31,,AY31,AW31,AU31,AS31,AQ31,AO31,AM31,AK31,AI31,AG31,AE31,AC31,AA31,Y31,W31,U31,S31,Q31,O31,M31,K31,I31,G31,E31) -> 0
A32: ENFANT 5 | C32: =IF(B32<>"",IF(B32<=8,2.65,2.99),"") | E32: =IF(D32<>"",IF(D32<=8,2.65,2.99),"") | G32: =IF(F32<>"",IF(F32<=8,2.65,2.99),"") | I32: =IF(H32<>"",IF(H32<=8,2.65,2.99),"") | K32: =IF(J32<>"",IF(J32<=8,2.65,2.99),"") | M32: =IF(L32<>"",IF(L32<=8,2.65,2.99),"") | O32: =IF(N32<>"",IF(N32<=8,2.65,2.99),"") | Q32: =IF(P32<>"",IF(P32<=8,2.65,2.99),"") | S32: =IF(R32<>"",IF(R32<=8,2.65,2.99),"") | U32: =IF(T32<>"",IF(T32<=8,2.65,2.99),"") | W32: =IF(V32<>"",IF(V32<=8,2.65,2.99),"") | Y32: =IF(X32<>"",IF(X32<=8,2.65,2.99),"") | AA32: =IF(Z32<>"",IF(Z32<=8,2.65,2.99),"") | AC32: =IF(AB32<>"",IF(AB32<=8,2.65,2.99),"") | AE32: =IF(AD32<>"",IF(AD32<=8,2.65,2.99),"") | AG32: =IF(AF32<>"",IF(AF32<=8,2.65,2.99),"") | AI32: =IF(AH32<>"",IF(AH32<=8,2.65,2.99),"") | AK32: =IF(AJ32<>"",IF(AJ32<=8,2.65,2.99),"") | AM32: =IF(AL32<>"",IF(AL32<=8,2.65,2.99),"") | AO32: =IF(AN32<>"",IF(AN32<=8,2.65,2.99),"") | AQ32: =IF(AP32<>"",IF(AP32<=8,2.65,2.99),"") | AS32: =IF(AR32<>"",IF(AR32<=8,2.65,2.99),"") | AU32: =IF(AT32<>"",IF(AT32<=8,2.65,2.99),"") | AW32: =IF(AV32<>"",IF(AV32<=8,2.65,2.99),"") | AY32: =IF(AX32<>"",IF(AX32<=8,2.65,2.99),"") | BA32: =IF(AZ32<>"",IF(AZ32<=8,2.65,2.99),"") | BC32: =IF(BB32<>"",IF(BB32<=8,2.65,2.99),"") | BE32: =IF(BD32<>"",IF(BD32<=8,2.65,2.99),"") | BG32: =IF(BF32<>"",IF(BF32<=8,2.65,2.99),"") | BI32: =IF(BH32<>"",IF(BH32<=8,2.65,2.99),"") | BK32: =IF(BJ32<>"",IF(BJ32<=8,2.65,2.99),"") | BL32: =B32+D32+F32+H32+J32+L32+N32+P32+R32+T32+V32+X32+Z32+AB32+AD32+AF32+AH32+AJ32+AL32+AN32+AP32+AR32+AT32+BJ32 -> 0 | BM32: =SUM(BA32,BC32,BE32,BG32,BI32,BK32,,AY32,AW32,AU32,AS32,AQ32,AO32,AM32,AK32,AI32,AG32,AE32,AC32,AA32,Y32,W32,U32,S32,Q32,O32,M32,K32,I32,G32,E32) -> 0
B33: =SUM(B28:B32) -> 0 | C33: =SUM(C28:C32) -> 0 | D33: =SUM(D28:D32) -> 0 | E33: =SUM(E28:E32) -> 0 | F33: =SUM(F28:F32) -> 0 | G33: =SUM(G28:G32) -> 0 | H33: =SUM(H28:H32) -> 0 | I33: =SUM(I28:I32) -> 0 | ... BI33: =SUM(BI28:BI32) -> 0 | BL33: =SUM(BL28:BL32) -> 0 | BM33: =SUM(BM28:BM32) -> 0
A34: MOIS DE MAI
B35: 42491 | D35: 42492 | F35: 42493 | H35: 42494 | J35: 42495 | L35: 42496 | N35: 42497 | P35: 42498 | R35: 42499 | T35: 42500 | V35: 42501 | X35: 42502 | Z35: 42503 | AB35: 42504 | AD35: 42505 | AF35: 42506 | AH35: 42507 | AJ35: 42508 | AL35: 42509 | AN35: 42510 | AP35: 42511 | AR35: 42512 | AT35: 42513 | AV35: 42514 | AX35: 42515 | AZ35: 42516 | BB35: 42517 | BD35: 42518 | BF35: 42519 | BH35: 42520 | BJ35: 42521 | BL35: TOTAL HEURES | BM35: TOTAL FRAIS ENTRETIEN
A36: ENFANT 1 | C36: =IF(B36<>"",IF(B36<=8,2.65,2.99),"") | E36: =IF(D36<>"",IF(D36<=8,2.65,2.99),"") | G36: =IF(F36<>"",IF(F36<=8,2.65,2.99),"") | I36: =IF(H36<>"",IF(H36<=8,2.65,2.99),"") | K36: =IF(J36<>"",IF(J36<=8,2.65,2.99),"") | M36: =IF(L36<>"",IF(L36<=8,2.65,2.99),"") | O36: =IF(N36<>"",IF(N36<=8,2.65,2.99),"") | Q36: =IF(P36<>"",IF(P36<=8,2.65,2.99),"") | S36: =IF(R36<>"",IF(R36<=8,2.65,2.99),"") | U36: =IF(T36<>"",IF(T36<=8,2.65,2.99),"") | W36: =IF(V36<>"",IF(V36<=8,2.65,2.99),"") | Y36: =IF(X36<>"",IF(X36<=8,2.65,2.99),"") | AA36: =IF(Z36<>"",IF(Z36<=8,2.65,2.99),"") | AC36: =IF(AB36<>"",IF(AB36<=8,2.65,2.99),"") | AE36: =IF(AD36<>"",IF(AD36<=8,2.65,2.99),"") | AG36: =IF(AF36<>"",IF(AF36<=8,2.65,2.99),"") | AI36: =IF(AH36<>"",IF(AH36<=8,2.65,2.99),"") | AK36: =IF(AJ36<>"",IF(AJ36<=8,2.65,2.99),"") | AM36: =IF(AL36<>"",IF(AL36<=8,2.65,2.99),"") | AO36: =IF(AN36<>"",IF(AN36<=8,2.65,2.99),"") | AQ36: =IF(AP36<>"",IF(AP36<=8,2.65,2.99),"") | AS36: =IF(AR36<>"",IF(AR36<=8,2.65,2.99),"") | AU36: =IF(AT36<>"",IF(AT36<=8,2.65,2.99),"") | AW36: =IF(AV36<>"",IF(AV36<=8,2.65,2.99),"") | AY36: =IF(AX36<>"",IF(AX36<=8,2.65,2.99),"") | BA36: =IF(AZ36<>"",IF(AZ36<=8,2.65,2.99),"") | BC36: =IF(BB36<>"",IF(BB36<=8,2.65,2.99),"") | BE36: =IF(BD36<>"",IF(BD36<=8,2.65,2.99),"") | BG36: =IF(BF36<>"",IF(BF36<=8,2.65,2.99),"") | BI36: =IF(BH36<>"",IF(BH36<=8,2.65,2.99),"") | BK36: =IF(BJ36<>"",IF(BJ36<=8,2.65,2.99),"") | BL36: =B36+D36+F36+H36+J36+L36+N36+P36+R36+T36+V36+X36+Z36+AB36+AD36+AF36+AH36+AJ36+AL36+AN36+AP36+AR36+AT36+BJ36 -> 0 | BM36: =SUM(BA36,BC36,BE36,BG36,BI36,BK36,,AY36,AW36,AU36,AS36,AQ36,AO36,AM36,AK36,AI36,AG36,AE36,AC36,AA36,Y36,W36,U36,S36,Q36,O36,M36,K36,I36,G36,E36) -> 0
A37: ENFANT 2 | C37: =IF(B37<>"",IF(B37<=8,2.65,2.99),"") | E37: =IF(D37<>"",IF(D37<=8,2.65,2.99),"") | G37: =IF(F37<>"",IF(F37<=8,2.65,2.99),"") | I37: =IF(H37<>"",IF(H37<=8,2.65,2.99),"") | K37: =IF(J37<>"",IF(J37<=8,2.65,2.99),"") | M37: =IF(L37<>"",IF(L37<=8,2.65,2.99),"") | O37: =IF(N37<>"",IF(N37<=8,2.65,2.99),"") | Q37: =IF(P37<>"",IF(P37<=8,2.65,2.99),"") | S37: =IF(R37<>"",IF(R37<=8,2.65,2.99),"") | U37: =IF(T37<>"",IF(T37<=8,2.65,2.99),"") | W37: =IF(V37<>"",IF(V37<=8,2.65,2.99),"") | Y37: =IF(X37<>"",IF(X37<=8,2.65,2.99),"") | AA37: =IF(Z37<>"",IF(Z37<=8,2.65,2.99),"") | AC37: =IF(AB37<>"",IF(AB37<=8,2.65,2.99),"") | AE37: =IF(AD37<>"",IF(AD37<=8,2.65,2.99),"") | AG37: =IF(AF37<>"",IF(AF37<=8,2.65,2.99),"") | AI37: =IF(AH37<>"",IF(AH37<=8,2.65,2.99),"") | AK37: =IF(AJ37<>"",IF(AJ37<=8,2.65,2.99),"") | AM37: =IF(AL37<>"",IF(AL37<=8,2.65,2.99),"") | AO37: =IF(AN37<>"",IF(AN37<=8,2.65,2.99),"") | AQ37: =IF(AP37<>"",IF(AP37<=8,2.65,2.99),"") | AS37: =IF(AR37<>"",IF(AR37<=8,2.65,2.99),"") | AU37: =IF(AT37<>"",IF(AT37<=8,2.65,2.99),"") | AW37: =IF(AV37<>"",IF(AV37<=8,2.65,2.99),"") | AY37: =IF(AX37<>"",IF(AX37<=8,2.65,2.99),"") | BA37: =IF(AZ37<>"",IF(AZ37<=8,2.65,2.99),"") | BC37: =IF(BB37<>"",IF(BB37<=8,2.65,2.99),"") | BE37: =IF(BD37<>"",IF(BD37<=8,2.65,2.99),"") | BG37: =IF(BF37<>"",IF(BF37<=8,2.65,2.99),"") | BI37: =IF(BH37<>"",IF(BH37<=8,2.65,2.99),"") | BK37: =IF(BJ37<>"",IF(BJ37<=8,2.65,2.99),"") | BL37: =B37+D37+F37+H37+J37+L37+N37+P37+R37+T37+V37+X37+Z37+AB37+AD37+AF37+AH37+AJ37+AL37+AN37+AP37+AR37+AT37+BJ37 -> 0 | BM37: =SUM(BA37,BC37,BE37,BG37,BI37,BK37,,AY37,AW37,AU37,AS37,AQ37,AO37,AM37,AK37,AI37,AG37,AE37,AC37,AA37,Y37,W37,U37,S37,Q37,O37,M37,K37,I37,G37,E37) -> 0
A38: ENFANT 3 | C38: =IF(B38<>"",IF(B38<=8,2.65,2.99),"") | E38: =IF(D38<>"",IF(D38<=8,2.65,2.99),"") | G38: =IF(F38<>"",IF(F38<=8,2.65,2.99),"") | I38: =IF(H38<>"",IF(H38<=8,2.65,2.99),"") | K38: =IF(J38<>"",IF(J38<=8,2.65,2.99),"") | M38: =IF(L38<>"",IF(L38<=8,2.65,2.99),"") | O38: =IF(N38<>"",IF(N38<=8,2.65,2.99),"") | Q38: =IF(P38<>"",IF(P38<=8,2.65,2.99),"") | S38: =IF(R38<>"",IF(R38<=8,2.65,2.99),"") | U38: =IF(T38<>"",IF(T38<=8,2.65,2.99),"") | W38: =IF(V38<>"",IF(V38<=8,2.65,2.99),"") | Y38: =IF(X38<>"",IF(X38<=8,2.65,2.99),"") | AA38: =IF(Z38<>"",IF(Z38<=8,2.65,2.99),"") | AC38: =IF(AB38<>"",IF(AB38<=8,2.65,2.99),"") | AE38: =IF(AD38<>"",IF(AD38<=8,2.65,2.99),"") | AG38: =IF(AF38<>"",IF(AF38<=8,2.65,2.99),"") | AI38: =IF(AH38<>"",IF(AH38<=8,2.65,2.99),"") | AK38: =IF(AJ38<>"",IF(AJ38<=8,2.65,2.99),"") | AM38: =IF(AL38<>"",IF(AL38<=8,2.65,2.99),"") | AO38: =IF(AN38<>"",IF(AN38<=8,2.65,2.99),"") | AQ38: =IF(AP38<>"",IF(AP38<=8,2.65,2.99),"") | AS38: =IF(AR38<>"",IF(AR38<=8,2.65,2.99),"") | AU38: =IF(AT38<>"",IF(AT38<=8,2.65,2.99),"") | AW38: =IF(AV38<>"",IF(AV38<=8,2.65,2.99),"") | AY38: =IF(AX38<>"",IF(AX38<=8,2.65,2.99),"") | BA38: =IF(AZ38<>"",IF(AZ38<=8,2.65,2.99),"") | BC38: =IF(BB38<>"",IF(BB38<=8,2.65,2.99),"") | BE38: =IF(BD38<>"",IF(BD38<=8,2.65,2.99),"") | BG38: =IF(BF38<>"",IF(BF38<=8,2.65,2.99),"") | BI38: =IF(BH38<>"",IF(BH38<=8,2.65,2.99),"") | BK38: =IF(BJ38<>"",IF(BJ38<=8,2.65,2.99),"") | BL38: =B38+D38+F38+H38+J38+L38+N38+P38+R38+T38+V38+X38+Z38+AB38+AD38+AF38+AH38+AJ38+AL38+AN38+AP38+AR38+AT38+BJ38 -> 0 | BM38: =SUM(BA38,BC38,BE38,BG38,BI38,BK38,,AY38,AW38,AU38,AS38,AQ38,AO38,AM38,AK38,AI38,AG38,AE38,AC38,AA38,Y38,W38,U38,S38,Q38,O38,M38,K38,I38,G38,E38) -> 0
A39: ENFANT 4 | C39: =IF(B39<>"",IF(B39<=8,2.65,2.99),"") | E39: =IF(D39<>"",IF(D39<=8,2.65,2.99),"") | G39: =IF(F39<>"",IF(F39<=8,2.65,2.99),"") | I39: =IF(H39<>"",IF(H39<=8,2.65,2.99),"") | K39: =IF(J39<>"",IF(J39<=8,2.65,2.99),"") | M39: =IF(L39<>"",IF(L39<=8,2.65,2.99),"") | O39: =IF(N39<>"",IF(N39<=8,2.65,2.99),"") | Q39: =IF(P39<>"",IF(P39<=8,2.65,2.99),"") | S39: =IF(R39<>"",IF(R39<=8,2.65,2.99),"") | U39: =IF(T39<>"",IF(T39<=8,2.65,2.99),"") | W39: =IF(V39<>"",IF(V39<=8,2.65,2.99),"") | Y39: =IF(X39<>"",IF(X39<=8,2.65,2.99),"") | AA39: =IF(Z39<>"",IF(Z39<=8,2.65,2.99),"") | AC39: =IF(AB39<>"",IF(AB39<=8,2.65,2.99),"") | AE39: =IF(AD39<>"",IF(AD39<=8,2.65,2.99),"") | AG39: =IF(AF39<>"",IF(AF39<=8,2.65,2.99),"") | AI39: =IF(AH39<>"",IF(AH39<=8,2.65,2.99),"") | AK39: =IF(AJ39<>"",IF(AJ39<=8,2.65,2.99),"") | AM39: =IF(AL39<>"",IF(AL39<=8,2.65,2.99),"") | AO39: =IF(AN39<>"",IF(AN39<=8,2.65,2.99),"") | AQ39: =IF(AP39<>"",IF(AP39<=8,2.65,2.99),"") | AS39: =IF(AR39<>"",IF(AR39<=8,2.65,2.99),"") | AU39: =IF(AT39<>"",IF(AT39<=8,2.65,2.99),"") | AW39: =IF(AV39<>"",IF(AV39<=8,2.65,2.99),"") | AY39: =IF(AX39<>"",IF(AX39<=8,2.65,2.99),"") | BA39: =IF(AZ39<>"",IF(AZ39<=8,2.65,2.99),"") | BC39: =IF(BB39<>"",IF(BB39<=8,2.65,2.99),"") | BE39: =IF(BD39<>"",IF(BD39<=8,2.65,2.99),"") | BG39: =IF(BF39<>"",IF(BF39<=8,2.65,2.99),"") | BI39: =IF(BH39<>"",IF(BH39<=8,2.65,2.99),"") | BK39: =IF(BJ39<>"",IF(BJ39<=8,2.65,2.99),"") | BL39: =B39+D39+F39+H39+J39+L39+N39+P39+R39+T39+V39+X39+Z39+AB39+AD39+AF39+AH39+AJ39+AL39+AN39+AP39+AR39+AT39+BJ39 -> 0 | BM39: =SUM(BA39,BC39,BE39,BG39,BI39,BK39,,AY39,AW39,AU39,AS39,AQ39,AO39,AM39,AK39,AI39,AG39,AE39,AC39,AA39,Y39,W39,U39,S39,Q39,O39,M39,K39,I39,G39,E39) -> 0
A40: ENFANT 5 | C40: =IF(B40<>"",IF(B40<=8,2.65,2.99),"") | E40: =IF(D40<>"",IF(D40<=8,2.65,2.99),"") | G40: =IF(F40<>"",IF(F40<=8,2.65,2.99),"") | I40: =IF(H40<>"",IF(H40<=8,2.65,2.99),"") | K40: =IF(J40<>"",IF(J40<=8,2.65,2.99),"") | M40: =IF(L40<>"",IF(L40<=8,2.65,2.99),"") | O40: =IF(N40<>"",IF(N40<=8,2.65,2.99),"") | Q40: =IF(P40<>"",IF(P40<=8,2.65,2.99),"") | S40: =IF(R40<>"",IF(R40<=8,2.65,2.99),"") | U40: =IF(T40<>"",IF(T40<=8,2.65,2.99),"") | W40: =IF(V40<>"",IF(V40<=8,2.65,2.99),"") | Y40: =IF(X40<>"",IF(X40<=8,2.65,2.99),"") | AA40: =IF(Z40<>"",IF(Z40<=8,2.65,2.99),"") | AC40: =IF(AB40<>"",IF(AB40<=8,2.65,2.99),"") | AE40: =IF(AD40<>"",IF(AD40<=8,2.65,2.99),"") | AG40: =IF(AF40<>"",IF(AF40<=8,2.65,2.99),"") | AI40: =IF(AH40<>"",IF(AH40<=8,2.65,2.99),"") | AK40: =IF(AJ40<>"",IF(AJ40<=8,2.65,2.99),"") | AM40: =IF(AL40<>"",IF(AL40<=8,2.65,2.99),"") | AO40: =IF(AN40<>"",IF(AN40<=8,2.65,2.99),"") | AQ40: =IF(AP40<>"",IF(AP40<=8,2.65,2.99),"") | AS40: =IF(AR40<>"",IF(AR40<=8,2.65,2.99),"") | AU40: =IF(AT40<>"",IF(AT40<=8,2.65,2.99),"") | AW40: =IF(AV40<>"",IF(AV40<=8,2.65,2.99),"") | AY40: =IF(AX40<>"",IF(AX40<=8,2.65,2.99),"") | BA40: =IF(AZ40<>"",IF(AZ40<=8,2.65,2.99),"") | BC40: =IF(BB40<>"",IF(BB40<=8,2.65,2.99),"") | BE40: =IF(BD40<>"",IF(BD40<=8,2.65,2.99),"") | BG40: =IF(BF40<>"",IF(BF40<=8,2.65,2.99),"") | BI40: =IF(BH40<>"",IF(BH40<=8,2.65,2.99),"") | BK40: =IF(BJ40<>"",IF(BJ40<=8,2.65,2.99),"") | BL40: =B40+D40+F40+H40+J40+L40+N40+P40+R40+T40+V40+X40+Z40+AB40+AD40+AF40+AH40+AJ40+AL40+AN40+AP40+AR40+AT40+BJ40 -> 0 | BM40: =SUM(BA40,BC40,BE40,BG40,BI40,BK40,,AY40,AW40,AU40,AS40,AQ40,AO40,AM40,AK40,AI40,AG40,AE40,AC40,AA40,Y40,W40,U40,S40,Q40,O40,M40,K40,I40,G40,E40) -> 0
...

Sheet récap annuelle
A1: POUR DECLARATION IMPOTS
B2: salaire fiscal | C2: frais entretien | D2: repas | E2: frais km | F2: salaire total | G2: TOTAL NBRE D'HEURES SUR TOUTE L'ANNEE | H2: BASE REMUNERATION | I2: total abattement
B3: cette colonne est remplie manuellement d'après fiches de payes | C3: dans cette colonne doit apparaître le total annuel de l'enfant les drais d'entretien de l'onglet mois | D3: cette colonne est remplie manuellement | E3: cette colonne est remplie manuellement | F3: cette colonne doit être egal a salaire fiscal + entretien + repas +frais km | G3: dans cette colonne doit apparaître le nombre d'heures de présence de l'année de l'onglet mois | H3: cette colonne doit être egal à total heures par enfant (G) et multiplié par 3,60€ | I3: dans cette colonne doit être égal à salaire total (F) moins le total abattement (H)
A4: ENFANT 1 | C4: =B11 -> #VALUE! | F4: =B4+C4+D4+E4 -> #VALUE! | G4: =C11 -> 0.34027778 | H4: =G4*3.6 -> 1.225 | I4: =F4-H4 -> #VALUE!
A5: ENFANT 2 | C5: =B12 -> #VALUE! | F5: =B5+C5+D5+E5 -> #VALUE! | G5: =C12 -> 0.38888889 | H5: =G5*3.6 -> 1.4 | I5: =F5-H5 -> #VALUE!
A6: ENFANT 3 | C6: =B13 -> #VALUE! | F6: =B6+C6+D6+E6 -> #VALUE! | G6: =C13 -> 5 | H6: =G6*3.6 -> 18 | I6: =F6-H6 -> #VALUE!
A7: ENFANT 4 | C7: =B14 -> #VALUE! | F7: =B7+C7+D7+E7 -> #VALUE! | G7: =C14 -> 10 | H7: =G7*3.6 -> 36 | I7: =F7-H7 -> #VALUE!
A8: ENFANT 5 | C8: =B15 -> #VALUE! | F8: =B8+C8+D8+E8 -> #VALUE! | G8: =C15 -> 0.18055556 | H8: =G8*3.6 -> 0.65 | I8: =F8-H8 -> #VALUE!
A10: ENFANT | B10: FRAIS D'ENTRETIEN | C10: NOMBRE D'HEURES
A11: ENFANT 1 | B11: ='les mois'!BM4+'les mois'!BM12+'les mois'!BM20+'les mois'!BM28+'les mois'!BM36+'les mois'!BM44+'les mois'!BM52+'les mois'!BM60+'les mois'!BM68+'les mois'!BM76+'les mois'!BM84+'les mois'!BM92 -> #VALUE! | C11: ='les mois'!BL4+'les mois'!BL12+'les mois'!BL20+'les mois'!BL28+'les mois'!BL36+'les mois'!BL44+'les mois'!BL52+'les mois'!BL60+'les mois'!BL68+'les mois'!BL76+'les mois'!BL84+'les mois'!BL92 -> 0.34027778
A12: ENFANT 2 | B12: ='les mois'!BM93+'les mois'!BM85+'les mois'!BM77+'les mois'!BM69+'les mois'!BM61+'les mois'!BM53+'les mois'!BM45+'les mois'!BM37+'les mois'!BM29+'les mois'!BM21+'les mois'!BM13+'les mois'!BM5 -> #VALUE! | C12: ='les mois'!BL93+'les mois'!BL85+'les mois'!BL77+'les mois'!BL69+'les mois'!BL61+'les mois'!BL53+'les mois'!BL45+'les mois'!BL37+'les mois'!BL29+'les mois'!BL21+'les mois'!BL13+'les mois'!BL5 -> 0.38888889
A13: ENFANT 3 | B13: ='les mois'!BM6+'les mois'!BM14+'les mois'!BM22+'les mois'!BM30+'les mois'!BM38+'les mois'!BM46+'les mois'!BM54+'les mois'!BM62+'les mois'!BM70+'les mois'!BM78+'les mois'!BM86+'les mois'!BM94 -> #VALUE! | C13: ='les mois'!BL6+'les mois'!BL14+'les mois'!BL22+'les mois'!BL30+'les mois'!BL38+'les mois'!BL46+'les mois'!BL54+'les mois'!BL62+'les mois'!BL70+'les mois'!BL78+'les mois'!BL86+'les mois'!BL94 -> 5
A14: ENFANT 4 | B14: ='les mois'!BM95+'les mois'!BM87+'les mois'!BM79+'les mois'!BM71+'les mois'!BM63+'les mois'!BM55+'les mois'!BM47+'les mois'!BM39+'les mois'!BM31+'les mois'!BM23+'les mois'!BM15+'les mois'!BM7 -> #VALUE! | C14: ='les mois'!BL95+'les mois'!BL87+'les mois'!BL79+'les mois'!BL71+'les mois'!BL63+'les mois'!BL55+'les mois'!BL47+'les mois'!BL39+'les mois'!BL31+'les mois'!BL23+'les mois'!BL15+'les mois'!BL7 -> 10
A15: ENFANT 5 | B15: ='les mois'!BM96+'les mois'!BM88+'les mois'!BM80+'les mois'!BM72+'les mois'!BM64+'les mois'!BM56+'les mois'!BM48+'les mois'!BM40+'les mois'!BM32+'les mois'!BM24+'les mois'!BM16+'les mois'!BM8 -> #VALUE! | C15: ='les mois'!BL8+'les mois'!BL16+'les mois'!BL24+'les mois'!BL32+'les mois'!BL40+'les mois'!BL48+'les mois'!BL56+'les mois'!BL64+'les mois'!BL72+'les mois'!BL80+'les mois'!BL88+'les mois'!BL96 -> 0.18055556

Sheet Feuil3
