Workbook

Sheet les mois
A1: 2016
A2: MOIS DE JANVIER
B3: 42370 | D3: 42371 | F3: 42372 | H3: 42373 | J3: 42374 | L3: 42375 | N3: 42376 | P3: 42377 | R3: 42378 | T3: 42379 | V3: 42380 | X3: 42381 | Z3: 42382 | AB3: 42383 | AD3: 42384 | AF3: 42385 | AH3: 42386 | AJ3: 42387 | AL3: 42388 | AN3: 42389 | AP3: 42390 | AR3: 42391 | AT3: 42392 | AV3: 42393 | AX3: 42394 | AZ3: 42395 | BB3: 42396 | BD3: 42397 | BF3: 42398 | BH3: 42399 | BJ3: 42400 | BL3: TOTAL HEURES | BM3: TOTAL FRAIS ENTRETIEN | BO3: mon problème se trouve ici : si les heures sont notées en 1 seul chiffre le calcul est bon mais s'il y a des minutes alors le montant est de 2,65€ tout le temps
A4: ENFANT 1 | B4: 0.34027778 | C4: =IF(B4<>"",IF(B4<=8,2.65,2.99),"") -> 2.65 | E4: =IF(D4<>"",IF(D4<=8,2.65,2.99),"") | G4: =IF(F4<>"",IF(F4<=8,2.65,2.99),"") | I4: =IF(H4<>"",IF(H4<=8,2.65,2.99),"") | K4: =IF(J4<>"",IF(J4<=8,2.65,2.99),"") | M4: =IF(L4<>"",IF(L4<=8,2.65,2.99),"") | O4: =IF(N4<>"",IF(N4<=8,2.65,2.99),"") | Q4: =IF(P4<>"",IF(P4<=8,2.65,2.99),"") | S4: =IF(R4<>"",IF(R4<=8,2.65,2.99),"") | U4: =IF(T4<>"",IF(T4<=8,2.65,2.99),"") | W4: =IF(V4<>"",IF(V4<=8,2.65,2.99),"") | Y4: =IF(X4<>"",IF(X4<=8,2.65,2.99),"") | AA4: =IF(Z4<>"",IF(Z4<=8,2.65,2.99),"") | AC4: =IF(AB4<>"",IF(AB4<=8,2.65,2.99),"") | AE4: =IF(AD4<>"",IF(AD4<=8,2.65,2.99),"") | AG4: =IF(AF4<>"",IF(AF4<=8,2.65,2.99),"") | AI4: =IF(AH4<>"",IF(AH4<=8,2.65,2.99),"") | AK4: =IF(AJ4<>"",IF(AJ4<=8,2.65,2.99),"") | AM4: =IF(AL4<>"",IF(AL4<=8,2.65,2.99),"") | AO4: =IF(AN4<>"",IF(AN4<=8,2.65,2.99),"") | AQ4: =IF(AP4<>"",IF(AP4<=8,2.65,2.99),"") | AS4: =IF(AR4<>"",IF(AR4<=8,2.65,2.99),"") | AU4: =IF(AT4<>"",IF(AT4<=8,2.65,2.99),"") | AW4: =IF(AV4<>"",IF(AV4<=8,2.65,2.99),"") | AY4: =IF(AX4<>"",IF(AX4<=8,2.65,2.99),"") | BA4: =IF(AZ4<>"",IF(AZ4<=8,2.65,2.99),"") | BC4: =IF(BB4<>"",IF(BB4<=8,2.65,2.99),"") | BE4: =IF(BD4<>"",IF(BD4<=8,2.65,2.99),"") | BG4: =IF(BF4<>"",IF(BF4<=8,2.65,2.99),"") | BI4: =IF(BH4<>"",IF(BH4<=8,2.65,2.99),"") | BK4: =IF(BJ4<>"",IF(BJ4<=8,2.65,2.99),"") | BL4: =B4+D4+F4+H4+J4+L4+N4+P4+R4+T4+V4+X4+Z4+AB4+AD4+AF4+AH4+AJ4+AL4+AN4+AP4+AR4+AT4+BJ4 -> 0.34027778 | BM4: =SUM(BA4,BC4,BE4,BG4,BI4,BK4,,AY4,AW4,AU4,AS4,AQ4,AO4,AM4,AK4,AI4,AG4,AE4,AC4,AA4,Y4,W4,U4,S4,Q4,O4,M4,K4,I4,G4,E4+C4) -> #VALUE!
A5: ENFANT 2 | B5: 0.38888889 | C5: =IF(B5<>"",IF(B5<=8,2.65,2.99),"") -> 2.65 | E5: =IF(D5<>"",IF(D5<=8,2.65,2.99),"") | G5: =IF(F5<>"",IF(F5<=8,2.65,2.99),"") | I5: =IF(H5<>"",IF(H5<=8,2.65,2.99),"") | K5: =IF(J5<>"",IF(J5<=8,2.65,2.99),"") | M5: =IF(L5<>"",IF(L5<=8,2.65,2.99),"") | O5: =IF(N5<>"",IF(N5<=8,2.65,2.99),"") | Q5: =IF(P5<>"",IF(P5<=8,2.65,2.99),"") | S5: =IF(R5<>"",IF(R5<=8,2.65,2.99),"") | U5: =IF(T5<>"",IF(T5<=8,2.65,2.99),"") | W5: =IF(V5<>"",IF(V5<=8,2.65,2.99),"") | Y5: =IF(X5<>"",IF(X5<=8,2.65,2.99),"") | AA5: =IF(Z5<>"",IF(Z5<=8,2.65,2.99),"") | AC5: =IF(AB5<>"",IF(AB5<=8,2.65,2.99),"") | AE5: =IF(AD5<>"",IF(AD5<=8,2.65,2.99),"") | AG5: =IF(AF5<>"",IF(AF5<=8,2.65,2.99),"") | AI5: =IF(AH5<>"",IF(AH5<=8,2.65,2.99),"") | AK5: =IF(AJ5<>"",IF(AJ5<=8,2.65,2.99),"") | AM5: =IF(AL5<>"",IF(AL5<=8,2.65,2.99),"") | AO5: =IF(AN5<>"",IF(AN5<=8,2.65,2.99),"") | AQ5: =IF(AP5<>"",IF(AP5<=8,2.65,2.99),"") | AS5: =IF(AR5<>"",IF(AR5<=8,2.65,2.99),"") | AU5: =IF(AT5<>"",IF(AT5<=8,2.65,2.99),"") | AW5: =IF(AV5<>"",IF(AV5<=8,2.65,2.99),"") | AY5: =IF(AX5<>"",IF(AX5<=8,2.65,2.99),"") | BA5: =IF(AZ5<>"",IF(AZ5<=8,2.65,2.99),"") | BC5: =IF(BB5<>"",IF(BB5<=8,2.65,2.99),"") | BE5: =IF(BD5<>"",IF(BD5<=8,2.65,2.99),"") | BG5: =IF(BF5<>"",IF(BF5<=8,2.65,2.99),"") | BI5: =IF(BH5<>"",IF(BH5<=8,2.65,2.99),"") | BK5: =IF(BJ5<>"",IF(BJ5<=8,2.65,2.99),"") | BL5: =B5+D5+F5+H5+J5+L5+N5+P5+R5+T5+V5+X5+Z5+AB5+AD5+AF5+AH5+AJ5+AL5+AN5+AP5+AR5+AT5+BJ5 -> 0.38888889 | BM5: =SUM(BA5,BC5,BE5,BG5,BI5,BK5,,AY5,AW5,AU5,AS5,AQ5,AO5,AM5,AK5,AI5,AG5,AE5,AC5,AA5,Y5,W5,U5,S5,Q5,O5,M5,K5,I5,G5,E5+C5) -> #VALUE!
A6: ENFANT 3 | B6: 5 | C6: =IF(B6<>"",IF(B6<=8,2.65,2.99),"") -> 2.65 | E6: =IF(D6<>"",IF(D6<=8,2.65,2.99),"") | G6: =IF(F6<>"",IF(F6<=8,2.65,2.99),"") | I6: =IF(H6<>"",IF(H6<=8,2.65,2.99),"") | K6: =IF(J6<>"",IF(J6<=8,2.65,2.99),"") | M6: =IF(L6<>"",IF(L6<=8,2.65,2.99),"") | O6: =IF(N6<>"",IF(N6<=8,2.65,2.99),"") | Q6: =IF(P6<>"",IF(P6<=8,2.65,2.99),"") | S6: =IF(R6<>"",IF(R6<=8,2.65,2.99),"") | U6: =IF(T6<>"",IF(T6<=8,2.65,2.99),"") | W6: =IF(V6<>"",IF(V6<=8,2.65,2.99),"") | Y6: =IF(X6<>"",IF(X6<=8,2.65,2.99),"") | AA6: =IF(Z6<>"",IF(Z6<=8,2.65,2.99),"") | AC6: =IF(AB6<>"",IF(AB6<=8,2.65,2.99),"") | AE6: =IF(AD6<>"",IF(AD6<=8,2.65,2.99),"") | AG6: =IF(AF6<>"",IF(AF6<=8,2.65,2.99),"") | AI6: =IF(AH6<>"",IF(AH6<=8,2.65,2.99),"") | AK6: =IF(AJ6<>"",IF(AJ6<=8,2.65,2.99),"") | AM6: =IF(AL6<>"",IF(AL6<=8,2.65,2.99),"") | AO6: =IF(AN6<>"",IF(AN6<=8,2.65,2.99),"") | AQ6: =IF(AP6<>"",IF(AP6<=8,2.65,2.99),"") | AS6: =IF(AR6<>"",IF(AR6<=8,2.65,2.99),"") | AU6: =IF(AT6<>"",IF(AT6<=8,2.65,2.99),"") | AW6: =IF(AV6<>"",IF(AV6<=8,2.65,2.99),"") | AY6: =IF(AX6<>"",IF(AX6<=8,2.65,2.99),"") | BA6: =IF(AZ6<>"",IF(AZ6<=8,2.65,2.99),"") | BC6: =IF(BB6<>"",IF(BB6<=8,2.65,2.99),"") | BE6: =IF(BD6<>"",IF(BD6<=8,2.65,2.99),"") | BG6: =IF(BF6<>"",IF(BF6<=8,2.65,2.99),"") | BI6: =IF(BH6<>"",IF(BH6<=8,2.65,2.99),"") | BK6: =IF(BJ6<>"",IF(BJ6<=8,2.65,2.99),"") | BL6: =B6+D6+F6+H6+J6+L6+N6+P6+R6+T6+V6+X6+Z6+AB6+AD6+AF6+AH6+AJ6+AL6+AN6+AP6+AR6+AT6+BJ6 -> 5 | BM6: =SUM(BA6,BC6,BE6,BG6,BI6,BK6,,AY6,AW6,AU6,AS6,AQ6,AO6,AM6,AK6,AI6,AG6,AE6,AC6,AA6,Y6,W6,U6,S6,Q6,O6,M6,K6,I6,G6,E6+C6) -> #VALUE!
A7: ENFANT 4 | B7: 10 | C7: =IF(B7<>"",IF(B7<=8,2.65,2.99),"") -> 2.99 | E7: =IF(D7<>"",IF(D7<=8,2.65,2.99),"") | G7: =IF(F7<>"",IF(F7<=8,2.65,2.99),"") | I7: =IF(H7<>"",IF(H7<=8,2.65,2.99),"") | K7: =IF(J7<>"",IF(J7<=8,2.65,2.99),"") | M7: =IF(L7<>"",IF(L7<=8,2.65,2.99),"") | O7: =IF(N7<>"",IF(N7<=8,2.65,2.99),"") | Q7: =IF(P7<>"",IF(P7<=8,2.65,2.99),"") | S7: =IF(R7<>"",IF(R7<=8,2.65,2.99),"") | U7: =IF(T7<>"",IF(T7<=8,2.65,2.99),"") | W7: =IF(V7<>"",IF(V7<=8,2.65,2.99),"") | Y7: =IF(X7<>"",IF(X7<=8,2.65,2.99),"") | AA7: =IF(Z7<>"",IF(Z7<=8,2.65,2.99),"") | AC7: =IF(AB7<>"",IF(AB7<=8,2.65,2.99),"") | AE7: =IF(AD7<>"",IF(AD7<=8,2.65,2.99),"") | AG7: =IF(AF7<>"",IF(AF7<=8,2.65,2.99),"") | AI7: =IF(AH7<>"",IF(AH7<=8,2.65,2.99),"") | AK7: =IF(AJ7<>"",IF(AJ7<=8,2.65,2.99),"") | AM7: =IF(AL7<>"",IF(AL7<=8,2.65,2.99),"") | AO7: =IF(AN7<>"",IF(AN7<=8,2.65,2.99),"") | AQ7: =IF(AP7<>"",IF(AP7<=8,2.65,2.99),"") | AS7: =IF(AR7<>"",IF(AR7<=8,2.65,2.99),"") | AU7: =IF(AT7<>"",IF(AT7<=8,2.65,2.99),"") | AW7: =IF(AV7<>"",IF(AV7<=8,2.65,2.99),"") | AY7: =IF(AX7<>"",IF(AX7<=8,2.65,2.99),"") | BA7: =IF(AZ7<>"",IF(AZ7<=8,2.65,2.99),"") | BC7: =IF(BB7<>"",IF(BB7<=8,2.65,2.99),"") | BE7: =IF(BD7<>"",IF(BD7<=8,2.65,2.99),"") | BG7: =IF(BF7<>"",IF(BF7<=8,2.65,2.99),"") | BI7: =IF(BH7<>"",IF(BH7<=8,2.65,2.99),"") | BK7: =IF(BJ7<>"",IF(BJ7<=8,2.65,2.99),"") | BL7: =B7+D7+F7+H7+J7+L7+N7+P7+R7+T7+V7+X7+Z7+AB7+AD7+AF7+AH7+AJ7+AL7+AN7+AP7+AR7+AT7+BJ7 -> 10 | BM7: =SUM(BA7,BC7,BE7,BG7,BI7,BK7,,AY7,AW7,AU7,AS7,AQ7,AO7,AM7,AK7,AI7,AG7,AE7,AC7,AA7,Y7,W7,U7,S7,Q7,O7,M7,K7,I7,G7,E7+C7) -> #VALUE!
A8: ENFANT 5 | B8: 0.18055556 | C8: =IF(B8<>"",IF(B8<=8,2.65,2.99),"") -> 2.65 | E8: =IF(D8<>"",IF(D8<=8,2.65,2.99),"") | G8: =IF(F8<>"",IF(F8<=8,2.65,2.99),"") | I8: =IF(H8<>"",IF(H8<=8,2.65,2.99),"") | K8: =IF(J8<>"",IF(J8<=8,2.65,2.99),"") | M8: =IF(L8<>"",IF(L8<=8,2.65,2.99),"") | O8: =IF(N8<>"",IF(N8<=8,2.65,2.99),"") | Q8: =IF(P8<>"",IF(P8<=8,2.65,2.99),"") | S8: =IF(R8<>"",IF(R8<=8,2.65,2.99),"") | U8: =IF(T8<>"",IF(T8<=8,2.65,2.99),"") | W8: =IF(V8<>"",IF(V8<=8,2.65,2.99),"") | Y8: =IF(X8<>"",IF(X8<=8,2.65,2.99),"") | AA8: =IF(Z8<>"",IF(Z8<=8,2.65,2.99),"") | AC8: =IF(AB8<>"",IF(AB8<=8,2.65,2.99),"") | AE8: =IF(AD8<>"",IF(AD8<=8,2.65,2.99),"") | AG8: =IF(AF8<>"",IF(AF8<=8,2.65,2.99),"") | AI8: =IF(AH8<>"",IF(AH8<=8,2.65,2.99),"") | AK8: =IF(AJ8<>"",IF(AJ8<=8,2.65,2.99),"") | AM8: =IF(AL8<>"",IF(AL8<=8,2.65,2.99),"") | AO8: =IF(AN8<>"",IF(AN8<=8,2.65,2.99),"") | AQ8: =IF(AP8<>"",IF(AP8<=8,2.65,2.99),"") | AS8: =IF(AR8<>"",IF(AR8<=8,2.65,2.99),"") | AU8: =IF(AT8<>"",IF(AT8<=8,2.65,2.99),"") | AW8: =IF(AV8<>"",IF(AV8<=8,2.65,2.99),"") | AY8: =IF(AX8<>"",IF(AX8<=8,2.65,2.99),"") | BA8: =IF(AZ8<>"",IF(AZ8<=8,2.65,2.99),"") | BC8: =IF(BB8<>"",IF(BB8<=8,2.65,2.99),"") | BE8: =IF(BD8<>"",IF(BD8<=8,2.65,2.99),"") | BG8: =IF(BF8<>"",IF(BF8<=8,2.65,2.99),"") | BI8: =IF(BH8<>"",IF(BH8<=8,2.65,2.99),"") | BK8: =IF(BJ8<>"",IF(BJ8<=8,2.65,2.99),"") | BL8: =B8+D8+F8+H8+J8+L8+N8+P8+R8+T8+V8+X8+Z8+AB8+AD8+AF8+AH8+AJ8+AL8+AN8+AP8+AR8+AT8+BJ8 -> 0.18055556 | BM8: =SUM(BA8,BC8,BE8,BG8,BI8,BK8,,AY8,AW8,AU8,AS8,AQ8,AO8,AM8,AK8,AI8,AG8,AE8,AC8,AA8,Y8,W8,U8,S8,Q8,O8,M8,K8,I8,G8,E8+C8) -> #VALUE!
B9: =SUM(B4:B8) -> 15.909722 | C9: =SUM(C4:C8) -> 13.59 | D9: =SUM(D4:D8) -> 0 | E9: =SUM(E4:E8) -> 0 | F9: =SUM(F4:F8) -> 0 | G9: =SUM(G4:G8) -> 0 | H9: =SUM(H4:H8) -> 0 | I9: =SUM(I4:I8) -> 0 | ... BM9: =SUM(BM4:BM8) -> #VALUE!
A10: MOIS DE FEVRIER
B11: 42401 | D11: 42402 | F11: 42403 | H11: 42404 | J11: 42405 | L11: 42406 | N11: 42407 | P11: 42408 | R11: 42409 | T11: 42410 | V11: 42411 | X11: 42412 | Z11: 42413 | AB11: 42414 | AD11: 42415 | AF11: 42416 | AH11: 42417 | AJ11: 42418 | AL11: 42419 | AN11: 42420 | AP11: 42421 | AR11: 42422 | AT11: 42423 | AV11: 42424 | AX11: 42425 | AZ11: 42426 | BB11: 42427 | BD11: 42428 | BF11: 42429 | BL11: TOTAL HEURES | BM11: TOTAL FRAIS ENTRETIEN | BO11: dans les cellules b4 à b8 : apparaissent les heures effectuées
A12: ENFANT 1 | C12: =IF(B12<>"",IF(B12<=8,2.65,2.99),"") | E12: =IF(D12<>"",IF(D12<=8,2.65,2.99),"") | G12: =IF(F12<>"",IF(F12<=8,2.65,2.99),"") | I12: =IF(H12<>"",IF(H12<=8,2.65,2.99),"") | K12: =IF(J12<>"",IF(J12<=8,2.65,2.99),"") | M12: =IF(L12<>"",IF(L12<=8,2.65,2.99),"") | O12: =IF(N12<>"",IF(N12<=8,2.65,2.99),"") | Q12: =IF(P12<>"",IF(P12<=8,2.65,2.99),"") | S12: =IF(R12<>"",IF(R12<=8,2.65,2.99),"") | U12: =IF(T12<>"",IF(T12<=8,2.65,2.99),"") | W12: =IF(V12<>"",IF(V12<=8,2.65,2.99),"") | Y12: =IF(X12<>"",IF(X12<=8,2.65,2.99),"") | AA12: =IF(Z12<>"",IF(Z12<=8,2.65,2.99),"") | AC12: =IF(AB12<>"",IF(AB12<=8,2.65,2.99),"") | AE12: =IF(AD12<>"",IF(AD12<=8,2.65,2.99),"") | AG12: =IF(AF12<>"",IF(AF12<=8,2.65,2.99),"") | AI12: =IF(AH12<>"",IF(AH12<=8,2.65,2.99),"") | AK12: =IF(AJ12<>"",IF(AJ12<=8,2.65,2.99),"") | AM12: =IF(AL12<>"",IF(AL12<=8,2.65,2.99),"") | AO12: =IF(AN12<>"",IF(AN12<=8,2.65,2.99),"") | AQ12: =IF(AP12<>"",IF(AP12<=8,2.65,2.99),"") | AS12: =IF(AR12<>"",IF(AR12<=8,2.65,2.99),"") | AU12: =IF(AT12<>"",IF(AT12<=8,2.65,2.99),"") | AW12: =IF(AV12<>"",IF(AV12<=8,2.65,2.99),"") | AY12: =IF(AX12<>"",IF(AX12<=8,2.65,2.99),"") | BA12: =IF(AZ12<>"",IF(AZ12<=8,2.65,2.99),"") | BC12: =IF(BB12<>"",IF(BB12<=8,2.65,2.99),"") | BE12: =IF(BD12<>"",IF(BD12<=8,2.65,2.99),"") | BG12: =IF(BF12<>"",IF(BF12<=8,2.65,2.99),"") | BI12: =IF(BH12<>"",IF(BH12<=8,2.65,2.99),"") | BK12: =IF(BJ12<>"",IF(BJ12<=8,2.65,2.99),"") | BL12: =B12+D12+F12+H12+J12+L12+N12+P12+R12+T12+V12+X12+Z12+AB12+AD12+AF12+AH12+AJ12+AL12+AN12+AP12+AR12+AT12+BJ12 -> 0 | BM12: =SUM(BA12,BC12,BE12,BG12,BI12,BK12,,AY12,AW12,AU12,AS12,AQ12,AO12,AM12,AK12,AI12,AG12,AE12,AC12,AA12,Y12,W12,U12,S12,Q12,O12,M12,K12,I12,G12,E12) -> 0
A13: ENFANT 2 | C13: =IF(B13<>"",IF(B13<=8,2.65,2.99),"") | E13: =IF(D13<>"",IF(D13<=8,2.65,2.99),"") | G13: =IF(F13<>"",IF(F13<=8,2.65,2.99),"") | I13: =IF(H13<>"",IF(H13<=8,2.65,2.99),"") | K13: =IF(J13<>"",IF(J13<=8,2.65,2.99),"") | M13: =IF(L13<>"",IF(L13<=8,2.65,2.99),"") | O13: =IF(N13<>"",IF(N13<=8,2.65,2.99),"") | Q13: =IF(P13<>"",IF(P13<=8,2.65,2.99),"") | S13: =IF(R13<>"",IF(R13<=8,2.65,2.99),"") | U13: =IF(T13<>"",IF(T13<=8,2.65,2.99),"") | W13: =IF(V13<>"",IF(V13<=8,2.65,2.99),"") | Y13: =IF(X13<>"",IF(X13<=8,2.65,2.99),"") | AA13: =IF(Z13<>"",IF(Z13<=8,2.65,2.99),"") | AC13: =IF(AB13<>"",IF(AB13<=8,2.65,2.99),"") | AE13: =IF(AD13<>"",IF(AD13<=8,2.65,2.99),"") | AG13: =IF(AF13<>"",IF(AF13<=8,2.65,2.99),"") | AI13: =IF(AH13<>"",IF(AH13<=8,2.65,2.99),"") | AK13: =IF(AJ13<>"",IF(AJ13<=8,2.65,2.99),"") | AM13: =IF(AL13<>"",IF(AL13<=8,2.65,2.99),"") | AO13: =IF(AN13<>"",IF(AN13<=8,2.65,2.99),"") | AQ13: =IF(AP13<>"",IF(AP13<=8,2.65,2.99),"") | AS13: =IF(AR13<>"",IF(AR13<=8,2.65,2.99),"") | AU13: =IF(AT13<>"",IF(AT13<=8,2.65,2.99),"") | AW13: =IF(AV13<>"",IF(AV13<=8,2.65,2.99),"") | AY13: =IF(AX13<>"",IF(AX13<=8,2.65,2.99),"") | BA13: =IF(AZ13<>"",IF(AZ13<=8,2.65,2.99),"") | BC13: =IF(BB13<>"",IF(BB13<=8,2.65,2.99),"") | BE13: =IF(BD13<>"",IF(BD13<=8,2.65,2.99),"") | BG13: =IF(BF13<>"",IF(BF13<=8,2.65,2.99),"") | BI13: =IF(BH13<>"",IF(BH13<=8,2.65,2.99),"") | BK13: =IF(BJ13<>"",IF(BJ13<=8,2.65,2.99),"") | BL13: =B13+D13+F13+H13+J13+L13+N13+P13+R13+T13+V13+X13+Z13+AB13+AD13+AF13+AH13+AJ13+AL13+AN13+AP13+AR13+AT13+BJ13 -> 0 | BM13: =SUM(BA13,BC13,BE13,BG13,BI13,BK13,,AY13,AW13,AU13,AS13,AQ13,AO13,AM13,AK13,AI13,AG13,AE13,AC13,AA13,Y13,W13,U13,S13,Q13,O13,M13,K13,I13,G13,E13) -> 0
A14: ENFANT 3 | C14: =IF(B14<>"",IF(B14<=8,2.65,2.99),"") | E14: =IF(D14<>"",IF(D14<=8,2.65,2.99),"") | G14: =IF(F14<>"",IF(F14<=8,2.65,2.99),"") | I14: =IF(H14<>"",IF(H14<=8,2.65,2.99),"") | K14: =IF(J14<>"",IF(J14<=8,2.65,2.99),"") | M14: =IF(L14<>"",IF(L14<=8,2.65,2.99),"") | O14: =IF(N14<>"",IF(N14<=8,2.65,2.99),"") | Q14: =IF(P14<>"",IF(P14<=8,2.65,2.99),"") | S14: =IF(R14<>"",IF(R14<=8,2.65,2.99),"") | U14: =IF(T14<>"",IF(T14<=8,2.65,2.99),"") | W14: =IF(V14<>"",IF(V14<=8,2.65,2.99),"") | Y14: =IF(X14<>"",IF(X14<=8,2.65,2.99),"") | AA14: =IF(Z14<>"",IF(Z14<=8,2.65,2.99),"") | AC14: =IF(AB14<>"",IF(AB14<=8,2.65,2.99),"") | AE14: =IF(AD14<>"",IF(AD14<=8,2.65,2.99),"") | AG14: =IF(AF14<>"",IF(AF14<=8,2.65,2.99),"") | AI14: =IF(AH14<>"",IF(AH14<=8,2.65,2.99),"") | AK14: =IF(AJ14<>"",IF(AJ14<=8,2.65,2.99),"") | AM14: =IF(AL14<>"",IF(AL14<=8,2.65,2.99),"") | AO14: =IF(AN14<>"",IF(AN14<=8,2.65,2.99),"") | AQ14: =IF(AP14<>"",IF(AP14<=8,2.65,2.99),"") | AS14: =IF(AR14<>"",IF(AR14<=8,2.65,2.99),"") | AU14: =IF(AT14<>"",IF(AT14<=8,2.65,2.99),"") | AW14: =IF(AV14<>"",IF(AV14<=8,2.65,2.99),"") | AY14: =IF(AX14<>"",IF(AX14<=8,2.65,2.99),"") | BA14: =IF(AZ14<>"",IF(AZ14<=8,2.65,2.99),"") | BC14: =IF(BB14<>"",IF(BB14<=8,2.65,2.99),"") | BE14: =IF(BD14<>"",IF(BD14<=8,2.65,2.99),"") | BG14: =IF(BF14<>"",IF(BF14<=8,2.65,2.99),"") | BI14: =IF(BH14<>"",IF(BH14<=8,2.65,2.99),"") | BK14: =IF(BJ14<>"",IF(BJ14<=8,2.65,2.99),"") | BL14: =B14+D14+F14+H14+J14+L14+N14+P14+R14+T14+V14+X14+Z14+AB14+AD14+AF14+AH14+AJ14+AL14+AN14+AP14+AR14+AT14+BJ14 -> 0 | BM14: =SUM(BA14,BC14,BE14,BG14,BI14,BK14,,AY14,AW14,AU14,AS14,AQ14,AO14,AM14,AK14,AI14,AG14,AE14,AC14,AA14,Y14,W14,U14,S14,Q14,O14,M14,K14,I14,G14,E14) -> 0
A15: ENFANT 4 | C15: =IF(B15<>"",IF(B15<=8,2.65,2.99),"") | E15: =IF(D15<>"",IF(D15<=8,2.65,2.99),"") | G15: =IF(F15<>"",IF(F15<=8,2.65,2.99),"") | I15: =IF(H15<>"",IF(H15<=8,2.65,2.99),"") | K15: =IF(J15<>"",IF(J15<=8,2.65,2.99),"") | M15: =IF(L15<>"",IF(L15<=8,2.65,2.99),"") | O15: =IF(N15<>"",IF(N15<=8,2.65,2.99),"") | Q15: =IF(P15<>"",IF(P15<=8,2.65,2.99),"") | S15: =IF(R15<>"",IF(R15<=8,2.65,2.99),"") | U15: =IF(T15<>"",IF(T15<=8,2.65,2.99),"") | W15: =IF(V15<>"",IF(V15<=8,2.65,2.99),"") | Y15: =IF(X15<>"",IF(X15<=8,2.65,2.99),"") | AA15: =IF(Z15<>"",IF(Z15<=8,2.65,2.99),"") | AC15: =IF(AB15<>"",IF(AB15<=8,2.65,2.99),"") | AE15: =IF(AD15<>"",IF(AD15<=8,2.65,2.99),"") | AG15: =IF(AF15<>"",IF(AF15<=8,2.65,2.99),"") | AI15: =IF(AH15<>"",IF(AH15<=8,2.65,2.99),"") | AK15: =IF(AJ15<>"",IF(AJ15<=8,2.65,2.99),"") | AM15: =IF(AL15<>"",IF(AL15<=8,2.65,2.99),"") | AO15: =IF(AN15<>"",IF(AN15<=8,2.65,2.99),"") | AQ15: =IF(AP15<>"",IF(AP15<=8,2.65,2.99),"") | AS15: =IF(AR15<>"",IF(AR15<=8,2.65,2.99),"") | AU15: =IF(AT15<>"",IF(AT15<=8,2.65,2.99),"") | AW15: =IF(AV15<>"",IF(AV15<=8,2.65,2.99),"") | AY15: =IF(AX15<>"",IF(AX15<=8,2.65,2.99),"") | BA15: =IF(AZ15<>"",IF(AZ15<=8,2.65,2.99),"") | BC15: =IF(BB15<>"",IF(BB15<=8,2.65,2.99),"") | BE15: =IF(BD15<>"",IF(BD15<=8,2.65,2.99),"") | BG15: =IF(BF15<>"",IF(BF15<=8,2.65,2.99),"") | BI15: =IF(BH15<>"",IF(BH15<=8,2.65,2.99),"") | BK15: =IF(BJ15<>"",IF(BJ15<=8,2.65,2.99),"") | BL15: =B15+D15+F15+H15+J15+L15+N15+P15+R15+T15+V15+X15+Z15+AB15+AD15+AF15+AH15+AJ15+AL15+AN15+AP15+AR15+AT15+BJ15 -> 0 | BM15: =SUM(BA15,BC15,BE15,BG15,BI15,BK15,,AY15,AW15,AU15,AS15,AQ15,AO15,AM15,AK15,AI15,AG15,AE15,AC15,AA15,Y15,W15,U15,S15,Q15,O15,M15,K15,I15,G15,E15) -> 0 | BO15: dans les cellules c4 à c8 : si b4 à b8 inférieur ou égal à 8:00 alors 2,65€ ou sinon 2,99€
A16: ENFANT 5 | C16: =IF(B16<>"",IF(B16<=8,2.65,2.99),"") | E16: =IF(D16<>"",IF(D16<=8,2.65,2.99),"") | G16: =IF(F16<>"",IF(F16<=8,2.65,2.99),"") | I16: =IF(H16<>"",IF(H16<=8,2.65,2.99),"") | K16: =IF(J16<>"",IF(J16<=8,2.65,2.99),"") | M16: =IF(L16<>"",IF(L16<=8,2.65,2.99),"") | O16: =IF(N16<>"",IF(N16<=8,2.65,2.99),"") | Q16: =IF(P16<>"",IF(P16<=8,2.65,2.99),"") | S16: =IF(R16<>"",IF(R16<=8,2.65,2.99),"") | U16: =IF(T16<>"",IF(T16<=8,2.65,2.99),"") | W16: =IF(V16<>"",IF(V16<=8,2.65,2.99),"") | Y16: =IF(X16<>"",IF(X16<=8,2.65,2.99),"") | AA16: =IF(Z16<>"",IF(Z16<=8,2.65,2.99),"") | AC16: =IF(AB16<>"",IF(AB16<=8,2.65,2.99),"") | AE16: =IF(AD16<>"",IF(AD16<=8,2.65,2.99),"") | AG16: =IF(AF16<>"",IF(AF16<=8,2.65,2.99),"") | AI16: =IF(AH16<>"",IF(AH16<=8,2.65,2.99),"") | AK16: =IF(AJ16<>"",IF(AJ16<=8,2.65,2.99),"") | AM16: =IF(AL16<>"",IF(AL16<=8,2.65,2.99),"") | AO16: =IF(AN16<>"",IF(AN16<=8,2.65,2.99),"") | AQ16: =IF(AP16<>"",IF(AP16<=8,2.65,2.99),"") | AS16: =IF(AR16<>"",IF(AR16<=8,2.65,2.99),"") | AU16: =IF(AT16<>"",IF(AT16<=8,2.65,2.99),"") | AW16: =IF(AV16<>"",IF(AV16<=8,2.65,2.99),"") | AY16: =IF(AX16<>"",IF(AX16<=8,2.65,2.99),"") | BA16: =IF(AZ16<>"",IF(AZ16<=8,2.65,2.99),"") | BC16: =IF(BB16<>"",IF(BB16<=8,2.65,2.99),"") | BE16: =IF(BD16<>"",IF(BD16<=8,2.65,2.99),"") | BG16: =IF(BF16<>"",IF(BF16<=8,2.65,2.99),"") | BI16: =IF(BH16<>"",IF(BH16<=8,2.65,2.99),"") | BK16: =IF(BJ16<>"",IF(BJ16<=8,2.65,2.99),"") | BL16: =B16+D16+F16+H16+J16+L16+N16+P16+R16+T16+V16+X16+Z16+AB16+AD16+AF16+AH16+AJ16+AL16+AN16+AP16+AR16+AT16+BJ16 -> 0 | BM16: =SUM(BA16,BC16,BE16,BG16,BI16,BK16,,AY16,AW16,AU16,AS16,AQ16,AO16,AM16,AK16,AI16,AG16,AE16,AC16,AA16,Y16,W16,U16,S16,Q16,O16,M16,K16,I16,G16,E16) -> 0
B17: =SUM(B12:B16) -> 0 | C17: =SUM(C12:C16) -> 0 | D17: =SUM(D12:D16) -> 0 | E17: =SUM(E12:E16) -> 0 | F17: =SUM(F12:F16) -> 0 | G17: =SUM(G12:G16) -> 0 | H17: =SUM(H12:H16) -> 0 | I17: =SUM(I12:I16) -> 0 | ... BG17: =SUM(BG12:BG16) -> 0 | BL17: =SUM(BL12:BL16) -> 0 | BM17: =SUM(BM12:BM16) -> 0
A18: MOIS DE MARS
B19: 42430 | D19: 42431 | F19: 42432 | H19: 42433 | J19: 42434 | L19: 42435 | N19: 42436 | P19: 42437 | R19: 42438 | T19: 42439 | V19: 42440 | X19: 42441 | Z19: 42442 | AB19: 42443 | AD19: 42444 | AF19: 42445 | AH19: 42446 | AJ19: 42447 | AL19: 42448 | AN19: 42449 | AP19: 42450 | AR19: 42451 | AT19: 42452 | AV19: 42453 | AX19: 42454 | AZ19: 42455 | BB19: 42456 | BD19: 42457 | BF19: 42458 | BH19: 42459 | BJ19: 42460 | BL19: TOTAL HEURES | BM19: TOTAL FRAIS ENTRETIEN | BO19: aussi y a-t-il une possibilité de faire la somme de la ligne 4 mais une cellule sur 2 pour avoir le total en heures de garde par enfant en bl4 et total de frais en bm4 pour l'instant j'ai mis = et un clic dans chaque cellule avec des + il y a peut être mieux sans compter qu'à faire 70 clics possible que j'en oublie une
A20: ENFANT 1 | C20: =IF(B20<>"",IF(B20<=8,2.65,2.99),"") | E20: =IF(D20<>"",IF(D20<=8,2.65,2.99),"") | G20: =IF(F20<>"",IF(F20<=8,2.65,2.99),"") | I20: =IF(H20<>"",IF(H20<=8,2.65,2.99),"") | K20: =IF(J20<>"",IF(J20<=8,2.65,2.99),"") | M20: =IF(L20<>"",IF(L20<=8,2.65,2.99),"") | O20: =IF(N20<>"",IF(N20<=8,2.65,2.99),"") | Q20: =IF(P20<>"",IF(P20<=8,2.65,2.99),"") | S20: =IF(R20<>"",IF(R20<=8,2.65,2.99),"") | U20: =IF(T20<>"",IF(T20<=8,2.65,2.99),"") | W20: =IF(V20<>"",IF(V20<=8,2.65,2.99),"") | Y20: =IF(X20<>"",IF(X20<=8,2.65,2.99),"") | AA20: =IF(Z20<>"",IF(Z20<=8,2.65,2.99),"") | AC20: =IF(AB20<>"",IF(AB20<=8,2.65,2.99),"") | AE20: =IF(AD20<>"",IF(AD20<=8,2.65,2.99),"") | AG20: =IF(AF20<>"",IF(AF20<=8,2.65,2.99),"") | AI20: =IF(AH20<>"",IF(AH20<=8,2.65,2.99),"") | AK20: =IF(AJ20<>"",IF(AJ20<=8,2.65,2.99),"") | AM20: =IF(AL20<>"",IF(AL20<=8,2.65,2.99),"") | AO20: =IF(AN20<>"",IF(AN20<=8,2.65,2.99),"") | AQ20: =IF(AP20<>"",IF(AP20<=8,2.65,2.99),"") | AS20: =IF(AR20<>"",IF(AR20<=8,2.65,2.99),"") | AU20: =IF(AT20<>"",IF(AT20<=8,2.65,2.99),"") | AW20: =IF(AV20<>"",IF(AV20<=8,2.65,2.99),"") | AY20: =IF(AX20<>"",IF(AX20<=8,2.65,2.99),"") | BA20: =IF(AZ20<>"",IF(AZ20<=8,2.65,2.99),"") | BC20: =IF(BB20<>"",IF(BB20<=8,2.65,2.99),"") | BE20: =IF(BD20<>"",IF(BD20<=8,2.65,2.99),"") | BG20: =IF(BF20<>"",IF(BF20<=8,2.65,2.99),"") | BI20: =IF(BH20<>"",IF(BH20<=8,2.65,2.99),"") | BK20: =IF(BJ20<>"",IF(BJ20<=8,2.65,2.99),"") | BL20: =B20+D20+F20+H20+J20+L20+N20+P20+R20+T20+V20+X20+Z20+AB20+AD20+AF20+AH20+AJ20+AL20+AN20+AP20+AR20+AT20+BJ20 -> 0 | BM20: =SUM(BA20,BC20,BE20,BG20,BI20,BK20,,AY20,AW20,AU20,AS20,AQ20,AO20,AM20,AK20,AI20,AG20,AE20,AC20,AA20,Y20,W20,U20,S20,Q20,O20,M20,K20,I20,G20,E20) -> 0
A21: ENFANT 2 | C21: =IF(B21<>"",IF(B21<=8,2.65,2.99),"") | E21: =IF(D21<>"",IF(D21<=8,2.65,2.99),"") | G21: =IF(F21<>"",IF(F21<=8,2.65,2.99),"") | I21: =IF(H21<>"",IF(H21<=8,2.65,2.99),"") | K21: =IF(J21<>"",IF(J21<=8,2.65,2.99),"") | M21: =IF(L21<>"",IF(L21<=8,2.65,2.99),"") | O21: =IF(N21<>"",IF(N21<=8,2.65,2.99),"") | Q21: =IF(P21<>"",IF(P21<=8,2.65,2.99),"") | S21: =IF(R21<>"",IF(R21<=8,2.65,2.99),"") | U21: =IF(T21<>"",IF(T21<=8,2.65,2.99),"") | W21: =IF(V21<>"",IF(V21<=8,2.65,2.99),"") | Y21: =IF(X21<>"",IF(X21<=8,2.65,2.99),"") | AA21: =IF(Z21<>"",IF(Z21<=8,2.65,2.99),"") | AC21: =IF(AB21<>"",IF(AB21<=8,2.65,2.99),"") | AE21: =IF(AD21<>"",IF(AD21<=8,2.65,2.99),"") | AG21: =IF(AF21<>"",IF(AF21<=8,2.65,2.99),"") | AI21: =IF(AH21<>"",IF(AH21<=8,2.65,2.99),"") | AK21: =IF(AJ21<>"",IF(AJ21<=8,2.65,2.99),"") | AM21: =IF(AL21<>"",IF(AL21<=8,2.65,2.99),"") | AO21: =IF(AN21<>"",IF(AN21<=8,2.65,2.99),"") | AQ21: =IF(AP21<>"",IF(AP21<=8,2.65,2.99),"") | AS21: =IF(AR21<>"",IF(AR21<=8,2.65,2.99),"") | AU21: =IF(AT21<>"",IF(AT21<=8,2.65,2.99),"") | AW21: =IF(AV21<>"",IF(AV21<=8,2.65,2.99),"") | AY21: =IF(AX21<>"",IF(AX21<=8,2.65,2.99),"") | BA21: =IF(AZ21<>"",IF(AZ21<=8,2.65,2.99),"") | BC21: =IF(BB21<>"",IF(BB21<=8,2.65,2.99),"") | BE21: =IF(BD21<>"",IF(BD21<=8,2.65,2.99),"") | BG21: =IF(BF21<>"",IF(BF21<=8,2.65,2.99),"") | BI21: =IF(BH21<>"",IF(BH21<=8,2.65,2.99),"") | BK21: =IF(BJ21<>"",IF(BJ21<=8,2.65,2.99),"") | BL21: =B21+D21+F21+H21+J21+L21+N21+P21+R21+T21+V21+X21+Z21+AB21+AD21+AF21+AH21+AJ21+AL21+AN21+AP21+AR21+AT21+BJ21 -> 0 | BM21: =SUM(BA21,BC21,BE21,BG21,BI21,BK21,,AY21,AW21,AU21,AS21,AQ21,AO21,AM21,AK21,AI21,AG21,AE21,AC21,AA21,Y21,W21,U21,S21,Q21,O21,M21,K21,I21,G21,E21) -> 0
A22: ENFANT 3 | C22: =IF(B22<>"",IF(B22<=8,2.65,2.99),"") | E22: =IF(D22<>"",IF(D22<=8,2.65,2.99),"") | G22: =IF(F22<>"",IF(F22<=8,2.65,2.99),"") | I22: =IF(H22<>"",IF(H22<=8,2.65,2.99),"") | K22: =IF(J22<>"",IF(J22<=8,2.65,2.99),"") | M22: =IF(L22<>"",IF(L22<=8,2.65,2.99),"") | O22: =IF(N22<>"",IF(N22<=8,2.65,2.99),"") | Q22: =IF(P22<>"",IF(P22<=8,2.65,2.99),"") | S22: =IF(R22<>"",IF(R22<=8,2.65,2.99),"") | U22: =IF(T22<>"",IF(T22<=8,2.65,2.99),"") | W22: =IF(V22<>"",IF(V22<=8,2.65,2.99),"") | Y22: =IF(X22<>"",IF(X22<=8,2.65,2.99),"") | AA22: =IF(Z22<>"",IF(Z22<=8,2.65,2.99),"") | AC22: =IF(AB22<>"",IF(AB22<=8,2.65,2.99),"") | AE22: =IF(AD22<>"",IF(AD22<=8,2.65,2.99),"") | AG22: =IF(AF22<>"",IF(AF22<=8,2.65,2.99),"") | AI22: =IF(AH22<>"",IF(AH22<=8,2.65,2.99),"") | AK22: =IF(AJ22<>"",IF(AJ22<=8,2.65,2.99),"") | AM22: =IF(AL22<>"",IF(AL22<=8,2.65,2.99),"") | AO22: =IF(AN22<>"",IF(AN22<=8,2.65,2.99),"") | AQ22: =IF(AP22<>"",IF(AP22<=8,2.65,2.99),"") | AS22: =IF(AR22<>"",IF(AR22<=8,2.65,2.99),"") | AU22: =IF(AT22<>"",IF(AT22<=8,2.65,2.99),"") | AW22: =IF(AV22<>"",IF(AV22<=8,2.65,2.99),"") | AY22: =IF(AX22<>"",IF(AX22<=8,2.65,2.99),"") | BA22: =IF(AZ22<>"",IF(AZ22<=8,2.65,2.99),"") | BC22: =IF(BB22<>"",IF(BB22<=8,2.65,2.99),"") | BE22: =IF(BD22<>"",IF(BD22<=8,2.65,2.99),"") | BG22: =IF(BF22<>"",IF(BF22<=8,2.65,2.99),"") | BI22: =IF(BH22<>"",IF(BH22<=8,2.65,2.99),"") | BK22: =IF(BJ22<>"",IF(BJ22<=8,2.65,2.99),"") | BL22: =B22+D22+F22+H22+J22+L22+N22+P22+R22+T22+V22+X22+Z22+AB22+AD22+AF22+AH22+AJ22+AL22+AN22+AP22+AR22+AT22+BJ22 -> 0 | BM22: =SUM(BA22,BC22,BE22,BG22,BI22,BK22,,AY22,AW22,AU22,AS22,AQ22,AO22,AM22,AK22,AI22,AG22,AE22,AC22,AA22,Y22,W22,U22,S22,Q22,O22,M22,K22,I22,G22,E22) -> 0
A23: ENFANT 4 | C23: =IF(B23<>"",IF(B23<=8,2.65,2.99),"") | E23: =IF(D23<>"",IF(D23<=8,2.65,2.99),"") | G23: =IF(F23<>"",IF(F23<=8,2.65,2.99),"") | I23: =IF(H23<>"",IF(H23<=8,2.65,2.99),"") | K23: =IF(J23<>"",IF(J23<=8,2.65,2.99),"") | M23: =IF(L23<>"",IF(L23<=8,2.65,2.99),"") | O23: =IF(N23<>"",IF(N23<=8,2.65,2.99),"") | Q23: =IF(P23<>"",IF(P23<=8,2.65,2.99),"") | S23: =IF(R23<>"",IF(R23<=8,2.65,2.99),"") | U23: =IF(T23<>"",IF(T23<=8,2.65,2.99),"") | W23: =IF(V23<>"",IF(V23<=8,2.65,2.99),"") | Y23: =IF(X23<>"",IF(X23<=8,2.65,2.99),"") | AA23: =IF(Z23<>"",IF(Z23<=8,2.65,2.99),"") | AC23: =IF(AB23<>"",IF(AB23<=8,2.65,2.99),"") | AE23: =IF(AD23<>"",IF(AD23<=8,2.65,2.99),"") | AG23: =IF(AF23<>"",IF(AF23<=8,2.65,2.99),"") | AI23: =IF(AH23<>"",IF(AH23<=8,2.65,2.99),"") | AK23: =IF(AJ23<>"",IF(AJ23<=8,2.65,2.99),"") | AM23: =IF(AL23<>"",IF(AL23<=8,2.65,2.99),"") | AO23: =IF(AN23<>"",IF(AN23<=8,2.65,2.99),"") | AQ23: =IF(AP23<>"",IF(AP23<=8,2.65,2.99),"") | AS23: =IF(AR23<>"",IF(AR23<=8,2.65,2.99),"") | AU23: =IF(AT23<>"",IF(AT23<=8,2.65,2.99),"") | AW23: =IF(AV23<>"",IF(AV23<=8,2.65,2.99),"") | AY23: =IF(AX23<>"",IF(AX23<=8,2.65,2.99),"") | BA23: =IF(AZ23<>"",IF(AZ23<=8,2.65,2.99),"") | BC23: =IF(BB23<>"",IF(BB23<=8,2.65,2.99),"") | BE23: =IF(BD23<>"",IF(BD23<=8,2.65,2.99),"") | BG23: =IF(BF23<>"",IF(BF23<=8,2.65,2.99),"") | BI23: =IF(BH23<>"",IF(BH23<=8,2.65,2.99),"") | BK23: =IF(BJ23<>"",IF(BJ23<=8,2.65,2.99),"") | BL23: =B23+D23+F23+H23+J23+L23+N23+P23+R23+T23+V23+X23+Z23+AB23+AD23+AF23+AH23+AJ23+AL23+AN23+AP23+AR23+AT23+BJ23 -> 0 | BM23: =SUM(BA23,BC23,BE23,BG23,BI23,BK23,,AY23,AW23,AU23,AS23,AQ23,AO23,AM23,AK23,AI23,AG23,AE23,AC23,AA23,Y23,W23,U23,S23,Q23,O23,M23,K23,I23,G23,E23) -> 0
A24: ENFANT 5 | C24: =IF(B24<>"",IF(B24<=8,2.65,2.99),"") | E24: =IF(D24<>"",IF(D24<=8,2.65,2.99),"") | G24: =IF(F24<>"",IF(F24<=8,2.65,2.99),"") | I24: =IF(H24<>"",IF(H24<=8,2.65,2.99),"") | K24: =IF(J24<>"",IF(J24<=8,2.65,2.99),"") | M24: =IF(L24<>"",IF(L24<=8,2.65,2.99),"") | O24: =IF(N24<>"",IF(N24<=8,2.65,2.99),"") | Q24: =IF(P24<>"",IF(P24<=8,2.65,2.99),"") | S24: =IF(R24<>"",IF(R24<=8,2.65,2.99),"") | U24: =IF(T24<>"",IF(T24<=8,2.65,2.99),"") | W24: =IF(V24<>"",IF(V24<=8,2.65,2.99),"") | Y24: =IF(X24<>"",IF(X24<=8,2.65,2.99),"") | AA24: =IF(Z24<>"",IF(Z24<=8,2.65,2.99),"") | AC24: =IF(AB24<>"",IF(AB24<=8,2.65,2.99),"") | AE24: =IF(AD24<>"",IF(AD24<=8,2.65,2.99),"") | AG24: =IF(AF24<>"",IF(AF24<=8,2.65,2.99),"") | AI24: =IF(AH24<>"",IF(AH24<=8,2.65,2.99),"") | AK24: =IF(AJ24<>"",IF(AJ24<=8,2.65,2.99),"") | AM24: =IF(AL24<>"",IF(AL24<=8,2.65,2.99),"") | AO24: =IF(AN24<>"",IF(AN24<=8,2.65,2.99),"") | AQ24: =IF(AP24<>"",IF(AP24<=8,2.65,2.99),"") | AS24: =IF(AR24<>"",IF(AR24<=8,2.65,2.99),"") | AU24: =IF(AT24<>"",IF(AT24<=8,2.65,2.99),"") | AW24: =IF(AV24<>"",IF(AV24<=8,2.65,2.99),"") | AY24: =IF(AX24<>"",IF(AX24<=8,2.65,2.99),"") | BA24: =IF(AZ24<>"",IF(AZ24<=8,2.65,2.99),"") | BC24: =IF(BB24<>"",IF(BB24<=8,2.65,2.99),"") | BE24: =IF(BD24<>"",IF(BD24<=8,2.65,2.99),"") | BG24: =IF(BF24<>"",IF(BF24<=8,2.65,2.99),"") | BI24: =IF(BH24<>"",IF(BH24<=8,2.65,2.99),"") | BK24: =IF(BJ24<>"",IF(BJ24<=8,2.65,2.99),"") | BL24: =B24+D24+F24+H24+J24+L24+N24+P24+R24+T24+V24+X24+Z24+AB24+AD24+AF24+AH24+AJ24+AL24+AN24+AP24+AR24+AT24+BJ24 -> 0 | BM24: =SUM(BA24,BC24,BE24,BG24,BI24,BK24,,AY24,AW24,AU24,AS24,AQ24,AO24,AM24,AK24,AI24,AG24,AE24,AC24,AA24,Y24,W24,U24,S24,Q24,O24,M24,K24,I24,G24,E24) -> 0
B25: =SUM(B20:B24) -> 0 | C25: =SUM(C20:C24) -> 0 | D25: =SUM(D20:D24) -> 0 | E25: =SUM(E20:E24) -> 0 | F25: =SUM(F20:F24) -> 0 | G25: =SUM(G20:G24) -> 0 | H25: =SUM(H20:H24) -> 0 | I25: =SUM(I20:I24) -> 0 | ... BM25: =SUM(BM20:BM24) -> 0
A26: MOIS DE AVRIL
B27: 42461 | D27: 42462 | F27: 42463 | H27: 42464 | J27: 42465 | L27: 42466 | N27: 42467 | P27: 42468 | R27: 42469 | T27: 42470 | V27: 42471 | X27: 42472 | Z27: 42473 | AB27: 42474 | AD27: 42475 | AF27: 42476 | AH27: 42477 | AJ27: 42478 | AL27: 42479 | AN27: 42480 | AP27: 42481 | AR27: 42482 | AT27: 42483 | AV27: 42484 | AX27: 42485 | AZ27: 42486 | BB27: 42487 | BD27: 42488 | BF27: 42489 | BH27: 42490 | BL27: TOTAL HEURES | BM27: TOTAL FRAIS ENTRETIEN
A28: ENFANT 1 | C28: =IF(B28<>"",IF(B28<=8,2.65,2.99),"") | E28: =IF(D28<>"",IF(D28<=8,2.65,2.99),"") | G28: =IF(F28<>"",IF(F28<=8,2.65,2.99),"") | I28: =IF(H28<>"",IF(H28<=8,2.65,2.99),"") | K28: =IF(J28<>"",IF(J28<=8,2.65,2.99),"") | M28: =IF(L28<>"",IF(L28<=8,2.65,2.99),"") | O28: =IF(N28<>"",IF(N28<=8,2.65,2.99),"") | Q28: =IF(P28<>"",IF(P28<=8,2.65,2.99),"") | S28: =IF(R28<>"",IF(R28<=8,2.65,2.99),"") | U28: =IF(T28<>"",IF(T28<=8,2.65,2.99),"") | W28: =IF(V28<>"",IF(V28<=8,2.65,2.99),"") | Y28: =IF(X28<>"",IF(X28<=8,2.65,2.99),"") | AA28: =IF(Z28<>"",IF(Z28<=8,2.65,2.99),"") | AC28: =IF(AB28<>"",IF(AB28<=8,2.65,2.99),"") | AE28: =IF(AD28<>"",IF(AD28<=8,2.65,2.99),"") | AG28: =IF(AF28<>"",IF(AF28<=8,2.65,2.99),"") | AI28: =IF(AH28<>"",IF(AH28<=8,2.65,2.99),"") | AK28: =IF(AJ28<>"",IF(AJ28<=8,2.65,2.99),"") | AM28: =IF(AL28<>"",IF(AL28<=8,2.65,2.99),"") | AO28: =IF(AN28<>"",IF(AN28<=8,2.65,2.99),"") | AQ28: =IF(AP28<>"",IF(AP28<=8,2.65,2.99),"") | AS28: =IF(AR28<>"",IF(AR28<=8,2.65,2.99),"") | AU28: =IF(AT28<>"",IF(AT28<=8,2.65,2.99),"") | AW28: =IF(AV28<>"",IF(AV28<=8,2.65,2.99),"") | AY28: =IF(AX28<>"",IF(AX28<=8,2.65,2.99),"") | BA28: =IF(AZ28<>"",IF(AZ28<=8,2.65,2.99),"") | BC28: =IF(BB28<>"",IF(BB28<=8,2.65,2.99),"") | BE28: =IF(BD28<>"",IF(BD28<=8,2.65,2.99),"") | BG28: =IF(BF28<>"",IF(BF28<=8,2.65,2.99),"") | BI28: =IF(BH28<>"",IF(BH28<=8,2.65,2.99),"") | BK28: =IF(BJ28<>"",IF(BJ28<=8,2.65,2.99),"") | BL28: =B28+D28+F28+H28+J28+L28+N28+P28+R28+T28+V28+X28+Z28+AB28+AD28+AF28+AH28+AJ28+AL28+AN28+AP28+AR28+AT28+BJ28 -> 0 | BM28: =SUM(BA28,BC28,BE28,BG28,BI28,BK28,,AY28,AW28,AU28,AS28,AQ28,AO28,AM28,AK28,AI28,AG28,AE28,AC28,AA28,Y28,W28,U28,S28,Q28,O28,M28,K28,I28,G28,E28) -> 0
A29: ENFANT 2 | C29: =IF(B29<>"",IF(B29<=8,2.65,2.99),"") | E29: =IF(D29<>"",IF(D29<=8,2.65,2.99),"") | G29: =IF(F29<>"",IF(F29<=8,2.65,2.99),"") | I29: =IF(H29<>"",IF(H29<=8,2.65,2.99),"") | K29: =IF(J29<>"",IF(J29<=8,2.65,2.99),"") | M29: =IF(L29<>"",IF(L29<=8,2.65,2.99),"") | O29: =IF(N29<>"",IF(N29<=8,2.65,2.99),"") | Q29: =IF(P29<>"",IF(P29<=8,2.65,2.99),"") | S29: =IF(R29<>"",IF(R29<=8,2.65,2.99),"") | U29: =IF(T29<>"",IF(T29<=8,2.65,2.99),"") | W29: =IF(V29<>"",IF(V29<=8,2.65,2.99),"") | Y29: =IF(X29<>"",IF(X29<=8,2.65,2.99),"") | AA29: =IF(Z29<>"",IF(Z29<=8,2.65,2.99),"") | AC29: =IF(AB29<>"",IF(AB29<=8,2.65,2.99),"") | AE29: =IF(AD29<>"",IF(AD29<=8,2.65,2.99),"") | AG29: =IF(AF29<>"",IF(AF29<=8,2.65,2.99),"") | AI29: =IF(AH29<>"",IF(AH29<=8,2.65,2.99),"") | AK29: =IF(AJ29<>"",IF(AJ29<=8,2.65,2.99),"") | AM29: =IF(AL29<>"",IF(AL29<=8,2.65,2.99),"") | AO29: =IF(AN29<>"",IF(AN29<=8,2.65,2.99),"") | AQ29: =IF(AP29<>"",IF(AP29<=8,2.65,2.99),"") | AS29: =IF(AR29<>"",IF(AR29<=8,2.65,2.99),"") | AU29: =IF(AT29<>"",IF(AT29<=8,2.65,2.99),"") | AW29: =IF(AV29<>"",IF(AV29<=8,2.65,2.99),"") | AY29: =IF(AX29<>"",IF(AX29<=8,2.65,2.99),"") | BA29: =IF(AZ29<>"",IF(AZ29<=8,2.65,2.99),"") | BC29: =IF(BB29<>"",IF(BB29<=8,2.65,2.99),"") | BE29: =IF(BD29<>"",IF(BD29<=8,2.65,2.99),"") | BG29: =IF(BF29<>"",IF(BF29<=8,2.65,2.99),"") | BI29: =IF(BH29<>"",IF(BH29<=8,2.65,2.99),"") | BK29: =IF(BJ29<>"",IF(BJ29<=8,2.65,2.99),"") | BL29: =B29+D29+F29+H29+J29+L29+N29+P29+R29+T29+V29+X29+Z29+AB29+AD29+AF29+AH29+AJ29+AL29+AN29+AP29+AR29+AT29+BJ29 -> 0 | BM29: =SUM(BA29,BC29,BE29,BG29,BI29,BK29,,AY29,AW29,AU29,AS29,AQ29,AO29,AM29,AK29,AI29,AG29,AE29,AC29,AA29,Y29,W29,U29,S29,Q29,O29,M29,K29,I29,G29,E29) -> 0
A30: ENFANT 3 | C30: =IF(B30<>"",IF(B30<=8,2.65,2.99),"") | E30: =IF(D30<>"",IF(D30<=8,2.65,2.99),"") | G30: =IF(F30<>"",IF(F30<=8,2.65,2.99),"") | I30: =IF(H30<>"",IF(H30<=8,2.65,2.99),"") | K30: =IF(J30<>"",IF(J30<=8,2.65,2.99),"") | M30: =IF(L30<>"",IF(L30<=8,2.65,2.99),"") | O30: =IF(N30<>"",IF(N30<=8,2.65,2.99),"") | Q30: =IF(P30<>"",IF(P30<=8,2.65,2.99),"") | S30: =IF(R30<>"",IF(R30<=8,2.65,2.99),"") | U30: =IF(T30<>"",IF(T30<=8,2.65,2.99),"") | W30: =IF(V30<>"",IF(V30<=8,2.65,2.99),"") | Y30: =IF(X30<>"",IF(X30<=8,2.65,2.99),"") | AA30: =IF(Z30<>"",IF(Z30<=8,2.65,2.99),"") | AC30: =IF(AB30<>"",IF(AB30<=8,2.65,2.99),"") | AE30: =IF(AD30<>"",IF(AD30<=8,2.65,2.99),"") | AG30: =IF(AF30<>"",IF(AF30<=8,2.65,2.99),"") | AI30: =IF(AH30<>"",IF(AH30<=8,2.65,2.99),"") | AK30: =IF(AJ30<>"",IF(AJ30<=8,2.65,2.99),"") | AM30: =IF(AL30<>"",IF(AL30<=8,2.65,2.99),"") | AO30: =IF(AN30<>"",IF(AN30<=8,2.65,2.99),"") | AQ30: =IF(AP30<>"",IF(AP30<=8,2.65,2.99),"") | AS30: =IF(AR30<>"",IF(AR30<=8,2.65,2.99),"") | AU30: =IF(AT30<>"",IF(AT30<=8,2.65,2.99),"") | AW30: =IF(AV30<>"",IF(AV30<=8,2.65,2.99),"") | AY30: =IF(AX30<>"",IF(AX30<=8,2.65,2.99),"") | BA30: =IF(AZ30<>"",IF(AZ30<=8,2.65,2.99),"") | BC30: =IF(BB30<>"",IF(BB30<=8,2.65,2.99),"") | BE30: =IF(BD30<>"",IF(BD30<=8,2.65,2.99),"") | BG30: =IF(BF30<>"",IF(BF30<=8,2.65,2.99),"") | BI30: =IF(BH30<>"",IF(BH30<=8,2.65,2.99),"") | BK30: =IF(BJ30<>"",IF(BJ30<=8,2.65,2.99),"") | BL30: =B30+D30+F30+H30+J30+L30+N30+P30+R30+T30+V30+X30+Z30+AB30+AD30+AF30+AH30+AJ30+AL30+AN30+AP30+AR30+AT30+BJ30 -> 0 | BM30: =SUM(BA30,BC30,BE30,BG30,BI30,BK30,,AY30,AW30,AU30,AS30,AQ30,AO30,AM30,AK30,AI30,AG30,AE30,AC30,AA30,Y30,W30,U30,S30,Q30,O30,M30,K30,I30,G30,E30) -> 0
A31: ENFANT 4 | C31: =IF(B31<>"",IF(B31<=8,2.65,2.99),"") | E31: =IF(D31<>"",IF(D31<=8,2.65,2.99),"") | G31: =IF(F31<>"",IF(F31<=8,2.65,2.99),"") | I31: =IF(H31<>"",IF(H31<=8,2.65,2.99),"") | K31: =IF(J31<>"",IF(J31<=8,2.65,2.99),"") | M31: =IF(L31<>"",IF(L31<=8,2.65,2.99),"") | O31: =IF(N31<>"",IF(N31<=8,2.65,2.99),"") | Q31: =IF(P31<>"",IF(P31<=8,2.65,2.99),"") | S31: =IF(R31<>"",IF(R31<=8,2.65,2.99),"") | U31: =IF(T31<>"",IF(T31<=8,2.65,2.99),"") | W31: =IF(V31<>"",IF(V31<=8,2.65,2.99),"") | Y31: =IF(X31<>"",IF(X31<=8,2.65,2.99),"") | AA31: =IF(Z31<>"",IF(Z31<=8,2.65,2.99),"") | AC31: =IF(AB31<>"",IF(AB31<=8,2.65,2.99),"") | AE31: =IF(AD31<>"",IF(AD31<=8,2.65,2.99),"") | AG31: =IF(AF31<>"",IF(AF31<=8,2.65,2.99),"") | AI31: =IF(AH31<>"",IF(AH31<=8,2.65,2.99),"") | AK31: =IF(AJ31<>"",IF(AJ31<=8,2.65,2.99),"") | AM31: =IF(AL31<>"",IF(AL31<=8,2.65,2.99),"") | AO31: =IF(AN31<>"",IF(AN31<=8,2.65,2.99),"") | AQ31: =IF(AP31<>"",IF(AP31<=8,2.65,2.99),"") | AS31: =IF(AR31<>"",IF(AR31<=8,2.65,2.99),"") | AU31: =IF(AT31<>"",IF(AT31<=8,2.65,2.99),"") | AW31: =IF(AV31<>"",IF(AV31<=8,2.65,2.99),"") | AY31: =IF(AX31<>"",IF(AX31<=8,2.65,2.99),"") | BA31: =IF(AZ31<>"",IF(AZ31<=8,2.65,2.99),"") | BC31: =IF(BB31<>"",IF(BB31<=8,2.65,2.99),"") | BE31: =IF(BD31<>"",IF(BD31<=8,2.65,2.99),"") | BG31: =IF(BF31<>"",IF(BF31<=8,2.65,2.99),"") | BI31: =IF(BH31<>"",IF(BH31<=8,2.65,2.99),"") | BK31: =IF(BJ31<>"",IF(BJ31<=8,2.65,2.99),"") | BL31: =B31+D31+F31+H31+J31+L31+N31+P31+R31+T31+V31+X31+Z31+AB31+AD31+AF31+AH31+AJ31+AL31+AN31+AP31+AR31+AT31+BJ31 -> 0 | BM31: =SUM(BA31,BC31,BE31,BG31,BI31,BK31,,AY31,AW31,AU31,AS31,AQ31,AO31,AM31,AK31,AI31,AG31,AE31,AC31,AA31,Y31,W31,U31,S31,Q31,O31,M31,K31,I31,G31,E31) -> 0
A32: ENFANT 5 | C32: =IF(B32<>"",IF(B32<=8,2.65,2.99),"") | E32: =IF(D32<>"",IF(D32<=8,2.65,2.99),"") | G32: =IF(F32<>"",IF(F32<=8,2.65,2.99),"") | I32: =IF(H32<>"",IF(H32<=8,2.65,2.99),"") | K32: =IF(J32<>"",IF(J32<=8,2.65,2.99),"") | M32: =IF(L32<>"",IF(L32<=8,2.65,2.99),"") | O32: =IF(N32<>"",IF(N32<=8,2.65,2.99),"") | Q32: =IF(P32<>"",IF(P32<=8,2.65,2.99),"") | S32: =IF(R32<>"",IF(R32<=8,2.65,2.99),"") | U32: =IF(T32<>"",IF(T32<=8,2.65,2.99),"") | W32: =IF(V32<>"",IF(V32<=8,2.65,2.99),"") | Y32: =IF(X32<>"",IF(X32<=8,2.65,2.99),"") | AA32: =IF(Z32<>"",IF(Z32<=8,2.65,2.99),"") | AC32: =IF(AB32<>"",IF(AB32<=8,2.65,2.99),"") | AE32: =IF(AD32<>"",IF(AD32<=8,2.65,2.99),"") | AG32: =IF(AF32<>"",IF(AF32<=8,2.65,2.99),"") | AI32: =IF(AH32<>"",IF(AH32<=8,2.65,2.99),"") | AK32: =IF(AJ32<>"",IF(AJ32<=8,2.65,2.99),"") | AM32: =IF(AL32<>"",IF(AL32<=8,2.65,2.99),"") | AO32: =IF(AN32<>"",IF(AN32<=8,2.65,2.99),"") | AQ32: =IF(AP32<>"",IF(AP32<=8,2.65,2.99),"") | AS32: =IF(AR32<>"",IF(AR32<=8,2.65,2.99),"") | AU32: =IF(AT32<>"",IF(AT32<=8,2.65,2.99),"") | AW32: =IF(AV32<>"",IF(AV32<=8,2.65,2.99),"") | AY32: =IF(AX32<>"",IF(AX32<=8,2.65,2.99),"") | BA32: =IF(AZ32<>"",IF(AZ32<=8,2.65,2.99),"") | BC32: =IF(BB32<>"",IF(BB32<=8,2.65,2.99),"") | BE32: =IF(BD32<>"",IF(BD32<=8,2.65,2.99),"") | BG32: =IF(BF32<>"",IF(BF32<=8,2.65,2.99),"") | BI32: =IF(BH32<>"",IF(BH32<=8,2.65,2.99),"") | BK32: =IF(BJ32<>"",IF(BJ32<=8,2.65,2.99),"") | BL32: =B32+D32+F32+H32+J32+L32+N32+P32+R32+T32+V32+X32+Z32+AB32+AD32+AF32+AH32+AJ32+AL32+AN32+AP32+AR32+AT32+BJ32 -> 0 | BM32: =SUM(BA32,BC32,BE32,BG32,BI32,BK32,,AY32,AW32,AU32,AS32,AQ32,AO32,AM32,AK32,AI32,AG32,AE32,AC32,AA32,Y32,W32,U32,S32,Q32,O32,M32,K32,I32,G32,E32) -> 0
B33: =SUM(B28:B32) -> 0 | C33: =SUM(C28:C32) -> 0 | D33: =SUM(D28:D32) -> 0 | E33: =SUM(E28:E32) -> 0 | F33: =SUM(F28:F32) -> 0 | G33: =SUM(G28:G32) -> 0 | H33: =SUM(H28:H32) -> 0 | I33: =SUM(I28:I32) -> 0 | ... BI33: =SUM(BI28:BI32) -> 0 | BL33: =SUM(BL28:BL32) -> 0 | BM33: =SUM(BM28:BM32) -> 0
A34: MOIS DE MAI
B35: 42491 | D35: 42492 | F35: 42493 | H35: 42494 | J35: 42495 | L35: 42496 | N35: 42497 | P35: 42498 | R35: 42499 | T35: 42500 | V35: 42501 | X35: 42502 | Z35: 42503 | AB35: 42504 | AD35: 42505 | AF35: 42506 | AH35: 42507 | AJ35: 42508 | AL35: 42509 | AN35: 42510 | AP35: 42511 | AR35: 42512 | AT35: 42513 | AV35: 42514 | AX35: 42515 | AZ35: 42516 | BB35: 42517 | BD35: 42518 | BF35: 42519 | BH35: 42520 | BJ35: 42521 | BL35: TOTAL HEURES | BM35: TOTAL FRAIS ENTRETIEN
A36: ENFANT 1 | C36: =IF(B36<>"",IF(B36<=8,2.65,2.99),"") | E36: =IF(D36<>"",IF(D36<=8,2.65,2.99),"") | G36: =IF(F36<>"",IF(F36<=8,2.65,2.99),"") | I36: =IF(H36<>"",IF(H36<=8,2.65,2.99),"") | K36: =IF(J36<>"",IF(J36<=8,2.65,2.99),"") | M36: =IF(L36<>"",IF(L36<=8,2.65,2.99),"") | O36: =IF(N36<>"",IF(N36<=8,2.65,2.99),"") | Q36: =IF(P36<>"",IF(P36<=8,2.65,2.99),"") | S36: =IF(R36<>"",IF(R36<=8,2.65,2.99),"") | U36: =IF(T36<>"",IF(T36<=8,2.65,2.99),"") | W36: =IF(V36<>"",IF(V36<=8,2.65,2.99),"") | Y36: =IF(X36<>"",IF(X36<=8,2.65,2.99),"") | AA36: =IF(Z36<>"",IF(Z36<=8,2.65,2.99),"") | AC36: =IF(AB36<>"",IF(AB36<=8,2.65,2.99),"") | AE36: =IF(AD36<>"",IF(AD36<=8,2.65,2.99),"") | AG36: =IF(AF36<>"",IF(AF36<=8,2.65,2.99),"") | AI36: =IF(AH36<>"",IF(AH36<=8,2.65,2.99),"") | AK36: =IF(AJ36<>"",IF(AJ36<=8,2.65,2.99),"") | AM36: =IF(AL36<>"",IF(AL36<=8,2.65,2.99),"") | AO36: =IF(AN36<>"",IF(AN36<=8,2.65,2.99),"") | AQ36: =IF(AP36<>"",IF(AP36<=8,2.65,2.99),"") | AS36: =IF(AR36<>"",IF(AR36<=8,2.65,2.99),"") | AU36: =IF(AT36<>"",IF(AT36<=8,2.65,2.99),"") | AW36: =IF(AV36<>"",IF(AV36<=8,2.65,2.99),"") | AY36: =IF(AX36<>"",IF(AX36<=8,2.65,2.99),"") | BA36: =IF(AZ36<>"",IF(AZ36<=8,2.65,2.99),"") | BC36: =IF(BB36<>"",IF(BB36<=8,2.65,2.99),"") | BE36: =IF(BD36<>"",IF(BD36<=8,2.65,2.99),"") | BG36: =IF(BF36<>"",IF(BF36<=8,2.65,2.99),"") | BI36: =IF(BH36<>"",IF(BH36<=8,2.65,2.99),"") | BK36: =IF(BJ36<>"",IF(BJ36<=8,2.65,2.99),"") | BL36: =B36+D36+F36+H36+J36+L36+N36+P36+R36+T36+V36+X36+Z36+AB36+AD36+AF36+AH36+AJ36+AL36+AN36+AP36+AR36+AT36+BJ36 -> 0 | BM36: =SUM(BA36,BC36,BE36,BG36,BI36,BK36,,AY36,AW36,AU36,AS36,AQ36,AO36,AM36,AK36,AI36,AG36,AE36,AC36,AA36,Y36,W36,U36,S36,Q36,O36,M36,K36,I36,G36,E36) -> 0
A37: ENFANT 2 | C37: =IF(B37<>"",IF(B37<=8,2.65,2.99),"") | E37: =IF(D37<>"",IF(D37<=8,2.65,2.99),"") | G37: =IF(F37<>"",IF(F37<=8,2.65,2.99),"") | I37: =IF(H37<>"",IF(H37<=8,2.65,2.99),"") | K37: =IF(J37<>"",IF(J37<=8,2.65,2.99),"") | M37: =IF(L37<>"",IF(L37<=8,2.65,2.99),"") | O37: =IF(N37<>"",IF(N37<=8,2.65,2.99),"") | Q37: =IF(P37<>"",IF(P37<=8,2.65,2.99),"") | S37: =IF(R37<>"",IF(R37<=8,2.65,2.99),"") | U37: =IF(T37<>"",IF(T37<=8,2.65,2.99),"") | W37: =IF(V37<>"",IF(V37<=8,2.65,2.99),"") | Y37: =IF(X37<>"",IF(X37<=8,2.65,2.99),"") | AA37: =IF(Z37<>"",IF(Z37<=8,2.65,2.99),"") | AC37: =IF(AB37<>"",IF(AB37<=8,2.65,2.99),"") | AE37: =IF(AD37<>"",IF(AD37<=8,2.65,2.99),"") | AG37: =IF(AF37<>"",IF(AF37<=8,2.65,2.99),"") | AI37: =IF(AH37<>"",IF(AH37<=8,2.65,2.99),"") | AK37: =IF(AJ37<>"",IF(AJ37<=8,2.65,2.99),"") | AM37: =IF(AL37<>"",IF(AL37<=8,2.65,2.99),"") | AO37: =IF(AN37<>"",IF(AN37<=8,2.65,2.99),"") | AQ37: =IF(AP37<>"",IF(AP37<=8,2.65,2.99),"") | AS37: =IF(AR37<>"",IF(AR37<=8,2.65,2.99),"") | AU37: =IF(AT37<>"",IF(AT37<=8,2.65,2.99),"") | AW37: =IF(AV37<>"",IF(AV37<=8,2.65,2.99),"") | AY37: =IF(AX37<>"",IF(AX37<=8,2.65,2.99),"") | BA37: =IF(AZ37<>"",IF(AZ37<=8,2.65,2.99),"") | BC37: =IF(BB37<>"",IF(BB37<=8,2.65,2.99),"") | BE37: =IF(BD37<>"",IF(BD37<=8,2.65,2.99),"") | BG37: =IF(BF37<>"",IF(BF37<=8,2.65,2.99),"") | BI37: =IF(BH37<>"",IF(BH37<=8,2.65,2.99),"") | BK37: =IF(BJ37<>"",IF(BJ37<=8,2.65,2.99),"") | BL37: =B37+D37+F37+H37+J37+L37+N37+P37+R37+T37+V37+X37+Z37+AB37+AD37+AF37+AH37+AJ37+AL37+AN37+AP37+AR37+AT37+BJ37 -> 0 | BM37: =SUM(BA37,BC37,BE37,BG37,BI37,BK37,,AY37,AW37,AU37,AS37,AQ37,AO37,AM37,AK37,AI37,AG37,AE37,AC37,AA37,Y37,W37,U37,S37,Q37,O37,M37,K37,I37,G37,E37) -> 0
A38: ENFANT 3 | C38: =IF(B38<>"",IF(B38<=8,2.65,2.99),"") | E38: =IF(D38<>"",IF(D38<=8,2.65,2.99),"") | G38: =IF(F38<>"",IF(F38<=8,2.65,2.99),"") | I38: =IF(H38<>"",IF(H38<=8,2.65,2.99),"") | K38: =IF(J38<>"",IF(J38<=8,2.65,2.99),"") | M38: =IF(L38<>"",IF(L38<=8,2.65,2.99),"") | O38: =IF(N38<>"",IF(N38<=8,2.65,2.99),"") | Q38: =IF(P38<>"",IF(P38<=8,2.65,2.99),"") | S38: =IF(R38<>"",IF(R38<=8,2.65,2.99),"") | U38: =IF(T38<>"",IF(T38<=8,2.65,2.99),"") | W38: =IF(V38<>"",IF(V38<=8,2.65,2.99),"") | Y38: =IF(X38<>"",IF(X38<=8,2.65,2.99),"") | AA38: =IF(Z38<>"",IF(Z38<=8,2.65,2.99),"") | AC38: =IF(AB38<>"",IF(AB38<=8,2.65,2.99),"") | AE38: =IF(AD38<>"",IF(AD38<=8,2.65,2.99),"") | AG38: =IF(AF38<>"",IF(AF38<=8,2.65,2.99),"") | AI38: =IF(AH38<>"",IF(AH38<=8,2.65,2.99),"") | AK38: =IF(AJ38<>"",IF(AJ38<=8,2.65,2.99),"") | AM38: =IF(AL38<>"",IF(AL38<=8,2.65,2.99),"") | AO38: =IF(AN38<>"",IF(AN38<=8,2.65,2.99),"") | AQ38: =IF(AP38<>"",IF(AP38<=8,2.65,2.99),"") | AS38: =IF(AR38<>"",IF(AR38<=8,2.65,2.99),"") | AU38: =IF(AT38<>"",IF(AT38<=8,2.65,2.99),"") | AW38: =IF(AV38<>"",IF(AV38<=8,2.65,2.99),"") | AY38: =IF(AX38<>"",IF(AX38<=8,2.65,2.99),"") | BA38: =IF(AZ38<>"",IF(AZ38<=8,2.65,2.99),"") | BC38: =IF(BB38<>"",IF(BB38<=8,2.65,2.99),"") | BE38: =IF(BD38<>"",IF(BD38<=8,2.65,2.99),"") | BG38: =IF(BF38<>"",IF(BF38<=8,2.65,2.99),"") | BI38: =IF(BH38<>"",IF(BH38<=8,2.65,2.99),"") | BK38: =IF(BJ38<>"",IF(BJ38<=8,2.65,2.99),"") | BL38: =B38+D38+F38+H38+J38+L38+N38+P38+R38+T38+V38+X38+Z38+AB38+AD38+AF38+AH38+AJ38+AL38+AN38+AP38+AR38+AT38+BJ38 -> 0 | BM38: =SUM(BA38,BC38,BE38,BG38,BI38,BK38,,AY38,AW38,AU38,AS38,AQ38,AO38,AM38,AK38,AI38,AG38,AE38,AC38,AA38,Y38,W38,U38,S38,Q38,O38,M38,K38,I38,G38,E38) -> 0
A39: ENFANT 4 | C39: =IF(B39<>"",IF(B39<=8,2.65,2.99),"") | E39: =IF(D39<>"",IF(D39<=8,2.65,2.99),"") | G39: =IF(F39<>"",IF(F39<=8,2.65,2.99),"") | I39: =IF(H39<>"",IF(H39<=8,2.65,2.99),"") | K39: =IF(J39<>"",IF(J39<=8,2.65,2.99),"") | M39: =IF(L39<>"",IF(L39<=8,2.65,2.99),"") | O39: =IF(N39<>"",IF(N39<=8,2.65,2.99),"") | Q39: =IF(P39<>"",IF(P39<=8,2.65,2.99),"") | S39: =IF(R39<>"",IF(R39<=8,2.65,2.99),"") | U39: =IF(T39<>"",IF(T39<=8,2.65,2.99),"") | W39: =IF(V39<>"",IF(V39<=8,2.65,2.99),"") | Y39: =IF(X39<>"",IF(X39<=8,2.65,2.99),"") | AA39: =IF(Z39<>"",IF(Z39<=8,2.65,2.99),"") | AC39: =IF(AB39<>"",IF(AB39<=8,2.65,2.99),"") | AE39: =IF(AD39<>"",IF(AD39<=8,2.65,2.99),"") | AG39: =IF(AF39<>"",IF(AF39<=8,2.65,2.99),"") | AI39: =IF(AH39<>"",IF(AH39<=8,2.65,2.99),"") | AK39: =IF(AJ39<>"",IF(AJ39<=8,2.65,2.99),"") | AM39: =IF(AL39<>"",IF(AL39<=8,2.65,2.99),"") | AO39: =IF(AN39<>"",IF(AN39<=8,2.65,2.99),"") | AQ39: =IF(AP39<>"",IF(AP39<=8,2.65,2.99),"") | AS39: =IF(AR39<>"",IF(AR39<=8,2.65,2.99),"") | AU39: =IF(AT39<>"",IF(AT39<=8,2.65,2.99),"") | AW39: =IF(AV39<>"",IF(AV39<=8,2.65,2.99),"") | AY39: =IF(AX39<>"",IF(AX39<=8,2.65,2.99),"") | BA39: =IF(AZ39<>"",IF(AZ39<=8,2.65,2.99),"") | BC39: =IF(BB39<>"",IF(BB39<=8,2.65,2.99),"") | BE39: =IF(BD39<>"",IF(BD39<=8,2.65,2.99),"") | BG39: =IF(BF39<>"",IF(BF39<=8,2.65,2.99),"") | BI39: =IF(BH39<>"",IF(BH39<=8,2.65,2.99),"") | BK39: =IF(BJ39<>"",IF(BJ39<=8,2.65,2.99),"") | BL39: =B39+D39+F39+H39+J39+L39+N39+P39+R39+T39+V39+X39+Z39+AB39+AD39+AF39+AH39+AJ39+AL39+AN39+AP39+AR39+AT39+BJ39 -> 0 | BM39: =SUM(BA39,BC39,BE39,BG39,BI39,BK39,,AY39,AW39,AU39,AS39,AQ39,AO39,AM39,AK39,AI39,AG39,AE39,AC39,AA39,Y39,W39,U39,S39,Q39,O39,M39,K39,I39,G39,E39) -> 0
A40: ENFANT 5 | C40: =IF(B40<>"",IF(B40<=8,2.65,2.99),"") | E40: =IF(D40<>"",IF(D40<=8,2.65,2.99),"") | G40: =IF(F40<>"",IF(F40<=8,2.65,2.99),"") | I40: =IF(H40<>"",IF(H40<=8,2.65,2.99),"") | K40: =IF(J40<>"",IF(J40<=8,2.65,2.99),"") | M40: =IF(L40<>"",IF(L40<=8,2.65,2.99),"") | O40: =IF(N40<>"",IF(N40<=8,2.65,2.99),"") | Q40: =IF(P40<>"",IF(P40<=8,2.65,2.99),"") | S40: =IF(R40<>"",IF(R40<=8,2.65,2.99),"") | U40: =IF(T40<>"",IF(T40<=8,2.65,2.99),"") | W40: =IF(V40<>"",IF(V40<=8,2.65,2.99),"") | Y40: =IF(X40<>"",IF(X40<=8,2.65,2.99),"") | AA40: =IF(Z40<>"",IF(Z40<=8,2.65,2.99),"") | AC40: =IF(AB40<>"",IF(AB40<=8,2.65,2.99),"") | AE40: =IF(AD40<>"",IF(AD40<=8,2.65,2.99),"") | AG40: =IF(AF40<>"",IF(AF40<=8,2.65,2.99),"") | AI40: =IF(AH40<>"",IF(AH40<=8,2.65,2.99),"") | AK40: =IF(AJ40<>"",IF(AJ40<=8,2.65,2.99),"") | AM40: =IF(AL40<>"",IF(AL40<=8,2.65,2.99),"") | AO40: =IF(AN40<>"",IF(AN40<=8,2.65,2.99),"") | AQ40: =IF(AP40<>"",IF(AP40<=8,2.65,2.99),"") | AS40: =IF(AR40<>"",IF(AR40<=8,2.65,2.99),"") | AU40: =IF(AT40<>"",IF(AT40<=8,2.65,2.99),"") | AW40: =IF(AV40<>"",IF(AV40<=8,2.65,2.99),"") | AY40: =IF(AX40<>"",IF(AX40<=8,2.65,2.99),"") | BA40: =IF(AZ40<>"",IF(AZ40<=8,2.65,2.99),"") | BC40: =IF(BB40<>"",IF(BB40<=8,2.65,2.99),"") | BE40: =IF(BD40<>"",IF(BD40<=8,2.65,2.99),"") | BG40: =IF(BF40<>"",IF(BF40<=8,2.65,2.99),"") | BI40: =IF(BH40<>"",IF(BH40<=8,2.65,2.99),"") | BK40: =IF(BJ40<>"",IF(BJ40<=8,2.65,2.99),"") | BL40: =B40+D40+F40+H40+J40+L40+N40+P40+R40+T40+V40+X40+Z40+AB40+AD40+AF40+AH40+AJ40+AL40+AN40+AP40+AR40+AT40+BJ40 -> 0 | BM40: =SUM(BA40,BC40,BE40,BG40,BI40,BK40,,AY40,AW40,AU40,AS40,AQ40,AO40,AM40,AK40,AI40,AG40,AE40,AC40,AA40,Y40,W40,U40,S40,Q40,O40,M40,K40,I40,G40,E40) -> 0
B41: =SUM(B36:B40) -> 0 | C41: =SUM(C36:C40) -> 0 | D41: =SUM(D36:D40) -> 0 | E41: =SUM(E36:E40) -> 0 | F41: =SUM(F36:F40) -> 0 | G41: =SUM(G36:G40) -> 0 | H41: =SUM(H36:H40) -> 0 | I41: =SUM(I36:I40) -> 0 | ... BM41: =SUM(BM36:BM40) -> 0
A42: MOIS DE JUIN
B43: 42522 | D43: 42523 | F43: 42524 | H43: 42525 | J43: 42526 | L43: 42527 | N43: 42528 | P43: 42529 | R43: 42530 | T43: 42531 | V43: 42532 | X43: 42533 | Z43: 42534 | AB43: 42535 | AD43: 42536 | AF43: 42537 | AH43: 42538 | AJ43: 42539 | AL43: 42540 | AN43: 42541 | AP43: 42542 | AR43: 42543 | AT43: 42544 | AV43: 42545 | AX43: 42546 | AZ43: 42547 | BB43: 42548 | BD43: 42549 | BF43: 42550 | BH43: 42551 | BL43: TOTAL HEURES | BM43: TOTAL FRAIS ENTRETIEN
A44: ENFANT 1 | C44: =IF(B44<>"",IF(B44<=8,2.65,2.99),"") | E44: =IF(D44<>"",IF(D44<=8,2.65,2.99),"") | G44: =IF(F44<>"",IF(F44<=8,2.65,2.99),"") | I44: =IF(H44<>"",IF(H44<=8,2.65,2.99),"") | K44: =IF(J44<>"",IF(J44<=8,2.65,2.99),"") | M44: =IF(L44<>"",IF(L44<=8,2.65,2.99),"") | O44: =IF(N44<>"",IF(N44<=8,2.65,2.99),"") | Q44: =IF(P44<>"",IF(P44<=8,2.65,2.99),"") | S44: =IF(R44<>"",IF(R44<=8,2.65,2.99),"") | U44: =IF(T44<>"",IF(T44<=8,2.65,2.99),"") | W44: =IF(V44<>"",IF(V44<=8,2.65,2.99),"") | Y44: =IF(X44<>"",IF(X44<=8,2.65,2.99),"") | AA44: =IF(Z44<>"",IF(Z44<=8,2.65,2.99),"") | AC44: =IF(AB44<>"",IF(AB44<=8,2.65,2.99),"") | AE44: =IF(AD44<>"",IF(AD44<=8,2.65,2.99),"") | AG44: =IF(AF44<>"",IF(AF44<=8,2.65,2.99),"") | AI44: =IF(AH44<>"",IF(AH44<=8,2.65,2.99),"") | AK44: =IF(AJ44<>"",IF(AJ44<=8,2.65,2.99),"") | AM44: =IF(AL44<>"",IF(AL44<=8,2.65,2.99),"") | AO44: =IF(AN44<>"",IF(AN44<=8,2.65,2.99),"") | AQ44: =IF(AP44<>"",IF(AP44<=8,2.65,2.99),"") | AS44: =IF(AR44<>"",IF(AR44<=8,2.65,2.99),"") | AU44: =IF(AT44<>"",IF(AT44<=8,2.65,2.99),"") | AW44: =IF(AV44<>"",IF(AV44<=8,2.65,2.99),"") | AY44: =IF(AX44<>"",IF(AX44<=8,2.65,2.99),"") | BA44: =IF(AZ44<>"",IF(AZ44<=8,2.65,2.99),"") | BC44: =IF(BB44<>"",IF(BB44<=8,2.65,2.99),"") | BE44: =IF(BD44<>"",IF(BD44<=8,2.65,2.99),"") | BG44: =IF(BF44<>"",IF(BF44<=8,2.65,2.99),"") | BI44: =IF(BH44<>"",IF(BH44<=8,2.65,2.99),"") | BK44: =IF(BJ44<>"",IF(BJ44<=8,2.65,2.99),"") | BL44: =B44+D44+F44+H44+J44+L44+N44+P44+R44+T44+V44+X44+Z44+AB44+AD44+AF44+AH44+AJ44+AL44+AN44+AP44+AR44+AT44+BJ44 -> 0 | BM44: =SUM(BA44,BC44,BE44,BG44,BI44,BK44,,AY44,AW44,AU44,AS44,AQ44,AO44,AM44,AK44,AI44,AG44,AE44,AC44,AA44,Y44,W44,U44,S44,Q44,O44,M44,K44,I44,G44,E44) -> 0
A45: ENFANT 2 | C45: =IF(B45<>"",IF(B45<=8,2.65,2.99),"") | E45: =IF(D45<>"",IF(D45<=8,2.65,2.99),"") | G45: =IF(F45<>"",IF(F45<=8,2.65,2.99),"") | I45: =IF(H45<>"",IF(H45<=8,2.65,2.99),"") | K45: =IF(J45<>"",IF(J45<=8,2.65,2.99),"") | M45: =IF(L45<>"",IF(L45<=8,2.65,2.99),"") | O45: =IF(N45<>"",IF(N45<=8,2.65,2.99),"") | Q45: =IF(P45<>"",IF(P45<=8,2.65,2.99),"") | S45: =IF(R45<>"",IF(R45<=8,2.65,2.99),"") | U45: =IF(T45<>"",IF(T45<=8,2.65,2.99),"") | W45: =IF(V45<>"",IF(V45<=8,2.65,2.99),"") | Y45: =IF(X45<>"",IF(X45<=8,2.65,2.99),"") | AA45: =IF(Z45<>"",IF(Z45<=8,2.65,2.99),"") | AC45: =IF(AB45<>"",IF(AB45<=8,2.65,2.99),"") | AE45: =IF(AD45<>"",IF(AD45<=8,2.65,2.99),"") | AG45: =IF(AF45<>"",IF(AF45<=8,2.65,2.99),"") | AI45: =IF(AH45<>"",IF(AH45<=8,2.65,2.99),"") | AK45: =IF(AJ45<>"",IF(AJ45<=8,2.65,2.99),"") | AM45: =IF(AL45<>"",IF(AL45<=8,2.65,2.99),"") | AO45: =IF(AN45<>"",IF(AN45<=8,2.65,2.99),"") | AQ45: =IF(AP45<>"",IF(AP45<=8,2.65,2.99),"") | AS45: =IF(AR45<>"",IF(AR45<=8,2.65,2.99),"") | AU45: =IF(AT45<>"",IF(AT45<=8,2.65,2.99),"") | AW45: =IF(AV45<>"",IF(AV45<=8,2.65,2.99),"") | AY45: =IF(AX45<>"",IF(AX45<=8,2.65,2.99),"") | BA45: =IF(AZ45<>"",IF(AZ45<=8,2.65,2.99),"") | BC45: =IF(BB45<>"",IF(BB45<=8,2.65,2.99),"") | BE45: =IF(BD45<>"",IF(BD45<=8,2.65,2.99),"") | BG45: =IF(BF45<>"",IF(BF45<=8,2.65,2.99),"") | BI45: =IF(BH45<>"",IF(BH45<=8,2.65,2.99),"") | BK45: =IF(BJ45<>"",IF(BJ45<=8,2.65,2.99),"") | BL45: =B45+D45+F45+H45+J45+L45+N45+P45+R45+T45+V45+X45+Z45+AB45+AD45+AF45+AH45+AJ45+AL45+AN45+AP45+AR45+AT45+BJ45 -> 0 | BM45: =SUM(BA45,BC45,BE45,BG45,BI45,BK45,,AY45,AW45,AU45,AS45,AQ45,AO45,AM45,AK45,AI45,AG45,AE45,AC45,AA45,Y45,W45,U45,S45,Q45,O45,M45,K45,I45,G45,E45) -> 0
A46: ENFANT 3 | C46: =IF(B46<>"",IF(B46<=8,2.65,2.99),"") | E46: =IF(D46<>"",IF(D46<=8,2.65,2.99),"") | G46: =IF(F46<>"",IF(F46<=8,2.65,2.99),"") | I46: =IF(H46<>"",IF(H46<=8,2.65,2.99),"") | K46: =IF(J46<>"",IF(J46<=8,2.65,2.99),"") | M46: =IF(L46<>"",IF(L46<=8,2.65,2.99),"") | O46: =IF(N46<>"",IF(N46<=8,2.65,2.99),"") | Q46: =IF(P46<>"",IF(P46<=8,2.65,2.99),"") | S46: =IF(R46<>"",IF(R46<=8,2.65,2.99),"") | U46: =IF(T46<>"",IF(T46<=8,2.65,2.99),"") | W46: =IF(V46<>"",IF(V46<=8,2.65,2.99),"") | Y46: =IF(X46<>"",IF(X46<=8,2.65,2.99),"") | AA46: =IF(Z46<>"",IF(Z46<=8,2.65,2.99),"") | AC46: =IF(AB46<>"",IF(AB46<=8,2.65,2.99),"") | AE46: =IF(AD46<>"",IF(AD46<=8,2.65,2.99),"") | AG46: =IF(AF46<>"",IF(AF46<=8,2.65,2.99),"") | AI46: =IF(AH46<>"",IF(AH46<=8,2.65,2.99),"") | AK46: =IF(AJ46<>"",IF(AJ46<=8,2.65,2.99),"") | AM46: =IF(AL46<>"",IF(AL46<=8,2.65,2.99),"") | AO46: =IF(AN46<>"",IF(AN46<=8,2.65,2.99),"") | AQ46: =IF(AP46<>"",IF(AP46<=8,2.65,2.99),"") | AS46: =IF(AR46<>"",IF(AR46<=8,2.65,2.99),"") | AU46: =IF(AT46<>"",IF(AT46<=8,2.65,2.99),"") | AW46: =IF(AV46<>"",IF(AV46<=8,2.65,2.99),"") | AY46: =IF(AX46<>"",IF(AX46<=8,2.65,2.99),"") | BA46: =IF(AZ46<>"",IF(AZ46<=8,2.65,2.99),"") | BC46: =IF(BB46<>"",IF(BB46<=8,2.65,2.99),"") | BE46: =IF(BD46<>"",IF(BD46<=8,2.65,2.99),"") | BG46: =IF(BF46<>"",IF(BF46<=8,2.65,2.99),"") | BI46: =IF(BH46<>"",IF(BH46<=8,2.65,2.99),"") | BK46: =IF(BJ46<>"",IF(BJ46<=8,2.65,2.99),"") | BL46: =B46+D46+F46+H46+J46+L46+N46+P46+R46+T46+V46+X46+Z46+AB46+AD46+AF46+AH46+AJ46+AL46+AN46+AP46+AR46+AT46+BJ46 -> 0 | BM46: =SUM(BA46,BC46,BE46,BG46,BI46,BK46,,AY46,AW46,AU46,AS46,AQ46,AO46,AM46,AK46,AI46,AG46,AE46,AC46,AA46,Y46,W46,U46,S46,Q46,O46,M46,K46,I46,G46,E46) -> 0
A47: ENFANT 4 | C47: =IF(B47<>"",IF(B47<=8,2.65,2.99),"") | E47: =IF(D47<>"",IF(D47<=8,2.65,2.99),"") | G47: =IF(F47<>"",IF(F47<=8,2.65,2.99),"") | I47: =IF(H47<>"",IF(H47<=8,2.65,2.99),"") | K47: =IF(J47<>"",IF(J47<=8,2.65,2.99),"") | M47: =IF(L47<>"",IF(L47<=8,2.65,2.99),"") | O47: =IF(N47<>"",IF(N47<=8,2.65,2.99),"") | Q47: =IF(P47<>"",IF(P47<=8,2.65,2.99),"") | S47: =IF(R47<>"",IF(R47<=8,2.65,2.99),"") | U47: =IF(T47<>"",IF(T47<=8,2.65,2.99),"") | W47: =IF(V47<>"",IF(V47<=8,2.65,2.99),"") | Y47: =IF(X47<>"",IF(X47<=8,2.65,2.99),"") | AA47: =IF(Z47<>"",IF(Z47<=8,2.65,2.99),"") | AC47: =IF(AB47<>"",IF(AB47<=8,2.65,2.99),"") | AE47: =IF(AD47<>"",IF(AD47<=8,2.65,2.99),"") | AG47: =IF(AF47<>"",IF(AF47<=8,2.65,2.99),"") | AI47: =IF(AH47<>"",IF(AH47<=8,2.65,2.99),"") | AK47: =IF(AJ47<>"",IF(AJ47<=8,2.65,2.99),"") | AM47: =IF(AL47<>"",IF(AL47<=8,2.65,2.99),"") | AO47: =IF(AN47<>"",IF(AN47<=8,2.65,2.99),"") | AQ47: =IF(AP47<>"",IF(AP47<=8,2.65,2.99),"") | AS47: =IF(AR47<>"",IF(AR47<=8,2.65,2.99),"") | AU47: =IF(AT47<>"",IF(AT47<=8,2.65,2.99),"") | AW47: =IF(AV47<>"",IF(AV47<=8,2.65,2.99),"") | AY47: =IF(AX47<>"",IF(AX47<=8,2.65,2.99),"") | BA47: =IF(AZ47<>"",IF(AZ47<=8,2.65,2.99),"") | BC47: =IF(BB47<>"",IF(BB47<=8,2.65,2.99),"") | BE47: =IF(BD47<>"",IF(BD47<=8,2.65,2.99),"") | BG47: =IF(BF47<>"",IF(BF47<=8,2.65,2.99),"") | BI47: =IF(BH47<>"",IF(BH47<=8,2.65,2.99),"") | BK47: =IF(BJ47<>"",IF(BJ47<=8,2.65,2.99),"") | BL47: =B47+D47+F47+H47+J47+L47+N47+P47+R47+T47+V47+X47+Z47+AB47+AD47+AF47+AH47+AJ47+AL47+AN47+AP47+AR47+AT47+BJ47 -> 0 | BM47: =SUM(BA47,BC47,BE47,BG47,BI47,BK47,,AY47,AW47,AU47,AS47,AQ47,AO47,AM47,AK47,AI47,AG47,AE47,AC47,AA47,Y47,W47,U47,S47,Q47,O47,M47,K47,I47,G47,E47) -> 0
A48: ENFANT 5 | C48: =IF(B48<>"",IF(B48<=8,2.65,2.99),"") | E48: =IF(D48<>"",IF(D48<=8,2.65,2.99),"") | G48: =IF(F48<>"",IF(F48<=8,2.65,2.99),"") | I48: =IF(H48<>"",IF(H48<=8,2.65,2.99),"") | K48: =IF(J48<>"",IF(J48<=8,2.65,2.99),"") | M48: =IF(L48<>"",IF(L48<=8,2.65,2.99),"") | O48: =IF(N48<>"",IF(N48<=8,2.65,2.99),"") | Q48: =IF(P48<>"",IF(P48<=8,2.65,2.99),"") | S48: =IF(R48<>"",IF(R48<=8,2.65,2.99),"") | U48: =IF(T48<>"",IF(T48<=8,2.65,2.99),"") | W48: =IF(V48<>"",IF(V48<=8,2.65,2.99),"") | Y48: =IF(X48<>"",IF(X48<=8,2.65,2.99),"") | AA48: =IF(Z48<>"",IF(Z48<=8,2.65,2.99),"") | AC48: =IF(AB48<>"",IF(AB48<=8,2.65,2.99),"") | AE48: =IF(AD48<>"",IF(AD48<=8,2.65,2.99),"") | AG48: =IF(AF48<>"",IF(AF48<=8,2.65,2.99),"") | AI48: =IF(AH48<>"",IF(AH48<=8,2.65,2.99),"") | AK48: =IF(AJ48<>"",IF(AJ48<=8,2.65,2.99),"") | AM48: =IF(AL48<>"",IF(AL48<=8,2.65,2.99),"") | AO48: =IF(AN48<>"",IF(AN48<=8,2.65,2.99),"") | AQ48: =IF(AP48<>"",IF(AP48<=8,2.65,2.99),"") | AS48: =IF(AR48<>"",IF(AR48<=8,2.65,2.99),"") | AU48: =IF(AT48<>"",IF(AT48<=8,2.65,2.99),"") | AW48: =IF(AV48<>"",IF(AV48<=8,2.65,2.99),"") | AY48: =IF(AX48<>"",IF(AX48<=8,2.65,2.99),"") | BA48: =IF(AZ48<>"",IF(AZ48<=8,2.65,2.99),"") | BC48: =IF(BB48<>"",IF(BB48<=8,2.65,2.99),"") | BE48: =IF(BD48<>"",IF(BD48<=8,2.65,2.99),"") | BG48: =IF(BF48<>"",IF(BF48<=8,2.65,2.99),"") | BI48: =IF(BH48<>"",IF(BH48<=8,2.65,2.99),"") | BK48: =IF(BJ48<>"",IF(BJ48<=8,2.65,2.99),"") | BL48: =B48+D48+F48+H48+J48+L48+N48+P48+R48+T48+V48+X48+Z48+AB48+AD48+AF48+AH48+AJ48+AL48+AN48+AP48+AR48+AT48+BJ48 -> 0 | BM48: =SUM(BA48,BC48,BE48,BG48,BI48,BK48,,AY48,AW48,AU48,AS48,AQ48,AO48,AM48,AK48,AI48,AG48,AE48,AC48,AA48,Y48,W48,U48,S48,Q48,O48,M48,K48,I48,G48,E48) -> 0
B49: =SUM(B44:B48) -> 0 | C49: =SUM(C44:C48) -> 0 | D49: =SUM(D44:D48) -> 0 | E49: =SUM(E44:E48) -> 0 | F49: =SUM(F44:F48) -> 0 | G49: =SUM(G44:G48) -> 0 | H49: =SUM(H44:H48) -> 0 | I49: =SUM(I44:I48) -> 0 | ... BI49: =SUM(BI44:BI48) -> 0 | BL49: =SUM(BL44:BL48) -> 0 | BM49: =SUM(BM44:BM48) -> 0
A50: MOIS DE JUILLET
B51: 42552 | D51: 42553 | F51: 42554 | H51: 42555 | J51: 42556 | L51: 42557 | N51: 42558 | P51: 42559 | R51: 42560 | T51: 42561 | V51: 42562 | X51: 42563 | Z51: 42564 | AB51: 42565 | AD51: 42566 | AF51: 42567 | AH51: 42568 | AJ51: 42569 | AL51: 42570 | AN51: 42571 | AP51: 42572 | AR51: 42573 | AT51: 42574 | AV51: 42575 | AX51: 42576 | AZ51: 42577 | BB51: 42578 | BD51: 42579 | BF51: 42580 | BH51: 42581 | BJ51: 42582 | BL51: TOTAL HEURES | BM51: TOTAL FRAIS ENTRETIEN
A52: ENFANT 1 | C52: =IF(B52<>"",IF(B52<=8,2.65,2.99),"") | E52: =IF(D52<>"",IF(D52<=8,2.65,2.99),"") | G52: =IF(F52<>"",IF(F52<=8,2.65,2.99),"") | I52: =IF(H52<>"",IF(H52<=8,2.65,2.99),"") | K52: =IF(J52<>"",IF(J52<=8,2.65,2.99),"") | M52: =IF(L52<>"",IF(L52<=8,2.65,2.99),"") | O52: =IF(N52<>"",IF(N52<=8,2.65,2.99),"") | Q52: =IF(P52<>"",IF(P52<=8,2.65,2.99),"") | S52: =IF(R52<>"",IF(R52<=8,2.65,2.99),"") | U52: =IF(T52<>"",IF(T52<=8,2.65,2.99),"") | W52: =IF(V52<>"",IF(V52<=8,2.65,2.99),"") | Y52: =IF(X52<>"",IF(X52<=8,2.65,2.99),"") | AA52: =IF(Z52<>"",IF(Z52<=8,2.65,2.99),"") | AC52: =IF(AB52<>"",IF(AB52<=8,2.65,2.99),"") | AE52: =IF(AD52<>"",IF(AD52<=8,2.65,2.99),"") | AG52: =IF(AF52<>"",IF(AF52<=8,2.65,2.99),"") | AI52: =IF(AH52<>"",IF(AH52<=8,2.65,2.99),"") | AK52: =IF(AJ52<>"",IF(AJ52<=8,2.65,2.99),"") | AM52: =IF(AL52<>"",IF(AL52<=8,2.65,2.99),"") | AO52: =IF(AN52<>"",IF(AN52<=8,2.65,2.99),"") | AQ52: =IF(AP52<>"",IF(AP52<=8,2.65,2.99),"") | AS52: =IF(AR52<>"",IF(AR52<=8,2.65,2.99),"") | AU52: =IF(AT52<>"",IF(AT52<=8,2.65,2.99),"") | AW52: =IF(AV52<>"",IF(AV52<=8,2.65,2.99),"") | AY52: =IF(AX52<>"",IF(AX52<=8,2.65,2.99),"") | BA52: =IF(AZ52<>"",IF(AZ52<=8,2.65,2.99),"") | BC52: =IF(BB52<>"",IF(BB52<=8,2.65,2.99),"") | BE52: =IF(BD52<>"",IF(BD52<=8,2.65,2.99),"") | BG52: =IF(BF52<>"",IF(BF52<=8,2.65,2.99),"") | BI52: =IF(BH52<>"",IF(BH52<=8,2.65,2.99),"") | BK52: =IF(BJ52<>"",IF(BJ52<=8,2.65,2.99),"") | BL52: =B52+D52+F52+H52+J52+L52+N52+P52+R52+T52+V52+X52+Z52+AB52+AD52+AF52+AH52+AJ52+AL52+AN52+AP52+AR52+AT52+BJ52 -> 0 | BM52: =SUM(BA52,BC52,BE52,BG52,BI52,BK52,,AY52,AW52,AU52,AS52,AQ52,AO52,AM52,AK52,AI52,AG52,AE52,AC52,AA52,Y52,W52,U52,S52,Q52,O52,M52,K52,I52,G52,E52) -> 0
A53: ENFANT 2 | C53: =IF(B53<>"",IF(B53<=8,2.65,2.99),"") | E53: =IF(D53<>"",IF(D53<=8,2.65,2.99),"") | G53: =IF(F53<>"",IF(F53<=8,2.65,2.99),"") | I53: =IF(H53<>"",IF(H53<=8,2.65,2.99),"") | K53: =IF(J53<>"",IF(J53<=8,2.65,2.99),"") | M53: =IF(L53<>"",IF(L53<=8,2.65,2.99),"") | O53: =IF(N53<>"",IF(N53<=8,2.65,2.99),"") | Q53: =IF(P53<>"",IF(P53<=8,2.65,2.99),"") | S53: =IF(R53<>"",IF(R53<=8,2.65,2.99),"") | U53: =IF(T53<>"",IF(T53<=8,2.65,2.99),"") | W53: =IF(V53<>"",IF(V53<=8,2.65,2.99),"") | Y53: =IF(X53<>"",IF(X53<=8,2.65,2.99),"") | AA53: =IF(Z53<>"",IF(Z53<=8,2.65,2.99),"") | AC53: =IF(AB53<>"",IF(AB53<=8,2.65,2.99),"") | AE53: =IF(AD53<>"",IF(AD53<=8,2.65,2.99),"") | AG53: =IF(AF53<>"",IF(AF53<=8,2.65,2.99),"") | AI53: =IF(AH53<>"",IF(AH53<=8,2.65,2.99),"") | AK53: =IF(AJ53<>"",IF(AJ53<=8,2.65,2.99),"") | AM53: =IF(AL53<>"",IF(AL53<=8,2.65,2.99),"") | AO53: =IF(AN53<>"",IF(AN53<=8,2.65,2.99),"") | AQ53: =IF(AP53<>"",IF(AP53<=8,2.65,2.99),"") | AS53: =IF(AR53<>"",IF(AR53<=8,2.65,2.99),"") | AU53: =IF(AT53<>"",IF(AT53<=8,2.65,2.99),"") | AW53: =IF(AV53<>"",IF(AV53<=8,2.65,2.99),"") | AY53: =IF(AX53<>"",IF(AX53<=8,2.65,2.99),"") | BA53: =IF(AZ53<>"",IF(AZ53<=8,2.65,2.99),"") | BC53: =IF(BB53<>"",IF(BB53<=8,2.65,2.99),"") | BE53: =IF(BD53<>"",IF(BD53<=8,2.65,2.99),"") | BG53: =IF(BF53<>"",IF(BF53<=8,2.65,2.99),"") | BI53: =IF(BH53<>"",IF(BH53<=8,2.65,2.99),"") | BK53: =IF(BJ53<>"",IF(BJ53<=8,2.65,2.99),"") | BL53: =B53+D53+F53+H53+J53+L53+N53+P53+R53+T53+V53+X53+Z53+AB53+AD53+AF53+AH53+AJ53+AL53+AN53+AP53+AR53+AT53+BJ53 -> 0 | BM53: =SUM(BA53,BC53,BE53,BG53,BI53,BK53,,AY53,AW53,AU53,AS53,AQ53,AO53,AM53,AK53,AI53,AG53,AE53,AC53,AA53,Y53,W53,U53,S53,Q53,O53,M53,K53,I53,G53,E53) -> 0
A54: ENFANT 3 | C54: =IF(B54<>"",IF(B54<=8,2.65,2.99),"") | E54: =IF(D54<>"",IF(D54<=8,2.65,2.99),"") | G54: =IF(F54<>"",IF(F54<=8,2.65,2.99),"") | I54: =IF(H54<>"",IF(H54<=8,2.65,2.99),"") | K54: =IF(J54<>"",IF(J54<=8,2.65,2.99),"") | M54: =IF(L54<>"",IF(L54<=8,2.65,2.99),"") | O54: =IF(N54<>"",IF(N54<=8,2.65,2.99),"") | Q54: =IF(P54<>"",IF(P54<=8,2.65,2.99),"") | S54: =IF(R54<>"",IF(R54<=8,2.65,2.99),"") | U54: =IF(T54<>"",IF(T54<=8,2.65,2.99),"") | W54: =IF(V54<>"",IF(V54<=8,2.65,2.99),"") | Y54: =IF(X54<>"",IF(X54<=8,2.65,2.99),"") | AA54: =IF(Z54<>"",IF(Z54<=8,2.65,2.99),"") | AC54: =IF(AB54<>"",IF(AB54<=8,2.65,2.99),"") | AE54: =IF(AD54<>"",IF(AD54<=8,2.65,2.99),"") | AG54: =IF(AF54<>"",IF(AF54<=8,2.65,2.99),"") | AI54: =IF(AH54<>"",IF(AH54<=8,2.65,2.99),"") | AK54: =IF(AJ54<>"",IF(AJ54<=8,2.65,2.99),"") | AM54: =IF(AL54<>"",IF(AL54<=8,2.65,2.99),"") | AO54: =IF(AN54<>"",IF(AN54<=8,2.65,2.99),"") | AQ54: =IF(AP54<>"",IF(AP54<=8,2.65,2.99),"") | AS54: =IF(AR54<>"",IF(AR54<=8,2.65,2.99),"") | AU54: =IF(AT54<>"",IF(AT54<=8,2.65,2.99),"") | AW54: =IF(AV54<>"",IF(AV54<=8,2.65,2.99),"") | AY54: =IF(AX54<>"",IF(AX54<=8,2.65,2.99),"") | BA54: =IF(AZ54<>"",IF(AZ54<=8,2.65,2.99),"") | BC54: =IF(BB54<>"",IF(BB54<=8,2.65,2.99),"") | BE54: =IF(BD54<>"",IF(BD54<=8,2.65,2.99),"") | BG54: =IF(BF54<>"",IF(BF54<=8,2.65,2.99),"") | BI54: =IF(BH54<>"",IF(BH54<=8,2.65,2.99),"") | BK54: =IF(BJ54<>"",IF(BJ54<=8,2.65,2.99),"") | BL54: =B54+D54+F54+H54+J54+L54+N54+P54+R54+T54+V54+X54+Z54+AB54+AD54+AF54+AH54+AJ54+AL54+AN54+AP54+AR54+AT54+BJ54 -> 0 | BM54: =SUM(BA54,BC54,BE54,BG54,BI54,BK54,,AY54,AW54,AU54,AS54,AQ54,AO54,AM54,AK54,AI54,AG54,AE54,AC54,AA54,Y54,W54,U54,S54,Q54,O54,M54,K54,I54,G54,E54) -> 0
A55: ENFANT 4 | C55: =IF(B55<>"",IF(B55<=8,2.65,2.99),"") | E55: =IF(D55<>"",IF(D55<=8,2.65,2.99),"") | G55: =IF(F55<>"",IF(F55<=8,2.65,2.99),"") | I55: =IF(H55<>"",IF(H55<=8,2.65,2.99),"") | K55: =IF(J55<>"",IF(J55<=8,2.65,2.99),"") | M55: =IF(L55<>"",IF(L55<=8,2.65,2.99),"") | O55: =IF(N55<>"",IF(N55<=8,2.65,2.99),"") | Q55: =IF(P55<>"",IF(P55<=8,2.65,2.99),"") | S55: =IF(R55<>"",IF(R55<=8,2.65,2.99),"") | U55: =IF(T55<>"",IF(T55<=8,2.65,2.99),"") | W55: =IF(V55<>"",IF(V55<=8,2.65,2.99),"") | Y55: =IF(X55<>"",IF(X55<=8,2.65,2.99),"") | AA55: =IF(Z55<>"",IF(Z55<=8,2.65,2.99),"") | AC55: =IF(AB55<>"",IF(AB55<=8,2.65,2.99),"") | AE55: =IF(AD55<>"",IF(AD55<=8,2.65,2.99),"") | AG55: =IF(AF55<>"",IF(AF55<=8,2.65,2.99),"") | AI55: =IF(AH55<>"",IF(AH55<=8,2.65,2.99),"") | AK55: =IF(AJ55<>"",IF(AJ55<=8,2.65,2.99),"") | AM55: =IF(AL55<>"",IF(AL55<=8,2.65,2.99),"") | AO55: =IF(AN55<>"",IF(AN55<=8,2.65,2.99),"") | AQ55: =IF(AP55<>"",IF(AP55<=8,2.65,2.99),"") | AS55: =IF(AR55<>"",IF(AR55<=8,2.65,2.99),"") | AU55: =IF(AT55<>"",IF(AT55<=8,2.65,2.99),"") | AW55: =IF(AV55<>"",IF(AV55<=8,2.65,2.99),"") | AY55: =IF(AX55<>"",IF(AX55<=8,2.65,2.99),"") | BA55: =IF(AZ55<>"",IF(AZ55<=8,2.65,2.99),"") | BC55: =IF(BB55<>"",IF(BB55<=8,2.65,2.99),"") | BE55: =IF(BD55<>"",IF(BD55<=8,2.65,2.99),"") | BG55: =IF(BF55<>"",IF(BF55<=8,2.65,2.99),"") | BI55: =IF(BH55<>"",IF(BH55<=8,2.65,2.99),"") | BK55: =IF(BJ55<>"",IF(BJ55<=8,2.65,2.99),"") | BL55: =B55+D55+F55+H55+J55+L55+N55+P55+R55+T55+V55+X55+Z55+AB55+AD55+AF55+AH55+AJ55+AL55+AN55+AP55+AR55+AT55+BJ55 -> 0 | BM55: =SUM(BA55,BC55,BE55,BG55,BI55,BK55,,AY55,AW55,AU55,AS55,AQ55,AO55,AM55,AK55,AI55,AG55,AE55,AC55,AA55,Y55,W55,U55,S55,Q55,O55,M55,K55,I55,G55,E55) -> 0
A56: ENFANT 5 | C56: =IF(B56<>"",IF(B56<=8,2.65,2.99),"") | E56: =IF(D56<>"",IF(D56<=8,2.65,2.99),"") | G56: =IF(F56<>"",IF(F56<=8,2.65,2.99),"") | I56: =IF(H56<>"",IF(H56<=8,2.65,2.99),"") | K56: =IF(J56<>"",IF(J56<=8,2.65,2.99),"") | M56: =IF(L56<>"",IF(L56<=8,2.65,2.99),"") | O56: =IF(N56<>"",IF(N56<=8,2.65,2.99),"") | Q56: =IF(P56<>"",IF(P56<=8,2.65,2.99),"") | S56: =IF(R56<>"",IF(R56<=8,2.65,2.99),"") | U56: =IF(T56<>"",IF(T56<=8,2.65,2.99),"") | W56: =IF(V56<>"",IF(V56<=8,2.65,2.99),"") | Y56: =IF(X56<>"",IF(X56<=8,2.65,2.99),"") | AA56: =IF(Z56<>"",IF(Z56<=8,2.65,2.99),"") | AC56: =IF(AB56<>"",IF(AB56<=8,2.65,2.99),"") | AE56: =IF(AD56<>"",IF(AD56<=8,2.65,2.99),"") | AG56: =IF(AF56<>"",IF(AF56<=8,2.65,2.99),"") | AI56: =IF(AH56<>"",IF(AH56<=8,2.65,2.99),"") | AK56: =IF(AJ56<>"",IF(AJ56<=8,2.65,2.99),"") | AM56: =IF(AL56<>"",IF(AL56<=8,2.65,2.99),"") | AO56: =IF(AN56<>"",IF(AN56<=8,2.65,2.99),"") | AQ56: =IF(AP56<>"",IF(AP56<=8,2.65,2.99),"") | AS56: =IF(AR56<>"",IF(AR56<=8,2.65,2.99),"") | AU56: =IF(AT56<>"",IF(AT56<=8,2.65,2.99),"") | AW56: =IF(AV56<>"",IF(AV56<=8,2.65,2.99),"") | AY56: =IF(AX56<>"",IF(AX56<=8,2.65,2.99),"") | BA56: =IF(AZ56<>"",IF(AZ56<=8,2.65,2.99),"") | BC56: =IF(BB56<>"",IF(BB56<=8,2.65,2.99),"") | BE56: =IF(BD56<>"",IF(BD56<=8,2.65,2.99),"") | BG56: =IF(BF56<>"",IF(BF56<=8,2.65,2.99),"") | BI56: =IF(BH56<>"",IF(BH56<=8,2.65,2.99),"") | BK56: =IF(BJ56<>"",IF(BJ56<=8,2.65,2.99),"") | BL56: =B56+D56+F56+H56+J56+L56+N56+P56+R56+T56+V56+X56+Z56+AB56+AD56+AF56+AH56+AJ56+AL56+AN56+AP56+AR56+AT56+BJ56 -> 0 | BM56: =SUM(BA56,BC56,BE56,BG56,BI56,BK56,,AY56,AW56,AU56,AS56,AQ56,AO56,AM56,AK56,AI56,AG56,AE56,AC56,AA56,Y56,W56,U56,S56,Q56,O56,M56,K56,I56,G56,E56) -> 0
B57: =SUM(B52:B56) -> 0 | C57: =SUM(C52:C56) -> 0 | D57: =SUM(D52:D56) -> 0 | E57: =SUM(E52:E56) -> 0 | F57: =SUM(F52:F56) -> 0 | G57: =SUM(G52:G56) -> 0 | H57: =SUM(H52:H56) -> 0 | I57: =SUM(I52:I56) -> 0 | ... BM57: =SUM(BM52:BM56) -> 0
A58: MOIS D'AOUT
B59: 42583 | D59: 42584 | F59: 42585 | H59: 42586 | J59: 42587 | L59: 42588 | N59: 42589 | P59: 42590 | R59: 42591 | T59: 42592 | V59: 42593 | X59: 42594 | Z59: 42595 | AB59: 42596 | AD59: 42597 | AF59: 42598 | AH59: 42599 | AJ59: 42600 | AL59: 42601 | AN59: 42602 | AP59: 42603 | AR59: 42604 | AT59: 42605 | AV59: 42606 | AX59: 42607 | AZ59: 42608 | BB59: 42609 | BD59: 42610 | BF59: 42611 | BH59: 42612 | BJ59: 42613 | BL59: TOTAL HEURES | BM59: TOTAL FRAIS ENTRETIEN
A60: ENFANT 1 | C60: =IF(B60<>"",IF(B60<=8,2.65,2.99),"") | E60: =IF(D60<>"",IF(D60<=8,2.65,2.99),"") | G60: =IF(F60<>"",IF(F60<=8,2.65,2.99),"") | I60: =IF(H60<>"",IF(H60<=8,2.65,2.99),"") | K60: =IF(J60<>"",IF(J60<=8,2.65,2.99),"") | M60: =IF(L60<>"",IF(L60<=8,2.65,2.99),"") | O60: =IF(N60<>"",IF(N60<=8,2.65,2.99),"") | Q60: =IF(P60<>"",IF(P60<=8,2.65,2.99),"") | S60: =IF(R60<>"",IF(R60<=8,2.65,2.99),"") | U60: =IF(T60<>"",IF(T60<=8,2.65,2.99),"") | W60: =IF(V60<>"",IF(V60<=8,2.65,2.99),"") | Y60: =IF(X60<>"",IF(X60<=8,2.65,2.99),"") | AA60: =IF(Z60<>"",IF(Z60<=8,2.65,2.99),"") | AC60: =IF(AB60<>"",IF(AB60<=8,2.65,2.99),"") | AE60: =IF(AD60<>"",IF(AD60<=8,2.65,2.99),"") | AG60: =IF(AF60<>"",IF(AF60<=8,2.65,2.99),"") | AI60: =IF(AH60<>"",IF(AH60<=8,2.65,2.99),"") | AK60: =IF(AJ60<>"",IF(AJ60<=8,2.65,2.99),"") | AM60: =IF(AL60<>"",IF(AL60<=8,2.65,2.99),"") | AO60: =IF(AN60<>"",IF(AN60<=8,2.65,2.99),"") | AQ60: =IF(AP60<>"",IF(AP60<=8,2.65,2.99),"") | AS60: =IF(AR60<>"",IF(AR60<=8,2.65,2.99),"") | AU60: =IF(AT60<>"",IF(AT60<=8,2.65,2.99),"") | AW60: =IF(AV60<>"",IF(AV60<=8,2.65,2.99),"") | AY60: =IF(AX60<>"",IF(AX60<=8,2.65,2.99),"") | BA60: =IF(AZ60<>"",IF(AZ60<=8,2.65,2.99),"") | BC60: =IF(BB60<>"",IF(BB60<=8,2.65,2.99),"") | BE60: =IF(BD60<>"",IF(BD60<=8,2.65,2.99),"") | BG60: =IF(BF60<>"",IF(BF60<=8,2.65,2.99),"") | BI60: =IF(BH60<>"",IF(BH60<=8,2.65,2.99),"") | BK60: =IF(BJ60<>"",IF(BJ60<=8,2.65,2.99),"") | BL60: =B60+D60+F60+H60+J60+L60+N60+P60+R60+T60+V60+X60+Z60+AB60+AD60+AF60+AH60+AJ60+AL60+AN60+AP60+AR60+AT60+BJ60 -> 0 | BM60: =SUM(BA60,BC60,BE60,BG60,BI60,BK60,,AY60,AW60,AU60,AS60,AQ60,AO60,AM60,AK60,AI60,AG60,AE60,AC60,AA60,Y60,W60,U60,S60,Q60,O60,M60,K60,I60,G60,E60) -> 0
A61: ENFANT 2 | C61: =IF(B61<>"",IF(B61<=8,2.65,2.99),"") | E61: =IF(D61<>"",IF(D61<=8,2.65,2.99),"") | G61: =IF(F61<>"",IF(F61<=8,2.65,2.99),"") | I61: =IF(H61<>"",IF(H61<=8,2.65,2.99),"") | K61: =IF(J61<>"",IF(J61<=8,2.65,2.99),"") | M61: =IF(L61<>"",IF(L61<=8,2.65,2.99),"") | O61: =IF(N61<>"",IF(N61<=8,2.65,2.99),"") | Q61: =IF(P61<>"",IF(P61<=8,2.65,2.99),"") | S61: =IF(R61<>"",IF(R61<=8,2.65,2.99),"") | U61: =IF(T61<>"",IF(T61<=8,2.65,2.99),"") | W61: =IF(V61<>"",IF(V61<=8,2.65,2.99),"") | Y61: =IF(X61<>"",IF(X61<=8,2.65,2.99),"") | AA61: =IF(Z61<>"",IF(Z61<=8,2.65,2.99),"") | AC61: =IF(AB61<>"",IF(AB61<=8,2.65,2.99),"") | AE61: =IF(AD61<>"",IF(AD61<=8,2.65,2.99),"") | AG61: =IF(AF61<>"",IF(AF61<=8,2.65,2.99),"") | AI61: =IF(AH61<>"",IF(AH61<=8,2.65,2.99),"") | AK61: =IF(AJ61<>"",IF(AJ61<=8,2.65,2.99),"") | AM61: =IF(AL61<>"",IF(AL61<=8,2.65,2.99),"") | AO61: =IF(AN61<>"",IF(AN61<=8,2.65,2.99),"") | AQ61: =IF(AP61<>"",IF(AP61<=8,2.65,2.99),"") | AS61: =IF(AR61<>"",IF(AR61<=8,2.65,2.99),"") | AU61: =IF(AT61<>"",IF(AT61<=8,2.65,2.99),"") | AW61: =IF(AV61<>"",IF(AV61<=8,2.65,2.99),"") | AY61: =IF(AX61<>"",IF(AX61<=8,2.65,2.99),"") | BA61: =IF(AZ61<>"",IF(AZ61<=8,2.65,2.99),"") | BC61: =IF(BB61<>"",IF(BB61<=8,2.65,2.99),"") | BE61: =IF(BD61<>"",IF(BD61<=8,2.65,2.99),"") | BG61: =IF(BF61<>"",IF(BF61<=8,2.65,2.99),"") | BI61: =IF(BH61<>"",IF(BH61<=8,2.65,2.99),"") | BK61: =IF(BJ61<>"",IF(BJ61<=8,2.65,2.99),"") | BL61: =B61+D61+F61+H61+J61+L61+N61+P61+R61+T61+V61+X61+Z61+AB61+AD61+AF61+AH61+AJ61+AL61+AN61+AP61+AR61+AT61+BJ61 -> 0 | BM61: =SUM(BA61,BC61,BE61,BG61,BI61,BK61,,AY61,AW61,AU61,AS61,AQ61,AO61,AM61,AK61,AI61,AG61,AE61,AC61,AA61,Y61,W61,U61,S61,Q61,O61,M61,K61,I61,G61,E61) -> 0
A62: ENFANT 3 | C62: =IF(B62<>"",IF(B62<=8,2.65,2.99),"") | E62: =IF(D62<>"",IF(D62<=8,2.65,2.99),"") | G62: =IF(F62<>"",IF(F62<=8,2.65,2.99),"") | I62: =IF(H62<>"",IF(H62<=8,2.65,2.99),"") | K62: =IF(J62<>"",IF(J62<=8,2.65,2.99),"") | M62: =IF(L62<>"",IF(L62<=8,2.65,2.99),"") | O62: =IF(N62<>"",IF(N62<=8,2.65,2.99),"") | Q62: =IF(P62<>"",IF(P62<=8,2.65,2.99),"") | S62: =IF(R62<>"",IF(R62<=8,2.65,2.99),"") | U62: =IF(T62<>"",IF(T62<=8,2.65,2.99),"") | W62: =IF(V62<>"",IF(V62<=8,2.65,2.99),"") | Y62: =IF(X62<>"",IF(X62<=8,2.65,2.99),"") | AA62: =IF(Z62<>"",IF(Z62<=8,2.65,2.99),"") | AC62: =IF(AB62<>"",IF(AB62<=8,2.65,2.99),"") | AE62: =IF(AD62<>"",IF(AD62<=8,2.65,2.99),"") | AG62: =IF(AF62<>"",IF(AF62<=8,2.65,2.99),"") | AI62: =IF(AH62<>"",IF(AH62<=8,2.65,2.99),"") | AK62: =IF(AJ62<>"",IF(AJ62<=8,2.65,2.99),"") | AM62: =IF(AL62<>"",IF(AL62<=8,2.65,2.99),"") | AO62: =IF(AN62<>"",IF(AN62<=8,2.65,2.99),"") | AQ62: =IF(AP62<>"",IF(AP62<=8,2.65,2.99),"") | AS62: =IF(AR62<>"",IF(AR62<=8,2.65,2.99),"") | AU62: =IF(AT62<>"",IF(AT62<=8,2.65,2.99),"") | AW62: =IF(AV62<>"",IF(AV62<=8,2.65,2.99),"") | AY62: =IF(AX62<>"",IF(AX62<=8,2.65,2.99),"") | BA62: =IF(AZ62<>"",IF(AZ62<=8,2.65,2.99),"") | BC62: =IF(BB62<>"",IF(BB62<=8,2.65,2.99),"") | BE62: =IF(BD62<>"",IF(BD62<=8,2.65,2.99),"") | BG62: =IF(BF62<>"",IF(BF62<=8,2.65,2.99),"") | BI62: =IF(BH62<>"",IF(BH62<=8,2.65,2.99),"") | BK62: =IF(BJ62<>"",IF(BJ62<=8,2.65,2.99),"") | BL62: =B62+D62+F62+H62+J62+L62+N62+P62+R62+T62+V62+X62+Z62+AB62+AD62+AF62+AH62+AJ62+AL62+AN62+AP62+AR62+AT62+BJ62 -> 0 | BM62: =SUM(BA62,BC62,BE62,BG62,BI62,BK62,,AY62,AW62,AU62,AS62,AQ62,AO62,AM62,AK62,AI62,AG62,AE62,AC62,AA62,Y62,W62,U62,S62,Q62,O62,M62,K62,I62,G62,E62) -> 0
A63: ENFANT 4 | C63: =IF(B63<>"",IF(B63<=8,2.65,2.99),"") | E63: =IF(D63<>"",IF(D63<=8,2.65,2.99),"") | G63: =IF(F63<>"",IF(F63<=8,2.65,2.99),"") | I63: =IF(H63<>"",IF(H63<=8,2.65,2.99),"") | K63: =IF(J63<>"",IF(J63<=8,2.65,2.99),"") | M63: =IF(L63<>"",IF(L63<=8,2.65,2.99),"") | O63: =IF(N63<>"",IF(N63<=8,2.65,2.99),"") | Q63: =IF(P63<>"",IF(P63<=8,2.65,2.99),"") | S63: =IF(R63<>"",IF(R63<=8,2.65,2.99),"") | U63: =IF(T63<>"",IF(T63<=8,2.65,2.99),"") | W63: =IF(V63<>"",IF(V63<=8,2.65,2.99),"") | Y63: =IF(X63<>"",IF(X63<=8,2.65,2.99),"") | AA63: =IF(Z63<>"",IF(Z63<=8,2.65,2.99),"") | AC63: =IF(AB63<>"",IF(AB63<=8,2.65,2.99),"") | AE63: =IF(AD63<>"",IF(AD63<=8,2.65,2.99),"") | AG63: =IF(AF63<>"",IF(AF63<=8,2.65,2.99),"") | AI63: =IF(AH63<>"",IF(AH63<=8,2.65,2.99),"") | AK63: =IF(AJ63<>"",IF(AJ63<=8,2.65,2.99),"") | AM63: =IF(AL63<>"",IF(AL63<=8,2.65,2.99),"") | AO63: =IF(AN63<>"",IF(AN63<=8,2.65,2.99),"") | AQ63: =IF(AP63<>"",IF(AP63<=8,2.65,2.99),"") | AS63: =IF(AR63<>"",IF(AR63<=8,2.65,2.99),"") | AU63: =IF(AT63<>"",IF(AT63<=8,2.65,2.99),"") | AW63: =IF(AV63<>"",IF(AV63<=8,2.65,2.99),"") | AY63: =IF(AX63<>"",IF(AX63<=8,2.65,2.99),"") | BA63: =IF(AZ63<>"",IF(AZ63<=8,2.65,2.99),"") | BC63: =IF(BB63<>"",IF(BB63<=8,2.65,2.99),"") | BE63: =IF(BD63<>"",IF(BD63<=8,2.65,2.99),"") | BG63: =IF(BF63<>"",IF(BF63<=8,2.65,2.99),"") | BI63: =IF(BH63<>"",IF(BH63<=8,2.65,2.99),"") | BK63: =IF(BJ63<>"",IF(BJ63<=8,2.65,2.99),"") | BL63: =B63+D63+F63+H63+J63+L63+N63+P63+R63+T63+V63+X63+Z63+AB63+AD63+AF63+AH63+AJ63+AL63+AN63+AP63+AR63+AT63+BJ63 -> 0 | BM63: =SUM(BA63,BC63,BE63,BG63,BI63,BK63,,AY63,AW63,AU63,AS63,AQ63,AO63,AM63,AK63,AI63,AG63,AE63,AC63,AA63,Y63,W63,U63,S63,Q63,O63,M63,K63,I63,G63,E63) -> 0
A64: ENFANT 5 | C64: =IF(B64<>"",IF(B64<=8,2.65,2.99),"") | E64: =IF(D64<>"",IF(D64<=8,2.65,2.99),"") | G64: =IF(F64<>"",IF(F64<=8,2.65,2.99),"") | I64: =IF(H64<>"",IF(H64<=8,2.65,2.99),"") | K64: =IF(J64<>"",IF(J64<=8,2.65,2.99),"") | M64: =IF(L64<>"",IF(L64<=8,2.65,2.99),"") | O64: =IF(N64<>"",IF(N64<=8,2.65,2.99),"") | Q64: =IF(P64<>"",IF(P64<=8,2.65,2.99),"") | S64: =IF(R64<>"",IF(R64<=8,2.65,2.99),"") | U64: =IF(T64<>"",IF(T64<=8,2.65,2.99),"") | W64: =IF(V64<>"",IF(V64<=8,2.65,2.99),"") | Y64: =IF(X64<>"",IF(X64<=8,2.65,2.99),"") | AA64: =IF(Z64<>"",IF(Z64<=8,2.65,2.99),"") | AC64: =IF(AB64<>"",IF(AB64<=8,2.65,2.99),"") | AE64: =IF(AD64<>"",IF(AD64<=8,2.65,2.99),"") | AG64: =IF(AF64<>"",IF(AF64<=8,2.65,2.99),"") | AI64: =IF(AH64<>"",IF(AH64<=8,2.65,2.99),"") | AK64: =IF(AJ64<>"",IF(AJ64<=8,2.65,2.99),"") | AM64: =IF(AL64<>"",IF(AL64<=8,2.65,2.99),"") | AO64: =IF(AN64<>"",IF(AN64<=8,2.65,2.99),"") | AQ64: =IF(AP64<>"",IF(AP64<=8,2.65,2.99),"") | AS64: =IF(AR64<>"",IF(AR64<=8,2.65,2.99),"") | AU64: =IF(AT64<>"",IF(AT64<=8,2.65,2.99),"") | AW64: =IF(AV64<>"",IF(AV64<=8,2.65,2.99),"") | AY64: =IF(AX64<>"",IF(AX64<=8,2.65,2.99),"") | BA64: =IF(AZ64<>"",IF(AZ64<=8,2.65,2.99),"") | BC64: =IF(BB64<>"",IF(BB64<=8,2.65,2.99),"") | BE64: =IF(BD64<>"",IF(BD64<=8,2.65,2.99),"") | BG64: =IF(BF64<>"",IF(BF64<=8,2.65,2.99),"") | BI64: =IF(BH64<>"",IF(BH64<=8,2.65,2.99),"") | BK64: =IF(BJ64<>"",IF(BJ64<=8,2.65,2.99),"") | BL64: =B64+D64+F64+H64+J64+L64+N64+P64+R64+T64+V64+X64+Z64+AB64+AD64+AF64+AH64+AJ64+AL64+AN64+AP64+AR64+AT64+BJ64 -> 0 | BM64: =SUM(BA64,BC64,BE64,BG64,BI64,BK64,,AY64,AW64,AU64,AS64,AQ64,AO64,AM64,AK64,AI64,AG64,AE64,AC64,AA64,Y64,W64,U64,S64,Q64,O64,M64,K64,I64,G64,E64) -> 0
B65: =SUM(B60:B64) -> 0 | C65: =SUM(C60:C64) -> 0 | D65: =SUM(D60:D64) -> 0 | E65: =SUM(E60:E64) -> 0 | F65: =SUM(F60:F64) -> 0 | G65: =SUM(G60:G64) -> 0 | H65: =SUM(H60:H64) -> 0 | I65: =SUM(I60:I64) -> 0 | ... BM65: =SUM(BM60:BM64) -> 0
A66: MOIS DE SEPTEMBRE
B67: 42614 | D67: 42615 | F67: 42616 | H67: 42617 | J67: 42618 | L67: 42619 | N67: 42620 | P67: 42621 | R67: 42622 | T67: 42623 | V67: 42624 | X67: 42625 | Z67: 42626 | AB67: 42627 | AD67: 42628 | AF67: 42629 | AH67: 42630 | AJ67: 42631 | AL67: 42632 | AN67: 42633 | AP67: 42634 | AR67: 42635 | AT67: 42636 | AV67: 42637 | AX67: 42638 | AZ67: 42639 | BB67: 42640 | BD67: 42641 | BF67: 42642 | BH67: 42643 | BL67: TOTAL HEURES | BM67: TOTAL FRAIS ENTRETIEN
A68: ENFANT 1 | C68: =IF(B68<>"",IF(B68<=8,2.65,2.99),"") | E68: =IF(D68<>"",IF(D68<=8,2.65,2.99),"") | G68: =IF(F68<>"",IF(F68<=8,2.65,2.99),"") | I68: =IF(H68<>"",IF(H68<=8,2.65,2.99),"") | K68: =IF(J68<>"",IF(J68<=8,2.65,2.99),"") | M68: =IF(L68<>"",IF(L68<=8,2.65,2.99),"") | O68: =IF(N68<>"",IF(N68<=8,2.65,2.99),"") | Q68: =IF(P68<>"",IF(P68<=8,2.65,2.99),"") | S68: =IF(R68<>"",IF(R68<=8,2.65,2.99),"") | U68: =IF(T68<>"",IF(T68<=8,2.65,2.99),"") | W68: =IF(V68<>"",IF(V68<=8,2.65,2.99),"") | Y68: =IF(X68<>"",IF(X68<=8,2.65,2.99),"") | AA68: =IF(Z68<>"",IF(Z68<=8,2.65,2.99),"") | AC68: =IF(AB68<>"",IF(AB68<=8,2.65,2.99),"") | AE68: =IF(AD68<>"",IF(AD68<=8,2.65,2.99),"") | AG68: =IF(AF68<>"",IF(AF68<=8,2.65,2.99),"") | AI68: =IF(AH68<>"",IF(AH68<=8,2.65,2.99),"") | AK68: =IF(AJ68<>"",IF(AJ68<=8,2.65,2.99),"") | AM68: =IF(AL68<>"",IF(AL68<=8,2.65,2.99),"") | AO68: =IF(AN68<>"",IF(AN68<=8,2.65,2.99),"") | AQ68: =IF(AP68<>"",IF(AP68<=8,2.65,2.99),"") | AS68: =IF(AR68<>"",IF(AR68<=8,2.65,2.99),"") | AU68: =IF(AT68<>"",IF(AT68<=8,2.65,2.99),"") | AW68: =IF(AV68<>"",IF(AV68<=8,2.65,2.99),"") | AY68: =IF(AX68<>"",IF(AX68<=8,2.65,2.99),"") | BA68: =IF(AZ68<>"",IF(AZ68<=8,2.65,2.99),"") | BC68: =IF(BB68<>"",IF(BB68<=8,2.65,2.99),"") | BE68: =IF(BD68<>"",IF(BD68<=8,2.65,2.99),"") | BG68: =IF(BF68<>"",IF(BF68<=8,2.65,2.99),"") | BI68: =IF(BH68<>"",IF(BH68<=8,2.65,2.99),"") | BK68: =IF(BJ68<>"",IF(BJ68<=8,2.65,2.99),"") | BL68: =B68+D68+F68+H68+J68+L68+N68+P68+R68+T68+V68+X68+Z68+AB68+AD68+AF68+AH68+AJ68+AL68+AN68+AP68+AR68+AT68+BJ68 -> 0 | BM68: =SUM(BA68,BC68,BE68,BG68,BI68,BK68,,AY68,AW68,AU68,AS68,AQ68,AO68,AM68,AK68,AI68,AG68,AE68,AC68,AA68,Y68,W68,U68,S68,Q68,O68,M68,K68,I68,G68,E68) -> 0
A69: ENFANT 2 | C69: =IF(B69<>"",IF(B69<=8,2.65,2.99),"") | E69: =IF(D69<>"",IF(D69<=8,2.65,2.99),"") | G69: =IF(F69<>"",IF(F69<=8,2.65,2.99),"") | I69: =IF(H69<>"",IF(H69<=8,2.65,2.99),"") | K69: =IF(J69<>"",IF(J69<=8,2.65,2.99),"") | M69: =IF(L69<>"",IF(L69<=8,2.65,2.99),"") | O69: =IF(N69<>"",IF(N69<=8,2.65,2.99),"") | Q69: =IF(P69<>"",IF(P69<=8,2.65,2.99),"") | S69: =IF(R69<>"",IF(R69<=8,2.65,2.99),"") | U69: =IF(T69<>"",IF(T69<=8,2.65,2.99),"") | W69: =IF(V69<>"",IF(V69<=8,2.65,2.99),"") | Y69: =IF(X69<>"",IF(X69<=8,2.65,2.99),"") | AA69: =IF(Z69<>"",IF(Z69<=8,2.65,2.99),"") | AC69: =IF(AB69<>"",IF(AB69<=8,2.65,2.99),"") | AE69: =IF(AD69<>"",IF(AD69<=8,2.65,2.99),"") | AG69: =IF(AF69<>"",IF(AF69<=8,2.65,2.99),"") | AI69: =IF(AH69<>"",IF(AH69<=8,2.65,2.99),"") | AK69: =IF(AJ69<>"",IF(AJ69<=8,2.65,2.99),"") | AM69: =IF(AL69<>"",IF(AL69<=8,2.65,2.99),"") | AO69: =IF(AN69<>"",IF(AN69<=8,2.65,2.99),"") | AQ69: =IF(AP69<>"",IF(AP69<=8,2.65,2.99),"") | AS69: =IF(AR69<>"",IF(AR69<=8,2.65,2.99),"") | AU69: =IF(AT69<>"",IF(AT69<=8,2.65,2.99),"") | AW69: =IF(AV69<>"",IF(AV69<=8,2.65,2.99),"") | AY69: =IF(AX69<>"",IF(AX69<=8,2.65,2.99),"") | BA69: =IF(AZ69<>"",IF(AZ69<=8,2.65,2.99),"") | BC69: =IF(BB69<>"",IF(BB69<=8,2.65,2.99),"") | BE69: =IF(BD69<>"",IF(BD69<=8,2.65,2.99),"") | BG69: =IF(BF69<>"",IF(BF69<=8,2.65,2.99),"") | BI69: =IF(BH69<>"",IF(BH69<=8,2.65,2.99),"") | BK69: =IF(BJ69<>"",IF(BJ69<=8,2.65,2.99),"") | BL69: =B69+D69+F69+H69+J69+L69+N69+P69+R69+T69+V69+X69+Z69+AB69+AD69+AF69+AH69+AJ69+AL69+AN69+AP69+AR69+AT69+BJ69 -> 0 | BM69: =SUM(BA69,BC69,BE69,BG69,BI69,BK69,,AY69,AW69,AU69,AS69,AQ69,AO69,AM69,AK69,AI69,AG69,AE69,AC69,AA69,Y69,W69,U69,S69,Q69,O69,M69,K69,I69,G69,E69) -> 0
A70: ENFANT 3 | C70: =IF(B70<>"",IF(B70<=8,2.65,2.99),"") | E70: =IF(D70<>"",IF(D70<=8,2.65,2.99),"") | G70: =IF(F70<>"",IF(F70<=8,2.65,2.99),"") | I70: =IF(H70<>"",IF(H70<=8,2.65,2.99),"") | K70: =IF(J70<>"",IF(J70<=8,2.65,2.99),"") | M70: =IF(L70<>"",IF(L70<=8,2.65,2.99),"") | O70: =IF(N70<>"",IF(N70<=8,2.65,2.99),"") | Q70: =IF(P70<>"",IF(P70<=8,2.65,2.99),"") | S70: =IF(R70<>"",IF(R70<=8,2.65,2.99),"") | U70: =IF(T70<>"",IF(T70<=8,2.65,2.99),"") | W70: =IF(V70<>"",IF(V70<=8,2.65,2.99),"") | Y70: =IF(X70<>"",IF(X70<=8,2.65,2.99),"") | AA70: =IF(Z70<>"",IF(Z70<=8,2.65,2.99),"") | AC70: =IF(AB70<>"",IF(AB70<=8,2.65,2.99),"") | AE70: =IF(AD70<>"",IF(AD70<=8,2.65,2.99),"") | AG70: =IF(AF70<>"",IF(AF70<=8,2.65,2.99),"") | AI70: =IF(AH70<>"",IF(AH70<=8,2.65,2.99),"") | AK70: =IF(AJ70<>"",IF(AJ70<=8,2.65,2.99),"") | AM70: =IF(AL70<>"",IF(AL70<=8,2.65,2.99),"") | AO70: =IF(AN70<>"",IF(AN70<=8,2.65,2.99),"") | AQ70: =IF(AP70<>"",IF(AP70<=8,2.65,2.99),"") | AS70: =IF(AR70<>"",IF(AR70<=8,2.65,2.99),"") | AU70: =IF(AT70<>"",IF(AT70<=8,2.65,2.99),"") | AW70: =IF(AV70<>"",IF(AV70<=8,2.65,2.99),"") | AY70: =IF(AX70<>"",IF(AX70<=8,2.65,2.99),"") | BA70: =IF(AZ70<>"",IF(AZ70<=8,2.65,2.99),"") | BC70: =IF(BB70<>"",IF(BB70<=8,2.65,2.99),"") | BE70: =IF(BD70<>"",IF(BD70<=8,2.65,2.99),"") | BG70: =IF(BF70<>"",IF(BF70<=8,2.65,2.99),"") | BI70: =IF(BH70<>"",IF(BH70<=8,2.65,2.99),"") | BK70: =IF(BJ70<>"",IF(BJ70<=8,2.65,2.99),"") | BL70: =B70+D70+F70+H70+J70+L70+N70+P70+R70+T70+V70+X70+Z70+AB70+AD70+AF70+AH70+AJ70+AL70+AN70+AP70+AR70+AT70+BJ70 -> 0 | BM70: =SUM(BA70,BC70,BE70,BG70,BI70,BK70,,AY70,AW70,AU70,AS70,AQ70,AO70,AM70,AK70,AI70,AG70,AE70,AC70,AA70,Y70,W70,U70,S70,Q70,O70,M70,K70,I70,G70,E70) -> 0
A71: ENFANT 4 | C71: =IF(B71<>"",IF(B71<=8,2.65,2.99),"") | E71: =IF(D71<>"",IF(D71<=8,2.65,2.99),"") | G71: =IF(F71<>"",IF(F71<=8,2.65,2.99),"") | I71: =IF(H71<>"",IF(H71<=8,2.65,2.99),"") | K71: =IF(J71<>"",IF(J71<=8,2.65,2.99),"") | M71: =IF(L71<>"",IF(L71<=8,2.65,2.99),"") | O71: =IF(N71<>"",IF(N71<=8,2.65,2.99),"") | Q71: =IF(P71<>"",IF(P71<=8,2.65,2.99),"") | S71: =IF(R71<>"",IF(R71<=8,2.65,2.99),"") | U71: =IF(T71<>"",IF(T71<=8,2.65,2.99),"") | W71: =IF(V71<>"",IF(V71<=8,2.65,2.99),"") | Y71: =IF(X71<>"",IF(X71<=8,2.65,2.99),"") | AA71: =IF(Z71<>"",IF(Z71<=8,2.65,2.99),"") | AC71: =IF(AB71<>"",IF(AB71<=8,2.65,2.99),"") | AE71: =IF(AD71<>"",IF(AD71<=8,2.65,2.99),"") | AG71: =IF(AF71<>"",IF(AF71<=8,2.65,2.99),"") | AI71: =IF(AH71<>"",IF(AH71<=8,2.65,2.99),"") | AK71: =IF(AJ71<>"",IF(AJ71<=8,2.65,2.99),"") | AM71: =IF(AL71<>"",IF(AL71<=8,2.65,2.99),"") | AO71: =IF(AN71<>"",IF(AN71<=8,2.65,2.99),"") | AQ71: =IF(AP71<>"",IF(AP71<=8,2.65,2.99),"") | AS71: =IF(AR71<>"",IF(AR71<=8,2.65,2.99),"") | AU71: =IF(AT71<>"",IF(AT71<=8,2.65,2.99),"") | AW71: =IF(AV71<>"",IF(AV71<=8,2.65,2.99),"") | AY71: =IF(AX71<>"",IF(AX71<=8,2.65,2.99),"") | BA71: =IF(AZ71<>"",IF(AZ71<=8,2.65,2.99),"") | BC71: =IF(BB71<>"",IF(BB71<=8,2.65,2.99),"") | BE71: =IF(BD71<>"",IF(BD71<=8,2.65,2.99),"") | BG71: =IF(BF71<>"",IF(BF71<=8,2.65,2.99),"") | BI71: =IF(BH71<>"",IF(BH71<=8,2.65,2.99),"") | BK71: =IF(BJ71<>"",IF(BJ71<=8,2.65,2.99),"") | BL71: =B71+D71+F71+H71+J71+L71+N71+P71+R71+T71+V71+X71+Z71+AB71+AD71+AF71+AH71+AJ71+AL71+AN71+AP71+AR71+AT71+BJ71 -> 0 | BM71: =SUM(BA71,BC71,BE71,BG71,BI71,BK71,,AY71,AW71,AU71,AS71,AQ71,AO71,AM71,AK71,AI71,AG71,AE71,AC71,AA71,Y71,W71,U71,S71,Q71,O71,M71,K71,I71,G71,E71) -> 0
A72: ENFANT 5 | C72: =IF(B72<>"",IF(B72<=8,2.65,2.99),"") | E72: =IF(D72<>"",IF(D72<=8,2.65,2.99),"") | G72: =IF(F72<>"",IF(F72<=8,2.65,2.99),"") | I72: =IF(H72<>"",IF(H72<=8,2.65,2.99),"") | K72: =IF(J72<>"",IF(J72<=8,2.65,2.99),"") | M72: =IF(L72<>"",IF(L72<=8,2.65,2.99),"") | O72: =IF(N72<>"",IF(N72<=8,2.65,2.99),"") | Q72: =IF(P72<>"",IF(P72<=8,2.65,2.99),"") | S72: =IF(R72<>"",IF(R72<=8,2.65,2.99),"") | U72: =IF(T72<>"",IF(T72<=8,2.65,2.99),"") | W72: =IF(V72<>"",IF(V72<=8,2.65,2.99),"") | Y72: =IF(X72<>"",IF(X72<=8,2.65,2.99),"") | AA72: =IF(Z72<>"",IF(Z72<=8,2.65,2.99),"") | AC72: =IF(AB72<>"",IF(AB72<=8,2.65,2.99),"") | AE72: =IF(AD72<>"",IF(AD72<=8,2.65,2.99),"") | AG72: =IF(AF72<>"",IF(AF72<=8,2.65,2.99),"") | AI72: =IF(AH72<>"",IF(AH72<=8,2.65,2.99),"") | AK72: =IF(AJ72<>"",IF(AJ72<=8,2.65,2.99),"") | AM72: =IF(AL72<>"",IF(AL72<=8,2.65,2.99),"") | AO72: =IF(AN72<>"",IF(AN72<=8,2.65,2.99),"") | AQ72: =IF(AP72<>"",IF(AP72<=8,2.65,2.99),"") | AS72: =IF(AR72<>"",IF(AR72<=8,2.65,2.99),"") | AU72: =IF(AT72<>"",IF(AT72<=8,2.65,2.99),"") | AW72: =IF(AV72<>"",IF(AV72<=8,2.65,2.99),"") | AY72: =IF(AX72<>"",IF(AX72<=8,2.65,2.99),"") | BA72: =IF(AZ72<>"",IF(AZ72<=8,2.65,2.99),"") | BC72: =IF(BB72<>"",IF(BB72<=8,2.65,2.99),"") | BE72: =IF(BD72<>"",IF(BD72<=8,2.65,2.99),"") | BG72: =IF(BF72<>"",IF(BF72<=8,2.65,2.99),"") | BI72: =IF(BH72<>"",IF(BH72<=8,2.65,2.99),"") | BK72: =IF(BJ72<>"",IF(BJ72<=8,2.65,2.99),"") | BL72: =B72+D72+F72+H72+J72+L72+N72+P72+R72+T72+V72+X72+Z72+AB72+AD72+AF72+AH72+AJ72+AL72+AN72+AP72+AR72+AT72+BJ72 -> 0 | BM72: =SUM(BA72,BC72,BE72,BG72,BI72,BK72,,AY72,AW72,AU72,AS72,AQ72,AO72,AM72,AK72,AI72,AG72,AE72,AC72,AA72,Y72,W72,U72,S72,Q72,O72,M72,K72,I72,G72,E72) -> 0
B73: =SUM(B68:B72) -> 0 | C73: =SUM(C68:C72) -> 0 | D73: =SUM(D68:D72) -> 0 | E73: =SUM(E68:E72) -> 0 | F73: =SUM(F68:F72) -> 0 | G73: =SUM(G68:G72) -> 0 | H73: =SUM(H68:H72) -> 0 | I73: =SUM(I68:I72) -> 0 | ... BM73: =SUM(BM68:BM72) -> 0
A74: MOIS D'OCTOBRE
B75: 42644 | D75: 42645 | F75: 42646 | H75: 42647 | J75: 42648 | L75: 42649 | N75: 42650 | P75: 42651 | R75: 42652 | T75: 42653 | V75: 42654 | X75: 42655 | Z75: 42656 | AB75: 42657 | AD75: 42658 | AF75: 42659 | AH75: 42660 | AJ75: 42661 | AL75: 42662 | AN75: 42663 | AP75: 42664 | AR75: 42665 | AT75: 42666 | AV75: 42667 | AX75: 42668 | AZ75: 42669 | BB75: 42670 | BD75: 42671 | BF75: 42672 | BH75: 42673 | BJ75: 42674 | BL75: TOTAL HEURES | BM75: TOTAL FRAIS ENTRETIEN
A76: ENFANT 1 | C76: =IF(B76<>"",IF(B76<=8,2.65,2.99),"") | E76: =IF(D76<>"",IF(D76<=8,2.65,2.99),"") | G76: =IF(F76<>"",IF(F76<=8,2.65,2.99),"") | I76: =IF(H76<>"",IF(H76<=8,2.65,2.99),"") | K76: =IF(J76<>"",IF(J76<=8,2.65,2.99),"") | M76: =IF(L76<>"",IF(L76<=8,2.65,2.99),"") | O76: =IF(N76<>"",IF(N76<=8,2.65,2.99),"") | Q76: =IF(P76<>"",IF(P76<=8,2.65,2.99),"") | S76: =IF(R76<>"",IF(R76<=8,2.65,2.99),"") | U76: =IF(T76<>"",IF(T76<=8,2.65,2.99),"") | W76: =IF(V76<>"",IF(V76<=8,2.65,2.99),"") | Y76: =IF(X76<>"",IF(X76<=8,2.65,2.99),"") | AA76: =IF(Z76<>"",IF(Z76<=8,2.65,2.99),"") | AC76: =IF(AB76<>"",IF(AB76<=8,2.65,2.99),"") | AE76: =IF(AD76<>"",IF(AD76<=8,2.65,2.99),"") | AG76: =IF(AF76<>"",IF(AF76<=8,2.65,2.99),"") | AI76: =IF(AH76<>"",IF(AH76<=8,2.65,2.99),"") | AK76: =IF(AJ76<>"",IF(AJ76<=8,2.65,2.99),"") | AM76: =IF(AL76<>"",IF(AL76<=8,2.65,2.99),"") | AO76: =IF(AN76<>"",IF(AN76<=8,2.65,2.99),"") | AQ76: =IF(AP76<>"",IF(AP76<=8,2.65,2.99),"") | AS76: =IF(AR76<>"",IF(AR76<=8,2.65,2.99),"") | AU76: =IF(AT76<>"",IF(AT76<=8,2.65,2.99),"") | AW76: =IF(AV76<>"",IF(AV76<=8,2.65,2.99),"") | AY76: =IF(AX76<>"",IF(AX76<=8,2.65,2.99),"") | BA76: =IF(AZ76<>"",IF(AZ76<=8,2.65,2.99),"") | BC76: =IF(BB76<>"",IF(BB76<=8,2.65,2.99),"") | BE76: =IF(BD76<>"",IF(BD76<=8,2.65,2.99),"") | BG76: =IF(BF76<>"",IF(BF76<=8,2.65,2.99),"") | BI76: =IF(BH76<>"",IF(BH76<=8,2.65,2.99),"") | BK76: =IF(BJ76<>"",IF(BJ76<=8,2.65,2.99),"") | BL76: =B76+D76+F76+H76+J76+L76+N76+P76+R76+T76+V76+X76+Z76+AB76+AD76+AF76+AH76+AJ76+AL76+AN76+AP76+AR76+AT76+BJ76 -> 0 | BM76: =SUM(BA76,BC76,BE76,BG76,BI76,BK76,,AY76,AW76,AU76,AS76,AQ76,AO76,AM76,AK76,AI76,AG76,AE76,AC76,AA76,Y76,W76,U76,S76,Q76,O76,M76,K76,I76,G76,E76) -> 0
A77: ENFANT 2 | C77: =IF(B77<>"",IF(B77<=8,2.65,2.99),"") | E77: =IF(D77<>"",IF(D77<=8,2.65,2.99),"") | G77: =IF(F77<>"",IF(F77<=8,2.65,2.99),"") | I77: =IF(H77<>"",IF(H77<=8,2.65,2.99),"") | K77: =IF(J77<>"",IF(J77<=8,2.65,2.99),"") | M77: =IF(L77<>"",IF(L77<=8,2.65,2.99),"") | O77: =IF(N77<>"",IF(N77<=8,2.65,2.99),"") | Q77: =IF(P77<>"",IF(P77<=8,2.65,2.99),"") | S77: =IF(R77<>"",IF(R77<=8,2.65,2.99),"") | U77: =IF(T77<>"",IF(T77<=8,2.65,2.99),"") | W77: =IF(V77<>"",IF(V77<=8,2.65,2.99),"") | Y77: =IF(X77<>"",IF(X77<=8,2.65,2.99),"") | AA77: =IF(Z77<>"",IF(Z77<=8,2.65,2.99),"") | AC77: =IF(AB77<>"",IF(AB77<=8,2.65,2.99),"") | AE77: =IF(AD77<>"",IF(AD77<=8,2.65,2.99),"") | AG77: =IF(AF77<>"",IF(AF77<=8,2.65,2.99),"") | AI77: =IF(AH77<>"",IF(AH77<=8,2.65,2.99),"") | AK77: =IF(AJ77<>"",IF(AJ77<=8,2.65,2.99),"") | AM77: =IF(AL77<>"",IF(AL77<=8,2.65,2.99),"") | AO77: =IF(AN77<>"",IF(AN77<=8,2.65,2.99),"") | AQ77: =IF(AP77<>"",IF(AP77<=8,2.65,2.99),"") | AS77: =IF(AR77<>"",IF(AR77<=8,2.65,2.99),"") | AU77: =IF(AT77<>"",IF(AT77<=8,2.65,2.99),"") | AW77: =IF(AV77<>"",IF(AV77<=8,2.65,2.99),"") | AY77: =IF(AX77<>"",IF(AX77<=8,2.65,2.99),"") | BA77: =IF(AZ77<>"",IF(AZ77<=8,2.65,2.99),"") | BC77: =IF(BB77<>"",IF(BB77<=8,2.65,2.99),"") | BE77: =IF(BD77<>"",IF(BD77<=8,2.65,2.99),"") | BG77: =IF(BF77<>"",IF(BF77<=8,2.65,2.99),"") | BI77: =IF(BH77<>"",IF(BH77<=8,2.65,2.99),"") | BK77: =IF(BJ77<>"",IF(BJ77<=8,2.65,2.99),"") | BL77: =B77+D77+F77+H77+J77+L77+N77+P77+R77+T77+V77+X77+Z77+AB77+AD77+AF77+AH77+AJ77+AL77+AN77+AP77+AR77+AT77+BJ77 -> 0 | BM77: =SUM(BA77,BC77,BE77,BG77,BI77,BK77,,AY77,AW77,AU77,AS77,AQ77,AO77,AM77,AK77,AI77,AG77,AE77,AC77,AA77,Y77,W77,U77,S77,Q77,O77,M77,K77,I77,G77,E77) -> 0
A78: ENFANT 3 | C78: =IF(B78<>"",IF(B78<=8,2.65,2.99),"") | E78: =IF(D78<>"",IF(D78<=8,2.65,2.99),"") | G78: =IF(F78<>"",IF(F78<=8,2.65,2.99),"") | I78: =IF(H78<>"",IF(H78<=8,2.65,2.99),"") | K78: =IF(J78<>"",IF(J78<=8,2.65,2.99),"") | M78: =IF(L78<>"",IF(L78<=8,2.65,2.99),"") | O78: =IF(N78<>"",IF(N78<=8,2.65,2.99),"") | Q78: =IF(P78<>"",IF(P78<=8,2.65,2.99),"") | S78: =IF(R78<>"",IF(R78<=8,2.65,2.99),"") | U78: =IF(T78<>"",IF(T78<=8,2.65,2.99),"") | W78: =IF(V78<>"",IF(V78<=8,2.65,2.99),"") | Y78: =IF(X78<>"",IF(X78<=8,2.65,2.99),"") | AA78: =IF(Z78<>"",IF(Z78<=8,2.65,2.99),"") | AC78: =IF(AB78<>"",IF(AB78<=8,2.65,2.99),"") | AE78: =IF(AD78<>"",IF(AD78<=8,2.65,2.99),"") | AG78: =IF(AF78<>"",IF(AF78<=8,2.65,2.99),"") | AI78: =IF(AH78<>"",IF(AH78<=8,2.65,2.99),"") | AK78: =IF(AJ78<>"",IF(AJ78<=8,2.65,2.99),"") | AM78: =IF(AL78<>"",IF(AL78<=8,2.65,2.99),"") | AO78: =IF(AN78<>"",IF(AN78<=8,2.65,2.99),"") | AQ78: =IF(AP78<>"",IF(AP78<=8,2.65,2.99),"") | AS78: =IF(AR78<>"",IF(AR78<=8,2.65,2.99),"") | AU78: =IF(AT78<>"",IF(AT78<=8,2.65,2.99),"") | AW78: =IF(AV78<>"",IF(AV78<=8,2.65,2.99),"") | AY78: =IF(AX78<>"",IF(AX78<=8,2.65,2.99),"") | BA78: =IF(AZ78<>"",IF(AZ78<=8,2.65,2.99),"") | BC78: =IF(BB78<>"",IF(BB78<=8,2.65,2.99),"") | BE78: =IF(BD78<>"",IF(BD78<=8,2.65,2.99),"") | BG78: =IF(BF78<>"",IF(BF78<=8,2.65,2.99),"") | BI78: =IF(BH78<>"",IF(BH78<=8,2.65,2.99),"") | BK78: =IF(BJ78<>"",IF(BJ78<=8,2.65,2.99),"") | BL78: =B78+D78+F78+H78+J78+L78+N78+P78+R78+T78+V78+X78+Z78+AB78+AD78+AF78+AH78+AJ78+AL78+AN78+AP78+AR78+AT78+BJ78 -> 0 | BM78: =SUM(BA78,BC78,BE78,BG78,BI78,BK78,,AY78,AW78,AU78,AS78,AQ78,AO78,AM78,AK78,AI78,AG78,AE78,AC78,AA78,Y78,W78,U78,S78,Q78,O78,M78,K78,I78,G78,E78) -> 0
A79: ENFANT 4 | C79: =IF(B79<>"",IF(B79<=8,2.65,2.99),"") | E79: =IF(D79<>"",IF(D79<=8,2.65,2.99),"") | G79: =IF(F79<>"",IF(F79<=8,2.65,2.99),"") | I79: =IF(H79<>"",IF(H79<=8,2.65,2.99),"") | K79: =IF(J79<>"",IF(J79<=8,2.65,2.99),"") | M79: =IF(L79<>"",IF(L79<=8,2.65,2.99),"") | O79: =IF(N79<>"",IF(N79<=8,2.65,2.99),"") | Q79: =IF(P79<>"",IF(P79<=8,2.65,2.99),"") | S79: =IF(R79<>"",IF(R79<=8,2.65,2.99),"") | U79: =IF(T79<>"",IF(T79<=8,2.65,2.99),"") | W79: =IF(V79<>"",IF(V79<=8,2.65,2.99),"") | Y79: =IF(X79<>"",IF(X79<=8,2.65,2.99),"") | AA79: =IF(Z79<>"",IF(Z79<=8,2.65,2.99),"") | AC79: =IF(AB79<>"",IF(AB79<=8,2.65,2.99),"") | AE79: =IF(AD79<>"",IF(AD79<=8,2.65,2.99),"") | AG79: =IF(AF79<>"",IF(AF79<=8,2.65,2.99),"") | AI79: =IF(AH79<>"",IF(AH79<=8,2.65,2.99),"") | AK79: =IF(AJ79<>"",IF(AJ79<=8,2.65,2.99),"") | AM79: =IF(AL79<>"",IF(AL79<=8,2.65,2.99),"") | AO79: =IF(AN79<>"",IF(AN79<=8,2.65,2.99),"") | AQ79: =IF(AP79<>"",IF(AP79<=8,2.65,2.99),"") | AS79: =IF(AR79<>"",IF(AR79<=8,2.65,2.99),"") | AU79: =IF(AT79<>"",IF(AT79<=8,2.65,2.99),"") | AW79: =IF(AV79<>"",IF(AV79<=8,2.65,2.99),"") | AY79: =IF(AX79<>"",IF(AX79<=8,2.65,2.99),"") | BA79: =IF(AZ79<>"",IF(AZ79<=8,2.65,2.99),"") | BC79: =IF(BB79<>"",IF(BB79<=8,2.65,2.99),"") | BE79: =IF(BD79<>"",IF(BD79<=8,2.65,2.99),"") | BG79: =IF(BF79<>"",IF(BF79<=8,2.65,2.99),"") | BI79: =IF(BH79<>"",IF(BH79<=8,2.65,2.99),"") | BK79: =IF(BJ79<>"",IF(BJ79<=8,2.65,2.99),"") | BL79: =B79+D79+F79+H79+J79+L79+N79+P79+R79+T79+V79+X79+Z79+AB79+AD79+AF79+AH79+AJ79+AL79+AN79+AP79+AR79+AT79+BJ79 -> 0 | BM79: =SUM(BA79,BC79,BE79,BG79,BI79,BK79,,AY79,AW79,AU79,AS79,AQ79,AO79,AM79,AK79,AI79,AG79,AE79,AC79,AA79,Y79,W79,U79,S79,Q79,O79,M79,K79,I79,G79,E79) -> 0
A80: ENFANT 5 | C80: =IF(B80<>"",IF(B80<=8,2.65,2.99),"") | E80: =IF(D80<>"",IF(D80<=8,2.65,2.99),"") | G80: =IF(F80<>"",IF(F80<=8,2.65,2.99),"") | I80: =IF(H80<>"",IF(H80<=8,2.65,2.99),"") | K80: =IF(J80<>"",IF(J80<=8,2.65,2.99),"") | M80: =IF(L80<>"",IF(L80<=8,2.65,2.99),"") | O80: =IF(N80<>"",IF(N80<=8,2.65,2.99),"") | Q80: =IF(P80<>"",IF(P80<=8,2.65,2.99),"") | S80: =IF(R80<>"",IF(R80<=8,2.65,2.99),"") | U80: =IF(T80<>"",IF(T80<=8,2.65,2.99),"") | W80: =IF(V80<>"",IF(V80<=8,2.65,2.99),"") | Y80: =IF(X80<>"",IF(X80<=8,2.65,2.99),"") | AA80: =IF(Z80<>"",IF(Z80<=8,2.65,2.99),"") | AC80: =IF(AB80<>"",IF(AB80<=8,2.65,2.99),"") | AE80: =IF(AD80<>"",IF(AD80<=8,2.65,2.99),"") | AG80: =IF(AF80<>"",IF(AF80<=8,2.65,2.99),"") | AI80: =IF(AH80<>"",IF(AH80<=8,2.65,2.99),"") | AK80: =IF(AJ80<>"",IF(AJ80<=8,2.65,2.99),"") | AM80: =IF(AL80<>"",IF(AL80<=8,2.65,2.99),"") | AO80: =IF(AN80<>"",IF(AN80<=8,2.65,2.99),"") | AQ80: =IF(AP80<>"",IF(AP80<=8,2.65,2.99),"") | AS80: =IF(AR80<>"",IF(AR80<=8,2.65,2.99),"") | AU80: =IF(AT80<>"",IF(AT80<=8,2.65,2.99),"") | AW80: =IF(AV80<>"",IF(AV80<=8,2.65,2.99),"") | AY80: =IF(AX80<>"",IF(AX80<=8,2.65,2.99),"") | BA80: =IF(AZ80<>"",IF(AZ80<=8,2.65,2.99),"") | BC80: =IF(BB80<>"",IF(BB80<=8,2.65,2.99),"") | BE80: =IF(BD80<>"",IF(BD80<=8,2.65,2.99),"") | BG80: =IF(BF80<>"",IF(BF80<=8,2.65,2.99),"") | BI80: =IF(BH80<>"",IF(BH80<=8,2.65,2.99),"") | BK80: =IF(BJ80<>"",IF(BJ80<=8,2.65,2.99),"") | BL80: =B80+D80+F80+H80+J80+L80+N80+P80+R80+T80+V80+X80+Z80+AB80+AD80+AF80+AH80+AJ80+AL80+AN80+AP80+AR80+AT80+BJ80 -> 0 | BM80: =SUM(BA80,BC80,BE80,BG80,BI80,BK80,,AY80,AW80,AU80,AS80,AQ80,AO80,AM80,AK80,AI80,AG80,AE80,AC80,AA80,Y80,W80,U80,S80,Q80,O80,M80,K80,I80,G80,E80) -> 0
B81: =SUM(B76:B80) -> 0 | C81: =SUM(C76:C80) -> 0 | D81: =SUM(D76:D80) -> 0 | E81: =SUM(E76:E80) -> 0 | F81: =SUM(F76:F80) -> 0 | G81: =SUM(G76:G80) -> 0 | H81: =SUM(H76:H80) -> 0 | I81: =SUM(I76:I80) -> 0 | ... BM81: =SUM(BM76:BM80) -> 0
A82: MOIS DE NOVEMBRE
B83: 42675 | D83: 42676 | F83: 42677 | H83: 42678 | J83: 42679 | L83: 42680 | N83: 42681 | P83: 42682 | R83: 42683 | T83: 42684 | V83: 42685 | X83: 42686 | Z83: 42687 | AB83: 42688 | AD83: 42689 | AF83: 42690 | AH83: 42691 | AJ83: 42692 | AL83: 42693 | AN83: 42694 | AP83: 42695 | AR83: 42696 | AT83: 42697 | AV83: 42698 | AX83: 42699 | AZ83: 42700 | BB83: 42701 | BD83: 42702 | BF83: 42703 | BH83: 42704 | BL83: TOTAL HEURES | BM83: TOTAL FRAIS ENTRETIEN
A84: ENFANT 1 | C84: =IF(B84<>"",IF(B84<=8,2.65,2.99),"") | E84: =IF(D84<>"",IF(D84<=8,2.65,2.99),"") | G84: =IF(F84<>"",IF(F84<=8,2.65,2.99),"") | I84: =IF(H84<>"",IF(H84<=8,2.65,2.99),"") | K84: =IF(J84<>"",IF(J84<=8,2.65,2.99),"") | M84: =IF(L84<>"",IF(L84<=8,2.65,2.99),"") | O84: =IF(N84<>"",IF(N84<=8,2.65,2.99),"") | Q84: =IF(P84<>"",IF(P84<=8,2.65,2.99),"") | S84: =IF(R84<>"",IF(R84<=8,2.65,2.99),"") | U84: =IF(T84<>"",IF(T84<=8,2.65,2.99),"") | W84: =IF(V84<>"",IF(V84<=8,2.65,2.99),"") | Y84: =IF(X84<>"",IF(X84<=8,2.65,2.99),"") | AA84: =IF(Z84<>"",IF(Z84<=8,2.65,2.99),"") | AC84: =IF(AB84<>"",IF(AB84<=8,2.65,2.99),"") | AE84: =IF(AD84<>"",IF(AD84<=8,2.65,2.99),"") | AG84: =IF(AF84<>"",IF(AF84<=8,2.65,2.99),"") | AI84: =IF(AH84<>"",IF(AH84<=8,2.65,2.99),"") | AK84: =IF(AJ84<>"",IF(AJ84<=8,2.65,2.99),"") | AM84: =IF(AL84<>"",IF(AL84<=8,2.65,2.99),"") | AO84: =IF(AN84<>"",IF(AN84<=8,2.65,2.99),"") | AQ84: =IF(AP84<>"",IF(AP84<=8,2.65,2.99),"") | AS84: =IF(AR84<>"",IF(AR84<=8,2.65,2.99),"") | AU84: =IF(AT84<>"",IF(AT84<=8,2.65,2.99),"") | AW84: =IF(AV84<>"",IF(AV84<=8,2.65,2.99),"") | AY84: =IF(AX84<>"",IF(AX84<=8,2.65,2.99),"") | BA84: =IF(AZ84<>"",IF(AZ84<=8,2.65,2.99),"") | BC84: =IF(BB84<>"",IF(BB84<=8,2.65,2.99),"") | BE84: =IF(BD84<>"",IF(BD84<=8,2.65,2.99),"") | BG84: =IF(BF84<>"",IF(BF84<=8,2.65,2.99),"") | BI84: =IF(BH84<>"",IF(BH84<=8,2.65,2.99),"") | BK84: =IF(BJ84<>"",IF(BJ84<=8,2.65,2.99),"") | BL84: =B84+D84+F84+H84+J84+L84+N84+P84+R84+T84+V84+X84+Z84+AB84+AD84+AF84+AH84+AJ84+AL84+AN84+AP84+AR84+AT84+BJ84 -> 0 | BM84: =SUM(BA84,BC84,BE84,BG84,BI84,BK84,,AY84,AW84,AU84,AS84,AQ84,AO84,AM84,AK84,AI84,AG84,AE84,AC84,AA84,Y84,W84,U84,S84,Q84,O84,M84,K84,I84,G84,E84) -> 0
A85: ENFANT 2 | C85: =IF(B85<>"",IF(B85<=8,2.65,2.99),"") | E85: =IF(D85<>"",IF(D85<=8,2.65,2.99),"") | G85: =IF(F85<>"",IF(F85<=8,2.65,2.99),"") | I85: =IF(H85<>"",IF(H85<=8,2.65,2.99),"") | K85: =IF(J85<>"",IF(J85<=8,2.65,2.99),"") | M85: =IF(L85<>"",IF(L85<=8,2.65,2.99),"") | O85: =IF(N85<>"",IF(N85<=8,2.65,2.99),"") | Q85: =IF(P85<>"",IF(P85<=8,2.65,2.99),"") | S85: =IF(R85<>"",IF(R85<=8,2.65,2.99),"") | U85: =IF(T85<>"",IF(T85<=8,2.65,2.99),"") | W85: =IF(V85<>"",IF(V85<=8,2.65,2.99),"") | Y85: =IF(X85<>"",IF(X85<=8,2.65,2.99),"") | AA85: =IF(Z85<>"",IF(Z85<=8,2.65,2.99),"") | AC85: =IF(AB85<>"",IF(AB85<=8,2.65,2.99),"") | AE85: =IF(AD85<>"",IF(AD85<=8,2.65,2.99),"") | AG85: =IF(AF85<>"",IF(AF85<=8,2.65,2.99),"") | AI85: =IF(AH85<>"",IF(AH85<=8,2.65,2.99),"") | AK85: =IF(AJ85<>"",IF(AJ85<=8,2.65,2.99),"") | AM85: =IF(AL85<>"",IF(AL85<=8,2.65,2.99),"") | AO85: =IF(AN85<>"",IF(AN85<=8,2.65,2.99),"") | AQ85: =IF(AP85<>"",IF(AP85<=8,2.65,2.99),"") | AS85: =IF(AR85<>"",IF(AR85<=8,2.65,2.99),"") | AU85: =IF(AT85<>"",IF(AT85<=8,2.65,2.99),"") | AW85: =IF(AV85<>"",IF(AV85<=8,2.65,2.99),"") | AY85: =IF(AX85<>"",IF(AX85<=8,2.65,2.99),"") | BA85: =IF(AZ85<>"",IF(AZ85<=8,2.65,2.99),"") | BC85: =IF(BB85<>"",IF(BB85<=8,2.65,2.99),"") | BE85: =IF(BD85<>"",IF(BD85<=8,2.65,2.99),"") | BG85: =IF(BF85<>"",IF(BF85<=8,2.65,2.99),"") | BI85: =IF(BH85<>"",IF(BH85<=8,2.65,2.99),"") | BK85: =IF(BJ85<>"",IF(BJ85<=8,2.65,2.99),"") | BL85: =B85+D85+F85+H85+J85+L85+N85+P85+R85+T85+V85+X85+Z85+AB85+AD85+AF85+AH85+AJ85+AL85+AN85+AP85+AR85+AT85+BJ85 -> 0 | BM85: =SUM(BA85,BC85,BE85,BG85,BI85,BK85,,AY85,AW85,AU85,AS85,AQ85,AO85,AM85,AK85,AI85,AG85,AE85,AC85,AA85,Y85,W85,U85,S85,Q85,O85,M85,K85,I85,G85,E85) -> 0
A86: ENFANT 3 | C86: =IF(B86<>"",IF(B86<=8,2.65,2.99),"") | E86: =IF(D86<>"",IF(D86<=8,2.65,2.99),"") | G86: =IF(F86<>"",IF(F86<=8,2.65,2.99),"") | I86: =IF(H86<>"",IF(H86<=8,2.65,2.99),"") | K86: =IF(J86<>"",IF(J86<=8,2.65,2.99),"") | M86: =IF(L86<>"",IF(L86<=8,2.65,2.99),"") | O86: =IF(N86<>"",IF(N86<=8,2.65,2.99),"") | Q86: =IF(P86<>"",IF(P86<=8,2.65,2.99),"") | S86: =IF(R86<>"",IF(R86<=8,2.65,2.99),"") | U86: =IF(T86<>"",IF(T86<=8,2.65,2.99),"") | W86: =IF(V86<>"",IF(V86<=8,2.65,2.99),"") | Y86: =IF(X86<>"",IF(X86<=8,2.65,2.99),"") | AA86: =IF(Z86<>"",IF(Z86<=8,2.65,2.99),"") | AC86: =IF(AB86<>"",IF(AB86<=8,2.65,2.99),"") | AE86: =IF(AD86<>"",IF(AD86<=8,2.65,2.99),"") | AG86: =IF(AF86<>"",IF(AF86<=8,2.65,2.99),"") | AI86: =IF(AH86<>"",IF(AH86<=8,2.65,2.99),"") | AK86: =IF(AJ86<>"",IF(AJ86<=8,2.65,2.99),"") | AM86: =IF(AL86<>"",IF(AL86<=8,2.65,2.99),"") | AO86: =IF(AN86<>"",IF(AN86<=8,2.65,2.99),"") | AQ86: =IF(AP86<>"",IF(AP86<=8,2.65,2.99),"") | AS86: =IF(AR86<>"",IF(AR86<=8,2.65,2.99),"") | AU86: =IF(AT86<>"",IF(AT86<=8,2.65,2.99),"") | AW86: =IF(AV86<>"",IF(AV86<=8,2.65,2.99),"") | AY86: =IF(AX86<>"",IF(AX86<=8,2.65,2.99),"") | BA86: =IF(AZ86<>"",IF(AZ86<=8,2.65,2.99),"") | BC86: =IF(BB86<>"",IF(BB86<=8,2.65,2.99),"") | BE86: =IF(BD86<>"",IF(BD86<=8,2.65,2.99),"") | BG86: =IF(BF86<>"",IF(BF86<=8,2.65,2.99),"") | BI86: =IF(BH86<>"",IF(BH86<=8,2.65,2.99),"") | BK86: =IF(BJ86<>"",IF(BJ86<=8,2.65,2.99),"") | BL86: =B86+D86+F86+H86+J86+L86+N86+P86+R86+T86+V86+X86+Z86+AB86+AD86+AF86+AH86+AJ86+AL86+AN86+AP86+AR86+AT86+BJ86 -> 0 | BM86: =SUM(BA86,BC86,BE86,BG86,BI86,BK86,,AY86,AW86,AU86,AS86,AQ86,AO86,AM86,AK86,AI86,AG86,AE86,AC86,AA86,Y86,W86,U86,S86,Q86,O86,M86,K86,I86,G86,E86) -> 0
A87: ENFANT 4 | C87: =IF(B87<>"",IF(B87<=8,2.65,2.99),"") | E87: =IF(D87<>"",IF(D87<=8,2.65,2.99),"") | G87: =IF(F87<>"",IF(F87<=8,2.65,2.99),"") | I87: =IF(H87<>"",IF(H87<=8,2.65,2.99),"") | K87: =IF(J87<>"",IF(J87<=8,2.65,2.99),"") | M87: =IF(L87<>"",IF(L87<=8,2.65,2.99),"") | O87: =IF(N87<>"",IF(N87<=8,2.65,2.99),"") | Q87: =IF(P87<>"",IF(P87<=8,2.65,2.99),"") | S87: =IF(R87<>"",IF(R87<=8,2.65,2.99),"") | U87: =IF(T87<>"",IF(T87<=8,2.65,2.99),"") | W87: =IF(V87<>"",IF(V87<=8,2.65,2.99),"") | Y87: =IF(X87<>"",IF(X87<=8,2.65,2.99),"") | AA87: =IF(Z87<>"",IF(Z87<=8,2.65,2.99),"") | AC87: =IF(AB87<>"",IF(AB87<=8,2.65,2.99),"") | AE87: =IF(AD87<>"",IF(AD87<=8,2.65,2.99),"") | AG87: =IF(AF87<>"",IF(AF87<=8,2.65,2.99),"") | AI87: =IF(AH87<>"",IF(AH87<=8,2.65,2.99),"") | AK87: =IF(AJ87<>"",IF(AJ87<=8,2.65,2.99),"") | AM87: =IF(AL87<>"",IF(AL87<=8,2.65,2.99),"") | AO87: =IF(AN87<>"",IF(AN87<=8,2.65,2.99),"") | AQ87: =IF(AP87<>"",IF(AP87<=8,2.65,2.99),"") | AS87: =IF(AR87<>"",IF(AR87<=8,2.65,2.99),"") | AU87: =IF(AT87<>"",IF(AT87<=8,2.65,2.99),"") | AW87: =IF(AV87<>"",IF(AV87<=8,2.65,2.99),"") | AY87: =IF(AX87<>"",IF(AX87<=8,2.65,2.99),"") | BA87: =IF(AZ87<>"",IF(AZ87<=8,2.65,2.99),"") | BC87: =IF(BB87<>"",IF(BB87<=8,2.65,2.99),"") | BE87: =IF(BD87<>"",IF(BD87<=8,2.65,2.99),"") | BG87: =IF(BF87<>"",IF(BF87<=8,2.65,2.99),"") | BI87: =IF(BH87<>"",IF(BH87<=8,2.65,2.99),"") | BK87: =IF(BJ87<>"",IF(BJ87<=8,2.65,2.99),"") | BL87: =B87+D87+F87+H87+J87+L87+N87+P87+R87+T87+V87+X87+Z87+AB87+AD87+AF87+AH87+AJ87+AL87+AN87+AP87+AR87+AT87+BJ87 -> 0 | BM87: =SUM(BA87,BC87,BE87,BG87,BI87,BK87,,AY87,AW87,AU87,AS87,AQ87,AO87,AM87,AK87,AI87,AG87,AE87,AC87,AA87,Y87,W87,U87,S87,Q87,O87,M87,K87,I87,G87,E87) -> 0
A88: ENFANT 5 | C88: =IF(B88<>"",IF(B88<=8,2.65,2.99),"") | E88: =IF(D88<>"",IF(D88<=8,2.65,2.99),"") | G88: =IF(F88<>"",IF(F88<=8,2.65,2.99),"") | I88: =IF(H88<>"",IF(H88<=8,2.65,2.99),"") | K88: =IF(J88<>"",IF(J88<=8,2.65,2.99),"") | M88: =IF(L88<>"",IF(L88<=8,2.65,2.99),"") | O88: =IF(N88<>"",IF(N88<=8,2.65,2.99),"") | Q88: =IF(P88<>"",IF(P88<=8,2.65,2.99),"") | S88: =IF(R88<>"",IF(R88<=8,2.65,2.99),"") | U88: =IF(T88<>"",IF(T88<=8,2.65,2.99),"") | W88: =IF(V88<>"",IF(V88<=8,2.65,2.99),"") | Y88: =IF(X88<>"",IF(X88<=8,2.65,2.99),"") | AA88: =IF(Z88<>"",IF(Z88<=8,2.65,2.99),"") | AC88: =IF(AB88<>"",IF(AB88<=8,2.65,2.99),"") | AE88: =IF(AD88<>"",IF(AD88<=8,2.65,2.99),"") | AG88: =IF(AF88<>"",IF(AF88<=8,2.65,2.99),"") | AI88: =IF(AH88<>"",IF(AH88<=8,2.65,2.99),"") | AK88: =IF(AJ88<>"",IF(AJ88<=8,2.65,2.99),"") | AM88: =IF(AL88<>"",IF(AL88<=8,2.65,2.99),"") | AO88: =IF(AN88<>"",IF(AN88<=8,2.65,2.99),"") | AQ88: =IF(AP88<>"",IF(AP88<=8,2.65,2.99),"") | AS88: =IF(AR88<>"",IF(AR88<=8,2.65,2.99),"") | AU88: =IF(AT88<>"",IF(AT88<=8,2.65,2.99),"") | AW88: =IF(AV88<>"",IF(AV88<=8,2.65,2.99),"") | AY88: =IF(AX88<>"",IF(AX88<=8,2.65,2.99),"") | BA88: =IF(AZ88<>"",IF(AZ88<=8,2.65,2.99),"") | BC88: =IF(BB88<>"",IF(BB88<=8,2.65,2.99),"") | BE88: =IF(BD88<>"",IF(BD88<=8,2.65,2.99),"") | BG88: =IF(BF88<>"",IF(BF88<=8,2.65,2.99),"") | BI88: =IF(BH88<>"",IF(BH88<=8,2.65,2.99),"") | BK88: =IF(BJ88<>"",IF(BJ88<=8,2.65,2.99),"") | BL88: =B88+D88+F88+H88+J88+L88+N88+P88+R88+T88+V88+X88+Z88+AB88+AD88+AF88+AH88+AJ88+AL88+AN88+AP88+AR88+AT88+BJ88 -> 0 | BM88: =SUM(BA88,BC88,BE88,BG88,BI88,BK88,,AY88,AW88,AU88,AS88,AQ88,AO88,AM88,AK88,AI88,AG88,AE88,AC88,AA88,Y88,W88,U88,S88,Q88,O88,M88,K88,I88,G88,E88) -> 0
B89: =SUM(B84:B88) -> 0 | C89: =SUM(C84:C88) -> 0 | D89: =SUM(D84:D88) -> 0 | E89: =SUM(E84:E88) -> 0 | F89: =SUM(F84:F88) -> 0 | G89: =SUM(G84:G88) -> 0 | H89: =SUM(H84:H88) -> 0 | I89: =SUM(I84:I88) -> 0 | ... BI89: =SUM(BI84:BI88) -> 0 | BL89: =SUM(BL84:BL88) -> 0 | BM89: =SUM(BM84:BM88) -> 0
A90: MOIS DE DECEMBRE
B91: 42705 | D91: 42706 | F91: 42707 | H91: 42708 | J91: 42709 | L91: 42710 | N91: 42711 | P91: 42712 | R91: 42713 | T91: 42714 | V91: 42715 | X91: 42716 | Z91: 42717 | AB91: 42718 | AD91: 42719 | AF91: 42720 | AH91: 42721 | AJ91: 42722 | AL91: 42723 | AN91: 42724 | AP91: 42725 | AR91: 42726 | AT91: 42727 | AV91: 42728 | AX91: 42729 | AZ91: 42730 | BB91: 42731 | BD91: 42732 | BF91: 42733 | BH91: 42734 | BJ91: 42735 | BL91: TOTAL HEURES | BM91: TOTAL FRAIS ENTRETIEN
A92: ENFANT 1 | C92: =IF(B92<>"",IF(B92<=8,2.65,2.99),"") | E92: =IF(D92<>"",IF(D92<=8,2.65,2.99),"") | G92: =IF(F92<>"",IF(F92<=8,2.65,2.99),"") | I92: =IF(H92<>"",IF(H92<=8,2.65,2.99),"") | K92: =IF(J92<>"",IF(J92<=8,2.65,2.99),"") | M92: =IF(L92<>"",IF(L92<=8,2.65,2.99),"") | O92: =IF(N92<>"",IF(N92<=8,2.65,2.99),"") | Q92: =IF(P92<>"",IF(P92<=8,2.65,2.99),"") | S92: =IF(R92<>"",IF(R92<=8,2.65,2.99),"") | U92: =IF(T92<>"",IF(T92<=8,2.65,2.99),"") | W92: =IF(V92<>"",IF(V92<=8,2.65,2.99),"") | Y92: =IF(X92<>"",IF(X92<=8,2.65,2.99),"") | AA92: =IF(Z92<>"",IF(Z92<=8,2.65,2.99),"") | AC92: =IF(AB92<>"",IF(AB92<=8,2.65,2.99),"") | AE92: =IF(AD92<>"",IF(AD92<=8,2.65,2.99),"") | AG92: =IF(AF92<>"",IF(AF92<=8,2.65,2.99),"") | AI92: =IF(AH92<>"",IF(AH92<=8,2.65,2.99),"") | AK92: =IF(AJ92<>"",IF(AJ92<=8,2.65,2.99),"") | AM92: =IF(AL92<>"",IF(AL92<=8,2.65,2.99),"") | AO92: =IF(AN92<>"",IF(AN92<=8,2.65,2.99),"") | AQ92: =IF(AP92<>"",IF(AP92<=8,2.65,2.99),"") | AS92: =IF(AR92<>"",IF(AR92<=8,2.65,2.99),"") | AU92: =IF(AT92<>"",IF(AT92<=8,2.65,2.99),"") | AW92: =IF(AV92<>"",IF(AV92<=8,2.65,2.99),"") | AY92: =IF(AX92<>"",IF(AX92<=8,2.65,2.99),"") | BA92: =IF(AZ92<>"",IF(AZ92<=8,2.65,2.99),"") | BC92: =IF(BB92<>"",IF(BB92<=8,2.65,2.99),"") | BE92: =IF(BD92<>"",IF(BD92<=8,2.65,2.99),"") | BG92: =IF(BF92<>"",IF(BF92<=8,2.65,2.99),"") | BI92: =IF(BH92<>"",IF(BH92<=8,2.65,2.99),"") | BK92: =IF(BJ92<>"",IF(BJ92<=8,2.65,2.99),"") | BL92: =B92+D92+F92+H92+J92+L92+N92+P92+R92+T92+V92+X92+Z92+AB92+AD92+AF92+AH92+AJ92+AL92+AN92+AP92+AR92+AT92+BJ92 -> 0 | BM92: =SUM(BA92,BC92,BE92,BG92,BI92,BK92,,AY92,AW92,AU92,AS92,AQ92,AO92,AM92,AK92,AI92,AG92,AE92,AC92,AA92,Y92,W92,U92,S92,Q92,O92,M92,K92,I92,G92,E92) -> 0
A93: ENFANT 2 | C93: =IF(B93<>"",IF(B93<=8,2.65,2.99),"") | E93: =IF(D93<>"",IF(D93<=8,2.65,2.99),"") | G93: =IF(F93<>"",IF(F93<=8,2.65,2.99),"") | I93: =IF(H93<>"",IF(H93<=8,2.65,2.99),"") | K93: =IF(J93<>"",IF(J93<=8,2.65,2.99),"") | M93: =IF(L93<>"",IF(L93<=8,2.65,2.99),"") | O93: =IF(N93<>"",IF(N93<=8,2.65,2.99),"") | Q93: =IF(P93<>"",IF(P93<=8,2.65,2.99),"") | S93: =IF(R93<>"",IF(R93<=8,2.65,2.99),"") | U93: =IF(T93<>"",IF(T93<=8,2.65,2.99),"") | W93: =IF(V93<>"",IF(V93<=8,2.65,2.99),"") | Y93: =IF(X93<>"",IF(X93<=8,2.65,2.99),"") | AA93: =IF(Z93<>"",IF(Z93<=8,2.65,2.99),"") | AC93: =IF(AB93<>"",IF(AB93<=8,2.65,2.99),"") | AE93: =IF(AD93<>"",IF(AD93<=8,2.65,2.99),"") | AG93: =IF(AF93<>"",IF(AF93<=8,2.65,2.99),"") | AI93: =IF(AH93<>"",IF(AH93<=8,2.65,2.99),"") | AK93: =IF(AJ93<>"",IF(AJ93<=8,2.65,2.99),"") | AM93: =IF(AL93<>"",IF(AL93<=8,2.65,2.99),"") | AO93: =IF(AN93<>"",IF(AN93<=8,2.65,2.99),"") | AQ93: =IF(AP93<>"",IF(AP93<=8,2.65,2.99),"") | AS93: =IF(AR93<>"",IF(AR93<=8,2.65,2.99),"") | AU93: =IF(AT93<>"",IF(AT93<=8,2.65,2.99),"") | AW93: =IF(AV93<>"",IF(AV93<=8,2.65,2.99),"") | AY93: =IF(AX93<>"",IF(AX93<=8,2.65,2.99),"") | BA93: =IF(AZ93<>"",IF(AZ93<=8,2.65,2.99),"") | BC93: =IF(BB93<>"",IF(BB93<=8,2.65,2.99),"") | BE93: =IF(BD93<>"",IF(BD93<=8,2.65,2.99),"") | BG93: =IF(BF93<>"",IF(BF93<=8,2.65,2.99),"") | BI93: =IF(BH93<>"",IF(BH93<=8,2.65,2.99),"") | BK93: =IF(BJ93<>"",IF(BJ93<=8,2.65,2.99),"") | BL93: =B93+D93+F93+H93+J93+L93+N93+P93+R93+T93+V93+X93+Z93+AB93+AD93+AF93+AH93+AJ93+AL93+AN93+AP93+AR93+AT93+BJ93 -> 0 | BM93: =SUM(BA93,BC93,BE93,BG93,BI93,BK93,,AY93,AW93,AU93,AS93,AQ93,AO93,AM93,AK93,AI93,AG93,AE93,AC93,AA93,Y93,W93,U93,S93,Q93,O93,M93,K93,I93,G93,E93) -> 0
A94: ENFANT 3 | C94: =IF(B94<>"",IF(B94<=8,2.65,2.99),"") | E94: =IF(D94<>"",IF(D94<=8,2.65,2.99),"") | G94: =IF(F94<>"",IF(F94<=8,2.65,2.99),"") | I94: =IF(H94<>"",IF(H94<=8,2.65,2.99),"") | K94: =IF(J94<>"",IF(J94<=8,2.65,2.99),"") | M94: =IF(L94<>"",IF(L94<=8,2.65,2.99),"") | O94: =IF(N94<>"",IF(N94<=8,2.65,2.99),"") | Q94: =IF(P94<>"",IF(P94<=8,2.65,2.99),"") | S94: =IF(R94<>"",IF(R94<=8,2.65,2.99),"") | U94: =IF(T94<>"",IF(T94<=8,2.65,2.99),"") | W94: =IF(V94<>"",IF(V94<=8,2.65,2.99),"") | Y94: =IF(X94<>"",IF(X94<=8,2.65,2.99),"") | AA94: =IF(Z94<>"",IF(Z94<=8,2.65,2.99),"") | AC94: =IF(AB94<>"",IF(AB94<=8,2.65,2.99),"") | AE94: =IF(AD94<>"",IF(AD94<=8,2.65,2.99),"") | AG94: =IF(AF94<>"",IF(AF94<=8,2.65,2.99),"") | AI94: =IF(AH94<>"",IF(AH94<=8,2.65,2.99),"") | AK94: =IF(AJ94<>"",IF(AJ94<=8,2.65,2.99),"") | AM94: =IF(AL94<>"",IF(AL94<=8,2.65,2.99),"") | AO94: =IF(AN94<>"",IF(AN94<=8,2.65,2.99),"") | AQ94: =IF(AP94<>"",IF(AP94<=8,2.65,2.99),"") | AS94: =IF(AR94<>"",IF(AR94<=8,2.65,2.99),"") | AU94: =IF(AT94<>"",IF(AT94<=8,2.65,2.99),"") | AW94: =IF(AV94<>"",IF(AV94<=8,2.65,2.99),"") | AY94: =IF(AX94<>"",IF(AX94<=8,2.65,2.99),"") | BA94: =IF(AZ94<>"",IF(AZ94<=8,2.65,2.99),"") | BC94: =IF(BB94<>"",IF(BB94<=8,2.65,2.99),"") | BE94: =IF(BD94<>"",IF(BD94<=8,2.65,2.99),"") | BG94: =IF(BF94<>"",IF(BF94<=8,2.65,2.99),"") | BI94: =IF(BH94<>"",IF(BH94<=8,2.65,2.99),"") | BK94: =IF(BJ94<>"",IF(BJ94<=8,2.65,2.99),"") | BL94: =B94+D94+F94+H94+J94+L94+N94+P94+R94+T94+V94+X94+Z94+AB94+AD94+AF94+AH94+AJ94+AL94+AN94+AP94+AR94+AT94+BJ94 -> 0 | BM94: =SUM(BA94,BC94,BE94,BG94,BI94,BK94,,AY94,AW94,AU94,AS94,AQ94,AO94,AM94,AK94,AI94,AG94,AE94,AC94,AA94,Y94,W94,U94,S94,Q94,O94,M94,K94,I94,G94,E94) -> 0
A95: ENFANT 4 | C95: =IF(B95<>"",IF(B95<=8,2.65,2.99),"") | E95: =IF(D95<>"",IF(D95<=8,2.65,2.99),"") | G95: =IF(F95<>"",IF(F95<=8,2.65,2.99),"") | I95: =IF(H95<>"",IF(H95<=8,2.65,2.99),"") | K95: =IF(J95<>"",IF(J95<=8,2.65,2.99),"") | M95: =IF(L95<>"",IF(L95<=8,2.65,2.99),"") | O95: =IF(N95<>"",IF(N95<=8,2.65,2.99),"") | Q95: =IF(P95<>"",IF(P95<=8,2.65,2.99),"") | S95: =IF(R95<>"",IF(R95<=8,2.65,2.99),"") | U95: =IF(T95<>"",IF(T95<=8,2.65,2.99),"") | W95: =IF(V95<>"",IF(V95<=8,2.65,2.99),"") | Y95: =IF(X95<>"",IF(X95<=8,2.65,2.99),"") | AA95: =IF(Z95<>"",IF(Z95<=8,2.65,2.99),"") | AC95: =IF(AB95<>"",IF(AB95<=8,2.65,2.99),"") | AE95: =IF(AD95<>"",IF(AD95<=8,2.65,2.99),"") | AG95: =IF(AF95<>"",IF(AF95<=8,2.65,2.99),"") | AI95: =IF(AH95<>"",IF(AH95<=8,2.65,2.99),"") | AK95: =IF(AJ95<>"",IF(AJ95<=8,2.65,2.99),"") | AM95: =IF(AL95<>"",IF(AL95<=8,2.65,2.99),"") | AO95: =IF(AN95<>"",IF(AN95<=8,2.65,2.99),"") | AQ95: =IF(AP95<>"",IF(AP95<=8,2.65,2.99),"") | AS95: =IF(AR95<>"",IF(AR95<=8,2.65,2.99),"") | AU95: =IF(AT95<>"",IF(AT95<=8,2.65,2.99),"") | AW95: =IF(AV95<>"",IF(AV95<=8,2.65,2.99),"") | AY95: =IF(AX95<>"",IF(AX95<=8,2.65,2.99),"") | BA95: =IF(AZ95<>"",IF(AZ95<=8,2.65,2.99),"") | BC95: =IF(BB95<>"",IF(BB95<=8,2.65,2.99),"") | BE95: =IF(BD95<>"",IF(BD95<=8,2.65,2.99),"") | BG95: =IF(BF95<>"",IF(BF95<=8,2.65,2.99),"") | BI95: =IF(BH95<>"",IF(BH95<=8,2.65,2.99),"") | BK95: =IF(BJ95<>"",IF(BJ95<=8,2.65,2.99),"") | BL95: =B95+D95+F95+H95+J95+L95+N95+P95+R95+T95+V95+X95+Z95+AB95+AD95+AF95+AH95+AJ95+AL95+AN95+AP95+AR95+AT95+BJ95 -> 0 | BM95: =SUM(BA95,BC95,BE95,BG95,BI95,BK95,,AY95,AW95,AU95,AS95,AQ95,AO95,AM95,AK95,AI95,AG95,AE95,AC95,AA95,Y95,W95,U95,S95,Q95,O95,M95,K95,I95,G95,E95) -> 0
A96: ENFANT 5 | C96: =IF(B96<>"",IF(B96<=8,2.65,2.99),"") | E96: =IF(D96<>"",IF(D96<=8,2.65,2.99),"") | G96: =IF(F96<>"",IF(F96<=8,2.65,2.99),"") | I96: =IF(H96<>"",IF(H96<=8,2.65,2.99),"") | K96: =IF(J96<>"",IF(J96<=8,2.65,2.99),"") | M96: =IF(L96<>"",IF(L96<=8,2.65,2.99),"") | O96: =IF(N96<>"",IF(N96<=8,2.65,2.99),"") | Q96: =IF(P96<>"",IF(P96<=8,2.65,2.99),"") | S96: =IF(R96<>"",IF(R96<=8,2.65,2.99),"") | U96: =IF(T96<>"",IF(T96<=8,2.65,2.99),"") | W96: =IF(V96<>"",IF(V96<=8,2.65,2.99),"") | Y96: =IF(X96<>"",IF(X96<=8,2.65,2.99),"") | AA96: =IF(Z96<>"",IF(Z96<=8,2.65,2.99),"") | AC96: =IF(AB96<>"",IF(AB96<=8,2.65,2.99),"") | AE96: =IF(AD96<>"",IF(AD96<=8,2.65,2.99),"") | AG96: =IF(AF96<>"",IF(AF96<=8,2.65,2.99),"") | AI96: =IF(AH96<>"",IF(AH96<=8,2.65,2.99),"") | AK96: =IF(AJ96<>"",IF(AJ96<=8,2.65,2.99),"") | AM96: =IF(AL96<>"",IF(AL96<=8,2.65,2.99),"") | AO96: =IF(AN96<>"",IF(AN96<=8,2.65,2.99),"") | AQ96: =IF(AP96<>"",IF(AP96<=8,2.65,2.99),"") | AS96: =IF(AR96<>"",IF(AR96<=8,2.65,2.99),"") | AU96: =IF(AT96<>"",IF(AT96<=8,2.65,2.99),"") | AW96: =IF(AV96<>"",IF(AV96<=8,2.65,2.99),"") | AY96: =IF(AX96<>"",IF(AX96<=8,2.65,2.99),"") | BA96: =IF(AZ96<>"",IF(AZ96<=8,2.65,2.99),"") | BC96: =IF(BB96<>"",IF(BB96<=8,2.65,2.99),"") | BE96: =IF(BD96<>"",IF(BD96<=8,2.65,2.99),"") | BG96: =IF(BF96<>"",IF(BF96<=8,2.65,2.99),"") | BI96: =IF(BH96<>"",IF(BH96<=8,2.65,2.99),"") | BK96: =IF(BJ96<>"",IF(BJ96<=8,2.65,2.99),"") | BL96: =B96+D96+F96+H96+J96+L96+N96+P96+R96+T96+V96+X96+Z96+AB96+AD96+AF96+AH96+AJ96+AL96+AN96+AP96+AR96+AT96+BJ96 -> 0 | BM96: =SUM(BA96,BC96,BE96,BG96,BI96,BK96,,AY96,AW96,AU96,AS96,AQ96,AO96,AM96,AK96,AI96,AG96,AE96,AC96,AA96,Y96,W96,U96,S96,Q96,O96,M96,K96,I96,G96,E96) -> 0
B97: =SUM(B92:B96) -> 0 | C97: =SUM(C92:C96) -> 0 | D97: =SUM(D92:D96) -> 0 | E97: =SUM(E92:E96) -> 0 | F97: =SUM(F92:F96) -> 0 | G97: =SUM(G92:G96) -> 0 | H97: =SUM(H92:H96) -> 0 | I97: =SUM(I92:I96) -> 0 | ... BM97: =SUM(BM92:BM96) -> 0

Sheet récap annuelle
A1: POUR DECLARATION IMPOTS
B2: salaire fiscal | C2: frais entretien | D2: repas | E2: frais km | F2: salaire total | G2: TOTAL NBRE D'HEURES SUR TOUTE L'ANNEE | H2: BASE REMUNERATION | I2: total abattement
B3: cette colonne est remplie manuellement d'après fiches de payes | C3: dans cette colonne doit apparaître le total annuel de l'enfant les drais d'entretien de l'onglet mois | D3: cette colonne est remplie manuellement | E3: cette colonne est remplie manuellement | F3: cette colonne doit être egal a salaire fiscal + entretien + repas +frais km | G3: dans cette colonne doit apparaître le nombre d'heures de présence de l'année de l'onglet mois | H3: cette colonne doit être egal à total heures par enfant (G) et multiplié par 3,60€ | I3: dans cette colonne doit être égal à salaire total (F) moins le total abattement (H)
A4: ENFANT 1 | C4: =B11 -> #VALUE! | F4: =B4+C4+D4+E4 -> #VALUE! | G4: =C11 -> 0.34027778 | H4: =G4*3.6 -> 1.225 | I4: =F4-H4 -> #VALUE!
A5: ENFANT 2 | C5: =B12 -> #VALUE! | F5: =B5+C5+D5+E5 -> #VALUE! | G5: =C12 -> 0.38888889 | H5: =G5*3.6 -> 1.4 | I5: =F5-H5 -> #VALUE!
A6: ENFANT 3 | C6: =B13 -> #VALUE! | F6: =B6+C6+D6+E6 -> #VALUE! | G6: =C13 -> 5 | H6: =G6*3.6 -> 18 | I6: =F6-H6 -> #VALUE!
A7: ENFANT 4 | C7: =B14 -> #VALUE! | F7: =B7+C7+D7+E7 -> #VALUE! | G7: =C14 -> 10 | H7: =G7*3.6 -> 36 | I7: =F7-H7 -> #VALUE!
A8: ENFANT 5 | C8: =B15 -> #VALUE! | F8: =B8+C8+D8+E8 -> #VALUE! | G8: =C15 -> 0.18055556 | H8: =G8*3.6 -> 0.65 | I8: =F8-H8 -> #VALUE!
A10: ENFANT | B10: FRAIS D'ENTRETIEN | C10: NOMBRE D'HEURES
A11: ENFANT 1 | B11: ='les mois'!BM4+'les mois'!BM12+'les mois'!BM20+'les mois'!BM28+'les mois'!BM36+'les mois'!BM44+'les mois'!BM52+'les mois'!BM60+'les mois'!BM68+'les mois'!BM76+'les mois'!BM84+'les mois'!BM92 -> #VALUE! | C11: ='les mois'!BL4+'les mois'!BL12+'les mois'!BL20+'les mois'!BL28+'les mois'!BL36+'les mois'!BL44+'les mois'!BL52+'les mois'!BL60+'les mois'!BL68+'les mois'!BL76+'les mois'!BL84+'les mois'!BL92 -> 0.34027778
A12: ENFANT 2 | B12: ='les mois'!BM93+'les mois'!BM85+'les mois'!BM77+'les mois'!BM69+'les mois'!BM61+'les mois'!BM53+'les mois'!BM45+'les mois'!BM37+'les mois'!BM29+'les mois'!BM21+'les mois'!BM13+'les mois'!BM5 -> #VALUE! | C12: ='les mois'!BL93+'les mois'!BL85+'les mois'!BL77+'les mois'!BL69+'les mois'!BL61+'les mois'!BL53+'les mois'!BL45+'les mois'!BL37+'les mois'!BL29+'les mois'!BL21+'les mois'!BL13+'les mois'!BL5 -> 0.38888889
A13: ENFANT 3 | B13: ='les mois'!BM6+'les mois'!BM14+'les mois'!BM22+'les mois'!BM30+'les mois'!BM38+'les mois'!BM46+'les mois'!BM54+'les mois'!BM62+'les mois'!BM70+'les mois'!BM78+'les mois'!BM86+'les mois'!BM94 -> #VALUE! | C13: ='les mois'!BL6+'les mois'!BL14+'les mois'!BL22+'les mois'!BL30+'les mois'!BL38+'les mois'!BL46+'les mois'!BL54+'les mois'!BL62+'les mois'!BL70+'les mois'!BL78+'les mois'!BL86+'les mois'!BL94 -> 5
A14: ENFANT 4 | B14: ='les mois'!BM95+'les mois'!BM87+'les mois'!BM79+'les mois'!BM71+'les mois'!BM63+'les mois'!BM55+'les mois'!BM47+'les mois'!BM39+'les mois'!BM31+'les mois'!BM23+'les mois'!BM15+'les mois'!BM7 -> #VALUE! | C14: ='les mois'!BL95+'les mois'!BL87+'les mois'!BL79+'les mois'!BL71+'les mois'!BL63+'les mois'!BL55+'les mois'!BL47+'les mois'!BL39+'les mois'!BL31+'les mois'!BL23+'les mois'!BL15+'les mois'!BL7 -> 10
A15: ENFANT 5 | B15: ='les mois'!BM96+'les mois'!BM88+'les mois'!BM80+'les mois'!BM72+'les mois'!BM64+'les mois'!BM56+'les mois'!BM48+'les mois'!BM40+'les mois'!BM32+'les mois'!BM24+'les mois'!BM16+'les mois'!BM8 -> #VALUE! | C15: ='les mois'!BL8+'les mois'!BL16+'les mois'!BL24+'les mois'!BL32+'les mois'!BL40+'les mois'!BL48+'les mois'!BL56+'les mois'!BL64+'les mois'!BL72+'les mois'!BL80+'les mois'!BL88+'les mois'!BL96 -> 0.18055556

Sheet Feuil3
