Workbook

Sheet les mois
A1: 2016
A2: MOIS DE JANVIER
B3: =DATE(A1,1,1) -> 42370 | D3: =B3+1 -> 42371 | F3: =D3+1 -> 42372 | H3: =F3+1 -> 42373 | J3: =H3+1 -> 42374 | L3: =J3+1 -> 42375 | N3: =L3+1 -> 42376 | P3: =N3+1 -> 42377 | R3: =P3+1 -> 42378 | T3: =R3+1 -> 42379 | V3: =T3+1 -> 42380 | X3: =V3+1 -> 42381 | Z3: =X3+1 -> 42382 | AB3: =Z3+1 -> 42383 | AD3: =AB3+1 -> 42384 | AF3: =AD3+1 -> 42385 | AH3: =AF3+1 -> 42386 | AJ3: =AH3+1 -> 42387 | AL3: =AJ3+1 -> 42388 | AN3: =AL3+1 -> 42389 | AP3: =AN3+1 -> 42390 | AR3: =AP3+1 -> 42391 | AT3: =AR3+1 -> 42392 | AV3: =AT3+1 -> 42393 | AX3: =AV3+1 -> 42394 | AZ3: =AX3+1 -> 42395 | BB3: =AZ3+1 -> 42396 | BD3: =BB3+1 -> 42397 | BF3: =BD3+1 -> 42398 | BH3: =BF3+1 -> 42399 | BJ3: =BH3+1 -> 42400 | BL3: TOTAL HEURES | BM3: TOTAL FRAIS ENTRETIEN
A4: ENFANT 1 | C4: =IF(OR(B4="",B4=0),0,IF(B4*24>8,2.99,2.65)) -> 0 | E4: =IF(OR(D4="",D4=0),0,IF(D4*24>8,2.99,2.65)) -> 0 | G4: =IF(OR(F4="",F4=0),0,IF(F4*24>8,2.99,2.65)) -> 0 | I4: =IF(OR(H4="",H4=0),0,IF(H4*24>8,2.99,2.65)) -> 0 | K4: =IF(OR(J4="",J4=0),0,IF(J4*24>8,2.99,2.65)) -> 0 | M4: =IF(OR(L4="",L4=0),0,IF(L4*24>8,2.99,2.65)) -> 0 | O4: =IF(OR(N4="",N4=0),0,IF(N4*24>8,2.99,2.65)) -> 0 | Q4: =IF(OR(P4="",P4=0),0,IF(P4*24>8,2.99,2.65)) -> 0 | S4: =IF(OR(R4="",R4=0),0,IF(R4*24>8,2.99,2.65)) -> 0 | U4: =IF(OR(T4="",T4=0),0,IF(T4*24>8,2.99,2.65)) -> 0 | W4: =IF(OR(V4="",V4=0),0,IF(V4*24>8,2.99,2.65)) -> 0 | Y4: =IF(OR(X4="",X4=0),0,IF(X4*24>8,2.99,2.65)) -> 0 | AA4: =IF(OR(Z4="",Z4=0),0,IF(Z4*24>8,2.99,2.65)) -> 0 | AC4: =IF(OR(AB4="",AB4=0),0,IF(AB4*24>8,2.99,2.65)) -> 0 | AE4: =IF(OR(AD4="",AD4=0),0,IF(AD4*24>8,2.99,2.65)) -> 0 | AG4: =IF(OR(AF4="",AF4=0),0,IF(AF4*24>8,2.99,2.65)) -> 0 | AI4: =IF(OR(AH4="",AH4=0),0,IF(AH4*24>8,2.99,2.65)) -> 0 | AK4: =IF(OR(AJ4="",AJ4=0),0,IF(AJ4*24>8,2.99,2.65)) -> 0 | AM4: =IF(OR(AL4="",AL4=0),0,IF(AL4*24>8,2.99,2.65)) -> 0 | AO4: =IF(OR(AN4="",AN4=0),0,IF(AN4*24>8,2.99,2.65)) -> 0 | AQ4: =IF(OR(AP4="",AP4=0),0,IF(AP4*24>8,2.99,2.65)) -> 0 | AS4: =IF(OR(AR4="",AR4=0),0,IF(AR4*24>8,2.99,2.65)) -> 0 | AU4: =IF(OR(AT4="",AT4=0),0,IF(AT4*24>8,2.99,2.65)) -> 0 | AW4: =IF(OR(AV4="",AV4=0),0,IF(AV4*24>8,2.99,2.65)) -> 0 | AY4: =IF(OR(AX4="",AX4=0),0,IF(AX4*24>8,2.99,2.65)) -> 0 | BA4: =IF(OR(AZ4="",AZ4=0),0,IF(AZ4*24>8,2.99,2.65)) -> 0 | BC4: =IF(OR(BB4="",BB4=0),0,IF(BB4*24>8,2.99,2.65)) -> 0 | BE4: =IF(OR(BD4="",BD4=0),0,IF(BD4*24>8,2.99,2.65)) -> 0 | BG4: =IF(OR(BF4="",BF4=0),0,IF(BF4*24>8,2.99,2.65)) -> 0 | BI4: =IF(OR(BH4="",BH4=0),0,IF(BH4*24>8,2.99,2.65)) -> 0 | BK4: =IF(OR(BJ4="",BJ4=0),0,IF(BJ4*24>8,2.99,2.65)) -> 0 | BL4: =IFERROR(SUMPRODUCT((MOD(COLUMN(B4:BK4),2)=0)*(B4:BK4)),"") -> 0 | BM4: =IFERROR(SUMPRODUCT((MOD(COLUMN(B4:BK4),2)<>0)*(B4:BK4)),"") -> 0
A5: ENFANT 2 | C5: =IF(OR(B5="",B5=0),0,IF(B5*24>8,2.99,2.65)) -> 0 | E5: =IF(OR(D5="",D5=0),0,IF(D5*24>8,2.99,2.65)) -> 0 | G5: =IF(OR(F5="",F5=0),0,IF(F5*24>8,2.99,2.65)) -> 0 | I5: =IF(OR(H5="",H5=0),0,IF(H5*24>8,2.99,2.65)) -> 0 | K5: =IF(OR(J5="",J5=0),0,IF(J5*24>8,2.99,2.65)) -> 0 | M5: =IF(OR(L5="",L5=0),0,IF(L5*24>8,2.99,2.65)) -> 0 | O5: =IF(OR(N5="",N5=0),0,IF(N5*24>8,2.99,2.65)) -> 0 | Q5: =IF(OR(P5="",P5=0),0,IF(P5*24>8,2.99,2.65)) -> 0 | S5: =IF(OR(R5="",R5=0),0,IF(R5*24>8,2.99,2.65)) -> 0 | U5: =IF(OR(T5="",T5=0),0,IF(T5*24>8,2.99,2.65)) -> 0 | W5: =IF(OR(V5="",V5=0),0,IF(V5*24>8,2.99,2.65)) -> 0 | Y5: =IF(OR(X5="",X5=0),0,IF(X5*24>8,2.99,2.65)) -> 0 | AA5: =IF(OR(Z5="",Z5=0),0,IF(Z5*24>8,2.99,2.65)) -> 0 | AC5: =IF(OR(AB5="",AB5=0),0,IF(AB5*24>8,2.99,2.65)) -> 0 | AE5: =IF(OR(AD5="",AD5=0),0,IF(AD5*24>8,2.99,2.65)) -> 0 | AG5: =IF(OR(AF5="",AF5=0),0,IF(AF5*24>8,2.99,2.65)) -> 0 | AI5: =IF(OR(AH5="",AH5=0),0,IF(AH5*24>8,2.99,2.65)) -> 0 | AK5: =IF(OR(AJ5="",AJ5=0),0,IF(AJ5*24>8,2.99,2.65)) -> 0 | AM5: =IF(OR(AL5="",AL5=0),0,IF(AL5*24>8,2.99,2.65)) -> 0 | AO5: =IF(OR(AN5="",AN5=0),0,IF(AN5*24>8,2.99,2.65)) -> 0 | AQ5: =IF(OR(AP5="",AP5=0),0,IF(AP5*24>8,2.99,2.65)) -> 0 | AS5: =IF(OR(AR5="",AR5=0),0,IF(AR5*24>8,2.99,2.65)) -> 0 | AU5: =IF(OR(AT5="",AT5=0),0,IF(AT5*24>8,2.99,2.65)) -> 0 | AW5: =IF(OR(AV5="",AV5=0),0,IF(AV5*24>8,2.99,2.65)) -> 0 | AY5: =IF(OR(AX5="",AX5=0),0,IF(AX5*24>8,2.99,2.65)) -> 0 | BA5: =IF(OR(AZ5="",AZ5=0),0,IF(AZ5*24>8,2.99,2.65)) -> 0 | BC5: =IF(OR(BB5="",BB5=0),0,IF(BB5*24>8,2.99,2.65)) -> 0 | BE5: =IF(OR(BD5="",BD5=0),0,IF(BD5*24>8,2.99,2.65)) -> 0 | BG5: =IF(OR(BF5="",BF5=0),0,IF(BF5*24>8,2.99,2.65)) -> 0 | BI5: =IF(OR(BH5="",BH5=0),0,IF(BH5*24>8,2.99,2.65)) -> 0 | BK5: =IF(OR(BJ5="",BJ5=0),0,IF(BJ5*24>8,2.99,2.65)) -> 0 | BL5: =IFERROR(SUMPRODUCT((MOD(COLUMN(B5:BK5),2)=0)*(B5:BK5)),"") -> 0 | BM5: =IFERROR(SUMPRODUCT((MOD(COLUMN(B5:BK5),2)<>0)*(B5:BK5)),"") -> 0
A6: ENFANT 3 | C6: =IF(OR(B6="",B6=0),0,IF(B6*24>8,2.99,2.65)) -> 0 | E6: =IF(OR(D6="",D6=0),0,IF(D6*24>8,2.99,2.65)) -> 0 | G6: =IF(OR(F6="",F6=0),0,IF(F6*24>8,2.99,2.65)) -> 0 | I6: =IF(OR(H6="",H6=0),0,IF(H6*24>8,2.99,2.65)) -> 0 | K6: =IF(OR(J6="",J6=0),0,IF(J6*24>8,2.99,2.65)) -> 0 | M6: =IF(OR(L6="",L6=0),0,IF(L6*24>8,2.99,2.65)) -> 0 | O6: =IF(OR(N6="",N6=0),0,IF(N6*24>8,2.99,2.65)) -> 0 | Q6: =IF(OR(P6="",P6=0),0,IF(P6*24>8,2.99,2.65)) -> 0 | S6: =IF(OR(R6="",R6=0),0,IF(R6*24>8,2.99,2.65)) -> 0 | U6: =IF(OR(T6="",T6=0),0,IF(T6*24>8,2.99,2.65)) -> 0 | W6: =IF(OR(V6="",V6=0),0,IF(V6*24>8,2.99,2.65)) -> 0 | Y6: =IF(OR(X6="",X6=0),0,IF(X6*24>8,2.99,2.65)) -> 0 | AA6: =IF(OR(Z6="",Z6=0),0,IF(Z6*24>8,2.99,2.65)) -> 0 | AC6: =IF(OR(AB6="",AB6=0),0,IF(AB6*24>8,2.99,2.65)) -> 0 | AE6: =IF(OR(AD6="",AD6=0),0,IF(AD6*24>8,2.99,2.65)) -> 0 | AG6: =IF(OR(AF6="",AF6=0),0,IF(AF6*24>8,2.99,2.65)) -> 0 | AI6: =IF(OR(AH6="",AH6=0),0,IF(AH6*24>8,2.99,2.65)) -> 0 | AK6: =IF(OR(AJ6="",AJ6=0),0,IF(AJ6*24>8,2.99,2.65)) -> 0 | AM6: =IF(OR(AL6="",AL6=0),0,IF(AL6*24>8,2.99,2.65)) -> 0 | AO6: =IF(OR(AN6="",AN6=0),0,IF(AN6*24>8,2.99,2.65)) -> 0 | AQ6: =IF(OR(AP6="",AP6=0),0,IF(AP6*24>8,2.99,2.65)) -> 0 | AS6: =IF(OR(AR6="",AR6=0),0,IF(AR6*24>8,2.99,2.65)) -> 0 | AU6: =IF(OR(AT6="",AT6=0),0,IF(AT6*24>8,2.99,2.65)) -> 0 | AW6: =IF(OR(AV6="",AV6=0),0,IF(AV6*24>8,2.99,2.65)) -> 0 | AY6: =IF(OR(AX6="",AX6=0),0,IF(AX6*24>8,2.99,2.65)) -> 0 | BA6: =IF(OR(AZ6="",AZ6=0),0,IF(AZ6*24>8,2.99,2.65)) -> 0 | BC6: =IF(OR(BB6="",BB6=0),0,IF(BB6*24>8,2.99,2.65)) -> 0 | BE6: =IF(OR(BD6="",BD6=0),0,IF(BD6*24>8,2.99,2.65)) -> 0 | BG6: =IF(OR(BF6="",BF6=0),0,IF(BF6*24>8,2.99,2.65)) -> 0 | BI6: =IF(OR(BH6="",BH6=0),0,IF(BH6*24>8,2.99,2.65)) -> 0 | BK6: =IF(OR(BJ6="",BJ6=0),0,IF(BJ6*24>8,2.99,2.65)) -> 0 | BL6: =IFERROR(SUMPRODUCT((MOD(COLUMN(B6:BK6),2)=0)*(B6:BK6)),"") -> 0 | BM6: =IFERROR(SUMPRODUCT((MOD(COLUMN(B6:BK6),2)<>0)*(B6:BK6)),"") -> 0
A7: ENFANT 4 | C7: =IF(OR(B7="",B7=0),0,IF(B7*24>8,2.99,2.65)) -> 0 | E7: =IF(OR(D7="",D7=0),0,IF(D7*24>8,2.99,2.65)) -> 0 | G7: =IF(OR(F7="",F7=0),0,IF(F7*24>8,2.99,2.65)) -> 0 | I7: =IF(OR(H7="",H7=0),0,IF(H7*24>8,2.99,2.65)) -> 0 | K7: =IF(OR(J7="",J7=0),0,IF(J7*24>8,2.99,2.65)) -> 0 | M7: =IF(OR(L7="",L7=0),0,IF(L7*24>8,2.99,2.65)) -> 0 | O7: =IF(OR(N7="",N7=0),0,IF(N7*24>8,2.99,2.65)) -> 0 | Q7: =IF(OR(P7="",P7=0),0,IF(P7*24>8,2.99,2.65)) -> 0 | S7: =IF(OR(R7="",R7=0),0,IF(R7*24>8,2.99,2.65)) -> 0 | U7: =IF(OR(T7="",T7=0),0,IF(T7*24>8,2.99,2.65)) -> 0 | W7: =IF(OR(V7="",V7=0),0,IF(V7*24>8,2.99,2.65)) -> 0 | Y7: =IF(OR(X7="",X7=0),0,IF(X7*24>8,2.99,2.65)) -> 0 | AA7: =IF(OR(Z7="",Z7=0),0,IF(Z7*24>8,2.99,2.65)) -> 0 | AC7: =IF(OR(AB7="",AB7=0),0,IF(AB7*24>8,2.99,2.65)) -> 0 | AE7: =IF(OR(AD7="",AD7=0),0,IF(AD7*24>8,2.99,2.65)) -> 0 | AG7: =IF(OR(AF7="",AF7=0),0,IF(AF7*24>8,2.99,2.65)) -> 0 | AI7: =IF(OR(AH7="",AH7=0),0,IF(AH7*24>8,2.99,2.65)) -> 0 | AK7: =IF(OR(AJ7="",AJ7=0),0,IF(AJ7*24>8,2.99,2.65)) -> 0 | AM7: =IF(OR(AL7="",AL7=0),0,IF(AL7*24>8,2.99,2.65)) -> 0 | AO7: =IF(OR(AN7="",AN7=0),0,IF(AN7*24>8,2.99,2.65)) -> 0 | AQ7: =IF(OR(AP7="",AP7=0),0,IF(AP7*24>8,2.99,2.65)) -> 0 | AS7: =IF(OR(AR7="",AR7=0),0,IF(AR7*24>8,2.99,2.65)) -> 0 | AU7: =IF(OR(AT7="",AT7=0),0,IF(AT7*24>8,2.99,2.65)) -> 0 | AW7: =IF(OR(AV7="",AV7=0),0,IF(AV7*24>8,2.99,2.65)) -> 0 | AY7: =IF(OR(AX7="",AX7=0),0,IF(AX7*24>8,2.99,2.65)) -> 0 | BA7: =IF(OR(AZ7="",AZ7=0),0,IF(AZ7*24>8,2.99,2.65)) -> 0 | BC7: =IF(OR(BB7="",BB7=0),0,IF(BB7*24>8,2.99,2.65)) -> 0 | BE7: =IF(OR(BD7="",BD7=0),0,IF(BD7*24>8,2.99,2.65)) -> 0 | BG7: =IF(OR(BF7="",BF7=0),0,IF(BF7*24>8,2.99,2.65)) -> 0 | BI7: =IF(OR(BH7="",BH7=0),0,IF(BH7*24>8,2.99,2.65)) -> 0 | BK7: =IF(OR(BJ7="",BJ7=0),0,IF(BJ7*24>8,2.99,2.65)) -> 0 | BL7: =IFERROR(SUMPRODUCT((MOD(COLUMN(B7:BK7),2)=0)*(B7:BK7)),"") -> 0 | BM7: =IFERROR(SUMPRODUCT((MOD(COLUMN(B7:BK7),2)<>0)*(B7:BK7)),"") -> 0
A8: ENFANT 5 | C8: =IF(OR(B8="",B8=0),0,IF(B8*24>8,2.99,2.65)) -> 0 | E8: =IF(OR(D8="",D8=0),0,IF(D8*24>8,2.99,2.65)) -> 0 | G8: =IF(OR(F8="",F8=0),0,IF(F8*24>8,2.99,2.65)) -> 0 | I8: =IF(OR(H8="",H8=0),0,IF(H8*24>8,2.99,2.65)) -> 0 | K8: =IF(OR(J8="",J8=0),0,IF(J8*24>8,2.99,2.65)) -> 0 | M8: =IF(OR(L8="",L8=0),0,IF(L8*24>8,2.99,2.65)) -> 0 | O8: =IF(OR(N8="",N8=0),0,IF(N8*24>8,2.99,2.65)) -> 0 | Q8: =IF(OR(P8="",P8=0),0,IF(P8*24>8,2.99,2.65)) -> 0 | S8: =IF(OR(R8="",R8=0),0,IF(R8*24>8,2.99,2.65)) -> 0 | U8: =IF(OR(T8="",T8=0),0,IF(T8*24>8,2.99,2.65)) -> 0 | W8: =IF(OR(V8="",V8=0),0,IF(V8*24>8,2.99,2.65)) -> 0 | Y8: =IF(OR(X8="",X8=0),0,IF(X8*24>8,2.99,2.65)) -> 0 | AA8: =IF(OR(Z8="",Z8=0),0,IF(Z8*24>8,2.99,2.65)) -> 0 | AC8: =IF(OR(AB8="",AB8=0),0,IF(AB8*24>8,2.99,2.65)) -> 0 | AE8: =IF(OR(AD8="",AD8=0),0,IF(AD8*24>8,2.99,2.65)) -> 0 | AG8: =IF(OR(AF8="",AF8=0),0,IF(AF8*24>8,2.99,2.65)) -> 0 | AI8: =IF(OR(AH8="",AH8=0),0,IF(AH8*24>8,2.99,2.65)) -> 0 | AK8: =IF(OR(AJ8="",AJ8=0),0,IF(AJ8*24>8,2.99,2.65)) -> 0 | AM8: =IF(OR(AL8="",AL8=0),0,IF(AL8*24>8,2.99,2.65)) -> 0 | AO8: =IF(OR(AN8="",AN8=0),0,IF(AN8*24>8,2.99,2.65)) -> 0 | AQ8: =IF(OR(AP8="",AP8=0),0,IF(AP8*24>8,2.99,2.65)) -> 0 | AS8: =IF(OR(AR8="",AR8=0),0,IF(AR8*24>8,2.99,2.65)) -> 0 | AU8: =IF(OR(AT8="",AT8=0),0,IF(AT8*24>8,2.99,2.65)) -> 0 | AW8: =IF(OR(AV8="",AV8=0),0,IF(AV8*24>8,2.99,2.65)) -> 0 | AY8: =IF(OR(AX8="",AX8=0),0,IF(AX8*24>8,2.99,2.65)) -> 0 | BA8: =IF(OR(AZ8="",AZ8=0),0,IF(AZ8*24>8,2.99,2.65)) -> 0 | BC8: =IF(OR(BB8="",BB8=0),0,IF(BB8*24>8,2.99,2.65)) -> 0 | BE8: =IF(OR(BD8="",BD8=0),0,IF(BD8*24>8,2.99,2.65)) -> 0 | BG8: =IF(OR(BF8="",BF8=0),0,IF(BF8*24>8,2.99,2.65)) -> 0 | BI8: =IF(OR(BH8="",BH8=0),0,IF(BH8*24>8,2.99,2.65)) -> 0 | BK8: =IF(OR(BJ8="",BJ8=0),0,IF(BJ8*24>8,2.99,2.65)) -> 0 | BL8: =IFERROR(SUMPRODUCT((MOD(COLUMN(B8:BK8),2)=0)*(B8:BK8)),"") -> 0 | BM8: =IFERROR(SUMPRODUCT((MOD(COLUMN(B8:BK8),2)<>0)*(B8:BK8)),"") -> 0
B9: =SUM(B4:B8) -> 0 | C9: =SUM(C4:C8) -> 0 | D9: =SUM(D4:D8) -> 0 | E9: =SUM(E4:E8) -> 0 | F9: =SUM(F4:F8) -> 0 | G9: =SUM(G4:G8) -> 0 | H9: =SUM(H4:H8) -> 0 | I9: =SUM(I4:I8) -> 0 | ... BK9: =SUM(BK4:BK8) -> 0 | BL9: =IFERROR(SUMPRODUCT((MOD(COLUMN(B9:BK9),2)=0)*(B9:BK9)),"") -> 0 | BM9: =IFERROR(SUMPRODUCT((MOD(COLUMN(B9:BK9),2)<>0)*(B9:BK9)),"") -> 0
A10: MOIS DE FEVRIER
B11: =DATE($A$1,2,1) -> 42401 | D11: =B11+1 -> 42402 | F11: =D11+1 -> 42403 | H11: =F11+1 -> 42404 | J11: =H11+1 -> 42405 | L11: =J11+1 -> 42406 | N11: =L11+1 -> 42407 | P11: =N11+1 -> 42408 | R11: =P11+1 -> 42409 | T11: =R11+1 -> 42410 | V11: =T11+1 -> 42411 | X11: =V11+1 -> 42412 | Z11: =X11+1 -> 42413 | AB11: =Z11+1 -> 42414 | AD11: =AB11+1 -> 42415 | AF11: =AD11+1 -> 42416 | AH11: =AF11+1 -> 42417 | AJ11: =AH11+1 -> 42418 | AL11: =AJ11+1 -> 42419 | AN11: =AL11+1 -> 42420 | AP11: =AN11+1 -> 42421 | AR11: =AP11+1 -> 42422 | AT11: =AR11+1 -> 42423 | AV11: =AT11+1 -> 42424 | AX11: =AV11+1 -> 42425 | AZ11: =AX11+1 -> 42426 | BB11: =AZ11+1 -> 42427 | BD11: =BB11+1 -> 42428 | BF11: =IF(MONTH(BD11+1)=2,BD11+1,"") -> 42429 | BL11: TOTAL HEURES | BM11: TOTAL FRAIS ENTRETIEN
A12: ENFANT 1 | C12: =IF(OR(B12="",B12=0),0,IF(B12*24>8,2.99,2.65)) -> 0 | E12: =IF(OR(D12="",D12=0),0,IF(D12*24>8,2.99,2.65)) -> 0 | G12: =IF(OR(F12="",F12=0),0,IF(F12*24>8,2.99,2.65)) -> 0 | I12: =IF(OR(H12="",H12=0),0,IF(H12*24>8,2.99,2.65)) -> 0 | K12: =IF(OR(J12="",J12=0),0,IF(J12*24>8,2.99,2.65)) -> 0 | M12: =IF(OR(L12="",L12=0),0,IF(L12*24>8,2.99,2.65)) -> 0 | O12: =IF(OR(N12="",N12=0),0,IF(N12*24>8,2.99,2.65)) -> 0 | Q12: =IF(OR(P12="",P12=0),0,IF(P12*24>8,2.99,2.65)) -> 0 | S12: =IF(OR(R12="",R12=0),0,IF(R12*24>8,2.99,2.65)) -> 0 | U12: =IF(OR(T12="",T12=0),0,IF(T12*24>8,2.99,2.65)) -> 0 | W12: =IF(OR(V12="",V12=0),0,IF(V12*24>8,2.99,2.65)) -> 0 | Y12: =IF(OR(X12="",X12=0),0,IF(X12*24>8,2.99,2.65)) -> 0 | AA12: =IF(OR(Z12="",Z12=0),0,IF(Z12*24>8,2.99,2.65)) -> 0 | AC12: =IF(OR(AB12="",AB12=0),0,IF(AB12*24>8,2.99,2.65)) -> 0 | AE12: =IF(OR(AD12="",AD12=0),0,IF(AD12*24>8,2.99,2.65)) -> 0 | AG12: =IF(OR(AF12="",AF12=0),0,IF(AF12*24>8,2.99,2.65)) -> 0 | AI12: =IF(OR(AH12="",AH12=0),0,IF(AH12*24>8,2.99,2.65)) -> 0 | AK12: =IF(OR(AJ12="",AJ12=0),0,IF(AJ12*24>8,2.99,2.65)) -> 0 | AM12: =IF(OR(AL12="",AL12=0),0,IF(AL12*24>8,2.99,2.65)) -> 0 | AO12: =IF(OR(AN12="",AN12=0),0,IF(AN12*24>8,2.99,2.65)) -> 0 | AQ12: =IF(OR(AP12="",AP12=0),0,IF(AP12*24>8,2.99,2.65)) -> 0 | AS12: =IF(OR(AR12="",AR12=0),0,IF(AR12*24>8,2.99,2.65)) -> 0 | AU12: =IF(OR(AT12="",AT12=0),0,IF(AT12*24>8,2.99,2.65)) -> 0 | AW12: =IF(OR(AV12="",AV12=0),0,IF(AV12*24>8,2.99,2.65)) -> 0 | AY12: =IF(OR(AX12="",AX12=0),0,IF(AX12*24>8,2.99,2.65)) -> 0 | BA12: =IF(OR(AZ12="",AZ12=0),0,IF(AZ12*24>8,2.99,2.65)) -> 0 | BC12: =IF(OR(BB12="",BB12=0),0,IF(BB12*24>8,2.99,2.65)) -> 0 | BE12: =IF(OR(BD12="",BD12=0),0,IF(BD12*24>8,2.99,2.65)) -> 0 | BG12: =IF(OR(BF12="",BF12=0),0,IF(BF12*24>8,2.99,2.65)) -> 0 | BL12: =IFERROR(SUMPRODUCT((MOD(COLUMN(B12:BK12),2)=0)*(B12:BK12)),"") -> 0 | BM12: =IFERROR(SUMPRODUCT((MOD(COLUMN(B12:BK12),2)<>0)*(B12:BK12)),"") -> 0
A13: ENFANT 2 | C13: =IF(OR(B13="",B13=0),0,IF(B13*24>8,2.99,2.65)) -> 0 | E13: =IF(OR(D13="",D13=0),0,IF(D13*24>8,2.99,2.65)) -> 0 | G13: =IF(OR(F13="",F13=0),0,IF(F13*24>8,2.99,2.65)) -> 0 | I13: =IF(OR(H13="",H13=0),0,IF(H13*24>8,2.99,2.65)) -> 0 | K13: =IF(OR(J13="",J13=0),0,IF(J13*24>8,2.99,2.65)) -> 0 | M13: =IF(OR(L13="",L13=0),0,IF(L13*24>8,2.99,2.65)) -> 0 | O13: =IF(OR(N13="",N13=0),0,IF(N13*24>8,2.99,2.65)) -> 0 | Q13: =IF(OR(P13="",P13=0),0,IF(P13*24>8,2.99,2.65)) -> 0 | S13: =IF(OR(R13="",R13=0),0,IF(R13*24>8,2.99,2.65)) -> 0 | U13: =IF(OR(T13="",T13=0),0,IF(T13*24>8,2.99,2.65)) -> 0 | W13: =IF(OR(V13="",V13=0),0,IF(V13*24>8,2.99,2.65)) -> 0 | Y13: =IF(OR(X13="",X13=0),0,IF(X13*24>8,2.99,2.65)) -> 0 | AA13: =IF(OR(Z13="",Z13=0),0,IF(Z13*24>8,2.99,2.65)) -> 0 | AC13: =IF(OR(AB13="",AB13=0),0,IF(AB13*24>8,2.99,2.65)) -> 0 | AE13: =IF(OR(AD13="",AD13=0),0,IF(AD13*24>8,2.99,2.65)) -> 0 | AG13: =IF(OR(AF13="",AF13=0),0,IF(AF13*24>8,2.99,2.65)) -> 0 | AI13: =IF(OR(AH13="",AH13=0),0,IF(AH13*24>8,2.99,2.65)) -> 0 | AK13: =IF(OR(AJ13="",AJ13=0),0,IF(AJ13*24>8,2.99,2.65)) -> 0 | AM13: =IF(OR(AL13="",AL13=0),0,IF(AL13*24>8,2.99,2.65)) -> 0 | AO13: =IF(OR(AN13="",AN13=0),0,IF(AN13*24>8,2.99,2.65)) -> 0 | AQ13: =IF(OR(AP13="",AP13=0),0,IF(AP13*24>8,2.99,2.65)) -> 0 | AS13: =IF(OR(AR13="",AR13=0),0,IF(AR13*24>8,2.99,2.65)) -> 0 | AU13: =IF(OR(AT13="",AT13=0),0,IF(AT13*24>8,2.99,2.65)) -> 0 | AW13: =IF(OR(AV13="",AV13=0),0,IF(AV13*24>8,2.99,2.65)) -> 0 | AY13: =IF(OR(AX13="",AX13=0),0,IF(AX13*24>8,2.99,2.65)) -> 0 | BA13: =IF(OR(AZ13="",AZ13=0),0,IF(AZ13*24>8,2.99,2.65)) -> 0 | BC13: =IF(OR(BB13="",BB13=0),0,IF(BB13*24>8,2.99,2.65)) -> 0 | BE13: =IF(OR(BD13="",BD13=0),0,IF(BD13*24>8,2.99,2.65)) -> 0 | BG13: =IF(OR(BF13="",BF13=0),0,IF(BF13*24>8,2.99,2.65)) -> 0 | BL13: =IFERROR(SUMPRODUCT((MOD(COLUMN(B13:BK13),2)=0)*(B13:BK13)),"") -> 0 | BM13: =IFERROR(SUMPRODUCT((MOD(COLUMN(B13:BK13),2)<>0)*(B13:BK13)),"") -> 0
A14: ENFANT 3 | C14: =IF(OR(B14="",B14=0),0,IF(B14*24>8,2.99,2.65)) -> 0 | E14: =IF(OR(D14="",D14=0),0,IF(D14*24>8,2.99,2.65)) -> 0 | G14: =IF(OR(F14="",F14=0),0,IF(F14*24>8,2.99,2.65)) -> 0 | I14: =IF(OR(H14="",H14=0),0,IF(H14*24>8,2.99,2.65)) -> 0 | K14: =IF(OR(J14="",J14=0),0,IF(J14*24>8,2.99,2.65)) -> 0 | M14: =IF(OR(L14="",L14=0),0,IF(L14*24>8,2.99,2.65)) -> 0 | O14: =IF(OR(N14="",N14=0),0,IF(N14*24>8,2.99,2.65)) -> 0 | Q14: =IF(OR(P14="",P14=0),0,IF(P14*24>8,2.99,2.65)) -> 0 | S14: =IF(OR(R14="",R14=0),0,IF(R14*24>8,2.99,2.65)) -> 0 | U14: =IF(OR(T14="",T14=0),0,IF(T14*24>8,2.99,2.65)) -> 0 | W14: =IF(OR(V14="",V14=0),0,IF(V14*24>8,2.99,2.65)) -> 0 | Y14: =IF(OR(X14="",X14=0),0,IF(X14*24>8,2.99,2.65)) -> 0 | AA14: =IF(OR(Z14="",Z14=0),0,IF(Z14*24>8,2.99,2.65)) -> 0 | AC14: =IF(OR(AB14="",AB14=0),0,IF(AB14*24>8,2.99,2.65)) -> 0 | AE14: =IF(OR(AD14="",AD14=0),0,IF(AD14*24>8,2.99,2.65)) -> 0 | AG14: =IF(OR(AF14="",AF14=0),0,IF(AF14*24>8,2.99,2.65)) -> 0 | AI14: =IF(OR(AH14="",AH14=0),0,IF(AH14*24>8,2.99,2.65)) -> 0 | AK14: =IF(OR(AJ14="",AJ14=0),0,IF(AJ14*24>8,2.99,2.65)) -> 0 | AM14: =IF(OR(AL14="",AL14=0),0,IF(AL14*24>8,2.99,2.65)) -> 0 | AO14: =IF(OR(AN14="",AN14=0),0,IF(AN14*24>8,2.99,2.65)) -> 0 | AQ14: =IF(OR(AP14="",AP14=0),0,IF(AP14*24>8,2.99,2.65)) -> 0 | AS14: =IF(OR(AR14="",AR14=0),0,IF(AR14*24>8,2.99,2.65)) -> 0 | AU14: =IF(OR(AT14="",AT14=0),0,IF(AT14*24>8,2.99,2.65)) -> 0 | AW14: =IF(OR(AV14="",AV14=0),0,IF(AV14*24>8,2.99,2.65)) -> 0 | AY14: =IF(OR(AX14="",AX14=0),0,IF(AX14*24>8,2.99,2.65)) -> 0 | BA14: =IF(OR(AZ14="",AZ14=0),0,IF(AZ14*24>8,2.99,2.65)) -> 0 | BC14: =IF(OR(BB14="",BB14=0),0,IF(BB14*24>8,2.99,2.65)) -> 0 | BE14: =IF(OR(BD14="",BD14=0),0,IF(BD14*24>8,2.99,2.65)) -> 0 | BG14: =IF(OR(BF14="",BF14=0),0,IF(BF14*24>8,2.99,2.65)) -> 0 | BL14: =IFERROR(SUMPRODUCT((MOD(COLUMN(B14:BK14),2)=0)*(B14:BK14)),"") -> 0 | BM14: =IFERROR(SUMPRODUCT((MOD(COLUMN(B14:BK14),2)<>0)*(B14:BK14)),"") -> 0
A15: ENFANT 4 | C15: =IF(OR(B15="",B15=0),0,IF(B15*24>8,2.99,2.65)) -> 0 | E15: =IF(OR(D15="",D15=0),0,IF(D15*24>8,2.99,2.65)) -> 0 | G15: =IF(OR(F15="",F15=0),0,IF(F15*24>8,2.99,2.65)) -> 0 | I15: =IF(OR(H15="",H15=0),0,IF(H15*24>8,2.99,2.65)) -> 0 | K15: =IF(OR(J15="",J15=0),0,IF(J15*24>8,2.99,2.65)) -> 0 | M15: =IF(OR(L15="",L15=0),0,IF(L15*24>8,2.99,2.65)) -> 0 | O15: =IF(OR(N15="",N15=0),0,IF(N15*24>8,2.99,2.65)) -> 0 | Q15: =IF(OR(P15="",P15=0),0,IF(P15*24>8,2.99,2.65)) -> 0 | S15: =IF(OR(R15="",R15=0),0,IF(R15*24>8,2.99,2.65)) -> 0 | U15: =IF(OR(T15="",T15=0),0,IF(T15*24>8,2.99,2.65)) -> 0 | W15: =IF(OR(V15="",V15=0),0,IF(V15*24>8,2.99,2.65)) -> 0 | Y15: =IF(OR(X15="",X15=0),0,IF(X15*24>8,2.99,2.65)) -> 0 | AA15: =IF(OR(Z15="",Z15=0),0,IF(Z15*24>8,2.99,2.65)) -> 0 | AC15: =IF(OR(AB15="",AB15=0),0,IF(AB15*24>8,2.99,2.65)) -> 0 | AE15: =IF(OR(AD15="",AD15=0),0,IF(AD15*24>8,2.99,2.65)) -> 0 | AG15: =IF(OR(AF15="",AF15=0),0,IF(AF15*24>8,2.99,2.65)) -> 0 | AI15: =IF(OR(AH15="",AH15=0),0,IF(AH15*24>8,2.99,2.65)) -> 0 | AK15: =IF(OR(AJ15="",AJ15=0),0,IF(AJ15*24>8,2.99,2.65)) -> 0 | AM15: =IF(OR(AL15="",AL15=0),0,IF(AL15*24>8,2.99,2.65)) -> 0 | AO15: =IF(OR(AN15="",AN15=0),0,IF(AN15*24>8,2.99,2.65)) -> 0 | AQ15: =IF(OR(AP15="",AP15=0),0,IF(AP15*24>8,2.99,2.65)) -> 0 | AS15: =IF(OR(AR15="",AR15=0),0,IF(AR15*24>8,2.99,2.65)) -> 0 | AU15: =IF(OR(AT15="",AT15=0),0,IF(AT15*24>8,2.99,2.65)) -> 0 | AW15: =IF(OR(AV15="",AV15=0),0,IF(AV15*24>8,2.99,2.65)) -> 0 | AY15: =IF(OR(AX15="",AX15=0),0,IF(AX15*24>8,2.99,2.65)) -> 0 | BA15: =IF(OR(AZ15="",AZ15=0),0,IF(AZ15*24>8,2.99,2.65)) -> 0 | BC15: =IF(OR(BB15="",BB15=0),0,IF(BB15*24>8,2.99,2.65)) -> 0 | BE15: =IF(OR(BD15="",BD15=0),0,IF(BD15*24>8,2.99,2.65)) -> 0 | BG15: =IF(OR(BF15="",BF15=0),0,IF(BF15*24>8,2.99,2.65)) -> 0 | BL15: =IFERROR(SUMPRODUCT((MOD(COLUMN(B15:BK15),2)=0)*(B15:BK15)),"") -> 0 | BM15: =IFERROR(SUMPRODUCT((MOD(COLUMN(B15:BK15),2)<>0)*(B15:BK15)),"") -> 0
A16: ENFANT 5 | C16: =IF(OR(B16="",B16=0),0,IF(B16*24>8,2.99,2.65)) -> 0 | E16: =IF(OR(D16="",D16=0),0,IF(D16*24>8,2.99,2.65)) -> 0 | G16: =IF(OR(F16="",F16=0),0,IF(F16*24>8,2.99,2.65)) -> 0 | I16: =IF(OR(H16="",H16=0),0,IF(H16*24>8,2.99,2.65)) -> 0 | K16: =IF(OR(J16="",J16=0),0,IF(J16*24>8,2.99,2.65)) -> 0 | M16: =IF(OR(L16="",L16=0),0,IF(L16*24>8,2.99,2.65)) -> 0 | O16: =IF(OR(N16="",N16=0),0,IF(N16*24>8,2.99,2.65)) -> 0 | Q16: =IF(OR(P16="",P16=0),0,IF(P16*24>8,2.99,2.65)) -> 0 | S16: =IF(OR(R16="",R16=0),0,IF(R16*24>8,2.99,2.65)) -> 0 | U16: =IF(OR(T16="",T16=0),0,IF(T16*24>8,2.99,2.65)) -> 0 | W16: =IF(OR(V16="",V16=0),0,IF(V16*24>8,2.99,2.65)) -> 0 | Y16: =IF(OR(X16="",X16=0),0,IF(X16*24>8,2.99,2.65)) -> 0 | AA16: =IF(OR(Z16="",Z16=0),0,IF(Z16*24>8,2.99,2.65)) -> 0 | AC16: =IF(OR(AB16="",AB16=0),0,IF(AB16*24>8,2.99,2.65)) -> 0 | AE16: =IF(OR(AD16="",AD16=0),0,IF(AD16*24>8,2.99,2.65)) -> 0 | AG16: =IF(OR(AF16="",AF16=0),0,IF(AF16*24>8,2.99,2.65)) -> 0 | AI16: =IF(OR(AH16="",AH16=0),0,IF(AH16*24>8,2.99,2.65)) -> 0 | AK16: =IF(OR(AJ16="",AJ16=0),0,IF(AJ16*24>8,2.99,2.65)) -> 0 | AM16: =IF(OR(AL16="",AL16=0),0,IF(AL16*24>8,2.99,2.65)) -> 0 | AO16: =IF(OR(AN16="",AN16=0),0,IF(AN16*24>8,2.99,2.65)) -> 0 | AQ16: =IF(OR(AP16="",AP16=0),0,IF(AP16*24>8,2.99,2.65)) -> 0 | AS16: =IF(OR(AR16="",AR16=0),0,IF(AR16*24>8,2.99,2.65)) -> 0 | AU16: =IF(OR(AT16="",AT16=0),0,IF(AT16*24>8,2.99,2.65)) -> 0 | AW16: =IF(OR(AV16="",AV16=0),0,IF(AV16*24>8,2.99,2.65)) -> 0 | AY16: =IF(OR(AX16="",AX16=0),0,IF(AX16*24>8,2.99,2.65)) -> 0 | BA16: =IF(OR(AZ16="",AZ16=0),0,IF(AZ16*24>8,2.99,2.65)) -> 0 | BC16: =IF(OR(BB16="",BB16=0),0,IF(BB16*24>8,2.99,2.65)) -> 0 | BE16: =IF(OR(BD16="",BD16=0),0,IF(BD16*24>8,2.99,2.65)) -> 0 | BG16: =IF(OR(BF16="",BF16=0),0,IF(BF16*24>8,2.99,2.65)) -> 0 | BL16: =IFERROR(SUMPRODUCT((MOD(COLUMN(B16:BK16),2)=0)*(B16:BK16)),"") -> 0 | BM16: =IFERROR(SUMPRODUCT((MOD(COLUMN(B16:BK16),2)<>0)*(B16:BK16)),"") -> 0
B17: =SUM(B12:B16) -> 0 | C17: =SUM(C12:C16) -> 0 | D17: =SUM(D12:D16) -> 0 | E17: =SUM(E12:E16) -> 0 | F17: =SUM(F12:F16) -> 0 | G17: =SUM(G12:G16) -> 0 | H17: =SUM(H12:H16) -> 0 | I17: =SUM(I12:I16) -> 0 | ... BK17: =SUM(BK12:BK16) -> 0 | BL17: =IFERROR(SUMPRODUCT((MOD(COLUMN(B17:BK17),2)=0)*(B17:BK17)),"") -> 0 | BM17: =IFERROR(SUMPRODUCT((MOD(COLUMN(B17:BK17),2)<>0)*(B17:BK17)),"") -> 0
A18: MOIS DE MARS
B19: =DATE($A$1,3,1) -> 42430 | D19: =B19+1 -> 42431 | F19: =D19+1 -> 42432 | H19: =F19+1 -> 42433 | J19: =H19+1 -> 42434 | L19: =J19+1 -> 42435 | N19: =L19+1 -> 42436 | P19: =N19+1 -> 42437 | R19: =P19+1 -> 42438 | T19: =R19+1 -> 42439 | V19: =T19+1 -> 42440 | X19: =V19+1 -> 42441 | Z19: =X19+1 -> 42442 | AB19: =Z19+1 -> 42443 | AD19: =AB19+1 -> 42444 | AF19: =AD19+1 -> 42445 | AH19: =AF19+1 -> 42446 | AJ19: =AH19+1 -> 42447 | AL19: =AJ19+1 -> 42448 | AN19: =AL19+1 -> 42449 | AP19: =AN19+1 -> 42450 | AR19: =AP19+1 -> 42451 | AT19: =AR19+1 -> 42452 | AV19: =AT19+1 -> 42453 | AX19: =AV19+1 -> 42454 | AZ19: =AX19+1 -> 42455 | BB19: =AZ19+1 -> 42456 | BD19: =BB19+1 -> 42457 | BF19: =BD19+1 -> 42458 | BH19: =BF19+1 -> 42459 | BJ19: =BH19+1 -> 42460 | BL19: TOTAL HEURES | BM19: TOTAL FRAIS ENTRETIEN
A20: ENFANT 1 | C20: =IF(OR(B20="",B20=0),0,IF(B20*24>8,2.99,2.65)) -> 0 | E20: =IF(OR(D20="",D20=0),0,IF(D20*24>8,2.99,2.65)) -> 0 | G20: =IF(OR(F20="",F20=0),0,IF(F20*24>8,2.99,2.65)) -> 0 | I20: =IF(OR(H20="",H20=0),0,IF(H20*24>8,2.99,2.65)) -> 0 | K20: =IF(OR(J20="",J20=0),0,IF(J20*24>8,2.99,2.65)) -> 0 | M20: =IF(OR(L20="",L20=0),0,IF(L20*24>8,2.99,2.65)) -> 0 | O20: =IF(OR(N20="",N20=0),0,IF(N20*24>8,2.99,2.65)) -> 0 | Q20: =IF(OR(P20="",P20=0),0,IF(P20*24>8,2.99,2.65)) -> 0 | S20: =IF(OR(R20="",R20=0),0,IF(R20*24>8,2.99,2.65)) -> 0 | U20: =IF(OR(T20="",T20=0),0,IF(T20*24>8,2.99,2.65)) -> 0 | W20: =IF(OR(V20="",V20=0),0,IF(V20*24>8,2.99,2.65)) -> 0 | Y20: =IF(OR(X20="",X20=0),0,IF(X20*24>8,2.99,2.65)) -> 0 | AA20: =IF(OR(Z20="",Z20=0),0,IF(Z20*24>8,2.99,2.65)) -> 0 | AC20: =IF(OR(AB20="",AB20=0),0,IF(AB20*24>8,2.99,2.65)) -> 0 | AE20: =IF(OR(AD20="",AD20=0),0,IF(AD20*24>8,2.99,2.65)) -> 0 | AG20: =IF(OR(AF20="",AF20=0),0,IF(AF20*24>8,2.99,2.65)) -> 0 | AI20: =IF(OR(AH20="",AH20=0),0,IF(AH20*24>8,2.99,2.65)) -> 0 | AK20: =IF(OR(AJ20="",AJ20=0),0,IF(AJ20*24>8,2.99,2.65)) -> 0 | AM20: =IF(OR(AL20="",AL20=0),0,IF(AL20*24>8,2.99,2.65)) -> 0 | AO20: =IF(OR(AN20="",AN20=0),0,IF(AN20*24>8,2.99,2.65)) -> 0 | AQ20: =IF(OR(AP20="",AP20=0),0,IF(AP20*24>8,2.99,2.65)) -> 0 | AS20: =IF(OR(AR20="",AR20=0),0,IF(AR20*24>8,2.99,2.65)) -> 0 | AU20: =IF(OR(AT20="",AT20=0),0,IF(AT20*24>8,2.99,2.65)) -> 0 | AW20: =IF(OR(AV20="",AV20=0),0,IF(AV20*24>8,2.99,2.65)) -> 0 | AY20: =IF(OR(AX20="",AX20=0),0,IF(AX20*24>8,2.99,2.65)) -> 0 | BA20: =IF(OR(AZ20="",AZ20=0),0,IF(AZ20*24>8,2.99,2.65)) -> 0 | BC20: =IF(OR(BB20="",BB20=0),0,IF(BB20*24>8,2.99,2.65)) -> 0 | BE20: =IF(OR(BD20="",BD20=0),0,IF(BD20*24>8,2.99,2.65)) -> 0 | BG20: =IF(OR(BF20="",BF20=0),0,IF(BF20*24>8,2.99,2.65)) -> 0 | BI20: =IF(OR(BH20="",BH20=0),0,IF(BH20*24>8,2.99,2.65)) -> 0 | BK20: =IF(OR(BJ20="",BJ20=0),0,IF(BJ20*24>8,2.99,2.65)) -> 0 | BL20: =IFERROR(SUMPRODUCT((MOD(COLUMN(B20:BK20),2)=0)*(B20:BK20)),"") -> 0 | BM20: =IFERROR(SUMPRODUCT((MOD(COLUMN(B20:BK20),2)<>0)*(B20:BK20)),"") -> 0
A21: ENFANT 2 | C21: =IF(OR(B21="",B21=0),0,IF(B21*24>8,2.99,2.65)) -> 0 | E21: =IF(OR(D21="",D21=0),0,IF(D21*24>8,2.99,2.65)) -> 0 | G21: =IF(OR(F21="",F21=0),0,IF(F21*24>8,2.99,2.65)) -> 0 | I21: =IF(OR(H21="",H21=0),0,IF(H21*24>8,2.99,2.65)) -> 0 | K21: =IF(OR(J21="",J21=0),0,IF(J21*24>8,2.99,2.65)) -> 0 | M21: =IF(OR(L21="",L21=0),0,IF(L21*24>8,2.99,2.65)) -> 0 | O21: =IF(OR(N21="",N21=0),0,IF(N21*24>8,2.99,2.65)) -> 0 | Q21: =IF(OR(P21="",P21=0),0,IF(P21*24>8,2.99,2.65)) -> 0 | S21: =IF(OR(R21="",R21=0),0,IF(R21*24>8,2.99,2.65)) -> 0 | U21: =IF(OR(T21="",T21=0),0,IF(T21*24>8,2.99,2.65)) -> 0 | W21: =IF(OR(V21="",V21=0),0,IF(V21*24>8,2.99,2.65)) -> 0 | Y21: =IF(OR(X21="",X21=0),0,IF(X21*24>8,2.99,2.65)) -> 0 | AA21: =IF(OR(Z21="",Z21=0),0,IF(Z21*24>8,2.99,2.65)) -> 0 | AC21: =IF(OR(AB21="",AB21=0),0,IF(AB21*24>8,2.99,2.65)) -> 0 | AE21: =IF(OR(AD21="",AD21=0),0,IF(AD21*24>8,2.99,2.65)) -> 0 | AG21: =IF(OR(AF21="",AF21=0),0,IF(AF21*24>8,2.99,2.65)) -> 0 | AI21: =IF(OR(AH21="",AH21=0),0,IF(AH21*24>8,2.99,2.65)) -> 0 | AK21: =IF(OR(AJ21="",AJ21=0),0,IF(AJ21*24>8,2.99,2.65)) -> 0 | AM21: =IF(OR(AL21="",AL21=0),0,IF(AL21*24>8,2.99,2.65)) -> 0 | AO21: =IF(OR(AN21="",AN21=0),0,IF(AN21*24>8,2.99,2.65)) -> 0 | AQ21: =IF(OR(AP21="",AP21=0),0,IF(AP21*24>8,2.99,2.65)) -> 0 | AS21: =IF(OR(AR21="",AR21=0),0,IF(AR21*24>8,2.99,2.65)) -> 0 | AU21: =IF(OR(AT21="",AT21=0),0,IF(AT21*24>8,2.99,2.65)) -> 0 | AW21: =IF(OR(AV21="",AV21=0),0,IF(AV21*24>8,2.99,2.65)) -> 0 | AY21: =IF(OR(AX21="",AX21=0),0,IF(AX21*24>8,2.99,2.65)) -> 0 | BA21: =IF(OR(AZ21="",AZ21=0),0,IF(AZ21*24>8,2.99,2.65)) -> 0 | BC21: =IF(OR(BB21="",BB21=0),0,IF(BB21*24>8,2.99,2.65)) -> 0 | BE21: =IF(OR(BD21="",BD21=0),0,IF(BD21*24>8,2.99,2.65)) -> 0 | BG21: =IF(OR(BF21="",BF21=0),0,IF(BF21*24>8,2.99,2.65)) -> 0 | BI21: =IF(OR(BH21="",BH21=0),0,IF(BH21*24>8,2.99,2.65)) -> 0 | BK21: =IF(OR(BJ21="",BJ21=0),0,IF(BJ21*24>8,2.99,2.65)) -> 0 | BL21: =IFERROR(SUMPRODUCT((MOD(COLUMN(B21:BK21),2)=0)*(B21:BK21)),"") -> 0 | BM21: =IFERROR(SUMPRODUCT((MOD(COLUMN(B21:BK21),2)<>0)*(B21:BK21)),"") -> 0
A22: ENFANT 3 | C22: =IF(OR(B22="",B22=0),0,IF(B22*24>8,2.99,2.65)) -> 0 | E22: =IF(OR(D22="",D22=0),0,IF(D22*24>8,2.99,2.65)) -> 0 | G22: =IF(OR(F22="",F22=0),0,IF(F22*24>8,2.99,2.65)) -> 0 | I22: =IF(OR(H22="",H22=0),0,IF(H22*24>8,2.99,2.65)) -> 0 | K22: =IF(OR(J22="",J22=0),0,IF(J22*24>8,2.99,2.65)) -> 0 | M22: =IF(OR(L22="",L22=0),0,IF(L22*24>8,2.99,2.65)) -> 0 | O22: =IF(OR(N22="",N22=0),0,IF(N22*24>8,2.99,2.65)) -> 0 | Q22: =IF(OR(P22="",P22=0),0,IF(P22*24>8,2.99,2.65)) -> 0 | S22: =IF(OR(R22="",R22=0),0,IF(R22*24>8,2.99,2.65)) -> 0 | U22: =IF(OR(T22="",T22=0),0,IF(T22*24>8,2.99,2.65)) -> 0 | W22: =IF(OR(V22="",V22=0),0,IF(V22*24>8,2.99,2.65)) -> 0 | Y22: =IF(OR(X22="",X22=0),0,IF(X22*24>8,2.99,2.65)) -> 0 | AA22: =IF(OR(Z22="",Z22=0),0,IF(Z22*24>8,2.99,2.65)) -> 0 | AC22: =IF(OR(AB22="",AB22=0),0,IF(AB22*24>8,2.99,2.65)) -> 0 | AE22: =IF(OR(AD22="",AD22=0),0,IF(AD22*24>8,2.99,2.65)) -> 0 | AG22: =IF(OR(AF22="",AF22=0),0,IF(AF22*24>8,2.99,2.65)) -> 0 | AI22: =IF(OR(AH22="",AH22=0),0,IF(AH22*24>8,2.99,2.65)) -> 0 | AK22: =IF(OR(AJ22="",AJ22=0),0,IF(AJ22*24>8,2.99,2.65)) -> 0 | AM22: =IF(OR(AL22="",AL22=0),0,IF(AL22*24>8,2.99,2.65)) -> 0 | AO22: =IF(OR(AN22="",AN22=0),0,IF(AN22*24>8,2.99,2.65)) -> 0 | AQ22: =IF(OR(AP22="",AP22=0),0,IF(AP22*24>8,2.99,2.65)) -> 0 | AS22: =IF(OR(AR22="",AR22=0),0,IF(AR22*24>8,2.99,2.65)) -> 0 | AU22: =IF(OR(AT22="",AT22=0),0,IF(AT22*24>8,2.99,2.65)) -> 0 | AW22: =IF(OR(AV22="",AV22=0),0,IF(AV22*24>8,2.99,2.65)) -> 0 | AY22: =IF(OR(AX22="",AX22=0),0,IF(AX22*24>8,2.99,2.65)) -> 0 | BA22: =IF(OR(AZ22="",AZ22=0),0,IF(AZ22*24>8,2.99,2.65)) -> 0 | BC22: =IF(OR(BB22="",BB22=0),0,IF(BB22*24>8,2.99,2.65)) -> 0 | BE22: =IF(OR(BD22="",BD22=0),0,IF(BD22*24>8,2.99,2.65)) -> 0 | BG22: =IF(OR(BF22="",BF22=0),0,IF(BF22*24>8,2.99,2.65)) -> 0 | BI22: =IF(OR(BH22="",BH22=0),0,IF(BH22*24>8,2.99,2.65)) -> 0 | BK22: =IF(OR(BJ22="",BJ22=0),0,IF(BJ22*24>8,2.99,2.65)) -> 0 | BL22: =IFERROR(SUMPRODUCT((MOD(COLUMN(B22:BK22),2)=0)*(B22:BK22)),"") -> 0 | BM22: =IFERROR(SUMPRODUCT((MOD(COLUMN(B22:BK22),2)<>0)*(B22:BK22)),"") -> 0
A23: ENFANT 4 | C23: =IF(OR(B23="",B23=0),0,IF(B23*24>8,2.99,2.65)) -> 0 | E23: =IF(OR(D23="",D23=0),0,IF(D23*24>8,2.99,2.65)) -> 0 | G23: =IF(OR(F23="",F23=0),0,IF(F23*24>8,2.99,2.65)) -> 0 | I23: =IF(OR(H23="",H23=0),0,IF(H23*24>8,2.99,2.65)) -> 0 | K23: =IF(OR(J23="",J23=0),0,IF(J23*24>8,2.99,2.65)) -> 0 | M23: =IF(OR(L23="",L23=0),0,IF(L23*24>8,2.99,2.65)) -> 0 | O23: =IF(OR(N23="",N23=0),0,IF(N23*24>8,2.99,2.65)) -> 0 | Q23: =IF(OR(P23="",P23=0),0,IF(P23*24>8,2.99,2.65)) -> 0 | S23: =IF(OR(R23="",R23=0),0,IF(R23*24>8,2.99,2.65)) -> 0 | U23: =IF(OR(T23="",T23=0),0,IF(T23*24>8,2.99,2.65)) -> 0 | W23: =IF(OR(V23="",V23=0),0,IF(V23*24>8,2.99,2.65)) -> 0 | Y23: =IF(OR(X23="",X23=0),0,IF(X23*24>8,2.99,2.65)) -> 0 | AA23: =IF(OR(Z23="",Z23=0),0,IF(Z23*24>8,2.99,2.65)) -> 0 | AC23: =IF(OR(AB23="",AB23=0),0,IF(AB23*24>8,2.99,2.65)) -> 0 | AE23: =IF(OR(AD23="",AD23=0),0,IF(AD23*24>8,2.99,2.65)) -> 0 | AG23: =IF(OR(AF23="",AF23=0),0,IF(AF23*24>8,2.99,2.65)) -> 0 | AI23: =IF(OR(AH23="",AH23=0),0,IF(AH23*24>8,2.99,2.65)) -> 0 | AK23: =IF(OR(AJ23="",AJ23=0),0,IF(AJ23*24>8,2.99,2.65)) -> 0 | AM23: =IF(OR(AL23="",AL23=0),0,IF(AL23*24>8,2.99,2.65)) -> 0 | AO23: =IF(OR(AN23="",AN23=0),0,IF(AN23*24>8,2.99,2.65)) -> 0 | AQ23: =IF(OR(AP23="",AP23=0),0,IF(AP23*24>8,2.99,2.65)) -> 0 | AS23: =IF(OR(AR23="",AR23=0),0,IF(AR23*24>8,2.99,2.65)) -> 0 | AU23: =IF(OR(AT23="",AT23=0),0,IF(AT23*24>8,2.99,2.65)) -> 0 | AW23: =IF(OR(AV23="",AV23=0),0,IF(AV23*24>8,2.99,2.65)) -> 0 | AY23: =IF(OR(AX23="",AX23=0),0,IF(AX23*24>8,2.99,2.65)) -> 0 | BA23: =IF(OR(AZ23="",AZ23=0),0,IF(AZ23*24>8,2.99,2.65)) -> 0 | BC23: =IF(OR(BB23="",BB23=0),0,IF(BB23*24>8,2.99,2.65)) -> 0 | BE23: =IF(OR(BD23="",BD23=0),0,IF(BD23*24>8,2.99,2.65)) -> 0 | BG23: =IF(OR(BF23="",BF23=0),0,IF(BF23*24>8,2.99,2.65)) -> 0 | BI23: =IF(OR(BH23="",BH23=0),0,IF(BH23*24>8,2.99,2.65)) -> 0 | BK23: =IF(OR(BJ23="",BJ23=0),0,IF(BJ23*24>8,2.99,2.65)) -> 0 | BL23: =IFERROR(SUMPRODUCT((MOD(COLUMN(B23:BK23),2)=0)*(B23:BK23)),"") -> 0 | BM23: =IFERROR(SUMPRODUCT((MOD(COLUMN(B23:BK23),2)<>0)*(B23:BK23)),"") -> 0
A24: ENFANT 5 | C24: =IF(OR(B24="",B24=0),0,IF(B24*24>8,2.99,2.65)) -> 0 | E24: =IF(OR(D24="",D24=0),0,IF(D24*24>8,2.99,2.65)) -> 0 | G24: =IF(OR(F24="",F24=0),0,IF(F24*24>8,2.99,2.65)) -> 0 | I24: =IF(OR(H24="",H24=0),0,IF(H24*24>8,2.99,2.65)) -> 0 | K24: =IF(OR(J24="",J24=0),0,IF(J24*24>8,2.99,2.65)) -> 0 | M24: =IF(OR(L24="",L24=0),0,IF(L24*24>8,2.99,2.65)) -> 0 | O24: =IF(OR(N24="",N24=0),0,IF(N24*24>8,2.99,2.65)) -> 0 | Q24: =IF(OR(P24="",P24=0),0,IF(P24*24>8,2.99,2.65)) -> 0 | S24: =IF(OR(R24="",R24=0),0,IF(R24*24>8,2.99,2.65)) -> 0 | U24: =IF(OR(T24="",T24=0),0,IF(T24*24>8,2.99,2.65)) -> 0 | W24: =IF(OR(V24="",V24=0),0,IF(V24*24>8,2.99,2.65)) -> 0 | Y24: =IF(OR(X24="",X24=0),0,IF(X24*24>8,2.99,2.65)) -> 0 | AA24: =IF(OR(Z24="",Z24=0),0,IF(Z24*24>8,2.99,2.65)) -> 0 | AC24: =IF(OR(AB24="",AB24=0),0,IF(AB24*24>8,2.99,2.65)) -> 0 | AE24: =IF(OR(AD24="",AD24=0),0,IF(AD24*24>8,2.99,2.65)) -> 0 | AG24: =IF(OR(AF24="",AF24=0),0,IF(AF24*24>8,2.99,2.65)) -> 0 | AI24: =IF(OR(AH24="",AH24=0),0,IF(AH24*24>8,2.99,2.65)) -> 0 | AK24: =IF(OR(AJ24="",AJ24=0),0,IF(AJ24*24>8,2.99,2.65)) -> 0 | AM24: =IF(OR(AL24="",AL24=0),0,IF(AL24*24>8,2.99,2.65)) -> 0 | AO24: =IF(OR(AN24="",AN24=0),0,IF(AN24*24>8,2.99,2.65)) -> 0 | AQ24: =IF(OR(AP24="",AP24=0),0,IF(AP24*24>8,2.99,2.65)) -> 0 | AS24: =IF(OR(AR24="",AR24=0),0,IF(AR24*24>8,2.99,2.65)) -> 0 | AU24: =IF(OR(AT24="",AT24=0),0,IF(AT24*24>8,2.99,2.65)) -> 0 | AW24: =IF(OR(AV24="",AV24=0),0,IF(AV24*24>8,2.99,2.65)) -> 0 | AY24: =IF(OR(AX24="",AX24=0),0,IF(AX24*24>8,2.99,2.65)) -> 0 | BA24: =IF(OR(AZ24="",AZ24=0),0,IF(AZ24*24>8,2.99,2.65)) -> 0 | BC24: =IF(OR(BB24="",BB24=0),0,IF(BB24*24>8,2.99,2.65)) -> 0 | BE24: =IF(OR(BD24="",BD24=0),0,IF(BD24*24>8,2.99,2.65)) -> 0 | BG24: =IF(OR(BF24="",BF24=0),0,IF(BF24*24>8,2.99,2.65)) -> 0 | BI24: =IF(OR(BH24="",BH24=0),0,IF(BH24*24>8,2.99,2.65)) -> 0 | BK24: =IF(OR(BJ24="",BJ24=0),0,IF(BJ24*24>8,2.99,2.65)) -> 0 | BL24: =IFERROR(SUMPRODUCT((MOD(COLUMN(B24:BK24),2)=0)*(B24:BK24)),"") -> 0 | BM24: =IFERROR(SUMPRODUCT((MOD(COLUMN(B24:BK24),2)<>0)*(B24:BK24)),"") -> 0
B25: =SUM(B20:B24) -> 0 | C25: =SUM(C20:C24) -> 0 | D25: =SUM(D20:D24) -> 0 | E25: =SUM(E20:E24) -> 0 | F25: =SUM(F20:F24) -> 0 | G25: =SUM(G20:G24) -> 0 | H25: =SUM(H20:H24) -> 0 | I25: =SUM(I20:I24) -> 0 | ... BK25: =SUM(BK20:BK24) -> 0 | BL25: =IFERROR(SUMPRODUCT((MOD(COLUMN(B25:BK25),2)=0)*(B25:BK25)),"") -> 0 | BM25: =IFERROR(SUMPRODUCT((MOD(COLUMN(B25:BK25),2)<>0)*(B25:BK25)),"") -> 0
A26: MOIS DE AVRIL
B27: =DATE($A$1,4,1) -> 42461 | D27: =B27+1 -> 42462 | F27: =D27+1 -> 42463 | H27: =F27+1 -> 42464 | J27: =H27+1 -> 42465 | L27: =J27+1 -> 42466 | N27: =L27+1 -> 42467 | P27: =N27+1 -> 42468 | R27: =P27+1 -> 42469 | T27: =R27+1 -> 42470 | V27: =T27+1 -> 42471 | X27: =V27+1 -> 42472 | Z27: =X27+1 -> 42473 | AB27: =Z27+1 -> 42474 | AD27: =AB27+1 -> 42475 | AF27: =AD27+1 -> 42476 | AH27: =AF27+1 -> 42477 | AJ27: =AH27+1 -> 42478 | AL27: =AJ27+1 -> 42479 | AN27: =AL27+1 -> 42480 | AP27: =AN27+1 -> 42481 | AR27: =AP27+1 -> 42482 | AT27: =AR27+1 -> 42483 | AV27: =AT27+1 -> 42484 | AX27: =AV27+1 -> 42485 | AZ27: =AX27+1 -> 42486 | BB27: =AZ27+1 -> 42487 | BD27: =BB27+1 -> 42488 | BF27: =BD27+1 -> 42489 | BH27: =BF27+1 -> 42490 | BL27: TOTAL HEURES | BM27: TOTAL FRAIS ENTRETIEN
A28: ENFANT 1 | C28: =IF(OR(B28="",B28=0),0,IF(B28*24>8,2.99,2.65)) -> 0 | E28: =IF(OR(D28="",D28=0),0,IF(D28*24>8,2.99,2.65)) -> 0 | G28: =IF(OR(F28="",F28=0),0,IF(F28*24>8,2.99,2.65)) -> 0 | I28: =IF(OR(H28="",H28=0),0,IF(H28*24>8,2.99,2.65)) -> 0 | K28: =IF(OR(J28="",J28=0),0,IF(J28*24>8,2.99,2.65)) -> 0 | M28: =IF(OR(L28="",L28=0),0,IF(L28*24>8,2.99,2.65)) -> 0 | O28: =IF(OR(N28="",N28=0),0,IF(N28*24>8,2.99,2.65)) -> 0 | Q28: =IF(OR(P28="",P28=0),0,IF(P28*24>8,2.99,2.65)) -> 0 | S28: =IF(OR(R28="",R28=0),0,IF(R28*24>8,2.99,2.65)) -> 0 | U28: =IF(OR(T28="",T28=0),0,IF(T28*24>8,2.99,2.65)) -> 0 | W28: =IF(OR(V28="",V28=0),0,IF(V28*24>8,2.99,2.65)) -> 0 | Y28: =IF(OR(X28="",X28=0),0,IF(X28*24>8,2.99,2.65)) -> 0 | AA28: =IF(OR(Z28="",Z28=0),0,IF(Z28*24>8,2.99,2.65)) -> 0 | AC28: =IF(OR(AB28="",AB28=0),0,IF(AB28*24>8,2.99,2.65)) -> 0 | AE28: =IF(OR(AD28="",AD28=0),0,IF(AD28*24>8,2.99,2.65)) -> 0 | AG28: =IF(OR(AF28="",AF28=0),0,IF(AF28*24>8,2.99,2.65)) -> 0 | AI28: =IF(OR(AH28="",AH28=0),0,IF(AH28*24>8,2.99,2.65)) -> 0 | AK28: =IF(OR(AJ28="",AJ28=0),0,IF(AJ28*24>8,2.99,2.65)) -> 0 | AM28: =IF(OR(AL28="",AL28=0),0,IF(AL28*24>8,2.99,2.65)) -> 0 | AO28: =IF(OR(AN28="",AN28=0),0,IF(AN28*24>8,2.99,2.65)) -> 0 | AQ28: =IF(OR(AP28="",AP28=0),0,IF(AP28*24>8,2.99,2.65)) -> 0 | AS28: =IF(OR(AR28="",AR28=0),0,IF(AR28*24>8,2.99,2.65)) -> 0 | AU28: =IF(OR(AT28="",AT28=0),0,IF(AT28*24>8,2.99,2.65)) -> 0 | AW28: =IF(OR(AV28="",AV28=0),0,IF(AV28*24>8,2.99,2.65)) -> 0 | AY28: =IF(OR(AX28="",AX28=0),0,IF(AX28*24>8,2.99,2.65)) -> 0 | BA28: =IF(OR(AZ28="",AZ28=0),0,IF(AZ28*24>8,2.99,2.65)) -> 0 | BC28: =IF(OR(BB28="",BB28=0),0,IF(BB28*24>8,2.99,2.65)) -> 0 | BE28: =IF(OR(BD28="",BD28=0),0,IF(BD28*24>8,2.99,2.65)) -> 0 | BG28: =IF(OR(BF28="",BF28=0),0,IF(BF28*24>8,2.99,2.65)) -> 0 | BI28: =IF(OR(BH28="",BH28=0),0,IF(BH28*24>8,2.99,2.65)) -> 0 | BL28: =IFERROR(SUMPRODUCT((MOD(COLUMN(B28:BK28),2)=0)*(B28:BK28)),"") -> 0 | BM28: =IFERROR(SUMPRODUCT((MOD(COLUMN(B28:BK28),2)<>0)*(B28:BK28)),"") -> 0
A29: ENFANT 2 | C29: =IF(OR(B29="",B29=0),0,IF(B29*24>8,2.99,2.65)) -> 0 | E29: =IF(OR(D29="",D29=0),0,IF(D29*24>8,2.99,2.65)) -> 0 | G29: =IF(OR(F29="",F29=0),0,IF(F29*24>8,2.99,2.65)) -> 0 | I29: =IF(OR(H29="",H29=0),0,IF(H29*24>8,2.99,2.65)) -> 0 | K29: =IF(OR(J29="",J29=0),0,IF(J29*24>8,2.99,2.65)) -> 0 | M29: =IF(OR(L29="",L29=0),0,IF(L29*24>8,2.99,2.65)) -> 0 | O29: =IF(OR(N29="",N29=0),0,IF(N29*24>8,2.99,2.65)) -> 0 | Q29: =IF(OR(P29="",P29=0),0,IF(P29*24>8,2.99,2.65)) -> 0 | S29: =IF(OR(R29="",R29=0),0,IF(R29*24>8,2.99,2.65)) -> 0 | U29: =IF(OR(T29="",T29=0),0,IF(T29*24>8,2.99,2.65)) -> 0 | W29: =IF(OR(V29="",V29=0),0,IF(V29*24>8,2.99,2.65)) -> 0 | Y29: =IF(OR(X29="",X29=0),0,IF(X29*24>8,2.99,2.65)) -> 0 | AA29: =IF(OR(Z29="",Z29=0),0,IF(Z29*24>8,2.99,2.65)) -> 0 | AC29: =IF(OR(AB29="",AB29=0),0,IF(AB29*24>8,2.99,2.65)) -> 0 | AE29: =IF(OR(AD29="",AD29=0),0,IF(AD29*24>8,2.99,2.65)) -> 0 | AG29: =IF(OR(AF29="",AF29=0),0,IF(AF29*24>8,2.99,2.65)) -> 0 | AI29: =IF(OR(AH29="",AH29=0),0,IF(AH29*24>8,2.99,2.65)) -> 0 | AK29: =IF(OR(AJ29="",AJ29=0),0,IF(AJ29*24>8,2.99,2.65)) -> 0 | AM29: =IF(OR(AL29="",AL29=0),0,IF(AL29*24>8,2.99,2.65)) -> 0 | AO29: =IF(OR(AN29="",AN29=0),0,IF(AN29*24>8,2.99,2.65)) -> 0 | AQ29: =IF(OR(AP29="",AP29=0),0,IF(AP29*24>8,2.99,2.65)) -> 0 | AS29: =IF(OR(AR29="",AR29=0),0,IF(AR29*24>8,2.99,2.65)) -> 0 | AU29: =IF(OR(AT29="",AT29=0),0,IF(AT29*24>8,2.99,2.65)) -> 0 | AW29: =IF(OR(AV29="",AV29=0),0,IF(AV29*24>8,2.99,2.65)) -> 0 | AY29: =IF(OR(AX29="",AX29=0),0,IF(AX29*24>8,2.99,2.65)) -> 0 | BA29: =IF(OR(AZ29="",AZ29=0),0,IF(AZ29*24>8,2.99,2.65)) -> 0 | BC29: =IF(OR(BB29="",BB29=0),0,IF(BB29*24>8,2.99,2.65)) -> 0 | BE29: =IF(OR(BD29="",BD29=0),0,IF(BD29*24>8,2.99,2.65)) -> 0 | BG29: =IF(OR(BF29="",BF29=0),0,IF(BF29*24>8,2.99,2.65)) -> 0 | BI29: =IF(OR(BH29="",BH29=0),0,IF(BH29*24>8,2.99,2.65)) -> 0 | BL29: =IFERROR(SUMPRODUCT((MOD(COLUMN(B29:BK29),2)=0)*(B29:BK29)),"") -> 0 | BM29: =IFERROR(SUMPRODUCT((MOD(COLUMN(B29:BK29),2)<>0)*(B29:BK29)),"") -> 0
A30: ENFANT 3 | C30: =IF(OR(B30="",B30=0),0,IF(B30*24>8,2.99,2.65)) -> 0 | E30: =IF(OR(D30="",D30=0),0,IF(D30*24>8,2.99,2.65)) -> 0 | G30: =IF(OR(F30="",F30=0),0,IF(F30*24>8,2.99,2.65)) -> 0 | I30: =IF(OR(H30="",H30=0),0,IF(H30*24>8,2.99,2.65)) -> 0 | K30: =IF(OR(J30="",J30=0),0,IF(J30*24>8,2.99,2.65)) -> 0 | M30: =IF(OR(L30="",L30=0),0,IF(L30*24>8,2.99,2.65)) -> 0 | O30: =IF(OR(N30="",N30=0),0,IF(N30*24>8,2.99,2.65)) -> 0 | Q30: =IF(OR(P30="",P30=0),0,IF(P30*24>8,2.99,2.65)) -> 0 | S30: =IF(OR(R30="",R30=0),0,IF(R30*24>8,2.99,2.65)) -> 0 | U30: =IF(OR(T30="",T30=0),0,IF(T30*24>8,2.99,2.65)) -> 0 | W30: =IF(OR(V30="",V30=0),0,IF(V30*24>8,2.99,2.65)) -> 0 | Y30: =IF(OR(X30="",X30=0),0,IF(X30*24>8,2.99,2.65)) -> 0 | AA30: =IF(OR(Z30="",Z30=0),0,IF(Z30*24>8,2.99,2.65)) -> 0 | AC30: =IF(OR(AB30="",AB30=0),0,IF(AB30*24>8,2.99,2.65)) -> 0 | AE30: =IF(OR(AD30="",AD30=0),0,IF(AD30*24>8,2.99,2.65)) -> 0 | AG30: =IF(OR(AF30="",AF30=0),0,IF(AF30*24>8,2.99,2.65)) -> 0 | AI30: =IF(OR(AH30="",AH30=0),0,IF(AH30*24>8,2.99,2.65)) -> 0 | AK30: =IF(OR(AJ30="",AJ30=0),0,IF(AJ30*24>8,2.99,2.65)) -> 0 | AM30: =IF(OR(AL30="",AL30=0),0,IF(AL30*24>8,2.99,2.65)) -> 0 | AO30: =IF(OR(AN30="",AN30=0),0,IF(AN30*24>8,2.99,2.65)) -> 0 | AQ30: =IF(OR(AP30="",AP30=0),0,IF(AP30*24>8,2.99,2.65)) -> 0 | AS30: =IF(OR(AR30="",AR30=0),0,IF(AR30*24>8,2.99,2.65)) -> 0 | AU30: =IF(OR(AT30="",AT30=0),0,IF(AT30*24>8,2.99,2.65)) -> 0 | AW30: =IF(OR(AV30="",AV30=0),0,IF(AV30*24>8,2.99,2.65)) -> 0 | AY30: =IF(OR(AX30="",AX30=0),0,IF(AX30*24>8,2.99,2.65)) -> 0 | BA30: =IF(OR(AZ30="",AZ30=0),0,IF(AZ30*24>8,2.99,2.65)) -> 0 | BC30: =IF(OR(BB30="",BB30=0),0,IF(BB30*24>8,2.99,2.65)) -> 0 | BE30: =IF(OR(BD30="",BD30=0),0,IF(BD30*24>8,2.99,2.65)) -> 0 | BG30: =IF(OR(BF30="",BF30=0),0,IF(BF30*24>8,2.99,2.65)) -> 0 | BI30: =IF(OR(BH30="",BH30=0),0,IF(BH30*24>8,2.99,2.65)) -> 0 | BL30: =IFERROR(SUMPRODUCT((MOD(COLUMN(B30:BK30),2)=0)*(B30:BK30)),"") -> 0 | BM30: =IFERROR(SUMPRODUCT((MOD(COLUMN(B30:BK30),2)<>0)*(B30:BK30)),"") -> 0
A31: ENFANT 4 | C31: =IF(OR(B31="",B31=0),0,IF(B31*24>8,2.99,2.65)) -> 0 | E31: =IF(OR(D31="",D31=0),0,IF(D31*24>8,2.99,2.65)) -> 0 | G31: =IF(OR(F31="",F31=0),0,IF(F31*24>8,2.99,2.65)) -> 0 | I31: =IF(OR(H31="",H31=0),0,IF(H31*24>8,2.99,2.65)) -> 0 | K31: =IF(OR(J31="",J31=0),0,IF(J31*24>8,2.99,2.65)) -> 0 | M31: =IF(OR(L31="",L31=0),0,IF(L31*24>8,2.99,2.65)) -> 0 | O31: =IF(OR(N31="",N31=0),0,IF(N31*24>8,2.99,2.65)) -> 0 | Q31: =IF(OR(P31="",P31=0),0,IF(P31*24>8,2.99,2.65)) -> 0 | S31: =IF(OR(R31="",R31=0),0,IF(R31*24>8,2.99,2.65)) -> 0 | U31: =IF(OR(T31="",T31=0),0,IF(T31*24>8,2.99,2.65)) -> 0 | W31: =IF(OR(V31="",V31=0),0,IF(V31*24>8,2.99,2.65)) -> 0 | Y31: =IF(OR(X31="",X31=0),0,IF(X31*24>8,2.99,2.65)) -> 0 | AA31: =IF(OR(Z31="",Z31=0),0,IF(Z31*24>8,2.99,2.65)) -> 0 | AC31: =IF(OR(AB31="",AB31=0),0,IF(AB31*24>8,2.99,2.65)) -> 0 | AE31: =IF(OR(AD31="",AD31=0),0,IF(AD31*24>8,2.99,2.65)) -> 0 | AG31: =IF(OR(AF31="",AF31=0),0,IF(AF31*24>8,2.99,2.65)) -> 0 | AI31: =IF(OR(AH31="",AH31=0),0,IF(AH31*24>8,2.99,2.65)) -> 0 | AK31: =IF(OR(AJ31="",AJ31=0),0,IF(AJ31*24>8,2.99,2.65)) -> 0 | AM31: =IF(OR(AL31="",AL31=0),0,IF(AL31*24>8,2.99,2.65)) -> 0 | AO31: =IF(OR(AN31="",AN31=0),0,IF(AN31*24>8,2.99,2.65)) -> 0 | AQ31: =IF(OR(AP31="",AP31=0),0,IF(AP31*24>8,2.99,2.65)) -> 0 | AS31: =IF(OR(AR31="",AR31=0),0,IF(AR31*24>8,2.99,2.65)) -> 0 | AU31: =IF(OR(AT31="",AT31=0),0,IF(AT31*24>8,2.99,2.65)) -> 0 | AW31: =IF(OR(AV31="",AV31=0),0,IF(AV31*24>8,2.99,2.65)) -> 0 | AY31: =IF(OR(AX31="",AX31=0),0,IF(AX31*24>8,2.99,2.65)) -> 0 | BA31: =IF(OR(AZ31="",AZ31=0),0,IF(AZ31*24>8,2.99,2.65)) -> 0 | BC31: =IF(OR(BB31="",BB31=0),0,IF(BB31*24>8,2.99,2.65)) -> 0 | BE31: =IF(OR(BD31="",BD31=0),0,IF(BD31*24>8,2.99,2.65)) -> 0 | BG31: =IF(OR(BF31="",BF31=0),0,IF(BF31*24>8,2.99,2.65)) -> 0 | BI31: =IF(OR(BH31="",BH31=0),0,IF(BH31*24>8,2.99,2.65)) -> 0 | BL31: =IFERROR(SUMPRODUCT((MOD(COLUMN(B31:BK31),2)=0)*(B31:BK31)),"") -> 0 | BM31: =IFERROR(SUMPRODUCT((MOD(COLUMN(B31:BK31),2)<>0)*(B31:BK31)),"") -> 0
A32: ENFANT 5 | C32: =IF(OR(B32="",B32=0),0,IF(B32*24>8,2.99,2.65)) -> 0 | E32: =IF(OR(D32="",D32=0),0,IF(D32*24>8,2.99,2.65)) -> 0 | G32: =IF(OR(F32="",F32=0),0,IF(F32*24>8,2.99,2.65)) -> 0 | I32: =IF(OR(H32="",H32=0),0,IF(H32*24>8,2.99,2.65)) -> 0 | K32: =IF(OR(J32="",J32=0),0,IF(J32*24>8,2.99,2.65)) -> 0 | M32: =IF(OR(L32="",L32=0),0,IF(L32*24>8,2.99,2.65)) -> 0 | O32: =IF(OR(N32="",N32=0),0,IF(N32*24>8,2.99,2.65)) -> 0 | Q32: =IF(OR(P32="",P32=0),0,IF(P32*24>8,2.99,2.65)) -> 0 | S32: =IF(OR(R32="",R32=0),0,IF(R32*24>8,2.99,2.65)) -> 0 | U32: =IF(OR(T32="",T32=0),0,IF(T32*24>8,2.99,2.65)) -> 0 | W32: =IF(OR(V32="",V32=0),0,IF(V32*24>8,2.99,2.65)) -> 0 | Y32: =IF(OR(X32="",X32=0),0,IF(X32*24>8,2.99,2.65)) -> 0 | AA32: =IF(OR(Z32="",Z32=0),0,IF(Z32*24>8,2.99,2.65)) -> 0 | AC32: =IF(OR(AB32="",AB32=0),0,IF(AB32*24>8,2.99,2.65)) -> 0 | AE32: =IF(OR(AD32="",AD32=0),0,IF(AD32*24>8,2.99,2.65)) -> 0 | AG32: =IF(OR(AF32="",AF32=0),0,IF(AF32*24>8,2.99,2.65)) -> 0 | AI32: =IF(OR(AH32="",AH32=0),0,IF(AH32*24>8,2.99,2.65)) -> 0 | AK32: =IF(OR(AJ32="",AJ32=0),0,IF(AJ32*24>8,2.99,2.65)) -> 0 | AM32: =IF(OR(AL32="",AL32=0),0,IF(AL32*24>8,2.99,2.65)) -> 0 | AO32: =IF(OR(AN32="",AN32=0),0,IF(AN32*24>8,2.99,2.65)) -> 0 | AQ32: =IF(OR(AP32="",AP32=0),0,IF(AP32*24>8,2.99,2.65)) -> 0 | AS32: =IF(OR(AR32="",AR32=0),0,IF(AR32*24>8,2.99,2.65)) -> 0 | AU32: =IF(OR(AT32="",AT32=0),0,IF(AT32*24>8,2.99,2.65)) -> 0 | AW32: =IF(OR(AV32="",AV32=0),0,IF(AV32*24>8,2.99,2.65)) -> 0 | AY32: =IF(OR(AX32="",AX32=0),0,IF(AX32*24>8,2.99,2.65)) -> 0 | BA32: =IF(OR(AZ32="",AZ32=0),0,IF(AZ32*24>8,2.99,2.65)) -> 0 | BC32: =IF(OR(BB32="",BB32=0),0,IF(BB32*24>8,2.99,2.65)) -> 0 | BE32: =IF(OR(BD32="",BD32=0),0,IF(BD32*24>8,2.99,2.65)) -> 0 | BG32: =IF(OR(BF32="",BF32=0),0,IF(BF32*24>8,2.99,2.65)) -> 0 | BI32: =IF(OR(BH32="",BH32=0),0,IF(BH32*24>8,2.99,2.65)) -> 0 | BL32: =IFERROR(SUMPRODUCT((MOD(COLUMN(B32:BK32),2)=0)*(B32:BK32)),"") -> 0 | BM32: =IFERROR(SUMPRODUCT((MOD(COLUMN(B32:BK32),2)<>0)*(B32:BK32)),"") -> 0
B33: =SUM(B28:B32) -> 0 | C33: =SUM(C28:C32) -> 0 | D33: =SUM(D28:D32) -> 0 | E33: =SUM(E28:E32) -> 0 | F33: =SUM(F28:F32) -> 0 | G33: =SUM(G28:G32) -> 0 | H33: =SUM(H28:H32) -> 0 | I33: =SUM(I28:I32) -> 0 | ... BK33: =SUM(BK28:BK32) -> 0 | BL33: =IFERROR(SUMPRODUCT((MOD(COLUMN(B33:BK33),2)=0)*(B33:BK33)),"") -> 0 | BM33: =IFERROR(SUMPRODUCT((MOD(COLUMN(B33:BK33),2)<>0)*(B33:BK33)),"") -> 0
A34: MOIS DE MAI
B35: =DATE($A$1,5,1) -> 42491 | D35: =B35+1 -> 42492 | F35: =D35+1 -> 42493 | H35: =F35+1 -> 42494 | J35: =H35+1 -> 42495 | L35: =J35+1 -> 42496 | N35: =L35+1 -> 42497 | P35: =N35+1 -> 42498 | R35: =P35+1 -> 42499 | T35: =R35+1 -> 42500 | V35: =T35+1 -> 42501 | X35: =V35+1 -> 42502 | Z35: =X35+1 -> 42503 | AB35: =Z35+1 -> 42504 | AD35: =AB35+1 -> 42505 | AF35: =AD35+1 -> 42506 | AH35: =AF35+1 -> 42507 | AJ35: =AH35+1 -> 42508 | AL35: =AJ35+1 -> 42509 | AN35: =AL35+1 -> 42510 | AP35: =AN35+1 -> 42511 | AR35: =AP35+1 -> 42512 | AT35: =AR35+1 -> 42513 | AV35: =AT35+1 -> 42514 | AX35: =AV35+1 -> 42515 | AZ35: =AX35+1 -> 42516 | BB35: =AZ35+1 -> 42517 | BD35: =BB35+1 -> 42518 | BF35: =BD35+1 -> 42519 | BH35: =BF35+1 -> 42520 | BJ35: =BH35+1 -> 42521 | BL35: TOTAL HEURES | BM35: TOTAL FRAIS ENTRETIEN
A36: ENFANT 1 | C36: =IF(OR(B36="",B36=0),0,IF(B36*24>8,2.99,2.65)) -> 0 | E36: =IF(OR(D36="",D36=0),0,IF(D36*24>8,2.99,2.65)) -> 0 | G36: =IF(OR(F36="",F36=0),0,IF(F36*24>8,2.99,2.65)) -> 0 | I36: =IF(OR(H36="",H36=0),0,IF(H36*24>8,2.99,2.65)) -> 0 | K36: =IF(OR(J36="",J36=0),0,IF(J36*24>8,2.99,2.65)) -> 0 | M36: =IF(OR(L36="",L36=0),0,IF(L36*24>8,2.99,2.65)) -> 0 | O36: =IF(OR(N36="",N36=0),0,IF(N36*24>8,2.99,2.65)) -> 0 | Q36: =IF(OR(P36="",P36=0),0,IF(P36*24>8,2.99,2.65)) -> 0 | S36: =IF(OR(R36="",R36=0),0,IF(R36*24>8,2.99,2.65)) -> 0 | U36: =IF(OR(T36="",T36=0),0,IF(T36*24>8,2.99,2.65)) -> 0 | W36: =IF(OR(V36="",V36=0),0,IF(V36*24>8,2.99,2.65)) -> 0 | Y36: =IF(OR(X36="",X36=0),0,IF(X36*24>8,2.99,2.65)) -> 0 | AA36: =IF(OR(Z36="",Z36=0),0,IF(Z36*24>8,2.99,2.65)) -> 0 | AC36: =IF(OR(AB36="",AB36=0),0,IF(AB36*24>8,2.99,2.65)) -> 0 | AE36: =IF(OR(AD36="",AD36=0),0,IF(AD36*24>8,2.99,2.65)) -> 0 | AG36: =IF(OR(AF36="",AF36=0),0,IF(AF36*24>8,2.99,2.65)) -> 0 | AI36: =IF(OR(AH36="",AH36=0),0,IF(AH36*24>8,2.99,2.65)) -> 0 | AK36: =IF(OR(AJ36="",AJ36=0),0,IF(AJ36*24>8,2.99,2.65)) -> 0 | AM36: =IF(OR(AL36="",AL36=0),0,IF(AL36*24>8,2.99,2.65)) -> 0 | AO36: =IF(OR(AN36="",AN36=0),0,IF(AN36*24>8,2.99,2.65)) -> 0 | AQ36: =IF(OR(AP36="",AP36=0),0,IF(AP36*24>8,2.99,2.65)) -> 0 | AS36: =IF(OR(AR36="",AR36=0),0,IF(AR36*24>8,2.99,2.65)) -> 0 | AU36: =IF(OR(AT36="",AT36=0),0,IF(AT36*24>8,2.99,2.65)) -> 0 | AW36: =IF(OR(AV36="",AV36=0),0,IF(AV36*24>8,2.99,2.65)) -> 0 | AY36: =IF(OR(AX36="",AX36=0),0,IF(AX36*24>8,2.99,2.65)) -> 0 | BA36: =IF(OR(AZ36="",AZ36=0),0,IF(AZ36*24>8,2.99,2.65)) -> 0 | BC36: =IF(OR(BB36="",BB36=0),0,IF(BB36*24>8,2.99,2.65)) -> 0 | BE36: =IF(OR(BD36="",BD36=0),0,IF(BD36*24>8,2.99,2.65)) -> 0 | BG36: =IF(OR(BF36="",BF36=0),0,IF(BF36*24>8,2.99,2.65)) -> 0 | BI36: =IF(OR(BH36="",BH36=0),0,IF(BH36*24>8,2.99,2.65)) -> 0 | BK36: =IF(OR(BJ36="",BJ36=0),0,IF(BJ36*24>8,2.99,2.65)) -> 0 | BL36: =IFERROR(SUMPRODUCT((MOD(COLUMN(B36:BK36),2)=0)*(B36:BK36)),"") -> 0 | BM36: =IFERROR(SUMPRODUCT((MOD(COLUMN(B36:BK36),2)<>0)*(B36:BK36)),"") -> 0
A37: ENFANT 2 | C37: =IF(OR(B37="",B37=0),0,IF(B37*24>8,2.99,2.65)) -> 0 | E37: =IF(OR(D37="",D37=0),0,IF(D37*24>8,2.99,2.65)) -> 0 | G37: =IF(OR(F37="",F37=0),0,IF(F37*24>8,2.99,2.65)) -> 0 | I37: =IF(OR(H37="",H37=0),0,IF(H37*24>8,2.99,2.65)) -> 0 | K37: =IF(OR(J37="",J37=0),0,IF(J37*24>8,2.99,2.65)) -> 0 | M37: =IF(OR(L37="",L37=0),0,IF(L37*24>8,2.99,2.65)) -> 0 | O37: =IF(OR(N37="",N37=0),0,IF(N37*24>8,2.99,2.65)) -> 0 | Q37: =IF(OR(P37="",P37=0),0,IF(P37*24>8,2.99,2.65)) -> 0 | S37: =IF(OR(R37="",R37=0),0,IF(R37*24>8,2.99,2.65)) -> 0 | U37: =IF(OR(T37="",T37=0),0,IF(T37*24>8,2.99,2.65)) -> 0 | W37: =IF(OR(V37="",V37=0),0,IF(V37*24>8,2.99,2.65)) -> 0 | Y37: =IF(OR(X37="",X37=0),0,IF(X37*24>8,2.99,2.65)) -> 0 | AA37: =IF(OR(Z37="",Z37=0),0,IF(Z37*24>8,2.99,2.65)) -> 0 | AC37: =IF(OR(AB37="",AB37=0),0,IF(AB37*24>8,2.99,2.65)) -> 0 | AE37: =IF(OR(AD37="",AD37=0),0,IF(AD37*24>8,2.99,2.65)) -> 0 | AG37: =IF(OR(AF37="",AF37=0),0,IF(AF37*24>8,2.99,2.65)) -> 0 | AI37: =IF(OR(AH37="",AH37=0),0,IF(AH37*24>8,2.99,2.65)) -> 0 | AK37: =IF(OR(AJ37="",AJ37=0),0,IF(AJ37*24>8,2.99,2.65)) -> 0 | AM37: =IF(OR(AL37="",AL37=0),0,IF(AL37*24>8,2.99,2.65)) -> 0 | AO37: =IF(OR(AN37="",AN37=0),0,IF(AN37*24>8,2.99,2.65)) -> 0 | AQ37: =IF(OR(AP37="",AP37=0),0,IF(AP37*24>8,2.99,2.65)) -> 0 | AS37: =IF(OR(AR37="",AR37=0),0,IF(AR37*24>8,2.99,2.65)) -> 0 | AU37: =IF(OR(AT37="",AT37=0),0,IF(AT37*24>8,2.99,2.65)) -> 0 | AW37: =IF(OR(AV37="",AV37=0),0,IF(AV37*24>8,2.99,2.65)) -> 0 | AY37: =IF(OR(AX37="",AX37=0),0,IF(AX37*24>8,2.99,2.65)) -> 0 | BA37: =IF(OR(AZ37="",AZ37=0),0,IF(AZ37*24>8,2.99,2.65)) -> 0 | BC37: =IF(OR(BB37="",BB37=0),0,IF(BB37*24>8,2.99,2.65)) -> 0 | BE37: =IF(OR(BD37="",BD37=0),0,IF(BD37*24>8,2.99,2.65)) -> 0 | BG37: =IF(OR(BF37="",BF37=0),0,IF(BF37*24>8,2.99,2.65)) -> 0 | BI37: =IF(OR(BH37="",BH37=0),0,IF(BH37*24>8,2.99,2.65)) -> 0 | BK37: =IF(OR(BJ37="",BJ37=0),0,IF(BJ37*24>8,2.99,2.65)) -> 0 | BL37: =IFERROR(SUMPRODUCT((MOD(COLUMN(B37:BK37),2)=0)*(B37:BK37)),"") -> 0 | BM37: =IFERROR(SUMPRODUCT((MOD(COLUMN(B37:BK37),2)<>0)*(B37:BK37)),"") -> 0
A38: ENFANT 3 | C38: =IF(OR(B38="",B38=0),0,IF(B38*24>8,2.99,2.65)) -> 0 | E38: =IF(OR(D38="",D38=0),0,IF(D38*24>8,2.99,2.65)) -> 0 | G38: =IF(OR(F38="",F38=0),0,IF(F38*24>8,2.99,2.65)) -> 0 | I38: =IF(OR(H38="",H38=0),0,IF(H38*24>8,2.99,2.65)) -> 0 | K38: =IF(OR(J38="",J38=0),0,IF(J38*24>8,2.99,2.65)) -> 0 | M38: =IF(OR(L38="",L38=0),0,IF(L38*24>8,2.99,2.65)) -> 0 | O38: =IF(OR(N38="",N38=0),0,IF(N38*24>8,2.99,2.65)) -> 0 | Q38: =IF(OR(P38="",P38=0),0,IF(P38*24>8,2.99,2.65)) -> 0 | S38: =IF(OR(R38="",R38=0),0,IF(R38*24>8,2.99,2.65)) -> 0 | U38: =IF(OR(T38="",T38=0),0,IF(T38*24>8,2.99,2.65)) -> 0 | W38: =IF(OR(V38="",V38=0),0,IF(V38*24>8,2.99,2.65)) -> 0 | Y38: =IF(OR(X38="",X38=0),0,IF(X38*24>8,2.99,2.65)) -> 0 | AA38: =IF(OR(Z38="",Z38=0),0,IF(Z38*24>8,2.99,2.65)) -> 0 | AC38: =IF(OR(AB38="",AB38=0),0,IF(AB38*24>8,2.99,2.65)) -> 0 | AE38: =IF(OR(AD38="",AD38=0),0,IF(AD38*24>8,2.99,2.65)) -> 0 | AG38: =IF(OR(AF38="",AF38=0),0,IF(AF38*24>8,2.99,2.65)) -> 0 | AI38: =IF(OR(AH38="",AH38=0),0,IF(AH38*24>8,2.99,2.65)) -> 0 | AK38: =IF(OR(AJ38="",AJ38=0),0,IF(AJ38*24>8,2.99,2.65)) -> 0 | AM38: =IF(OR(AL38="",AL38=0),0,IF(AL38*24>8,2.99,2.65)) -> 0 | AO38: =IF(OR(AN38="",AN38=0),0,IF(AN38*24>8,2.99,2.65)) -> 0 | AQ38: =IF(OR(AP38="",AP38=0),0,IF(AP38*24>8,2.99,2.65)) -> 0 | AS38: =IF(OR(AR38="",AR38=0),0,IF(AR38*24>8,2.99,2.65)) -> 0 | AU38: =IF(OR(AT38="",AT38=0),0,IF(AT38*24>8,2.99,2.65)) -> 0 | AW38: =IF(OR(AV38="",AV38=0),0,IF(AV38*24>8,2.99,2.65)) -> 0 | AY38: =IF(OR(AX38="",AX38=0),0,IF(AX38*24>8,2.99,2.65)) -> 0 | BA38: =IF(OR(AZ38="",AZ38=0),0,IF(AZ38*24>8,2.99,2.65)) -> 0 | BC38: =IF(OR(BB38="",BB38=0),0,IF(BB38*24>8,2.99,2.65)) -> 0 | BE38: =IF(OR(BD38="",BD38=0),0,IF(BD38*24>8,2.99,2.65)) -> 0 | BG38: =IF(OR(BF38="",BF38=0),0,IF(BF38*24>8,2.99,2.65)) -> 0 | BI38: =IF(OR(BH38="",BH38=0),0,IF(BH38*24>8,2.99,2.65)) -> 0 | BK38: =IF(OR(BJ38="",BJ38=0),0,IF(BJ38*24>8,2.99,2.65)) -> 0 | BL38: =IFERROR(SUMPRODUCT((MOD(COLUMN(B38:BK38),2)=0)*(B38:BK38)),"") -> 0 | BM38: =IFERROR(SUMPRODUCT((MOD(COLUMN(B38:BK38),2)<>0)*(B38:BK38)),"") -> 0
A39: ENFANT 4 | C39: =IF(OR(B39="",B39=0),0,IF(B39*24>8,2.99,2.65)) -> 0 | E39: =IF(OR(D39="",D39=0),0,IF(D39*24>8,2.99,2.65)) -> 0 | G39: =IF(OR(F39="",F39=0),0,IF(F39*24>8,2.99,2.65)) -> 0 | I39: =IF(OR(H39="",H39=0),0,IF(H39*24>8,2.99,2.65)) -> 0 | K39: =IF(OR(J39="",J39=0),0,IF(J39*24>8,2.99,2.65)) -> 0 | M39: =IF(OR(L39="",L39=0),0,IF(L39*24>8,2.99,2.65)) -> 0 | O39: =IF(OR(N39="",N39=0),0,IF(N39*24>8,2.99,2.65)) -> 0 | Q39: =IF(OR(P39="",P39=0),0,IF(P39*24>8,2.99,2.65)) -> 0 | S39: =IF(OR(R39="",R39=0),0,IF(R39*24>8,2.99,2.65)) -> 0 | U39: =IF(OR(T39="",T39=0),0,IF(T39*24>8,2.99,2.65)) -> 0 | W39: =IF(OR(V39="",V39=0),0,IF(V39*24>8,2.99,2.65)) -> 0 | Y39: =IF(OR(X39="",X39=0),0,IF(X39*24>8,2.99,2.65)) -> 0 | AA39: =IF(OR(Z39="",Z39=0),0,IF(Z39*24>8,2.99,2.65)) -> 0 | AC39: =IF(OR(AB39="",AB39=0),0,IF(AB39*24>8,2.99,2.65)) -> 0 | AE39: =IF(OR(AD39="",AD39=0),0,IF(AD39*24>8,2.99,2.65)) -> 0 | AG39: =IF(OR(AF39="",AF39=0),0,IF(AF39*24>8,2.99,2.65)) -> 0 | AI39: =IF(OR(AH39="",AH39=0),0,IF(AH39*24>8,2.99,2.65)) -> 0 | AK39: =IF(OR(AJ39="",AJ39=0),0,IF(AJ39*24>8,2.99,2.65)) -> 0 | AM39: =IF(OR(AL39="",AL39=0),0,IF(AL39*24>8,2.99,2.65)) -> 0 | AO39: =IF(OR(AN39="",AN39=0),0,IF(AN39*24>8,2.99,2.65)) -> 0 | AQ39: =IF(OR(AP39="",AP39=0),0,IF(AP39*24>8,2.99,2.65)) -> 0 | AS39: =IF(OR(AR39="",AR39=0),0,IF(AR39*24>8,2.99,2.65)) -> 0 | AU39: =IF(OR(AT39="",AT39=0),0,IF(AT39*24>8,2.99,2.65)) -> 0 | AW39: =IF(OR(AV39="",AV39=0),0,IF(AV39*24>8,2.99,2.65)) -> 0 | AY39: =IF(OR(AX39="",AX39=0),0,IF(AX39*24>8,2.99,2.65)) -> 0 | BA39: =IF(OR(AZ39="",AZ39=0),0,IF(AZ39*24>8,2.99,2.65)) -> 0 | BC39: =IF(OR(BB39="",BB39=0),0,IF(BB39*24>8,2.99,2.65)) -> 0 | BE39: =IF(OR(BD39="",BD39=0),0,IF(BD39*24>8,2.99,2.65)) -> 0 | BG39: =IF(OR(BF39="",BF39=0),0,IF(BF39*24>8,2.99,2.65)) -> 0 | BI39: =IF(OR(BH39="",BH39=0),0,IF(BH39*24>8,2.99,2.65)) -> 0 | BK39: =IF(OR(BJ39="",BJ39=0),0,IF(BJ39*24>8,2.99,2.65)) -> 0 | BL39: =IFERROR(SUMPRODUCT((MOD(COLUMN(B39:BK39),2)=0)*(B39:BK39)),"") -> 0 | BM39: =IFERROR(SUMPRODUCT((MOD(COLUMN(B39:BK39),2)<>0)*(B39:BK39)),"") -> 0
A40: ENFANT 5 | C40: =IF(OR(B40="",B40=0),0,IF(B40*24>8,2.99,2.65)) -> 0 | E40: =IF(OR(D40="",D40=0),0,IF(D40*24>8,2.99,2.65)) -> 0 | G40: =IF(OR(F40="",F40=0),0,IF(F40*24>8,2.99,2.65)) -> 0 | I40: =IF(OR(H40="",H40=0),0,IF(H40*24>8,2.99,2.65)) -> 0 | K40: =IF(OR(J40="",J40=0),0,IF(J40*24>8,2.99,2.65)) -> 0 | M40: =IF(OR(L40="",L40=0),0,IF(L40*24>8,2.99,2.65)) -> 0 | O40: =IF(OR(N40="",N40=0),0,IF(N40*24>8,2.99,2.65)) -> 0 | Q40: =IF(OR(P40="",P40=0),0,IF(P40*24>8,2.99,2.65)) -> 0 | S40: =IF(OR(R40="",R40=0),0,IF(R40*24>8,2.99,2.65)) -> 0 | U40: =IF(OR(T40="",T40=0),0,IF(T40*24>8,2.99,2.65)) -> 0 | W40: =IF(OR(V40="",V40=0),0,IF(V40*24>8,2.99,2.65)) -> 0 | Y40: =IF(OR(X40="",X40=0),0,IF(X40*24>8,2.99,2.65)) -> 0 | AA40: =IF(OR(Z40="",Z40=0),0,IF(Z40*24>8,2.99,2.65)) -> 0 | AC40: =IF(OR(AB40="",AB40=0),0,IF(AB40*24>8,2.99,2.65)) -> 0 | AE40: =IF(OR(AD40="",AD40=0),0,IF(AD40*24>8,2.99,2.65)) -> 0 | AG40: =IF(OR(AF40="",AF40=0),0,IF(AF40*24>8,2.99,2.65)) -> 0 | AI40: =IF(OR(AH40="",AH40=0),0,IF(AH40*24>8,2.99,2.65)) -> 0 | AK40: =IF(OR(AJ40="",AJ40=0),0,IF(AJ40*24>8,2.99,2.65)) -> 0 | AM40: =IF(OR(AL40="",AL40=0),0,IF(AL40*24>8,2.99,2.65)) -> 0 | AO40: =IF(OR(AN40="",AN40=0),0,IF(AN40*24>8,2.99,2.65)) -> 0 | AQ40: =IF(OR(AP40="",AP40=0),0,IF(AP40*24>8,2.99,2.65)) -> 0 | AS40: =IF(OR(AR40="",AR40=0),0,IF(AR40*24>8,2.99,2.65)) -> 0 | AU40: =IF(OR(AT40="",AT40=0),0,IF(AT40*24>8,2.99,2.65)) -> 0 | AW40: =IF(OR(AV40="",AV40=0),0,IF(AV40*24>8,2.99,2.65)) -> 0 | AY40: =IF(OR(AX40="",AX40=0),0,IF(AX40*24>8,2.99,2.65)) -> 0 | BA40: =IF(OR(AZ40="",AZ40=0),0,IF(AZ40*24>8,2.99,2.65)) -> 0 | BC40: =IF(OR(BB40="",BB40=0),0,IF(BB40*24>8,2.99,2.65)) -> 0 | BE40: =IF(OR(BD40="",BD40=0),0,IF(BD40*24>8,2.99,2.65)) -> 0 | BG40: =IF(OR(BF40="",BF40=0),0,IF(BF40*24>8,2.99,2.65)) -> 0 | BI40: =IF(OR(BH40="",BH40=0),0,IF(BH40*24>8,2.99,2.65)) -> 0 | BK40: =IF(OR(BJ40="",BJ40=0),0,IF(BJ40*24>8,2.99,2.65)) -> 0 | BL40: =IFERROR(SUMPRODUCT((MOD(COLUMN(B40:BK40),2)=0)*(B40:BK40)),"") -> 0 | BM40: =IFERROR(SUMPRODUCT((MOD(COLUMN(B40:BK40),2)<>0)*(B40:BK40)),"") -> 0
B41: =SUM(B36:B40) -> 0 | C41: =SUM(C36:C40) -> 0 | D41: =SUM(D36:D40) -> 0 | E41: =SUM(E36:E40) -> 0 | F41: =SUM(F36:F40) -> 0 | G41: =SUM(G36:G40) -> 0 | H41: =SUM(H36:H40) -> 0 | I41: =SUM(I36:I40) -> 0 | ... BK41: =SUM(BK36:BK40) -> 0 | BL41: =IFERROR(SUMPRODUCT((MOD(COLUMN(B41:BK41),2)=0)*(B41:BK41)),"") -> 0 | BM41: =IFERROR(SUMPRODUCT((MOD(COLUMN(B41:BK41),2)<>0)*(B41:BK41)),"") -> 0
A42: MOIS DE JUIN
B43: =DATE($A$1,6,1) -> 42522 | D43: =B43+1 -> 42523 | F43: =D43+1 -> 42524 | H43: =F43+1 -> 42525 | J43: =H43+1 -> 42526 | L43: =J43+1 -> 42527 | N43: =L43+1 -> 42528 | P43: =N43+1 -> 42529 | R43: =P43+1 -> 42530 | T43: =R43+1 -> 42531 | V43: =T43+1 -> 42532 | X43: =V43+1 -> 42533 | Z43: =X43+1 -> 42534 | AB43: =Z43+1 -> 42535 | AD43: =AB43+1 -> 42536 | AF43: =AD43+1 -> 42537 | AH43: =AF43+1 -> 42538 | AJ43: =AH43+1 -> 42539 | AL43: =AJ43+1 -> 42540 | AN43: =AL43+1 -> 42541 | AP43: =AN43+1 -> 42542 | AR43: =AP43+1 -> 42543 | AT43: =AR43+1 -> 42544 | AV43: =AT43+1 -> 42545 | AX43: =AV43+1 -> 42546 | AZ43: =AX43+1 -> 42547 | BB43: =AZ43+1 -> 42548 | BD43: =BB43+1 -> 42549 | BF43: =BD43+1 -> 42550 | BH43: =BF43+1 -> 42551 | BL43: TOTAL HEURES | BM43: TOTAL FRAIS ENTRETIEN
A44: ENFANT 1 | C44: =IF(OR(B44="",B44=0),0,IF(B44*24>8,2.99,2.65)) -> 0 | E44: =IF(OR(D44="",D44=0),0,IF(D44*24>8,2.99,2.65)) -> 0 | G44: =IF(OR(F44="",F44=0),0,IF(F44*24>8,2.99,2.65)) -> 0 | I44: =IF(OR(H44="",H44=0),0,IF(H44*24>8,2.99,2.65)) -> 0 | K44: =IF(OR(J44="",J44=0),0,IF(J44*24>8,2.99,2.65)) -> 0 | M44: =IF(OR(L44="",L44=0),0,IF(L44*24>8,2.99,2.65)) -> 0 | O44: =IF(OR(N44="",N44=0),0,IF(N44*24>8,2.99,2.65)) -> 0 | Q44: =IF(OR(P44="",P44=0),0,IF(P44*24>8,2.99,2.65)) -> 0 | S44: =IF(OR(R44="",R44=0),0,IF(R44*24>8,2.99,2.65)) -> 0 | U44: =IF(OR(T44="",T44=0),0,IF(T44*24>8,2.99,2.65)) -> 0 | W44: =IF(OR(V44="",V44=0),0,IF(V44*24>8,2.99,2.65)) -> 0 | Y44: =IF(OR(X44="",X44=0),0,IF(X44*24>8,2.99,2.65)) -> 0 | AA44: =IF(OR(Z44="",Z44=0),0,IF(Z44*24>8,2.99,2.65)) -> 0 | AC44: =IF(OR(AB44="",AB44=0),0,IF(AB44*24>8,2.99,2.65)) -> 0 | AE44: =IF(OR(AD44="",AD44=0),0,IF(AD44*24>8,2.99,2.65)) -> 0 | AG44: =IF(OR(AF44="",AF44=0),0,IF(AF44*24>8,2.99,2.65)) -> 0 | AI44: =IF(OR(AH44="",AH44=0),0,IF(AH44*24>8,2.99,2.65)) -> 0 | AK44: =IF(OR(AJ44="",AJ44=0),0,IF(AJ44*24>8,2.99,2.65)) -> 0 | AM44: =IF(OR(AL44="",AL44=0),0,IF(AL44*24>8,2.99,2.65)) -> 0 | AO44: =IF(OR(AN44="",AN44=0),0,IF(AN44*24>8,2.99,2.65)) -> 0 | AQ44: =IF(OR(AP44="",AP44=0),0,IF(AP44*24>8,2.99,2.65)) -> 0 | AS44: =IF(OR(AR44="",AR44=0),0,IF(AR44*24>8,2.99,2.65)) -> 0 | AU44: =IF(OR(AT44="",AT44=0),0,IF(AT44*24>8,2.99,2.65)) -> 0 | AW44: =IF(OR(AV44="",AV44=0),0,IF(AV44*24>8,2.99,2.65)) -> 0 | AY44: =IF(OR(AX44="",AX44=0),0,IF(AX44*24>8,2.99,2.65)) -> 0 | BA44: =IF(OR(AZ44="",AZ44=0),0,IF(AZ44*24>8,2.99,2.65)) -> 0 | BC44: =IF(OR(BB44="",BB44=0),0,IF(BB44*24>8,2.99,2.65)) -> 0 | BE44: =IF(OR(BD44="",BD44=0),0,IF(BD44*24>8,2.99,2.65)) -> 0 | BG44: =IF(OR(BF44="",BF44=0),0,IF(BF44*24>8,2.99,2.65)) -> 0 | BI44: =IF(OR(BH44="",BH44=0),0,IF(BH44*24>8,2.99,2.65)) -> 0 | BL44: =IFERROR(SUMPRODUCT((MOD(COLUMN(B44:BK44),2)=0)*(B44:BK44)),"") -> 0 | BM44: =IFERROR(SUMPRODUCT((MOD(COLUMN(B44:BK44),2)<>0)*(B44:BK44)),"") -> 0
A45: ENFANT 2 | C45: =IF(OR(B45="",B45=0),0,IF(B45*24>8,2.99,2.65)) -> 0 | E45: =IF(OR(D45="",D45=0),0,IF(D45*24>8,2.99,2.65)) -> 0 | G45: =IF(OR(F45="",F45=0),0,IF(F45*24>8,2.99,2.65)) -> 0 | I45: =IF(OR(H45="",H45=0),0,IF(H45*24>8,2.99,2.65)) -> 0 | K45: =IF(OR(J45="",J45=0),0,IF(J45*24>8,2.99,2.65)) -> 0 | M45: =IF(OR(L45="",L45=0),0,IF(L45*24>8,2.99,2.65)) -> 0 | O45: =IF(OR(N45="",N45=0),0,IF(N45*24>8,2.99,2.65)) -> 0 | Q45: =IF(OR(P45="",P45=0),0,IF(P45*24>8,2.99,2.65)) -> 0 | S45: =IF(OR(R45="",R45=0),0,IF(R45*24>8,2.99,2.65)) -> 0 | U45: =IF(OR(T45="",T45=0),0,IF(T45*24>8,2.99,2.65)) -> 0 | W45: =IF(OR(V45="",V45=0),0,IF(V45*24>8,2.99,2.65)) -> 0 | Y45: =IF(OR(X45="",X45=0),0,IF(X45*24>8,2.99,2.65)) -> 0 | AA45: =IF(OR(Z45="",Z45=0),0,IF(Z45*24>8,2.99,2.65)) -> 0 | AC45: =IF(OR(AB45="",AB45=0),0,IF(AB45*24>8,2.99,2.65)) -> 0 | AE45: =IF(OR(AD45="",AD45=0),0,IF(AD45*24>8,2.99,2.65)) -> 0 | AG45: =IF(OR(AF45="",AF45=0),0,IF(AF45*24>8,2.99,2.65)) -> 0 | AI45: =IF(OR(AH45="",AH45=0),0,IF(AH45*24>8,2.99,2.65)) -> 0 | AK45: =IF(OR(AJ45="",AJ45=0),0,IF(AJ45*24>8,2.99,2.65)) -> 0 | AM45: =IF(OR(AL45="",AL45=0),0,IF(AL45*24>8,2.99,2.65)) -> 0 | AO45: =IF(OR(AN45="",AN45=0),0,IF(AN45*24>8,2.99,2.65)) -> 0 | AQ45: =IF(OR(AP45="",AP45=0),0,IF(AP45*24>8,2.99,2.65)) -> 0 | AS45: =IF(OR(AR45="",AR45=0),0,IF(AR45*24>8,2.99,2.65)) -> 0 | AU45: =IF(OR(AT45="",AT45=0),0,IF(AT45*24>8,2.99,2.65)) -> 0 | AW45: =IF(OR(AV45="",AV45=0),0,IF(AV45*24>8,2.99,2.65)) -> 0 | AY45: =IF(OR(AX45="",AX45=0),0,IF(AX45*24>8,2.99,2.65)) -> 0 | BA45: =IF(OR(AZ45="",AZ45=0),0,IF(AZ45*24>8,2.99,2.65)) -> 0 | BC45: =IF(OR(BB45="",BB45=0),0,IF(BB45*24>8,2.99,2.65)) -> 0 | BE45: =IF(OR(BD45="",BD45=0),0,IF(BD45*24>8,2.99,2.65)) -> 0 | BG45: =IF(OR(BF45="",BF45=0),0,IF(BF45*24>8,2.99,2.65)) -> 0 | BI45: =IF(OR(BH45="",BH45=0),0,IF(BH45*24>8,2.99,2.65)) -> 0 | BL45: =IFERROR(SUMPRODUCT((MOD(COLUMN(B45:BK45),2)=0)*(B45:BK45)),"") -> 0 | BM45: =IFERROR(SUMPRODUCT((MOD(COLUMN(B45:BK45),2)<>0)*(B45:BK45)),"") -> 0
A46: ENFANT 3 | C46: =IF(OR(B46="",B46=0),0,IF(B46*24>8,2.99,2.65)) -> 0 | E46: =IF(OR(D46="",D46=0),0,IF(D46*24>8,2.99,2.65)) -> 0 | G46: =IF(OR(F46="",F46=0),0,IF(F46*24>8,2.99,2.65)) -> 0 | I46: =IF(OR(H46="",H46=0),0,IF(H46*24>8,2.99,2.65)) -> 0 | K46: =IF(OR(J46="",J46=0),0,IF(J46*24>8,2.99,2.65)) -> 0 | M46: =IF(OR(L46="",L46=0),0,IF(L46*24>8,2.99,2.65)) -> 0 | O46: =IF(OR(N46="",N46=0),0,IF(N46*24>8,2.99,2.65)) -> 0 | Q46: =IF(OR(P46="",P46=0),0,IF(P46*24>8,2.99,2.65)) -> 0 | S46: =IF(OR(R46="",R46=0),0,IF(R46*24>8,2.99,2.65)) -> 0 | U46: =IF(OR(T46="",T46=0),0,IF(T46*24>8,2.99,2.65)) -> 0 | W46: =IF(OR(V46="",V46=0),0,IF(V46*24>8,2.99,2.65)) -> 0 | Y46: =IF(OR(X46="",X46=0),0,IF(X46*24>8,2.99,2.65)) -> 0 | AA46: =IF(OR(Z46="",Z46=0),0,IF(Z46*24>8,2.99,2.65)) -> 0 | AC46: =IF(OR(AB46="",AB46=0),0,IF(AB46*24>8,2.99,2.65)) -> 0 | AE46: =IF(OR(AD46="",AD46=0),0,IF(AD46*24>8,2.99,2.65)) -> 0 | AG46: =IF(OR(AF46="",AF46=0),0,IF(AF46*24>8,2.99,2.65)) -> 0 | AI46: =IF(OR(AH46="",AH46=0),0,IF(AH46*24>8,2.99,2.65)) -> 0 | AK46: =IF(OR(AJ46="",AJ46=0),0,IF(AJ46*24>8,2.99,2.65)) -> 0 | AM46: =IF(OR(AL46="",AL46=0),0,IF(AL46*24>8,2.99,2.65)) -> 0 | AO46: =IF(OR(AN46="",AN46=0),0,IF(AN46*24>8,2.99,2.65)) -> 0 | AQ46: =IF(OR(AP46="",AP46=0),0,IF(AP46*24>8,2.99,2.65)) -> 0 | AS46: =IF(OR(AR46="",AR46=0),0,IF(AR46*24>8,2.99,2.65)) -> 0 | AU46: =IF(OR(AT46="",AT46=0),0,IF(AT46*24>8,2.99,2.65)) -> 0 | AW46: =IF(OR(AV46="",AV46=0),0,IF(AV46*24>8,2.99,2.65)) -> 0 | AY46: =IF(OR(AX46="",AX46=0),0,IF(AX46*24>8,2.99,2.65)) -> 0 | BA46: =IF(OR(AZ46="",AZ46=0),0,IF(AZ46*24>8,2.99,2.65)) -> 0 | BC46: =IF(OR(BB46="",BB46=0),0,IF(BB46*24>8,2.99,2.65)) -> 0 | BE46: =IF(OR(BD46="",BD46=0),0,IF(BD46*24>8,2.99,2.65)) -> 0 | BG46: =IF(OR(BF46="",BF46=0),0,IF(BF46*24>8,2.99,2.65)) -> 0 | BI46: =IF(OR(BH46="",BH46=0),0,IF(BH46*24>8,2.99,2.65)) -> 0 | BL46: =IFERROR(SUMPRODUCT((MOD(COLUMN(B46:BK46),2)=0)*(B46:BK46)),"") -> 0 | BM46: =IFERROR(SUMPRODUCT((MOD(COLUMN(B46:BK46),2)<>0)*(B46:BK46)),"") -> 0
A47: ENFANT 4 | C47: =IF(OR(B47="",B47=0),0,IF(B47*24>8,2.99,2.65)) -> 0 | E47: =IF(OR(D47="",D47=0),0,IF(D47*24>8,2.99,2.65)) -> 0 | G47: =IF(OR(F47="",F47=0),0,IF(F47*24>8,2.99,2.65)) -> 0 | I47: =IF(OR(H47="",H47=0),0,IF(H47*24>8,2.99,2.65)) -> 0 | K47: =IF(OR(J47="",J47=0),0,IF(J47*24>8,2.99,2.65)) -> 0 | M47: =IF(OR(L47="",L47=0),0,IF(L47*24>8,2.99,2.65)) -> 0 | O47: =IF(OR(N47="",N47=0),0,IF(N47*24>8,2.99,2.65)) -> 0 | Q47: =IF(OR(P47="",P47=0),0,IF(P47*24>8,2.99,2.65)) -> 0 | S47: =IF(OR(R47="",R47=0),0,IF(R47*24>8,2.99,2.65)) -> 0 | U47: =IF(OR(T47="",T47=0),0,IF(T47*24>8,2.99,2.65)) -> 0 | W47: =IF(OR(V47="",V47=0),0,IF(V47*24>8,2.99,2.65)) -> 0 | Y47: =IF(OR(X47="",X47=0),0,IF(X47*24>8,2.99,2.65)) -> 0 | AA47: =IF(OR(Z47="",Z47=0),0,IF(Z47*24>8,2.99,2.65)) -> 0 | AC47: =IF(OR(AB47="",AB47=0),0,IF(AB47*24>8,2.99,2.65)) -> 0 | AE47: =IF(OR(AD47="",AD47=0),0,IF(AD47*24>8,2.99,2.65)) -> 0 | AG47: =IF(OR(AF47="",AF47=0),0,IF(AF47*24>8,2.99,2.65)) -> 0 | AI47: =IF(OR(AH47="",AH47=0),0,IF(AH47*24>8,2.99,2.65)) -> 0 | AK47: =IF(OR(AJ47="",AJ47=0),0,IF(AJ47*24>8,2.99,2.65)) -> 0 | AM47: =IF(OR(AL47="",AL47=0),0,IF(AL47*24>8,2.99,2.65)) -> 0 | AO47: =IF(OR(AN47="",AN47=0),0,IF(AN47*24>8,2.99,2.65)) -> 0 | AQ47: =IF(OR(AP47="",AP47=0),0,IF(AP47*24>8,2.99,2.65)) -> 0 | AS47: =IF(OR(AR47="",AR47=0),0,IF(AR47*24>8,2.99,2.65)) -> 0 | AU47: =IF(OR(AT47="",AT47=0),0,IF(AT47*24>8,2.99,2.65)) -> 0 | AW47: =IF(OR(AV47="",AV47=0),0,IF(AV47*24>8,2.99,2.65)) -> 0 | AY47: =IF(OR(AX47="",AX47=0),0,IF(AX47*24>8,2.99,2.65)) -> 0 | BA47: =IF(OR(AZ47="",AZ47=0),0,IF(AZ47*24>8,2.99,2.65)) -> 0 | BC47: =IF(OR(BB47="",BB47=0),0,IF(BB47*24>8,2.99,2.65)) -> 0 | BE47: =IF(OR(BD47="",BD47=0),0,IF(BD47*24>8,2.99,2.65)) -> 0 | BG47: =IF(OR(BF47="",BF47=0),0,IF(BF47*24>8,2.99,2.65)) -> 0 | BI47: =IF(OR(BH47="",BH47=0),0,IF(BH47*24>8,2.99,2.65)) -> 0 | BL47: =IFERROR(SUMPRODUCT((MOD(COLUMN(B47:BK47),2)=0)*(B47:BK47)),"") -> 0 | BM47: =IFERROR(SUMPRODUCT((MOD(COLUMN(B47:BK47),2)<>0)*(B47:BK47)),"") -> 0
A48: ENFANT 5 | C48: =IF(OR(B48="",B48=0),0,IF(B48*24>8,2.99,2.65)) -> 0 | E48: =IF(OR(D48="",D48=0),0,IF(D48*24>8,2.99,2.65)) -> 0 | G48: =IF(OR(F48="",F48=0),0,IF(F48*24>8,2.99,2.65)) -> 0 | I48: =IF(OR(H48="",H48=0),0,IF(H48*24>8,2.99,2.65)) -> 0 | K48: =IF(OR(J48="",J48=0),0,IF(J48*24>8,2.99,2.65)) -> 0 | M48: =IF(OR(L48="",L48=0),0,IF(L48*24>8,2.99,2.65)) -> 0 | O48: =IF(OR(N48="",N48=0),0,IF(N48*24>8,2.99,2.65)) -> 0 | Q48: =IF(OR(P48="",P48=0),0,IF(P48*24>8,2.99,2.65)) -> 0 | S48: =IF(OR(R48="",R48=0),0,IF(R48*24>8,2.99,2.65)) -> 0 | U48: =IF(OR(T48="",T48=0),0,IF(T48*24>8,2.99,2.65)) -> 0 | W48: =IF(OR(V48="",V48=0),0,IF(V48*24>8,2.99,2.65)) -> 0 | Y48: =IF(OR(X48="",X48=0),0,IF(X48*24>8,2.99,2.65)) -> 0 | AA48: =IF(OR(Z48="",Z48=0),0,IF(Z48*24>8,2.99,2.65)) -> 0 | AC48: =IF(OR(AB48="",AB48=0),0,IF(AB48*24>8,2.99,2.65)) -> 0 | AE48: =IF(OR(AD48="",AD48=0),0,IF(AD48*24>8,2.99,2.65)) -> 0 | AG48: =IF(OR(AF48="",AF48=0),0,IF(AF48*24>8,2.99,2.65)) -> 0 | AI48: =IF(OR(AH48="",AH48=0),0,IF(AH48*24>8,2.99,2.65)) -> 0 | AK48: =IF(OR(AJ48="",AJ48=0),0,IF(AJ48*24>8,2.99,2.65)) -> 0 | AM48: =IF(OR(AL48="",AL48=0),0,IF(AL48*24>8,2.99,2.65)) -> 0 | AO48: =IF(OR(AN48="",AN48=0),0,IF(AN48*24>8,2.99,2.65)) -> 0 | AQ48: =IF(OR(AP48="",AP48=0),0,IF(AP48*24>8,2.99,2.65)) -> 0 | AS48: =IF(OR(AR48="",AR48=0),0,IF(AR48*24>8,2.99,2.65)) -> 0 | AU48: =IF(OR(AT48="",AT48=0),0,IF(AT48*24>8,2.99,2.65)) -> 0 | AW48: =IF(OR(AV48="",AV48=0),0,IF(AV48*24>8,2.99,2.65)) -> 0 | AY48: =IF(OR(AX48="",AX48=0),0,IF(AX48*24>8,2.99,2.65)) -> 0 | BA48: =IF(OR(AZ48="",AZ48=0),0,IF(AZ48*24>8,2.99,2.65)) -> 0 | BC48: =IF(OR(BB48="",BB48=0),0,IF(BB48*24>8,2.99,2.65)) -> 0 | BE48: =IF(OR(BD48="",BD48=0),0,IF(BD48*24>8,2.99,2.65)) -> 0 | BG48: =IF(OR(BF48="",BF48=0),0,IF(BF48*24>8,2.99,2.65)) -> 0 | BI48: =IF(OR(BH48="",BH48=0),0,IF(BH48*24>8,2.99,2.65)) -> 0 | BL48: =IFERROR(SUMPRODUCT((MOD(COLUMN(B48:BK48),2)=0)*(B48:BK48)),"") -> 0 | BM48: =IFERROR(SUMPRODUCT((MOD(COLUMN(B48:BK48),2)<>0)*(B48:BK48)),"") -> 0
B49: =SUM(B44:B48) -> 0 | C49: =SUM(C44:C48) -> 0 | D49: =SUM(D44:D48) -> 0 | E49: =SUM(E44:E48) -> 0 | F49: =SUM(F44:F48) -> 0 | G49: =SUM(G44:G48) -> 0 | H49: =SUM(H44:H48) -> 0 | I49: =SUM(I44:I48) -> 0 | ... BI49: =SUM(BI44:BI48) -> 0 | BL49: =IFERROR(SUMPRODUCT((MOD(COLUMN(B49:BK49),2)=0)*(B49:BK49)),"") -> 0 | BM49: =IFERROR(SUMPRODUCT((MOD(COLUMN(B49:BK49),2)<>0)*(B49:BK49)),"") -> 0
A50: MOIS DE JUILLET
B51: =DATE($A$1,7,1) -> 42552 | D51: =B51+1 -> 42553 | F51: =D51+1 -> 42554 | H51: =F51+1 -> 42555 | J51: =H51+1 -> 42556 | L51: =J51+1 -> 42557 | N51: =L51+1 -> 42558 | P51: =N51+1 -> 42559 | R51: =P51+1 -> 42560 | T51: =R51+1 -> 42561 | V51: =T51+1 -> 42562 | X51: =V51+1 -> 42563 | Z51: =X51+1 -> 42564 | AB51: =Z51+1 -> 42565 | AD51: =AB51+1 -> 42566 | AF51: =AD51+1 -> 42567 | AH51: =AF51+1 -> 42568 | AJ51: =AH51+1 -> 42569 | AL51: =AJ51+1 -> 42570 | AN51: =AL51+1 -> 42571 | AP51: =AN51+1 -> 42572 | AR51: =AP51+1 -> 42573 | AT51: =AR51+1 -> 42574 | AV51: =AT51+1 -> 42575 | AX51: =AV51+1 -> 42576 | AZ51: =AX51+1 -> 42577 | BB51: =AZ51+1 -> 42578 | BD51: =BB51+1 -> 42579 | BF51: =BD51+1 -> 42580 | BH51: =BF51+1 -> 42581 | BJ51: =BH51+1 -> 42582 | BL51: TOTAL HEURES | BM51: TOTAL FRAIS ENTRETIEN
A52: ENFANT 1 | C52: =IF(OR(B52="",B52=0),0,IF(B52*24>8,2.99,2.65)) -> 0 | E52: =IF(OR(D52="",D52=0),0,IF(D52*24>8,2.99,2.65)) -> 0 | G52: =IF(OR(F52="",F52=0),0,IF(F52*24>8,2.99,2.65)) -> 0 | I52: =IF(OR(H52="",H52=0),0,IF(H52*24>8,2.99,2.65)) -> 0 | K52: =IF(OR(J52="",J52=0),0,IF(J52*24>8,2.99,2.65)) -> 0 | M52: =IF(OR(L52="",L52=0),0,IF(L52*24>8,2.99,2.65)) -> 0 | O52: =IF(OR(N52="",N52=0),0,IF(N52*24>8,2.99,2.65)) -> 0 | Q52: =IF(OR(P52="",P52=0),0,IF(P52*24>8,2.99,2.65)) -> 0 | S52: =IF(OR(R52="",R52=0),0,IF(R52*24>8,2.99,2.65)) -> 0 | U52: =IF(OR(T52="",T52=0),0,IF(T52*24>8,2.99,2.65)) -> 0 | W52: =IF(OR(V52="",V52=0),0,IF(V52*24>8,2.99,2.65)) -> 0 | Y52: =IF(OR(X52="",X52=0),0,IF(X52*24>8,2.99,2.65)) -> 0 | AA52: =IF(OR(Z52="",Z52=0),0,IF(Z52*24>8,2.99,2.65)) -> 0 | AC52: =IF(OR(AB52="",AB52=0),0,IF(AB52*24>8,2.99,2.65)) -> 0 | AE52: =IF(OR(AD52="",AD52=0),0,IF(AD52*24>8,2.99,2.65)) -> 0 | AG52: =IF(OR(AF52="",AF52=0),0,IF(AF52*24>8,2.99,2.65)) -> 0 | AI52: =IF(OR(AH52="",AH52=0),0,IF(AH52*24>8,2.99,2.65)) -> 0 | AK52: =IF(OR(AJ52="",AJ52=0),0,IF(AJ52*24>8,2.99,2.65)) -> 0 | AM52: =IF(OR(AL52="",AL52=0),0,IF(AL52*24>8,2.99,2.65)) -> 0 | AO52: =IF(OR(AN52="",AN52=0),0,IF(AN52*24>8,2.99,2.65)) -> 0 | AQ52: =IF(OR(AP52="",AP52=0),0,IF(AP52*24>8,2.99,2.65)) -> 0 | AS52: =IF(OR(AR52="",AR52=0),0,IF(AR52*24>8,2.99,2.65)) -> 0 | AU52: =IF(OR(AT52="",AT52=0),0,IF(AT52*24>8,2.99,2.65)) -> 0 | AW52: =IF(OR(AV52="",AV52=0),0,IF(AV52*24>8,2.99,2.65)) -> 0 | AY52: =IF(OR(AX52="",AX52=0),0,IF(AX52*24>8,2.99,2.65)) -> 0 | BA52: =IF(OR(AZ52="",AZ52=0),0,IF(AZ52*24>8,2.99,2.65)) -> 0 | BC52: =IF(OR(BB52="",BB52=0),0,IF(BB52*24>8,2.99,2.65)) -> 0 | BE52: =IF(OR(BD52="",BD52=0),0,IF(BD52*24>8,2.99,2.65)) -> 0 | BG52: =IF(OR(BF52="",BF52=0),0,IF(BF52*24>8,2.99,2.65)) -> 0 | BI52: =IF(OR(BH52="",BH52=0),0,IF(BH52*24>8,2.99,2.65)) -> 0 | BK52: =IF(OR(BJ52="",BJ52=0),0,IF(BJ52*24>8,2.99,2.65)) -> 0 | BL52: =IFERROR(SUMPRODUCT((MOD(COLUMN(B52:BK52),2)=0)*(B52:BK52)),"") -> 0 | BM52: =IFERROR(SUMPRODUCT((MOD(COLUMN(B52:BK52),2)<>0)*(B52:BK52)),"") -> 0
A53: ENFANT 2 | C53: =IF(OR(B53="",B53=0),0,IF(B53*24>8,2.99,2.65)) -> 0 | E53: =IF(OR(D53="",D53=0),0,IF(D53*24>8,2.99,2.65)) -> 0 | G53: =IF(OR(F53="",F53=0),0,IF(F53*24>8,2.99,2.65)) -> 0 | I53: =IF(OR(H53="",H53=0),0,IF(H53*24>8,2.99,2.65)) -> 0 | K53: =IF(OR(J53="",J53=0),0,IF(J53*24>8,2.99,2.65)) -> 0 | M53: =IF(OR(L53="",L53=0),0,IF(L53*24>8,2.99,2.65)) -> 0 | O53: =IF(OR(N53="",N53=0),0,IF(N53*24>8,2.99,2.65)) -> 0 | Q53: =IF(OR(P53="",P53=0),0,IF(P53*24>8,2.99,2.65)) -> 0 | S53: =IF(OR(R53="",R53=0),0,IF(R53*24>8,2.99,2.65)) -> 0 | U53: =IF(OR(T53="",T53=0),0,IF(T53*24>8,2.99,2.65)) -> 0 | W53: =IF(OR(V53="",V53=0),0,IF(V53*24>8,2.99,2.65)) -> 0 | Y53: =IF(OR(X53="",X53=0),0,IF(X53*24>8,2.99,2.65)) -> 0 | AA53: =IF(OR(Z53="",Z53=0),0,IF(Z53*24>8,2.99,2.65)) -> 0 | AC53: =IF(OR(AB53="",AB53=0),0,IF(AB53*24>8,2.99,2.65)) -> 0 | AE53: =IF(OR(AD53="",AD53=0),0,IF(AD53*24>8,2.99,2.65)) -> 0 | AG53: =IF(OR(AF53="",AF53=0),0,IF(AF53*24>8,2.99,2.65)) -> 0 | AI53: =IF(OR(AH53="",AH53=0),0,IF(AH53*24>8,2.99,2.65)) -> 0 | AK53: =IF(OR(AJ53="",AJ53=0),0,IF(AJ53*24>8,2.99,2.65)) -> 0 | AM53: =IF(OR(AL53="",AL53=0),0,IF(AL53*24>8,2.99,2.65)) -> 0 | AO53: =IF(OR(AN53="",AN53=0),0,IF(AN53*24>8,2.99,2.65)) -> 0 | AQ53: =IF(OR(AP53="",AP53=0),0,IF(AP53*24>8,2.99,2.65)) -> 0 | AS53: =IF(OR(AR53="",AR53=0),0,IF(AR53*24>8,2.99,2.65)) -> 0 | AU53: =IF(OR(AT53="",AT53=0),0,IF(AT53*24>8,2.99,2.65)) -> 0 | AW53: =IF(OR(AV53="",AV53=0),0,IF(AV53*24>8,2.99,2.65)) -> 0 | AY53: =IF(OR(AX53="",AX53=0),0,IF(AX53*24>8,2.99,2.65)) -> 0 | BA53: =IF(OR(AZ53="",AZ53=0),0,IF(AZ53*24>8,2.99,2.65)) -> 0 | BC53: =IF(OR(BB53="",BB53=0),0,IF(BB53*24>8,2.99,2.65)) -> 0 | BE53: =IF(OR(BD53="",BD53=0),0,IF(BD53*24>8,2.99,2.65)) -> 0 | BG53: =IF(OR(BF53="",BF53=0),0,IF(BF53*24>8,2.99,2.65)) -> 0 | BI53: =IF(OR(BH53="",BH53=0),0,IF(BH53*24>8,2.99,2.65)) -> 0 | BK53: =IF(OR(BJ53="",BJ53=0),0,IF(BJ53*24>8,2.99,2.65)) -> 0 | BL53: =IFERROR(SUMPRODUCT((MOD(COLUMN(B53:BK53),2)=0)*(B53:BK53)),"") -> 0 | BM53: =IFERROR(SUMPRODUCT((MOD(COLUMN(B53:BK53),2)<>0)*(B53:BK53)),"") -> 0
A54: ENFANT 3 | C54: =IF(OR(B54="",B54=0),0,IF(B54*24>8,2.99,2.65)) -> 0 | E54: =IF(OR(D54="",D54=0),0,IF(D54*24>8,2.99,2.65)) -> 0 | G54: =IF(OR(F54="",F54=0),0,IF(F54*24>8,2.99,2.65)) -> 0 | I54: =IF(OR(H54="",H54=0),0,IF(H54*24>8,2.99,2.65)) -> 0 | K54: =IF(OR(J54="",J54=0),0,IF(J54*24>8,2.99,2.65)) -> 0 | M54: =IF(OR(L54="",L54=0),0,IF(L54*24>8,2.99,2.65)) -> 0 | O54: =IF(OR(N54="",N54=0),0,IF(N54*24>8,2.99,2.65)) -> 0 | Q54: =IF(OR(P54="",P54=0),0,IF(P54*24>8,2.99,2.65)) -> 0 | S54: =IF(OR(R54="",R54=0),0,IF(R54*24>8,2.99,2.65)) -> 0 | U54: =IF(OR(T54="",T54=0),0,IF(T54*24>8,2.99,2.65)) -> 0 | W54: =IF(OR(V54="",V54=0),0,IF(V54*24>8,2.99,2.65)) -> 0 | Y54: =IF(OR(X54="",X54=0),0,IF(X54*24>8,2.99,2.65)) -> 0 | AA54: =IF(OR(Z54="",Z54=0),0,IF(Z54*24>8,2.99,2.65)) -> 0 | AC54: =IF(OR(AB54="",AB54=0),0,IF(AB54*24>8,2.99,2.65)) -> 0 | AE54: =IF(OR(AD54="",AD54=0),0,IF(AD54*24>8,2.99,2.65)) -> 0 | AG54: =IF(OR(AF54="",AF54=0),0,IF(AF54*24>8,2.99,2.65)) -> 0 | AI54: =IF(OR(AH54="",AH54=0),0,IF(AH54*24>8,2.99,2.65)) -> 0 | AK54: =IF(OR(AJ54="",AJ54=0),0,IF(AJ54*24>8,2.99,2.65)) -> 0 | AM54: =IF(OR(AL54="",AL54=0),0,IF(AL54*24>8,2.99,2.65)) -> 0 | AO54: =IF(OR(AN54="",AN54=0),0,IF(AN54*24>8,2.99,2.65)) -> 0 | AQ54: =IF(OR(AP54="",AP54=0),0,IF(AP54*24>8,2.99,2.65)) -> 0 | AS54: =IF(OR(AR54="",AR54=0),0,IF(AR54*24>8,2.99,2.65)) -> 0 | AU54: =IF(OR(AT54="",AT54=0),0,IF(AT54*24>8,2.99,2.65)) -> 0 | AW54: =IF(OR(AV54="",AV54=0),0,IF(AV54*24>8,2.99,2.65)) -> 0 | AY54: =IF(OR(AX54="",AX54=0),0,IF(AX54*24>8,2.99,2.65)) -> 0 | BA54: =IF(OR(AZ54="",AZ54=0),0,IF(AZ54*24>8,2.99,2.65)) -> 0 | BC54: =IF(OR(BB54="",BB54=0),0,IF(BB54*24>8,2.99,2.65)) -> 0 | BE54: =IF(OR(BD54="",BD54=0),0,IF(BD54*24>8,2.99,2.65)) -> 0 | BG54: =IF(OR(BF54="",BF54=0),0,IF(BF54*24>8,2.99,2.65)) -> 0 | BI54: =IF(OR(BH54="",BH54=0),0,IF(BH54*24>8,2.99,2.65)) -> 0 | BK54: =IF(OR(BJ54="",BJ54=0),0,IF(BJ54*24>8,2.99,2.65)) -> 0 | BL54: =IFERROR(SUMPRODUCT((MOD(COLUMN(B54:BK54),2)=0)*(B54:BK54)),"") -> 0 | BM54: =IFERROR(SUMPRODUCT((MOD(COLUMN(B54:BK54),2)<>0)*(B54:BK54)),"") -> 0
A55: ENFANT 4 | C55: =IF(OR(B55="",B55=0),0,IF(B55*24>8,2.99,2.65)) -> 0 | E55: =IF(OR(D55="",D55=0),0,IF(D55*24>8,2.99,2.65)) -> 0 | G55: =IF(OR(F55="",F55=0),0,IF(F55*24>8,2.99,2.65)) -> 0 | I55: =IF(OR(H55="",H55=0),0,IF(H55*24>8,2.99,2.65)) -> 0 | K55: =IF(OR(J55="",J55=0),0,IF(J55*24>8,2.99,2.65)) -> 0 | M55: =IF(OR(L55="",L55=0),0,IF(L55*24>8,2.99,2.65)) -> 0 | O55: =IF(OR(N55="",N55=0),0,IF(N55*24>8,2.99,2.65)) -> 0 | Q55: =IF(OR(P55="",P55=0),0,IF(P55*24>8,2.99,2.65)) -> 0 | S55: =IF(OR(R55="",R55=0),0,IF(R55*24>8,2.99,2.65)) -> 0 | U55: =IF(OR(T55="",T55=0),0,IF(T55*24>8,2.99,2.65)) -> 0 | W55: =IF(OR(V55="",V55=0),0,IF(V55*24>8,2.99,2.65)) -> 0 | Y55: =IF(OR(X55="",X55=0),0,IF(X55*24>8,2.99,2.65)) -> 0 | AA55: =IF(OR(Z55="",Z55=0),0,IF(Z55*24>8,2.99,2.65)) -> 0 | AC55: =IF(OR(AB55="",AB55=0),0,IF(AB55*24>8,2.99,2.65)) -> 0 | AE55: =IF(OR(AD55="",AD55=0),0,IF(AD55*24>8,2.99,2.65)) -> 0 | AG55: =IF(OR(AF55="",AF55=0),0,IF(AF55*24>8,2.99,2.65)) -> 0 | AI55: =IF(OR(AH55="",AH55=0),0,IF(AH55*24>8,2.99,2.65)) -> 0 | AK55: =IF(OR(AJ55="",AJ55=0),0,IF(AJ55*24>8,2.99,2.65)) -> 0 | AM55: =IF(OR(AL55="",AL55=0),0,IF(AL55*24>8,2.99,2.65)) -> 0 | AO55: =IF(OR(AN55="",AN55=0),0,IF(AN55*24>8,2.99,2.65)) -> 0 | AQ55: =IF(OR(AP55="",AP55=0),0,IF(AP55*24>8,2.99,2.65)) -> 0 | AS55: =IF(OR(AR55="",AR55=0),0,IF(AR55*24>8,2.99,2.65)) -> 0 | AU55: =IF(OR(AT55="",AT55=0),0,IF(AT55*24>8,2.99,2.65)) -> 0 | AW55: =IF(OR(AV55="",AV55=0),0,IF(AV55*24>8,2.99,2.65)) -> 0 | AY55: =IF(OR(AX55="",AX55=0),0,IF(AX55*24>8,2.99,2.65)) -> 0 | BA55: =IF(OR(AZ55="",AZ55=0),0,IF(AZ55*24>8,2.99,2.65)) -> 0 | BC55: =IF(OR(BB55="",BB55=0),0,IF(BB55*24>8,2.99,2.65)) -> 0 | BE55: =IF(OR(BD55="",BD55=0),0,IF(BD55*24>8,2.99,2.65)) -> 0 | BG55: =IF(OR(BF55="",BF55=0),0,IF(BF55*24>8,2.99,2.65)) -> 0 | BI55: =IF(OR(BH55="",BH55=0),0,IF(BH55*24>8,2.99,2.65)) -> 0 | BK55: =IF(OR(BJ55="",BJ55=0),0,IF(BJ55*24>8,2.99,2.65)) -> 0 | BL55: =IFERROR(SUMPRODUCT((MOD(COLUMN(B55:BK55),2)=0)*(B55:BK55)),"") -> 0 | BM55: =IFERROR(SUMPRODUCT((MOD(COLUMN(B55:BK55),2)<>0)*(B55:BK55)),"") -> 0
A56: ENFANT 5 | C56: =IF(OR(B56="",B56=0),0,IF(B56*24>8,2.99,2.65)) -> 0 | E56: =IF(OR(D56="",D56=0),0,IF(D56*24>8,2.99,2.65)) -> 0 | G56: =IF(OR(F56="",F56=0),0,IF(F56*24>8,2.99,2.65)) -> 0 | I56: =IF(OR(H56="",H56=0),0,IF(H56*24>8,2.99,2.65)) -> 0 | K56: =IF(OR(J56="",J56=0),0,IF(J56*24>8,2.99,2.65)) -> 0 | M56: =IF(OR(L56="",L56=0),0,IF(L56*24>8,2.99,2.65)) -> 0 | O56: =IF(OR(N56="",N56=0),0,IF(N56*24>8,2.99,2.65)) -> 0 | Q56: =IF(OR(P56="",P56=0),0,IF(P56*24>8,2.99,2.65)) -> 0 | S56: =IF(OR(R56="",R56=0),0,IF(R56*24>8,2.99,2.65)) -> 0 | U56: =IF(OR(T56="",T56=0),0,IF(T56*24>8,2.99,2.65)) -> 0 | W56: =IF(OR(V56="",V56=0),0,IF(V56*24>8,2.99,2.65)) -> 0 | Y56: =IF(OR(X56="",X56=0),0,IF(X56*24>8,2.99,2.65)) -> 0 | AA56: =IF(OR(Z56="",Z56=0),0,IF(Z56*24>8,2.99,2.65)) -> 0 | AC56: =IF(OR(AB56="",AB56=0),0,IF(AB56*24>8,2.99,2.65)) -> 0 | AE56: =IF(OR(AD56="",AD56=0),0,IF(AD56*24>8,2.99,2.65)) -> 0 | AG56: =IF(OR(AF56="",AF56=0),0,IF(AF56*24>8,2.99,2.65)) -> 0 | AI56: =IF(OR(AH56="",AH56=0),0,IF(AH56*24>8,2.99,2.65)) -> 0 | AK56: =IF(OR(AJ56="",AJ56=0),0,IF(AJ56*24>8,2.99,2.65)) -> 0 | AM56: =IF(OR(AL56="",AL56=0),0,IF(AL56*24>8,2.99,2.65)) -> 0 | AO56: =IF(OR(AN56="",AN56=0),0,IF(AN56*24>8,2.99,2.65)) -> 0 | AQ56: =IF(OR(AP56="",AP56=0),0,IF(AP56*24>8,2.99,2.65)) -> 0 | AS56: =IF(OR(AR56="",AR56=0),0,IF(AR56*24>8,2.99,2.65)) -> 0 | AU56: =IF(OR(AT56="",AT56=0),0,IF(AT56*24>8,2.99,2.65)) -> 0 | AW56: =IF(OR(AV56="",AV56=0),0,IF(AV56*24>8,2.99,2.65)) -> 0 | AY56: =IF(OR(AX56="",AX56=0),0,IF(AX56*24>8,2.99,2.65)) -> 0 | BA56: =IF(OR(AZ56="",AZ56=0),0,IF(AZ56*24>8,2.99,2.65)) -> 0 | BC56: =IF(OR(BB56="",BB56=0),0,IF(BB56*24>8,2.99,2.65)) -> 0 | BE56: =IF(OR(BD56="",BD56=0),0,IF(BD56*24>8,2.99,2.65)) -> 0 | BG56: =IF(OR(BF56="",BF56=0),0,IF(BF56*24>8,2.99,2.65)) -> 0 | BI56: =IF(OR(BH56="",BH56=0),0,IF(BH56*24>8,2.99,2.65)) -> 0 | BK56: =IF(OR(BJ56="",BJ56=0),0,IF(BJ56*24>8,2.99,2.65)) -> 0 | BL56: =IFERROR(SUMPRODUCT((MOD(COLUMN(B56:BK56),2)=0)*(B56:BK56)),"") -> 0 | BM56: =IFERROR(SUMPRODUCT((MOD(COLUMN(B56:BK56),2)<>0)*(B56:BK56)),"") -> 0
B57: =SUM(B52:B56) -> 0 | C57: =SUM(C52:C56) -> 0 | D57: =SUM(D52:D56) -> 0 | E57: =SUM(E52:E56) -> 0 | F57: =SUM(F52:F56) -> 0 | G57: =SUM(G52:G56) -> 0 | H57: =SUM(H52:H56) -> 0 | I57: =SUM(I52:I56) -> 0 | ... BK57: =SUM(BK52:BK56) -> 0 | BL57: =IFERROR(SUMPRODUCT((MOD(COLUMN(B57:BK57),2)=0)*(B57:BK57)),"") -> 0 | BM57: =IFERROR(SUMPRODUCT((MOD(COLUMN(B57:BK57),2)<>0)*(B57:BK57)),"") -> 0
A58: MOIS D'AOUT
B59: =DATE($A$1,8,1) -> 42583 | D59: =B59+1 -> 42584 | F59: =D59+1 -> 42585 | H59: =F59+1 -> 42586 | J59: =H59+1 -> 42587 | L59: =J59+1 -> 42588 | N59: =L59+1 -> 42589 | P59: =N59+1 -> 42590 | R59: =P59+1 -> 42591 | T59: =R59+1 -> 42592 | V59: =T59+1 -> 42593 | X59: =V59+1 -> 42594 | Z59: =X59+1 -> 42595 | AB59: =Z59+1 -> 42596 | AD59: =AB59+1 -> 42597 | AF59: =AD59+1 -> 42598 | AH59: =AF59+1 -> 42599 | AJ59: =AH59+1 -> 42600 | AL59: =AJ59+1 -> 42601 | AN59: =AL59+1 -> 42602 | AP59: =AN59+1 -> 42603 | AR59: =AP59+1 -> 42604 | AT59: =AR59+1 -> 42605 | AV59: =AT59+1 -> 42606 | AX59: =AV59+1 -> 42607 | AZ59: =AX59+1 -> 42608 | BB59: =AZ59+1 -> 42609 | BD59: =BB59+1 -> 42610 | BF59: =BD59+1 -> 42611 | BH59: =BF59+1 -> 42612 | BJ59: =BH59+1 -> 42613 | BL59: TOTAL HEURES | BM59: TOTAL FRAIS ENTRETIEN
A60: ENFANT 1 | C60: =IF(OR(B60="",B60=0),0,IF(B60*24>8,2.99,2.65)) -> 0 | E60: =IF(OR(D60="",D60=0),0,IF(D60*24>8,2.99,2.65)) -> 0 | G60: =IF(OR(F60="",F60=0),0,IF(F60*24>8,2.99,2.65)) -> 0 | I60: =IF(OR(H60="",H60=0),0,IF(H60*24>8,2.99,2.65)) -> 0 | K60: =IF(OR(J60="",J60=0),0,IF(J60*24>8,2.99,2.65)) -> 0 | M60: =IF(OR(L60="",L60=0),0,IF(L60*24>8,2.99,2.65)) -> 0 | O60: =IF(OR(N60="",N60=0),0,IF(N60*24>8,2.99,2.65)) -> 0 | Q60: =IF(OR(P60="",P60=0),0,IF(P60*24>8,2.99,2.65)) -> 0 | S60: =IF(OR(R60="",R60=0),0,IF(R60*24>8,2.99,2.65)) -> 0 | U60: =IF(OR(T60="",T60=0),0,IF(T60*24>8,2.99,2.65)) -> 0 | W60: =IF(OR(V60="",V60=0),0,IF(V60*24>8,2.99,2.65)) -> 0 | Y60: =IF(OR(X60="",X60=0),0,IF(X60*24>8,2.99,2.65)) -> 0 | AA60: =IF(OR(Z60="",Z60=0),0,IF(Z60*24>8,2.99,2.65)) -> 0 | AC60: =IF(OR(AB60="",AB60=0),0,IF(AB60*24>8,2.99,2.65)) -> 0 | AE60: =IF(OR(AD60="",AD60=0),0,IF(AD60*24>8,2.99,2.65)) -> 0 | AG60: =IF(OR(AF60="",AF60=0),0,IF(AF60*24>8,2.99,2.65)) -> 0 | AI60: =IF(OR(AH60="",AH60=0),0,IF(AH60*24>8,2.99,2.65)) -> 0 | AK60: =IF(OR(AJ60="",AJ60=0),0,IF(AJ60*24>8,2.99,2.65)) -> 0 | AM60: =IF(OR(AL60="",AL60=0),0,IF(AL60*24>8,2.99,2.65)) -> 0 | AO60: =IF(OR(AN60="",AN60=0),0,IF(AN60*24>8,2.99,2.65)) -> 0 | AQ60: =IF(OR(AP60="",AP60=0),0,IF(AP60*24>8,2.99,2.65)) -> 0 | AS60: =IF(OR(AR60="",AR60=0),0,IF(AR60*24>8,2.99,2.65)) -> 0 | AU60: =IF(OR(AT60="",AT60=0),0,IF(AT60*24>8,2.99,2.65)) -> 0 | AW60: =IF(OR(AV60="",AV60=0),0,IF(AV60*24>8,2.99,2.65)) -> 0 | AY60: =IF(OR(AX60="",AX60=0),0,IF(AX60*24>8,2.99,2.65)) -> 0 | BA60: =IF(OR(AZ60="",AZ60=0),0,IF(AZ60*24>8,2.99,2.65)) -> 0 | BC60: =IF(OR(BB60="",BB60=0),0,IF(BB60*24>8,2.99,2.65)) -> 0 | BE60: =IF(OR(BD60="",BD60=0),0,IF(BD60*24>8,2.99,2.65)) -> 0 | BG60: =IF(OR(BF60="",BF60=0),0,IF(BF60*24>8,2.99,2.65)) -> 0 | BI60: =IF(OR(BH60="",BH60=0),0,IF(BH60*24>8,2.99,2.65)) -> 0 | BK60: =IF(OR(BJ60="",BJ60=0),0,IF(BJ60*24>8,2.99,2.65)) -> 0 | BL60: =IFERROR(SUMPRODUCT((MOD(COLUMN(B60:BK60),2)=0)*(B60:BK60)),"") -> 0 | BM60: =IFERROR(SUMPRODUCT((MOD(COLUMN(B60:BK60),2)<>0)*(B60:BK60)),"") -> 0
A61: ENFANT 2 | C61: =IF(OR(B61="",B61=0),0,IF(B61*24>8,2.99,2.65)) -> 0 | E61: =IF(OR(D61="",D61=0),0,IF(D61*24>8,2.99,2.65)) -> 0 | G61: =IF(OR(F61="",F61=0),0,IF(F61*24>8,2.99,2.65)) -> 0 | I61: =IF(OR(H61="",H61=0),0,IF(H61*24>8,2.99,2.65)) -> 0 | K61: =IF(OR(J61="",J61=0),0,IF(J61*24>8,2.99,2.65)) -> 0 | M61: =IF(OR(L61="",L61=0),0,IF(L61*24>8,2.99,2.65)) -> 0 | O61: =IF(OR(N61="",N61=0),0,IF(N61*24>8,2.99,2.65)) -> 0 | Q61: =IF(OR(P61="",P61=0),0,IF(P61*24>8,2.99,2.65)) -> 0 | S61: =IF(OR(R61="",R61=0),0,IF(R61*24>8,2.99,2.65)) -> 0 | U61: =IF(OR(T61="",T61=0),0,IF(T61*24>8,2.99,2.65)) -> 0 | W61: =IF(OR(V61="",V61=0),0,IF(V61*24>8,2.99,2.65)) -> 0 | Y61: =IF(OR(X61="",X61=0),0,IF(X61*24>8,2.99,2.65)) -> 0 | AA61: =IF(OR(Z61="",Z61=0),0,IF(Z61*24>8,2.99,2.65)) -> 0 | AC61: =IF(OR(AB61="",AB61=0),0,IF(AB61*24>8,2.99,2.65)) -> 0 | AE61: =IF(OR(AD61="",AD61=0),0,IF(AD61*24>8,2.99,2.65)) -> 0 | AG61: =IF(OR(AF61="",AF61=0),0,IF(AF61*24>8,2.99,2.65)) -> 0 | AI61: =IF(OR(AH61="",AH61=0),0,IF(AH61*24>8,2.99,2.65)) -> 0 | AK61: =IF(OR(AJ61="",AJ61=0),0,IF(AJ61*24>8,2.99,2.65)) -> 0 | AM61: =IF(OR(AL61="",AL61=0),0,IF(AL61*24>8,2.99,2.65)) -> 0 | AO61: =IF(OR(AN61="",AN61=0),0,IF(AN61*24>8,2.99,2.65)) -> 0 | AQ61: =IF(OR(AP61="",AP61=0),0,IF(AP61*24>8,2.99,2.65)) -> 0 | AS61: =IF(OR(AR61="",AR61=0),0,IF(AR61*24>8,2.99,2.65)) -> 0 | AU61: =IF(OR(AT61="",AT61=0),0,IF(AT61*24>8,2.99,2.65)) -> 0 | AW61: =IF(OR(AV61="",AV61=0),0,IF(AV61*24>8,2.99,2.65)) -> 0 | AY61: =IF(OR(AX61="",AX61=0),0,IF(AX61*24>8,2.99,2.65)) -> 0 | BA61: =IF(OR(AZ61="",AZ61=0),0,IF(AZ61*24>8,2.99,2.65)) -> 0 | BC61: =IF(OR(BB61="",BB61=0),0,IF(BB61*24>8,2.99,2.65)) -> 0 | BE61: =IF(OR(BD61="",BD61=0),0,IF(BD61*24>8,2.99,2.65)) -> 0 | BG61: =IF(OR(BF61="",BF61=0),0,IF(BF61*24>8,2.99,2.65)) -> 0 | BI61: =IF(OR(BH61="",BH61=0),0,IF(BH61*24>8,2.99,2.65)) -> 0 | BK61: =IF(OR(BJ61="",BJ61=0),0,IF(BJ61*24>8,2.99,2.65)) -> 0 | BL61: =IFERROR(SUMPRODUCT((MOD(COLUMN(B61:BK61),2)=0)*(B61:BK61)),"") -> 0 | BM61: =IFERROR(SUMPRODUCT((MOD(COLUMN(B61:BK61),2)<>0)*(B61:BK61)),"") -> 0
A62: ENFANT 3 | C62: =IF(OR(B62="",B62=0),0,IF(B62*24>8,2.99,2.65)) -> 0 | E62: =IF(OR(D62="",D62=0),0,IF(D62*24>8,2.99,2.65)) -> 0 | G62: =IF(OR(F62="",F62=0),0,IF(F62*24>8,2.99,2.65)) -> 0 | I62: =IF(OR(H62="",H62=0),0,IF(H62*24>8,2.99,2.65)) -> 0 | K62: =IF(OR(J62="",J62=0),0,IF(J62*24>8,2.99,2.65)) -> 0 | M62: =IF(OR(L62="",L62=0),0,IF(L62*24>8,2.99,2.65)) -> 0 | O62: =IF(OR(N62="",N62=0),0,IF(N62*24>8,2.99,2.65)) -> 0 | Q62: =IF(OR(P62="",P62=0),0,IF(P62*24>8,2.99,2.65)) -> 0 | S62: =IF(OR(R62="",R62=0),0,IF(R62*24>8,2.99,2.65)) -> 0 | U62: =IF(OR(T62="",T62=0),0,IF(T62*24>8,2.99,2.65)) -> 0 | W62: =IF(OR(V62="",V62=0),0,IF(V62*24>8,2.99,2.65)) -> 0 | Y62: =IF(OR(X62="",X62=0),0,IF(X62*24>8,2.99,2.65)) -> 0 | AA62: =IF(OR(Z62="",Z62=0),0,IF(Z62*24>8,2.99,2.65)) -> 0 | AC62: =IF(OR(AB62="",AB62=0),0,IF(AB62*24>8,2.99,2.65)) -> 0 | AE62: =IF(OR(AD62="",AD62=0),0,IF(AD62*24>8,2.99,2.65)) -> 0 | AG62: =IF(OR(AF62="",AF62=0),0,IF(AF62*24>8,2.99,2.65)) -> 0 | AI62: =IF(OR(AH62="",AH62=0),0,IF(AH62*24>8,2.99,2.65)) -> 0 | AK62: =IF(OR(AJ62="",AJ62=0),0,IF(AJ62*24>8,2.99,2.65)) -> 0 | AM62: =IF(OR(AL62="",AL62=0),0,IF(AL62*24>8,2.99,2.65)) -> 0 | AO62: =IF(OR(AN62="",AN62=0),0,IF(AN62*24>8,2.99,2.65)) -> 0 | AQ62: =IF(OR(AP62="",AP62=0),0,IF(AP62*24>8,2.99,2.65)) -> 0 | AS62: =IF(OR(AR62="",AR62=0),0,IF(AR62*24>8,2.99,2.65)) -> 0 | AU62: =IF(OR(AT62="",AT62=0),0,IF(AT62*24>8,2.99,2.65)) -> 0 | AW62: =IF(OR(AV62="",AV62=0),0,IF(AV62*24>8,2.99,2.65)) -> 0 | AY62: =IF(OR(AX62="",AX62=0),0,IF(AX62*24>8,2.99,2.65)) -> 0 | BA62: =IF(OR(AZ62="",AZ62=0),0,IF(AZ62*24>8,2.99,2.65)) -> 0 | BC62: =IF(OR(BB62="",BB62=0),0,IF(BB62*24>8,2.99,2.65)) -> 0 | BE62: =IF(OR(BD62="",BD62=0),0,IF(BD62*24>8,2.99,2.65)) -> 0 | BG62: =IF(OR(BF62="",BF62=0),0,IF(BF62*24>8,2.99,2.65)) -> 0 | BI62: =IF(OR(BH62="",BH62=0),0,IF(BH62*24>8,2.99,2.65)) -> 0 | BK62: =IF(OR(BJ62="",BJ62=0),0,IF(BJ62*24>8,2.99,2.65)) -> 0 | BL62: =IFERROR(SUMPRODUCT((MOD(COLUMN(B62:BK62),2)=0)*(B62:BK62)),"") -> 0 | BM62: =IFERROR(SUMPRODUCT((MOD(COLUMN(B62:BK62),2)<>0)*(B62:BK62)),"") -> 0
A63: ENFANT 4 | C63: =IF(OR(B63="",B63=0),0,IF(B63*24>8,2.99,2.65)) -> 0 | E63: =IF(OR(D63="",D63=0),0,IF(D63*24>8,2.99,2.65)) -> 0 | G63: =IF(OR(F63="",F63=0),0,IF(F63*24>8,2.99,2.65)) -> 0 | I63: =IF(OR(H63="",H63=0),0,IF(H63*24>8,2.99,2.65)) -> 0 | K63: =IF(OR(J63="",J63=0),0,IF(J63*24>8,2.99,2.65)) -> 0 | M63: =IF(OR(L63="",L63=0),0,IF(L63*24>8,2.99,2.65)) -> 0 | O63: =IF(OR(N63="",N63=0),0,IF(N63*24>8,2.99,2.65)) -> 0 | Q63: =IF(OR(P63="",P63=0),0,IF(P63*24>8,2.99,2.65)) -> 0 | S63: =IF(OR(R63="",R63=0),0,IF(R63*24>8,2.99,2.65)) -> 0 | U63: =IF(OR(T63="",T63=0),0,IF(T63*24>8,2.99,2.65)) -> 0 | W63: =IF(OR(V63="",V63=0),0,IF(V63*24>8,2.99,2.65)) -> 0 | Y63: =IF(OR(X63="",X63=0),0,IF(X63*24>8,2.99,2.65)) -> 0 | AA63: =IF(OR(Z63="",Z63=0),0,IF(Z63*24>8,2.99,2.65)) -> 0 | AC63: =IF(OR(AB63="",AB63=0),0,IF(AB63*24>8,2.99,2.65)) -> 0 | AE63: =IF(OR(AD63="",AD63=0),0,IF(AD63*24>8,2.99,2.65)) -> 0 | AG63: =IF(OR(AF63="",AF63=0),0,IF(AF63*24>8,2.99,2.65)) -> 0 | AI63: =IF(OR(AH63="",AH63=0),0,IF(AH63*24>8,2.99,2.65)) -> 0 | AK63: =IF(OR(AJ63="",AJ63=0),0,IF(AJ63*24>8,2.99,2.65)) -> 0 | AM63: =IF(OR(AL63="",AL63=0),0,IF(AL63*24>8,2.99,2.65)) -> 0 | AO63: =IF(OR(AN63="",AN63=0),0,IF(AN63*24>8,2.99,2.65)) -> 0 | AQ63: =IF(OR(AP63="",AP63=0),0,IF(AP63*24>8,2.99,2.65)) -> 0 | AS63: =IF(OR(AR63="",AR63=0),0,IF(AR63*24>8,2.99,2.65)) -> 0 | AU63: =IF(OR(AT63="",AT63=0),0,IF(AT63*24>8,2.99,2.65)) -> 0 | AW63: =IF(OR(AV63="",AV63=0),0,IF(AV63*24>8,2.99,2.65)) -> 0 | AY63: =IF(OR(AX63="",AX63=0),0,IF(AX63*24>8,2.99,2.65)) -> 0 | BA63: =IF(OR(AZ63="",AZ63=0),0,IF(AZ63*24>8,2.99,2.65)) -> 0 | BC63: =IF(OR(BB63="",BB63=0),0,IF(BB63*24>8,2.99,2.65)) -> 0 | BE63: =IF(OR(BD63="",BD63=0),0,IF(BD63*24>8,2.99,2.65)) -> 0 | BG63: =IF(OR(BF63="",BF63=0),0,IF(BF63*24>8,2.99,2.65)) -> 0 | BI63: =IF(OR(BH63="",BH63=0),0,IF(BH63*24>8,2.99,2.65)) -> 0 | BK63: =IF(OR(BJ63="",BJ63=0),0,IF(BJ63*24>8,2.99,2.65)) -> 0 | BL63: =IFERROR(SUMPRODUCT((MOD(COLUMN(B63:BK63),2)=0)*(B63:BK63)),"") -> 0 | BM63: =IFERROR(SUMPRODUCT((MOD(COLUMN(B63:BK63),2)<>0)*(B63:BK63)),"") -> 0
A64: ENFANT 5 | C64: =IF(OR(B64="",B64=0),0,IF(B64*24>8,2.99,2.65)) -> 0 | E64: =IF(OR(D64="",D64=0),0,IF(D64*24>8,2.99,2.65)) -> 0 | G64: =IF(OR(F64="",F64=0),0,IF(F64*24>8,2.99,2.65)) -> 0 | I64: =IF(OR(H64="",H64=0),0,IF(H64*24>8,2.99,2.65)) -> 0 | K64: =IF(OR(J64="",J64=0),0,IF(J64*24>8,2.99,2.65)) -> 0 | M64: =IF(OR(L64="",L64=0),0,IF(L64*24>8,2.99,2.65)) -> 0 | O64: =IF(OR(N64="",N64=0),0,IF(N64*24>8,2.99,2.65)) -> 0 | Q64: =IF(OR(P64="",P64=0),0,IF(P64*24>8,2.99,2.65)) -> 0 | S64: =IF(OR(R64="",R64=0),0,IF(R64*24>8,2.99,2.65)) -> 0 | U64: =IF(OR(T64="",T64=0),0,IF(T64*24>8,2.99,2.65)) -> 0 | W64: =IF(OR(V64="",V64=0),0,IF(V64*24>8,2.99,2.65)) -> 0 | Y64: =IF(OR(X64="",X64=0),0,IF(X64*24>8,2.99,2.65)) -> 0 | AA64: =IF(OR(Z64="",Z64=0),0,IF(Z64*24>8,2.99,2.65)) -> 0 | AC64: =IF(OR(AB64="",AB64=0),0,IF(AB64*24>8,2.99,2.65)) -> 0 | AE64: =IF(OR(AD64="",AD64=0),0,IF(AD64*24>8,2.99,2.65)) -> 0 | AG64: =IF(OR(AF64="",AF64=0),0,IF(AF64*24>8,2.99,2.65)) -> 0 | AI64: =IF(OR(AH64="",AH64=0),0,IF(AH64*24>8,2.99,2.65)) -> 0 | AK64: =IF(OR(AJ64="",AJ64=0),0,IF(AJ64*24>8,2.99,2.65)) -> 0 | AM64: =IF(OR(AL64="",AL64=0),0,IF(AL64*24>8,2.99,2.65)) -> 0 | AO64: =IF(OR(AN64="",AN64=0),0,IF(AN64*24>8,2.99,2.65)) -> 0 | AQ64: =IF(OR(AP64="",AP64=0),0,IF(AP64*24>8,2.99,2.65)) -> 0 | AS64: =IF(OR(AR64="",AR64=0),0,IF(AR64*24>8,2.99,2.65)) -> 0 | AU64: =IF(OR(AT64="",AT64=0),0,IF(AT64*24>8,2.99,2.65)) -> 0 | AW64: =IF(OR(AV64="",AV64=0),0,IF(AV64*24>8,2.99,2.65)) -> 0 | AY64: =IF(OR(AX64="",AX64=0),0,IF(AX64*24>8,2.99,2.65)) -> 0 | BA64: =IF(OR(AZ64="",AZ64=0),0,IF(AZ64*24>8,2.99,2.65)) -> 0 | BC64: =IF(OR(BB64="",BB64=0),0,IF(BB64*24>8,2.99,2.65)) -> 0 | BE64: =IF(OR(BD64="",BD64=0),0,IF(BD64*24>8,2.99,2.65)) -> 0 | BG64: =IF(OR(BF64="",BF64=0),0,IF(BF64*24>8,2.99,2.65)) -> 0 | BI64: =IF(OR(BH64="",BH64=0),0,IF(BH64*24>8,2.99,2.65)) -> 0 | BK64: =IF(OR(BJ64="",BJ64=0),0,IF(BJ64*24>8,2.99,2.65)) -> 0 | BL64: =IFERROR(SUMPRODUCT((MOD(COLUMN(B64:BK64),2)=0)*(B64:BK64)),"") -> 0 | BM64: =IFERROR(SUMPRODUCT((MOD(COLUMN(B64:BK64),2)<>0)*(B64:BK64)),"") -> 0
B65: =SUM(B60:B64) -> 0 | C65: =SUM(C60:C64) -> 0 | D65: =SUM(D60:D64) -> 0 | E65: =SUM(E60:E64) -> 0 | F65: =SUM(F60:F64) -> 0 | G65: =SUM(G60:G64) -> 0 | H65: =SUM(H60:H64) -> 0 | I65: =SUM(I60:I64) -> 0 | ... BK65: =SUM(BK60:BK64) -> 0 | BL65: =IFERROR(SUMPRODUCT((MOD(COLUMN(B65:BK65),2)=0)*(B65:BK65)),"") -> 0 | BM65: =IFERROR(SUMPRODUCT((MOD(COLUMN(B65:BK65),2)<>0)*(B65:BK65)),"") -> 0
A66: MOIS DE SEPTEMBRE
B67: =DATE($A$1,9,1) -> 42614 | D67: =B67+1 -> 42615 | F67: =D67+1 -> 42616 | H67: =F67+1 -> 42617 | J67: =H67+1 -> 42618 | L67: =J67+1 -> 42619 | N67: =L67+1 -> 42620 | P67: =N67+1 -> 42621 | R67: =P67+1 -> 42622 | T67: =R67+1 -> 42623 | V67: =T67+1 -> 42624 | X67: =V67+1 -> 42625 | Z67: =X67+1 -> 42626 | AB67: =Z67+1 -> 42627 | AD67: =AB67+1 -> 42628 | AF67: =AD67+1 -> 42629 | AH67: =AF67+1 -> 42630 | AJ67: =AH67+1 -> 42631 | AL67: =AJ67+1 -> 42632 | AN67: =AL67+1 -> 42633 | AP67: =AN67+1 -> 42634 | AR67: =AP67+1 -> 42635 | AT67: =AR67+1 -> 42636 | AV67: =AT67+1 -> 42637 | AX67: =AV67+1 -> 42638 | AZ67: =AX67+1 -> 42639 | BB67: =AZ67+1 -> 42640 | BD67: =BB67+1 -> 42641 | BF67: =BD67+1 -> 42642 | BH67: =BF67+1 -> 42643 | BL67: TOTAL HEURES | BM67: TOTAL FRAIS ENTRETIEN
A68: ENFANT 1 | C68: =IF(OR(B68="",B68=0),0,IF(B68*24>8,2.99,2.65)) -> 0 | E68: =IF(OR(D68="",D68=0),0,IF(D68*24>8,2.99,2.65)) -> 0 | G68: =IF(OR(F68="",F68=0),0,IF(F68*24>8,2.99,2.65)) -> 0 | I68: =IF(OR(H68="",H68=0),0,IF(H68*24>8,2.99,2.65)) -> 0 | K68: =IF(OR(J68="",J68=0),0,IF(J68*24>8,2.99,2.65)) -> 0 | M68: =IF(OR(L68="",L68=0),0,IF(L68*24>8,2.99,2.65)) -> 0 | O68: =IF(OR(N68="",N68=0),0,IF(N68*24>8,2.99,2.65)) -> 0 | Q68: =IF(OR(P68="",P68=0),0,IF(P68*24>8,2.99,2.65)) -> 0 | S68: =IF(OR(R68="",R68=0),0,IF(R68*24>8,2.99,2.65)) -> 0 | U68: =IF(OR(T68="",T68=0),0,IF(T68*24>8,2.99,2.65)) -> 0 | W68: =IF(OR(V68="",V68=0),0,IF(V68*24>8,2.99,2.65)) -> 0 | Y68: =IF(OR(X68="",X68=0),0,IF(X68*24>8,2.99,2.65)) -> 0 | AA68: =IF(OR(Z68="",Z68=0),0,IF(Z68*24>8,2.99,2.65)) -> 0 | AC68: =IF(OR(AB68="",AB68=0),0,IF(AB68*24>8,2.99,2.65)) -> 0 | AE68: =IF(OR(AD68="",AD68=0),0,IF(AD68*24>8,2.99,2.65)) -> 0 | AG68: =IF(OR(AF68="",AF68=0),0,IF(AF68*24>8,2.99,2.65)) -> 0 | AI68: =IF(OR(AH68="",AH68=0),0,IF(AH68*24>8,2.99,2.65)) -> 0 | AK68: =IF(OR(AJ68="",AJ68=0),0,IF(AJ68*24>8,2.99,2.65)) -> 0 | AM68: =IF(OR(AL68="",AL68=0),0,IF(AL68*24>8,2.99,2.65)) -> 0 | AO68: =IF(OR(AN68="",AN68=0),0,IF(AN68*24>8,2.99,2.65)) -> 0 | AQ68: =IF(OR(AP68="",AP68=0),0,IF(AP68*24>8,2.99,2.65)) -> 0 | AS68: =IF(OR(AR68="",AR68=0),0,IF(AR68*24>8,2.99,2.65)) -> 0 | AU68: =IF(OR(AT68="",AT68=0),0,IF(AT68*24>8,2.99,2.65)) -> 0 | AW68: =IF(OR(AV68="",AV68=0),0,IF(AV68*24>8,2.99,2.65)) -> 0 | AY68: =IF(OR(AX68="",AX68=0),0,IF(AX68*24>8,2.99,2.65)) -> 0 | BA68: =IF(OR(AZ68="",AZ68=0),0,IF(AZ68*24>8,2.99,2.65)) -> 0 | BC68: =IF(OR(BB68="",BB68=0),0,IF(BB68*24>8,2.99,2.65)) -> 0 | BE68: =IF(OR(BD68="",BD68=0),0,IF(BD68*24>8,2.99,2.65)) -> 0 | BG68: =IF(OR(BF68="",BF68=0),0,IF(BF68*24>8,2.99,2.65)) -> 0 | BI68: =IF(OR(BH68="",BH68=0),0,IF(BH68*24>8,2.99,2.65)) -> 0 | BL68: =IFERROR(SUMPRODUCT((MOD(COLUMN(B68:BK68),2)=0)*(B68:BK68)),"") -> 0 | BM68: =IFERROR(SUMPRODUCT((MOD(COLUMN(B68:BK68),2)<>0)*(B68:BK68)),"") -> 0
A69: ENFANT 2 | C69: =IF(OR(B69="",B69=0),0,IF(B69*24>8,2.99,2.65)) -> 0 | E69: =IF(OR(D69="",D69=0),0,IF(D69*24>8,2.99,2.65)) -> 0 | G69: =IF(OR(F69="",F69=0),0,IF(F69*24>8,2.99,2.65)) -> 0 | I69: =IF(OR(H69="",H69=0),0,IF(H69*24>8,2.99,2.65)) -> 0 | K69: =IF(OR(J69="",J69=0),0,IF(J69*24>8,2.99,2.65)) -> 0 | M69: =IF(OR(L69="",L69=0),0,IF(L69*24>8,2.99,2.65)) -> 0 | O69: =IF(OR(N69="",N69=0),0,IF(N69*24>8,2.99,2.65)) -> 0 | Q69: =IF(OR(P69="",P69=0),0,IF(P69*24>8,2.99,2.65)) -> 0 | S69: =IF(OR(R69="",R69=0),0,IF(R69*24>8,2.99,2.65)) -> 0 | U69: =IF(OR(T69="",T69=0),0,IF(T69*24>8,2.99,2.65)) -> 0 | W69: =IF(OR(V69="",V69=0),0,IF(V69*24>8,2.99,2.65)) -> 0 | Y69: =IF(OR(X69="",X69=0),0,IF(X69*24>8,2.99,2.65)) -> 0 | AA69: =IF(OR(Z69="",Z69=0),0,IF(Z69*24>8,2.99,2.65)) -> 0 | AC69: =IF(OR(AB69="",AB69=0),0,IF(AB69*24>8,2.99,2.65)) -> 0 | AE69: =IF(OR(AD69="",AD69=0),0,IF(AD69*24>8,2.99,2.65)) -> 0 | AG69: =IF(OR(AF69="",AF69=0),0,IF(AF69*24>8,2.99,2.65)) -> 0 | AI69: =IF(OR(AH69="",AH69=0),0,IF(AH69*24>8,2.99,2.65)) -> 0 | AK69: =IF(OR(AJ69="",AJ69=0),0,IF(AJ69*24>8,2.99,2.65)) -> 0 | AM69: =IF(OR(AL69="",AL69=0),0,IF(AL69*24>8,2.99,2.65)) -> 0 | AO69: =IF(OR(AN69="",AN69=0),0,IF(AN69*24>8,2.99,2.65)) -> 0 | AQ69: =IF(OR(AP69="",AP69=0),0,IF(AP69*24>8,2.99,2.65)) -> 0 | AS69: =IF(OR(AR69="",AR69=0),0,IF(AR69*24>8,2.99,2.65)) -> 0 | AU69: =IF(OR(AT69="",AT69=0),0,IF(AT69*24>8,2.99,2.65)) -> 0 | AW69: =IF(OR(AV69="",AV69=0),0,IF(AV69*24>8,2.99,2.65)) -> 0 | AY69: =IF(OR(AX69="",AX69=0),0,IF(AX69*24>8,2.99,2.65)) -> 0 | BA69: =IF(OR(AZ69="",AZ69=0),0,IF(AZ69*24>8,2.99,2.65)) -> 0 | BC69: =IF(OR(BB69="",BB69=0),0,IF(BB69*24>8,2.99,2.65)) -> 0 | BE69: =IF(OR(BD69="",BD69=0),0,IF(BD69*24>8,2.99,2.65)) -> 0 | BG69: =IF(OR(BF69="",BF69=0),0,IF(BF69*24>8,2.99,2.65)) -> 0 | BI69: =IF(OR(BH69="",BH69=0),0,IF(BH69*24>8,2.99,2.65)) -> 0 | BL69: =IFERROR(SUMPRODUCT((MOD(COLUMN(B69:BK69),2)=0)*(B69:BK69)),"") -> 0 | BM69: =IFERROR(SUMPRODUCT((MOD(COLUMN(B69:BK69),2)<>0)*(B69:BK69)),"") -> 0
A70: ENFANT 3 | C70: =IF(OR(B70="",B70=0),0,IF(B70*24>8,2.99,2.65)) -> 0 | E70: =IF(OR(D70="",D70=0),0,IF(D70*24>8,2.99,2.65)) -> 0 | G70: =IF(OR(F70="",F70=0),0,IF(F70*24>8,2.99,2.65)) -> 0 | I70: =IF(OR(H70="",H70=0),0,IF(H70*24>8,2.99,2.65)) -> 0 | K70: =IF(OR(J70="",J70=0),0,IF(J70*24>8,2.99,2.65)) -> 0 | M70: =IF(OR(L70="",L70=0),0,IF(L70*24>8,2.99,2.65)) -> 0 | O70: =IF(OR(N70="",N70=0),0,IF(N70*24>8,2.99,2.65)) -> 0 | Q70: =IF(OR(P70="",P70=0),0,IF(P70*24>8,2.99,2.65)) -> 0 | S70: =IF(OR(R70="",R70=0),0,IF(R70*24>8,2.99,2.65)) -> 0 | U70: =IF(OR(T70="",T70=0),0,IF(T70*24>8,2.99,2.65)) -> 0 | W70: =IF(OR(V70="",V70=0),0,IF(V70*24>8,2.99,2.65)) -> 0 | Y70: =IF(OR(X70="",X70=0),0,IF(X70*24>8,2.99,2.65)) -> 0 | AA70: =IF(OR(Z70="",Z70=0),0,IF(Z70*24>8,2.99,2.65)) -> 0 | AC70: =IF(OR(AB70="",AB70=0),0,IF(AB70*24>8,2.99,2.65)) -> 0 | AE70: =IF(OR(AD70="",AD70=0),0,IF(AD70*24>8,2.99,2.65)) -> 0 | AG70: =IF(OR(AF70="",AF70=0),0,IF(AF70*24>8,2.99,2.65)) -> 0 | AI70: =IF(OR(AH70="",AH70=0),0,IF(AH70*24>8,2.99,2.65)) -> 0 | AK70: =IF(OR(AJ70="",AJ70=0),0,IF(AJ70*24>8,2.99,2.65)) -> 0 | AM70: =IF(OR(AL70="",AL70=0),0,IF(AL70*24>8,2.99,2.65)) -> 0 | AO70: =IF(OR(AN70="",AN70=0),0,IF(AN70*24>8,2.99,2.65)) -> 0 | AQ70: =IF(OR(AP70="",AP70=0),0,IF(AP70*24>8,2.99,2.65)) -> 0 | AS70: =IF(OR(AR70="",AR70=0),0,IF(AR70*24>8,2.99,2.65)) -> 0 | AU70: =IF(OR(AT70="",AT70=0),0,IF(AT70*24>8,2.99,2.65)) -> 0 | AW70: =IF(OR(AV70="",AV70=0),0,IF(AV70*24>8,2.99,2.65)) -> 0 | AY70: =IF(OR(AX70="",AX70=0),0,IF(AX70*24>8,2.99,2.65)) -> 0 | BA70: =IF(OR(AZ70="",AZ70=0),0,IF(AZ70*24>8,2.99,2.65)) -> 0 | BC70: =IF(OR(BB70="",BB70=0),0,IF(BB70*24>8,2.99,2.65)) -> 0 | BE70: =IF(OR(BD70="",BD70=0),0,IF(BD70*24>8,2.99,2.65)) -> 0 | BG70: =IF(OR(BF70="",BF70=0),0,IF(BF70*24>8,2.99,2.65)) -> 0 | BI70: =IF(OR(BH70="",BH70=0),0,IF(BH70*24>8,2.99,2.65)) -> 0 | BL70: =IFERROR(SUMPRODUCT((MOD(COLUMN(B70:BK70),2)=0)*(B70:BK70)),"") -> 0 | BM70: =IFERROR(SUMPRODUCT((MOD(COLUMN(B70:BK70),2)<>0)*(B70:BK70)),"") -> 0
A71: ENFANT 4 | C71: =IF(OR(B71="",B71=0),0,IF(B71*24>8,2.99,2.65)) -> 0 | E71: =IF(OR(D71="",D71=0),0,IF(D71*24>8,2.99,2.65)) -> 0 | G71: =IF(OR(F71="",F71=0),0,IF(F71*24>8,2.99,2.65)) -> 0 | I71: =IF(OR(H71="",H71=0),0,IF(H71*24>8,2.99,2.65)) -> 0 | K71: =IF(OR(J71="",J71=0),0,IF(J71*24>8,2.99,2.65)) -> 0 | M71: =IF(OR(L71="",L71=0),0,IF(L71*24>8,2.99,2.65)) -> 0 | O71: =IF(OR(N71="",N71=0),0,IF(N71*24>8,2.99,2.65)) -> 0 | Q71: =IF(OR(P71="",P71=0),0,IF(P71*24>8,2.99,2.65)) -> 0 | S71: =IF(OR(R71="",R71=0),0,IF(R71*24>8,2.99,2.65)) -> 0 | U71: =IF(OR(T71="",T71=0),0,IF(T71*24>8,2.99,2.65)) -> 0 | W71: =IF(OR(V71="",V71=0),0,IF(V71*24>8,2.99,2.65)) -> 0 | Y71: =IF(OR(X71="",X71=0),0,IF(X71*24>8,2.99,2.65)) -> 0 | AA71: =IF(OR(Z71="",Z71=0),0,IF(Z71*24>8,2.99,2.65)) -> 0 | AC71: =IF(OR(AB71="",AB71=0),0,IF(AB71*24>8,2.99,2.65)) -> 0 | AE71: =IF(OR(AD71="",AD71=0),0,IF(AD71*24>8,2.99,2.65)) -> 0 | AG71: =IF(OR(AF71="",AF71=0),0,IF(AF71*24>8,2.99,2.65)) -> 0 | AI71: =IF(OR(AH71="",AH71=0),0,IF(AH71*24>8,2.99,2.65)) -> 0 | AK71: =IF(OR(AJ71="",AJ71=0),0,IF(AJ71*24>8,2.99,2.65)) -> 0 | AM71: =IF(OR(AL71="",AL71=0),0,IF(AL71*24>8,2.99,2.65)) -> 0 | AO71: =IF(OR(AN71="",AN71=0),0,IF(AN71*24>8,2.99,2.65)) -> 0 | AQ71: =IF(OR(AP71="",AP71=0),0,IF(AP71*24>8,2.99,2.65)) -> 0 | AS71: =IF(OR(AR71="",AR71=0),0,IF(AR71*24>8,2.99,2.65)) -> 0 | AU71: =IF(OR(AT71="",AT71=0),0,IF(AT71*24>8,2.99,2.65)) -> 0 | AW71: =IF(OR(AV71="",AV71=0),0,IF(AV71*24>8,2.99,2.65)) -> 0 | AY71: =IF(OR(AX71="",AX71=0),0,IF(AX71*24>8,2.99,2.65)) -> 0 | BA71: =IF(OR(AZ71="",AZ71=0),0,IF(AZ71*24>8,2.99,2.65)) -> 0 | BC71: =IF(OR(BB71="",BB71=0),0,IF(BB71*24>8,2.99,2.65)) -> 0 | BE71: =IF(OR(BD71="",BD71=0),0,IF(BD71*24>8,2.99,2.65)) -> 0 | BG71: =IF(OR(BF71="",BF71=0),0,IF(BF71*24>8,2.99,2.65)) -> 0 | BI71: =IF(OR(BH71="",BH71=0),0,IF(BH71*24>8,2.99,2.65)) -> 0 | BL71: =IFERROR(SUMPRODUCT((MOD(COLUMN(B71:BK71),2)=0)*(B71:BK71)),"") -> 0 | BM71: =IFERROR(SUMPRODUCT((MOD(COLUMN(B71:BK71),2)<>0)*(B71:BK71)),"") -> 0
A72: ENFANT 5 | C72: =IF(OR(B72="",B72=0),0,IF(B72*24>8,2.99,2.65)) -> 0 | E72: =IF(OR(D72="",D72=0),0,IF(D72*24>8,2.99,2.65)) -> 0 | G72: =IF(OR(F72="",F72=0),0,IF(F72*24>8,2.99,2.65)) -> 0 | I72: =IF(OR(H72="",H72=0),0,IF(H72*24>8,2.99,2.65)) -> 0 | K72: =IF(OR(J72="",J72=0),0,IF(J72*24>8,2.99,2.65)) -> 0 | M72: =IF(OR(L72="",L72=0),0,IF(L72*24>8,2.99,2.65)) -> 0 | O72: =IF(OR(N72="",N72=0),0,IF(N72*24>8,2.99,2.65)) -> 0 | Q72: =IF(OR(P72="",P72=0),0,IF(P72*24>8,2.99,2.65)) -> 0 | S72: =IF(OR(R72="",R72=0),0,IF(R72*24>8,2.99,2.65)) -> 0 | U72: =IF(OR(T72="",T72=0),0,IF(T72*24>8,2.99,2.65)) -> 0 | W72: =IF(OR(V72="",V72=0),0,IF(V72*24>8,2.99,2.65)) -> 0 | Y72: =IF(OR(X72="",X72=0),0,IF(X72*24>8,2.99,2.65)) -> 0 | AA72: =IF(OR(Z72="",Z72=0),0,IF(Z72*24>8,2.99,2.65)) -> 0 | AC72: =IF(OR(AB72="",AB72=0),0,IF(AB72*24>8,2.99,2.65)) -> 0 | AE72: =IF(OR(AD72="",AD72=0),0,IF(AD72*24>8,2.99,2.65)) -> 0 | AG72: =IF(OR(AF72="",AF72=0),0,IF(AF72*24>8,2.99,2.65)) -> 0 | AI72: =IF(OR(AH72="",AH72=0),0,IF(AH72*24>8,2.99,2.65)) -> 0 | AK72: =IF(OR(AJ72="",AJ72=0),0,IF(AJ72*24>8,2.99,2.65)) -> 0 | AM72: =IF(OR(AL72="",AL72=0),0,IF(AL72*24>8,2.99,2.65)) -> 0 | AO72: =IF(OR(AN72="",AN72=0),0,IF(AN72*24>8,2.99,2.65)) -> 0 | AQ72: =IF(OR(AP72="",AP72=0),0,IF(AP72*24>8,2.99,2.65)) -> 0 | AS72: =IF(OR(AR72="",AR72=0),0,IF(AR72*24>8,2.99,2.65)) -> 0 | AU72: =IF(OR(AT72="",AT72=0),0,IF(AT72*24>8,2.99,2.65)) -> 0 | AW72: =IF(OR(AV72="",AV72=0),0,IF(AV72*24>8,2.99,2.65)) -> 0 | AY72: =IF(OR(AX72="",AX72=0),0,IF(AX72*24>8,2.99,2.65)) -> 0 | BA72: =IF(OR(AZ72="",AZ72=0),0,IF(AZ72*24>8,2.99,2.65)) -> 0 | BC72: =IF(OR(BB72="",BB72=0),0,IF(BB72*24>8,2.99,2.65)) -> 0 | BE72: =IF(OR(BD72="",BD72=0),0,IF(BD72*24>8,2.99,2.65)) -> 0 | BG72: =IF(OR(BF72="",BF72=0),0,IF(BF72*24>8,2.99,2.65)) -> 0 | BI72: =IF(OR(BH72="",BH72=0),0,IF(BH72*24>8,2.99,2.65)) -> 0 | BL72: =IFERROR(SUMPRODUCT((MOD(COLUMN(B72:BK72),2)=0)*(B72:BK72)),"") -> 0 | BM72: =IFERROR(SUMPRODUCT((MOD(COLUMN(B72:BK72),2)<>0)*(B72:BK72)),"") -> 0
B73: =SUM(B68:B72) -> 0 | C73: =SUM(C68:C72) -> 0 | D73: =SUM(D68:D72) -> 0 | E73: =SUM(E68:E72) -> 0 | F73: =SUM(F68:F72) -> 0 | G73: =SUM(G68:G72) -> 0 | H73: =SUM(H68:H72) -> 0 | I73: =SUM(I68:I72) -> 0 | ... BI73: =SUM(BI68:BI72) -> 0 | BL73: =IFERROR(SUMPRODUCT((MOD(COLUMN(B73:BK73),2)=0)*(B73:BK73)),"") -> 0 | BM73: =IFERROR(SUMPRODUCT((MOD(COLUMN(B73:BK73),2)<>0)*(B73:BK73)),"") -> 0
A74: MOIS D'OCTOBRE
B75: =DATE($A$1,10,1) -> 42644 | D75: =B75+1 -> 42645 | F75: =D75+1 -> 42646 | H75: =F75+1 -> 42647 | J75: =H75+1 -> 42648 | L75: =J75+1 -> 42649 | N75: =L75+1 -> 42650 | P75: =N75+1 -> 42651 | R75: =P75+1 -> 42652 | T75: =R75+1 -> 42653 | V75: =T75+1 -> 42654 | X75: =V75+1 -> 42655 | Z75: =X75+1 -> 42656 | AB75: =Z75+1 -> 42657 | AD75: =AB75+1 -> 42658 | AF75: =AD75+1 -> 42659 | AH75: =AF75+1 -> 42660 | AJ75: =AH75+1 -> 42661 | AL75: =AJ75+1 -> 42662 | AN75: =AL75+1 -> 42663 | AP75: =AN75+1 -> 42664 | AR75: =AP75+1 -> 42665 | AT75: =AR75+1 -> 42666 | AV75: =AT75+1 -> 42667 | AX75: =AV75+1 -> 42668 | AZ75: =AX75+1 -> 42669 | BB75: =AZ75+1 -> 42670 | BD75: =BB75+1 -> 42671 | BF75: =BD75+1 -> 42672 | BH75: =BF75+1 -> 42673 | BJ75: =BH75+1 -> 42674 | BL75: TOTAL HEURES | BM75: TOTAL FRAIS ENTRETIEN
A76: ENFANT 1 | C76: =IF(OR(B76="",B76=0),0,IF(B76*24>8,2.99,2.65)) -> 0 | E76: =IF(OR(D76="",D76=0),0,IF(D76*24>8,2.99,2.65)) -> 0 | G76: =IF(OR(F76="",F76=0),0,IF(F76*24>8,2.99,2.65)) -> 0 | I76: =IF(OR(H76="",H76=0),0,IF(H76*24>8,2.99,2.65)) -> 0 | K76: =IF(OR(J76="",J76=0),0,IF(J76*24>8,2.99,2.65)) -> 0 | M76: =IF(OR(L76="",L76=0),0,IF(L76*24>8,2.99,2.65)) -> 0 | O76: =IF(OR(N76="",N76=0),0,IF(N76*24>8,2.99,2.65)) -> 0 | Q76: =IF(OR(P76="",P76=0),0,IF(P76*24>8,2.99,2.65)) -> 0 | S76: =IF(OR(R76="",R76=0),0,IF(R76*24>8,2.99,2.65)) -> 0 | U76: =IF(OR(T76="",T76=0),0,IF(T76*24>8,2.99,2.65)) -> 0 | W76: =IF(OR(V76="",V76=0),0,IF(V76*24>8,2.99,2.65)) -> 0 | Y76: =IF(OR(X76="",X76=0),0,IF(X76*24>8,2.99,2.65)) -> 0 | AA76: =IF(OR(Z76="",Z76=0),0,IF(Z76*24>8,2.99,2.65)) -> 0 | AC76: =IF(OR(AB76="",AB76=0),0,IF(AB76*24>8,2.99,2.65)) -> 0 | AE76: =IF(OR(AD76="",AD76=0),0,IF(AD76*24>8,2.99,2.65)) -> 0 | AG76: =IF(OR(AF76="",AF76=0),0,IF(AF76*24>8,2.99,2.65)) -> 0 | AI76: =IF(OR(AH76="",AH76=0),0,IF(AH76*24>8,2.99,2.65)) -> 0 | AK76: =IF(OR(AJ76="",AJ76=0),0,IF(AJ76*24>8,2.99,2.65)) -> 0 | AM76: =IF(OR(AL76="",AL76=0),0,IF(AL76*24>8,2.99,2.65)) -> 0 | AO76: =IF(OR(AN76="",AN76=0),0,IF(AN76*24>8,2.99,2.65)) -> 0 | AQ76: =IF(OR(AP76="",AP76=0),0,IF(AP76*24>8,2.99,2.65)) -> 0 | AS76: =IF(OR(AR76="",AR76=0),0,IF(AR76*24>8,2.99,2.65)) -> 0 | AU76: =IF(OR(AT76="",AT76=0),0,IF(AT76*24>8,2.99,2.65)) -> 0 | AW76: =IF(OR(AV76="",AV76=0),0,IF(AV76*24>8,2.99,2.65)) -> 0 | AY76: =IF(OR(AX76="",AX76=0),0,IF(AX76*24>8,2.99,2.65)) -> 0 | BA76: =IF(OR(AZ76="",AZ76=0),0,IF(AZ76*24>8,2.99,2.65)) -> 0 | BC76: =IF(OR(BB76="",BB76=0),0,IF(BB76*24>8,2.99,2.65)) -> 0 | BE76: =IF(OR(BD76="",BD76=0),0,IF(BD76*24>8,2.99,2.65)) -> 0 | BG76: =IF(OR(BF76="",BF76=0),0,IF(BF76*24>8,2.99,2.65)) -> 0 | BI76: =IF(OR(BH76="",BH76=0),0,IF(BH76*24>8,2.99,2.65)) -> 0 | BK76: =IF(OR(BJ76="",BJ76=0),0,IF(BJ76*24>8,2.99,2.65)) -> 0 | BL76: =IFERROR(SUMPRODUCT((MOD(COLUMN(B76:BK76),2)=0)*(B76:BK76)),"") -> 0 | BM76: =IFERROR(SUMPRODUCT((MOD(COLUMN(B76:BK76),2)<>0)*(B76:BK76)),"") -> 0
A77: ENFANT 2 | C77: =IF(OR(B77="",B77=0),0,IF(B77*24>8,2.99,2.65)) -> 0 | E77: =IF(OR(D77="",D77=0),0,IF(D77*24>8,2.99,2.65)) -> 0 | G77: =IF(OR(F77="",F77=0),0,IF(F77*24>8,2.99,2.65)) -> 0 | I77: =IF(OR(H77="",H77=0),0,IF(H77*24>8,2.99,2.65)) -> 0 | K77: =IF(OR(J77="",J77=0),0,IF(J77*24>8,2.99,2.65)) -> 0 | M77: =IF(OR(L77="",L77=0),0,IF(L77*24>8,2.99,2.65)) -> 0 | O77: =IF(OR(N77="",N77=0),0,IF(N77*24>8,2.99,2.65)) -> 0 | Q77: =IF(OR(P77="",P77=0),0,IF(P77*24>8,2.99,2.65)) -> 0 | S77: =IF(OR(R77="",R77=0),0,IF(R77*24>8,2.99,2.65)) -> 0 | U77: =IF(OR(T77="",T77=0),0,IF(T77*24>8,2.99,2.65)) -> 0 | W77: =IF(OR(V77="",V77=0),0,IF(V77*24>8,2.99,2.65)) -> 0 | Y77: =IF(OR(X77="",X77=0),0,IF(X77*24>8,2.99,2.65)) -> 0 | AA77: =IF(OR(Z77="",Z77=0),0,IF(Z77*24>8,2.99,2.65)) -> 0 | AC77: =IF(OR(AB77="",AB77=0),0,IF(AB77*24>8,2.99,2.65)) -> 0 | AE77: =IF(OR(AD77="",AD77=0),0,IF(AD77*24>8,2.99,2.65)) -> 0 | AG77: =IF(OR(AF77="",AF77=0),0,IF(AF77*24>8,2.99,2.65)) -> 0 | AI77: =IF(OR(AH77="",AH77=0),0,IF(AH77*24>8,2.99,2.65)) -> 0 | AK77: =IF(OR(AJ77="",AJ77=0),0,IF(AJ77*24>8,2.99,2.65)) -> 0 | AM77: =IF(OR(AL77="",AL77=0),0,IF(AL77*24>8,2.99,2.65)) -> 0 | AO77: =IF(OR(AN77="",AN77=0),0,IF(AN77*24>8,2.99,2.65)) -> 0 | AQ77: =IF(OR(AP77="",AP77=0),0,IF(AP77*24>8,2.99,2.65)) -> 0 | AS77: =IF(OR(AR77="",AR77=0),0,IF(AR77*24>8,2.99,2.65)) -> 0 | AU77: =IF(OR(AT77="",AT77=0),0,IF(AT77*24>8,2.99,2.65)) -> 0 | AW77: =IF(OR(AV77="",AV77=0),0,IF(AV77*24>8,2.99,2.65)) -> 0 | AY77: =IF(OR(AX77="",AX77=0),0,IF(AX77*24>8,2.99,2.65)) -> 0 | BA77: =IF(OR(AZ77="",AZ77=0),0,IF(AZ77*24>8,2.99,2.65)) -> 0 | BC77: =IF(OR(BB77="",BB77=0),0,IF(BB77*24>8,2.99,2.65)) -> 0 | BE77: =IF(OR(BD77="",BD77=0),0,IF(BD77*24>8,2.99,2.65)) -> 0 | BG77: =IF(OR(BF77="",BF77=0),0,IF(BF77*24>8,2.99,2.65)) -> 0 | BI77: =IF(OR(BH77="",BH77=0),0,IF(BH77*24>8,2.99,2.65)) -> 0 | BK77: =IF(OR(BJ77="",BJ77=0),0,IF(BJ77*24>8,2.99,2.65)) -> 0 | BL77: =IFERROR(SUMPRODUCT((MOD(COLUMN(B77:BK77),2)=0)*(B77:BK77)),"") -> 0 | BM77: =IFERROR(SUMPRODUCT((MOD(COLUMN(B77:BK77),2)<>0)*(B77:BK77)),"") -> 0
A78: ENFANT 3 | C78: =IF(OR(B78="",B78=0),0,IF(B78*24>8,2.99,2.65)) -> 0 | E78: =IF(OR(D78="",D78=0),0,IF(D78*24>8,2.99,2.65)) -> 0 | G78: =IF(OR(F78="",F78=0),0,IF(F78*24>8,2.99,2.65)) -> 0 | I78: =IF(OR(H78="",H78=0),0,IF(H78*24>8,2.99,2.65)) -> 0 | K78: =IF(OR(J78="",J78=0),0,IF(J78*24>8,2.99,2.65)) -> 0 | M78: =IF(OR(L78="",L78=0),0,IF(L78*24>8,2.99,2.65)) -> 0 | O78: =IF(OR(N78="",N78=0),0,IF(N78*24>8,2.99,2.65)) -> 0 | Q78: =IF(OR(P78="",P78=0),0,IF(P78*24>8,2.99,2.65)) -> 0 | S78: =IF(OR(R78="",R78=0),0,IF(R78*24>8,2.99,2.65)) -> 0 | U78: =IF(OR(T78="",T78=0),0,IF(T78*24>8,2.99,2.65)) -> 0 | W78: =IF(OR(V78="",V78=0),0,IF(V78*24>8,2.99,2.65)) -> 0 | Y78: =IF(OR(X78="",X78=0),0,IF(X78*24>8,2.99,2.65)) -> 0 | AA78: =IF(OR(Z78="",Z78=0),0,IF(Z78*24>8,2.99,2.65)) -> 0 | AC78: =IF(OR(AB78="",AB78=0),0,IF(AB78*24>8,2.99,2.65)) -> 0 | AE78: =IF(OR(AD78="",AD78=0),0,IF(AD78*24>8,2.99,2.65)) -> 0 | AG78: =IF(OR(AF78="",AF78=0),0,IF(AF78*24>8,2.99,2.65)) -> 0 | AI78: =IF(OR(AH78="",AH78=0),0,IF(AH78*24>8,2.99,2.65)) -> 0 | AK78: =IF(OR(AJ78="",AJ78=0),0,IF(AJ78*24>8,2.99,2.65)) -> 0 | AM78: =IF(OR(AL78="",AL78=0),0,IF(AL78*24>8,2.99,2.65)) -> 0 | AO78: =IF(OR(AN78="",AN78=0),0,IF(AN78*24>8,2.99,2.65)) -> 0 | AQ78: =IF(OR(AP78="",AP78=0),0,IF(AP78*24>8,2.99,2.65)) -> 0 | AS78: =IF(OR(AR78="",AR78=0),0,IF(AR78*24>8,2.99,2.65)) -> 0 | AU78: =IF(OR(AT78="",AT78=0),0,IF(AT78*24>8,2.99,2.65)) -> 0 | AW78: =IF(OR(AV78="",AV78=0),0,IF(AV78*24>8,2.99,2.65)) -> 0 | AY78: =IF(OR(AX78="",AX78=0),0,IF(AX78*24>8,2.99,2.65)) -> 0 | BA78: =IF(OR(AZ78="",AZ78=0),0,IF(AZ78*24>8,2.99,2.65)) -> 0 | BC78: =IF(OR(BB78="",BB78=0),0,IF(BB78*24>8,2.99,2.65)) -> 0 | BE78: =IF(OR(BD78="",BD78=0),0,IF(BD78*24>8,2.99,2.65)) -> 0 | BG78: =IF(OR(BF78="",BF78=0),0,IF(BF78*24>8,2.99,2.65)) -> 0 | BI78: =IF(OR(BH78="",BH78=0),0,IF(BH78*24>8,2.99,2.65)) -> 0 | BK78: =IF(OR(BJ78="",BJ78=0),0,IF(BJ78*24>8,2.99,2.65)) -> 0 | BL78: =IFERROR(SUMPRODUCT((MOD(COLUMN(B78:BK78),2)=0)*(B78:BK78)),"") -> 0 | BM78: =IFERROR(SUMPRODUCT((MOD(COLUMN(B78:BK78),2)<>0)*(B78:BK78)),"") -> 0
A79: ENFANT 4 | C79: =IF(OR(B79="",B79=0),0,IF(B79*24>8,2.99,2.65)) -> 0 | E79: =IF(OR(D79="",D79=0),0,IF(D79*24>8,2.99,2.65)) -> 0 | G79: =IF(OR(F79="",F79=0),0,IF(F79*24>8,2.99,2.65)) -> 0 | I79: =IF(OR(H79="",H79=0),0,IF(H79*24>8,2.99,2.65)) -> 0 | K79: =IF(OR(J79="",J79=0),0,IF(J79*24>8,2.99,2.65)) -> 0 | M79: =IF(OR(L79="",L79=0),0,IF(L79*24>8,2.99,2.65)) -> 0 | O79: =IF(OR(N79="",N79=0),0,IF(N79*24>8,2.99,2.65)) -> 0 | Q79: =IF(OR(P79="",P79=0),0,IF(P79*24>8,2.99,2.65)) -> 0 | S79: =IF(OR(R79="",R79=0),0,IF(R79*24>8,2.99,2.65)) -> 0 | U79: =IF(OR(T79="",T79=0),0,IF(T79*24>8,2.99,2.65)) -> 0 | W79: =IF(OR(V79="",V79=0),0,IF(V79*24>8,2.99,2.65)) -> 0 | Y79: =IF(OR(X79="",X79=0),0,IF(X79*24>8,2.99,2.65)) -> 0 | AA79: =IF(OR(Z79="",Z79=0),0,IF(Z79*24>8,2.99,2.65)) -> 0 | AC79: =IF(OR(AB79="",AB79=0),0,IF(AB79*24>8,2.99,2.65)) -> 0 | AE79: =IF(OR(AD79="",AD79=0),0,IF(AD79*24>8,2.99,2.65)) -> 0 | AG79: =IF(OR(AF79="",AF79=0),0,IF(AF79*24>8,2.99,2.65)) -> 0 | AI79: =IF(OR(AH79="",AH79=0),0,IF(AH79*24>8,2.99,2.65)) -> 0 | AK79: =IF(OR(AJ79="",AJ79=0),0,IF(AJ79*24>8,2.99,2.65)) -> 0 | AM79: =IF(OR(AL79="",AL79=0),0,IF(AL79*24>8,2.99,2.65)) -> 0 | AO79: =IF(OR(AN79="",AN79=0),0,IF(AN79*24>8,2.99,2.65)) -> 0 | AQ79: =IF(OR(AP79="",AP79=0),0,IF(AP79*24>8,2.99,2.65)) -> 0 | AS79: =IF(OR(AR79="",AR79=0),0,IF(AR79*24>8,2.99,2.65)) -> 0 | AU79: =IF(OR(AT79="",AT79=0),0,IF(AT79*24>8,2.99,2.65)) -> 0 | AW79: =IF(OR(AV79="",AV79=0),0,IF(AV79*24>8,2.99,2.65)) -> 0 | AY79: =IF(OR(AX79="",AX79=0),0,IF(AX79*24>8,2.99,2.65)) -> 0 | BA79: =IF(OR(AZ79="",AZ79=0),0,IF(AZ79*24>8,2.99,2.65)) -> 0 | BC79: =IF(OR(BB79="",BB79=0),0,IF(BB79*24>8,2.99,2.65)) -> 0 | BE79: =IF(OR(BD79="",BD79=0),0,IF(BD79*24>8,2.99,2.65)) -> 0 | BG79: =IF(OR(BF79="",BF79=0),0,IF(BF79*24>8,2.99,2.65)) -> 0 | BI79: =IF(OR(BH79="",BH79=0),0,IF(BH79*24>8,2.99,2.65)) -> 0 | BK79: =IF(OR(BJ79="",BJ79=0),0,IF(BJ79*24>8,2.99,2.65)) -> 0 | BL79: =IFERROR(SUMPRODUCT((MOD(COLUMN(B79:BK79),2)=0)*(B79:BK79)),"") -> 0 | BM79: =IFERROR(SUMPRODUCT((MOD(COLUMN(B79:BK79),2)<>0)*(B79:BK79)),"") -> 0
A80: ENFANT 5 | C80: =IF(OR(B80="",B80=0),0,IF(B80*24>8,2.99,2.65)) -> 0 | E80: =IF(OR(D80="",D80=0),0,IF(D80*24>8,2.99,2.65)) -> 0 | G80: =IF(OR(F80="",F80=0),0,IF(F80*24>8,2.99,2.65)) -> 0 | I80: =IF(OR(H80="",H80=0),0,IF(H80*24>8,2.99,2.65)) -> 0 | K80: =IF(OR(J80="",J80=0),0,IF(J80*24>8,2.99,2.65)) -> 0 | M80: =IF(OR(L80="",L80=0),0,IF(L80*24>8,2.99,2.65)) -> 0 | O80: =IF(OR(N80="",N80=0),0,IF(N80*24>8,2.99,2.65)) -> 0 | Q80: =IF(OR(P80="",P80=0),0,IF(P80*24>8,2.99,2.65)) -> 0 | S80: =IF(OR(R80="",R80=0),0,IF(R80*24>8,2.99,2.65)) -> 0 | U80: =IF(OR(T80="",T80=0),0,IF(T80*24>8,2.99,2.65)) -> 0 | W80: =IF(OR(V80="",V80=0),0,IF(V80*24>8,2.99,2.65)) -> 0 | Y80: =IF(OR(X80="",X80=0),0,IF(X80*24>8,2.99,2.65)) -> 0 | AA80: =IF(OR(Z80="",Z80=0),0,IF(Z80*24>8,2.99,2.65)) -> 0 | AC80: =IF(OR(AB80="",AB80=0),0,IF(AB80*24>8,2.99,2.65)) -> 0 | AE80: =IF(OR(AD80="",AD80=0),0,IF(AD80*24>8,2.99,2.65)) -> 0 | AG80: =IF(OR(AF80="",AF80=0),0,IF(AF80*24>8,2.99,2.65)) -> 0 | AI80: =IF(OR(AH80="",AH80=0),0,IF(AH80*24>8,2.99,2.65)) -> 0 | AK80: =IF(OR(AJ80="",AJ80=0),0,IF(AJ80*24>8,2.99,2.65)) -> 0 | AM80: =IF(OR(AL80="",AL80=0),0,IF(AL80*24>8,2.99,2.65)) -> 0 | AO80: =IF(OR(AN80="",AN80=0),0,IF(AN80*24>8,2.99,2.65)) -> 0 | AQ80: =IF(OR(AP80="",AP80=0),0,IF(AP80*24>8,2.99,2.65)) -> 0 | AS80: =IF(OR(AR80="",AR80=0),0,IF(AR80*24>8,2.99,2.65)) -> 0 | AU80: =IF(OR(AT80="",AT80=0),0,IF(AT80*24>8,2.99,2.65)) -> 0 | AW80: =IF(OR(AV80="",AV80=0),0,IF(AV80*24>8,2.99,2.65)) -> 0 | AY80: =IF(OR(AX80="",AX80=0),0,IF(AX80*24>8,2.99,2.65)) -> 0 | BA80: =IF(OR(AZ80="",AZ80=0),0,IF(AZ80*24>8,2.99,2.65)) -> 0 | BC80: =IF(OR(BB80="",BB80=0),0,IF(BB80*24>8,2.99,2.65)) -> 0 | BE80: =IF(OR(BD80="",BD80=0),0,IF(BD80*24>8,2.99,2.65)) -> 0 | BG80: =IF(OR(BF80="",BF80=0),0,IF(BF80*24>8,2.99,2.65)) -> 0 | BI80: =IF(OR(BH80="",BH80=0),0,IF(BH80*24>8,2.99,2.65)) -> 0 | BK80: =IF(OR(BJ80="",BJ80=0),0,IF(BJ80*24>8,2.99,2.65)) -> 0 | BL80: =IFERROR(SUMPRODUCT((MOD(COLUMN(B80:BK80),2)=0)*(B80:BK80)),"") -> 0 | BM80: =IFERROR(SUMPRODUCT((MOD(COLUMN(B80:BK80),2)<>0)*(B80:BK80)),"") -> 0
B81: =SUM(B76:B80) -> 0 | C81: =SUM(C76:C80) -> 0 | D81: =SUM(D76:D80) -> 0 | E81: =SUM(E76:E80) -> 0 | F81: =SUM(F76:F80) -> 0 | G81: =SUM(G76:G80) -> 0 | H81: =SUM(H76:H80) -> 0 | I81: =SUM(I76:I80) -> 0 | ... BK81: =SUM(BK76:BK80) -> 0 | BL81: =IFERROR(SUMPRODUCT((MOD(COLUMN(B81:BK81),2)=0)*(B81:BK81)),"") -> 0 | BM81: =IFERROR(SUMPRODUCT((MOD(COLUMN(B81:BK81),2)<>0)*(B81:BK81)),"") -> 0
A82: MOIS DE NOVEMBRE
B83: =DATE($A$1,11,1) -> 42675 | D83: =B83+1 -> 42676 | F83: =D83+1 -> 42677 | H83: =F83+1 -> 42678 | J83: =H83+1 -> 42679 | L83: =J83+1 -> 42680 | N83: =L83+1 -> 42681 | P83: =N83+1 -> 42682 | R83: =P83+1 -> 42683 | T83: =R83+1 -> 42684 | V83: =T83+1 -> 42685 | X83: =V83+1 -> 42686 | Z83: =X83+1 -> 42687 | AB83: =Z83+1 -> 42688 | AD83: =AB83+1 -> 42689 | AF83: =AD83+1 -> 42690 | AH83: =AF83+1 -> 42691 | AJ83: =AH83+1 -> 42692 | AL83: =AJ83+1 -> 42693 | AN83: =AL83+1 -> 42694 | AP83: =AN83+1 -> 42695 | AR83: =AP83+1 -> 42696 | AT83: =AR83+1 -> 42697 | AV83: =AT83+1 -> 42698 | AX83: =AV83+1 -> 42699 | AZ83: =AX83+1 -> 42700 | BB83: =AZ83+1 -> 42701 | BD83: =BB83+1 -> 42702 | BF83: =BD83+1 -> 42703 | BH83: =BF83+1 -> 42704 | BL83: TOTAL HEURES | BM83: TOTAL FRAIS ENTRETIEN
A84: ENFANT 1 | C84: =IF(OR(B84="",B84=0),0,IF(B84*24>8,2.99,2.65)) -> 0 | E84: =IF(OR(D84="",D84=0),0,IF(D84*24>8,2.99,2.65)) -> 0 | G84: =IF(OR(F84="",F84=0),0,IF(F84*24>8,2.99,2.65)) -> 0 | I84: =IF(OR(H84="",H84=0),0,IF(H84*24>8,2.99,2.65)) -> 0 | K84: =IF(OR(J84="",J84=0),0,IF(J84*24>8,2.99,2.65)) -> 0 | M84: =IF(OR(L84="",L84=0),0,IF(L84*24>8,2.99,2.65)) -> 0 | O84: =IF(OR(N84="",N84=0),0,IF(N84*24>8,2.99,2.65)) -> 0 | Q84: =IF(OR(P84="",P84=0),0,IF(P84*24>8,2.99,2.65)) -> 0 | S84: =IF(OR(R84="",R84=0),0,IF(R84*24>8,2.99,2.65)) -> 0 | U84: =IF(OR(T84="",T84=0),0,IF(T84*24>8,2.99,2.65)) -> 0 | W84: =IF(OR(V84="",V84=0),0,IF(V84*24>8,2.99,2.65)) -> 0 | Y84: =IF(OR(X84="",X84=0),0,IF(X84*24>8,2.99,2.65)) -> 0 | AA84: =IF(OR(Z84="",Z84=0),0,IF(Z84*24>8,2.99,2.65)) -> 0 | AC84: =IF(OR(AB84="",AB84=0),0,IF(AB84*24>8,2.99,2.65)) -> 0 | AE84: =IF(OR(AD84="",AD84=0),0,IF(AD84*24>8,2.99,2.65)) -> 0 | AG84: =IF(OR(AF84="",AF84=0),0,IF(AF84*24>8,2.99,2.65)) -> 0 | AI84: =IF(OR(AH84="",AH84=0),0,IF(AH84*24>8,2.99,2.65)) -> 0 | AK84: =IF(OR(AJ84="",AJ84=0),0,IF(AJ84*24>8,2.99,2.65)) -> 0 | AM84: =IF(OR(AL84="",AL84=0),0,IF(AL84*24>8,2.99,2.65)) -> 0 | AO84: =IF(OR(AN84="",AN84=0),0,IF(AN84*24>8,2.99,2.65)) -> 0 | AQ84: =IF(OR(AP84="",AP84=0),0,IF(AP84*24>8,2.99,2.65)) -> 0 | AS84: =IF(OR(AR84="",AR84=0),0,IF(AR84*24>8,2.99,2.65)) -> 0 | AU84: =IF(OR(AT84="",AT84=0),0,IF(AT84*24>8,2.99,2.65)) -> 0 | AW84: =IF(OR(AV84="",AV84=0),0,IF(AV84*24>8,2.99,2.65)) -> 0 | AY84: =IF(OR(AX84="",AX84=0),0,IF(AX84*24>8,2.99,2.65)) -> 0 | BA84: =IF(OR(AZ84="",AZ84=0),0,IF(AZ84*24>8,2.99,2.65)) -> 0 | BC84: =IF(OR(BB84="",BB84=0),0,IF(BB84*24>8,2.99,2.65)) -> 0 | BE84: =IF(OR(BD84="",BD84=0),0,IF(BD84*24>8,2.99,2.65)) -> 0 | BG84: =IF(OR(BF84="",BF84=0),0,IF(BF84*24>8,2.99,2.65)) -> 0 | BI84: =IF(OR(BH84="",BH84=0),0,IF(BH84*24>8,2.99,2.65)) -> 0 | BL84: =IFERROR(SUMPRODUCT((MOD(COLUMN(B84:BK84),2)=0)*(B84:BK84)),"") -> 0 | BM84: =IFERROR(SUMPRODUCT((MOD(COLUMN(B84:BK84),2)<>0)*(B84:BK84)),"") -> 0
A85: ENFANT 2 | C85: =IF(OR(B85="",B85=0),0,IF(B85*24>8,2.99,2.65)) -> 0 | E85: =IF(OR(D85="",D85=0),0,IF(D85*24>8,2.99,2.65)) -> 0 | G85: =IF(OR(F85="",F85=0),0,IF(F85*24>8,2.99,2.65)) -> 0 | I85: =IF(OR(H85="",H85=0),0,IF(H85*24>8,2.99,2.65)) -> 0 | K85: =IF(OR(J85="",J85=0),0,IF(J85*24>8,2.99,2.65)) -> 0 | M85: =IF(OR(L85="",L85=0),0,IF(L85*24>8,2.99,2.65)) -> 0 | O85: =IF(OR(N85="",N85=0),0,IF(N85*24>8,2.99,2.65)) -> 0 | Q85: =IF(OR(P85="",P85=0),0,IF(P85*24>8,2.99,2.65)) -> 0 | S85: =IF(OR(R85="",R85=0),0,IF(R85*24>8,2.99,2.65)) -> 0 | U85: =IF(OR(T85="",T85=0),0,IF(T85*24>8,2.99,2.65)) -> 0 | W85: =IF(OR(V85="",V85=0),0,IF(V85*24>8,2.99,2.65)) -> 0 | Y85: =IF(OR(X85="",X85=0),0,IF(X85*24>8,2.99,2.65)) -> 0 | AA85: =IF(OR(Z85="",Z85=0),0,IF(Z85*24>8,2.99,2.65)) -> 0 | AC85: =IF(OR(AB85="",AB85=0),0,IF(AB85*24>8,2.99,2.65)) -> 0 | AE85: =IF(OR(AD85="",AD85=0),0,IF(AD85*24>8,2.99,2.65)) -> 0 | AG85: =IF(OR(AF85="",AF85=0),0,IF(AF85*24>8,2.99,2.65)) -> 0 | AI85: =IF(OR(AH85="",AH85=0),0,IF(AH85*24>8,2.99,2.65)) -> 0 | AK85: =IF(OR(AJ85="",AJ85=0),0,IF(AJ85*24>8,2.99,2.65)) -> 0 | AM85: =IF(OR(AL85="",AL85=0),0,IF(AL85*24>8,2.99,2.65)) -> 0 | AO85: =IF(OR(AN85="",AN85=0),0,IF(AN85*24>8,2.99,2.65)) -> 0 | AQ85: =IF(OR(AP85="",AP85=0),0,IF(AP85*24>8,2.99,2.65)) -> 0 | AS85: =IF(OR(AR85="",AR85=0),0,IF(AR85*24>8,2.99,2.65)) -> 0 | AU85: =IF(OR(AT85="",AT85=0),0,IF(AT85*24>8,2.99,2.65)) -> 0 | AW85: =IF(OR(AV85="",AV85=0),0,IF(AV85*24>8,2.99,2.65)) -> 0 | AY85: =IF(OR(AX85="",AX85=0),0,IF(AX85*24>8,2.99,2.65)) -> 0 | BA85: =IF(OR(AZ85="",AZ85=0),0,IF(AZ85*24>8,2.99,2.65)) -> 0 | BC85: =IF(OR(BB85="",BB85=0),0,IF(BB85*24>8,2.99,2.65)) -> 0 | BE85: =IF(OR(BD85="",BD85=0),0,IF(BD85*24>8,2.99,2.65)) -> 0 | BG85: =IF(OR(BF85="",BF85=0),0,IF(BF85*24>8,2.99,2.65)) -> 0 | BI85: =IF(OR(BH85="",BH85=0),0,IF(BH85*24>8,2.99,2.65)) -> 0 | BL85: =IFERROR(SUMPRODUCT((MOD(COLUMN(B85:BK85),2)=0)*(B85:BK85)),"") -> 0 | BM85: =IFERROR(SUMPRODUCT((MOD(COLUMN(B85:BK85),2)<>0)*(B85:BK85)),"") -> 0
A86: ENFANT 3 | C86: =IF(OR(B86="",B86=0),0,IF(B86*24>8,2.99,2.65)) -> 0 | E86: =IF(OR(D86="",D86=0),0,IF(D86*24>8,2.99,2.65)) -> 0 | G86: =IF(OR(F86="",F86=0),0,IF(F86*24>8,2.99,2.65)) -> 0 | I86: =IF(OR(H86="",H86=0),0,IF(H86*24>8,2.99,2.65)) -> 0 | K86: =IF(OR(J86="",J86=0),0,IF(J86*24>8,2.99,2.65)) -> 0 | M86: =IF(OR(L86="",L86=0),0,IF(L86*24>8,2.99,2.65)) -> 0 | O86: =IF(OR(N86="",N86=0),0,IF(N86*24>8,2.99,2.65)) -> 0 | Q86: =IF(OR(P86="",P86=0),0,IF(P86*24>8,2.99,2.65)) -> 0 | S86: =IF(OR(R86="",R86=0),0,IF(R86*24>8,2.99,2.65)) -> 0 | U86: =IF(OR(T86="",T86=0),0,IF(T86*24>8,2.99,2.65)) -> 0 | W86: =IF(OR(V86="",V86=0),0,IF(V86*24>8,2.99,2.65)) -> 0 | Y86: =IF(OR(X86="",X86=0),0,IF(X86*24>8,2.99,2.65)) -> 0 | AA86: =IF(OR(Z86="",Z86=0),0,IF(Z86*24>8,2.99,2.65)) -> 0 | AC86: =IF(OR(AB86="",AB86=0),0,IF(AB86*24>8,2.99,2.65)) -> 0 | AE86: =IF(OR(AD86="",AD86=0),0,IF(AD86*24>8,2.99,2.65)) -> 0 | AG86: =IF(OR(AF86="",AF86=0),0,IF(AF86*24>8,2.99,2.65)) -> 0 | AI86: =IF(OR(AH86="",AH86=0),0,IF(AH86*24>8,2.99,2.65)) -> 0 | AK86: =IF(OR(AJ86="",AJ86=0),0,IF(AJ86*24>8,2.99,2.65)) -> 0 | AM86: =IF(OR(AL86="",AL86=0),0,IF(AL86*24>8,2.99,2.65)) -> 0 | AO86: =IF(OR(AN86="",AN86=0),0,IF(AN86*24>8,2.99,2.65)) -> 0 | AQ86: =IF(OR(AP86="",AP86=0),0,IF(AP86*24>8,2.99,2.65)) -> 0 | AS86: =IF(OR(AR86="",AR86=0),0,IF(AR86*24>8,2.99,2.65)) -> 0 | AU86: =IF(OR(AT86="",AT86=0),0,IF(AT86*24>8,2.99,2.65)) -> 0 | AW86: =IF(OR(AV86="",AV86=0),0,IF(AV86*24>8,2.99,2.65)) -> 0 | AY86: =IF(OR(AX86="",AX86=0),0,IF(AX86*24>8,2.99,2.65)) -> 0 | BA86: =IF(OR(AZ86="",AZ86=0),0,IF(AZ86*24>8,2.99,2.65)) -> 0 | BC86: =IF(OR(BB86="",BB86=0),0,IF(BB86*24>8,2.99,2.65)) -> 0 | BE86: =IF(OR(BD86="",BD86=0),0,IF(BD86*24>8,2.99,2.65)) -> 0 | BG86: =IF(OR(BF86="",BF86=0),0,IF(BF86*24>8,2.99,2.65)) -> 0 | BI86: =IF(OR(BH86="",BH86=0),0,IF(BH86*24>8,2.99,2.65)) -> 0 | BL86: =IFERROR(SUMPRODUCT((MOD(COLUMN(B86:BK86),2)=0)*(B86:BK86)),"") -> 0 | BM86: =IFERROR(SUMPRODUCT((MOD(COLUMN(B86:BK86),2)<>0)*(B86:BK86)),"") -> 0
A87: ENFANT 4 | C87: =IF(OR(B87="",B87=0),0,IF(B87*24>8,2.99,2.65)) -> 0 | E87: =IF(OR(D87="",D87=0),0,IF(D87*24>8,2.99,2.65)) -> 0 | G87: =IF(OR(F87="",F87=0),0,IF(F87*24>8,2.99,2.65)) -> 0 | I87: =IF(OR(H87="",H87=0),0,IF(H87*24>8,2.99,2.65)) -> 0 | K87: =IF(OR(J87="",J87=0),0,IF(J87*24>8,2.99,2.65)) -> 0 | M87: =IF(OR(L87="",L87=0),0,IF(L87*24>8,2.99,2.65)) -> 0 | O87: =IF(OR(N87="",N87=0),0,IF(N87*24>8,2.99,2.65)) -> 0 | Q87: =IF(OR(P87="",P87=0),0,IF(P87*24>8,2.99,2.65)) -> 0 | S87: =IF(OR(R87="",R87=0),0,IF(R87*24>8,2.99,2.65)) -> 0 | U87: =IF(OR(T87="",T87=0),0,IF(T87*24>8,2.99,2.65)) -> 0 | W87: =IF(OR(V87="",V87=0),0,IF(V87*24>8,2.99,2.65)) -> 0 | Y87: =IF(OR(X87="",X87=0),0,IF(X87*24>8,2.99,2.65)) -> 0 | AA87: =IF(OR(Z87="",Z87=0),0,IF(Z87*24>8,2.99,2.65)) -> 0 | AC87: =IF(OR(AB87="",AB87=0),0,IF(AB87*24>8,2.99,2.65)) -> 0 | AE87: =IF(OR(AD87="",AD87=0),0,IF(AD87*24>8,2.99,2.65)) -> 0 | AG87: =IF(OR(AF87="",AF87=0),0,IF(AF87*24>8,2.99,2.65)) -> 0 | AI87: =IF(OR(AH87="",AH87=0),0,IF(AH87*24>8,2.99,2.65)) -> 0 | AK87: =IF(OR(AJ87="",AJ87=0),0,IF(AJ87*24>8,2.99,2.65)) -> 0 | AM87: =IF(OR(AL87="",AL87=0),0,IF(AL87*24>8,2.99,2.65)) -> 0 | AO87: =IF(OR(AN87="",AN87=0),0,IF(AN87*24>8,2.99,2.65)) -> 0 | AQ87: =IF(OR(AP87="",AP87=0),0,IF(AP87*24>8,2.99,2.65)) -> 0 | AS87: =IF(OR(AR87="",AR87=0),0,IF(AR87*24>8,2.99,2.65)) -> 0 | AU87: =IF(OR(AT87="",AT87=0),0,IF(AT87*24>8,2.99,2.65)) -> 0 | AW87: =IF(OR(AV87="",AV87=0),0,IF(AV87*24>8,2.99,2.65)) -> 0 | AY87: =IF(OR(AX87="",AX87=0),0,IF(AX87*24>8,2.99,2.65)) -> 0 | BA87: =IF(OR(AZ87="",AZ87=0),0,IF(AZ87*24>8,2.99,2.65)) -> 0 | BC87: =IF(OR(BB87="",BB87=0),0,IF(BB87*24>8,2.99,2.65)) -> 0 | BE87: =IF(OR(BD87="",BD87=0),0,IF(BD87*24>8,2.99,2.65)) -> 0 | BG87: =IF(OR(BF87="",BF87=0),0,IF(BF87*24>8,2.99,2.65)) -> 0 | BI87: =IF(OR(BH87="",BH87=0),0,IF(BH87*24>8,2.99,2.65)) -> 0 | BL87: =IFERROR(SUMPRODUCT((MOD(COLUMN(B87:BK87),2)=0)*(B87:BK87)),"") -> 0 | BM87: =IFERROR(SUMPRODUCT((MOD(COLUMN(B87:BK87),2)<>0)*(B87:BK87)),"") -> 0
A88: ENFANT 5 | C88: =IF(OR(B88="",B88=0),0,IF(B88*24>8,2.99,2.65)) -> 0 | E88: =IF(OR(D88="",D88=0),0,IF(D88*24>8,2.99,2.65)) -> 0 | G88: =IF(OR(F88="",F88=0),0,IF(F88*24>8,2.99,2.65)) -> 0 | I88: =IF(OR(H88="",H88=0),0,IF(H88*24>8,2.99,2.65)) -> 0 | K88: =IF(OR(J88="",J88=0),0,IF(J88*24>8,2.99,2.65)) -> 0 | M88: =IF(OR(L88="",L88=0),0,IF(L88*24>8,2.99,2.65)) -> 0 | O88: =IF(OR(N88="",N88=0),0,IF(N88*24>8,2.99,2.65)) -> 0 | Q88: =IF(OR(P88="",P88=0),0,IF(P88*24>8,2.99,2.65)) -> 0 | S88: =IF(OR(R88="",R88=0),0,IF(R88*24>8,2.99,2.65)) -> 0 | U88: =IF(OR(T88="",T88=0),0,IF(T88*24>8,2.99,2.65)) -> 0 | W88: =IF(OR(V88="",V88=0),0,IF(V88*24>8,2.99,2.65)) -> 0 | Y88: =IF(OR(X88="",X88=0),0,IF(X88*24>8,2.99,2.65)) -> 0 | AA88: =IF(OR(Z88="",Z88=0),0,IF(Z88*24>8,2.99,2.65)) -> 0 | AC88: =IF(OR(AB88="",AB88=0),0,IF(AB88*24>8,2.99,2.65)) -> 0 | AE88: =IF(OR(AD88="",AD88=0),0,IF(AD88*24>8,2.99,2.65)) -> 0 | AG88: =IF(OR(AF88="",AF88=0),0,IF(AF88*24>8,2.99,2.65)) -> 0 | AI88: =IF(OR(AH88="",AH88=0),0,IF(AH88*24>8,2.99,2.65)) -> 0 | AK88: =IF(OR(AJ88="",AJ88=0),0,IF(AJ88*24>8,2.99,2.65)) -> 0 | AM88: =IF(OR(AL88="",AL88=0),0,IF(AL88*24>8,2.99,2.65)) -> 0 | AO88: =IF(OR(AN88="",AN88=0),0,IF(AN88*24>8,2.99,2.65)) -> 0 | AQ88: =IF(OR(AP88="",AP88=0),0,IF(AP88*24>8,2.99,2.65)) -> 0 | AS88: =IF(OR(AR88="",AR88=0),0,IF(AR88*24>8,2.99,2.65)) -> 0 | AU88: =IF(OR(AT88="",AT88=0),0,IF(AT88*24>8,2.99,2.65)) -> 0 | AW88: =IF(OR(AV88="",AV88=0),0,IF(AV88*24>8,2.99,2.65)) -> 0 | AY88: =IF(OR(AX88="",AX88=0),0,IF(AX88*24>8,2.99,2.65)) -> 0 | BA88: =IF(OR(AZ88="",AZ88=0),0,IF(AZ88*24>8,2.99,2.65)) -> 0 | BC88: =IF(OR(BB88="",BB88=0),0,IF(BB88*24>8,2.99,2.65)) -> 0 | BE88: =IF(OR(BD88="",BD88=0),0,IF(BD88*24>8,2.99,2.65)) -> 0 | BG88: =IF(OR(BF88="",BF88=0),0,IF(BF88*24>8,2.99,2.65)) -> 0 | BI88: =IF(OR(BH88="",BH88=0),0,IF(BH88*24>8,2.99,2.65)) -> 0 | BL88: =IFERROR(SUMPRODUCT((MOD(COLUMN(B88:BK88),2)=0)*(B88:BK88)),"") -> 0 | BM88: =IFERROR(SUMPRODUCT((MOD(COLUMN(B88:BK88),2)<>0)*(B88:BK88)),"") -> 0
B89: =SUM(B84:B88) -> 0 | C89: =SUM(C84:C88) -> 0 | D89: =SUM(D84:D88) -> 0 | E89: =SUM(E84:E88) -> 0 | F89: =SUM(F84:F88) -> 0 | G89: =SUM(G84:G88) -> 0 | H89: =SUM(H84:H88) -> 0 | I89: =SUM(I84:I88) -> 0 | ... BI89: =SUM(BI84:BI88) -> 0 | BL89: =IFERROR(SUMPRODUCT((MOD(COLUMN(B89:BK89),2)=0)*(B89:BK89)),"") -> 0 | BM89: =IFERROR(SUMPRODUCT((MOD(COLUMN(B89:BK89),2)<>0)*(B89:BK89)),"") -> 0
A90: MOIS DE DECEMBRE
B91: =DATE($A$1,12,1) -> 42705 | D91: =B91+1 -> 42706 | F91: =D91+1 -> 42707 | H91: =F91+1 -> 42708 | J91: =H91+1 -> 42709 | L91: =J91+1 -> 42710 | N91: =L91+1 -> 42711 | P91: =N91+1 -> 42712 | R91: =P91+1 -> 42713 | T91: =R91+1 -> 42714 | V91: =T91+1 -> 42715 | X91: =V91+1 -> 42716 | Z91: =X91+1 -> 42717 | AB91: =Z91+1 -> 42718 | AD91: =AB91+1 -> 42719 | AF91: =AD91+1 -> 42720 | AH91: =AF91+1 -> 42721 | AJ91: =AH91+1 -> 42722 | AL91: =AJ91+1 -> 42723 | AN91: =AL91+1 -> 42724 | AP91: =AN91+1 -> 42725 | AR91: =AP91+1 -> 42726 | AT91: =AR91+1 -> 42727 | AV91: =AT91+1 -> 42728 | AX91: =AV91+1 -> 42729 | AZ91: =AX91+1 -> 42730 | BB91: =AZ91+1 -> 42731 | BD91: =BB91+1 -> 42732 | BF91: =BD91+1 -> 42733 | BH91: =BF91+1 -> 42734 | BJ91: =BH91+1 -> 42735 | BL91: TOTAL HEURES | BM91: TOTAL FRAIS ENTRETIEN
A92: ENFANT 1 | C92: =IF(OR(B92="",B92=0),0,IF(B92*24>8,2.99,2.65)) -> 0 | E92: =IF(OR(D92="",D92=0),0,IF(D92*24>8,2.99,2.65)) -> 0 | G92: =IF(OR(F92="",F92=0),0,IF(F92*24>8,2.99,2.65)) -> 0 | I92: =IF(OR(H92="",H92=0),0,IF(H92*24>8,2.99,2.65)) -> 0 | K92: =IF(OR(J92="",J92=0),0,IF(J92*24>8,2.99,2.65)) -> 0 | M92: =IF(OR(L92="",L92=0),0,IF(L92*24>8,2.99,2.65)) -> 0 | O92: =IF(OR(N92="",N92=0),0,IF(N92*24>8,2.99,2.65)) -> 0 | Q92: =IF(OR(P92="",P92=0),0,IF(P92*24>8,2.99,2.65)) -> 0 | S92: =IF(OR(R92="",R92=0),0,IF(R92*24>8,2.99,2.65)) -> 0 | U92: =IF(OR(T92="",T92=0),0,IF(T92*24>8,2.99,2.65)) -> 0 | W92: =IF(OR(V92="",V92=0),0,IF(V92*24>8,2.99,2.65)) -> 0 | Y92: =IF(OR(X92="",X92=0),0,IF(X92*24>8,2.99,2.65)) -> 0 | AA92: =IF(OR(Z92="",Z92=0),0,IF(Z92*24>8,2.99,2.65)) -> 0 | AC92: =IF(OR(AB92="",AB92=0),0,IF(AB92*24>8,2.99,2.65)) -> 0 | AE92: =IF(OR(AD92="",AD92=0),0,IF(AD92*24>8,2.99,2.65)) -> 0 | AG92: =IF(OR(AF92="",AF92=0),0,IF(AF92*24>8,2.99,2.65)) -> 0 | AI92: =IF(OR(AH92="",AH92=0),0,IF(AH92*24>8,2.99,2.65)) -> 0 | AK92: =IF(OR(AJ92="",AJ92=0),0,IF(AJ92*24>8,2.99,2.65)) -> 0 | AM92: =IF(OR(AL92="",AL92=0),0,IF(AL92*24>8,2.99,2.65)) -> 0 | AO92: =IF(OR(AN92="",AN92=0),0,IF(AN92*24>8,2.99,2.65)) -> 0 | AQ92: =IF(OR(AP92="",AP92=0),0,IF(AP92*24>8,2.99,2.65)) -> 0 | AS92: =IF(OR(AR92="",AR92=0),0,IF(AR92*24>8,2.99,2.65)) -> 0 | AU92: =IF(OR(AT92="",AT92=0),0,IF(AT92*24>8,2.99,2.65)) -> 0 | AW92: =IF(OR(AV92="",AV92=0),0,IF(AV92*24>8,2.99,2.65)) -> 0 | AY92: =IF(OR(AX92="",AX92=0),0,IF(AX92*24>8,2.99,2.65)) -> 0 | BA92: =IF(OR(AZ92="",AZ92=0),0,IF(AZ92*24>8,2.99,2.65)) -> 0 | BC92: =IF(OR(BB92="",BB92=0),0,IF(BB92*24>8,2.99,2.65)) -> 0 | BE92: =IF(OR(BD92="",BD92=0),0,IF(BD92*24>8,2.99,2.65)) -> 0 | BG92: =IF(OR(BF92="",BF92=0),0,IF(BF92*24>8,2.99,2.65)) -> 0 | BI92: =IF(OR(BH92="",BH92=0),0,IF(BH92*24>8,2.99,2.65)) -> 0 | BK92: =IF(OR(BJ92="",BJ92=0),0,IF(BJ92*24>8,2.99,2.65)) -> 0 | BL92: =IFERROR(SUMPRODUCT((MOD(COLUMN(B92:BK92),2)=0)*(B92:BK92)),"") -> 0 | BM92: =IFERROR(SUMPRODUCT((MOD(COLUMN(B92:BK92),2)<>0)*(B92:BK92)),"") -> 0
A93: ENFANT 2 | C93: =IF(OR(B93="",B93=0),0,IF(B93*24>8,2.99,2.65)) -> 0 | E93: =IF(OR(D93="",D93=0),0,IF(D93*24>8,2.99,2.65)) -> 0 | G93: =IF(OR(F93="",F93=0),0,IF(F93*24>8,2.99,2.65)) -> 0 | I93: =IF(OR(H93="",H93=0),0,IF(H93*24>8,2.99,2.65)) -> 0 | K93: =IF(OR(J93="",J93=0),0,IF(J93*24>8,2.99,2.65)) -> 0 | M93: =IF(OR(L93="",L93=0),0,IF(L93*24>8,2.99,2.65)) -> 0 | O93: =IF(OR(N93="",N93=0),0,IF(N93*24>8,2.99,2.65)) -> 0 | Q93: =IF(OR(P93="",P93=0),0,IF(P93*24>8,2.99,2.65)) -> 0 | S93: =IF(OR(R93="",R93=0),0,IF(R93*24>8,2.99,2.65)) -> 0 | U93: =IF(OR(T93="",T93=0),0,IF(T93*24>8,2.99,2.65)) -> 0 | W93: =IF(OR(V93="",V93=0),0,IF(V93*24>8,2.99,2.65)) -> 0 | Y93: =IF(OR(X93="",X93=0),0,IF(X93*24>8,2.99,2.65)) -> 0 | AA93: =IF(OR(Z93="",Z93=0),0,IF(Z93*24>8,2.99,2.65)) -> 0 | AC93: =IF(OR(AB93="",AB93=0),0,IF(AB93*24>8,2.99,2.65)) -> 0 | AE93: =IF(OR(AD93="",AD93=0),0,IF(AD93*24>8,2.99,2.65)) -> 0 | AG93: =IF(OR(AF93="",AF93=0),0,IF(AF93*24>8,2.99,2.65)) -> 0 | AI93: =IF(OR(AH93="",AH93=0),0,IF(AH93*24>8,2.99,2.65)) -> 0 | AK93: =IF(OR(AJ93="",AJ93=0),0,IF(AJ93*24>8,2.99,2.65)) -> 0 | AM93: =IF(OR(AL93="",AL93=0),0,IF(AL93*24>8,2.99,2.65)) -> 0 | AO93: =IF(OR(AN93="",AN93=0),0,IF(AN93*24>8,2.99,2.65)) -> 0 | AQ93: =IF(OR(AP93="",AP93=0),0,IF(AP93*24>8,2.99,2.65)) -> 0 | AS93: =IF(OR(AR93="",AR93=0),0,IF(AR93*24>8,2.99,2.65)) -> 0 | AU93: =IF(OR(AT93="",AT93=0),0,IF(AT93*24>8,2.99,2.65)) -> 0 | AW93: =IF(OR(AV93="",AV93=0),0,IF(AV93*24>8,2.99,2.65)) -> 0 | AY93: =IF(OR(AX93="",AX93=0),0,IF(AX93*24>8,2.99,2.65)) -> 0 | BA93: =IF(OR(AZ93="",AZ93=0),0,IF(AZ93*24>8,2.99,2.65)) -> 0 | BC93: =IF(OR(BB93="",BB93=0),0,IF(BB93*24>8,2.99,2.65)) -> 0 | BE93: =IF(OR(BD93="",BD93=0),0,IF(BD93*24>8,2.99,2.65)) -> 0 | BG93: =IF(OR(BF93="",BF93=0),0,IF(BF93*24>8,2.99,2.65)) -> 0 | BI93: =IF(OR(BH93="",BH93=0),0,IF(BH93*24>8,2.99,2.65)) -> 0 | BK93: =IF(OR(BJ93="",BJ93=0),0,IF(BJ93*24>8,2.99,2.65)) -> 0 | BL93: =IFERROR(SUMPRODUCT((MOD(COLUMN(B93:BK93),2)=0)*(B93:BK93)),"") -> 0 | BM93: =IFERROR(SUMPRODUCT((MOD(COLUMN(B93:BK93),2)<>0)*(B93:BK93)),"") -> 0
A94: ENFANT 3 | C94: =IF(OR(B94="",B94=0),0,IF(B94*24>8,2.99,2.65)) -> 0 | E94: =IF(OR(D94="",D94=0),0,IF(D94*24>8,2.99,2.65)) -> 0 | G94: =IF(OR(F94="",F94=0),0,IF(F94*24>8,2.99,2.65)) -> 0 | I94: =IF(OR(H94="",H94=0),0,IF(H94*24>8,2.99,2.65)) -> 0 | K94: =IF(OR(J94="",J94=0),0,IF(J94*24>8,2.99,2.65)) -> 0 | M94: =IF(OR(L94="",L94=0),0,IF(L94*24>8,2.99,2.65)) -> 0 | O94: =IF(OR(N94="",N94=0),0,IF(N94*24>8,2.99,2.65)) -> 0 | Q94: =IF(OR(P94="",P94=0),0,IF(P94*24>8,2.99,2.65)) -> 0 | S94: =IF(OR(R94="",R94=0),0,IF(R94*24>8,2.99,2.65)) -> 0 | U94: =IF(OR(T94="",T94=0),0,IF(T94*24>8,2.99,2.65)) -> 0 | W94: =IF(OR(V94="",V94=0),0,IF(V94*24>8,2.99,2.65)) -> 0 | Y94: =IF(OR(X94="",X94=0),0,IF(X94*24>8,2.99,2.65)) -> 0 | AA94: =IF(OR(Z94="",Z94=0),0,IF(Z94*24>8,2.99,2.65)) -> 0 | AC94: =IF(OR(AB94="",AB94=0),0,IF(AB94*24>8,2.99,2.65)) -> 0 | AE94: =IF(OR(AD94="",AD94=0),0,IF(AD94*24>8,2.99,2.65)) -> 0 | AG94: =IF(OR(AF94="",AF94=0),0,IF(AF94*24>8,2.99,2.65)) -> 0 | AI94: =IF(OR(AH94="",AH94=0),0,IF(AH94*24>8,2.99,2.65)) -> 0 | AK94: =IF(OR(AJ94="",AJ94=0),0,IF(AJ94*24>8,2.99,2.65)) -> 0 | AM94: =IF(OR(AL94="",AL94=0),0,IF(AL94*24>8,2.99,2.65)) -> 0 | AO94: =IF(OR(AN94="",AN94=0),0,IF(AN94*24>8,2.99,2.65)) -> 0 | AQ94: =IF(OR(AP94="",AP94=0),0,IF(AP94*24>8,2.99,2.65)) -> 0 | AS94: =IF(OR(AR94="",AR94=0),0,IF(AR94*24>8,2.99,2.65)) -> 0 | AU94: =IF(OR(AT94="",AT94=0),0,IF(AT94*24>8,2.99,2.65)) -> 0 | AW94: =IF(OR(AV94="",AV94=0),0,IF(AV94*24>8,2.99,2.65)) -> 0 | AY94: =IF(OR(AX94="",AX94=0),0,IF(AX94*24>8,2.99,2.65)) -> 0 | BA94: =IF(OR(AZ94="",AZ94=0),0,IF(AZ94*24>8,2.99,2.65)) -> 0 | BC94: =IF(OR(BB94="",BB94=0),0,IF(BB94*24>8,2.99,2.65)) -> 0 | BE94: =IF(OR(BD94="",BD94=0),0,IF(BD94*24>8,2.99,2.65)) -> 0 | BG94: =IF(OR(BF94="",BF94=0),0,IF(BF94*24>8,2.99,2.65)) -> 0 | BI94: =IF(OR(BH94="",BH94=0),0,IF(BH94*24>8,2.99,2.65)) -> 0 | BK94: =IF(OR(BJ94="",BJ94=0),0,IF(BJ94*24>8,2.99,2.65)) -> 0 | BL94: =IFERROR(SUMPRODUCT((MOD(COLUMN(B94:BK94),2)=0)*(B94:BK94)),"") -> 0 | BM94: =IFERROR(SUMPRODUCT((MOD(COLUMN(B94:BK94),2)<>0)*(B94:BK94)),"") -> 0
A95: ENFANT 4 | C95: =IF(OR(B95="",B95=0),0,IF(B95*24>8,2.99,2.65)) -> 0 | E95: =IF(OR(D95="",D95=0),0,IF(D95*24>8,2.99,2.65)) -> 0 | G95: =IF(OR(F95="",F95=0),0,IF(F95*24>8,2.99,2.65)) -> 0 | I95: =IF(OR(H95="",H95=0),0,IF(H95*24>8,2.99,2.65)) -> 0 | K95: =IF(OR(J95="",J95=0),0,IF(J95*24>8,2.99,2.65)) -> 0 | M95: =IF(OR(L95="",L95=0),0,IF(L95*24>8,2.99,2.65)) -> 0 | O95: =IF(OR(N95="",N95=0),0,IF(N95*24>8,2.99,2.65)) -> 0 | Q95: =IF(OR(P95="",P95=0),0,IF(P95*24>8,2.99,2.65)) -> 0 | S95: =IF(OR(R95="",R95=0),0,IF(R95*24>8,2.99,2.65)) -> 0 | U95: =IF(OR(T95="",T95=0),0,IF(T95*24>8,2.99,2.65)) -> 0 | W95: =IF(OR(V95="",V95=0),0,IF(V95*24>8,2.99,2.65)) -> 0 | Y95: =IF(OR(X95="",X95=0),0,IF(X95*24>8,2.99,2.65)) -> 0 | AA95: =IF(OR(Z95="",Z95=0),0,IF(Z95*24>8,2.99,2.65)) -> 0 | AC95: =IF(OR(AB95="",AB95=0),0,IF(AB95*24>8,2.99,2.65)) -> 0 | AE95: =IF(OR(AD95="",AD95=0),0,IF(AD95*24>8,2.99,2.65)) -> 0 | AG95: =IF(OR(AF95="",AF95=0),0,IF(AF95*24>8,2.99,2.65)) -> 0 | AI95: =IF(OR(AH95="",AH95=0),0,IF(AH95*24>8,2.99,2.65)) -> 0 | AK95: =IF(OR(AJ95="",AJ95=0),0,IF(AJ95*24>8,2.99,2.65)) -> 0 | AM95: =IF(OR(AL95="",AL95=0),0,IF(AL95*24>8,2.99,2.65)) -> 0 | AO95: =IF(OR(AN95="",AN95=0),0,IF(AN95*24>8,2.99,2.65)) -> 0 | AQ95: =IF(OR(AP95="",AP95=0),0,IF(AP95*24>8,2.99,2.65)) -> 0 | AS95: =IF(OR(AR95="",AR95=0),0,IF(AR95*24>8,2.99,2.65)) -> 0 | AU95: =IF(OR(AT95="",AT95=0),0,IF(AT95*24>8,2.99,2.65)) -> 0 | AW95: =IF(OR(AV95="",AV95=0),0,IF(AV95*24>8,2.99,2.65)) -> 0 | AY95: =IF(OR(AX95="",AX95=0),0,IF(AX95*24>8,2.99,2.65)) -> 0 | BA95: =IF(OR(AZ95="",AZ95=0),0,IF(AZ95*24>8,2.99,2.65)) -> 0 | BC95: =IF(OR(BB95="",BB95=0),0,IF(BB95*24>8,2.99,2.65)) -> 0 | BE95: =IF(OR(BD95="",BD95=0),0,IF(BD95*24>8,2.99,2.65)) -> 0 | BG95: =IF(OR(BF95="",BF95=0),0,IF(BF95*24>8,2.99,2.65)) -> 0 | BI95: =IF(OR(BH95="",BH95=0),0,IF(BH95*24>8,2.99,2.65)) -> 0 | BK95: =IF(OR(BJ95="",BJ95=0),0,IF(BJ95*24>8,2.99,2.65)) -> 0 | BL95: =IFERROR(SUMPRODUCT((MOD(COLUMN(B95:BK95),2)=0)*(B95:BK95)),"") -> 0 | BM95: =IFERROR(SUMPRODUCT((MOD(COLUMN(B95:BK95),2)<>0)*(B95:BK95)),"") -> 0
A96: ENFANT 5 | C96: =IF(OR(B96="",B96=0),0,IF(B96*24>8,2.99,2.65)) -> 0 | E96: =IF(OR(D96="",D96=0),0,IF(D96*24>8,2.99,2.65)) -> 0 | G96: =IF(OR(F96="",F96=0),0,IF(F96*24>8,2.99,2.65)) -> 0 | I96: =IF(OR(H96="",H96=0),0,IF(H96*24>8,2.99,2.65)) -> 0 | K96: =IF(OR(J96="",J96=0),0,IF(J96*24>8,2.99,2.65)) -> 0 | M96: =IF(OR(L96="",L96=0),0,IF(L96*24>8,2.99,2.65)) -> 0 | O96: =IF(OR(N96="",N96=0),0,IF(N96*24>8,2.99,2.65)) -> 0 | Q96: =IF(OR(P96="",P96=0),0,IF(P96*24>8,2.99,2.65)) -> 0 | S96: =IF(OR(R96="",R96=0),0,IF(R96*24>8,2.99,2.65)) -> 0 | U96: =IF(OR(T96="",T96=0),0,IF(T96*24>8,2.99,2.65)) -> 0 | W96: =IF(OR(V96="",V96=0),0,IF(V96*24>8,2.99,2.65)) -> 0 | Y96: =IF(OR(X96="",X96=0),0,IF(X96*24>8,2.99,2.65)) -> 0 | AA96: =IF(OR(Z96="",Z96=0),0,IF(Z96*24>8,2.99,2.65)) -> 0 | AC96: =IF(OR(AB96="",AB96=0),0,IF(AB96*24>8,2.99,2.65)) -> 0 | AE96: =IF(OR(AD96="",AD96=0),0,IF(AD96*24>8,2.99,2.65)) -> 0 | AG96: =IF(OR(AF96="",AF96=0),0,IF(AF96*24>8,2.99,2.65)) -> 0 | AI96: =IF(OR(AH96="",AH96=0),0,IF(AH96*24>8,2.99,2.65)) -> 0 | AK96: =IF(OR(AJ96="",AJ96=0),0,IF(AJ96*24>8,2.99,2.65)) -> 0 | AM96: =IF(OR(AL96="",AL96=0),0,IF(AL96*24>8,2.99,2.65)) -> 0 | AO96: =IF(OR(AN96="",AN96=0),0,IF(AN96*24>8,2.99,2.65)) -> 0 | AQ96: =IF(OR(AP96="",AP96=0),0,IF(AP96*24>8,2.99,2.65)) -> 0 | AS96: =IF(OR(AR96="",AR96=0),0,IF(AR96*24>8,2.99,2.65)) -> 0 | AU96: =IF(OR(AT96="",AT96=0),0,IF(AT96*24>8,2.99,2.65)) -> 0 | AW96: =IF(OR(AV96="",AV96=0),0,IF(AV96*24>8,2.99,2.65)) -> 0 | AY96: =IF(OR(AX96="",AX96=0),0,IF(AX96*24>8,2.99,2.65)) -> 0 | BA96: =IF(OR(AZ96="",AZ96=0),0,IF(AZ96*24>8,2.99,2.65)) -> 0 | BC96: =IF(OR(BB96="",BB96=0),0,IF(BB96*24>8,2.99,2.65)) -> 0 | BE96: =IF(OR(BD96="",BD96=0),0,IF(BD96*24>8,2.99,2.65)) -> 0 | BG96: =IF(OR(BF96="",BF96=0),0,IF(BF96*24>8,2.99,2.65)) -> 0 | BI96: =IF(OR(BH96="",BH96=0),0,IF(BH96*24>8,2.99,2.65)) -> 0 | BK96: =IF(OR(BJ96="",BJ96=0),0,IF(BJ96*24>8,2.99,2.65)) -> 0 | BL96: =IFERROR(SUMPRODUCT((MOD(COLUMN(B96:BK96),2)=0)*(B96:BK96)),"") -> 0 | BM96: =IFERROR(SUMPRODUCT((MOD(COLUMN(B96:BK96),2)<>0)*(B96:BK96)),"") -> 0
B97: =SUM(B92:B96) -> 0 | C97: =SUM(C92:C96) -> 0 | D97: =SUM(D92:D96) -> 0 | E97: =SUM(E92:E96) -> 0 | F97: =SUM(F92:F96) -> 0 | G97: =SUM(G92:G96) -> 0 | H97: =SUM(H92:H96) -> 0 | I97: =SUM(I92:I96) -> 0 | ... BK97: =SUM(BK92:BK96) -> 0 | BL97: =IFERROR(SUMPRODUCT((MOD(COLUMN(B97:BK97),2)=0)*(B97:BK97)),"") -> 0 | BM97: =IFERROR(SUMPRODUCT((MOD(COLUMN(B97:BK97),2)<>0)*(B97:BK97)),"") -> 0

Sheet récap annuelle
A1: POUR DECLARATION IMPOTS
B2: salaire fiscal | C2: frais entretien | D2: repas | E2: frais km | F2: salaire total | G2: TOTAL NBRE D'HEURES SUR TOUTE L'ANNEE | H2: BASE REMUNERATION | I2: total abattement
B3: cette colonne est remplie manuellement d'après fiches de payes | C3: dans cette colonne doit apparaître le total annuel de l'enfant les drais d'entretien de l'onglet mois | D3: cette colonne est remplie manuellement | E3: cette colonne est remplie manuellement | F3: cette colonne doit être egal a salaire fiscal + entretien + repas +frais km | G3: dans cette colonne doit apparaître le nombre d'heures de présence de l'année de l'onglet mois | H3: cette colonne doit être egal à total heures par enfant (G) et multiplié par 3,60€ | I3: dans cette colonne doit être égal à salaire total (F) moins le total abattement (H)
A4: ENFANT 1 | C4: =B11 -> 0 | F4: =B4+C4+D4+E4 -> 0 | G4: =C11 -> 0 | H4: =G4*24*3.6 -> 0 | I4: =F4-H4 -> 0
A5: ENFANT 2 | C5: =B12 -> 0 | F5: =B5+C5+D5+E5 -> 0 | G5: =C12 -> 0 | H5: =G5*24*3.6 -> 0 | I5: =F5-H5 -> 0
A6: ENFANT 3 | C6: =B13 -> 0 | F6: =B6+C6+D6+E6 -> 0 | G6: =C13 -> 0 | H6: =G6*24*3.6 -> 0 | I6: =F6-H6 -> 0
A7: ENFANT 4 | C7: =B14 -> 0 | F7: =B7+C7+D7+E7 -> 0 | G7: =C14 -> 0 | H7: =G7*24*3.6 -> 0 | I7: =F7-H7 -> 0
A8: ENFANT 5 | C8: =B15 -> 0 | F8: =B8+C8+D8+E8 -> 0 | G8: =C15 -> 0 | H8: =G8*24*3.6 -> 0 | I8: =F8-H8 -> 0
A10: ENFANT | B10: FRAIS D'ENTRETIEN | C10: NOMBRE D'HEURES
A11: ENFANT 1 | B11: ='les mois'!BM4+'les mois'!BM12+'les mois'!BM20+'les mois'!BM28+'les mois'!BM36+'les mois'!BM44+'les mois'!BM52+'les mois'!BM60+'les mois'!BM68+'les mois'!BM76+'les mois'!BM84+'les mois'!BM92 -> 0 | C11: ='les mois'!BL4+'les mois'!BL12+'les mois'!BL20+'les mois'!BL28+'les mois'!BL36+'les mois'!BL44+'les mois'!BL52+'les mois'!BL60+'les mois'!BL68+'les mois'!BL76+'les mois'!BL84+'les mois'!BL92 -> 0
A12: ENFANT 2 | B12: ='les mois'!BM93+'les mois'!BM85+'les mois'!BM77+'les mois'!BM69+'les mois'!BM61+'les mois'!BM53+'les mois'!BM45+'les mois'!BM37+'les mois'!BM29+'les mois'!BM21+'les mois'!BM13+'les mois'!BM5 -> 0 | C12: ='les mois'!BL93+'les mois'!BL85+'les mois'!BL77+'les mois'!BL69+'les mois'!BL61+'les mois'!BL53+'les mois'!BL45+'les mois'!BL37+'les mois'!BL29+'les mois'!BL21+'les mois'!BL13+'les mois'!BL5 -> 0
A13: ENFANT 3 | B13: ='les mois'!BM6+'les mois'!BM14+'les mois'!BM22+'les mois'!BM30+'les mois'!BM38+'les mois'!BM46+'les mois'!BM54+'les mois'!BM62+'les mois'!BM70+'les mois'!BM78+'les mois'!BM86+'les mois'!BM94 -> 0 | C13: ='les mois'!BL6+'les mois'!BL14+'les mois'!BL22+'les mois'!BL30+'les mois'!BL38+'les mois'!BL46+'les mois'!BL54+'les mois'!BL62+'les mois'!BL70+'les mois'!BL78+'les mois'!BL86+'les mois'!BL94 -> 0
A14: ENFANT 4 | B14: ='les mois'!BM95+'les mois'!BM87+'les mois'!BM79+'les mois'!BM71+'les mois'!BM63+'les mois'!BM55+'les mois'!BM47+'les mois'!BM39+'les mois'!BM31+'les mois'!BM23+'les mois'!BM15+'les mois'!BM7 -> 0 | C14: ='les mois'!BL95+'les mois'!BL87+'les mois'!BL79+'les mois'!BL71+'les mois'!BL63+'les mois'!BL55+'les mois'!BL47+'les mois'!BL39+'les mois'!BL31+'les mois'!BL23+'les mois'!BL15+'les mois'!BL7 -> 0
A15: ENFANT 5 | B15: ='les mois'!BM96+'les mois'!BM88+'les mois'!BM80+'les mois'!BM72+'les mois'!BM64+'les mois'!BM56+'les mois'!BM48+'les mois'!BM40+'les mois'!BM32+'les mois'!BM24+'les mois'!BM16+'les mois'!BM8 -> 0 | C15: ='les mois'!BL8+'les mois'!BL16+'les mois'!BL24+'les mois'!BL32+'les mois'!BL40+'les mois'!BL48+'les mois'!BL56+'les mois'!BL64+'les mois'!BL72+'les mois'!BL80+'les mois'!BL88+'les mois'!BL96 -> 0
