Workbook

Sheet les mois
A1: 2016
A2: MOIS DE JANVIER
B3: =DATE(A1,1,1) -> 42370 | D3: =B3+1 -> 42371 | F3: =D3+1 -> 42372 | H3: =F3+1 -> 42373 | J3: =H3+1 -> 42374 | L3: =J3+1 -> 42375 | N3: =L3+1 -> 42376 | P3: =N3+1 -> 42377 | R3: =P3+1 -> 42378 | T3: =R3+1 -> 42379 | V3: =T3+1 -> 42380 | X3: =V3+1 -> 42381 | Z3: =X3+1 -> 42382 | AB3: =Z3+1 -> 42383 | AD3: =AB3+1 -> 42384 | AF3: =AD3+1 -> 42385 | AH3: =AF3+1 -> 42386 | AJ3: =AH3+1 -> 42387 | AL3: =AJ3+1 -> 42388 | AN3: =AL3+1 -> 42389 | AP3: =AN3+1 -> 42390 | AR3: =AP3+1 -> 42391 | AT3: =AR3+1 -> 42392 | AV3: =AT3+1 -> 42393 | AX3: =AV3+1 -> 42394 | AZ3: =AX3+1 -> 42395 | BB3: =AZ3+1 -> 42396 | BD3: =BB3+1 -> 42397 | BF3: =BD3+1 -> 42398 | BH3: =BF3+1 -> 42399 | BJ3: =BH3+1 -> 42400 | BL3: TOTAL HEURES | BM3: TOTAL FRAIS ENTRETIEN
A4: ENFANT 1 | C4: =IF(OR(B4="",B4=0),0,IF(B4*24>8,2.99,2.65)) -> 0 | E4: =IF(OR(D4="",D4=0),0,IF(D4*24>8,2.99,2.65)) -> 0 | G4: =IF(OR(F4="",F4=0),0,IF(F4*24>8,2.99,2.65)) -> 0 | I4: =IF(OR(H4="",H4=0),0,IF(H4*24>8,2.99,2.65)) -> 0 | K4: =IF(OR(J4="",J4=0),0,IF(J4*24>8,2.99,2.65)) -> 0 | M4: =IF(OR(L4="",L4=0),0,IF(L4*24>8,2.99,2.65)) -> 0 | O4: =IF(OR(N4="",N4=0),0,IF(N4*24>8,2.99,2.65)) -> 0 | Q4: =IF(OR(P4="",P4=0),0,IF(P4*24>8,2.99,2.65)) -> 0 | S4: =IF(OR(R4="",R4=0),0,IF(R4*24>8,2.99,2.65)) -> 0 | U4: =IF(OR(T4="",T4=0),0,IF(T4*24>8,2.99,2.65)) -> 0 | W4: =IF(OR(V4="",V4=0),0,IF(V4*24>8,2.99,2.65)) -> 0 | Y4: =IF(OR(X4="",X4=0),0,IF(X4*24>8,2.99,2.65)) -> 0 | AA4: =IF(OR(Z4="",Z4=0),0,IF(Z4*24>8,2.99,2.65)) -> 0 | AC4: =IF(OR(AB4="",AB4=0),0,IF(AB4*24>8,2.99,2.65)) -> 0 | AE4: =IF(OR(AD4="",AD4=0),0,IF(AD4*24>8,2.99,2.65)) -> 0 | AG4: =IF(OR(AF4="",AF4=0),0,IF(AF4*24>8,2.99,2.65)) -> 0 | AI4: =IF(OR(AH4="",AH4=0),0,IF(AH4*24>8,2.99,2.65)) -> 0 | AK4: =IF(OR(AJ4="",AJ4=0),0,IF(AJ4*24>8,2.99,2.65)) -> 0 | AM4: =IF(OR(AL4="",AL4=0),0,IF(AL4*24>8,2.99,2.65)) -> 0 | AO4: =IF(OR(AN4="",AN4=0),0,IF(AN4*24>8,2.99,2.65)) -> 0 | AQ4: =IF(OR(AP4="",AP4=0),0,IF(AP4*24>8,2.99,2.65)) -> 0 | AS4: =IF(OR(AR4="",AR4=0),0,IF(AR4*24>8,2.99,2.65)) -> 0 | AU4: =IF(OR(AT4="",AT4=0),0,IF(AT4*24>8,2.99,2.65)) -> 0 | AW4: =IF(OR(AV4="",AV4=0),0,IF(AV4*24>8,2.99,2.65)) -> 0 | AY4: =IF(OR(AX4="",AX4=0),0,IF(AX4*24>8,2.99,2.65)) -> 0 | BA4: =IF(OR(AZ4="",AZ4=0),0,IF(AZ4*24>8,2.99,2.65)) -> 0 | BC4: =IF(OR(BB4="",BB4=0),0,IF(BB4*24>8,2.99,2.65)) -> 0 | BE4: =IF(OR(BD4="",BD4=0),0,IF(BD4*24>8,2.99,2.65)) -> 0 | BG4: =IF(OR(BF4="",BF4=0),0,IF(BF4*24>8,2.99,2.65)) -> 0 | BI4: =IF(OR(BH4="",BH4=0),0,IF(BH4*24>8,2.99,2.65)) -> 0 | BK4: =IF(OR(BJ4="",BJ4=0),0,IF(BJ4*24>8,2.99,2.65)) -> 0 | BL4: =IFERROR(SUMPRODUCT((MOD(COLUMN(B4:BK4),2)=0)*(B4:BK4)),"") -> 0 | BM4: =IFERROR(SUMPRODUCT((MOD(COLUMN(B4:BK4),2)<>0)*(B4:BK4)),"") -> 0
A5: ENFANT 2 | C5: =IF(OR(B5="",B5=0),0,IF(B5*24>8,2.99,2.65)) -> 0 | E5: =IF(OR(D5="",D5=0),0,IF(D5*24>8,2.99,2.65)) -> 0 | G5: =IF(OR(F5="",F5=0),0,IF(F5*24>8,2.99,2.65)) -> 0 | I5: =IF(OR(H5="",H5=0),0,IF(H5*24>8,2.99,2.65)) -> 0 | K5: =IF(OR(J5="",J5=0),0,IF(J5*24>8,2.99,2.65)) -> 0 | M5: =IF(OR(L5="",L5=0),0,IF(L5*24>8,2.99,2.65)) -> 0 | O5: =IF(OR(N5="",N5=0),0,IF(N5*24>8,2.99,2.65)) -> 0 | Q5: =IF(OR(P5="",P5=0),0,IF(P5*24>8,2.99,2.65)) -> 0 | S5: =IF(OR(R5="",R5=0),0,IF(R5*24>8,2.99,2.65)) -> 0 | U5: =IF(OR(T5="",T5=0),0,IF(T5*24>8,2.99,2.65)) -> 0 | W5: =IF(OR(V5="",V5=0),0,IF(V5*24>8,2.99,2.65)) -> 0 | Y5: =IF(OR(X5="",X5=0),0,IF(X5*24>8,2.99,2.65)) -> 0 | AA5: =IF(OR(Z5="",Z5=0),0,IF(Z5*24>8,2.99,2.65)) -> 0 | AC5: =IF(OR(AB5="",AB5=0),0,IF(AB5*24>8,2.99,2.65)) -> 0 | AE5: =IF(OR(AD5="",AD5=0),0,IF(AD5*24>8,2.99,2.65)) -> 0 | AG5: =IF(OR(AF5="",AF5=0),0,IF(AF5*24>8,2.99,2.65)) -> 0 | AI5: =IF(OR(AH5="",AH5=0),0,IF(AH5*24>8,2.99,2.65)) -> 0 | AK5: =IF(OR(AJ5="",AJ5=0),0,IF(AJ5*24>8,2.99,2.65)) -> 0 | AM5: =IF(OR(AL5="",AL5=0),0,IF(AL5*24>8,2.99,2.65)) -> 0 | AO5: =IF(OR(AN5="",AN5=0),0,IF(AN5*24>8,2.99,2.65)) -> 0 | AQ5: =IF(OR(AP5="",AP5=0),0,IF(AP5*24>8,2.99,2.65)) -> 0 | AS5: =IF(OR(AR5="",AR5=0),0,IF(AR5*24>8,2.99,2.65)) -> 0 | AU5: =IF(OR(AT5="",AT5=0),0,IF(AT5*24>8,2.99,2.65)) -> 0 | AW5: =IF(OR(AV5="",AV5=0),0,IF(AV5*24>8,2.99,2.65)) -> 0 | AY5: =IF(OR(AX5="",AX5=0),0,IF(AX5*24>8,2.99,2.65)) -> 0 | BA5: =IF(OR(AZ5="",AZ5=0),0,IF(AZ5*24>8,2.99,2.65)) -> 0 | BC5: =IF(OR(BB5="",BB5=0),0,IF(BB5*24>8,2.99,2.65)) -> 0 | BE5: =IF(OR(BD5="",BD5=0),0,IF(BD5*24>8,2.99,2.65)) -> 0 | BG5: =IF(OR(BF5="",BF5=0),0,IF(BF5*24>8,2.99,2.65)) -> 0 | BI5: =IF(OR(BH5="",BH5=0),0,IF(BH5*24>8,2.99,2.65)) -> 0 | BK5: =IF(OR(BJ5="",BJ5=0),0,IF(BJ5*24>8,2.99,2.65)) -> 0 | BL5: =IFERROR(SUMPRODUCT((MOD(COLUMN(B5:BK5),2)=0)*(B5:BK5)),"") -> 0 | BM5: =IFERROR(SUMPRODUCT((MOD(COLUMN(B5:BK5),2)<>0)*(B5:BK5)),"") -> 0
A6: ENFANT 3 | C6: =IF(OR(B6="",B6=0),0,IF(B6*24>8,2.99,2.65)) -> 0 | E6: =IF(OR(D6="",D6=0),0,IF(D6*24>8,2.99,2.65)) -> 0 | G6: =IF(OR(F6="",F6=0),0,IF(F6*24>8,2.99,2.65)) -> 0 | I6: =IF(OR(H6="",H6=0),0,IF(H6*24>8,2.99,2.65)) -> 0 | K6: =IF(OR(J6="",J6=0),0,IF(J6*24>8,2.99,2.65)) -> 0 | M6: =IF(OR(L6="",L6=0),0,IF(L6*24>8,2.99,2.65)) -> 0 | O6: =IF(OR(N6="",N6=0),0,IF(N6*24>8,2.99,2.65)) -> 0 | Q6: =IF(OR(P6="",P6=0),0,IF(P6*24>8,2.99,2.65)) -> 0 | S6: =IF(OR(R6="",R6=0),0,IF(R6*24>8,2.99,2.65)) -> 0 | U6: =IF(OR(T6="",T6=0),0,IF(T6*24>8,2.99,2.65)) -> 0 | W6: =IF(OR(V6="",V6=0),0,IF(V6*24>8,2.99,2.65)) -> 0 | Y6: =IF(OR(X6="",X6=0),0,IF(X6*24>8,2.99,2.65)) -> 0 | AA6: =IF(OR(Z6="",Z6=0),0,IF(Z6*24>8,2.99,2.65)) -> 0 | AC6: =IF(OR(AB6="",AB6=0),0,IF(AB6*24>8,2.99,2.65)) -> 0 | AE6: =IF(OR(AD6="",AD6=0),0,IF(AD6*24>8,2.99,2.65)) -> 0 | AG6: =IF(OR(AF6="",AF6=0),0,IF(AF6*24>8,2.99,2.65)) -> 0 | AI6: =IF(OR(AH6="",AH6=0),0,IF(AH6*24>8,2.99,2.65)) -> 0 | AK6: =IF(OR(AJ6="",AJ6=0),0,IF(AJ6*24>8,2.99,2.65)) -> 0 | AM6: =IF(OR(AL6="",AL6=0),0,IF(AL6*24>8,2.99,2.65)) -> 0 | AO6: =IF(OR(AN6="",AN6=0),0,IF(AN6*24>8,2.99,2.65)) -> 0 | AQ6: =IF(OR(AP6="",AP6=0),0,IF(AP6*24>8,2.99,2.65)) -> 0 | AS6: =IF(OR(AR6="",AR6=0),0,IF(AR6*24>8,2.99,2.65)) -> 0 | AU6: =IF(OR(AT6="",AT6=0),0,IF(AT6*24>8,2.99,2.65)) -> 0 | AW6: =IF(OR(AV6="",AV6=0),0,IF(AV6*24>8,2.99,2.65)) -> 0 | AY6: =IF(OR(AX6="",AX6=0),0,IF(AX6*24>8,2.99,2.65)) -> 0 | BA6: =IF(OR(AZ6="",AZ6=0),0,IF(AZ6*24>8,2.99,2.65)) -> 0 | BC6: =IF(OR(BB6="",BB6=0),0,IF(BB6*24>8,2.99,2.65)) -> 0 | BE6: =IF(OR(BD6="",BD6=0),0,IF(BD6*24>8,2.99,2.65)) -> 0 | BG6: =IF(OR(BF6="",BF6=0),0,IF(BF6*24>8,2.99,2.65)) -> 0 | BI6: =IF(OR(BH6="",BH6=0),0,IF(BH6*24>8,2.99,2.65)) -> 0 | BK6: =IF(OR(BJ6="",BJ6=0),0,IF(BJ6*24>8,2.99,2.65)) -> 0 | BL6: =IFERROR(SUMPRODUCT((MOD(COLUMN(B6:BK6),2)=0)*(B6:BK6)),"") -> 0 | BM6: =IFERROR(SUMPRODUCT((MOD(COLUMN(B6:BK6),2)<>0)*(B6:BK6)),"") -> 0
A7: ENFANT 4 | C7: =IF(OR(B7="",B7=0),0,IF(B7*24>8,2.99,2.65)) -> 0 | E7: =IF(OR(D7="",D7=0),0,IF(D7*24>8,2.99,2.65)) -> 0 | G7: =IF(OR(F7="",F7=0),0,IF(F7*24>8,2.99,2.65)) -> 0 | I7: =IF(OR(H7="",H7=0),0,IF(H7*24>8,2.99,2.65)) -> 0 | K7: =IF(OR(J7="",J7=0),0,IF(J7*24>8,2.99,2.65)) -> 0 | M7: =IF(OR(L7="",L7=0),0,IF(L7*24>8,2.99,2.65)) -> 0 | O7: =IF(OR(N7="",N7=0),0,IF(N7*24>8,2.99,2.65)) -> 0 | Q7: =IF(OR(P7="",P7=0),0,IF(P7*24>8,2.99,2.65)) -> 0 | S7: =IF(OR(R7="",R7=0),0,IF(R7*24>8,2.99,2.65)) -> 0 | U7: =IF(OR(T7="",T7=0),0,IF(T7*24>8,2.99,2.65)) -> 0 | W7: =IF(OR(V7="",V7=0),0,IF(V7*24>8,2.99,2.65)) -> 0 | Y7: =IF(OR(X7="",X7=0),0,IF(X7*24>8,2.99,2.65)) -> 0 | AA7: =IF(OR(Z7="",Z7=0),0,IF(Z7*24>8,2.99,2.65)) -> 0 | AC7: =IF(OR(AB7="",AB7=0),0,IF(AB7*24>8,2.99,2.65)) -> 0 | AE7: =IF(OR(AD7="",AD7=0),0,IF(AD7*24>8,2.99,2.65)) -> 0 | AG7: =IF(OR(AF7="",AF7=0),0,IF(AF7*24>8,2.99,2.65)) -> 0 | AI7: =IF(OR(AH7="",AH7=0),0,IF(AH7*24>8,2.99,2.65)) -> 0 | AK7: =IF(OR(AJ7="",AJ7=0),0,IF(AJ7*24>8,2.99,2.65)) -> 0 | AM7: =IF(OR(AL7="",AL7=0),0,IF(AL7*24>8,2.99,2.65)) -> 0 | AO7: =IF(OR(AN7="",AN7=0),0,IF(AN7*24>8,2.99,2.65)) -> 0 | AQ7: =IF(OR(AP7="",AP7=0),0,IF(AP7*24>8,2.99,2.65)) -> 0 | AS7: =IF(OR(AR7="",AR7=0),0,IF(AR7*24>8,2.99,2.65)) -> 0 | AU7: =IF(OR(AT7="",AT7=0),0,IF(AT7*24>8,2.99,2.65)) -> 0 | AW7: =IF(OR(AV7="",AV7=0),0,IF(AV7*24>8,2.99,2.65)) -> 0 | AY7: =IF(OR(AX7="",AX7=0),0,IF(AX7*24>8,2.99,2.65)) -> 0 | BA7: =IF(OR(AZ7="",AZ7=0),0,IF(AZ7*24>8,2.99,2.65)) -> 0 | BC7: =IF(OR(BB7="",BB7=0),0,IF(BB7*24>8,2.99,2.65)) -> 0 | BE7: =IF(OR(BD7="",BD7=0),0,IF(BD7*24>8,2.99,2.65)) -> 0 | BG7: =IF(OR(BF7="",BF7=0),0,IF(BF7*24>8,2.99,2.65)) -> 0 | BI7: =IF(OR(BH7="",BH7=0),0,IF(BH7*24>8,2.99,2.65)) -> 0 | BK7: =IF(OR(BJ7="",BJ7=0),0,IF(BJ7*24>8,2.99,2.65)) -> 0 | BL7: =IFERROR(SUMPRODUCT((MOD(COLUMN(B7:BK7),2)=0)*(B7:BK7)),"") -> 0 | BM7: =IFERROR(SUMPRODUCT((MOD(COLUMN(B7:BK7),2)<>0)*(B7:BK7)),"") -> 0
A8: ENFANT 5 | C8: =IF(OR(B8="",B8=0),0,IF(B8*24>8,2.99,2.65)) -> 0 | E8: =IF(OR(D8="",D8=0),0,IF(D8*24>8,2.99,2.65)) -> 0 | G8: =IF(OR(F8="",F8=0),0,IF(F8*24>8,2.99,2.65)) -> 0 | I8: =IF(OR(H8="",H8=0),0,IF(H8*24>8,2.99,2.65)) -> 0 | K8: =IF(OR(J8="",J8=0),0,IF(J8*24>8,2.99,2.65)) -> 0 | M8: =IF(OR(L8="",L8=0),0,IF(L8*24>8,2.99,2.65)) -> 0 | O8: =IF(OR(N8="",N8=0),0,IF(N8*24>8,2.99,2.65)) -> 0 | Q8: =IF(OR(P8="",P8=0),0,IF(P8*24>8,2.99,2.65)) -> 0 | S8: =IF(OR(R8="",R8=0),0,IF(R8*24>8,2.99,2.65)) -> 0 | U8: =IF(OR(T8="",T8=0),0,IF(T8*24>8,2.99,2.65)) -> 0 | W8: =IF(OR(V8="",V8=0),0,IF(V8*24>8,2.99,2.65)) -> 0 | Y8: =IF(OR(X8="",X8=0),0,IF(X8*24>8,2.99,2.65)) -> 0 | AA8: =IF(OR(Z8="",Z8=0),0,IF(Z8*24>8,2.99,2.65)) -> 0 | AC8: =IF(OR(AB8="",AB8=0),0,IF(AB8*24>8,2.99,2.65)) -> 0 | AE8: =IF(OR(AD8="",AD8=0),0,IF(AD8*24>8,2.99,2.65)) -> 0 | AG8: =IF(OR(AF8="",AF8=0),0,IF(AF8*24>8,2.99,2.65)) -> 0 | AI8: =IF(OR(AH8="",AH8=0),0,IF(AH8*24>8,2.99,2.65)) -> 0 | AK8: =IF(OR(AJ8="",AJ8=0),0,IF(AJ8*24>8,2.99,2.65)) -> 0 | AM8: =IF(OR(AL8="",AL8=0),0,IF(AL8*24>8,2.99,2.65)) -> 0 | AO8: =IF(OR(AN8="",AN8=0),0,IF(AN8*24>8,2.99,2.65)) -> 0 | AQ8: =IF(OR(AP8="",AP8=0),0,IF(AP8*24>8,2.99,2.65)) -> 0 | AS8: =IF(OR(AR8="",AR8=0),0,IF(AR8*24>8,2.99,2.65)) -> 0 | AU8: =IF(OR(AT8="",AT8=0),0,IF(AT8*24>8,2.99,2.65)) -> 0 | AW8: =IF(OR(AV8="",AV8=0),0,IF(AV8*24>8,2.99,2.65)) -> 0 | AY8: =IF(OR(AX8="",AX8=0),0,IF(AX8*24>8,2.99,2.65)) -> 0 | BA8: =IF(OR(AZ8="",AZ8=0),0,IF(AZ8*24>8,2.99,2.65)) -> 0 | BC8: =IF(OR(BB8="",BB8=0),0,IF(BB8*24>8,2.99,2.65)) -> 0 | BE8: =IF(OR(BD8="",BD8=0),0,IF(BD8*24>8,2.99,2.65)) -> 0 | BG8: =IF(OR(BF8="",BF8=0),0,IF(BF8*24>8,2.99,2.65)) -> 0 | BI8: =IF(OR(BH8="",BH8=0),0,IF(BH8*24>8,2.99,2.65)) -> 0 | BK8: =IF(OR(BJ8="",BJ8=0),0,IF(BJ8*24>8,2.99,2.65)) -> 0 | BL8: =IFERROR(SUMPRODUCT((MOD(COLUMN(B8:BK8),2)=0)*(B8:BK8)),"") -> 0 | BM8: =IFERROR(SUMPRODUCT((MOD(COLUMN(B8:BK8),2)<>0)*(B8:BK8)),"") -> 0
B9: =SUM(B4:B8) -> 0 | C9: =SUM(C4:C8) -> 0 | D9: =SUM(D4:D8) -> 0 | E9: =SUM(E4:E8) -> 0 | F9: =SUM(F4:F8) -> 0 | G9: =SUM(G4:G8) -> 0 | H9: =SUM(H4:H8) -> 0 | I9: =SUM(I4:I8) -> 0 | ... BK9: =SUM(BK4:BK8) -> 0 | BL9: =IFERROR(SUMPRODUCT((MOD(COLUMN(B9:BK9),2)=0)*(B9:BK9)),"") -> 0 | BM9: =IFERROR(SUMPRODUCT((MOD(COLUMN(B9:BK9),2)<>0)*(B9:BK9)),"") -> 0
A10: MOIS DE FEVRIER
B11: =DATE($A$1,2,1) -> 42401 | D11: =B11+1 -> 42402 | F11: =D11+1 -> 42403 | H11: =F11+1 -> 42404 | J11: =H11+1 -> 42405 | L11: =J11+1 -> 42406 | N11: =L11+1 -> 42407 | P11: =N11+1 -> 42408 | R11: =P11+1 -> 42409 | T11: =R11+1 -> 42410 | V11: =T11+1 -> 42411 | X11: =V11+1 -> 42412 | Z11: =X11+1 -> 42413 | AB11: =Z11+1 -> 42414 | AD11: =AB11+1 -> 42415 | AF11: =AD11+1 -> 42416 | AH11: =AF11+1 -> 42417 | AJ11: =AH11+1 -> 42418 | AL11: =AJ11+1 -> 42419 | AN11: =AL11+1 -> 42420 | AP11: =AN11+1 -> 42421 | AR11: =AP11+1 -> 42422 | AT11: =AR11+1 -> 42423 | AV11: =AT11+1 -> 42424 | AX11: =AV11+1 -> 42425 | AZ11: =AX11+1 -> 42426 | BB11: =AZ11+1 -> 42427 | BD11: =BB11+1 -> 42428 | BF11: =IF(MONTH(BD11+1)=2,BD11+1,"") -> 42429 | BL11: TOTAL HEURES | BM11: TOTAL FRAIS ENTRETIEN
A12: ENFANT 1 | C12: =IF(OR(B12="",B12=0),0,IF(B12*24>8,2.99,2.65)) -> 0 | E12: =IF(OR(D12="",D12=0),0,IF(D12*24>8,2.99,2.65)) -> 0 | G12: =IF(OR(F12="",F12=0),0,IF(F12*24>8,2.99,2.65)) -> 0 | I12: =IF(OR(H12="",H12=0),0,IF(H12*24>8,2.99,2.65)) -> 0 | K12: =IF(OR(J12="",J12=0),0,IF(J12*24>8,2.99,2.65)) -> 0 | M12: =IF(OR(L12="",L12=0),0,IF(L12*24>8,2.99,2.65)) -> 0 | O12: =IF(OR(N12="",N12=0),0,IF(N12*24>8,2.99,2.65)) -> 0 | Q12: =IF(OR(P12="",P12=0),0,IF(P12*24>8,2.99,2.65)) -> 0 | S12: =IF(OR(R12="",R12=0),0,IF(R12*24>8,2.99,2.65)) -> 0 | U12: =IF(OR(T12="",T12=0),0,IF(T12*24>8,2.99,2.65)) -> 0 | W12: =IF(OR(V12="",V12=0),0,IF(V12*24>8,2.99,2.65)) -> 0 | Y12: =IF(OR(X12="",X12=0),0,IF(X12*24>8,2.99,2.65)) -> 0 | AA12: =IF(OR(Z12="",Z12=0),0,IF(Z12*24>8,2.99,2.65)) -> 0 | AC12: =IF(OR(AB12="",AB12=0),0,IF(AB12*24>8,2.99,2.65)) -> 0 | AE12: =IF(OR(AD12="",AD12=0),0,IF(AD12*24>8,2.99,2.65)) -> 0 | AG12: =IF(OR(AF12="",AF12=0),0,IF(AF12*24>8,2.99,2.65)) -> 0 | AI12: =IF(OR(AH12="",AH12=0),0,IF(AH12*24>8,2.99,2.65)) -> 0 | AK12: =IF(OR(AJ12="",AJ12=0),0,IF(AJ12*24>8,2.99,2.65)) -> 0 | AM12: =IF(OR(AL12="",AL12=0),0,IF(AL12*24>8,2.99,2.65)) -> 0 | AO12: =IF(OR(AN12="",AN12=0),0,IF(AN12*24>8,2.99,2.65)) -> 0 | AQ12: =IF(OR(AP12="",AP12=0),0,IF(AP12*24>8,2.99,2.65)) -> 0 | AS12: =IF(OR(AR12="",AR12=0),0,IF(AR12*24>8,2.99,2.65)) -> 0 | AU12: =IF(OR(AT12="",AT12=0),0,IF(AT12*24>8,2.99,2.65)) -> 0 | AW12: =IF(OR(AV12="",AV12=0),0,IF(AV12*24>8,2.99,2.65)) -> 0 | AY12: =IF(OR(AX12="",AX12=0),0,IF(AX12*24>8,2.99,2.65)) -> 0 | BA12: =IF(OR(AZ12="",AZ12=0),0,IF(AZ12*24>8,2.99,2.65)) -> 0 | BC12: =IF(OR(BB12="",BB12=0),0,IF(BB12*24>8,2.99,2.65)) -> 0 | BE12: =IF(OR(BD12="",BD12=0),0,IF(BD12*24>8,2.99,2.65)) -> 0 | BG12: =IF(OR(BF12="",BF12=0),0,IF(BF12*24>8,2.99,2.65)) -> 0 | BL12: =IFERROR(SUMPRODUCT((MOD(COLUMN(B12:BK12),2)=0)*(B12:BK12)),"") -> 0 | BM12: =IFERROR(SUMPRODUCT((MOD(COLUMN(B12:BK12),2)<>0)*(B12:BK12)),"") -> 0
A13: ENFANT 2 | C13: =IF(OR(B13="",B13=0),0,IF(B13*24>8,2.99,2.65)) -> 0 | E13: =IF(OR(D13="",D13=0),0,IF(D13*24>8,2.99,2.65)) -> 0 | G13: =IF(OR(F13="",F13=0),0,IF(F13*24>8,2.99,2.65)) -> 0 | I13: =IF(OR(H13="",H13=0),0,IF(H13*24>8,2.99,2.65)) -> 0 | K13: =IF(OR(J13="",J13=0),0,IF(J13*24>8,2.99,2.65)) -> 0 | M13: =IF(OR(L13="",L13=0),0,IF(L13*24>8,2.99,2.65)) -> 0 | O13: =IF(OR(N13="",N13=0),0,IF(N13*24>8,2.99,2.65)) -> 0 | Q13: =IF(OR(P13="",P13=0),0,IF(P13*24>8,2.99,2.65)) -> 0 | S13: =IF(OR(R13="",R13=0),0,IF(R13*24>8,2.99,2.65)) -> 0 | U13: =IF(OR(T13="",T13=0),0,IF(T13*24>8,2.99,2.65)) -> 0 | W13: =IF(OR(V13="",V13=0),0,IF(V13*24>8,2.99,2.65)) -> 0 | Y13: =IF(OR(X13="",X13=0),0,IF(X13*24>8,2.99,2.65)) -> 0 | AA13: =IF(OR(Z13="",Z13=0),0,IF(Z13*24>8,2.99,2.65)) -> 0 | AC13: =IF(OR(AB13="",AB13=0),0,IF(AB13*24>8,2.99,2.65)) -> 0 | AE13: =IF(OR(AD13="",AD13=0),0,IF(AD13*24>8,2.99,2.65)) -> 0 | AG13: =IF(OR(AF13="",AF13=0),0,IF(AF13*24>8,2.99,2.65)) -> 0 | AI13: =IF(OR(AH13="",AH13=0),0,IF(AH13*24>8,2.99,2.65)) -> 0 | AK13: =IF(OR(AJ13="",AJ13=0),0,IF(AJ13*24>8,2.99,2.65)) -> 0 | AM13: =IF(OR(AL13="",AL13=0),0,IF(AL13*24>8,2.99,2.65)) -> 0 | AO13: =IF(OR(AN13="",AN13=0),0,IF(AN13*24>8,2.99,2.65)) -> 0 | AQ13: =IF(OR(AP13="",AP13=0),0,IF(AP13*24>8,2.99,2.65)) -> 0 | AS13: =IF(OR(AR13="",AR13=0),0,IF(AR13*24>8,2.99,2.65)) -> 0 | AU13: =IF(OR(AT13="",AT13=0),0,IF(AT13*24>8,2.99,2.65)) -> 0 | AW13: =IF(OR(AV13="",AV13=0),0,IF(AV13*24>8,2.99,2.65)) -> 0 | AY13: =IF(OR(AX13="",AX13=0),0,IF(AX13*24>8,2.99,2.65)) -> 0 | BA13: =IF(OR(AZ13="",AZ13=0),0,IF(AZ13*24>8,2.99,2.65)) -> 0 | BC13: =IF(OR(BB13="",BB13=0),0,IF(BB13*24>8,2.99,2.65)) -> 0 | BE13: =IF(OR(BD13="",BD13=0),0,IF(BD13*24>8,2.99,2.65)) -> 0 | BG13: =IF(OR(BF13="",BF13=0),0,IF(BF13*24>8,2.99,2.65)) -> 0 | BL13: =IFERROR(SUMPRODUCT((MOD(COLUMN(B13:BK13),2)=0)*(B13:BK13)),"") -> 0 | BM13: =IFERROR(SUMPRODUCT((MOD(COLUMN(B13:BK13),2)<>0)*(B13:BK13)),"") -> 0
A14: ENFANT 3 | C14: =IF(OR(B14="",B14=0),0,IF(B14*24>8,2.99,2.65)) -> 0 | E14: =IF(OR(D14="",D14=0),0,IF(D14*24>8,2.99,2.65)) -> 0 | G14: =IF(OR(F14="",F14=0),0,IF(F14*24>8,2.99,2.65)) -> 0 | I14: =IF(OR(H14="",H14=0),0,IF(H14*24>8,2.99,2.65)) -> 0 | K14: =IF(OR(J14="",J14=0),0,IF(J14*24>8,2.99,2.65)) -> 0 | M14: =IF(OR(L14="",L14=0),0,IF(L14*24>8,2.99,2.65)) -> 0 | O14: =IF(OR(N14="",N14=0),0,IF(N14*24>8,2.99,2.65)) -> 0 | Q14: =IF(OR(P14="",P14=0),0,IF(P14*24>8,2.99,2.65)) -> 0 | S14: =IF(OR(R14="",R14=0),0,IF(R14*24>8,2.99,2.65)) -> 0 | U14: =IF(OR(T14="",T14=0),0,IF(T14*24>8,2.99,2.65)) -> 0 | W14: =IF(OR(V14="",V14=0),0,IF(V14*24>8,2.99,2.65)) -> 0 | Y14: =IF(OR(X14="",X14=0),0,IF(X14*24>8,2.99,2.65)) -> 0 | AA14: =IF(OR(Z14="",Z14=0),0,IF(Z14*24>8,2.99,2.65)) -> 0 | AC14: =IF(OR(AB14="",AB14=0),0,IF(AB14*24>8,2.99,2.65)) -> 0 | AE14: =IF(OR(AD14="",AD14=0),0,IF(AD14*24>8,2.99,2.65)) -> 0 | AG14: =IF(OR(AF14="",AF14=0),0,IF(AF14*24>8,2.99,2.65)) -> 0 | AI14: =IF(OR(AH14="",AH14=0),0,IF(AH14*24>8,2.99,2.65)) -> 0 | AK14: =IF(OR(AJ14="",AJ14=0),0,IF(AJ14*24>8,2.99,2.65)) -> 0 | AM14: =IF(OR(AL14="",AL14=0),0,IF(AL14*24>8,2.99,2.65)) -> 0 | AO14: =IF(OR(AN14="",AN14=0),0,IF(AN14*24>8,2.99,2.65)) -> 0 | AQ14: =IF(OR(AP14="",AP14=0),0,IF(AP14*24>8,2.99,2.65)) -> 0 | AS14: =IF(OR(AR14="",AR14=0),0,IF(AR14*24>8,2.99,2.65)) -> 0 | AU14: =IF(OR(AT14="",AT14=0),0,IF(AT14*24>8,2.99,2.65)) -> 0 | AW14: =IF(OR(AV14="",AV14=0),0,IF(AV14*24>8,2.99,2.65)) -> 0 | AY14: =IF(OR(AX14="",AX14=0),0,IF(AX14*24>8,2.99,2.65)) -> 0 | BA14: =IF(OR(AZ14="",AZ14=0),0,IF(AZ14*24>8,2.99,2.65)) -> 0 | BC14: =IF(OR(BB14="",BB14=0),0,IF(BB14*24>8,2.99,2.65)) -> 0 | BE14: =IF(OR(BD14="",BD14=0),0,IF(BD14*24>8,2.99,2.65)) -> 0 | BG14: =IF(OR(BF14="",BF14=0),0,IF(BF14*24>8,2.99,2.65)) -> 0 | BL14: =IFERROR(SUMPRODUCT((MOD(COLUMN(B14:BK14),2)=0)*(B14:BK14)),"") -> 0 | BM14: =IFERROR(SUMPRODUCT((MOD(COLUMN(B14:BK14),2)<>0)*(B14:BK14)),"") -> 0
A15: ENFANT 4 | C15: =IF(OR(B15="",B15=0),0,IF(B15*24>8,2.99,2.65)) -> 0 | E15: =IF(OR(D15="",D15=0),0,IF(D15*24>8,2.99,2.65)) -> 0 | G15: =IF(OR(F15="",F15=0),0,IF(F15*24>8,2.99,2.65)) -> 0 | I15: =IF(OR(H15="",H15=0),0,IF(H15*24>8,2.99,2.65)) -> 0 | K15: =IF(OR(J15="",J15=0),0,IF(J15*24>8,2.99,2.65)) -> 0 | M15: =IF(OR(L15="",L15=0),0,IF(L15*24>8,2.99,2.65)) -> 0 | O15: =IF(OR(N15="",N15=0),0,IF(N15*24>8,2.99,2.65)) -> 0 | Q15: =IF(OR(P15="",P15=0),0,IF(P15*24>8,2.99,2.65)) -> 0 | S15: =IF(OR(R15="",R15=0),0,IF(R15*24>8,2.99,2.65)) -> 0 | U15: =IF(OR(T15="",T15=0),0,IF(T15*24>8,2.99,2.65)) -> 0 | W15: =IF(OR(V15="",V15=0),0,IF(V15*24>8,2.99,2.65)) -> 0 | Y15: =IF(OR(X15="",X15=0),0,IF(X15*24>8,2.99,2.65)) -> 0 | AA15: =IF(OR(Z15="",Z15=0),0,IF(Z15*24>8,2.99,2.65)) -> 0 | AC15: =IF(OR(AB15="",AB15=0),0,IF(AB15*24>8,2.99,2.65)) -> 0 | AE15: =IF(OR(AD15="",AD15=0),0,IF(AD15*24>8,2.99,2.65)) -> 0 | AG15: =IF(OR(AF15="",AF15=0),0,IF(AF15*24>8,2.99,2.65)) -> 0 | AI15: =IF(OR(AH15="",AH15=0),0,IF(AH15*24>8,2.99,2.65)) -> 0 | AK15: =IF(OR(AJ15="",AJ15=0),0,IF(AJ15*24>8,2.99,2.65)) -> 0 | AM15: =IF(OR(AL15="",AL15=0),0,IF(AL15*24>8,2.99,2.65)) -> 0 | AO15: =IF(OR(AN15="",AN15=0),0,IF(AN15*24>8,2.99,2.65)) -> 0 | AQ15: =IF(OR(AP15="",AP15=0),0,IF(AP15*24>8,2.99,2.65)) -> 0 | AS15: =IF(OR(AR15="",AR15=0),0,IF(AR15*24>8,2.99,2.65)) -> 0 | AU15: =IF(OR(AT15="",AT15=0),0,IF(AT15*24>8,2.99,2.65)) -> 0 | AW15: =IF(OR(AV15="",AV15=0),0,IF(AV15*24>8,2.99,2.65)) -> 0 | AY15: =IF(OR(AX15="",AX15=0),0,IF(AX15*24>8,2.99,2.65)) -> 0 | BA15: =IF(OR(AZ15="",AZ15=0),0,IF(AZ15*24>8,2.99,2.65)) -> 0 | BC15: =IF(OR(BB15="",BB15=0),0,IF(BB15*24>8,2.99,2.65)) -> 0 | BE15: =IF(OR(BD15="",BD15=0),0,IF(BD15*24>8,2.99,2.65)) -> 0 | BG15: =IF(OR(BF15="",BF15=0),0,IF(BF15*24>8,2.99,2.65)) -> 0 | BL15: =IFERROR(SUMPRODUCT((MOD(COLUMN(B15:BK15),2)=0)*(B15:BK15)),"") -> 0 | BM15: =IFERROR(SUMPRODUCT((MOD(COLUMN(B15:BK15),2)<>0)*(B15:BK15)),"") -> 0
A16: ENFANT 5 | C16: =IF(OR(B16="",B16=0),0,IF(B16*24>8,2.99,2.65)) -> 0 | E16: =IF(OR(D16="",D16=0),0,IF(D16*24>8,2.99,2.65)) -> 0 | G16: =IF(OR(F16="",F16=0),0,IF(F16*24>8,2.99,2.65)) -> 0 | I16: =IF(OR(H16="",H16=0),0,IF(H16*24>8,2.99,2.65)) -> 0 | K16: =IF(OR(J16="",J16=0),0,IF(J16*24>8,2.99,2.65)) -> 0 | M16: =IF(OR(L16="",L16=0),0,IF(L16*24>8,2.99,2.65)) -> 0 | O16: =IF(OR(N16="",N16=0),0,IF(N16*24>8,2.99,2.65)) -> 0 | Q16: =IF(OR(P16="",P16=0),0,IF(P16*24>8,2.99,2.65)) -> 0 | S16: =IF(OR(R16="",R16=0),0,IF(R16*24>8,2.99,2.65)) -> 0 | U16: =IF(OR(T16="",T16=0),0,IF(T16*24>8,2.99,2.65)) -> 0 | W16: =IF(OR(V16="",V16=0),0,IF(V16*24>8,2.99,2.65)) -> 0 | Y16: =IF(OR(X16="",X16=0),0,IF(X16*24>8,2.99,2.65)) -> 0 | AA16: =IF(OR(Z16="",Z16=0),0,IF(Z16*24>8,2.99,2.65)) -> 0 | AC16: =IF(OR(AB16="",AB16=0),0,IF(AB16*24>8,2.99,2.65)) -> 0 | AE16: =IF(OR(AD16="",AD16=0),0,IF(AD16*24>8,2.99,2.65)) -> 0 | AG16: =IF(OR(AF16="",AF16=0),0,IF(AF16*24>8,2.99,2.65)) -> 0 | AI16: =IF(OR(AH16="",AH16=0),0,IF(AH16*24>8,2.99,2.65)) -> 0 | AK16: =IF(OR(AJ16="",AJ16=0),0,IF(AJ16*24>8,2.99,2.65)) -> 0 | AM16: =IF(OR(AL16="",AL16=0),0,IF(AL16*24>8,2.99,2.65)) -> 0 | AO16: =IF(OR(AN16="",AN16=0),0,IF(AN16*24>8,2.99,2.65)) -> 0 | AQ16: =IF(OR(AP16="",AP16=0),0,IF(AP16*24>8,2.99,2.65)) -> 0 | AS16: =IF(OR(AR16="",AR16=0),0,IF(AR16*24>8,2.99,2.65)) -> 0 | AU16: =IF(OR(AT16="",AT16=0),0,IF(AT16*24>8,2.99,2.65)) -> 0 | AW16: =IF(OR(AV16="",AV16=0),0,IF(AV16*24>8,2.99,2.65)) -> 0 | AY16: =IF(OR(AX16="",AX16=0),0,IF(AX16*24>8,2.99,2.65)) -> 0 | BA16: =IF(OR(AZ16="",AZ16=0),0,IF(AZ16*24>8,2.99,2.65)) -> 0 | BC16: =IF(OR(BB16="",BB16=0),0,IF(BB16*24>8,2.99,2.65)) -> 0 | BE16: =IF(OR(BD16="",BD16=0),0,IF(BD16*24>8,2.99,2.65)) -> 0 | BG16: =IF(OR(BF16="",BF16=0),0,IF(BF16*24>8,2.99,2.65)) -> 0 | BL16: =IFERROR(SUMPRODUCT((MOD(COLUMN(B16:BK16),2)=0)*(B16:BK16)),"") -> 0 | BM16: =IFERROR(SUMPRODUCT((MOD(COLUMN(B16:BK16),2)<>0)*(B16:BK16)),"") -> 0
B17: =SUM(B12:B16) -> 0 | C17: =SUM(C12:C16) -> 0 | D17: =SUM(D12:D16) -> 0 | E17: =SUM(E12:E16) -> 0 | F17: =SUM(F12:F16) -> 0 | G17: =SUM(G12:G16) -> 0 | H17: =SUM(H12:H16) -> 0 | I17: =SUM(I12:I16) -> 0 | ... BK17: =SUM(BK12:BK16) -> 0 | BL17: =IFERROR(SUMPRODUCT((MOD(COLUMN(B17:BK17),2)=0)*(B17:BK17)),"") -> 0 | BM17: =IFERROR(SUMPRODUCT((MOD(COLUMN(B17:BK17),2)<>0)*(B17:BK17)),"") -> 0
A18: MOIS DE MARS
B19: =DATE($A$1,3,1) -> 42430 | D19: =B19+1 -> 42431 | F19: =D19+1 -> 42432 | H19: =F19+1 -> 42433 | J19: =H19+1 -> 42434 | L19: =J19+1 -> 42435 | N19: =L19+1 -> 42436 | P19: =N19+1 -> 42437 | R19: =P19+1 -> 42438 | T19: =R19+1 -> 42439 | V19: =T19+1 -> 42440 | X19: =V19+1 -> 42441 | Z19: =X19+1 -> 42442 | AB19: =Z19+1 -> 42443 | AD19: =AB19+1 -> 42444 | AF19: =AD19+1 -> 42445 | AH19: =AF19+1 -> 42446 | AJ19: =AH19+1 -> 42447 | AL19: =AJ19+1 -> 42448 | AN19: =AL19+1 -> 42449 | AP19: =AN19+1 -> 42450 | AR19: =AP19+1 -> 42451 | AT19: =AR19+1 -> 42452 | AV19: =AT19+1 -> 42453 | AX19: =AV19+1 -> 42454 | AZ19: =AX19+1 -> 42455 | BB19: =AZ19+1 -> 42456 | BD19: =BB19+1 -> 42457 | BF19: =BD19+1 -> 42458 | BH19: =BF19+1 -> 42459 | BJ19: =BH19+1 -> 42460 | BL19: TOTAL HEURES | BM19: TOTAL FRAIS ENTRETIEN
A20: ENFANT 1 | C20: =IF(OR(B20="",B20=0),0,IF(B20*24>8,2.99,2.65)) -> 0 | E20: =IF(OR(D20="",D20=0),0,IF(D20*24>8,2.99,2.65)) -> 0 | G20: =IF(OR(F20="",F20=0),0,IF(F20*24>8,2.99,2.65)) -> 0 | I20: =IF(OR(H20="",H20=0),0,IF(H20*24>8,2.99,2.65)) -> 0 | K20: =IF(OR(J20="",J20=0),0,IF(J20*24>8,2.99,2.65)) -> 0 | M20: =IF(OR(L20="",L20=0),0,IF(L20*24>8,2.99,2.65)) -> 0 | O20: =IF(OR(N20="",N20=0),0,IF(N20*24>8,2.99,2.65)) -> 0 | Q20: =IF(OR(P20="",P20=0),0,IF(P20*24>8,2.99,2.65)) -> 0 | S20: =IF(OR(R20="",R20=0),0,IF(R20*24>8,2.99,2.65)) -> 0 | U20: =IF(OR(T20="",T20=0),0,IF(T20*24>8,2.99,2.65)) -> 0 | W20: =IF(OR(V20="",V20=0),0,IF(V20*24>8,2.99,2.65)) -> 0 | Y20: =IF(OR(X20="",X20=0),0,IF(X20*24>8,2.99,2.65)) -> 0 | AA20: =IF(OR(Z20="",Z20=0),0,IF(Z20*24>8,2.99,2.65)) -> 0 | AC20: =IF(OR(AB20="",AB20=0),0,IF(AB20*24>8,2.99,2.65)) -> 0 | AE20: =IF(OR(AD20="",AD20=0),0,IF(AD20*24>8,2.99,2.65)) -> 0 | AG20: =IF(OR(AF20="",AF20=0),0,IF(AF20*24>8,2.99,2.65)) -> 0 | AI20: =IF(OR(AH20="",AH20=0),0,IF(AH20*24>8,2.99,2.65)) -> 0 | AK20: =IF(OR(AJ20="",AJ20=0),0,IF(AJ20*24>8,2.99,2.65)) -> 0 | AM20: =IF(OR(AL20="",AL20=0),0,IF(AL20*24>8,2.99,2.65)) -> 0 | AO20: =IF(OR(AN20="",AN20=0),0,IF(AN20*24>8,2.99,2.65)) -> 0 | AQ20: =IF(OR(AP20="",AP20=0),0,IF(AP20*24>8,2.99,2.65)) -> 0 | AS20: =IF(OR(AR20="",AR20=0),0,IF(AR20*24>8,2.99,2.65)) -> 0 | AU20: =IF(OR(AT20="",AT20=0),0,IF(AT20*24>8,2.99,2.65)) -> 0 | AW20: =IF(OR(AV20="",AV20=0),0,IF(AV20*24>8,2.99,2.65)) -> 0 | AY20: =IF(OR(AX20="",AX20=0),0,IF(AX20*24>8,2.99,2.65)) -> 0 | BA20: =IF(OR(AZ20="",AZ20=0),0,IF(AZ20*24>8,2.99,2.65)) -> 0 | BC20: =IF(OR(BB20="",BB20=0),0,IF(BB20*24>8,2.99,2.65)) -> 0 | BE20: =IF(OR(BD20="",BD20=0),0,IF(BD20*24>8,2.99,2.65)) -> 0 | BG20: =IF(OR(BF20="",BF20=0),0,IF(BF20*24>8,2.99,2.65)) -> 0 | BI20: =IF(OR(BH20="",BH20=0),0,IF(BH20*24>8,2.99,2.65)) -> 0 | BK20: =IF(OR(BJ20="",BJ20=0),0,IF(BJ20*24>8,2.99,2.65)) -> 0 | BL20: =IFERROR(SUMPRODUCT((MOD(COLUMN(B20:BK20),2)=0)*(B20:BK20)),"") -> 0 | BM20: =IFERROR(SUMPRODUCT((MOD(COLUMN(B20:BK20),2)<>0)*(B20:BK20)),"") -> 0
A21: ENFANT 2 | C21: =IF(OR(B21="",B21=0),0,IF(B21*24>8,2.99,2.65)) -> 0 | E21: =IF(OR(D21="",D21=0),0,IF(D21*24>8,2.99,2.65)) -> 0 | G21: =IF(OR(F21="",F21=0),0,IF(F21*24>8,2.99,2.65)) -> 0 | I21: =IF(OR(H21="",H21=0),0,IF(H21*24>8,2.99,2.65)) -> 0 | K21: =IF(OR(J21="",J21=0),0,IF(J21*24>8,2.99,2.65)) -> 0 | M21: =IF(OR(L21="",L21=0),0,IF(L21*24>8,2.99,2.65)) -> 0 | O21: =IF(OR(N21="",N21=0),0,IF(N21*24>8,2.99,2.65)) -> 0 | Q21: =IF(OR(P21="",P21=0),0,IF(P21*24>8,2.99,2.65)) -> 0 | S21: =IF(OR(R21="",R21=0),0,IF(R21*24>8,2.99,2.65)) -> 0 | U21: =IF(OR(T21="",T21=0),0,IF(T21*24>8,2.99,2.65)) -> 0 | W21: =IF(OR(V21="",V21=0),0,IF(V21*24>8,2.99,2.65)) -> 0 | Y21: =IF(OR(X21="",X21=0),0,IF(X21*24>8,2.99,2.65)) -> 0 | AA21: =IF(OR(Z21="",Z21=0),0,IF(Z21*24>8,2.99,2.65)) -> 0 | AC21: =IF(OR(AB21="",AB21=0),0,IF(AB21*24>8,2.99,2.65)) -> 0 | AE21: =IF(OR(AD21="",AD21=0),0,IF(AD21*24>8,2.99,2.65)) -> 0 | AG21: =IF(OR(AF21="",AF21=0),0,IF(AF21*24>8,2.99,2.65)) -> 0 | AI21: =IF(OR(AH21="",AH21=0),0,IF(AH21*24>8,2.99,2.65)) -> 0 | AK21: =IF(OR(AJ21="",AJ21=0),0,IF(AJ21*24>8,2.99,2.65)) -> 0 | AM21: =IF(OR(AL21="",AL21=0),0,IF(AL21*24>8,2.99,2.65)) -> 0 | AO21: =IF(OR(AN21="",AN21=0),0,IF(AN21*24>8,2.99,2.65)) -> 0 | AQ21: =IF(OR(AP21="",AP21=0),0,IF(AP21*24>8,2.99,2.65)) -> 0 | AS21: =IF(OR(AR21="",AR21=0),0,IF(AR21*24>8,2.99,2.65)) -> 0 | AU21: =IF(OR(AT21="",AT21=0),0,IF(AT21*24>8,2.99,2.65)) -> 0 | AW21: =IF(OR(AV21="",AV21=0),0,IF(AV21*24>8,2.99,2.65)) -> 0 | AY21: =IF(OR(AX21="",AX21=0),0,IF(AX21*24>8,2.99,2.65)) -> 0 | BA21: =IF(OR(AZ21="",AZ21=0),0,IF(AZ21*24>8,2.99,2.65)) -> 0 | BC21: =IF(OR(BB21="",BB21=0),0,IF(BB21*24>8,2.99,2.65)) -> 0 | BE21: =IF(OR(BD21="",BD21=0),0,IF(BD21*24>8,2.99,2.65)) -> 0 | BG21: =IF(OR(BF21="",BF21=0),0,IF(BF21*24>8,2.99,2.65)) -> 0 | BI21: =IF(OR(BH21="",BH21=0),0,IF(BH21*24>8,2.99,2.65)) -> 0 | BK21: =IF(OR(BJ21="",BJ21=0),0,IF(BJ21*24>8,2.99,2.65)) -> 0 | BL21: =IFERROR(SUMPRODUCT((MOD(COLUMN(B21:BK21),2)=0)*(B21:BK21)),"") -> 0 | BM21: =IFERROR(SUMPRODUCT((MOD(COLUMN(B21:BK21),2)<>0)*(B21:BK21)),"") -> 0
A22: ENFANT 3 | C22: =IF(OR(B22="",B22=0),0,IF(B22*24>8,2.99,2.65)) -> 0 | E22: =IF(OR(D22="",D22=0),0,IF(D22*24>8,2.99,2.65)) -> 0 | G22: =IF(OR(F22="",F22=0),0,IF(F22*24>8,2.99,2.65)) -> 0 | I22: =IF(OR(H22="",H22=0),0,IF(H22*24>8,2.99,2.65)) -> 0 | K22: =IF(OR(J22="",J22=0),0,IF(J22*24>8,2.99,2.65)) -> 0 | M22: =IF(OR(L22="",L22=0),0,IF(L22*24>8,2.99,2.65)) -> 0 | O22: =IF(OR(N22="",N22=0),0,IF(N22*24>8,2.99,2.65)) -> 0 | Q22: =IF(OR(P22="",P22=0),0,IF(P22*24>8,2.99,2.65)) -> 0 | S22: =IF(OR(R22="",R22=0),0,IF(R22*24>8,2.99,2.65)) -> 0 | U22: =IF(OR(T22="",T22=0),0,IF(T22*24>8,2.99,2.65)) -> 0 | W22: =IF(OR(V22="",V22=0),0,IF(V22*24>8,2.99,2.65)) -> 0 | Y22: =IF(OR(X22="",X22=0),0,IF(X22*24>8,2.99,2.65)) -> 0 | AA22: =IF(OR(Z22="",Z22=0),0,IF(Z22*24>8,2.99,2.65)) -> 0 | AC22: =IF(OR(AB22="",AB22=0),0,IF(AB22*24>8,2.99,2.65)) -> 0 | AE22: =IF(OR(AD22="",AD22=0),0,IF(AD22*24>8,2.99,2.65)) -> 0 | AG22: =IF(OR(AF22="",AF22=0),0,IF(AF22*24>8,2.99,2.65)) -> 0 | AI22: =IF(OR(AH22="",AH22=0),0,IF(AH22*24>8,2.99,2.65)) -> 0 | AK22: =IF(OR(AJ22="",AJ22=0),0,IF(AJ22*24>8,2.99,2.65)) -> 0 | AM22: =IF(OR(AL22="",AL22=0),0,IF(AL22*24>8,2.99,2.65)) -> 0 | AO22: =IF(OR(AN22="",AN22=0),0,IF(AN22*24>8,2.99,2.65)) -> 0 | AQ22: =IF(OR(AP22="",AP22=0),0,IF(AP22*24>8,2.99,2.65)) -> 0 | AS22: =IF(OR(AR22="",AR22=0),0,IF(AR22*24>8,2.99,2.65)) -> 0 | AU22: =IF(OR(AT22="",AT22=0),0,IF(AT22*24>8,2.99,2.65)) -> 0 | AW22: =IF(OR(AV22="",AV22=0),0,IF(AV22*24>8,2.99,2.65)) -> 0 | AY22: =IF(OR(AX22="",AX22=0),0,IF(AX22*24>8,2.99,2.65)) -> 0 | BA22: =IF(OR(AZ22="",AZ22=0),0,IF(AZ22*24>8,2.99,2.65)) -> 0 | BC22: =IF(OR(BB22="",BB22=0),0,IF(BB22*24>8,2.99,2.65)) -> 0 | BE22: =IF(OR(BD22="",BD22=0),0,IF(BD22*24>8,2.99,2.65)) -> 0 | BG22: =IF(OR(BF22="",BF22=0),0,IF(BF22*24>8,2.99,2.65)) -> 0 | BI22: =IF(OR(BH22="",BH22=0),0,IF(BH22*24>8,2.99,2.65)) -> 0 | BK22: =IF(OR(BJ22="",BJ22=0),0,IF(BJ22*24>8,2.99,2.65)) -> 0 | BL22: =IFERROR(SUMPRODUCT((MOD(COLUMN(B22:BK22),2)=0)*(B22:BK22)),"") -> 0 | BM22: =IFERROR(SUMPRODUCT((MOD(COLUMN(B22:BK22),2)<>0)*(B22:BK22)),"") -> 0
A23: ENFANT 4 | C23: =IF(OR(B23="",B23=0),0,IF(B23*24>8,2.99,2.65)) -> 0 | E23: =IF(OR(D23="",D23=0),0,IF(D23*24>8,2.99,2.65)) -> 0 | G23: =IF(OR(F23="",F23=0),0,IF(F23*24>8,2.99,2.65)) -> 0 | I23: =IF(OR(H23="",H23=0),0,IF(H23*24>8,2.99,2.65)) -> 0 | K23: =IF(OR(J23="",J23=0),0,IF(J23*24>8,2.99,2.65)) -> 0 | M23: =IF(OR(L23="",L23=0),0,IF(L23*24>8,2.99,2.65)) -> 0 | O23: =IF(OR(N23="",N23=0),0,IF(N23*24>8,2.99,2.65)) -> 0 | Q23: =IF(OR(P23="",P23=0),0,IF(P23*24>8,2.99,2.65)) -> 0 | S23: =IF(OR(R23="",R23=0),0,IF(R23*24>8,2.99,2.65)) -> 0 | U23: =IF(OR(T23="",T23=0),0,IF(T23*24>8,2.99,2.65)) -> 0 | W23: =IF(OR(V23="",V23=0),0,IF(V23*24>8,2.99,2.65)) -> 0 | Y23: =IF(OR(X23="",X23=0),0,IF(X23*24>8,2.99,2.65)) -> 0 | AA23: =IF(OR(Z23="",Z23=0),0,IF(Z23*24>8,2.99,2.65)) -> 0 | AC23: =IF(OR(AB23="",AB23=0),0,IF(AB23*24>8,2.99,2.65)) -> 0 | AE23: =IF(OR(AD23="",AD23=0),0,IF(AD23*24>8,2.99,2.65)) -> 0 | AG23: =IF(OR(AF23="",AF23=0),0,IF(AF23*24>8,2.99,2.65)) -> 0 | AI23: =IF(OR(AH23="",AH23=0),0,IF(AH23*24>8,2.99,2.65)) -> 0 | AK23: =IF(OR(AJ23="",AJ23=0),0,IF(AJ23*24>8,2.99,2.65)) -> 0 | AM23: =IF(OR(AL23="",AL23=0),0,IF(AL23*24>8,2.99,2.65)) -> 0 | AO23: =IF(OR(AN23="",AN23=0),0,IF(AN23*24>8,2.99,2.65)) -> 0 | AQ23: =IF(OR(AP23="",AP23=0),0,IF(AP23*24>8,2.99,2.65)) -> 0 | AS23: =IF(OR(AR23="",AR23=0),0,IF(AR23*24>8,2.99,2.65)) -> 0 | AU23: =IF(OR(AT23="",AT23=0),0,IF(AT23*24>8,2.99,2.65)) -> 0 | AW23: =IF(OR(AV23="",AV23=0),0,IF(AV23*24>8,2.99,2.65)) -> 0 | AY23: =IF(OR(AX23="",AX23=0),0,IF(AX23*24>8,2.99,2.65)) -> 0 | BA23: =IF(OR(AZ23="",AZ23=0),0,IF(AZ23*24>8,2.99,2.65)) -> 0 | BC23: =IF(OR(BB23="",BB23=0),0,IF(BB23*24>8,2.99,2.65)) -> 0 | BE23: =IF(OR(BD23="",BD23=0),0,IF(BD23*24>8,2.99,2.65)) -> 0 | BG23: =IF(OR(BF23="",BF23=0),0,IF(BF23*24>8,2.99,2.65)) -> 0 | BI23: =IF(OR(BH23="",BH23=0),0,IF(BH23*24>8,2.99,2.65)) -> 0 | BK23: =IF(OR(BJ23="",BJ23=0),0,IF(BJ23*24>8,2.99,2.65)) -> 0 | BL23: =IFERROR(SUMPRODUCT((MOD(COLUMN(B23:BK23),2)=0)*(B23:BK23)),"") -> 0 | BM23: =IFERROR(SUMPRODUCT((MOD(COLUMN(B23:BK23),2)<>0)*(B23:BK23)),"") -> 0
A24: ENFANT 5 | C24: =IF(OR(B24="",B24=0),0,IF(B24*24>8,2.99,2.65)) -> 0 | E24: =IF(OR(D24="",D24=0),0,IF(D24*24>8,2.99,2.65)) -> 0 | G24: =IF(OR(F24="",F24=0),0,IF(F24*24>8,2.99,2.65)) -> 0 | I24: =IF(OR(H24="",H24=0),0,IF(H24*24>8,2.99,2.65)) -> 0 | K24: =IF(OR(J24="",J24=0),0,IF(J24*24>8,2.99,2.65)) -> 0 | M24: =IF(OR(L24="",L24=0),0,IF(L24*24>8,2.99,2.65)) -> 0 | O24: =IF(OR(N24="",N24=0),0,IF(N24*24>8,2.99,2.65)) -> 0 | Q24: =IF(OR(P24="",P24=0),0,IF(P24*24>8,2.99,2.65)) -> 0 | S24: =IF(OR(R24="",R24=0),0,IF(R24*24>8,2.99,2.65)) -> 0 | U24: =IF(OR(T24="",T24=0),0,IF(T24*24>8,2.99,2.65)) -> 0 | W24: =IF(OR(V24="",V24=0),0,IF(V24*24>8,2.99,2.65)) -> 0 | Y24: =IF(OR(X24="",X24=0),0,IF(X24*24>8,2.99,2.65)) -> 0 | AA24: =IF(OR(Z24="",Z24=0),0,IF(Z24*24>8,2.99,2.65)) -> 0 | AC24: =IF(OR(AB24="",AB24=0),0,IF(AB24*24>8,2.99,2.65)) -> 0 | AE24: =IF(OR(AD24="",AD24=0),0,IF(AD24*24>8,2.99,2.65)) -> 0 | AG24: =IF(OR(AF24="",AF24=0),0,IF(AF24*24>8,2.99,2.65)) -> 0 | AI24: =IF(OR(AH24="",AH24=0),0,IF(AH24*24>8,2.99,2.65)) -> 0 | AK24: =IF(OR(AJ24="",AJ24=0),0,IF(AJ24*24>8,2.99,2.65)) -> 0 | AM24: =IF(OR(AL24="",AL24=0),0,IF(AL24*24>8,2.99,2.65)) -> 0 | AO24: =IF(OR(AN24="",AN24=0),0,IF(AN24*24>8,2.99,2.65)) -> 0 | AQ24: =IF(OR(AP24="",AP24=0),0,IF(AP24*24>8,2.99,2.65)) -> 0 | AS24: =IF(OR(AR24="",AR24=0),0,IF(AR24*24>8,2.99,2.65)) -> 0 | AU24: =IF(OR(AT24="",AT24=0),0,IF(AT24*24>8,2.99,2.65)) -> 0 | AW24: =IF(OR(AV24="",AV24=0),0,IF(AV24*24>8,2.99,2.65)) -> 0 | AY24: =IF(OR(AX24="",AX24=0),0,IF(AX24*24>8,2.99,2.65)) -> 0 | BA24: =IF(OR(AZ24="",AZ24=0),0,IF(AZ24*24>8,2.99,2.65)) -> 0 | BC24: =IF(OR(BB24="",BB24=0),0,IF(BB24*24>8,2.99,2.65)) -> 0 | BE24: =IF(OR(BD24="",BD24=0),0,IF(BD24*24>8,2.99,2.65)) -> 0 | BG24: =IF(OR(BF24="",BF24=0),0,IF(BF24*24>8,2.99,2.65)) -> 0 | BI24: =IF(OR(BH24="",BH24=0),0,IF(BH24*24>8,2.99,2.65)) -> 0 | BK24: =IF(OR(BJ24="",BJ24=0),0,IF(BJ24*24>8,2.99,2.65)) -> 0 | BL24: =IFERROR(SUMPRODUCT((MOD(COLUMN(B24:BK24),2)=0)*(B24:BK24)),"") -> 0 | BM24: =IFERROR(SUMPRODUCT((MOD(COLUMN(B24:BK24),2)<>0)*(B24:BK24)),"") -> 0
B25: =SUM(B20:B24) -> 0 | C25: =SUM(C20:C24) -> 0 | D25: =SUM(D20:D24) -> 0 | E25: =SUM(E20:E24) -> 0 | F25: =SUM(F20:F24) -> 0 | G25: =SUM(G20:G24) -> 0 | H25: =SUM(H20:H24) -> 0 | I25: =SUM(I20:I24) -> 0 | ... BK25: =SUM(BK20:BK24) -> 0 | BL25: =IFERROR(SUMPRODUCT((MOD(COLUMN(B25:BK25),2)=0)*(B25:BK25)),"") -> 0 | BM25: =IFERROR(SUMPRODUCT((MOD(COLUMN(B25:BK25),2)<>0)*(B25:BK25)),"") -> 0
A26: MOIS DE AVRIL
B27: =DATE($A$1,4,1) -> 42461 | D27: =B27+1 -> 42462 | F27: =D27+1 -> 42463 | H27: =F27+1 -> 42464 | J27: =H27+1 -> 42465 | L27: =J27+1 -> 42466 | N27: =L27+1 -> 42467 | P27: =N27+1 -> 42468 | R27: =P27+1 -> 42469 | T27: =R27+1 -> 42470 | V27: =T27+1 -> 42471 | X27: =V27+1 -> 42472 | Z27: =X27+1 -> 42473 | AB27: =Z27+1 -> 42474 | AD27: =AB27+1 -> 42475 | AF27: =AD27+1 -> 42476 | AH27: =AF27+1 -> 42477 | AJ27: =AH27+1 -> 42478 | AL27: =AJ27+1 -> 42479 | AN27: =AL27+1 -> 42480 | AP27: =AN27+1 -> 42481 | AR27: =AP27+1 -> 42482 | AT27: =AR27+1 -> 42483 | AV27: =AT27+1 -> 42484 | AX27: =AV27+1 -> 42485 | AZ27: =AX27+1 -> 42486 | BB27: =AZ27+1 -> 42487 | BD27: =BB27+1 -> 42488 | BF27: =BD27+1 -> 42489 | BH27: =BF27+1 -> 42490 | BL27: TOTAL HEURES | BM27: TOTAL FRAIS ENTRETIEN
A28: ENFANT 1 | C28: =IF(OR(B28="",B28=0),0,IF(B28*24>8,2.99,2.65)) -> 0 | E28: =IF(OR(D28="",D28=0),0,IF(D28*24>8,2.99,2.65)) -> 0 | G28: =IF(OR(F28="",F28=0),0,IF(F28*24>8,2.99,2.65)) -> 0 | I28: =IF(OR(H28="",H28=0),0,IF(H28*24>8,2.99,2.65)) -> 0 | K28: =IF(OR(J28="",J28=0),0,IF(J28*24>8,2.99,2.65)) -> 0 | M28: =IF(OR(L28="",L28=0),0,IF(L28*24>8,2.99,2.65)) -> 0 | O28: =IF(OR(N28="",N28=0),0,IF(N28*24>8,2.99,2.65)) -> 0 | Q28: =IF(OR(P28="",P28=0),0,IF(P28*24>8,2.99,2.65)) -> 0 | S28: =IF(OR(R28="",R28=0),0,IF(R28*24>8,2.99,2.65)) -> 0 | U28: =IF(OR(T28="",T28=0),0,IF(T28*24>8,2.99,2.65)) -> 0 | W28: =IF(OR(V28="",V28=0),0,IF(V28*24>8,2.99,2.65)) -> 0 | Y28: =IF(OR(X28="",X28=0),0,IF(X28*24>8,2.99,2.65)) -> 0 | AA28: =IF(OR(Z28="",Z28=0),0,IF(Z28*24>8,2.99,2.65)) -> 0 | AC28: =IF(OR(AB28="",AB28=0),0,IF(AB28*24>8,2.99,2.65)) -> 0 | AE28: =IF(OR(AD28="",AD28=0),0,IF(AD28*24>8,2.99,2.65)) -> 0 | AG28: =IF(OR(AF28="",AF28=0),0,IF(AF28*24>8,2.99,2.65)) -> 0 | AI28: =IF(OR(AH28="",AH28=0),0,IF(AH28*24>8,2.99,2.65)) -> 0 | AK28: =IF(OR(AJ28="",AJ28=0),0,IF(AJ28*24>8,2.99,2.65)) -> 0 | AM28: =IF(OR(AL28="",AL28=0),0,IF(AL28*24>8,2.99,2.65)) -> 0 | AO28: =IF(OR(AN28="",AN28=0),0,IF(AN28*24>8,2.99,2.65)) -> 0 | AQ28: =IF(OR(AP28="",AP28=0),0,IF(AP28*24>8,2.99,2.65)) -> 0 | AS28: =IF(OR(AR28="",AR28=0),0,IF(AR28*24>8,2.99,2.65)) -> 0 | AU28: =IF(OR(AT28="",AT28=0),0,IF(AT28*24>8,2.99,2.65)) -> 0 | AW28: =IF(OR(AV28="",AV28=0),0,IF(AV28*24>8,2.99,2.65)) -> 0 | AY28: =IF(OR(AX28="",AX28=0),0,IF(AX28*24>8,2.99,2.65)) -> 0 | BA28: =IF(OR(AZ28="",AZ28=0),0,IF(AZ28*24>8,2.99,2.65)) -> 0 | BC28: =IF(OR(BB28="",BB28=0),0,IF(BB28*24>8,2.99,2.65)) -> 0 | BE28: =IF(OR(BD28="",BD28=0),0,IF(BD28*24>8,2.99,2.65)) -> 0 | BG28: =IF(OR(BF28="",BF28=0),0,IF(BF28*24>8,2.99,2.65)) -> 0 | BI28: =IF(OR(BH28="",BH28=0),0,IF(BH28*24>8,2.99,2.65)) -> 0 | BL28: =IFERROR(SUMPRODUCT((MOD(COLUMN(B28:BK28),2)=0)*(B28:BK28)),"") -> 0 | BM28: =IFERROR(SUMPRODUCT((MOD(COLUMN(B28:BK28),2)<>0)*(B28:BK28)),"") -> 0
A29: ENFANT 2 | C29: =IF(OR(B29="",B29=0),0,IF(B29*24>8,2.99,2.65)) -> 0 | E29: =IF(OR(D29="",D29=0),0,IF(D29*24>8,2.99,2.65)) -> 0 | G29: =IF(OR(F29="",F29=0),0,IF(F29*24>8,2.99,2.65)) -> 0 | I29: =IF(OR(H29="",H29=0),0,IF(H29*24>8,2.99,2.65)) -> 0 | K29: =IF(OR(J29="",J29=0),0,IF(J29*24>8,2.99,2.65)) -> 0 | M29: =IF(OR(L29="",L29=0),0,IF(L29*24>8,2.99,2.65)) -> 0 | O29: =IF(OR(N29="",N29=0),0,IF(N29*24>8,2.99,2.65)) -> 0 | Q29: =IF(OR(P29="",P29=0),0,IF(P29*24>8,2.99,2.65)) -> 0 | S29: =IF(OR(R29="",R29=0),0,IF(R29*24>8,2.99,2.65)) -> 0 | U29: =IF(OR(T29="",T29=0),0,IF(T29*24>8,2.99,2.65)) -> 0 | W29: =IF(OR(V29="",V29=0),0,IF(V29*24>8,2.99,2.65)) -> 0 | Y29: =IF(OR(X29="",X29=0),0,IF(X29*24>8,2.99,2.65)) -> 0 | AA29: =IF(OR(Z29="",Z29=0),0,IF(Z29*24>8,2.99,2.65)) -> 0 | AC29: =IF(OR(AB29="",AB29=0),0,IF(AB29*24>8,2.99,2.65)) -> 0 | AE29: =IF(OR(AD29="",AD29=0),0,IF(AD29*24>8,2.99,2.65)) -> 0 | AG29: =IF(OR(AF29="",AF29=0),0,IF(AF29*24>8,2.99,2.65)) -> 0 | AI29: =IF(OR(AH29="",AH29=0),0,IF(AH29*24>8,2.99,2.65)) -> 0 | AK29: =IF(OR(AJ29="",AJ29=0),0,IF(AJ29*24>8,2.99,2.65)) -> 0 | AM29: =IF(OR(AL29="",AL29=0),0,IF(AL29*24>8,2.99,2.65)) -> 0 | AO29: =IF(OR(AN29="",AN29=0),0,IF(AN29*24>8,2.99,2.65)) -> 0 | AQ29: =IF(OR(AP29="",AP29=0),0,IF(AP29*24>8,2.99,2.65)) -> 0 | AS29: =IF(OR(AR29="",AR29=0),0,IF(AR29*24>8,2.99,2.65)) -> 0 | AU29: =IF(OR(AT29="",AT29=0),0,IF(AT29*24>8,2.99,2.65)) -> 0 | AW29: =IF(OR(AV29="",AV29=0),0,IF(AV29*24>8,2.99,2.65)) -> 0 | AY29: =IF(OR(AX29="",AX29=0),0,IF(AX29*24>8,2.99,2.65)) -> 0 | BA29: =IF(OR(AZ29="",AZ29=0),0,IF(AZ29*24>8,2.99,2.65)) -> 0 | BC29: =IF(OR(BB29="",BB29=0),0,IF(BB29*24>8,2.99,2.65)) -> 0 | BE29: =IF(OR(BD29="",BD29=0),0,IF(BD29*24>8,2.99,2.65)) -> 0 | BG29: =IF(OR(BF29="",BF29=0),0,IF(BF29*24>8,2.99,2.65)) -> 0 | BI29: =IF(OR(BH29="",BH29=0),0,IF(BH29*24>8,2.99,2.65)) -> 0 | BL29: =IFERROR(SUMPRODUCT((MOD(COLUMN(B29:BK29),2)=0)*(B29:BK29)),"") -> 0 | BM29: =IFERROR(SUMPRODUCT((MOD(COLUMN(B29:BK29),2)<>0)*(B29:BK29)),"") -> 0
A30: ENFANT 3 | C30: =IF(OR(B30="",B30=0),0,IF(B30*24>8,2.99,2.65)) -> 0 | E30: =IF(OR(D30="",D30=0),0,IF(D30*24>8,2.99,2.65)) -> 0 | G30: =IF(OR(F30="",F30=0),0,IF(F30*24>8,2.99,2.65)) -> 0 | I30: =IF(OR(H30="",H30=0),0,IF(H30*24>8,2.99,2.65)) -> 0 | K30: =IF(OR(J30="",J30=0),0,IF(J30*24>8,2.99,2.65)) -> 0 | M30: =IF(OR(L30="",L30=0),0,IF(L30*24>8,2.99,2.65)) -> 0 | O30: =IF(OR(N30="",N30=0),0,IF(N30*24>8,2.99,2.65)) -> 0 | Q30: =IF(OR(P30="",P30=0),0,IF(P30*24>8,2.99,2.65)) -> 0 | S30: =IF(OR(R30="",R30=0),0,IF(R30*24>8,2.99,2.65)) -> 0 | U30: =IF(OR(T30="",T30=0),0,IF(T30*24>8,2.99,2.65)) -> 0 | W30: =IF(OR(V30="",V30=0),0,IF(V30*24>8,2.99,2.65)) -> 0 | Y30: =IF(OR(X30="",X30=0),0,IF(X30*24>8,2.99,2.65)) -> 0 | AA30: =IF(OR(Z30="",Z30=0),0,IF(Z30*24>8,2.99,2.65)) -> 0 | AC30: =IF(OR(AB30="",AB30=0),0,IF(AB30*24>8,2.99,2.65)) -> 0 | AE30: =IF(OR(AD30="",AD30=0),0,IF(AD30*24>8,2.99,2.65)) -> 0 | AG30: =IF(OR(AF30="",AF30=0),0,IF(AF30*24>8,2.99,2.65)) -> 0 | AI30: =IF(OR(AH30="",AH30=0),0,IF(AH30*24>8,2.99,2.65)) -> 0 | AK30: =IF(OR(AJ30="",AJ30=0),0,IF(AJ30*24>8,2.99,2.65)) -> 0 | AM30: =IF(OR(AL30="",AL30=0),0,IF(AL30*24>8,2.99,2.65)) -> 0 | AO30: =IF(OR(AN30="",AN30=0),0,IF(AN30*24>8,2.99,2.65)) -> 0 | AQ30: =IF(OR(AP30="",AP30=0),0,IF(AP30*24>8,2.99,2.65)) -> 0 | AS30: =IF(OR(AR30="",AR30=0),0,IF(AR30*24>8,2.99,2.65)) -> 0 | AU30: =IF(OR(AT30="",AT30=0),0,IF(AT30*24>8,2.99,2.65)) -> 0 | AW30: =IF(OR(AV30="",AV30=0),0,IF(AV30*24>8,2.99,2.65)) -> 0 | AY30: =IF(OR(AX30="",AX30=0),0,IF(AX30*24>8,2.99,2.65)) -> 0 | BA30: =IF(OR(AZ30="",AZ30=0),0,IF(AZ30*24>8,2.99,2.65)) -> 0 | BC30: =IF(OR(BB30="",BB30=0),0,IF(BB30*24>8,2.99,2.65)) -> 0 | BE30: =IF(OR(BD30="",BD30=0),0,IF(BD30*24>8,2.99,2.65)) -> 0 | BG30: =IF(OR(BF30="",BF30=0),0,IF(BF30*24>8,2.99,2.65)) -> 0 | BI30: =IF(OR(BH30="",BH30=0),0,IF(BH30*24>8,2.99,2.65)) -> 0 | BL30: =IFERROR(SUMPRODUCT((MOD(COLUMN(B30:BK30),2)=0)*(B30:BK30)),"") -> 0 | BM30: =IFERROR(SUMPRODUCT((MOD(COLUMN(B30:BK30),2)<>0)*(B30:BK30)),"") -> 0
A31: ENFANT 4 | C31: =IF(OR(B31="",B31=0),0,IF(B31*24>8,2.99,2.65)) -> 0 | E31: =IF(OR(D31="",D31=0),0,IF(D31*24>8,2.99,2.65)) -> 0 | G31: =IF(OR(F31="",F31=0),0,IF(F31*24>8,2.99,2.65)) -> 0 | I31: =IF(OR(H31="",H31=0),0,IF(H31*24>8,2.99,2.65)) -> 0 | K31: =IF(OR(J31="",J31=0),0,IF(J31*24>8,2.99,2.65)) -> 0 | M31: =IF(OR(L31="",L31=0),0,IF(L31*24>8,2.99,2.65)) -> 0 | O31: =IF(OR(N31="",N31=0),0,IF(N31*24>8,2.99,2.65)) -> 0 | Q31: =IF(OR(P31="",P31=0),0,IF(P31*24>8,2.99,2.65)) -> 0 | S31: =IF(OR(R31="",R31=0),0,IF(R31*24>8,2.99,2.65)) -> 0 | U31: =IF(OR(T31="",T31=0),0,IF(T31*24>8,2.99,2.65)) -> 0 | W31: =IF(OR(V31="",V31=0),0,IF(V31*24>8,2.99,2.65)) -> 0 | Y31: =IF(OR(X31="",X31=0),0,IF(X31*24>8,2.99,2.65)) -> 0 | AA31: =IF(OR(Z31="",Z31=0),0,IF(Z31*24>8,2.99,2.65)) -> 0 | AC31: =IF(OR(AB31="",AB31=0),0,IF(AB31*24>8,2.99,2.65)) -> 0 | AE31: =IF(OR(AD31="",AD31=0),0,IF(AD31*24>8,2.99,2.65)) -> 0 | AG31: =IF(OR(AF31="",AF31=0),0,IF(AF31*24>8,2.99,2.65)) -> 0 | AI31: =IF(OR(AH31="",AH31=0),0,IF(AH31*24>8,2.99,2.65)) -> 0 | AK31: =IF(OR(AJ31="",AJ31=0),0,IF(AJ31*24>8,2.99,2.65)) -> 0 | AM31: =IF(OR(AL31="",AL31=0),0,IF(AL31*24>8,2.99,2.65)) -> 0 | AO31: =IF(OR(AN31="",AN31=0),0,IF(AN31*24>8,2.99,2.65)) -> 0 | AQ31: =IF(OR(AP31="",AP31=0),0,IF(AP31*24>8,2.99,2.65)) -> 0 | AS31: =IF(OR(AR31="",AR31=0),0,IF(AR31*24>8,2.99,2.65)) -> 0 | AU31: =IF(OR(AT31="",AT31=0),0,IF(AT31*24>8,2.99,2.65)) -> 0 | AW31: =IF(OR(AV31="",AV31=0),0,IF(AV31*24>8,2.99,2.65)) -> 0 | AY31: =IF(OR(AX31="",AX31=0),0,IF(AX31*24>8,2.99,2.65)) -> 0 | BA31: =IF(OR(AZ31="",AZ31=0),0,IF(AZ31*24>8,2.99,2.65)) -> 0 | BC31: =IF(OR(BB31="",BB31=0),0,IF(BB31*24>8,2.99,2.65)) -> 0 | BE31: =IF(OR(BD31="",BD31=0),0,IF(BD31*24>8,2.99,2.65)) -> 0 | BG31: =IF(OR(BF31="",BF31=0),0,IF(BF31*24>8,2.99,2.65)) -> 0 | BI31: =IF(OR(BH31="",BH31=0),0,IF(BH31*24>8,2.99,2.65)) -> 0 | BL31: =IFERROR(SUMPRODUCT((MOD(COLUMN(B31:BK31),2)=0)*(B31:BK31)),"") -> 0 | BM31: =IFERROR(SUMPRODUCT((MOD(COLUMN(B31:BK31),2)<>0)*(B31:BK31)),"") -> 0
A32: ENFANT 5 | C32: =IF(OR(B32="",B32=0),0,IF(B32*24>8,2.99,2.65)) -> 0 | E32: =IF(OR(D32="",D32=0),0,IF(D32*24>8,2.99,2.65)) -> 0 | G32: =IF(OR(F32="",F32=0),0,IF(F32*24>8,2.99,2.65)) -> 0 | I32: =IF(OR(H32="",H32=0),0,IF(H32*24>8,2.99,2.65)) -> 0 | K32: =IF(OR(J32="",J32=0),0,IF(J32*24>8,2.99,2.65)) -> 0 | M32: =IF(OR(L32="",L32=0),0,IF(L32*24>8,2.99,2.65)) -> 0 | O32: =IF(OR(N32="",N32=0),0,IF(N32*24>8,2.99,2.65)) -> 0 | Q32: =IF(OR(P32="",P32=0),0,IF(P32*24>8,2.99,2.65)) -> 0 | S32: =IF(OR(R32="",R32=0),0,IF(R32*24>8,2.99,2.65)) -> 0 | U32: =IF(OR(T32="",T32=0),0,IF(T32*24>8,2.99,2.65)) -> 0 | W32: =IF(OR(V32="",V32=0),0,IF(V32*24>8,2.99,2.65)) -> 0 | Y32: =IF(OR(X32="",X32=0),0,IF(X32*24>8,2.99,2.65)) -> 0 | AA32: =IF(OR(Z32="",Z32=0),0,IF(Z32*24>8,2.99,2.65)) -> 0 | AC32: =IF(OR(AB32="",AB32=0),0,IF(AB32*24>8,2.99,2.65)) -> 0 | AE32: =IF(OR(AD32="",AD32=0),0,IF(AD32*24>8,2.99,2.65)) -> 0 | AG32: =IF(OR(AF32="",AF32=0),0,IF(AF32*24>8,2.99,2.65)) -> 0 | AI32: =IF(OR(AH32="",AH32=0),0,IF(AH32*24>8,2.99,2.65)) -> 0 | AK32: =IF(OR(AJ32="",AJ32=0),0,IF(AJ32*24>8,2.99,2.65)) -> 0 | AM32: =IF(OR(AL32="",AL32=0),0,IF(AL32*24>8,2.99,2.65)) -> 0 | AO32: =IF(OR(AN32="",AN32=0),0,IF(AN32*24>8,2.99,2.65)) -> 0 | AQ32: =IF(OR(AP32="",AP32=0),0,IF(AP32*24>8,2.99,2.65)) -> 0 | AS32: =IF(OR(AR32="",AR32=0),0,IF(AR32*24>8,2.99,2.65)) -> 0 | AU32: =IF(OR(AT32="",AT32=0),0,IF(AT32*24>8,2.99,2.65)) -> 0 | AW32: =IF(OR(AV32="",AV32=0),0,IF(AV32*24>8,2.99,2.65)) -> 0 | AY32: =IF(OR(AX32="",AX32=0),0,IF(AX32*24>8,2.99,2.65)) -> 0 | BA32: =IF(OR(AZ32="",AZ32=0),0,IF(AZ32*24>8,2.99,2.65)) -> 0 | BC32: =IF(OR(BB32="",BB32=0),0,IF(BB32*24>8,2.99,2.65)) -> 0 | BE32: =IF(OR(BD32="",BD32=0),0,IF(BD32*24>8,2.99,2.65)) -> 0 | BG32: =IF(OR(BF32="",BF32=0),0,IF(BF32*24>8,2.99,2.65)) -> 0 | BI32: =IF(OR(BH32="",BH32=0),0,IF(BH32*24>8,2.99,2.65)) -> 0 | BL32: =IFERROR(SUMPRODUCT((MOD(COLUMN(B32:BK32),2)=0)*(B32:BK32)),"") -> 0 | BM32: =IFERROR(SUMPRODUCT((MOD(COLUMN(B32:BK32),2)<>0)*(B32:BK32)),"") -> 0
B33: =SUM(B28:B32) -> 0 | C33: =SUM(C28:C32) -> 0 | D33: =SUM(D28:D32) -> 0 | E33: =SUM(E28:E32) -> 0 | F33: =SUM(F28:F32) -> 0 | G33: =SUM(G28:G32) -> 0 | H33: =SUM(H28:H32) -> 0 | I33: =SUM(I28:I32) -> 0 | ... BK33: =SUM(BK28:BK32) -> 0 | BL33: =IFERROR(SUMPRODUCT((MOD(COLUMN(B33:BK33),2)=0)*(B33:BK33)),"") -> 0 | BM33: =IFERROR(SUMPRODUCT((MOD(COLUMN(B33:BK33),2)<>0)*(B33:BK33)),"") -> 0
A34: MOIS DE MAI
B35: =DATE($A$1,5,1) -> 42491 | D35: =B35+1 -> 42492 | F35: =D35+1 -> 42493 | H35: =F35+1 -> 42494 | J35: =H35+1 -> 42495 | L35: =J35+1 -> 42496 | N35: =L35+1 -> 42497 | P35: =N35+1 -> 42498 | R35: =P35+1 -> 42499 | T35: =R35+1 -> 42500 | V35: =T35+1 -> 42501 | X35: =V35+1 -> 42502 | Z35: =X35+1 -> 42503 | AB35: =Z35+1 -> 42504 | AD35: =AB35+1 -> 42505 | AF35: =AD35+1 -> 42506 | AH35: =AF35+1 -> 42507 | AJ35: =AH35+1 -> 42508 | AL35: =AJ35+1 -> 42509 | AN35: =AL35+1 -> 42510 | AP35: =AN35+1 -> 42511 | AR35: =AP35+1 -> 42512 | AT35: =AR35+1 -> 42513 | AV35: =AT35+1 -> 42514 | AX35: =AV35+1 -> 42515 | AZ35: =AX35+1 -> 42516 | BB35: =AZ35+1 -> 42517 | BD35: =BB35+1 -> 42518 | BF35: =BD35+1 -> 42519 | BH35: =BF35+1 -> 42520 | BJ35: =BH35+1 -> 42521 | BL35: TOTAL HEURES | BM35: TOTAL FRAIS ENTRETIEN
A36: ENFANT 1 | C36: =IF(OR(B36="",B36=0),0,IF(B36*24>8,2.99,2.65)) -> 0 | E36: =IF(OR(D36="",D36=0),0,IF(D36*24>8,2.99,2.65)) -> 0 | G36: =IF(OR(F36="",F36=0),0,IF(F36*24>8,2.99,2.65)) -> 0 | I36: =IF(OR(H36="",H36=0),0,IF(H36*24>8,2.99,2.65)) -> 0 | K36: =IF(OR(J36="",J36=0),0,IF(J36*24>8,2.99,2.65)) -> 0 | M36: =IF(OR(L36="",L36=0),0,IF(L36*24>8,2.99,2.65)) -> 0 | O36: =IF(OR(N36="",N36=0),0,IF(N36*24>8,2.99,2.65)) -> 0 | Q36: =IF(OR(P36="",P36=0),0,IF(P36*24>8,2.99,2.65)) -> 0 | S36: =IF(OR(R36="",R36=0),0,IF(R36*24>8,2.99,2.65)) -> 0 | U36: =IF(OR(T36="",T36=0),0,IF(T36*24>8,2.99,2.65)) -> 0 | W36: =IF(OR(V36="",V36=0),0,IF(V36*24>8,2.99,2.65)) -> 0 | Y36: =IF(OR(X36="",X36=0),0,IF(X36*24>8,2.99,2.65)) -> 0 | AA36: =IF(OR(Z36="",Z36=0),0,IF(Z36*24>8,2.99,2.65)) -> 0 | AC36: =IF(OR(AB36="",AB36=0),0,IF(AB36*24>8,2.99,2.65)) -> 0 | AE36: =IF(OR(AD36="",AD36=0),0,IF(AD36*24>8,2.99,2.65)) -> 0 | AG36: =IF(OR(AF36="",AF36=0),0,IF(AF36*24>8,2.99,2.65)) -> 0 | AI36: =IF(OR(AH36="",AH36=0),0,IF(AH36*24>8,2.99,2.65)) -> 0 | AK36: =IF(OR(AJ36="",AJ36=0),0,IF(AJ36*24>8,2.99,2.65)) -> 0 | AM36: =IF(OR(AL36="",AL36=0),0,IF(AL36*24>8,2.99,2.65)) -> 0 | AO36: =IF(OR(AN36="",AN36=0),0,IF(AN36*24>8,2.99,2.65)) -> 0 | AQ36: =IF(OR(AP36="",AP36=0),0,IF(AP36*24>8,2.99,2.65)) -> 0 | AS36: =IF(OR(AR36="",AR36=0),0,IF(AR36*24>8,2.99,2.65)) -> 0 | AU36: =IF(OR(AT36="",AT36=0),0,IF(AT36*24>8,2.99,2.65)) -> 0 | AW36: =IF(OR(AV36="",AV36=0),0,IF(AV36*24>8,2.99,2.65)) -> 0 | AY36: =IF(OR(AX36="",AX36=0),0,IF(AX36*24>8,2.99,2.65)) -> 0 | BA36: =IF(OR(AZ36="",AZ36=0),0,IF(AZ36*24>8,2.99,2.65)) -> 0 | BC36: =IF(OR(BB36="",BB36=0),0,IF(BB36*24>8,2.99,2.65)) -> 0 | BE36: =IF(OR(BD36="",BD36=0),0,IF(BD36*24>8,2.99,2.65)) -> 0 | BG36: =IF(OR(BF36="",BF36=0),0,IF(BF36*24>8,2.99,2.65)) -> 0 | BI36: =IF(OR(BH36="",BH36=0),0,IF(BH36*24>8,2.99,2.65)) -> 0 | BK36: =IF(OR(BJ36="",BJ36=0),0,IF(BJ36*24>8,2.99,2.65)) -> 0 | BL36: =IFERROR(SUMPRODUCT((MOD(COLUMN(B36:BK36),2)=0)*(B36:BK36)),"") -> 0 | BM36: =IFERROR(SUMPRODUCT((MOD(COLUMN(B36:BK36),2)<>0)*(B36:BK36)),"") -> 0
A37: ENFANT 2 | C37: =IF(OR(B37="",B37=0),0,IF(B37*24>8,2.99,2.65)) -> 0 | E37: =IF(OR(D37="",D37=0),0,IF(D37*24>8,2.99,2.65)) -> 0 | G37: =IF(OR(F37="",F37=0),0,IF(F37*24>8,2.99,2.65)) -> 0 | I37: =IF(OR(H37="",H37=0),0,IF(H37*24>8,2.99,2.65)) -> 0 | K37: =IF(OR(J37="",J37=0),0,IF(J37*24>8,2.99,2.65)) -> 0 | M37: =IF(OR(L37="",L37=0),0,IF(L37*24>8,2.99,2.65)) -> 0 | O37: =IF(OR(N37="",N37=0),0,IF(N37*24>8,2.99,2.65)) -> 0 | Q37: =IF(OR(P37="",P37=0),0,IF(P37*24>8,2.99,2.65)) -> 0 | S37: =IF(OR(R37="",R37=0),0,IF(R37*24>8,2.99,2.65)) -> 0 | U37: =IF(OR(T37="",T37=0),0,IF(T37*24>8,2.99,2.65)) -> 0 | W37: =IF(OR(V37="",V37=0),0,IF(V37*24>8,2.99,2.65)) -> 0 | Y37: =IF(OR(X37="",X37=0),0,IF(X37*24>8,2.99,2.65)) -> 0 | AA37: =IF(OR(Z37="",Z37=0),0,IF(Z37*24>8,2.99,2.65)) -> 0 | AC37: =IF(OR(AB37="",AB37=0),0,IF(AB37*24>8,2.99,2.65)) -> 0 | AE37: =IF(OR(AD37="",AD37=0),0,IF(AD37*24>8,2.99,2.65)) -> 0 | AG37: =IF(OR(AF37="",AF37=0),0,IF(AF37*24>8,2.99,2.65)) -> 0 | AI37: =IF(OR(AH37="",AH37=0),0,IF(AH37*24>8,2.99,2.65)) -> 0 | AK37: =IF(OR(AJ37="",AJ37=0),0,IF(AJ37*24>8,2.99,2.65)) -> 0 | AM37: =IF(OR(AL37="",AL37=0),0,IF(AL37*24>8,2.99,2.65)) -> 0 | AO37: =IF(OR(AN37="",AN37=0),0,IF(AN37*24>8,2.99,2.65)) -> 0 | AQ37: =IF(OR(AP37="",AP37=0),0,IF(AP37*24>8,2.99,2.65)) -> 0 | AS37: =IF(OR(AR37="",AR37=0),0,IF(AR37*24>8,2.99,2.65)) -> 0 | AU37: =IF(OR(AT37="",AT37=0),0,IF(AT37*24>8,2.99,2.65)) -> 0 | AW37: =IF(OR(AV37="",AV37=0),0,IF(AV37*24>8,2.99,2.65)) -> 0 | AY37: =IF(OR(AX37="",AX37=0),0,IF(AX37*24>8,2.99,2.65)) -> 0 | BA37: =IF(OR(AZ37="",AZ37=0),0,IF(AZ37*24>8,2.99,2.65)) -> 0 | BC37: =IF(OR(BB37="",BB37=0),0,IF(BB37*24>8,2.99,2.65)) -> 0 | BE37: =IF(OR(BD37="",BD37=0),0,IF(BD37*24>8,2.99,2.65)) -> 0 | BG37: =IF(OR(BF37="",BF37=0),0,IF(BF37*24>8,2.99,2.65)) -> 0 | BI37: =IF(OR(BH37="",BH37=0),0,IF(BH37*24>8,2.99,2.65)) -> 0 | BK37: =IF(OR(BJ37="",BJ37=0),0,IF(BJ37*24>8,2.99,2.65)) -> 0 | BL37: =IFERROR(SUMPRODUCT((MOD(COLUMN(B37:BK37),2)=0)*(B37:BK37)),"") -> 0 | BM37: =IFERROR(SUMPRODUCT((MOD(COLUMN(B37:BK37),2)<>0)*(B37:BK37)),"") -> 0
A38: ENFANT 3 | C38: =IF(OR(B38="",B38=0),0,IF(B38*24>8,2.99,2.65)) -> 0 | E38: =IF(OR(D38="",D38=0),0,IF(D38*24>8,2.99,2.65)) -> 0 | G38: =IF(OR(F38="",F38=0),0,IF(F38*24>8,2.99,2.65)) -> 0 | I38: =IF(OR(H38="",H38=0),0,IF(H38*24>8,2.99,2.65)) -> 0 | K38: =IF(OR(J38="",J38=0),0,IF(J38*24>8,2.99,2.65)) -> 0 | M38: =IF(OR(L38="",L38=0),0,IF(L38*24>8,2.99,2.65)) -> 0 | O38: =IF(OR(N38="",N38=0),0,IF(N38*24>8,2.99,2.65)) -> 0 | Q38: =IF(OR(P38="",P38=0),0,IF(P38*24>8,2.99,2.65)) -> 0 | S38: =IF(OR(R38="",R38=0),0,IF(R38*24>8,2.99,2.65)) -> 0 | U38: =IF(OR(T38="",T38=0),0,IF(T38*24>8,2.99,2.65)) -> 0 | W38: =IF(OR(V38="",V38=0),0,IF(V38*24>8,2.99,2.65)) -> 0 | Y38: =IF(OR(X38="",X38=0),0,IF(X38*24>8,2.99,2.65)) -> 0 | AA38: =IF(OR(Z38="",Z38=0),0,IF(Z38*24>8,2.99,2.65)) -> 0 | AC38: =IF(OR(AB38="",AB38=0),0,IF(AB38*24>8,2.99,2.65)) -> 0 | AE38: =IF(OR(AD38="",AD38=0),0,IF(AD38*24>8,2.99,2.65)) -> 0 | AG38: =IF(OR(AF38="",AF38=0),0,IF(AF38*24>8,2.99,2.65)) -> 0 | AI38: =IF(OR(AH38="",AH38=0),0,IF(AH38*24>8,2.99,2.65)) -> 0 | AK38: =IF(OR(AJ38="",AJ38=0),0,IF(AJ38*24>8,2.99,2.65)) -> 0 | AM38: =IF(OR(AL38="",AL38=0),0,IF(AL38*24>8,2.99,2.65)) -> 0 | AO38: =IF(OR(AN38="",AN38=0),0,IF(AN38*24>8,2.99,2.65)) -> 0 | AQ38: =IF(OR(AP38="",AP38=0),0,IF(AP38*24>8,2.99,2.65)) -> 0 | AS38: =IF(OR(AR38="",AR38=0),0,IF(AR38*24>8,2.99,2.65)) -> 0 | AU38: =IF(OR(AT38="",AT38=0),0,IF(AT38*24>8,2.99,2.65)) -> 0 | AW38: =IF(OR(AV38="",AV38=0),0,IF(AV38*24>8,2.99,2.65)) -> 0 | AY38: =IF(OR(AX38="",AX38=0),0,IF(AX38*24>8,2.99,2.65)) -> 0 | BA38: =IF(OR(AZ38="",AZ38=0),0,IF(AZ38*24>8,2.99,2.65)) -> 0 | BC38: =IF(OR(BB38="",BB38=0),0,IF(BB38*24>8,2.99,2.65)) -> 0 | BE38: =IF(OR(BD38="",BD38=0),0,IF(BD38*24>8,2.99,2.65)) -> 0 | BG38: =IF(OR(BF38="",BF38=0),0,IF(BF38*24>8,2.99,2.65)) -> 0 | BI38: =IF(OR(BH38="",BH38=0),0,IF(BH38*24>8,2.99,2.65)) -> 0 | BK38: =IF(OR(BJ38="",BJ38=0),0,IF(BJ38*24>8,2.99,2.65)) -> 0 | BL38: =IFERROR(SUMPRODUCT((MOD(COLUMN(B38:BK38),2)=0)*(B38:BK38)),"") -> 0 | BM38: =IFERROR(SUMPRODUCT((MOD(COLUMN(B38:BK38),2)<>0)*(B38:BK38)),"") -> 0
A39: ENFANT 4 | C39: =IF(OR(B39="",B39=0),0,IF(B39*24>8,2.99,2.65)) -> 0 | E39: =IF(OR(D39="",D39=0),0,IF(D39*24>8,2.99,2.65)) -> 0 | G39: =IF(OR(F39="",F39=0),0,IF(F39*24>8,2.99,2.65)) -> 0 | I39: =IF(OR(H39="",H39=0),0,IF(H39*24>8,2.99,2.65)) -> 0 | K39: =IF(OR(J39="",J39=0),0,IF(J39*24>8,2.99,2.65)) -> 0 | M39: =IF(OR(L39="",L39=0),0,IF(L39*24>8,2.99,2.65)) -> 0 | O39: =IF(OR(N39="",N39=0),0,IF(N39*24>8,2.99,2.65)) -> 0 | Q39: =IF(OR(P39="",P39=0),0,IF(P39*24>8,2.99,2.65)) -> 0 | S39: =IF(OR(R39="",R39=0),0,IF(R39*24>8,2.99,2.65)) -> 0 | U39: =IF(OR(T39="",T39=0),0,IF(T39*24>8,2.99,2.65)) -> 0 | W39: =IF(OR(V39="",V39=0),0,IF(V39*24>8,2.99,2.65)) -> 0 | Y39: =IF(OR(X39="",X39=0),0,IF(X39*24>8,2.99,2.65)) -> 0 | AA39: =IF(OR(Z39="",Z39=0),0,IF(Z39*24>8,2.99,2.65)) -> 0 | AC39: =IF(OR(AB39="",AB39=0),0,IF(AB39*24>8,2.99,2.65)) -> 0 | AE39: =IF(OR(AD39="",AD39=0),0,IF(AD39*24>8,2.99,2.65)) -> 0 | AG39: =IF(OR(AF39="",AF39=0),0,IF(AF39*24>8,2.99,2.65)) -> 0 | AI39: =IF(OR(AH39="",AH39=0),0,IF(AH39*24>8,2.99,2.65)) -> 0 | AK39: =IF(OR(AJ39="",AJ39=0),0,IF(AJ39*24>8,2.99,2.65)) -> 0 | AM39: =IF(OR(AL39="",AL39=0),0,IF(AL39*24>8,2.99,2.65)) -> 0 | AO39: =IF(OR(AN39="",AN39=0),0,IF(AN39*24>8,2.99,2.65)) -> 0 | AQ39: =IF(OR(AP39="",AP39=0),0,IF(AP39*24>8,2.99,2.65)) -> 0 | AS39: =IF(OR(AR39="",AR39=0),0,IF(AR39*24>8,2.99,2.65)) -> 0 | AU39: =IF(OR(AT39="",AT39=0),0,IF(AT39*24>8,2.99,2.65)) -> 0 | AW39: =IF(OR(AV39="",AV39=0),0,IF(AV39*24>8,2.99,2.65)) -> 0 | AY39: =IF(OR(AX39="",AX39=0),0,IF(AX39*24>8,2.99,2.65)) -> 0 | BA39: =IF(OR(AZ39="",AZ39=0),0,IF(AZ39*24>8,2.99,2.65)) -> 0 | BC39: =IF(OR(BB39="",BB39=0),0,IF(BB39*24>8,2.99,2.65)) -> 0 | BE39: =IF(OR(BD39="",BD39=0),0,IF(BD39*24>8,2.99,2.65)) -> 0 | BG39: =IF(OR(BF39="",BF39=0),0,IF(BF39*24>8,2.99,2.65)) -> 0 | BI39: =IF(OR(BH39="",BH39=0),0,IF(BH39*24>8,2.99,2.65)) -> 0 | BK39: =IF(OR(BJ39="",BJ39=0),0,IF(BJ39*24>8,2.99,2.65)) -> 0 | BL39: =IFERROR(SUMPRODUCT((MOD(COLUMN(B39:BK39),2)=0)*(B39:BK39)),"") -> 0 | BM39: =IFERROR(SUMPRODUCT((MOD(COLUMN(B39:BK39),2)<>0)*(B39:BK39)),"") -> 0
A40: ENFANT 5 | C40: =IF(OR(B40="",B40=0),0,IF(B40*24>8,2.99,2.65)) -> 0 | E40: =IF(OR(D40="",D40=0),0,IF(D40*24>8,2.99,2.65)) -> 0 | G40: =IF(OR(F40="",F40=0),0,IF(F40*24>8,2.99,2.65)) -> 0 | I40: =IF(OR(H40="",H40=0),0,IF(H40*24>8,2.99,2.65)) -> 0 | K40: =IF(OR(J40="",J40=0),0,IF(J40*24>8,2.99,2.65)) -> 0 | M40: =IF(OR(L40="",L40=0),0,IF(L40*24>8,2.99,2.65)) -> 0 | O40: =IF(OR(N40="",N40=0),0,IF(N40*24>8,2.99,2.65)) -> 0 | Q40: =IF(OR(P40="",P40=0),0,IF(P40*24>8,2.99,2.65)) -> 0 | S40: =IF(OR(R40="",R40=0),0,IF(R40*24>8,2.99,2.65)) -> 0 | U40: =IF(OR(T40="",T40=0),0,IF(T40*24>8,2.99,2.65)) -> 0 | W40: =IF(OR(V40="",V40=0),0,IF(V40*24>8,2.99,2.65)) -> 0 | Y40: =IF(OR(X40="",X40=0),0,IF(X40*24>8,2.99,2.65)) -> 0 | AA40: =IF(OR(Z40="",Z40=0),0,IF(Z40*24>8,2.99,2.65)) -> 0 | AC40: =IF(OR(AB40="",AB40=0),0,IF(AB40*24>8,2.99,2.65)) -> 0 | AE40: =IF(OR(AD40="",AD40=0),0,IF(AD40*24>8,2.99,2.65)) -> 0 | AG40: =IF(OR(AF40="",AF40=0),0,IF(AF40*24>8,2.99,2.65)) -> 0 | AI40: =IF(OR(AH40="",AH40=0),0,IF(AH40*24>8,2.99,2.65)) -> 0 | AK40: =IF(OR(AJ40="",AJ40=0),0,IF(AJ40*24>8,2.99,2.65)) -> 0 | AM40: =IF(OR(AL40="",AL40=0),0,IF(AL40*24>8,2.99,2.65)) -> 0 | AO40: =IF(OR(AN40="",AN40=0),0,IF(AN40*24>8,2.99,2.65)) -> 0 | AQ40: =IF(OR(AP40="",AP40=0),0,IF(AP40*24>8,2.99,2.65)) -> 0 | AS40: =IF(OR(AR40="",AR40=0),0,IF(AR40*24>8,2.99,2.65)) -> 0 | AU40: =IF(OR(AT40="",AT40=0),0,IF(AT40*24>8,2.99,2.65)) -> 0 | AW40: =IF(OR(AV40="",AV40=0),0,IF(AV40*24>8,2.99,2.65)) -> 0 | AY40: =IF(OR(AX40="",AX40=0),0,IF(AX40*24>8,2.99,2.65)) -> 0 | BA40: =IF(OR(AZ40="",AZ40=0),0,IF(AZ40*24>8,2.99,2.65)) -> 0 | BC40: =IF(OR(BB40="",BB40=0),0,IF(BB40*24>8,2.99,2.65)) -> 0 | BE40: =IF(OR(BD40="",BD40=0),0,IF(BD40*24>8,2.99,2.65)) -> 0 | BG40: =IF(OR(BF40="",BF40=0),0,IF(BF40*24>8,2.99,2.65)) -> 0 | BI40: =IF(OR(BH40="",BH40=0),0,IF(BH40*24>8,2.99,2.65)) -> 0 | BK40: =IF(OR(BJ40="",BJ40=0),0,IF(BJ40*24>8,2.99,2.65)) -> 0 | BL40: =IFERROR(SUMPRODUCT((MOD(COLUMN(B40:BK40),2)=0)*(B40:BK40)),"") -> 0 | BM40: =IFERROR(SUMPRODUCT((MOD(COLUMN(B40:BK40),2)<>0)*(B40:BK40)),"") -> 0
...

Sheet récap annuelle
A1: POUR DECLARATION IMPOTS
B2: salaire fiscal | C2: frais entretien | D2: repas | E2: frais km | F2: salaire total | G2: TOTAL NBRE D'HEURES SUR TOUTE L'ANNEE | H2: BASE REMUNERATION | I2: total abattement
B3: cette colonne est remplie manuellement d'après fiches de payes | C3: dans cette colonne doit apparaître le total annuel de l'enfant les drais d'entretien de l'onglet mois | D3: cette colonne est remplie manuellement | E3: cette colonne est remplie manuellement | F3: cette colonne doit être egal a salaire fiscal + entretien + repas +frais km | G3: dans cette colonne doit apparaître le nombre d'heures de présence de l'année de l'onglet mois | H3: cette colonne doit être egal à total heures par enfant (G) et multiplié par 3,60€ | I3: dans cette colonne doit être égal à salaire total (F) moins le total abattement (H)
A4: ENFANT 1 | C4: =B11 -> 0 | F4: =B4+C4+D4+E4 -> 0 | G4: =C11 -> 0 | H4: =G4*24*3.6 -> 0 | I4: =F4-H4 -> 0
A5: ENFANT 2 | C5: =B12 -> 0 | F5: =B5+C5+D5+E5 -> 0 | G5: =C12 -> 0 | H5: =G5*24*3.6 -> 0 | I5: =F5-H5 -> 0
A6: ENFANT 3 | C6: =B13 -> 0 | F6: =B6+C6+D6+E6 -> 0 | G6: =C13 -> 0 | H6: =G6*24*3.6 -> 0 | I6: =F6-H6 -> 0
A7: ENFANT 4 | C7: =B14 -> 0 | F7: =B7+C7+D7+E7 -> 0 | G7: =C14 -> 0 | H7: =G7*24*3.6 -> 0 | I7: =F7-H7 -> 0
A8: ENFANT 5 | C8: =B15 -> 0 | F8: =B8+C8+D8+E8 -> 0 | G8: =C15 -> 0 | H8: =G8*24*3.6 -> 0 | I8: =F8-H8 -> 0
A10: ENFANT | B10: FRAIS D'ENTRETIEN | C10: NOMBRE D'HEURES
A11: ENFANT 1 | B11: ='les mois'!BM4+'les mois'!BM12+'les mois'!BM20+'les mois'!BM28+'les mois'!BM36+'les mois'!BM44+'les mois'!BM52+'les mois'!BM60+'les mois'!BM68+'les mois'!BM76+'les mois'!BM84+'les mois'!BM92 -> 0 | C11: ='les mois'!BL4+'les mois'!BL12+'les mois'!BL20+'les mois'!BL28+'les mois'!BL36+'les mois'!BL44+'les mois'!BL52+'les mois'!BL60+'les mois'!BL68+'les mois'!BL76+'les mois'!BL84+'les mois'!BL92 -> 0
A12: ENFANT 2 | B12: ='les mois'!BM93+'les mois'!BM85+'les mois'!BM77+'les mois'!BM69+'les mois'!BM61+'les mois'!BM53+'les mois'!BM45+'les mois'!BM37+'les mois'!BM29+'les mois'!BM21+'les mois'!BM13+'les mois'!BM5 -> 0 | C12: ='les mois'!BL93+'les mois'!BL85+'les mois'!BL77+'les mois'!BL69+'les mois'!BL61+'les mois'!BL53+'les mois'!BL45+'les mois'!BL37+'les mois'!BL29+'les mois'!BL21+'les mois'!BL13+'les mois'!BL5 -> 0
A13: ENFANT 3 | B13: ='les mois'!BM6+'les mois'!BM14+'les mois'!BM22+'les mois'!BM30+'les mois'!BM38+'les mois'!BM46+'les mois'!BM54+'les mois'!BM62+'les mois'!BM70+'les mois'!BM78+'les mois'!BM86+'les mois'!BM94 -> 0 | C13: ='les mois'!BL6+'les mois'!BL14+'les mois'!BL22+'les mois'!BL30+'les mois'!BL38+'les mois'!BL46+'les mois'!BL54+'les mois'!BL62+'les mois'!BL70+'les mois'!BL78+'les mois'!BL86+'les mois'!BL94 -> 0
A14: ENFANT 4 | B14: ='les mois'!BM95+'les mois'!BM87+'les mois'!BM79+'les mois'!BM71+'les mois'!BM63+'les mois'!BM55+'les mois'!BM47+'les mois'!BM39+'les mois'!BM31+'les mois'!BM23+'les mois'!BM15+'les mois'!BM7 -> 0 | C14: ='les mois'!BL95+'les mois'!BL87+'les mois'!BL79+'les mois'!BL71+'les mois'!BL63+'les mois'!BL55+'les mois'!BL47+'les mois'!BL39+'les mois'!BL31+'les mois'!BL23+'les mois'!BL15+'les mois'!BL7 -> 0
A15: ENFANT 5 | B15: ='les mois'!BM96+'les mois'!BM88+'les mois'!BM80+'les mois'!BM72+'les mois'!BM64+'les mois'!BM56+'les mois'!BM48+'les mois'!BM40+'les mois'!BM32+'les mois'!BM24+'les mois'!BM16+'les mois'!BM8 -> 0 | C15: ='les mois'!BL8+'les mois'!BL16+'les mois'!BL24+'les mois'!BL32+'les mois'!BL40+'les mois'!BL48+'les mois'!BL56+'les mois'!BL64+'les mois'!BL72+'les mois'!BL80+'les mois'!BL88+'les mois'!BL96 -> 0
