Workbook
Name Equation1: Sheet1!$I$5
Name Equation2: Sheet1!$K$5
Name Equation3: Sheet1!$Q$5
Name Equation4: Sheet1!$X$5
Name Equation5: Sheet1!$Z$5
Name ESSAI: Sheet1!$K$6
Name Essaix: long1 + (Intmin1+(ROW(OFFSET(Sheet1!$A$1,0,0,Nbpts+1,1))-1)*(Intmax2-Intmin1)/Nbpts)
Name Intmax1: Sheet1!$I$7
Name Intmax2: Sheet1!$K$7
Name Intmax3: Sheet1!$Q$7
Name Intmax4: Sheet1!$X$7
Name Intmax5: Sheet1!$Z$7
Name Intmin1: Sheet1!$I$6
Name Intmin3: Sheet1!$X$6
Name long1: Sheet1!$C$2
Name long2: Sheet1!$C$3
Name long3: Sheet1!$C$4
Name Nbpts: Sheet1!$I$8
Name X: (Intmin1+(ROW(OFFSET(Sheet1!$A$1,0,0,Nbpts+1,1))-1)*(Intmax1-Intmin1)/Nbpts)
Name XB: long1+long2+(Intmin1+(ROW(OFFSET(Sheet1!$A$1,0,0,Nbpts+1,1))-1)*(long3-Intmin1)/Nbpts)
Name Z: long1+(Intmin1+(ROW(OFFSET(Sheet1!$A$1,0,0,Nbpts+1,1))-1)*(long2-Intmin1)/Nbpts)

Sheet Sheet1
B1: POUTRE
B2: L1 | C2: 4.8
B3: L2 | C3: 6.45
B4: L3 | C4: 4.8
H5: M(x)= | I5: (150,96/2)*x*(4,8-x)-0*(1-x/4,8)-166,76*(x/4,80) | K5: (50,96/2)*x*(6,45-x)-166,76*(1-(x/6,45))+166,76*(x/6,45) | Q5: (50,96/2)*x*(4,8-x)-166,76*(1-(x/4,8))-0*(x/4,8) | W5: M(x)= | X5: (90,3/2)*x*(4,8-x)-0*(1-x/4,8)-310,72*(x/4,80) | Z5: (90,3/2)*x*(6,45-x)-310,72*(1-(x/6,45))-242,89*(x/6,45) | AF5: (50,96/2)*x*(4,8-x)-242,89*(1-(x/4,8))-0*(x/4,8)
B6: Charge | C6: Mo | D6: M1 | E6: M2 | F6: M3 | I6: 0 | K6: (50,96/2)*x*(6,45-x)-166,76*(1-(x/6,45))-166,76*(x/6,45)
A7: Travée 1 | B7: 1 | C7: 0 | D7: =-((1+C2/C3)*(B7*C2^3))/((2*C3)*(3+2*(C2/C3))*(1+2*(C2/C3))) -> -1.3388214 | E7: =(B7*C2^3)/((4*C3)*(3+2*(C2/C3))*(1+2*(C2/C3))) -> 0.38379546 | F7: 0 | I7: 4.8 | K7: 6.45 | Q7: 4.8 | X7: Intmax4 | Z7: Intmax5
A8: Travée 2 | B8: 1 | C8: 0 | D8: =-(B8*C3^2)/(4*(3+2*C2/C3)) -> -2.3172377 | E8: =-(B8*C3^2)/(4*(3+2*C2/C3)) -> -2.3172377 | F8: 0 | I8: 3000
A9: Travée 3 | B9: 1 | C9: 0 | D9: =(B7*C4^3)/((4*C3)*(3+2*(C4/C3))*(1+2*(C4/C3))) -> 0.38379546 | E9: =-((1+C4/C3)*(B7*C4^3))/((2*C3)*(3+2*(C4/C3))*(1+2*(C4/C3))) -> -1.3388214 | F9: 0
M10: 4.8 | N10: =(50.96/2)*M10*(4.8-M10)-0*(1-M10/4.8)-166.76*(M10/4.8) -> -166.76 | P10: 6.45 | Q10: =(50.96/2)*P10*(6.45-P10)-166.76*(1-(P10/6.45))-166.76*(P10/6.45) -> -166.76 | S10: 4.8 | T10: =(50.96/2)*S10*(4.8-S10)-166.76*(1-(S10/4.8))-0*(S10/4.8) -> 0
A11: CHARGES PERMANENTES | H11: MOMENTS MAXIMAUX SUR APPUIS -ELU | AA11: =4.8+AB11 -> 4.8 | AB11: 0 | AC11: =(50.96/2)*AB11*(6.45-AB11)-166.76*(1-(AB11/6.45))-166.76*(AB11/6.45) -> -166.76
B12: Charges | C12: Mo | D12: M1 | E12: M2 | F12: M3 | J12: M0 | K12: M1 | L12: M2 | M12: M3 | AA12: =4.8+AB12 -> 5.05 | AB12: =AB11+0.25 -> 0.25 | AC12: =(50.96/2)*AB12*(6.45-AB12)-166.76*(1-(AB12/6.45))-166.76*(AB12/6.45) -> -127.266
A13: ELS | B13: 37.75 | C13: 0 | D13: =B13*SUM(D7:D9) -> -123.52795 | E13: =SUM(E7:E9)*B13 -> -123.52795 | F13: 0 | H13: Travées 1 +2 | J13: 0 | K13: =D14+1.5*D19 -> -310.72006 | L13: =E14+1.5*E19 -> -242.89202 | M13: 0 | AA13: =4.8+AB13 -> 5.3 | AB13: =AB12+0.25 -> 0.5 | AC13: =(50.96/2)*AB13*(6.45-AB13)-166.76*(1-(AB13/6.45))-166.76*(AB13/6.45) -> -90.957
A14: ELU | B14: =1.35*B13 -> 50.9625 | C14: 0 | D14: =B14*SUM(D7:D9) -> -166.76273 | E14: =B14*SUM(E7:E9) -> -166.76273 | F14: 0 | H14: Travées 2+3 | J14: 0 | K14: =D14+1.5*D24 -> -242.89202 | L14: =D14+1.5*E24 -> -310.72006 | M14: 0 | AA14: =4.8+AB14 -> 5.55 | AB14: =AB13+0.25 -> 0.75 | AC14: =(50.96/2)*AB14*(6.45-AB14)-166.76*(1-(AB14/6.45))-166.76*(AB14/6.45) -> -57.833
AA15: =4.8+AB15 -> 5.8 | AB15: =AB14+0.25 -> 1 | AC15: =(50.96/2)*AB15*(6.45-AB15)-166.76*(1-(AB15/6.45))-166.76*(AB15/6.45) -> -27.894
A16: CHARGES D'EXPLOITATION - ELS | H16: MOMENTS MAXIMAUX EN TRAVEES | AA16: =4.8+AB16 -> 6.05 | AB16: =AB15+0.25 -> 1.25 | AC16: =(50.96/2)*AB16*(6.45-AB16)-166.76*(1-(AB16/6.45))-166.76*(AB16/6.45) -> -1.14
B17: Charges | C17: M0 | D17: M1 | E17: M2 | F17: M3 | J17: M0 | K17: M1 | L17: M2 | M17: M3 | AA17: =4.8+AB17 -> 6.3 | AB17: =AB16+0.25 -> 1.5 | AC17: =(50.96/2)*AB17*(6.45-AB17)-166.76*(1-(AB17/6.45))-166.76*(AB17/6.45) -> 22.429
A18: Travée 1 | B18: 26.25 | C18: 0 | D18: =B18*D7 -> -35.144061 | E18: =B18*E7 -> 10.074631 | F18: 0 | H18: Travée 1 | J18: 0 | K18: =D14+1.5*D18 -> -219.47882 | L18: =E14+1.5*E18 -> -151.65079 | M18: 0 | AA18: =4.8+AB18 -> 6.55 | AB18: =AB17+0.25 -> 1.75 | AC18: =(50.96/2)*AB18*(6.45-AB18)-166.76*(1-(AB18/6.45))-166.76*(AB18/6.45) -> 42.813
A19: Travées 1 + 2 | B19: 26.25 | C19: 0 | D19: =B19*(D8+D7) -> -95.97155 | E19: =B19*(E8+E7) -> -50.752859 | F19: 0 | H19: Travée 1 +3 | J19: 0 | K19: =D14+1.5*D20 -> -204.36688 | L19: =E14+1.5*E20 -> -204.36688 | M19: 0 | AA19: =4.8+AB19 -> 6.8 | AB19: =AB18+0.25 -> 2 | AC19: =(50.96/2)*AB19*(6.45-AB19)-166.76*(1-(AB19/6.45))-166.76*(AB19/6.45) -> 60.012
A20: Travées 1 + 3 | B20: 26.25 | C20: 0 | D20: =B20*(D9+D7) -> -25.06943 | E20: =B20*(E9+E7) -> -25.06943 | F20: 0 | H20: Travée 2 | J20: 0 | K20: =D14+1.5*D22 -> -258.00397 | L20: =E14+1.5*E22 -> -258.00397 | M20: 0 | AA20: =4.8+AB20 -> 7.05 | AB20: =AB19+0.25 -> 2.25 | AC20: =(50.96/2)*AB20*(6.45-AB20)-166.76*(1-(AB20/6.45))-166.76*(AB20/6.45) -> 74.026
H21: MOMENTS MINIMAUX EN TRAVEES | AA21: =4.8+AB21 -> 7.3 | AB21: =AB20+0.25 -> 2.5 | AC21: =(50.96/2)*AB21*(6.45-AB21)-166.76*(1-(AB21/6.45))-166.76*(AB21/6.45) -> 84.855
A22: Travée 2 | B22: 26.25 | C22: 0 | D22: =B22*D8 -> -60.827489 | E22: =B22*E8 -> -60.827489 | F22: 0 | H22: Travée 2 | J22: 0 | K22: =D14+1.5*D22 -> -258.00397 | L22: =E14+1.5*E22 -> -258.00397 | M22: 0 | AA22: =4.8+AB22 -> 7.55 | AB22: =AB21+0.25 -> 2.75 | AC22: =(50.96/2)*AB22*(6.45-AB22)-166.76*(1-(AB22/6.45))-166.76*(AB22/6.45) -> 92.499
A23: Travées 2 + 1 | B23: 26.25 | C23: 0 | D23: =B23*(D8+D7) -> -95.97155 | E23: =B23*(E8+E7) -> -50.752859 | F23: 0 | H23: Travée 3 | J23: 0 | K23: =D14+1.5*D26 -> -151.65079 | L23: =E14+1.5*E26 -> -219.47882 | M23: 0 | AA23: =4.8+AB23 -> 7.8 | AB23: =AB22+0.25 -> 3 | AC23: =(50.96/2)*AB23*(6.45-AB23)-166.76*(1-(AB23/6.45))-166.76*(AB23/6.45) -> 96.958
A24: Travées 2+3 | B24: 26.25 | C24: 0 | D24: =B24*(D8+D9) -> -50.752859 | E24: =B24*(E8+E9) -> -95.97155 | F24: 0 | H24: Travées 2 +3 | J24: 0 | K24: =D14+1.5*D24 -> -242.89202 | L24: =E14+1.5*E24 -> -310.72006 | M24: 0 | AA24: =4.8+AB24 -> 8.05 | AB24: =AB23+0.25 -> 3.25 | AC24: =(50.96/2)*AB24*(6.45-AB24)-166.76*(1-(AB24/6.45))-166.76*(AB24/6.45) -> 98.232
H25: Travées 1+ 3 | J25: 0 | K25: =D14+1.5*D27 -> -204.36688 | L25: =E14+1.5*E27 -> -204.36688 | M25: 0 | AA25: =4.8+AB25 -> 8.3 | AB25: =AB24+0.25 -> 3.5 | AC25: =(50.96/2)*AB25*(6.45-AB25)-166.76*(1-(AB25/6.45))-166.76*(AB25/6.45) -> 96.321
A26: Travée 3 | B26: 26.25 | C26: 0 | D26: =B26*D9 -> 10.074631 | E26: =B26*E9 -> -35.144061 | F26: 0 | AA26: =4.8+AB26 -> 8.55 | AB26: =AB25+0.25 -> 3.75 | AC26: =(50.96/2)*AB26*(6.45-AB26)-166.76*(1-(AB26/6.45))-166.76*(AB26/6.45) -> 91.225
A27: Travées 3 + 1 | B27: 26.25 | C27: 0 | D27: =B27*(D9+D7) -> -25.06943 | E27: =B27*(E7+E9) -> -25.06943 | F27: 0 | H27: Travée 2 | J27: 0 | M27: 0 | Z27: =7-4.8 -> 2.2 | AA27: =4.8+AB27 -> 8.8 | AB27: =AB26+0.25 -> 4 | AC27: =(50.96/2)*AB27*(6.45-AB27)-166.76*(1-(AB27/6.45))-166.76*(AB27/6.45) -> 82.944
A28: Travées 3 + 2 | B28: 26.25 | C28: 0 | D28: =B28*(D9+D8) -> -50.752859 | E28: =B28*(E9+E8) -> -95.97155 | F28: 0 | H28: Travée 3 | J28: 0 | M28: 0 | AA28: =4.8+AB28 -> 9.05 | AB28: =AB27+0.25 -> 4.25 | AC28: =(50.96/2)*AB28*(6.45-AB28)-166.76*(1-(AB28/6.45))-166.76*(AB28/6.45) -> 71.478
B29: =B14+1.5*B18 -> 90.3375 | H29: Travées 2 +3 | J29: 0 | M29: 0 | AA29: =4.8+AB29 -> 9.3 | AB29: =AB28+0.25 -> 4.5 | AC29: =(50.96/2)*AB29*(6.45-AB29)-166.76*(1-(AB29/6.45))-166.76*(AB29/6.45) -> 56.827
H30: Travées 1+ 3 | J30: 0 | M30: 0 | AA30: =4.8+AB30 -> 9.55 | AB30: =AB29+0.25 -> 4.75 | AC30: =(50.96/2)*AB30*(6.45-AB30)-166.76*(1-(AB30/6.45))-166.76*(AB30/6.45) -> 38.991
AA31: =4.8+AB31 -> 9.8 | AB31: =AB30+0.25 -> 5 | AC31: =(50.96/2)*AB31*(6.45-AB31)-166.76*(1-(AB31/6.45))-166.76*(AB31/6.45) -> 17.97
A32: MOMENTS EN TRAVEES - ELU | C32: Mt1 | D32: x | E32: Mt2 | F32: x | G32: Mt3 | H32: x | AA32: =4.8+AB32 -> 10.05 | AB32: =AB31+0.25 -> 5.25 | AC32: =(50.96/2)*AB32*(6.45-AB32)-166.76*(1-(AB32/6.45))-166.76*(AB32/6.45) -> -6.236
A33: PP | C33: =B14*C2^2/8+(C14+D14)/2+(C14-D14)^2/(16*(B14*C2^2/8)) -> 75.232899 | D33: =(-C42-SQRT(H42))/(2*A42) -> 3.0817216 | E33: =B14*C3^2/8+(D14+E14)/2+(D14-E14)^2/(16*(B13*C3^2/8)) -> 98.258192 | F33: =C2+(-C43-SQRT(H43))/(2*A43) -> 8.025 | G33: =B14*C4^2/8+(E14+F14)/2+(E14-F14)^2/(16*(B14*C4^2/8)) -> 75.232899 | H33: =C2+C3+(-C44-SQRT(H44))/(2*A44) -> 12.968278 | J33: =(B14*C2^2)/8+(C14+D14)/2 -> 63.390633 | K33: =(B14*C3^2)/8+(D14+E14)/2 -> 98.258192 | L33: =(B14*C4^2)/8+(E14+F14)/2 -> 63.390633 | AA33: =4.8+AB33 -> 10.3 | AB33: =AB32+0.25 -> 5.5 | AC33: =(50.96/2)*AB33*(6.45-AB33)-166.76*(1-(AB33/6.45))-166.76*(AB33/6.45) -> -33.627
A34: Travée 1 + 3 | C34: =B29*C2^2/8+(J19+K19)/2+(J19-K19)^2/(16*(B29*C2^2/8)) -> 168.02178 | D34: =(-C46-SQRT(H46))/(2*A46) -> 2.8713041 | E34: =B14*C3^2/8+(K19+L19)/2+(K19-L19)^2/(16*(B14*C3^2/8)) -> 60.654047 | F34: =C2+(-C47-SQRT(H47))/(2*A47) -> 8.025 | G34: =B29*C4^2/8+(L19+M19)/2+(L19-M19)^2/(16*(B29*C4^2/8)) -> 168.02178 | H34: =C2+C3+(-C46-SQRT(H46))/(2*A46) -> 14.121304 | AA34: =4.8+AB34 -> 10.55 | AB34: =AB33+0.25 -> 5.75 | AC34: =(50.96/2)*AB34*(6.45-AB34)-166.76*(1-(AB34/6.45))-166.76*(AB34/6.45) -> -64.203
A35: Travée 1 + 2 | C35: =B29*C2^2/8+(J13+K13)/2+(J13-K13)^2/(16*(B29*C2^2/8)) -> 128.00503 | D35: =(-C47-SQRT(H47))/(2*A47) -> 3.225 | E35: =B29*C3^2/8+(K13+L13)/2+(K13-L13)^2/(16*(B29*C3^2/8)) -> 193.58926 | F35: =C2+(-C48-SQRT(H48))/(2*A48) -> 6.7286959 | G35: =(B14*C4^2)/8+(L13+M13)/2+((L13-M13)^2)/(16*((B14*C4^2)/8)) -> 50.448515 | H35: =C2+C3+(-C47-SQRT(H47))/(2*A47) -> 14.475 | AA35: =4.8+AB35 -> 10.8 | AB35: =AB34+0.25 -> 6 | AC35: =(50.96/2)*AB35*(6.45-AB35)-166.76*(1-(AB35/6.45))-166.76*(AB35/6.45) -> -97.964
A36: Travée 2 + 3 | C36: =B14*C2^2/8+(J14+K14)/2+(J14-K14)^2/(16*(B14*C2^2/8)) -> 50.448515 | D36: =(-C54-SQRT(H54))/(2*A54) -> 3.3929361 | E36: =B29*C3^2/8+(K14+L14)/2+(K14-L14)^2/(16*(B29*C3^2/8)) -> 193.58926 | F36: =C2+(-C55-SQRT(H55))/(2*A55) -> 8.1414076 | G36: =(B29*C4^2)/8+(L14+M14)/2+((L14-M14)^2)/(16*((B29*C4^2)/8)) -> 128.00503 | H36: =C2+C3+(-C56-SQRT(H56))/(2*A56) -> 12.933428 | AA36: =4.8+AB36 -> 11.05 | AB36: =AB35+0.25 -> 6.25 | AC36: =(50.96/2)*AB36*(6.45-AB36)-166.76*(1-(AB36/6.45))-166.76*(AB36/6.45) -> -134.91
A37: Travée 2 | C37: =(B14*C2^2)/8+(J22+K22)/2+((J22-K22)^2)/(16*(B14*C2^2)/8) -> 46.115872 | D37: =(-L42-SQRT(Q42))/(2*J42) -> 3.4547133 | E37: =(B29*C3^2)/8+(K22+L22)/2+((K22-L22)^2)/(16*(B29*C3^2)/8) -> 211.77926 | F37: =C2+(-L43-SQRT(Q43))/(2*J43) -> 8.025 | G37: =(B14*C4^2)/8+(L22+M22)/2+((L22-M22)^2)/(16*(B14*C4^2)/8) -> 46.115872 | H37: =C2+C3+(-L44-SQRT(Q44))/(2*J44) -> 12.595287 | AA37: =4.8+AB37 -> 11.25 | AB37: 6.45 | AC37: =(50.96/2)*AB37*(6.45-AB37)-166.76*(1-(AB37/6.45))-166.76*(AB37/6.45) -> -166.76
A39: Travée 3 | C39: =(B14*C2^2)/8+(J23+K23)/2+((J23-K23)^2)/(16*(B14*C2^2)/8) -> 80.739841 | D39: =(-L46-SQRT(Q46))/(2*J46) -> 3.0199444 | E39: =(B14*C3^2)/8+(K23+L23)/2+((K23-L23)^2)/(16*(B14*C3^2)/8) -> 80.541091 | F39: =C2+(-L47-SQRT(Q47))/(2*J47) -> 8.2313473 | G39: =(B29*C4^2)/8+(L23+M23)/2+((L23-M23)^2)/(16*(B29*C4^2)/8) -> 162.00449 | H39: =C2+C3+(-L48-SQRT(Q48))/(2*J48) -> 13.143845
A40: Travée 1 | C40: =(B29*C2^2)/8+(J18+K18)/2+((J18-K18)^2)/(16*(B29*C2^2)/8) -> 162.00449 | D40: =(-L50-SQRT(Q50))/(2*J50) -> 2.9061548 | E40: =(B14*C3^2)/8+(K18+L18)/2+((K18-L18)^2)/(16*(B14*C3^2)/8) -> 80.541091 | F40: =C2+(-L51-SQRT(Q51))/(2*J51) -> 7.8186527 | G40: =(B14*C4^2)/8+(L18+M18)/2+((L18-M18)^2)/(16*(B14*C4^2)/8) -> 80.739841 | H40: =C2+C3+(-L52-SQRT(Q52))/(2*J52) -> 13.030056
A42: =-B14/2 -> -25.48125 | B42: x² | C42: =((B14*C2)/2)+C14/C2-D14/C2 -> 157.05224 | D42: x | E42: =-C33+D14 -> -241.99563 | G42: D | H42: =C42^2-4*A42*E42 -> 0 | J42: =-B14/2 -> -25.48125 | K42: x² | L42: =((B14*C2)/2)+J22/C2-K22/C2 -> 176.06083 | M42: x | N42: =-C37+K20 -> -304.11984 | P42: D | Q42: =L42^2-4*J42*N42 -> 0
A43: =-B14/2 -> -25.48125 | B43: x² | C43: =((B14*C3)/2)+D14/C3-E14/C3 -> 164.35406 | D43: x | E43: =-E33+E14 -> -265.02093 | G43: D | H43: =C43^2-4*A43*E43 -> 0 | J43: =-B29/2 -> -45.16875 | K43: x² | L43: =((B29*C3)/2)+K22/C3-L22/C3 -> 291.33844 | M43: x | N43: =-E37+K20 -> -469.78323 | P43: D | Q43: =L43^2-4*J43*N43 -> 0
A44: =-B14/2 -> -25.48125 | B44: x² | C44: =((B14*C4)/2)+E14/C4-F14/C4 -> 87.567764 | D44: x | E44: =-G33+F14 -> -75.232899 | G44: D | H44: =C44^2-4*A44*E44 -> 0 | J44: =-B14/2 -> -25.48125 | K44: x² | L44: =((B14*C4)/2)+L22/C4-M22/C4 -> 68.559173 | M44: x | N44: =-G37+M20 -> -46.115872 | P44: D | Q44: =L44^2-4*J44*N44 -> 0
A46: =-B29/2 -> -45.16875 | B46: x² | C46: =((B29*C2)/2)+J19/C2-K19/C2 -> 259.38643 | D46: x | E46: =-C34+K19 -> -372.38866 | G46: D | H46: =C46^2-4*A46*E46 -> 0 | J46: =-B14/2 -> -25.48125 | K46: x² | L46: =((B14*C2)/2)+J23/C2-K23/C2 -> 153.90391 | M46: x | N46: =-C39+K23 -> -232.39063 | P46: D | Q46: =L46^2-4*J46*N46 -> 0
A47: =-B14/2 -> -25.48125 | B47: x² | C47: =((B14*C3)/2)+K19/C3-L19/C3 -> 164.35406 | D47: x | E47: =-E34+L19 -> -265.02093 | G47: D | H47: =C47^2-4*A47*E47 -> 0 | J47: =-B14/2 -> -25.48125 | K47: x² | L47: =((B14*C3)/2)+K23/C3-L23/C3 -> 174.87004 | M47: x | N47: =-E39+L23 -> -300.01992 | P47: D | Q47: =L47^2-4*J47*N47 -> 0
A48: =-B29/2 -> -45.16875 | B48: x² | C48: =((B29*C4)/2)+L19/C4-M19/C4 -> 174.23357 | D48: x | E48: =-G34+M19 -> -168.02178 | G48: D | H48: =C48^2-4*A48*E48 -> 0 | J48: =-B29/2 -> -45.16875 | K48: x² | L48: =((B29*C4)/2)+L23/C4-M23/C4 -> 171.08524 | M48: x | N48: =-G39+M23 -> -162.00449 | P48: D | Q48: =L48^2-4*J48*N48 -> 0
A50: =-B29/2 -> -45.16875 | B50: x² | C50: =((B29*C2)/2)+J13/C2-K13/C2 -> 281.54335 | D50: x | E50: =-C35+K13 -> -438.72509 | G50: D | H50: =C50^2-4*A50*E50 -> 0 | J50: =-B29/2 -> -45.16875 | K50: x² | L50: =((B29*C2)/2)+J18/C2-K18/C2 -> 262.53476 | M50: x | N50: =-C40+K18 -> -381.48331 | P50: D | Q50: =L50^2-4*J50*N50 -> 0
A51: =-B29/2 -> -45.16875 | B51: x² | C51: =((B29*C3)/2)+K13/C3-L13/C3 -> 280.82246 | D51: x | E51: =-E35+L13 -> -436.48128 | G51: D | H51: =C51^2-4*A51*E51 -> 0 | J51: =-B14/2 -> -25.48125 | K51: x² | L51: =((B14*C3)/2)+K18/C3-L18/C3 -> 153.83809 | M51: x | N51: =-E40+L18 -> -232.19188 | P51: D | Q51: =L51^2-4*J51*N51 -> 0
A52: =-B14/2 -> -25.48125 | B52: x² | C52: =((B14*C4)/2)+L13/C4-M13/C4 -> 71.707495 | D52: x | E52: =-G35+M13 -> -50.448515 | G52: D | H52: =C52^2-4*A52*E52 -> 0 | J52: =-B14/2 -> -25.48125 | K52: x² | L52: =((B14*C4)/2)+L18/C4-M18/C4 -> 90.716086 | M52: x | N52: =-G40+M25 -> -80.739841 | P52: D | Q52: =L52^2-4*J52*N52 -> 0
A54: =-B14/2 -> -25.48125 | B54: x² | C54: =((B14*C2)/2)+J14/C2-K14/C2 -> 172.9125 | D54: x | E54: =-C36+K14 -> -293.34054 | G54: D | H54: =C54^2-4*A54*E54 -> 0
A55: =-B29/2 -> -45.16875 | B55: x² | C55: =((B29*C3)/2)+K14/C3-L14/C3 -> 301.85441 | D55: x | E55: =-E36+L14 -> -504.30932 | G55: D | H55: =C55^2-4*A55*E55 -> 0
A56: =-B29/2 -> -45.16875 | B56: x² | C56: =((B29*C4)/2)+L14/C4-M14/C4 -> 152.07665 | D56: x | E56: =-G36+M14 -> -128.00503 | G56: D | H56: =C56^2-4*A56*E56 -> 0

Sheet Sheet2
A1: x | B1: =0 -> 0 | C1: =Sheet1!D33 -> 3.0817216 | D1: =Sheet1!C2 -> 4.8 | E1: =D1+Sheet1!F33 -> 12.825 | F1: =Sheet1!C2+Sheet1!C3 -> 11.25 | G1: =F1+Sheet1!H33 -> 24.218278 | H1: =Sheet1!C2+Sheet1!C3+Sheet1!C4 -> 16.05
A2: PP | B2: =Sheet1!C14 -> 0 | C2: =Sheet1!C33 -> 75.232899 | D2: =Sheet1!D14 -> -166.76273 | E2: =Sheet1!E33 -> 98.258192 | F2: =Sheet1!E14 -> -166.76273 | G2: =Sheet1!G33 -> 75.232899 | H2: =Sheet1!F14 -> 0
A3: x | B3: =0 -> 0 | C3: =Sheet1!D40 -> 2.9061548 | D3: =Sheet1!C4 -> 4.8 | E3: =D3+Sheet1!F40 -> 12.618653 | F3: =Sheet1!C2+Sheet1!C3 -> 11.25 | G3: =F3+Sheet1!H40 -> 24.280056 | H3: =Sheet1!C2+Sheet1!C3+Sheet1!C4 -> 16.05
A4: Travée 1 | B4: =Sheet1!J18 -> 0 | C4: =Sheet1!C40 -> 162.00449 | D4: =Sheet1!K18 -> -219.47882 | E4: =Sheet1!E40 -> 80.541091 | F4: =Sheet1!L18 -> -151.65079 | G4: =Sheet1!G40 -> 80.739841 | H4: =Sheet1!M18 -> 0
A5: x | B5: 0 | C5: =Sheet1!D37 -> 3.4547133 | D5: =Sheet1!C2 -> 4.8 | E5: =D5+Sheet1!F37 -> 12.825 | F5: =Sheet1!C2+Sheet1!C3 -> 11.25 | G5: =F5+Sheet1!H37 -> 23.845287 | H5: =Sheet1!C2+Sheet1!C3+Sheet1!C4 -> 16.05
A6: Travée 2 | B6: =Sheet1!J22 -> 0 | C6: =Sheet1!C37 -> 46.115872 | D6: =Sheet1!K22 -> -258.00397 | E6: =Sheet1!E37 -> 211.77926 | F6: =Sheet1!L22 -> -258.00397 | G6: =Sheet1!G37 -> 46.115872 | H6: =Sheet1!M22 -> 0
A7: x | B7: 0 | C7: =Sheet1!D39 -> 3.0199444 | D7: =Sheet1!C2 -> 4.8 | E7: =D7+Sheet1!F39 -> 13.031347 | F7: =Sheet1!C2+Sheet1!C3 -> 11.25 | G7: =F7+Sheet1!H39 -> 24.393845 | H7: =Sheet1!C2+Sheet1!C3+Sheet1!C4 -> 16.05
A8: Travée 3 | B8: =Sheet1!J23 -> 0 | C8: =Sheet1!C39 -> 80.739841 | D8: =Sheet1!K23 -> -151.65079 | E8: =Sheet1!E39 -> 80.541091 | F8: =Sheet1!L23 -> -219.47882 | G8: =Sheet1!G39 -> 162.00449 | H8: =Sheet1!M23 -> 0
A9: x | B9: 0 | C9: =Sheet1!D35 -> 3.225 | D9: =Sheet1!C2 -> 4.8 | E9: =D9+Sheet1!F35 -> 11.528696 | F9: =Sheet1!C2+Sheet1!C3 -> 11.25 | G9: =F9+Sheet1!H35 -> 25.725 | H9: =Sheet1!C4+Sheet1!C3+Sheet1!C2 -> 16.05
A10: Travées 1 + 2 | B10: =Sheet1!J13 -> 0 | C10: =Sheet1!C35 -> 128.00503 | D10: =Sheet1!K13 -> -310.72006 | E10: =Sheet1!E35 -> 193.58926 | F10: =Sheet1!L13 -> -242.89202 | G10: =Sheet1!G35 -> 50.448515 | H10: =Sheet1!M13 -> 0
A11: x | B11: 0 | C11: =Sheet1!D34 -> 2.8713041 | D11: =Sheet1!C2 -> 4.8 | E11: =D11+Sheet1!F34 -> 12.825 | F11: =Sheet1!C2+Sheet1!C3 -> 11.25 | G11: =F11+Sheet1!H34 -> 25.371304 | H11: =Sheet1!C4+Sheet1!C3+Sheet1!C2 -> 16.05
A12: Travées 1 + 3 | B12: =Sheet1!J25 -> 0 | C12: =Sheet1!C34 -> 168.02178 | D12: =Sheet1!K19 -> -204.36688 | E12: =Sheet1!E34 -> 60.654047 | F12: =Sheet1!L19 -> -204.36688 | G12: =Sheet1!G34 -> 168.02178 | H12: =Sheet1!M19 -> 0
A13: x | B13: 0 | C13: =Sheet1!D36 -> 3.3929361 | D13: =Sheet1!C2 -> 4.8 | E13: =D13+Sheet1!F36 -> 12.941408 | F13: =Sheet1!C2+Sheet1!C3 -> 11.25 | G13: =F13+Sheet1!H36 -> 24.183428 | H13: =Sheet1!C2+Sheet1!C3+Sheet1!C4 -> 16.05
A14: Travées 2 + 3 | B14: =Sheet1!J24 -> 0 | C14: =Sheet1!C34 -> 168.02178 | D14: =Sheet1!K19 -> -204.36688 | E14: =Sheet1!E34 -> 60.654047 | F14: =Sheet1!L19 -> -204.36688 | G14: =Sheet1!G34 -> 168.02178 | H14: =Sheet1!M19 -> 0

Sheet Sheet3
A1: 5 | C1: =SUM(Prices) -> #NAME?
A2: 4
A3: 15
A4: 9
