Workbook

Sheet Export Point chaud 2015 sans se
B1: 42013.24 | C1: 42019.444 | D1: 42023.475 | E1: 42027.361 | F1: 42030.446 | G1: 42031.417 | H1: 42032.615 | I1: 42040.382 | J1: 42048.47 | K1: 42049.438 | L1: 42049.792 | M1: 42058.469 | N1: 42059.667 | O1: 42062.438 | P1: 42063.731 | Q1: 42068.422 | R1: 42073.349 | S1: 42076.259 | T1: 42079.292 | U1: 42088.495 | V1: 42102.542 | W1: 42108.423 | X1: 42111.646 | Y1: 42122.426 | Z1: 42128.68 | AA1: 42131.369 | AB1: 42137.437 | AC1: 42143.291 | AD1: 42146.369 | AE1: 42147.792 | AF1: 42150.356 | AG1: 42151.519 | AH1: 42154.707 | AI1: 42154.722 | AJ1: 42158.701 | AK1: 42159.489 | AL1: 42165.494 | AM1: 42167.303 | AN1: 42181.453 | AO1: 42181.973 | AP1: 42192.353 | AQ1: 42200.583 | AR1: 42201.453 | AS1: 42212.476 | AT1: 42222.4 | AU1: 42228.547 | AV1: 42230.315 | AW1: 42244.223 | AX1: 42244.249 | AY1: 42247.301 | AZ1: 42254.431 | BA1: 42255.374 | BB1: 42262.365 | BC1: 42272.325 | BD1: 42283.29 | BE1: 42284.38 | BF1: 42292.389 | BG1: 42304.379 | BH1: 42305.417 | BI1: 42308.331 | BJ1: 42314.349 | BK1: 42321.385 | BL1: 42332.437 | BM1: 42340.356 | BN1: 42343.372 | BO1: 42345.449 | BP1: 42347.615 | BQ1: 42348.443 | BR1: 42349.38 | BS1: 42352.632 | BT1: 42360.438 | BU1: 42360.604 | BV1: 42361.44 | BW1: 42374.458 | BX1: 42377.41 | BY1: 42382.708 | BZ1: 42387.445 | CA1: 42395.465 | CB1: 42404.492 | CC1: 42405.348 | CD1: 42405.562 | CE1: 42412.37 | CF1: 42412.479 | CG1: 42422.583 | CH1: 42425.3 | CI1: 42427.699 | CJ1: 42427.717 | CK1: 42430.625 | CL1: 42431.512 | CM1: 42432.453 | CN1: 42436.466 | CO1: 42437.708 | CP1: Petite Val | CQ1: Grande Val | CR1: Point Chaud | CS1: Constant
A2: 0 FLEXE238 PC1 CT | AA2: 0.2 | AG2: 3 | AQ2: 0.2 | CP2: =SMALL(B2:CO2,1) -> 0.2 | CQ2: =LARGE(B2:CO2,1) -> 3 | CR2: =IF($CP2>2,TRUE,FALSE) -> FALSE | CS2: =IF($CQ2-$CP2<=10,TRUE,FALSE) -> TRUE
A3: 0 FLEXE238 PC2 CT | AA3: 0.05 | AG3: 9 | AQ3: 0.05 | CP3: =SMALL(B3:CO3,1) -> 0.05 | CQ3: =LARGE(B3:CO3,1) -> 9 | CR3: =IF($CP3>2,TRUE,FALSE) -> FALSE | CS3: =IF($CQ3-$CP3<=10,TRUE,FALSE) -> TRUE
A4: 0 MERCE257TYPC1 CT | BV4: 5 | BW4: 0.001 | CP4: =SMALL(B4:CO4,1) -> 0.001 | CQ4: =LARGE(B4:CO4,1) -> 5 | CR4: =IF($CP4>2,TRUE,FALSE) -> FALSE | CS4: =IF($CQ4-$CP4<=10,TRUE,FALSE) -> TRUE
A5: 0 PMU 151 VDPC CT | AA5: 10 | AD5: 10 | AG5: 10 | AJ5: 10 | AK5: 10 | BD5: 10 | CP5: =SMALL(B5:CO5,1) -> 10 | CQ5: =LARGE(B5:CO5,1) -> 10 | CR5: =IF($CP5>2,TRUE,FALSE) -> TRUE | CS5: =IF($CQ5-$CP5<=10,TRUE,FALSE) -> TRUE
A6: 0 PMU 255 VKPC CT | AA6: 3 | AD6: 5 | AG6: 3 | AJ6: 5 | AK6: 5 | CP6: =SMALL(B6:CO6,1) -> 3 | CQ6: =LARGE(B6:CO6,1) -> 5 | CR6: =IF($CP6>2,TRUE,FALSE) -> TRUE | CS6: =IF($CQ6-$CP6<=10,TRUE,FALSE) -> TRUE
A7: 0 PTR 207 VBPC CT | B7: 15 | C7: 15 | G7: 15 | J7: 15 | CP7: =SMALL(B7:CO7,1) -> 15 | CQ7: =LARGE(B7:CO7,1) -> 15 | CR7: =IF($CP7>2,TRUE,FALSE) -> TRUE | CS7: =IF($CQ7-$CP7<=10,TRUE,FALSE) -> TRUE
A8: 0 PTR 208 VBPC CT | B8: 6 | C8: 6 | G8: 6 | J8: 6 | CP8: =SMALL(B8:CO8,1) -> 6 | CQ8: =LARGE(B8:CO8,1) -> 6 | CR8: =IF($CP8>2,TRUE,FALSE) -> TRUE | CS8: =IF($CQ8-$CP8<=10,TRUE,FALSE) -> TRUE
A9: 0 PTR E203TYPC1 CT | AD9: 3 | AT9: 1.7 | CP9: =SMALL(B9:CO9,1) -> 1.7 | CQ9: =LARGE(B9:CO9,1) -> 3 | CR9: =IF($CP9>2,TRUE,FALSE) -> FALSE | CS9: =IF($CQ9-$CP9<=10,TRUE,FALSE) -> TRUE
A10: 0 RPE 104 VSPC CT | B10: 60 | C10: 60 | G10: 60 | J10: 25 | T10: 60 | AH10: 60 | AL10: 25 | CP10: =SMALL(B10:CO10,1) -> 25 | CQ10: =LARGE(B10:CO10,1) -> 60 | CR10: =IF($CP10>2,TRUE,FALSE) -> TRUE | CS10: =IF($CQ10-$CP10<=10,TRUE,FALSE) -> FALSE
A11: 0 RPE 299 VPPC CT | B11: 120 | C11: 100 | G11: 45 | J11: 25 | L11: 45 | AC11: 10 | AH11: 120 | AO11: 25 | CP11: =SMALL(B11:CO11,1) -> 10 | CQ11: =LARGE(B11:CO11,1) -> 120 | CR11: =IF($CP11>2,TRUE,FALSE) -> TRUE | CS11: =IF($CQ11-$CP11<=10,TRUE,FALSE) -> FALSE
A12: 0 RPE 945 VPPC CT | B12: 3 | C12: 2.99 | G12: 2.99 | J12: 1 | AH12: 3 | CP12: =SMALL(B12:CO12,1) -> 1 | CQ12: =LARGE(B12:CO12,1) -> 3 | CR12: =IF($CP12>2,TRUE,FALSE) -> FALSE | CS12: =IF($CQ12-$CP12<=10,TRUE,FALSE) -> TRUE
A13: 0 RPEH063 LNPC CT | B13: 50 | C13: 30 | G13: 40 | J13: 40 | L13: 40 | AC13: 2.5 | AO13: 40 | CP13: =SMALL(B13:CO13,1) -> 2.5 | CQ13: =LARGE(B13:CO13,1) -> 50 | CR13: =IF($CP13>2,TRUE,FALSE) -> TRUE | CS13: =IF($CQ13-$CP13<=10,TRUE,FALSE) -> FALSE
A14: 0 RPER309 IDPC CT | J14: 10 | CP14: =SMALL(B14:CO14,1) -> 10 | CQ14: =LARGE(B14:CO14,1) -> 10 | CR14: =IF($CP14>2,TRUE,FALSE) -> TRUE | CS14: =IF($CQ14-$CP14<=10,TRUE,FALSE) -> TRUE
A15: 0 RRA MOBIPOPC CT | AA15: 45 | AD15: 45 | AG15: 45 | AJ15: 45 | AK15: 45 | CP15: =SMALL(B15:CO15,1) -> 45 | CQ15: =LARGE(B15:CO15,1) -> 45 | CR15: =IF($CP15>2,TRUE,FALSE) -> TRUE | CS15: =IF($CQ15-$CP15<=10,TRUE,FALSE) -> TRUE
A16: 0 SAC E224 PC1 CT | AD16: 1 | AG16: 7 | AK16: 3 | AQ16: 3.5 | AS16: 3 | AV16: 11 | CP16: =SMALL(B16:CO16,1) -> 1 | CQ16: =LARGE(B16:CO16,1) -> 11 | CR16: =IF($CP16>2,TRUE,FALSE) -> FALSE | CS16: =IF($CQ16-$CP16<=10,TRUE,FALSE) -> TRUE
A17: 0 SAC N211 PC1 CT | B17: 2 | C17: 2 | G17: 2 | J17: 2 | CP17: =SMALL(B17:CO17,1) -> 2 | CQ17: =LARGE(B17:CO17,1) -> 2 | CR17: =IF($CP17>2,TRUE,FALSE) -> FALSE | CS17: =IF($CQ17-$CP17<=10,TRUE,FALSE) -> TRUE
A18: 0 SBD E224TYPC1 CT | AA18: 10 | AD18: 10 | AG18: 10 | AJ18: 10 | AK18: 10 | AS18: 10 | CP18: =SMALL(B18:CO18,1) -> 10 | CQ18: =LARGE(B18:CO18,1) -> 10 | CR18: =IF($CP18>2,TRUE,FALSE) -> TRUE | CS18: =IF($CQ18-$CP18<=10,TRUE,FALSE) -> TRUE
A19: 0 SIR 071309PC CT | B19: 2.9 | C19: 2.9 | G19: 2.7 | J19: 2.7 | L19: 2.7 | CP19: =SMALL(B19:CO19,1) -> 2.7 | CQ19: =LARGE(B19:CO19,1) -> 2.9 | CR19: =IF($CP19>2,TRUE,FALSE) -> TRUE | CS19: =IF($CQ19-$CP19<=10,TRUE,FALSE) -> TRUE
A20: 0 SIR 071609PC1 CT | AA20: 2.75 | AD20: 2.75 | AG20: 2.75 | AJ20: 2.75 | AK20: 0 | BE20: 0 | CP20: =SMALL(B20:CO20,1) -> 0 | CQ20: =LARGE(B20:CO20,1) -> 2.75 | CR20: =IF($CP20>2,TRUE,FALSE) -> FALSE | CS20: =IF($CQ20-$CP20<=10,TRUE,FALSE) -> TRUE
A21: 0 SRE 006 BAPC CT | AA21: 50 | AD21: 20 | AG21: 50 | AJ21: 36 | AK21: 36 | AS21: 20 | AV21: 25 | CP21: =SMALL(B21:CO21,1) -> 20 | CQ21: =LARGE(B21:CO21,1) -> 50 | CR21: =IF($CP21>2,TRUE,FALSE) -> TRUE | CS21: =IF($CQ21-$CP21<=10,TRUE,FALSE) -> FALSE
A22: 0 SRE 007 BAPC CT | AA22: 50 | AD22: 50 | AG22: 50 | AJ22: 50 | AK22: 50 | CP22: =SMALL(B22:CO22,1) -> 50 | CQ22: =LARGE(B22:CO22,1) -> 50 | CR22: =IF($CP22>2,TRUE,FALSE) -> TRUE | CS22: =IF($CQ22-$CP22<=10,TRUE,FALSE) -> TRUE
A23: 0 SRE E101TYPC1 CT | AA23: 50 | AD23: 50 | AG23: 50 | AJ23: 30 | AK23: 30 | CP23: =SMALL(B23:CO23,1) -> 30 | CQ23: =LARGE(B23:CO23,1) -> 50 | CR23: =IF($CP23>2,TRUE,FALSE) -> TRUE | CS23: =IF($CQ23-$CP23<=10,TRUE,FALSE) -> FALSE
A24: 0 TEP 005 FIPC CT | B24: 4 | Q24: 0.4 | T24: 6 | CP24: =SMALL(B24:CO24,1) -> 0.4 | CQ24: =LARGE(B24:CO24,1) -> 6 | CR24: =IF($CP24>2,TRUE,FALSE) -> FALSE | CS24: =IF($CQ24-$CP24<=10,TRUE,FALSE) -> TRUE
A25: 0 TEP 246 VYPC CT | B25: 25 | C25: 25 | G25: 40 | J25: 40 | L25: 40 | T25: 25 | CP25: =SMALL(B25:CO25,1) -> 25 | CQ25: =LARGE(B25:CO25,1) -> 40 | CR25: =IF($CP25>2,TRUE,FALSE) -> TRUE | CS25: =IF($CQ25-$CP25<=10,TRUE,FALSE) -> FALSE
A26: 0 TEP 454 VPPC CT | B26: 3 | C26: 2 | L26: 1.6 | T26: 2 | AC26: 16 | BF26: 50 | BG26: 3.3 | CP26: =SMALL(B26:CO26,1) -> 1.6 | CQ26: =LARGE(B26:CO26,1) -> 50 | CR26: =IF($CP26>2,TRUE,FALSE) -> FALSE | CS26: =IF($CQ26-$CP26<=10,TRUE,FALSE) -> FALSE
A27: 0 TEP 475 VDPC CT | B27: 9.999 | C27: 9.999 | G27: 9.999 | J27: 9.999 | CP27: =SMALL(B27:CO27,1) -> 9.999 | CQ27: =LARGE(B27:CO27,1) -> 9.999 | CR27: =IF($CP27>2,TRUE,FALSE) -> TRUE | CS27: =IF($CQ27-$CP27<=10,TRUE,FALSE) -> TRUE
A28: 0 TEP 486 VDPC CT | B28: 9.999 | C28: 9.999 | G28: 9.999 | J28: 9.999 | CP28: =SMALL(B28:CO28,1) -> 9.999 | CQ28: =LARGE(B28:CO28,1) -> 9.999 | CR28: =IF($CP28>2,TRUE,FALSE) -> TRUE | CS28: =IF($CQ28-$CP28<=10,TRUE,FALSE) -> TRUE
A29: 0 TEP 612 VYPC CT | B29: 24 | C29: 25 | G29: 25 | J29: 25 | Q29: 25 | T29: 24 | CP29: =SMALL(B29:CO29,1) -> 24 | CQ29: =LARGE(B29:CO29,1) -> 25 | CR29: =IF($CP29>2,TRUE,FALSE) -> TRUE | CS29: =IF($CQ29-$CP29<=10,TRUE,FALSE) -> TRUE
A30: 0 TEP N409TYPC1 CT | B30: 4 | C30: 2.2 | G30: 2.2 | AL30: 1.6 | BF30: 35 | BG30: 4.4 | CP30: =SMALL(B30:CO30,1) -> 1.6 | CQ30: =LARGE(B30:CO30,1) -> 35 | CR30: =IF($CP30>2,TRUE,FALSE) -> FALSE | CS30: =IF($CQ30-$CP30<=10,TRUE,FALSE) -> FALSE
A31: 0 TES 014 BAPC CT | AK31: 3 | BH31: 3 | CP31: =SMALL(B31:CO31,1) -> 3 | CQ31: =LARGE(B31:CO31,1) -> 3 | CR31: =IF($CP31>2,TRUE,FALSE) -> TRUE | CS31: =IF($CQ31-$CP31<=10,TRUE,FALSE) -> TRUE
A32: 0 TES 057 VSPC CT | AA32: 4 | AD32: 4 | AG32: 4 | AJ32: 4 | AK32: 1.2 | AS32: 4 | BA32: 1.2 | CP32: =SMALL(B32:CO32,1) -> 1.2 | CQ32: =LARGE(B32:CO32,1) -> 4 | CR32: =IF($CP32>2,TRUE,FALSE) -> FALSE | CS32: =IF($CQ32-$CP32<=10,TRUE,FALSE) -> TRUE
A33: 0 TES 184 VSPC CT | B33: 12 | C33: 12 | G33: 9 | J33: 17 | S33: 9 | T33: 12 | AH33: 12 | AL33: 7 | CP33: =SMALL(B33:CO33,1) -> 7 | CQ33: =LARGE(B33:CO33,1) -> 17 | CR33: =IF($CP33>2,TRUE,FALSE) -> TRUE | CS33: =IF($CQ33-$CP33<=10,TRUE,FALSE) -> TRUE
A34: 0 TES 404 TYPC1 CT | B34: 6 | C34: 2 | G34: 1.65 | Q34: 2 | AH34: 6 | CP34: =SMALL(B34:CO34,1) -> 1.65 | CQ34: =LARGE(B34:CO34,1) -> 6 | CR34: =IF($CP34>2,TRUE,FALSE) -> FALSE | CS34: =IF($CQ34-$CP34<=10,TRUE,FALSE) -> TRUE
A35: 0 TES E258TYPC1 CT | AA35: 6 | AD35: 4 | AG35: 6 | AJ35: 4 | AK35: 6 | AS35: 4 | BA35: 6 | BD35: 6 | CP35: =SMALL(B35:CO35,1) -> 4 | CQ35: =LARGE(B35:CO35,1) -> 6 | CR35: =IF($CP35>2,TRUE,FALSE) -> TRUE | CS35: =IF($CQ35-$CP35<=10,TRUE,FALSE) -> TRUE
A36: 0 TES E259TYPC1 CT | AA36: 2 | AG36: 3 | AR36: 2 | AS36: 0.6 | BH36: 1 | BX36: 5 | CP36: =SMALL(B36:CO36,1) -> 0.6 | CQ36: =LARGE(B36:CO36,1) -> 5 | CR36: =IF($CP36>2,TRUE,FALSE) -> FALSE | CS36: =IF($CQ36-$CP36<=10,TRUE,FALSE) -> TRUE
A37: 0 TEU 001 REPC1 CT | B37: 20 | C37: 20 | G37: 20 | J37: 20 | Q37: 20 | T37: 60 | AC37: 21 | AE37: 4.999 | AH37: 85 | CP37: =SMALL(B37:CO37,1) -> 4.999 | CQ37: =LARGE(B37:CO37,1) -> 85 | CR37: =IF($CP37>2,TRUE,FALSE) -> TRUE | CS37: =IF($CQ37-$CP37<=10,TRUE,FALSE) -> FALSE
A38: 0 TEU 005 BAPC2 CT | B38: 2 | C38: 2 | L38: 1.1 | CP38: =SMALL(B38:CO38,1) -> 1.1 | CQ38: =LARGE(B38:CO38,1) -> 2 | CR38: =IF($CP38>2,TRUE,FALSE) -> FALSE | CS38: =IF($CQ38-$CP38<=10,TRUE,FALSE) -> TRUE
A39: 0 TEU 005 BAPC3 CT | B39: 2.5 | C39: 2.5 | G39: 2 | J39: 2 | L39: 2 | AC39: 2.5 | CP39: =SMALL(B39:CO39,1) -> 2 | CQ39: =LARGE(B39:CO39,1) -> 2.5 | CR39: =IF($CP39>2,TRUE,FALSE) -> FALSE | CS39: =IF($CQ39-$CP39<=10,TRUE,FALSE) -> TRUE
A40: 0 TEU 005 FIPC CT | B40: 3.5 | C40: 1 | Q40: 5 | T40: 1 | CP40: =SMALL(B40:CO40,1) -> 1 | CQ40: =LARGE(B40:CO40,1) -> 5 | CR40: =IF($CP40>2,TRUE,FALSE) -> FALSE | CS40: =IF($CQ40-$CP40<=10,TRUE,FALSE) -> TRUE
A41: 0 TEU 018 BAPC CT | B41: 2 | C41: 2 | G41: 2 | J41: 2 | CP41: =SMALL(B41:CO41,1) -> 2 | CQ41: =LARGE(B41:CO41,1) -> 2 | CR41: =IF($CP41>2,TRUE,FALSE) -> FALSE | CS41: =IF($CQ41-$CP41<=10,TRUE,FALSE) -> TRUE
A42: 0 TEU 019 VPPC CT | B42: 4.999 | C42: 1.7 | AE42: 4.999 | BI42: 610 | BJ42: 5 | BK42: 10 | BL42: 5 | BM42: 4.9 | CP42: =SMALL(B42:CO42,1) -> 1.7 | CQ42: =LARGE(B42:CO42,1) -> 610 | CR42: =IF($CP42>2,TRUE,FALSE) -> FALSE | CS42: =IF($CQ42-$CP42<=10,TRUE,FALSE) -> FALSE
A43: 0 TEU 020 VPPC CT | B43: 5.999 | C43: 1.7 | AE43: 3.999 | BI43: 30 | BJ43: 6 | BK43: 10 | BL43: 9 | BM43: 3.4 | CP43: =SMALL(B43:CO43,1) -> 1.7 | CQ43: =LARGE(B43:CO43,1) -> 30 | CR43: =IF($CP43>2,TRUE,FALSE) -> FALSE | CS43: =IF($CQ43-$CP43<=10,TRUE,FALSE) -> FALSE
A44: 0 TEU 113 VPPC CT | B44: 20 | C44: 20 | G44: 20 | J44: 20 | CP44: =SMALL(B44:CO44,1) -> 20 | CQ44: =LARGE(B44:CO44,1) -> 20 | CR44: =IF($CP44>2,TRUE,FALSE) -> TRUE | CS44: =IF($CQ44-$CP44<=10,TRUE,FALSE) -> TRUE
A45: 0 TEU 114 VPPC CT | B45: 7.999 | C45: 7.999 | G45: 7.999 | J45: 7.999 | CP45: =SMALL(B45:CO45,1) -> 7.999 | CQ45: =LARGE(B45:CO45,1) -> 7.999 | CR45: =IF($CP45>2,TRUE,FALSE) -> TRUE | CS45: =IF($CQ45-$CP45<=10,TRUE,FALSE) -> TRUE
A46: 0 TEU 124 VPPC CT | G46: 8 | J46: 5 | AE46: 3 | AL46: 5 | CP46: =SMALL(B46:CO46,1) -> 3 | CQ46: =LARGE(B46:CO46,1) -> 8 | CR46: =IF($CP46>2,TRUE,FALSE) -> TRUE | CS46: =IF($CQ46-$CP46<=10,TRUE,FALSE) -> TRUE
A47: 0 TEU 369 VPPC CT | B47: 6.999 | C47: 6.999 | G47: 6.999 | J47: 6.999 | CP47: =SMALL(B47:CO47,1) -> 6.999 | CQ47: =LARGE(B47:CO47,1) -> 6.999 | CR47: =IF($CP47>2,TRUE,FALSE) -> TRUE | CS47: =IF($CQ47-$CP47<=10,TRUE,FALSE) -> TRUE
A48: 0 TEU 376 VPPC CT | B48: 9.999 | C48: 9.999 | G48: 9.999 | J48: 9.999 | CP48: =SMALL(B48:CO48,1) -> 9.999 | CQ48: =LARGE(B48:CO48,1) -> 9.999 | CR48: =IF($CP48>2,TRUE,FALSE) -> TRUE | CS48: =IF($CQ48-$CP48<=10,TRUE,FALSE) -> TRUE
A49: 0 TEU 471 VPPC CT | B49: 6.999 | C49: 6.999 | G49: 6.999 | J49: 6.999 | CP49: =SMALL(B49:CO49,1) -> 6.999 | CQ49: =LARGE(B49:CO49,1) -> 6.999 | CR49: =IF($CP49>2,TRUE,FALSE) -> TRUE | CS49: =IF($CQ49-$CP49<=10,TRUE,FALSE) -> TRUE
A50: 0 TEU 487 VSPC CT | B50: 10 | C50: 10 | G50: 10 | J50: 10 | CP50: =SMALL(B50:CO50,1) -> 10 | CQ50: =LARGE(B50:CO50,1) -> 10 | CR50: =IF($CP50>2,TRUE,FALSE) -> TRUE | CS50: =IF($CQ50-$CP50<=10,TRUE,FALSE) -> TRUE
A51: 0 TEU 939 VPPC CT | G51: 10 | J51: 7 | S51: 10 | AE51: 0.7 | AL51: 7 | CP51: =SMALL(B51:CO51,1) -> 0.7 | CQ51: =LARGE(B51:CO51,1) -> 10 | CR51: =IF($CP51>2,TRUE,FALSE) -> FALSE | CS51: =IF($CQ51-$CP51<=10,TRUE,FALSE) -> TRUE
A52: 0 TEU MOB PO PC CT | C52: 8 | G52: 8 | J52: 8 | T52: 8 | CP52: =SMALL(B52:CO52,1) -> 8 | CQ52: =LARGE(B52:CO52,1) -> 8 | CR52: =IF($CP52>2,TRUE,FALSE) -> TRUE | CS52: =IF($CQ52-$CP52<=10,TRUE,FALSE) -> TRUE
A53: 0 TEU N232TYPC1 CT | B53: 20 | C53: 20 | G53: 3 | J53: 10 | Q53: 20 | S53: 10 | AE53: 5 | AL53: 5 | AO53: 10 | CP53: =SMALL(B53:CO53,1) -> 3 | CQ53: =LARGE(B53:CO53,1) -> 20 | CR53: =IF($CP53>2,TRUE,FALSE) -> TRUE | CS53: =IF($CQ53-$CP53<=10,TRUE,FALSE) -> FALSE
A54: 0 TEU N237TYPC CT | AE54: 20 | AN54: 30 | BE54: 30 | CP54: =SMALL(B54:CO54,1) -> 20 | CQ54: =LARGE(B54:CO54,1) -> 30 | CR54: =IF($CP54>2,TRUE,FALSE) -> TRUE | CS54: =IF($CQ54-$CP54<=10,TRUE,FALSE) -> TRUE
A55: 0 TEU N238TYPC1 CT | B55: 95 | C55: 95 | G55: 95 | J55: 95 | L55: 95 | AO55: 95 | CP55: =SMALL(B55:CO55,1) -> 95 | CQ55: =LARGE(B55:CO55,1) -> 95 | CR55: =IF($CP55>2,TRUE,FALSE) -> TRUE | CS55: =IF($CQ55-$CP55<=10,TRUE,FALSE) -> TRUE
A56: 0 TEU N241TYPC1 CT | B56: 15.999 | C56: 15.999 | G56: 15.999 | J56: 15.999 | CP56: =SMALL(B56:CO56,1) -> 15.999 | CQ56: =LARGE(B56:CO56,1) -> 15.999 | CR56: =IF($CP56>2,TRUE,FALSE) -> TRUE | CS56: =IF($CQ56-$CP56<=10,TRUE,FALSE) -> TRUE
A57: 0 TEU N241TYPC2 CT | B57: 30 | C57: 30 | G57: 30 | J57: 30 | CP57: =SMALL(B57:CO57,1) -> 30 | CQ57: =LARGE(B57:CO57,1) -> 30 | CR57: =IF($CP57>2,TRUE,FALSE) -> TRUE | CS57: =IF($CQ57-$CP57<=10,TRUE,FALSE) -> TRUE
A58: 0 TEU N308TYPC01 CT | C58: 8 | G58: 8 | J58: 5 | T58: 8 | AL58: 5 | CP58: =SMALL(B58:CO58,1) -> 5 | CQ58: =LARGE(B58:CO58,1) -> 8 | CR58: =IF($CP58>2,TRUE,FALSE) -> TRUE | CS58: =IF($CQ58-$CP58<=10,TRUE,FALSE) -> TRUE
A59: 2 CONTK211 PC01 CT | C59: 11 | S59: 0.015 | AC59: 0.025 | CP59: =SMALL(B59:CO59,1) -> 0.015 | CQ59: =LARGE(B59:CO59,1) -> 11 | CR59: =IF($CP59>2,TRUE,FALSE) -> FALSE | CS59: =IF($CQ59-$CP59<=10,TRUE,FALSE) -> FALSE
A60: 2 CONTW233 PC1 CT | B60: 11 | T60: 0.001 | AH60: 11.2 | BY60: 5 | CP60: =SMALL(B60:CO60,1) -> 0.001 | CQ60: =LARGE(B60:CO60,1) -> 11.2 | CR60: =IF($CP60>2,TRUE,FALSE) -> FALSE | CS60: =IF($CQ60-$CP60<=10,TRUE,FALSE) -> FALSE
A61: 2 CONTW233 PC2 CT | B61: 1 | C61: 0.001 | AH61: 5 | CP61: =SMALL(B61:CO61,1) -> 0.001 | CQ61: =LARGE(B61:CO61,1) -> 5 | CR61: =IF($CP61>2,TRUE,FALSE) -> FALSE | CS61: =IF($CQ61-$CP61<=10,TRUE,FALSE) -> TRUE
A62: 2 EAS 001 RFPC1 CT | B62: 5 | T62: 1 | CP62: =SMALL(B62:CO62,1) -> 1 | CQ62: =LARGE(B62:CO62,1) -> 5 | CR62: =IF($CP62>2,TRUE,FALSE) -> FALSE | CS62: =IF($CQ62-$CP62<=10,TRUE,FALSE) -> TRUE
A63: 2 EAS 001 RFPC2 CT | J63: 3 | CP63: =SMALL(B63:CO63,1) -> 3 | CQ63: =LARGE(B63:CO63,1) -> 3 | CR63: =IF($CP63>2,TRUE,FALSE) -> TRUE | CS63: =IF($CQ63-$CP63<=10,TRUE,FALSE) -> TRUE
A64: 2 EAS 001 RFPC3 CT | B64: 4 | C64: 4 | G64: 0.8 | CP64: =SMALL(B64:CO64,1) -> 0.8 | CQ64: =LARGE(B64:CO64,1) -> 4 | CR64: =IF($CP64>2,TRUE,FALSE) -> FALSE | CS64: =IF($CQ64-$CP64<=10,TRUE,FALSE) -> TRUE
A65: 2 EAS 001 RFPC5 CT | B65: 28 | C65: 30 | G65: 30 | J65: 30 | Q65: 30 | T65: 38 | CP65: =SMALL(B65:CO65,1) -> 28 | CQ65: =LARGE(B65:CO65,1) -> 38 | CR65: =IF($CP65>2,TRUE,FALSE) -> TRUE | CS65: =IF($CQ65-$CP65<=10,TRUE,FALSE) -> TRUE
A66: 2 EAS 002 RFPC1 CT | B66: 22 | C66: 20 | G66: 13 | J66: 18 | Q66: 20 | S66: 13 | AE66: 18 | AO66: 18 | CP66: =SMALL(B66:CO66,1) -> 13 | CQ66: =LARGE(B66:CO66,1) -> 22 | CR66: =IF($CP66>2,TRUE,FALSE) -> TRUE | CS66: =IF($CQ66-$CP66<=10,TRUE,FALSE) -> TRUE
A67: 2 EAS 002 RFPC2 CT | B67: 20 | C67: 15 | G67: 15 | J67: 15 | CP67: =SMALL(B67:CO67,1) -> 15 | CQ67: =LARGE(B67:CO67,1) -> 20 | CR67: =IF($CP67>2,TRUE,FALSE) -> TRUE | CS67: =IF($CQ67-$CP67<=10,TRUE,FALSE) -> TRUE
A68: 2 EAS 002 RFPC3 CT | B68: 15 | C68: 15 | G68: 31 | J68: 36 | Q68: 23 | S68: 31 | AO68: 36 | CP68: =SMALL(B68:CO68,1) -> 15 | CQ68: =LARGE(B68:CO68,1) -> 36 | CR68: =IF($CP68>2,TRUE,FALSE) -> TRUE | CS68: =IF($CQ68-$CP68<=10,TRUE,FALSE) -> FALSE
A69: 2 EAS 002 RFPC4 CT | J69: 4.5 | AO69: 4.5 | CP69: =SMALL(B69:CO69,1) -> 4.5 | CQ69: =LARGE(B69:CO69,1) -> 4.5 | CR69: =IF($CP69>2,TRUE,FALSE) -> TRUE | CS69: =IF($CQ69-$CP69<=10,TRUE,FALSE) -> TRUE
A70: 2 EAS 002 VBPC CT | B70: 25 | C70: 40 | G70: 30 | J70: 30 | L70: 30 | T70: 40 | CP70: =SMALL(B70:CO70,1) -> 25 | CQ70: =LARGE(B70:CO70,1) -> 40 | CR70: =IF($CP70>2,TRUE,FALSE) -> TRUE | CS70: =IF($CQ70-$CP70<=10,TRUE,FALSE) -> FALSE
A71: 2 EAS 108 VBPC CT | B71: 18 | C71: 18 | G71: 18 | J71: 18 | S71: 14 | CP71: =SMALL(B71:CO71,1) -> 14 | CQ71: =LARGE(B71:CO71,1) -> 18 | CR71: =IF($CP71>2,TRUE,FALSE) -> TRUE | CS71: =IF($CQ71-$CP71<=10,TRUE,FALSE) -> TRUE
A72: 2 OBJ N225 PC1 CT | B72: 0.1 | AC72: 4 | CP72: =SMALL(B72:CO72,1) -> 0.1 | CQ72: =LARGE(B72:CO72,1) -> 4 | CR72: =IF($CP72>2,TRUE,FALSE) -> FALSE | CS72: =IF($CQ72-$CP72<=10,TRUE,FALSE) -> TRUE
A73: 2 PTR 001 RFPC1 CT | B73: 30 | C73: 30 | G73: 30 | J73: 50 | AL73: 50 | BZ73: 130 | CP73: =SMALL(B73:CO73,1) -> 30 | CQ73: =LARGE(B73:CO73,1) -> 130 | CR73: =IF($CP73>2,TRUE,FALSE) -> TRUE | CS73: =IF($CQ73-$CP73<=10,TRUE,FALSE) -> FALSE
A74: 2 PTR 011 VBPC CT | B74: 200 | C74: 200 | AC74: 200 | BB74: 1.6 | CP74: =SMALL(B74:CO74,1) -> 1.6 | CQ74: =LARGE(B74:CO74,1) -> 200 | CR74: =IF($CP74>2,TRUE,FALSE) -> FALSE | CS74: =IF($CQ74-$CP74<=10,TRUE,FALSE) -> FALSE
A75: 2 PTR 132 VBPC CT | B75: 600 | C75: 600 | G75: 600 | J75: 600 | CP75: =SMALL(B75:CO75,1) -> 600 | CQ75: =LARGE(B75:CO75,1) -> 600 | CR75: =IF($CP75>2,TRUE,FALSE) -> TRUE | CS75: =IF($CQ75-$CP75<=10,TRUE,FALSE) -> TRUE
A76: 2 PTR 143 VB PC CT | O76: 6 | CP76: =SMALL(B76:CO76,1) -> 6 | CQ76: =LARGE(B76:CO76,1) -> 6 | CR76: =IF($CP76>2,TRUE,FALSE) -> TRUE | CS76: =IF($CQ76-$CP76<=10,TRUE,FALSE) -> TRUE
A77: 2 PTR 144 VB PC CT | O77: 20 | CP77: =SMALL(B77:CO77,1) -> 20 | CQ77: =LARGE(B77:CO77,1) -> 20 | CR77: =IF($CP77>2,TRUE,FALSE) -> TRUE | CS77: =IF($CQ77-$CP77<=10,TRUE,FALSE) -> TRUE
A78: 2 PTR 149 VB PC CT | O78: 3.6 | CP78: =SMALL(B78:CO78,1) -> 3.6 | CQ78: =LARGE(B78:CO78,1) -> 3.6 | CR78: =IF($CP78>2,TRUE,FALSE) -> TRUE | CS78: =IF($CQ78-$CP78<=10,TRUE,FALSE) -> TRUE
A79: 2 PTR 150 VB PC CT | O79: 4 | CP79: =SMALL(B79:CO79,1) -> 4 | CQ79: =LARGE(B79:CO79,1) -> 4 | CR79: =IF($CP79>2,TRUE,FALSE) -> TRUE | CS79: =IF($CQ79-$CP79<=10,TRUE,FALSE) -> TRUE
A80: 2 PTR 166 VPPC CT | B80: 15 | C80: 15 | G80: 15 | J80: 15 | CP80: =SMALL(B80:CO80,1) -> 15 | CQ80: =LARGE(B80:CO80,1) -> 15 | CR80: =IF($CP80>2,TRUE,FALSE) -> TRUE | CS80: =IF($CQ80-$CP80<=10,TRUE,FALSE) -> TRUE
A81: 2 PTR 217 VB PC CT | O81: 1.5 | CP81: =SMALL(B81:CO81,1) -> 1.5 | CQ81: =LARGE(B81:CO81,1) -> 1.5 | CR81: =IF($CP81>2,TRUE,FALSE) -> FALSE | CS81: =IF($CQ81-$CP81<=10,TRUE,FALSE) -> TRUE
A82: 2 PTR 255 VBPC CT | B82: 37 | C82: 37 | G82: 15 | J82: 15 | L82: 15 | S82: 11 | CP82: =SMALL(B82:CO82,1) -> 11 | CQ82: =LARGE(B82:CO82,1) -> 37 | CR82: =IF($CP82>2,TRUE,FALSE) -> TRUE | CS82: =IF($CQ82-$CP82<=10,TRUE,FALSE) -> FALSE
A83: 2 PTR 907 VBPC CT | B83: 20 | C83: 20 | G83: 20 | J83: 20 | CP83: =SMALL(B83:CO83,1) -> 20 | CQ83: =LARGE(B83:CO83,1) -> 20 | CR83: =IF($CP83>2,TRUE,FALSE) -> TRUE | CS83: =IF($CQ83-$CP83<=10,TRUE,FALSE) -> TRUE
A84: 2 PTR 908 VBPC CT | B84: 350 | C84: 350 | G84: 350 | J84: 350 | CP84: =SMALL(B84:CO84,1) -> 350 | CQ84: =LARGE(B84:CO84,1) -> 350 | CR84: =IF($CP84>2,TRUE,FALSE) -> TRUE | CS84: =IF($CQ84-$CP84<=10,TRUE,FALSE) -> TRUE
A85: 2 PTR 921 VBPC CT | B85: 100 | C85: 100 | G85: 100 | J85: 100 | CP85: =SMALL(B85:CO85,1) -> 100 | CQ85: =LARGE(B85:CO85,1) -> 100 | CR85: =IF($CP85>2,TRUE,FALSE) -> TRUE | CS85: =IF($CQ85-$CP85<=10,TRUE,FALSE) -> TRUE
A86: 2 PTR K212TYPC1 CT | B86: 60 | C86: 20 | G86: 48 | J86: 48 | L86: 50 | Q86: 20 | S86: 48 | AE86: 30 | CP86: =SMALL(B86:CO86,1) -> 20 | CQ86: =LARGE(B86:CO86,1) -> 60 | CR86: =IF($CP86>2,TRUE,FALSE) -> TRUE | CS86: =IF($CQ86-$CP86<=10,TRUE,FALSE) -> FALSE
A87: 2 PTR K219TYPC2 CT | B87: 15 | C87: 22 | G87: 22 | J87: 22 | AC87: 15 | CP87: =SMALL(B87:CO87,1) -> 15 | CQ87: =LARGE(B87:CO87,1) -> 22 | CR87: =IF($CP87>2,TRUE,FALSE) -> TRUE | CS87: =IF($CQ87-$CP87<=10,TRUE,FALSE) -> TRUE
A88: 2 PTR K414TYPC1 CT | B88: 15 | C88: 15 | G88: 20 | J88: 20 | CP88: =SMALL(B88:CO88,1) -> 15 | CQ88: =LARGE(B88:CO88,1) -> 20 | CR88: =IF($CP88>2,TRUE,FALSE) -> TRUE | CS88: =IF($CQ88-$CP88<=10,TRUE,FALSE) -> TRUE
A89: 2 PTR R320TYPC1 CT | O89: 10 | CP89: =SMALL(B89:CO89,1) -> 10 | CQ89: =LARGE(B89:CO89,1) -> 10 | CR89: =IF($CP89>2,TRUE,FALSE) -> TRUE | CS89: =IF($CQ89-$CP89<=10,TRUE,FALSE) -> TRUE
A90: 2 PTR W122TYPC1 CT | J90: 30 | AE90: 60 | AO90: 30 | CP90: =SMALL(B90:CO90,1) -> 30 | CQ90: =LARGE(B90:CO90,1) -> 60 | CR90: =IF($CP90>2,TRUE,FALSE) -> TRUE | CS90: =IF($CQ90-$CP90<=10,TRUE,FALSE) -> FALSE
A91: 2 PTR W213TYPC1 CT | B91: 200 | C91: 200 | G91: 200 | J91: 280 | AC91: 260 | AO91: 280 | CP91: =SMALL(B91:CO91,1) -> 200 | CQ91: =LARGE(B91:CO91,1) -> 280 | CR91: =IF($CP91>2,TRUE,FALSE) -> TRUE | CS91: =IF($CQ91-$CP91<=10,TRUE,FALSE) -> FALSE
A92: 2 PTR W214TYPC1 CT | B92: 111 | C92: 110 | G92: 280 | J92: 420 | T92: 110 | AC92: 15 | AL92: 420 | CP92: =SMALL(B92:CO92,1) -> 15 | CQ92: =LARGE(B92:CO92,1) -> 420 | CR92: =IF($CP92>2,TRUE,FALSE) -> TRUE | CS92: =IF($CQ92-$CP92<=10,TRUE,FALSE) -> FALSE
A93: 2 RCP 111 VPPC CT | CA93: 6.5 | CP93: =SMALL(B93:CO93,1) -> 6.5 | CQ93: =LARGE(B93:CO93,1) -> 6.5 | CR93: =IF($CP93>2,TRUE,FALSE) -> TRUE | CS93: =IF($CQ93-$CP93<=10,TRUE,FALSE) -> TRUE
A94: 2 RCP 116 VP PC CT | O94: 20 | CP94: =SMALL(B94:CO94,1) -> 20 | CQ94: =LARGE(B94:CO94,1) -> 20 | CR94: =IF($CP94>2,TRUE,FALSE) -> TRUE | CS94: =IF($CQ94-$CP94<=10,TRUE,FALSE) -> TRUE
A95: 2 RCP 216 VP PC CT | O95: 5 | CP95: =SMALL(B95:CO95,1) -> 5 | CQ95: =LARGE(B95:CO95,1) -> 5 | CR95: =IF($CP95>2,TRUE,FALSE) -> TRUE | CS95: =IF($CQ95-$CP95<=10,TRUE,FALSE) -> TRUE
A96: 2 RCP 801 VP PC CT | O96: 2 | CP96: =SMALL(B96:CO96,1) -> 2 | CQ96: =LARGE(B96:CO96,1) -> 2 | CR96: =IF($CP96>2,TRUE,FALSE) -> FALSE | CS96: =IF($CQ96-$CP96<=10,TRUE,FALSE) -> TRUE
A97: 2 RCP 803 VP PC CT | O97: 2.8 | CP97: =SMALL(B97:CO97,1) -> 2.8 | CQ97: =LARGE(B97:CO97,1) -> 2.8 | CR97: =IF($CP97>2,TRUE,FALSE) -> TRUE | CS97: =IF($CQ97-$CP97<=10,TRUE,FALSE) -> TRUE
A98: 2 RCP 805 VPPC1 CT | O98: 1 | CP98: =SMALL(B98:CO98,1) -> 1 | CQ98: =LARGE(B98:CO98,1) -> 1 | CR98: =IF($CP98>2,TRUE,FALSE) -> FALSE | CS98: =IF($CQ98-$CP98<=10,TRUE,FALSE) -> TRUE
A99: 2 RCP R311TYPC1 CT | O99: 3 | CP99: =SMALL(B99:CO99,1) -> 3 | CQ99: =LARGE(B99:CO99,1) -> 3 | CR99: =IF($CP99>2,TRUE,FALSE) -> TRUE | CS99: =IF($CQ99-$CP99<=10,TRUE,FALSE) -> TRUE
A100: 2 RCP R331TYPC1 CT | O100: 5 | CP100: =SMALL(B100:CO100,1) -> 5 | CQ100: =LARGE(B100:CO100,1) -> 5 | CR100: =IF($CP100>2,TRUE,FALSE) -> TRUE | CS100: =IF($CQ100-$CP100<=10,TRUE,FALSE) -> TRUE
...

Sheet Tableau récapitulatif
B1: ='Export Point chaud 2015 sans se'!CR1 -> Point Chaud | C1: ='Export Point chaud 2015 sans se'!CS1 -> Constant
A2: ='Export Point chaud 2015 sans se'!A2 -> 0 FLEXE238 PC1 CT | B2: ='Export Point chaud 2015 sans se'!CR2 -> FALSE | C2: ='Export Point chaud 2015 sans se'!CS2 -> TRUE
A3: ='Export Point chaud 2015 sans se'!A3 -> 0 FLEXE238 PC2 CT | B3: ='Export Point chaud 2015 sans se'!CR3 -> FALSE | C3: ='Export Point chaud 2015 sans se'!CS3 -> TRUE
A4: ='Export Point chaud 2015 sans se'!A4 -> 0 MERCE257TYPC1 CT | B4: ='Export Point chaud 2015 sans se'!CR4 -> FALSE | C4: ='Export Point chaud 2015 sans se'!CS4 -> TRUE
A5: ='Export Point chaud 2015 sans se'!A5 -> 0 PMU 151 VDPC CT | B5: ='Export Point chaud 2015 sans se'!CR5 -> TRUE | C5: ='Export Point chaud 2015 sans se'!CS5 -> TRUE
A6: ='Export Point chaud 2015 sans se'!A6 -> 0 PMU 255 VKPC CT | B6: ='Export Point chaud 2015 sans se'!CR6 -> TRUE | C6: ='Export Point chaud 2015 sans se'!CS6 -> TRUE
A7: ='Export Point chaud 2015 sans se'!A7 -> 0 PTR 207 VBPC CT | B7: ='Export Point chaud 2015 sans se'!CR7 -> TRUE | C7: ='Export Point chaud 2015 sans se'!CS7 -> TRUE
A8: ='Export Point chaud 2015 sans se'!A8 -> 0 PTR 208 VBPC CT | B8: ='Export Point chaud 2015 sans se'!CR8 -> TRUE | C8: ='Export Point chaud 2015 sans se'!CS8 -> TRUE
A9: ='Export Point chaud 2015 sans se'!A9 -> 0 PTR E203TYPC1 CT | B9: ='Export Point chaud 2015 sans se'!CR9 -> FALSE | C9: ='Export Point chaud 2015 sans se'!CS9 -> TRUE
A10: ='Export Point chaud 2015 sans se'!A10 -> 0 RPE 104 VSPC CT | B10: ='Export Point chaud 2015 sans se'!CR10 -> TRUE | C10: ='Export Point chaud 2015 sans se'!CS10 -> FALSE
A11: ='Export Point chaud 2015 sans se'!A11 -> 0 RPE 299 VPPC CT | B11: ='Export Point chaud 2015 sans se'!CR11 -> TRUE | C11: ='Export Point chaud 2015 sans se'!CS11 -> FALSE
A12: ='Export Point chaud 2015 sans se'!A12 -> 0 RPE 945 VPPC CT | B12: ='Export Point chaud 2015 sans se'!CR12 -> FALSE | C12: ='Export Point chaud 2015 sans se'!CS12 -> TRUE
A13: ='Export Point chaud 2015 sans se'!A13 -> 0 RPEH063 LNPC CT | B13: ='Export Point chaud 2015 sans se'!CR13 -> TRUE | C13: ='Export Point chaud 2015 sans se'!CS13 -> FALSE
... A561: ='Export Point chaud 2015 sans se'!A561 -> 9 TEU N308TYPC1 CT | B561: ='Export Point chaud 2015 sans se'!CR561 -> FALSE | C561: ='Export Point chaud 2015 sans se'!CS561 -> TRUE
