Workbook

Sheet Export Point chaud 2015 sans se
B1: 42013.24 | C1: 42019.444 | D1: 42023.475 | E1: 42027.361 | F1: 42030.446 | G1: 42031.417 | H1: 42032.615 | I1: 42040.382 | J1: 42048.47 | K1: 42049.438 | L1: 42049.792 | M1: 42058.469 | N1: 42059.667 | O1: 42062.438 | P1: 42063.731 | Q1: 42068.422 | R1: 42073.349 | S1: 42076.259 | T1: 42079.292 | U1: 42088.495 | V1: 42102.542 | W1: 42108.423 | X1: 42111.646 | Y1: 42122.426 | Z1: 42128.68 | AA1: 42131.369 | AB1: 42137.437 | AC1: 42143.291 | AD1: 42146.369 | AE1: 42147.792 | AF1: 42150.356 | AG1: 42151.519 | AH1: 42154.707 | AI1: 42154.722 | AJ1: 42158.701 | AK1: 42159.489 | AL1: 42165.494 | AM1: 42167.303 | AN1: 42181.453 | AO1: 42181.973 | AP1: 42192.353 | AQ1: 42200.583 | AR1: 42201.453 | AS1: 42212.476 | AT1: 42222.4 | AU1: 42228.547 | AV1: 42230.315 | AW1: 42244.223 | AX1: 42244.249 | AY1: 42247.301 | AZ1: 42254.431 | BA1: 42255.374 | BB1: 42262.365 | BC1: 42272.325 | BD1: 42283.29 | BE1: 42284.38 | BF1: 42292.389 | BG1: 42304.379 | BH1: 42305.417 | BI1: 42308.331 | BJ1: 42314.349 | BK1: 42321.385 | BL1: 42332.437 | BM1: 42340.356 | BN1: 42343.372 | BO1: 42345.449 | BP1: 42347.615 | BQ1: 42348.443 | BR1: 42349.38 | BS1: 42352.632 | BT1: 42360.438 | BU1: 42360.604 | BV1: 42361.44 | BW1: 42374.458 | BX1: 42377.41 | BY1: 42382.708 | BZ1: 42387.445 | CA1: 42395.465 | CB1: 42404.492 | CC1: 42405.348 | CD1: 42405.562 | CE1: 42412.37 | CF1: 42412.479 | CG1: 42422.583 | CH1: 42425.3 | CI1: 42427.699 | CJ1: 42427.717 | CK1: 42430.625 | CL1: 42431.512 | CM1: 42432.453 | CN1: 42436.466 | CO1: 42437.708 | CP1: Petite Val | CQ1: Grande Val | CR1: Point Chaud | CS1: Constant
A2: 0 FLEXE238 PC1 CT | AA2: 0.2 | AG2: 3 | AQ2: 0.2 | CP2: =SMALL(B2:CO2,1) -> 0.2 | CQ2: =LARGE(B2:CO2,1) -> 3 | CR2: =IF($CP2>2,TRUE,FALSE) -> FALSE | CS2: =IF($CQ2-$CP2<=10,TRUE,FALSE) -> TRUE
A3: 0 FLEXE238 PC2 CT | AA3: 0.05 | AG3: 9 | AQ3: 0.05 | CP3: =SMALL(B3:CO3,1) -> 0.05 | CQ3: =LARGE(B3:CO3,1) -> 9 | CR3: =IF($CP3>2,TRUE,FALSE) -> FALSE | CS3: =IF($CQ3-$CP3<=10,TRUE,FALSE) -> TRUE
A4: 0 MERCE257TYPC1 CT | BV4: 5 | BW4: 0.001 | CP4: =SMALL(B4:CO4,1) -> 0.001 | CQ4: =LARGE(B4:CO4,1) -> 5 | CR4: =IF($CP4>2,TRUE,FALSE) -> FALSE | CS4: =IF($CQ4-$CP4<=10,TRUE,FALSE) -> TRUE
A5: 0 PMU 151 VDPC CT | AA5: 10 | AD5: 10 | AG5: 10 | AJ5: 10 | AK5: 10 | BD5: 10 | CP5: =SMALL(B5:CO5,1) -> 10 | CQ5: =LARGE(B5:CO5,1) -> 10 | CR5: =IF($CP5>2,TRUE,FALSE) -> TRUE | CS5: =IF($CQ5-$CP5<=10,TRUE,FALSE) -> TRUE
A6: 0 PMU 255 VKPC CT | AA6: 3 | AD6: 5 | AG6: 3 | AJ6: 5 | AK6: 5 | CP6: =SMALL(B6:CO6,1) -> 3 | CQ6: =LARGE(B6:CO6,1) -> 5 | CR6: =IF($CP6>2,TRUE,FALSE) -> TRUE | CS6: =IF($CQ6-$CP6<=10,TRUE,FALSE) -> TRUE
A7: 0 PTR 207 VBPC CT | B7: 15 | C7: 15 | G7: 15 | J7: 15 | CP7: =SMALL(B7:CO7,1) -> 15 | CQ7: =LARGE(B7:CO7,1) -> 15 | CR7: =IF($CP7>2,TRUE,FALSE) -> TRUE | CS7: =IF($CQ7-$CP7<=10,TRUE,FALSE) -> TRUE
A8: 0 PTR 208 VBPC CT | B8: 6 | C8: 6 | G8: 6 | J8: 6 | CP8: =SMALL(B8:CO8,1) -> 6 | CQ8: =LARGE(B8:CO8,1) -> 6 | CR8: =IF($CP8>2,TRUE,FALSE) -> TRUE | CS8: =IF($CQ8-$CP8<=10,TRUE,FALSE) -> TRUE
A9: 0 PTR E203TYPC1 CT | AD9: 3 | AT9: 1.7 | CP9: =SMALL(B9:CO9,1) -> 1.7 | CQ9: =LARGE(B9:CO9,1) -> 3 | CR9: =IF($CP9>2,TRUE,FALSE) -> FALSE | CS9: =IF($CQ9-$CP9<=10,TRUE,FALSE) -> TRUE
A10: 0 RPE 104 VSPC CT | B10: 60 | C10: 60 | G10: 60 | J10: 25 | T10: 60 | AH10: 60 | AL10: 25 | CP10: =SMALL(B10:CO10,1) -> 25 | CQ10: =LARGE(B10:CO10,1) -> 60 | CR10: =IF($CP10>2,TRUE,FALSE) -> TRUE | CS10: =IF($CQ10-$CP10<=10,TRUE,FALSE) -> FALSE
A11: 0 RPE 299 VPPC CT | B11: 120 | C11: 100 | G11: 45 | J11: 25 | L11: 45 | AC11: 10 | AH11: 120 | AO11: 25 | CP11: =SMALL(B11:CO11,1) -> 10 | CQ11: =LARGE(B11:CO11,1) -> 120 | CR11: =IF($CP11>2,TRUE,FALSE) -> TRUE | CS11: =IF($CQ11-$CP11<=10,TRUE,FALSE) -> FALSE
A12: 0 RPE 945 VPPC CT | B12: 3 | C12: 2.99 | G12: 2.99 | J12: 1 | AH12: 3 | CP12: =SMALL(B12:CO12,1) -> 1 | CQ12: =LARGE(B12:CO12,1) -> 3 | CR12: =IF($CP12>2,TRUE,FALSE) -> FALSE | CS12: =IF($CQ12-$CP12<=10,TRUE,FALSE) -> TRUE
A13: 0 RPEH063 LNPC CT | B13: 50 | C13: 30 | G13: 40 | J13: 40 | L13: 40 | AC13: 2.5 | AO13: 40 | CP13: =SMALL(B13:CO13,1) -> 2.5 | CQ13: =LARGE(B13:CO13,1) -> 50 | CR13: =IF($CP13>2,TRUE,FALSE) -> TRUE | CS13: =IF($CQ13-$CP13<=10,TRUE,FALSE) -> FALSE
A14: 0 RPER309 IDPC CT | J14: 10 | CP14: =SMALL(B14:CO14,1) -> 10 | CQ14: =LARGE(B14:CO14,1) -> 10 | CR14: =IF($CP14>2,TRUE,FALSE) -> TRUE | CS14: =IF($CQ14-$CP14<=10,TRUE,FALSE) -> TRUE
A15: 0 RRA MOBIPOPC CT | AA15: 45 | AD15: 45 | AG15: 45 | AJ15: 45 | AK15: 45 | CP15: =SMALL(B15:CO15,1) -> 45 | CQ15: =LARGE(B15:CO15,1) -> 45 | CR15: =IF($CP15>2,TRUE,FALSE) -> TRUE | CS15: =IF($CQ15-$CP15<=10,TRUE,FALSE) -> TRUE
A16: 0 SAC E224 PC1 CT | AD16: 1 | AG16: 7 | AK16: 3 | AQ16: 3.5 | AS16: 3 | AV16: 11 | CP16: =SMALL(B16:CO16,1) -> 1 | CQ16: =LARGE(B16:CO16,1) -> 11 | CR16: =IF($CP16>2,TRUE,FALSE) -> FALSE | CS16: =IF($CQ16-$CP16<=10,TRUE,FALSE) -> TRUE
A17: 0 SAC N211 PC1 CT | B17: 2 | C17: 2 | G17: 2 | J17: 2 | CP17: =SMALL(B17:CO17,1) -> 2 | CQ17: =LARGE(B17:CO17,1) -> 2 | CR17: =IF($CP17>2,TRUE,FALSE) -> FALSE | CS17: =IF($CQ17-$CP17<=10,TRUE,FALSE) -> TRUE
A18: 0 SBD E224TYPC1 CT | AA18: 10 | AD18: 10 | AG18: 10 | AJ18: 10 | AK18: 10 | AS18: 10 | CP18: =SMALL(B18:CO18,1) -> 10 | CQ18: =LARGE(B18:CO18,1) -> 10 | CR18: =IF($CP18>2,TRUE,FALSE) -> TRUE | CS18: =IF($CQ18-$CP18<=10,TRUE,FALSE) -> TRUE
A19: 0 SIR 071309PC CT | B19: 2.9 | C19: 2.9 | G19: 2.7 | J19: 2.7 | L19: 2.7 | CP19: =SMALL(B19:CO19,1) -> 2.7 | CQ19: =LARGE(B19:CO19,1) -> 2.9 | CR19: =IF($CP19>2,TRUE,FALSE) -> TRUE | CS19: =IF($CQ19-$CP19<=10,TRUE,FALSE) -> TRUE
A20: 0 SIR 071609PC1 CT | AA20: 2.75 | AD20: 2.75 | AG20: 2.75 | AJ20: 2.75 | AK20: 0 | BE20: 0 | CP20: =SMALL(B20:CO20,1) -> 0 | CQ20: =LARGE(B20:CO20,1) -> 2.75 | CR20: =IF($CP20>2,TRUE,FALSE) -> FALSE | CS20: =IF($CQ20-$CP20<=10,TRUE,FALSE) -> TRUE
A21: 0 SRE 006 BAPC CT | AA21: 50 | AD21: 20 | AG21: 50 | AJ21: 36 | AK21: 36 | AS21: 20 | AV21: 25 | CP21: =SMALL(B21:CO21,1) -> 20 | CQ21: =LARGE(B21:CO21,1) -> 50 | CR21: =IF($CP21>2,TRUE,FALSE) -> TRUE | CS21: =IF($CQ21-$CP21<=10,TRUE,FALSE) -> FALSE
A22: 0 SRE 007 BAPC CT | AA22: 50 | AD22: 50 | AG22: 50 | AJ22: 50 | AK22: 50 | CP22: =SMALL(B22:CO22,1) -> 50 | CQ22: =LARGE(B22:CO22,1) -> 50 | CR22: =IF($CP22>2,TRUE,FALSE) -> TRUE | CS22: =IF($CQ22-$CP22<=10,TRUE,FALSE) -> TRUE
A23: 0 SRE E101TYPC1 CT | AA23: 50 | AD23: 50 | AG23: 50 | AJ23: 30 | AK23: 30 | CP23: =SMALL(B23:CO23,1) -> 30 | CQ23: =LARGE(B23:CO23,1) -> 50 | CR23: =IF($CP23>2,TRUE,FALSE) -> TRUE | CS23: =IF($CQ23-$CP23<=10,TRUE,FALSE) -> FALSE
A24: 0 TEP 005 FIPC CT | B24: 4 | Q24: 0.4 | T24: 6 | CP24: =SMALL(B24:CO24,1) -> 0.4 | CQ24: =LARGE(B24:CO24,1) -> 6 | CR24: =IF($CP24>2,TRUE,FALSE) -> FALSE | CS24: =IF($CQ24-$CP24<=10,TRUE,FALSE) -> TRUE
A25: 0 TEP 246 VYPC CT | B25: 25 | C25: 25 | G25: 40 | J25: 40 | L25: 40 | T25: 25 | CP25: =SMALL(B25:CO25,1) -> 25 | CQ25: =LARGE(B25:CO25,1) -> 40 | CR25: =IF($CP25>2,TRUE,FALSE) -> TRUE | CS25: =IF($CQ25-$CP25<=10,TRUE,FALSE) -> FALSE
A26: 0 TEP 454 VPPC CT | B26: 3 | C26: 2 | L26: 1.6 | T26: 2 | AC26: 16 | BF26: 50 | BG26: 3.3 | CP26: =SMALL(B26:CO26,1) -> 1.6 | CQ26: =LARGE(B26:CO26,1) -> 50 | CR26: =IF($CP26>2,TRUE,FALSE) -> FALSE | CS26: =IF($CQ26-$CP26<=10,TRUE,FALSE) -> FALSE
A27: 0 TEP 475 VDPC CT | B27: 9.999 | C27: 9.999 | G27: 9.999 | J27: 9.999 | CP27: =SMALL(B27:CO27,1) -> 9.999 | CQ27: =LARGE(B27:CO27,1) -> 9.999 | CR27: =IF($CP27>2,TRUE,FALSE) -> TRUE | CS27: =IF($CQ27-$CP27<=10,TRUE,FALSE) -> TRUE
A28: 0 TEP 486 VDPC CT | B28: 9.999 | C28: 9.999 | G28: 9.999 | J28: 9.999 | CP28: =SMALL(B28:CO28,1) -> 9.999 | CQ28: =LARGE(B28:CO28,1) -> 9.999 | CR28: =IF($CP28>2,TRUE,FALSE) -> TRUE | CS28: =IF($CQ28-$CP28<=10,TRUE,FALSE) -> TRUE
A29: 0 TEP 612 VYPC CT | B29: 24 | C29: 25 | G29: 25 | J29: 25 | Q29: 25 | T29: 24 | CP29: =SMALL(B29:CO29,1) -> 24 | CQ29: =LARGE(B29:CO29,1) -> 25 | CR29: =IF($CP29>2,TRUE,FALSE) -> TRUE | CS29: =IF($CQ29-$CP29<=10,TRUE,FALSE) -> TRUE
A30: 0 TEP N409TYPC1 CT | B30: 4 | C30: 2.2 | G30: 2.2 | AL30: 1.6 | BF30: 35 | BG30: 4.4 | CP30: =SMALL(B30:CO30,1) -> 1.6 | CQ30: =LARGE(B30:CO30,1) -> 35 | CR30: =IF($CP30>2,TRUE,FALSE) -> FALSE | CS30: =IF($CQ30-$CP30<=10,TRUE,FALSE) -> FALSE
A31: 0 TES 014 BAPC CT | AK31: 3 | BH31: 3 | CP31: =SMALL(B31:CO31,1) -> 3 | CQ31: =LARGE(B31:CO31,1) -> 3 | CR31: =IF($CP31>2,TRUE,FALSE) -> TRUE | CS31: =IF($CQ31-$CP31<=10,TRUE,FALSE) -> TRUE
A32: 0 TES 057 VSPC CT | AA32: 4 | AD32: 4 | AG32: 4 | AJ32: 4 | AK32: 1.2 | AS32: 4 | BA32: 1.2 | CP32: =SMALL(B32:CO32,1) -> 1.2 | CQ32: =LARGE(B32:CO32,1) -> 4 | CR32: =IF($CP32>2,TRUE,FALSE) -> FALSE | CS32: =IF($CQ32-$CP32<=10,TRUE,FALSE) -> TRUE
A33: 0 TES 184 VSPC CT | B33: 12 | C33: 12 | G33: 9 | J33: 17 | S33: 9 | T33: 12 | AH33: 12 | AL33: 7 | CP33: =SMALL(B33:CO33,1) -> 7 | CQ33: =LARGE(B33:CO33,1) -> 17 | CR33: =IF($CP33>2,TRUE,FALSE) -> TRUE | CS33: =IF($CQ33-$CP33<=10,TRUE,FALSE) -> TRUE
A34: 0 TES 404 TYPC1 CT | B34: 6 | C34: 2 | G34: 1.65 | Q34: 2 | AH34: 6 | CP34: =SMALL(B34:CO34,1) -> 1.65 | CQ34: =LARGE(B34:CO34,1) -> 6 | CR34: =IF($CP34>2,TRUE,FALSE) -> FALSE | CS34: =IF($CQ34-$CP34<=10,TRUE,FALSE) -> TRUE
A35: 0 TES E258TYPC1 CT | AA35: 6 | AD35: 4 | AG35: 6 | AJ35: 4 | AK35: 6 | AS35: 4 | BA35: 6 | BD35: 6 | CP35: =SMALL(B35:CO35,1) -> 4 | CQ35: =LARGE(B35:CO35,1) -> 6 | CR35: =IF($CP35>2,TRUE,FALSE) -> TRUE | CS35: =IF($CQ35-$CP35<=10,TRUE,FALSE) -> TRUE
A36: 0 TES E259TYPC1 CT | AA36: 2 | AG36: 3 | AR36: 2 | AS36: 0.6 | BH36: 1 | BX36: 5 | CP36: =SMALL(B36:CO36,1) -> 0.6 | CQ36: =LARGE(B36:CO36,1) -> 5 | CR36: =IF($CP36>2,TRUE,FALSE) -> FALSE | CS36: =IF($CQ36-$CP36<=10,TRUE,FALSE) -> TRUE
A37: 0 TEU 001 REPC1 CT | B37: 20 | C37: 20 | G37: 20 | J37: 20 | Q37: 20 | T37: 60 | AC37: 21 | AE37: 4.999 | AH37: 85 | CP37: =SMALL(B37:CO37,1) -> 4.999 | CQ37: =LARGE(B37:CO37,1) -> 85 | CR37: =IF($CP37>2,TRUE,FALSE) -> TRUE | CS37: =IF($CQ37-$CP37<=10,TRUE,FALSE) -> FALSE
A38: 0 TEU 005 BAPC2 CT | B38: 2 | C38: 2 | L38: 1.1 | CP38: =SMALL(B38:CO38,1) -> 1.1 | CQ38: =LARGE(B38:CO38,1) -> 2 | CR38: =IF($CP38>2,TRUE,FALSE) -> FALSE | CS38: =IF($CQ38-$CP38<=10,TRUE,FALSE) -> TRUE
A39: 0 TEU 005 BAPC3 CT | B39: 2.5 | C39: 2.5 | G39: 2 | J39: 2 | L39: 2 | AC39: 2.5 | CP39: =SMALL(B39:CO39,1) -> 2 | CQ39: =LARGE(B39:CO39,1) -> 2.5 | CR39: =IF($CP39>2,TRUE,FALSE) -> FALSE | CS39: =IF($CQ39-$CP39<=10,TRUE,FALSE) -> TRUE
A40: 0 TEU 005 FIPC CT | B40: 3.5 | C40: 1 | Q40: 5 | T40: 1 | CP40: =SMALL(B40:CO40,1) -> 1 | CQ40: =LARGE(B40:CO40,1) -> 5 | CR40: =IF($CP40>2,TRUE,FALSE) -> FALSE | CS40: =IF($CQ40-$CP40<=10,TRUE,FALSE) -> TRUE
...

Sheet Tableau récapitulatif
B1: ='Export Point chaud 2015 sans se'!CR1 -> Point Chaud | C1: ='Export Point chaud 2015 sans se'!CS1 -> Constant
A2: ='Export Point chaud 2015 sans se'!A2 -> 0 FLEXE238 PC1 CT | B2: ='Export Point chaud 2015 sans se'!CR2 -> FALSE | C2: ='Export Point chaud 2015 sans se'!CS2 -> TRUE
A3: ='Export Point chaud 2015 sans se'!A3 -> 0 FLEXE238 PC2 CT | B3: ='Export Point chaud 2015 sans se'!CR3 -> FALSE | C3: ='Export Point chaud 2015 sans se'!CS3 -> TRUE
A4: ='Export Point chaud 2015 sans se'!A4 -> 0 MERCE257TYPC1 CT | B4: ='Export Point chaud 2015 sans se'!CR4 -> FALSE | C4: ='Export Point chaud 2015 sans se'!CS4 -> TRUE
A5: ='Export Point chaud 2015 sans se'!A5 -> 0 PMU 151 VDPC CT | B5: ='Export Point chaud 2015 sans se'!CR5 -> TRUE | C5: ='Export Point chaud 2015 sans se'!CS5 -> TRUE
A6: ='Export Point chaud 2015 sans se'!A6 -> 0 PMU 255 VKPC CT | B6: ='Export Point chaud 2015 sans se'!CR6 -> TRUE | C6: ='Export Point chaud 2015 sans se'!CS6 -> TRUE
A7: ='Export Point chaud 2015 sans se'!A7 -> 0 PTR 207 VBPC CT | B7: ='Export Point chaud 2015 sans se'!CR7 -> TRUE | C7: ='Export Point chaud 2015 sans se'!CS7 -> TRUE
A8: ='Export Point chaud 2015 sans se'!A8 -> 0 PTR 208 VBPC CT | B8: ='Export Point chaud 2015 sans se'!CR8 -> TRUE | C8: ='Export Point chaud 2015 sans se'!CS8 -> TRUE
A9: ='Export Point chaud 2015 sans se'!A9 -> 0 PTR E203TYPC1 CT | B9: ='Export Point chaud 2015 sans se'!CR9 -> FALSE | C9: ='Export Point chaud 2015 sans se'!CS9 -> TRUE
A10: ='Export Point chaud 2015 sans se'!A10 -> 0 RPE 104 VSPC CT | B10: ='Export Point chaud 2015 sans se'!CR10 -> TRUE | C10: ='Export Point chaud 2015 sans se'!CS10 -> FALSE
A11: ='Export Point chaud 2015 sans se'!A11 -> 0 RPE 299 VPPC CT | B11: ='Export Point chaud 2015 sans se'!CR11 -> TRUE | C11: ='Export Point chaud 2015 sans se'!CS11 -> FALSE
A12: ='Export Point chaud 2015 sans se'!A12 -> 0 RPE 945 VPPC CT | B12: ='Export Point chaud 2015 sans se'!CR12 -> FALSE | C12: ='Export Point chaud 2015 sans se'!CS12 -> TRUE
A13: ='Export Point chaud 2015 sans se'!A13 -> 0 RPEH063 LNPC CT | B13: ='Export Point chaud 2015 sans se'!CR13 -> TRUE | C13: ='Export Point chaud 2015 sans se'!CS13 -> FALSE
... A561: ='Export Point chaud 2015 sans se'!A561 -> 9 TEU N308TYPC1 CT | B561: ='Export Point chaud 2015 sans se'!CR561 -> FALSE | C561: ='Export Point chaud 2015 sans se'!CS561 -> TRUE
