Workbook
Name baignoire_1: #REF!
Name Calorifuge: #REF!
Name Calorifuge_lambda: #REF!
Name Cuivre: #REF!
Name Cuivre_Dcom: #REF!
Name Cuivre_Dcom2: #REF!
Name Cuivre_Dext: #REF!
Name Cuivre_Dint: #REF!
Name Cuivre_Dint2: #REF!
Name douche_1: #REF!
Name douchecommune_1: #REF!
Name evier_1: #REF!
Name fourvap_1: #REF!
Name GalvaT1_Dcom: #REF!
Name GalvaT1_Dext: #REF!
Name GalvaT1_Dint: #REF!
Name GalvaT3_Dcom: #REF!
Name GalvaT3_Dext: #REF!
Name lavabo_1: #REF!
Name lavemain_1: #REF!
Name machine_1: #REF!
Name Multicouche: #REF!
Name Multicouche_Dcom: #REF!
Name Multicouche_Dcom2: #REF!
Name Multicouche_Dext: #REF!
Name Multicouche_Dint: #REF!
Name Multicouche_Dint2: #REF!
Name PEHD_Dcom: #REF!
Name PEHD_Dext: #REF!
Name PEHD_Dint: #REF!
Name PER: #REF!
Name PER_Dcom: #REF!
Name PER_Dcom2: #REF!
Name PER_Dext: #REF!
Name PER_Dint: #REF!
Name postedeau_1: #REF!
Name PVC: #REF!
Name PVC_Dcom: #REF!
Name PVC_Dcom2: #REF!
Name PVC_Dext: #REF!
Name PVC_Dint: #REF!
Name PVC_Dint2: #REF!
Name rob_1: #REF!
Name Rugosité: #REF!
Name Titre_Dint_cuivre_1: #REF!
Name Titre_Dint_Multicouche_1: #REF!
Name Titre_Dint_PER_1: #REF!
Name Titre_Dint_pvc_1: #REF!
Name Tubes: #REF!
Name Tubes_lambda: #REF!
Name urinoir_1: #REF!
Name wc_1: #REF!

Sheet EDL ECS-BECS_bat ancien
C1: Tableau1 : Antennes : Toutes les antennes sont identiques et basée sur le principe de "Cx":
D3: Tube Réseau | M3: Q' | N3: v" | O3: Q" | P3: v'''
B4: Repère | C4: Réseau | D4: Nature du tube | E4: Diamètre commercial | F4: Dint | G4: Nature Calo | H4: ep. | I4: L | J4: Q déperd. | K4: v | L4: v'
F5: [mm] | H5: [mm] | I5: [m] | J5: [l/h] | K5: (m/s) | L5: (m/s) | M5: [l/h] | N5: (m/s) | O5: [l/h] | P5: (m/s)
B6: Sanitaire 2 | C6: Boucle | D6: Cuivre | E6: 14/16 | F6: 20 | G6: Armaflex | H6: 13 | I6: 4 | J6: 98 | K6: =IF(D6<>"",(4*$J$39/1000/3600)/(PI()*(F6/1000)^2),"") -> 0.086651025 | L6: =K6 -> 0.086651025 | M6: =ROUNDUP(((L6*PI()*(F6*(10^-3))^2)/4)*(3600*1000),0) -> 98 | N6: =IF(D6<>"",4*(M6/1000/3600)/(PI()*(F6/1000)^2),"") -> 0.086651025 | O6: 111 | P6: =IF(D6<>"",4*(O6/1000/3600)/(PI()*(F6/1000)^2),"") -> 0.098145548
B7: C1 | C7: Boucle | D7: Cuivre | E7: 14/16 | F7: 20 | G7: Armaflex | H7: 13 | I7: =3*4 -> 12 | J7: 98 | K7: =IF(D7<>"",(4*$J$39/1000/3600)/(PI()*(F7/1000)^2),"") -> 0.086651025 | L7: =K7 -> 0.086651025 | M7: =ROUNDUP(((L7*PI()*(F7*(10^-3))^2)/4)*(3600*1000),0) -> 98 | N7: =IF(D7<>"",4*(M7/1000/3600)/(PI()*(F7/1000)^2),"") -> 0.086651025 | O7: 111 | P7: =IF(D7<>"",4*(O7/1000/3600)/(PI()*(F7/1000)^2),"") -> 0.098145548
B8: C2 | C8: Boucle | D8: Cuivre | E8: 14/16 | F8: 20 | G8: Armaflex | H8: 13 | I8: =3*4 -> 12 | J8: 98 | K8: =IF(D8<>"",(4*$J$39/1000/3600)/(PI()*(F8/1000)^2),"") -> 0.086651025 | L8: =K8 -> 0.086651025 | M8: =ROUNDUP(((L8*PI()*(F8*(10^-3))^2)/4)*(3600*1000),0) -> 98 | N8: =IF(D8<>"",4*(M8/1000/3600)/(PI()*(F8/1000)^2),"") -> 0.086651025 | O8: 111 | P8: =IF(D8<>"",4*(O8/1000/3600)/(PI()*(F8/1000)^2),"") -> 0.098145548
B9: C3 | C9: Boucle | D9: Cuivre | E9: 14/16 | F9: 20 | G9: Armaflex | H9: 13 | I9: =3*4 -> 12 | J9: 98 | K9: =IF(D9<>"",(4*$J$39/1000/3600)/(PI()*(F9/1000)^2),"") -> 0.086651025 | L9: =K9 -> 0.086651025 | M9: =ROUNDUP(((L9*PI()*(F9*(10^-3))^2)/4)*(3600*1000),0) -> 98 | N9: =IF(D9<>"",4*(M9/1000/3600)/(PI()*(F9/1000)^2),"") -> 0.086651025 | O9: 111 | P9: =IF(D9<>"",4*(O9/1000/3600)/(PI()*(F9/1000)^2),"") -> 0.098145548
B10: C4 | C10: Boucle | D10: Cuivre | E10: 14/16 | F10: 20 | G10: Armaflex | H10: 13 | I10: =3*4 -> 12 | J10: 98 | K10: =IF(D10<>"",(4*$J$39/1000/3600)/(PI()*(F10/1000)^2),"") -> 0.086651025 | L10: =K10 -> 0.086651025 | M10: =ROUNDUP(((L10*PI()*(F10*(10^-3))^2)/4)*(3600*1000),0) -> 98 | N10: =IF(D10<>"",4*(M10/1000/3600)/(PI()*(F10/1000)^2),"") -> 0.086651025 | O10: 111 | P10: =IF(D10<>"",4*(O10/1000/3600)/(PI()*(F10/1000)^2),"") -> 0.098145548
B11: Vestiaire 1 | C11: Boucle | D11: Cuivre | E11: 14/16 | F11: 20 | G11: Armaflex | H11: 13 | I11: 5 | J11: 98 | K11: =IF(D11<>"",(4*$J$39/1000/3600)/(PI()*(F11/1000)^2),"") -> 0.086651025 | L11: =K11 -> 0.086651025 | M11: =ROUNDUP(((L11*PI()*(F11*(10^-3))^2)/4)*(3600*1000),0) -> 98 | N11: =IF(D11<>"",4*(M11/1000/3600)/(PI()*(F11/1000)^2),"") -> 0.086651025 | O11: 111 | P11: =IF(D11<>"",4*(O11/1000/3600)/(PI()*(F11/1000)^2),"") -> 0.098145548
B12: C5 | C12: Boucle | D12: Cuivre | E12: 14/16 | F12: 20 | G12: Armaflex | H12: 13 | I12: =3*4 -> 12 | J12: 98 | K12: =IF(D12<>"",(4*$J$39/1000/3600)/(PI()*(F12/1000)^2),"") -> 0.086651025 | L12: =K12 -> 0.086651025 | M12: =ROUNDUP(((L12*PI()*(F12*(10^-3))^2)/4)*(3600*1000),0) -> 98 | N12: =IF(D12<>"",4*(M12/1000/3600)/(PI()*(F12/1000)^2),"") -> 0.086651025 | O12: 111 | P12: =IF(D12<>"",4*(O12/1000/3600)/(PI()*(F12/1000)^2),"") -> 0.098145548
B13: C6 | C13: Boucle | D13: Cuivre | E13: 14/16 | F13: 20 | G13: Armaflex | H13: 13 | I13: =3*4 -> 12 | J13: 98 | K13: =IF(D13<>"",(4*$J$39/1000/3600)/(PI()*(F13/1000)^2),"") -> 0.086651025 | L13: =K13 -> 0.086651025 | M13: =ROUNDUP(((L13*PI()*(F13*(10^-3))^2)/4)*(3600*1000),0) -> 98 | N13: =IF(D13<>"",4*(M13/1000/3600)/(PI()*(F13/1000)^2),"") -> 0.086651025 | O13: 111 | P13: =IF(D13<>"",4*(O13/1000/3600)/(PI()*(F13/1000)^2),"") -> 0.098145548
C17: Tableau 2 : Antennes : Toutes les antennes sont identiques et basée sur le principe de "Cx":
D19: Tube Réseau | M19: Q' | N19: v" | O19: Q" | P19: v'''
B20: Repère | C20: Réseau | D20: Nature du tube | E20: Diamètre commercial | F20: Dint | G20: Nature Calo | H20: ep. | I20: L | J20: Q déperd. | K20: v | L20: v'
F21: [mm] | H21: [mm] | I21: [m] | J21: [l/h] | K21: (m/s) | L21: (m/s) | M21: [l/h] | N21: (m/s) | O21: [l/h] | P21: (m/s)
B22: Sanitaire 2 | C22: Boucle | D22: Cuivre | E22: 14/16 | F22: 20 | G22: Armaflex | H22: 13 | I22: 4 | J22: 98 | K22: =IF(D22<>"",(4*$J$39/1000/3600)/(PI()*(F22/1000)^2),"") -> 0.086651025 | L22: =K22 -> 0.086651025 | M22: =ROUNDUP(((L22*PI()*(F22*(10^-3))^2)/4)*(3600*1000),0) -> 98 | N22: =IF(D22<>"",4*(M22/1000/3600)/(PI()*(F22/1000)^2),"") -> 0.086651025 | O22: 111 | P22: =IF(D22<>"",4*(O22/1000/3600)/(PI()*(F22/1000)^2),"") -> 0.098145548
B23: C1 | C23: Boucle | D23: Cuivre | E23: 14/16 | F23: 20 | G23: Armaflex | H23: 13 | I23: =3*4 -> 12 | J23: 98 | K23: =IF(D23<>"",(4*$J$39/1000/3600)/(PI()*(F23/1000)^2),"") -> 0.086651025 | L23: =K23 -> 0.086651025 | M23: =ROUNDUP(((L23*PI()*(F23*(10^-3))^2)/4)*(3600*1000),0) -> 98 | N23: =IF(D23<>"",4*(M23/1000/3600)/(PI()*(F23/1000)^2),"") -> 0.086651025 | O23: 111 | P23: =IF(D23<>"",4*(O23/1000/3600)/(PI()*(F23/1000)^2),"") -> 0.098145548
B24: C2 | C24: Boucle | D24: Cuivre | E24: 14/16 | F24: 20 | G24: Armaflex | H24: 13 | I24: =3*4 -> 12 | J24: 98 | K24: =IF(D24<>"",(4*$J$39/1000/3600)/(PI()*(F24/1000)^2),"") -> 0.086651025 | L24: =K24 -> 0.086651025 | M24: =ROUNDUP(((L24*PI()*(F24*(10^-3))^2)/4)*(3600*1000),0) -> 98 | N24: =IF(D24<>"",4*(M24/1000/3600)/(PI()*(F24/1000)^2),"") -> 0.086651025 | O24: 111 | P24: =IF(D24<>"",4*(O24/1000/3600)/(PI()*(F24/1000)^2),"") -> 0.098145548
B25: C3 | C25: Boucle | D25: Cuivre | E25: 14/16 | F25: 20 | G25: Armaflex | H25: 13 | I25: =3*4 -> 12 | J25: 98 | K25: =IF(D25<>"",(4*$J$39/1000/3600)/(PI()*(F25/1000)^2),"") -> 0.086651025 | L25: =K25 -> 0.086651025 | M25: =ROUNDUP(((L25*PI()*(F25*(10^-3))^2)/4)*(3600*1000),0) -> 98 | N25: =IF(D25<>"",4*(M25/1000/3600)/(PI()*(F25/1000)^2),"") -> 0.086651025 | O25: 111 | P25: =IF(D25<>"",4*(O25/1000/3600)/(PI()*(F25/1000)^2),"") -> 0.098145548
B26: C4 | C26: Boucle | D26: Cuivre | E26: 14/16 | F26: 20 | G26: Armaflex | H26: 13 | I26: =3*4 -> 12 | J26: 98 | K26: =IF(D26<>"",(4*$J$39/1000/3600)/(PI()*(F26/1000)^2),"") -> 0.086651025 | L26: =K26 -> 0.086651025 | M26: =ROUNDUP(((L26*PI()*(F26*(10^-3))^2)/4)*(3600*1000),0) -> 98 | N26: =IF(D26<>"",4*(M26/1000/3600)/(PI()*(F26/1000)^2),"") -> 0.086651025 | O26: 111 | P26: =IF(D26<>"",4*(O26/1000/3600)/(PI()*(F26/1000)^2),"") -> 0.098145548
B27: Vestiaire 1 | C27: Boucle | D27: Cuivre | E27: 14/16 | F27: 20 | G27: Armaflex | H27: 13 | I27: 5 | J27: 98 | K27: =IF(D27<>"",(4*$J$39/1000/3600)/(PI()*(F27/1000)^2),"") -> 0.086651025 | L27: =K27 -> 0.086651025 | M27: =ROUNDUP(((L27*PI()*(F27*(10^-3))^2)/4)*(3600*1000),0) -> 98 | N27: =IF(D27<>"",4*(M27/1000/3600)/(PI()*(F27/1000)^2),"") -> 0.086651025 | O27: 111 | P27: =IF(D27<>"",4*(O27/1000/3600)/(PI()*(F27/1000)^2),"") -> 0.098145548
B28: C5 | C28: Boucle | D28: Cuivre | E28: 14/16 | F28: 20 | G28: Armaflex | H28: 13 | I28: =3*4 -> 12 | J28: 98 | K28: =IF(D28<>"",(4*$J$39/1000/3600)/(PI()*(F28/1000)^2),"") -> 0.086651025 | L28: =K28 -> 0.086651025 | M28: =ROUNDUP(((L28*PI()*(F28*(10^-3))^2)/4)*(3600*1000),0) -> 98 | N28: =IF(D28<>"",4*(M28/1000/3600)/(PI()*(F28/1000)^2),"") -> 0.086651025 | O28: 111 | P28: =IF(D28<>"",4*(O28/1000/3600)/(PI()*(F28/1000)^2),"") -> 0.098145548
B29: C6 | C29: Boucle | D29: Cuivre | E29: 14/16 | F29: 20 | G29: Armaflex | H29: 13 | I29: =3*4 -> 12 | J29: 98 | K29: =IF(D29<>"",(4*$J$39/1000/3600)/(PI()*(F29/1000)^2),"") -> 0.086651025 | L29: =K29 -> 0.086651025 | M29: =ROUNDUP(((L29*PI()*(F29*(10^-3))^2)/4)*(3600*1000),0) -> 98 | N29: =IF(D29<>"",4*(M29/1000/3600)/(PI()*(F29/1000)^2),"") -> 0.086651025 | O29: 111 | P29: =IF(D29<>"",4*(O29/1000/3600)/(PI()*(F29/1000)^2),"") -> 0.098145548
C32: Tableau 3 : Antennes : Toutes les antennes sont identiques et basée sur le principe de "Cx":
D34: Tube Réseau | M34: Q' | N34: v" | O34: Q" | P34: v'''
B35: Repère | C35: Réseau | D35: Nature du tube | E35: Diamètre commercial | F35: Dint | G35: Nature Calo | H35: ep. | I35: L | J35: Q déperd. | K35: v | L35: v'
F36: [mm] | H36: [mm] | I36: [m] | J36: [l/h] | K36: (m/s) | L36: (m/s) | M36: [l/h] | N36: (m/s) | O36: [l/h] | P36: (m/s)
B37: Sanitaire 2 | C37: Boucle | D37: Cuivre | E37: 14/16 | F37: 20 | G37: Armaflex | H37: 13 | I37: 4 | J37: 98 | K37: =IF(D37<>"",(4*$J$39/1000/3600)/(PI()*(F37/1000)^2),"") -> 0.086651025 | L37: =K37 -> 0.086651025 | M37: =ROUNDUP(((L37*PI()*(F37*(10^-3))^2)/4)*(3600*1000),0) -> 98 | N37: =IF(D37<>"",4*(M37/1000/3600)/(PI()*(F37/1000)^2),"") -> 0.086651025 | O37: 111 | P37: =IF(D37<>"",4*(O37/1000/3600)/(PI()*(F37/1000)^2),"") -> 0.098145548
B38: C1 | C38: Boucle | D38: Cuivre | E38: 14/16 | F38: 20 | G38: Armaflex | H38: 13 | I38: =3*4 -> 12 | J38: 98 | K38: =IF(D38<>"",(4*$J$39/1000/3600)/(PI()*(F38/1000)^2),"") -> 0.086651025 | L38: =K38 -> 0.086651025 | M38: =ROUNDUP(((L38*PI()*(F38*(10^-3))^2)/4)*(3600*1000),0) -> 98 | N38: =IF(D38<>"",4*(M38/1000/3600)/(PI()*(F38/1000)^2),"") -> 0.086651025 | O38: 111 | P38: =IF(D38<>"",4*(O38/1000/3600)/(PI()*(F38/1000)^2),"") -> 0.098145548
B39: C2 | C39: Boucle | D39: Cuivre | E39: 14/16 | F39: 20 | G39: Armaflex | H39: 13 | I39: =3*4 -> 12 | J39: 98 | K39: =IF(D39<>"",(4*$J$39/1000/3600)/(PI()*(F39/1000)^2),"") -> 0.086651025 | L39: =K39 -> 0.086651025 | M39: =ROUNDUP(((L39*PI()*(F39*(10^-3))^2)/4)*(3600*1000),0) -> 98 | N39: =IF(D39<>"",4*(M39/1000/3600)/(PI()*(F39/1000)^2),"") -> 0.086651025 | O39: 111 | P39: =IF(D39<>"",4*(O39/1000/3600)/(PI()*(F39/1000)^2),"") -> 0.098145548
B40: C3 | C40: Boucle | D40: Cuivre | E40: 14/16 | F40: 20 | G40: Armaflex | H40: 13 | I40: =3*4 -> 12 | J40: 98 | K40: =IF(D40<>"",(4*$J$39/1000/3600)/(PI()*(F40/1000)^2),"") -> 0.086651025 | L40: =K40 -> 0.086651025 | M40: =ROUNDUP(((L40*PI()*(F40*(10^-3))^2)/4)*(3600*1000),0) -> 98 | N40: =IF(D40<>"",4*(M40/1000/3600)/(PI()*(F40/1000)^2),"") -> 0.086651025 | O40: 111 | P40: =IF(D40<>"",4*(O40/1000/3600)/(PI()*(F40/1000)^2),"") -> 0.098145548
B41: C4 | C41: Boucle | D41: Cuivre | E41: 14/16 | F41: 20 | G41: Armaflex | H41: 13 | I41: =3*4 -> 12 | J41: 98 | K41: =IF(D41<>"",(4*$J$39/1000/3600)/(PI()*(F41/1000)^2),"") -> 0.086651025 | L41: =K41 -> 0.086651025 | M41: =ROUNDUP(((L41*PI()*(F41*(10^-3))^2)/4)*(3600*1000),0) -> 98 | N41: =IF(D41<>"",4*(M41/1000/3600)/(PI()*(F41/1000)^2),"") -> 0.086651025 | O41: 111 | P41: =IF(D41<>"",4*(O41/1000/3600)/(PI()*(F41/1000)^2),"") -> 0.098145548
B42: Vestiaire 1 | C42: Boucle | D42: Cuivre | E42: 14/16 | F42: 20 | G42: Armaflex | H42: 13 | I42: 5 | J42: 98 | K42: =IF(D42<>"",(4*$J$39/1000/3600)/(PI()*(F42/1000)^2),"") -> 0.086651025 | L42: =K42 -> 0.086651025 | M42: =ROUNDUP(((L42*PI()*(F42*(10^-3))^2)/4)*(3600*1000),0) -> 98 | N42: =IF(D42<>"",4*(M42/1000/3600)/(PI()*(F42/1000)^2),"") -> 0.086651025 | O42: 111 | P42: =IF(D42<>"",4*(O42/1000/3600)/(PI()*(F42/1000)^2),"") -> 0.098145548
B43: C5 | C43: Boucle | D43: Cuivre | E43: 14/16 | F43: 20 | G43: Armaflex | H43: 13 | I43: =3*4 -> 12 | J43: 98 | K43: =IF(D43<>"",(4*$J$39/1000/3600)/(PI()*(F43/1000)^2),"") -> 0.086651025 | L43: =K43 -> 0.086651025 | M43: =ROUNDUP(((L43*PI()*(F43*(10^-3))^2)/4)*(3600*1000),0) -> 98 | N43: =IF(D43<>"",4*(M43/1000/3600)/(PI()*(F43/1000)^2),"") -> 0.086651025 | O43: 111 | P43: =IF(D43<>"",4*(O43/1000/3600)/(PI()*(F43/1000)^2),"") -> 0.098145548
B44: C6 | C44: Boucle | D44: Cuivre | E44: 14/16 | F44: 20 | G44: Armaflex | H44: 13 | I44: =3*4 -> 12 | J44: 98 | K44: =IF(D44<>"",(4*$J$39/1000/3600)/(PI()*(F44/1000)^2),"") -> 0.086651025 | L44: =K44 -> 0.086651025 | M44: =ROUNDUP(((L44*PI()*(F44*(10^-3))^2)/4)*(3600*1000),0) -> 98 | N44: =IF(D44<>"",4*(M44/1000/3600)/(PI()*(F44/1000)^2),"") -> 0.086651025 | O44: 111 | P44: =IF(D44<>"",4*(O44/1000/3600)/(PI()*(F44/1000)^2),"") -> 0.098145548
N45: Total = | O45: =SUM(O37:O44) -> 888
C47: Tableau 4 : Collecteurs :
E50: Tube Réseau
B51: Repère | C51: Réseau | D51: Antenne/collecteur amont | E51: Nature du tube | F51: Diamètre commercial | G51: Dint | H51: Nature Calo | I51: ep. | J51: L | K51: Q | L51: v
G52: [mm] | I52: [mm] | J52: [m] | K52: [l/h] | L52: (m/s)
B53: Tr1 | C53: Boucle | D53: Sanitaire 2, C1, C2 | E53: Cuivre | F53: 20/22 | G53: 20 | H53: Armaflex | I53: 13 | J53: 2 | K53: =O37+O38+O39 -> 333 | L53: =IF(E53<>"",(4*K53/1000/3600)/(PI()*(G53/1000)^2),"") -> 0.29443664
B54: Tr2 | C54: Boucle | D54: Tr1, C3, C4 | E54: Cuivre | F54: 20/22 | G54: 20 | H54: Armaflex | I54: 13 | J54: 3 | K54: =K53+O40+O41 -> 555 | L54: =IF(E54<>"",(4*K54/1000/3600)/(PI()*(G54/1000)^2),"") -> 0.49072774
B55: Tr3 | C55: Boucle | D55: Tr2, Vestiaires 1 | E55: Cuivre | F55: 20/22 | G55: 20 | H55: Armaflex | I55: 13 | J55: 3 | K55: =K54+O42 -> 666 | L55: =IF(E55<>"",(4*K55/1000/3600)/(PI()*(G55/1000)^2),"") -> 0.58887329
B56: Tr4 | C56: Boucle | D56: Tr3, C5, C6, vestiaire 2 | E56: Cuivre | F56: 20/22 | G56: 20 | H56: Armaflex | I56: 13 | J56: 3 | K56: =K55+O43+O44 -> 888 | L56: =IF(E56<>"",(4*K56/1000/3600)/(PI()*(G56/1000)^2),"") -> 0.78516439
B57: Tr5 | C57: Boucle | D57: Tr4 , C7, C8 | E57: Cuivre | F57: 20/22 | G57: 20 | H57: Armaflex | I57: 13 | J57: 4 | K57: =K56 -> 888 | L57: =IF(E57<>"",(4*K57/1000/3600)/(PI()*(G57/1000)^2),"") -> 0.78516439
B58: Tr6 | C58: Boucle | D58: Tr5 , C9 | E58: Cuivre | F58: 20/22 | G58: 20 | H58: Armaflex | I58: 13 | J58: 2.5 | K58: =K57 -> 888 | L58: =IF(E58<>"",(4*K58/1000/3600)/(PI()*(G58/1000)^2),"") -> 0.78516439
B59: Tr7 | C59: Boucle | D59: Tr6, C10, C11 | E59: Cuivre | F59: 20/22 | G59: 20 | H59: Armaflex | I59: 13 | J59: 3 | K59: =K58 -> 888 | L59: =IF(E59<>"",(4*K59/1000/3600)/(PI()*(G59/1000)^2),"") -> 0.78516439
C62: Bilan Cas 2:
B65: Q déterminé à partir des pertes thermique le long du réseau et ajusté pour avoir 0,2 < v dans le réseau de boucle
C67: Bât. Ancien
B68: Q2 = | C68: =K59 -> 888 | D68: On a Q cas 2 > Q cas 1. Les déperditions dans les antennes et les collecteurs sont ainsi largement palliées.
B71: BILAN débit de bouclage
B73: Q bouclage = | D73: =K59 -> 888

Sheet Fiche mise en service
B6: ='EDL ECS-BECS_bat ancien'!B35 -> Repère | C6: ='EDL ECS-BECS_bat ancien'!D35 -> Nature du tube | D6: Diamètre commercial | E6: Q"
E7: ='EDL ECS-BECS_bat ancien'!O36 -> [l/h]
B8: ='EDL ECS-BECS_bat ancien'!B37 -> Sanitaire 2 | C8: ='EDL ECS-BECS_bat ancien'!D37 -> Cuivre | D8: ='EDL ECS-BECS_bat ancien'!E37 -> 14/16 | E8: ='EDL ECS-BECS_bat ancien'!O37 -> 111
B9: ='EDL ECS-BECS_bat ancien'!B38 -> C1 | C9: ='EDL ECS-BECS_bat ancien'!D38 -> Cuivre | D9: ='EDL ECS-BECS_bat ancien'!E38 -> 14/16 | E9: ='EDL ECS-BECS_bat ancien'!O38 -> 111
B10: ='EDL ECS-BECS_bat ancien'!B39 -> C2 | C10: ='EDL ECS-BECS_bat ancien'!D39 -> Cuivre | D10: ='EDL ECS-BECS_bat ancien'!E39 -> 14/16 | E10: ='EDL ECS-BECS_bat ancien'!O39 -> 111
B11: ='EDL ECS-BECS_bat ancien'!B40 -> C3 | C11: ='EDL ECS-BECS_bat ancien'!D40 -> Cuivre | D11: ='EDL ECS-BECS_bat ancien'!E40 -> 14/16 | E11: ='EDL ECS-BECS_bat ancien'!O40 -> 111
B12: ='EDL ECS-BECS_bat ancien'!B41 -> C4 | C12: ='EDL ECS-BECS_bat ancien'!D41 -> Cuivre | D12: ='EDL ECS-BECS_bat ancien'!E41 -> 14/16 | E12: ='EDL ECS-BECS_bat ancien'!O41 -> 111
B13: ='EDL ECS-BECS_bat ancien'!B42 -> Vestiaire 1 | C13: ='EDL ECS-BECS_bat ancien'!D42 -> Cuivre | D13: ='EDL ECS-BECS_bat ancien'!E42 -> 14/16 | E13: ='EDL ECS-BECS_bat ancien'!O42 -> 111
B14: ='EDL ECS-BECS_bat ancien'!B43 -> C5 | C14: ='EDL ECS-BECS_bat ancien'!D43 -> Cuivre | D14: ='EDL ECS-BECS_bat ancien'!E43 -> 14/16 | E14: ='EDL ECS-BECS_bat ancien'!O43 -> 111
B15: ='EDL ECS-BECS_bat ancien'!B44 -> C6 | C15: ='EDL ECS-BECS_bat ancien'!D44 -> Cuivre | D15: ='EDL ECS-BECS_bat ancien'!E44 -> 14/16 | E15: ='EDL ECS-BECS_bat ancien'!O44 -> 111
B16: ='EDL ECS-BECS_bat ancien'!B53 -> Tr1 | C16: ='EDL ECS-BECS_bat ancien'!E53 -> Cuivre | D16: ='EDL ECS-BECS_bat ancien'!F53 -> 20/22 | E16: ='EDL ECS-BECS_bat ancien'!K53 -> 333
B17: ='EDL ECS-BECS_bat ancien'!B54 -> Tr2 | C17: ='EDL ECS-BECS_bat ancien'!E54 -> Cuivre | D17: ='EDL ECS-BECS_bat ancien'!F54 -> 20/22 | E17: ='EDL ECS-BECS_bat ancien'!K54 -> 555
B18: ='EDL ECS-BECS_bat ancien'!B55 -> Tr3 | C18: ='EDL ECS-BECS_bat ancien'!E55 -> Cuivre | D18: ='EDL ECS-BECS_bat ancien'!F55 -> 20/22 | E18: ='EDL ECS-BECS_bat ancien'!K55 -> 666
B19: ='EDL ECS-BECS_bat ancien'!B56 -> Tr4 | C19: ='EDL ECS-BECS_bat ancien'!E56 -> Cuivre | D19: ='EDL ECS-BECS_bat ancien'!F56 -> 20/22 | E19: ='EDL ECS-BECS_bat ancien'!K56 -> 888
B20: ='EDL ECS-BECS_bat ancien'!B57 -> Tr5 | C20: ='EDL ECS-BECS_bat ancien'!E57 -> Cuivre | D20: ='EDL ECS-BECS_bat ancien'!F57 -> 20/22 | E20: ='EDL ECS-BECS_bat ancien'!K57 -> 888
B21: ='EDL ECS-BECS_bat ancien'!B58 -> Tr6 | C21: ='EDL ECS-BECS_bat ancien'!E58 -> Cuivre | D21: ='EDL ECS-BECS_bat ancien'!F58 -> 20/22 | E21: ='EDL ECS-BECS_bat ancien'!K58 -> 888
B22: ='EDL ECS-BECS_bat ancien'!B59 -> Tr7 | C22: ='EDL ECS-BECS_bat ancien'!E59 -> Cuivre | D22: ='EDL ECS-BECS_bat ancien'!F59 -> 20/22 | E22: ='EDL ECS-BECS_bat ancien'!K59 -> 888
B23: GENERAL | E23: ='EDL ECS-BECS_bat ancien'!D73 -> 888
