Workbook

Sheet Matrice
A1: Log AUI | B1: Produit | C1: Montant | D1: Date | E1: Type 1 | F1: Type 2
A2: 78023bca | B2: ISW | C2: 3.66 | D2: 42401 | E2: GCO | F2: ORIAN
A3: 78023bca | B3: ISW | C3: 5 | D3: 42401 | E3: GCO | F3: ORIAN
A4: 78023bca | B4: align | C4: 85.2 | D4: 42401 | E4: Enveloppe | F4: ORIAN
A5: 78023bca | B5: align | C5: 96 | D5: 42401 | E5: Enveloppe | F5: ORIAN
A6: 78023bca | B6: align | C6: 49.99 | D6: 42401 | E6: Enveloppe | F6: ORIAN
A7: 78023bca | B7: align | C7: 32.99 | D7: 42401 | E7: Enveloppe | F7: ORIAN
A8: 78031bca | B8: ISW | C8: 10 | D8: 42401 | E8: GCO | F8: ORIAN
A9: 78031bca | B9: align | C9: 30 | D9: 42401 | E9: Enveloppe | F9: BIOS
A10: 78039bca | B10: align | C10: 40 | D10: 42401 | E10: Enveloppe | F10: BIOS
A11: 78039bca | B11: align | C11: 80 | D11: 42401 | E11: Enveloppe | F11: BIOS
A12: 78039bca | B12: align | C12: 30 | D12: 42401 | E12: Enveloppe | F12: BIOS
A13: 78075bca | B13: SRL | C13: 19.9 | D13: 42401 | E13: GCO | F13: BIOS
... A438: 79934bca | B438: align | C438: 50 | D438: 42404 | E438: Enveloppe | F438: BIOS
A439: 78023bca | B439: PRT4 | C439: 120 | D439: 2016/02/01 | E439: PRT | F439: EZY
A440: 78031bca | B440: PRT2 | C440: 60 | D440: 2016/02/01 | E440: PRT | F440: EZY
A441: 78075bca | B441: PRT3 | C441: 84 | D441: 2016/02/01 | E441: PRT | F441: EZY
A442: 78075bca | B442: IRP6 | C442: 60 | D442: 2016/02/01 | E442: IRP | F442: EZY
A443: 78075bca | B443: IRP6 | C443: 60 | D443: 2016/02/01 | E443: IRP | F443: EZY
A444: 78075bca | B444: IRP6 | C444: 60 | D444: 2016/02/01 | E444: IRP | F444: EZY
A445: 78077bca | B445: PRT2 | C445: 60 | D445: 2016/02/01 | E445: PRT | F445: EZY
A446: 78077bca | B446: PRT2 | C446: 60 | D446: 2016/02/01 | E446: PRT | F446: EZY
A447: 78077bca | B447: PRT2 | C447: 60 | D447: 2016/02/01 | E447: PRT | F447: EZY
A448: 78077bca | B448: PRT4 | C448: 120 | D448: 2016/02/01 | E448: PRT | F448: EZY
A449: 78077bca | B449: PRT4 | C449: 120 | D449: 2016/02/01 | E449: PRT | F449: EZY
A450: 78077bca | B450: IRP8 | C450: 60 | D450: 2016/02/01 | E450: IRP | F450: EZY
... A3594: 79934bca | B3594: IRPA | C3594: 60 | D3594: 2016/02/29 | E3594: IRP | F3594: EZY

Sheet Montant GCO Mobile
A1: Date | B1: (Tous)
A3: Somme de Montant | B3: Étiquettes de colonnes
B4: BIOS | F4: EZY | H4: ORIAN | K4: Total général
A5: Étiquettes de lignes | B5: Enveloppe | C5: GCO | D5: Rég | E5: Annul Frais | F5: IRP | G5: PRT | H5: Enveloppe | I5: GCO | J5: Rég
A6: 78023bca | F6: 900 | G6: 1584 | H6: 264.18 | I6: 8.66 | K6: 2756.84
A7: 78031bca | B7: 30 | F7: 360 | G7: 840 | I7: 10 | K7: 1240
A8: 78039bca | B8: 150 | F8: 240 | K8: 390
A9: 78075bca | B9: 192 | C9: 19.9 | F9: 660 | G9: 84 | K9: 955.9
A10: 78077bca | B10: 490 | C10: 29.08 | D10: 56 | E10: 494.91 | F10: 4560 | G10: 6492 | K10: 12121.99
A11: 78120bca | B11: 329.98 | E11: 34.15 | F11: 3960 | G11: 156 | K11: 4480.13
A12: 78224bca | B12: 508 | C12: 173 | E12: 249.54 | F12: 9180 | G12: 1092 | K12: 11202.54
A13: 78242bca | B13: 298.99 | F13: 2220 | G13: 3252 | K13: 5770.99
A14: 78286bca | F14: 2160 | G14: 792 | K14: 2952
A15: 78287bca | B15: 60 | C15: 28.99 | F15: 2940 | K15: 3028.99
A16: 78319BCA | B16: 260 | F16: 6840 | K16: 7100
A17: 78332bca | F17: 780 | K17: 780
A18: 78350bca | B18: 320 | C18: 33.49 | D18: 210 | E18: 76.92 | F18: 1920 | K18: 2560.41
A19: 78425bca | F19: 360 | G19: 120 | K19: 480
A20: 78437bca | F20: 60 | K20: 60
A21: 78438bca | F21: 180 | G21: 216 | K21: 396
A22: 78459bca | B22: 160 | F22: 2280 | G22: 480 | K22: 2920
A23: 78461bca | G23: 1056 | K23: 1056
A24: 78617bca | F24: 60 | G24: 120 | K24: 180
A25: 78635BCA | B25: 365 | C25: 30 | F25: 6900 | G25: 876 | K25: 8171
A26: 78637bca | B26: 140 | E26: 76.59 | F26: 1920 | G26: 1704 | K26: 3840.59
A27: 78642bca | B27: 289 | C27: 35 | F27: 1080 | G27: 2652 | K27: 4056
A28: 78775bca | F28: 240 | K28: 240
A29: 78787bca | F29: 300 | G29: 432 | K29: 732
A30: 78793bca | B30: 260 | C30: 13 | F30: 6120 | K30: 6393
A31: 78838bca | B31: 30 | K31: 30
A32: 78848bca | B32: 560 | C32: 0 | F32: 4680 | G32: 96 | K32: 5336
A33: 78851bca | B33: 803.99 | C33: 45 | F33: 3240 | G33: 432 | I33: 5.59 | J33: 15 | K33: 4541.58
A34: 78890bca | F34: 840 | K34: 840
A35: 78919bca | F35: 3000 | K35: 3000
A36: 78938bca | F36: 2760 | G36: 120 | K36: 2880
A37: 78953bca | F37: 240 | G37: 1920 | K37: 2160
A38: 78987bca | C38: 124.29 | F38: 1200 | G38: 1836 | K38: 3160.29
A39: 78999bca | F39: 180 | G39: 240 | K39: 420
A40: 79008bca | B40: 90 | C40: 50 | G40: 1992 | K40: 2132
A41: 79028bca | B41: 44.99 | C41: 30 | F41: 7320 | K41: 7394.99
A42: 79046bca | F42: 240 | G42: 60 | K42: 300
A43: 79062BCA | B43: 164.97 | C43: 29.99 | D43: 5 | F43: 3480 | K43: 3679.96
A44: 79073bca | B44: 170 | C44: 6.49 | F44: 5580 | G44: 960 | K44: 6716.49
A45: 79151BCA | B45: 470 | C45: 20 | F45: 3540 | G45: 3552 | K45: 7582
A46: 79188bca | C46: 11 | K46: 11
A47: 79215bca | B47: 808.99 | C47: 0 | D47: 25 | F47: 2760 | K47: 3593.99
A48: 79256bca | B48: 523.99 | C48: 10 | D48: 25 | F48: 2460 | G48: 84 | K48: 3102.99
A49: 79260bca | C49: 40 | F49: 660 | K49: 700
A50: 79261bca | B50: 50 | F50: 720 | G50: 180 | K50: 950
A51: 79297bca | B51: 505 | C51: 14.99 | F51: 7740 | G51: 156 | K51: 8415.99
A52: 79301bca | B52: 230 | F52: 4680 | K52: 4910
A53: 79308bca | B53: 380 | C53: 30 | F53: 2880 | G53: 84 | K53: 3374
A54: 79309bca | B54: 208.99 | C54: 7.99 | F54: 7380 | G54: 120 | K54: 7716.98
A55: 79326bca | B55: 390 | C55: 34.99 | D55: 53.43 | F55: 420 | G55: 420 | J55: 108.91 | K55: 1427.33
A56: 79328bca | B56: 313.99 | F56: 2340 | K56: 2653.99
A57: 79342bca | B57: 553 | C57: 10 | E57: 222.59 | F57: 1860 | G57: 1116 | K57: 3761.59
A58: 79362bca | B58: 908 | C58: 12 | D58: 10 | F58: 480 | G58: 120 | K58: 1530
A59: 79379bca | B59: 619.99 | C59: 109 | F59: 7500 | G59: 720 | K59: 8948.99
A60: 79388bca | B60: 170 | C60: 8 | D60: 5 | F60: 2700 | G60: 192 | K60: 3075
A61: 79480bca | B61: 370 | C61: 20 | F61: 1200 | G61: 7524 | K61: 9114
A62: 79490bca | B62: 480 | D62: 130 | F62: 4920 | K62: 5530
A63: 79494bca | B63: 450 | C63: 48 | F63: 2460 | K63: 2958
A64: 79504bca | B64: 56 | F64: 300 | G64: 120 | K64: 476
A65: 79513bca | G65: 120 | K65: 120
A66: 79518bca | B66: 330 | C66: 30 | F66: 3960 | G66: 120 | K66: 4440
A67: 79672bca | B67: 80 | K67: 80
A68: 79714bca | B68: 162 | F68: 7440 | K68: 7602
A69: 79718bca | B69: 480 | C69: 18.5 | F69: 4320 | G69: 672 | K69: 5490.5
A70: 79724bca | B70: 110 | F70: 1320 | K70: 1430
A71: 79777bca | F71: 2280 | G71: 396 | K71: 2676
A72: 79781bca | F72: 1440 | G72: 36 | K72: 1476
A73: 79850bca | B73: 310 | C73: 25 | F73: 5700 | G73: 540 | K73: 6575
A74: 79873bca | G74: 156 | K74: 156
A75: 79905BCA | F75: 720 | I75: 5.59 | J75: 47.62 | K75: 773.21
A76: 79908bca | F76: 4500 | G76: 60 | K76: 4560
A77: 79909bca | F77: 3540 | G77: 240 | H77: 162.99 | I77: 19.92 | K77: 3962.91
A78: 79913bca | B78: 80 | F78: 2520 | G78: 480 | K78: 3080
A79: 79914BCA | B79: 1159.99 | C79: 105 | D79: 215 | E79: 655.45 | F79: 2760 | G79: 4332 | K79: 9227.44
A80: 79934bca | B80: 690 | C80: 50 | D80: 11.2 | F80: 7440 | K80: 8191.2
A81: Total général | B81: 16606.86 | C81: 1252.7 | D81: 745.63 | E81: 1810.15 | F81: 193920 | G81: 51144 | H81: 427.17 | I81: 49.76 | J81: 171.53 | K81: 266127.8

Sheet Nbr GCO Mobile
A1: Date | B1: (Tous)
A3: Nombre de Montant | B3: Étiquettes de colonnes
B4: BIOS | F4: EZY | H4: ORIAN | K4: Total général
A5: Étiquettes de lignes | B5: Enveloppe | C5: GCO | D5: Rég | E5: Annul Frais | F5: IRP | G5: PRT | H5: Enveloppe | I5: GCO | J5: Rég
A6: 78023bca | F6: 12 | G6: 24 | H6: 4 | I6: 2 | K6: 42
A7: 78031bca | B7: 1 | F7: 4 | G7: 12 | I7: 1 | K7: 18
A8: 78039bca | B8: 3 | F8: 3 | K8: 6
A9: 78075bca | B9: 4 | C9: 1 | F9: 11 | G9: 1 | K9: 17
A10: 78077bca | B10: 10 | C10: 1 | D10: 2 | E10: 1 | F10: 65 | G10: 75 | K10: 154
A11: 78120bca | B11: 8 | E11: 1 | F11: 51 | G11: 1 | K11: 61
A12: 78224bca | B12: 7 | C12: 6 | E12: 2 | F12: 114 | G12: 14 | K12: 143
A13: 78242bca | B13: 5 | F13: 32 | G13: 32 | K13: 69
A14: 78286bca | F14: 26 | G14: 12 | K14: 38
A15: 78287bca | B15: 1 | C15: 1 | F15: 37 | K15: 39
A16: 78319BCA | B16: 6 | F16: 95 | K16: 101
A17: 78332bca | F17: 11 | K17: 11
A18: 78350bca | B18: 7 | C18: 4 | D18: 3 | E18: 1 | F18: 25 | K18: 40
A19: 78425bca | F19: 5 | G19: 2 | K19: 7
A20: 78437bca | F20: 1 | K20: 1
A21: 78438bca | F21: 2 | G21: 2 | K21: 4
A22: 78459bca | B22: 4 | F22: 27 | G22: 8 | K22: 39
A23: 78461bca | G23: 9 | K23: 9
A24: 78617bca | F24: 1 | G24: 1 | K24: 2
A25: 78635BCA | B25: 8 | C25: 3 | F25: 85 | G25: 13 | K25: 109
A26: 78637bca | B26: 3 | E26: 1 | F26: 27 | G26: 23 | K26: 54
A27: 78642bca | B27: 7 | C27: 2 | F27: 13 | G27: 32 | K27: 54
A28: 78775bca | F28: 3 | K28: 3
A29: 78787bca | F29: 4 | G29: 7 | K29: 11
A30: 78793bca | B30: 7 | C30: 1 | F30: 76 | K30: 84
A31: 78838bca | B31: 1 | K31: 1
A32: 78848bca | B32: 7 | C32: 1 | F32: 55 | G32: 2 | K32: 65
A33: 78851bca | B33: 13 | C33: 1 | F33: 41 | G33: 6 | I33: 1 | J33: 1 | K33: 63
A34: 78890bca | F34: 10 | K34: 10
A35: 78919bca | F35: 40 | K35: 40
A36: 78938bca | F36: 36 | G36: 2 | K36: 38
A37: 78953bca | F37: 4 | G37: 20 | K37: 24
A38: 78987bca | C38: 5 | F38: 18 | G38: 18 | K38: 41
A39: 78999bca | F39: 2 | G39: 3 | K39: 5
A40: 79008bca | B40: 2 | C40: 1 | G40: 21 | K40: 24
A41: 79028bca | B41: 2 | C41: 1 | F41: 88 | K41: 91
A42: 79046bca | F42: 4 | G42: 1 | K42: 5
A43: 79062BCA | B43: 4 | C43: 2 | D43: 1 | F43: 43 | K43: 50
A44: 79073bca | B44: 3 | C44: 2 | F44: 68 | G44: 8 | K44: 81
A45: 79151BCA | B45: 9 | C45: 1 | F45: 50 | G45: 44 | K45: 104
A46: 79188bca | C46: 2 | K46: 2
A47: 79215bca | B47: 14 | C47: 1 | D47: 2 | F47: 37 | K47: 54
A48: 79256bca | B48: 8 | C48: 1 | D48: 1 | F48: 31 | G48: 1 | K48: 42
A49: 79260bca | C49: 2 | F49: 11 | K49: 13
A50: 79261bca | B50: 1 | F50: 10 | G50: 3 | K50: 14
A51: 79297bca | B51: 8 | C51: 1 | F51: 108 | G51: 1 | K51: 118
A52: 79301bca | B52: 3 | F52: 64 | K52: 67
A53: 79308bca | B53: 9 | C53: 2 | F53: 37 | G53: 1 | K53: 49
A54: 79309bca | B54: 5 | C54: 1 | F54: 105 | G54: 2 | K54: 113
A55: 79326bca | B55: 6 | C55: 2 | D55: 2 | F55: 7 | G55: 5 | J55: 2 | K55: 24
A56: 79328bca | B56: 8 | F56: 29 | K56: 37
A57: 79342bca | B57: 10 | C57: 1 | E57: 2 | F57: 26 | G57: 15 | K57: 54
A58: 79362bca | B58: 16 | C58: 1 | D58: 1 | F58: 6 | G58: 2 | K58: 26
A59: 79379bca | B59: 9 | C59: 6 | F59: 99 | G59: 6 | K59: 120
A60: 79388bca | B60: 3 | C60: 1 | D60: 1 | F60: 41 | G60: 4 | K60: 50
A61: 79480bca | B61: 6 | C61: 2 | F61: 14 | G61: 109 | K61: 131
A62: 79490bca | B62: 9 | D62: 2 | F62: 66 | K62: 77
A63: 79494bca | B63: 8 | C63: 2 | F63: 31 | K63: 41
A64: 79504bca | B64: 2 | F64: 5 | G64: 1 | K64: 8
A65: 79513bca | G65: 2 | K65: 2
A66: 79518bca | B66: 7 | C66: 1 | F66: 51 | G66: 2 | K66: 61
A67: 79672bca | B67: 1 | K67: 1
A68: 79714bca | B68: 4 | F68: 96 | K68: 100
A69: 79718bca | B69: 12 | C69: 4 | F69: 47 | G69: 6 | K69: 69
A70: 79724bca | B70: 3 | F70: 17 | K70: 20
A71: 79777bca | F71: 33 | G71: 4 | K71: 37
A72: 79781bca | F72: 19 | G72: 1 | K72: 20
A73: 79850bca | B73: 7 | C73: 2 | F73: 70 | G73: 8 | K73: 87
A74: 79873bca | G74: 1 | K74: 1
A75: 79905BCA | F75: 10 | I75: 1 | J75: 1 | K75: 12
A76: 79908bca | F76: 63 | G76: 1 | K76: 64
A77: 79909bca | F77: 48 | G77: 3 | H77: 4 | I77: 1 | K77: 56
A78: 79913bca | B78: 1 | F78: 38 | G78: 6 | K78: 45
A79: 79914BCA | B79: 22 | C79: 7 | D79: 3 | E79: 1 | F79: 36 | G79: 39 | K79: 108
A80: 79934bca | B80: 13 | C80: 2 | D80: 1 | F80: 96 | K80: 112
A81: Total général | B81: 317 | C81: 74 | D81: 19 | E81: 9 | F81: 2540 | G81: 616 | H81: 8 | I81: 6 | J81: 4 | K81: 3593

Sheet Rapport Mobile
C1: Annul Frais | E1: EZY | I1: BIOS | O1: ORIAN
A2: Date | B2: AUI | C2: Montant | D2: Nbr | E2: Montant IRP | F2: Nbr | G2: Montant PRT | H2: Nbr | I2: Montant Enveloppes | J2: Nbr | K2: Montant GCO | L2: Nbr | M2: Montant Réguls | N2: Nbr | O2: Montant Enveloppes | P2: Nbr | Q2: Montant GCO | R2: Nbr | S2: Montant Réguls | T2: Nbr
A3: 42401 | B3: 78023bca | C3: =IFERROR(VLOOKUP($B:$B,'Montant GCO Mobile'!$A:$G,2,0),0) -> 0 | D3: =IFERROR(VLOOKUP($B:$B,'Nbr GCO Mobile'!$A:$G,2,0),0) -> 0 | E3: =IFERROR(VLOOKUP($B:$B,'Montant GCO Mobile'!$A:$G,6,0),0) -> 900 | F3: =IFERROR(VLOOKUP($B:$B,'Nbr GCO Mobile'!$A:$G,6,0),0) -> 12 | G3: =IFERROR(VLOOKUP($B:$B,'Montant GCO Mobile'!$A:$G,7,0),0) -> 1584 | H3: =IFERROR(VLOOKUP($B:$B,'Nbr GCO Mobile'!$A:$G,7,0),0) -> 24 | I3: =IFERROR(VLOOKUP($B:$B,'Montant GCO Mobile'!$A:$G,3,0),0) -> 0 | J3: =IFERROR(VLOOKUP($B:$B,'Nbr GCO Mobile'!$A:$G,3,0),0) -> 0 | K3: =IFERROR(VLOOKUP($B:$B,'Montant GCO Mobile'!$A:$G,4,0),0) -> 0 | L3: =IFERROR(VLOOKUP($B:$B,'Nbr GCO Mobile'!$A:$G,4,0),0) -> 0 | M3: =IFERROR(VLOOKUP($B:$B,'Montant GCO Mobile'!$A:$G,5,0),0) -> 0 | N3: =IFERROR(VLOOKUP($B:$B,'Nbr GCO Mobile'!$A:$G,5,0),0) -> 0 | O3: =IFERROR(VLOOKUP($B:$B,'Montant GCO Mobile'!$A:$J,8,0),0) -> 264.18 | P3: =IFERROR(VLOOKUP($B:$B,'Nbr GCO Mobile'!$A:$J,8,0),0) -> 4 | Q3: =IFERROR(VLOOKUP($B:$B,'Montant GCO Mobile'!$A:$J,9,0),0) -> 8.66 | R3: =IFERROR(VLOOKUP($B:$B,'Nbr GCO Mobile'!$A:$J,9,0),0) -> 2 | S3: =IFERROR(VLOOKUP($B:$B,'Montant GCO Mobile'!$A:$J,10,0),0) -> 0 | T3: =IFERROR(VLOOKUP($B:$B,'Nbr GCO Mobile'!$A:$J,10,0),0) -> 0
A4: 42401 | B4: 78026bca | C4: =IFERROR(VLOOKUP($B:$B,'Montant GCO Mobile'!$A:$G,2,0),0) -> 0 | D4: =IFERROR(VLOOKUP($B:$B,'Nbr GCO Mobile'!$A:$G,2,0),0) -> 0 | E4: =IFERROR(VLOOKUP($B:$B,'Montant GCO Mobile'!$A:$G,6,0),0) -> 0 | F4: =IFERROR(VLOOKUP($B:$B,'Nbr GCO Mobile'!$A:$G,6,0),0) -> 0 | G4: =IFERROR(VLOOKUP($B:$B,'Montant GCO Mobile'!$A:$G,7,0),0) -> 0 | H4: =IFERROR(VLOOKUP($B:$B,'Nbr GCO Mobile'!$A:$G,7,0),0) -> 0 | I4: =IFERROR(VLOOKUP($B:$B,'Montant GCO Mobile'!$A:$G,3,0),0) -> 0 | J4: =IFERROR(VLOOKUP($B:$B,'Nbr GCO Mobile'!$A:$G,3,0),0) -> 0 | K4: =IFERROR(VLOOKUP($B:$B,'Montant GCO Mobile'!$A:$G,4,0),0) -> 0 | L4: =IFERROR(VLOOKUP($B:$B,'Nbr GCO Mobile'!$A:$G,4,0),0) -> 0 | M4: =IFERROR(VLOOKUP($B:$B,'Montant GCO Mobile'!$A:$G,5,0),0) -> 0 | N4: =IFERROR(VLOOKUP($B:$B,'Nbr GCO Mobile'!$A:$G,5,0),0) -> 0 | O4: =IFERROR(VLOOKUP($B:$B,'Montant GCO Mobile'!$A:$J,8,0),0) -> 0 | P4: =IFERROR(VLOOKUP($B:$B,'Nbr GCO Mobile'!$A:$J,8,0),0) -> 0 | Q4: =IFERROR(VLOOKUP($B:$B,'Montant GCO Mobile'!$A:$J,9,0),0) -> 0 | R4: =IFERROR(VLOOKUP($B:$B,'Nbr GCO Mobile'!$A:$J,9,0),0) -> 0 | S4: =IFERROR(VLOOKUP($B:$B,'Montant GCO Mobile'!$A:$J,10,0),0) -> 0 | T4: =IFERROR(VLOOKUP($B:$B,'Nbr GCO Mobile'!$A:$J,10,0),0) -> 0
A5: 42401 | B5: 78031bca | C5: =IFERROR(VLOOKUP($B:$B,'Montant GCO Mobile'!$A:$G,2,0),0) -> 30 | D5: =IFERROR(VLOOKUP($B:$B,'Nbr GCO Mobile'!$A:$G,2,0),0) -> 1 | E5: =IFERROR(VLOOKUP($B:$B,'Montant GCO Mobile'!$A:$G,6,0),0) -> 360 | F5: =IFERROR(VLOOKUP($B:$B,'Nbr GCO Mobile'!$A:$G,6,0),0) -> 4 | G5: =IFERROR(VLOOKUP($B:$B,'Montant GCO Mobile'!$A:$G,7,0),0) -> 840 | H5: =IFERROR(VLOOKUP($B:$B,'Nbr GCO Mobile'!$A:$G,7,0),0) -> 12 | I5: =IFERROR(VLOOKUP($B:$B,'Montant GCO Mobile'!$A:$G,3,0),0) -> 0 | J5: =IFERROR(VLOOKUP($B:$B,'Nbr GCO Mobile'!$A:$G,3,0),0) -> 0 | K5: =IFERROR(VLOOKUP($B:$B,'Montant GCO Mobile'!$A:$G,4,0),0) -> 0 | L5: =IFERROR(VLOOKUP($B:$B,'Nbr GCO Mobile'!$A:$G,4,0),0) -> 0 | M5: =IFERROR(VLOOKUP($B:$B,'Montant GCO Mobile'!$A:$G,5,0),0) -> 0 | N5: =IFERROR(VLOOKUP($B:$B,'Nbr GCO Mobile'!$A:$G,5,0),0) -> 0 | O5: =IFERROR(VLOOKUP($B:$B,'Montant GCO Mobile'!$A:$J,8,0),0) -> 0 | P5: =IFERROR(VLOOKUP($B:$B,'Nbr GCO Mobile'!$A:$J,8,0),0) -> 0 | Q5: =IFERROR(VLOOKUP($B:$B,'Montant GCO Mobile'!$A:$J,9,0),0) -> 10 | R5: =IFERROR(VLOOKUP($B:$B,'Nbr GCO Mobile'!$A:$J,9,0),0) -> 1 | S5: =IFERROR(VLOOKUP($B:$B,'Montant GCO Mobile'!$A:$J,10,0),0) -> 0 | T5: =IFERROR(VLOOKUP($B:$B,'Nbr GCO Mobile'!$A:$J,10,0),0) -> 0
A6: 42401 | B6: 78039bca | C6: =IFERROR(VLOOKUP($B:$B,'Montant GCO Mobile'!$A:$G,2,0),0) -> 150 | D6: =IFERROR(VLOOKUP($B:$B,'Nbr GCO Mobile'!$A:$G,2,0),0) -> 3 | E6: =IFERROR(VLOOKUP($B:$B,'Montant GCO Mobile'!$A:$G,6,0),0) -> 240 | F6: =IFERROR(VLOOKUP($B:$B,'Nbr GCO Mobile'!$A:$G,6,0),0) -> 3 | G6: =IFERROR(VLOOKUP($B:$B,'Montant GCO Mobile'!$A:$G,7,0),0) -> 0 | H6: =IFERROR(VLOOKUP($B:$B,'Nbr GCO Mobile'!$A:$G,7,0),0) -> 0 | I6: =IFERROR(VLOOKUP($B:$B,'Montant GCO Mobile'!$A:$G,3,0),0) -> 0 | J6: =IFERROR(VLOOKUP($B:$B,'Nbr GCO Mobile'!$A:$G,3,0),0) -> 0 | K6: =IFERROR(VLOOKUP($B:$B,'Montant GCO Mobile'!$A:$G,4,0),0) -> 0 | L6: =IFERROR(VLOOKUP($B:$B,'Nbr GCO Mobile'!$A:$G,4,0),0) -> 0 | M6: =IFERROR(VLOOKUP($B:$B,'Montant GCO Mobile'!$A:$G,5,0),0) -> 0 | N6: =IFERROR(VLOOKUP($B:$B,'Nbr GCO Mobile'!$A:$G,5,0),0) -> 0 | O6: =IFERROR(VLOOKUP($B:$B,'Montant GCO Mobile'!$A:$J,8,0),0) -> 0 | P6: =IFERROR(VLOOKUP($B:$B,'Nbr GCO Mobile'!$A:$J,8,0),0) -> 0 | Q6: =IFERROR(VLOOKUP($B:$B,'Montant GCO Mobile'!$A:$J,9,0),0) -> 0 | R6: =IFERROR(VLOOKUP($B:$B,'Nbr GCO Mobile'!$A:$J,9,0),0) -> 0 | S6: =IFERROR(VLOOKUP($B:$B,'Montant GCO Mobile'!$A:$J,10,0),0) -> 0 | T6: =IFERROR(VLOOKUP($B:$B,'Nbr GCO Mobile'!$A:$J,10,0),0) -> 0
A7: 42401 | B7: 78075bca | C7: =IFERROR(VLOOKUP($B:$B,'Montant GCO Mobile'!$A:$G,2,0),0) -> 192 | D7: =IFERROR(VLOOKUP($B:$B,'Nbr GCO Mobile'!$A:$G,2,0),0) -> 4 | E7: =IFERROR(VLOOKUP($B:$B,'Montant GCO Mobile'!$A:$G,6,0),0) -> 660 | F7: =IFERROR(VLOOKUP($B:$B,'Nbr GCO Mobile'!$A:$G,6,0),0) -> 11 | G7: =IFERROR(VLOOKUP($B:$B,'Montant GCO Mobile'!$A:$G,7,0),0) -> 84 | H7: =IFERROR(VLOOKUP($B:$B,'Nbr GCO Mobile'!$A:$G,7,0),0) -> 1 | I7: =IFERROR(VLOOKUP($B:$B,'Montant GCO Mobile'!$A:$G,3,0),0) -> 19.9 | J7: =IFERROR(VLOOKUP($B:$B,'Nbr GCO Mobile'!$A:$G,3,0),0) -> 1 | K7: =IFERROR(VLOOKUP($B:$B,'Montant GCO Mobile'!$A:$G,4,0),0) -> 0 | L7: =IFERROR(VLOOKUP($B:$B,'Nbr GCO Mobile'!$A:$G,4,0),0) -> 0 | M7: =IFERROR(VLOOKUP($B:$B,'Montant GCO Mobile'!$A:$G,5,0),0) -> 0 | N7: =IFERROR(VLOOKUP($B:$B,'Nbr GCO Mobile'!$A:$G,5,0),0) -> 0 | O7: =IFERROR(VLOOKUP($B:$B,'Montant GCO Mobile'!$A:$J,8,0),0) -> 0 | P7: =IFERROR(VLOOKUP($B:$B,'Nbr GCO Mobile'!$A:$J,8,0),0) -> 0 | Q7: =IFERROR(VLOOKUP($B:$B,'Montant GCO Mobile'!$A:$J,9,0),0) -> 0 | R7: =IFERROR(VLOOKUP($B:$B,'Nbr GCO Mobile'!$A:$J,9,0),0) -> 0 | S7: =IFERROR(VLOOKUP($B:$B,'Montant GCO Mobile'!$A:$J,10,0),0) -> 0 | T7: =IFERROR(VLOOKUP($B:$B,'Nbr GCO Mobile'!$A:$J,10,0),0) -> 0
A8: 42401 | B8: 78077bca | C8: =IFERROR(VLOOKUP($B:$B,'Montant GCO Mobile'!$A:$G,2,0),0) -> 490 | D8: =IFERROR(VLOOKUP($B:$B,'Nbr GCO Mobile'!$A:$G,2,0),0) -> 10 | E8: =IFERROR(VLOOKUP($B:$B,'Montant GCO Mobile'!$A:$G,6,0),0) -> 4560 | F8: =IFERROR(VLOOKUP($B:$B,'Nbr GCO Mobile'!$A:$G,6,0),0) -> 65 | G8: =IFERROR(VLOOKUP($B:$B,'Montant GCO Mobile'!$A:$G,7,0),0) -> 6492 | H8: =IFERROR(VLOOKUP($B:$B,'Nbr GCO Mobile'!$A:$G,7,0),0) -> 75 | I8: =IFERROR(VLOOKUP($B:$B,'Montant GCO Mobile'!$A:$G,3,0),0) -> 29.08 | J8: =IFERROR(VLOOKUP($B:$B,'Nbr GCO Mobile'!$A:$G,3,0),0) -> 1 | K8: =IFERROR(VLOOKUP($B:$B,'Montant GCO Mobile'!$A:$G,4,0),0) -> 56 | L8: =IFERROR(VLOOKUP($B:$B,'Nbr GCO Mobile'!$A:$G,4,0),0) -> 2 | M8: =IFERROR(VLOOKUP($B:$B,'Montant GCO Mobile'!$A:$G,5,0),0) -> 494.91 | N8: =IFERROR(VLOOKUP($B:$B,'Nbr GCO Mobile'!$A:$G,5,0),0) -> 1 | O8: =IFERROR(VLOOKUP($B:$B,'Montant GCO Mobile'!$A:$J,8,0),0) -> 0 | P8: =IFERROR(VLOOKUP($B:$B,'Nbr GCO Mobile'!$A:$J,8,0),0) -> 0 | Q8: =IFERROR(VLOOKUP($B:$B,'Montant GCO Mobile'!$A:$J,9,0),0) -> 0 | R8: =IFERROR(VLOOKUP($B:$B,'Nbr GCO Mobile'!$A:$J,9,0),0) -> 0 | S8: =IFERROR(VLOOKUP($B:$B,'Montant GCO Mobile'!$A:$J,10,0),0) -> 0 | T8: =IFERROR(VLOOKUP($B:$B,'Nbr GCO Mobile'!$A:$J,10,0),0) -> 0
A9: 42401 | B9: 78120bca | C9: =IFERROR(VLOOKUP($B:$B,'Montant GCO Mobile'!$A:$G,2,0),0) -> 329.98 | D9: =IFERROR(VLOOKUP($B:$B,'Nbr GCO Mobile'!$A:$G,2,0),0) -> 8 | E9: =IFERROR(VLOOKUP($B:$B,'Montant GCO Mobile'!$A:$G,6,0),0) -> 3960 | F9: =IFERROR(VLOOKUP($B:$B,'Nbr GCO Mobile'!$A:$G,6,0),0) -> 51 | G9: =IFERROR(VLOOKUP($B:$B,'Montant GCO Mobile'!$A:$G,7,0),0) -> 156 | H9: =IFERROR(VLOOKUP($B:$B,'Nbr GCO Mobile'!$A:$G,7,0),0) -> 1 | I9: =IFERROR(VLOOKUP($B:$B,'Montant GCO Mobile'!$A:$G,3,0),0) -> 0 | J9: =IFERROR(VLOOKUP($B:$B,'Nbr GCO Mobile'!$A:$G,3,0),0) -> 0 | K9: =IFERROR(VLOOKUP($B:$B,'Montant GCO Mobile'!$A:$G,4,0),0) -> 0 | L9: =IFERROR(VLOOKUP($B:$B,'Nbr GCO Mobile'!$A:$G,4,0),0) -> 0 | M9: =IFERROR(VLOOKUP($B:$B,'Montant GCO Mobile'!$A:$G,5,0),0) -> 34.15 | N9: =IFERROR(VLOOKUP($B:$B,'Nbr GCO Mobile'!$A:$G,5,0),0) -> 1 | O9: =IFERROR(VLOOKUP($B:$B,'Montant GCO Mobile'!$A:$J,8,0),0) -> 0 | P9: =IFERROR(VLOOKUP($B:$B,'Nbr GCO Mobile'!$A:$J,8,0),0) -> 0 | Q9: =IFERROR(VLOOKUP($B:$B,'Montant GCO Mobile'!$A:$J,9,0),0) -> 0 | R9: =IFERROR(VLOOKUP($B:$B,'Nbr GCO Mobile'!$A:$J,9,0),0) -> 0 | S9: =IFERROR(VLOOKUP($B:$B,'Montant GCO Mobile'!$A:$J,10,0),0) -> 0 | T9: =IFERROR(VLOOKUP($B:$B,'Nbr GCO Mobile'!$A:$J,10,0),0) -> 0
A10: 42401 | B10: 78224bca | C10: =IFERROR(VLOOKUP($B:$B,'Montant GCO Mobile'!$A:$G,2,0),0) -> 508 | D10: =IFERROR(VLOOKUP($B:$B,'Nbr GCO Mobile'!$A:$G,2,0),0) -> 7 | E10: =IFERROR(VLOOKUP($B:$B,'Montant GCO Mobile'!$A:$G,6,0),0) -> 9180 | F10: =IFERROR(VLOOKUP($B:$B,'Nbr GCO Mobile'!$A:$G,6,0),0) -> 114 | G10: =IFERROR(VLOOKUP($B:$B,'Montant GCO Mobile'!$A:$G,7,0),0) -> 1092 | H10: =IFERROR(VLOOKUP($B:$B,'Nbr GCO Mobile'!$A:$G,7,0),0) -> 14 | I10: =IFERROR(VLOOKUP($B:$B,'Montant GCO Mobile'!$A:$G,3,0),0) -> 173 | J10: =IFERROR(VLOOKUP($B:$B,'Nbr GCO Mobile'!$A:$G,3,0),0) -> 6 | K10: =IFERROR(VLOOKUP($B:$B,'Montant GCO Mobile'!$A:$G,4,0),0) -> 0 | L10: =IFERROR(VLOOKUP($B:$B,'Nbr GCO Mobile'!$A:$G,4,0),0) -> 0 | M10: =IFERROR(VLOOKUP($B:$B,'Montant GCO Mobile'!$A:$G,5,0),0) -> 249.54 | N10: =IFERROR(VLOOKUP($B:$B,'Nbr GCO Mobile'!$A:$G,5,0),0) -> 2 | O10: =IFERROR(VLOOKUP($B:$B,'Montant GCO Mobile'!$A:$J,8,0),0) -> 0 | P10: =IFERROR(VLOOKUP($B:$B,'Nbr GCO Mobile'!$A:$J,8,0),0) -> 0 | Q10: =IFERROR(VLOOKUP($B:$B,'Montant GCO Mobile'!$A:$J,9,0),0) -> 0 | R10: =IFERROR(VLOOKUP($B:$B,'Nbr GCO Mobile'!$A:$J,9,0),0) -> 0 | S10: =IFERROR(VLOOKUP($B:$B,'Montant GCO Mobile'!$A:$J,10,0),0) -> 0 | T10: =IFERROR(VLOOKUP($B:$B,'Nbr GCO Mobile'!$A:$J,10,0),0) -> 0
A11: 42401 | B11: 78242bca | C11: =IFERROR(VLOOKUP($B:$B,'Montant GCO Mobile'!$A:$G,2,0),0) -> 298.99 | D11: =IFERROR(VLOOKUP($B:$B,'Nbr GCO Mobile'!$A:$G,2,0),0) -> 5 | E11: =IFERROR(VLOOKUP($B:$B,'Montant GCO Mobile'!$A:$G,6,0),0) -> 2220 | F11: =IFERROR(VLOOKUP($B:$B,'Nbr GCO Mobile'!$A:$G,6,0),0) -> 32 | G11: =IFERROR(VLOOKUP($B:$B,'Montant GCO Mobile'!$A:$G,7,0),0) -> 3252 | H11: =IFERROR(VLOOKUP($B:$B,'Nbr GCO Mobile'!$A:$G,7,0),0) -> 32 | I11: =IFERROR(VLOOKUP($B:$B,'Montant GCO Mobile'!$A:$G,3,0),0) -> 0 | J11: =IFERROR(VLOOKUP($B:$B,'Nbr GCO Mobile'!$A:$G,3,0),0) -> 0 | K11: =IFERROR(VLOOKUP($B:$B,'Montant GCO Mobile'!$A:$G,4,0),0) -> 0 | L11: =IFERROR(VLOOKUP($B:$B,'Nbr GCO Mobile'!$A:$G,4,0),0) -> 0 | M11: =IFERROR(VLOOKUP($B:$B,'Montant GCO Mobile'!$A:$G,5,0),0) -> 0 | N11: =IFERROR(VLOOKUP($B:$B,'Nbr GCO Mobile'!$A:$G,5,0),0) -> 0 | O11: =IFERROR(VLOOKUP($B:$B,'Montant GCO Mobile'!$A:$J,8,0),0) -> 0 | P11: =IFERROR(VLOOKUP($B:$B,'Nbr GCO Mobile'!$A:$J,8,0),0) -> 0 | Q11: =IFERROR(VLOOKUP($B:$B,'Montant GCO Mobile'!$A:$J,9,0),0) -> 0 | R11: =IFERROR(VLOOKUP($B:$B,'Nbr GCO Mobile'!$A:$J,9,0),0) -> 0 | S11: =IFERROR(VLOOKUP($B:$B,'Montant GCO Mobile'!$A:$J,10,0),0) -> 0 | T11: =IFERROR(VLOOKUP($B:$B,'Nbr GCO Mobile'!$A:$J,10,0),0) -> 0
A12: 42401 | B12: 78287bca | C12: =IFERROR(VLOOKUP($B:$B,'Montant GCO Mobile'!$A:$G,2,0),0) -> 60 | D12: =IFERROR(VLOOKUP($B:$B,'Nbr GCO Mobile'!$A:$G,2,0),0) -> 1 | E12: =IFERROR(VLOOKUP($B:$B,'Montant GCO Mobile'!$A:$G,6,0),0) -> 2940 | F12: =IFERROR(VLOOKUP($B:$B,'Nbr GCO Mobile'!$A:$G,6,0),0) -> 37 | G12: =IFERROR(VLOOKUP($B:$B,'Montant GCO Mobile'!$A:$G,7,0),0) -> 0 | H12: =IFERROR(VLOOKUP($B:$B,'Nbr GCO Mobile'!$A:$G,7,0),0) -> 0 | I12: =IFERROR(VLOOKUP($B:$B,'Montant GCO Mobile'!$A:$G,3,0),0) -> 28.99 | J12: =IFERROR(VLOOKUP($B:$B,'Nbr GCO Mobile'!$A:$G,3,0),0) -> 1 | K12: =IFERROR(VLOOKUP($B:$B,'Montant GCO Mobile'!$A:$G,4,0),0) -> 0 | L12: =IFERROR(VLOOKUP($B:$B,'Nbr GCO Mobile'!$A:$G,4,0),0) -> 0 | M12: =IFERROR(VLOOKUP($B:$B,'Montant GCO Mobile'!$A:$G,5,0),0) -> 0 | N12: =IFERROR(VLOOKUP($B:$B,'Nbr GCO Mobile'!$A:$G,5,0),0) -> 0 | O12: =IFERROR(VLOOKUP($B:$B,'Montant GCO Mobile'!$A:$J,8,0),0) -> 0 | P12: =IFERROR(VLOOKUP($B:$B,'Nbr GCO Mobile'!$A:$J,8,0),0) -> 0 | Q12: =IFERROR(VLOOKUP($B:$B,'Montant GCO Mobile'!$A:$J,9,0),0) -> 0 | R12: =IFERROR(VLOOKUP($B:$B,'Nbr GCO Mobile'!$A:$J,9,0),0) -> 0 | S12: =IFERROR(VLOOKUP($B:$B,'Montant GCO Mobile'!$A:$J,10,0),0) -> 0 | T12: =IFERROR(VLOOKUP($B:$B,'Nbr GCO Mobile'!$A:$J,10,0),0) -> 0
A13: 42401 | B13: 78319bca | C13: =IFERROR(VLOOKUP($B:$B,'Montant GCO Mobile'!$A:$G,2,0),0) -> 260 | D13: =IFERROR(VLOOKUP($B:$B,'Nbr GCO Mobile'!$A:$G,2,0),0) -> 6 | E13: =IFERROR(VLOOKUP($B:$B,'Montant GCO Mobile'!$A:$G,6,0),0) -> 6840 | F13: =IFERROR(VLOOKUP($B:$B,'Nbr GCO Mobile'!$A:$G,6,0),0) -> 95 | G13: =IFERROR(VLOOKUP($B:$B,'Montant GCO Mobile'!$A:$G,7,0),0) -> 0 | H13: =IFERROR(VLOOKUP($B:$B,'Nbr GCO Mobile'!$A:$G,7,0),0) -> 0 | I13: =IFERROR(VLOOKUP($B:$B,'Montant GCO Mobile'!$A:$G,3,0),0) -> 0 | J13: =IFERROR(VLOOKUP($B:$B,'Nbr GCO Mobile'!$A:$G,3,0),0) -> 0 | K13: =IFERROR(VLOOKUP($B:$B,'Montant GCO Mobile'!$A:$G,4,0),0) -> 0 | L13: =IFERROR(VLOOKUP($B:$B,'Nbr GCO Mobile'!$A:$G,4,0),0) -> 0 | M13: =IFERROR(VLOOKUP($B:$B,'Montant GCO Mobile'!$A:$G,5,0),0) -> 0 | N13: =IFERROR(VLOOKUP($B:$B,'Nbr GCO Mobile'!$A:$G,5,0),0) -> 0 | O13: =IFERROR(VLOOKUP($B:$B,'Montant GCO Mobile'!$A:$J,8,0),0) -> 0 | P13: =IFERROR(VLOOKUP($B:$B,'Nbr GCO Mobile'!$A:$J,8,0),0) -> 0 | Q13: =IFERROR(VLOOKUP($B:$B,'Montant GCO Mobile'!$A:$J,9,0),0) -> 0 | R13: =IFERROR(VLOOKUP($B:$B,'Nbr GCO Mobile'!$A:$J,9,0),0) -> 0 | S13: =IFERROR(VLOOKUP($B:$B,'Montant GCO Mobile'!$A:$J,10,0),0) -> 0 | T13: =IFERROR(VLOOKUP($B:$B,'Nbr GCO Mobile'!$A:$J,10,0),0) -> 0
A14: 42401 | B14: 78350bca | C14: =IFERROR(VLOOKUP($B:$B,'Montant GCO Mobile'!$A:$G,2,0),0) -> 320 | D14: =IFERROR(VLOOKUP($B:$B,'Nbr GCO Mobile'!$A:$G,2,0),0) -> 7 | E14: =IFERROR(VLOOKUP($B:$B,'Montant GCO Mobile'!$A:$G,6,0),0) -> 1920 | F14: =IFERROR(VLOOKUP($B:$B,'Nbr GCO Mobile'!$A:$G,6,0),0) -> 25 | G14: =IFERROR(VLOOKUP($B:$B,'Montant GCO Mobile'!$A:$G,7,0),0) -> 0 | H14: =IFERROR(VLOOKUP($B:$B,'Nbr GCO Mobile'!$A:$G,7,0),0) -> 0 | I14: =IFERROR(VLOOKUP($B:$B,'Montant GCO Mobile'!$A:$G,3,0),0) -> 33.49 | J14: =IFERROR(VLOOKUP($B:$B,'Nbr GCO Mobile'!$A:$G,3,0),0) -> 4 | K14: =IFERROR(VLOOKUP($B:$B,'Montant GCO Mobile'!$A:$G,4,0),0) -> 210 | L14: =IFERROR(VLOOKUP($B:$B,'Nbr GCO Mobile'!$A:$G,4,0),0) -> 3 | M14: =IFERROR(VLOOKUP($B:$B,'Montant GCO Mobile'!$A:$G,5,0),0) -> 76.92 | N14: =IFERROR(VLOOKUP($B:$B,'Nbr GCO Mobile'!$A:$G,5,0),0) -> 1 | O14: =IFERROR(VLOOKUP($B:$B,'Montant GCO Mobile'!$A:$J,8,0),0) -> 0 | P14: =IFERROR(VLOOKUP($B:$B,'Nbr GCO Mobile'!$A:$J,8,0),0) -> 0 | Q14: =IFERROR(VLOOKUP($B:$B,'Montant GCO Mobile'!$A:$J,9,0),0) -> 0 | R14: =IFERROR(VLOOKUP($B:$B,'Nbr GCO Mobile'!$A:$J,9,0),0) -> 0 | S14: =IFERROR(VLOOKUP($B:$B,'Montant GCO Mobile'!$A:$J,10,0),0) -> 0 | T14: =IFERROR(VLOOKUP($B:$B,'Nbr GCO Mobile'!$A:$J,10,0),0) -> 0
... A56: 42401 | B56: 79934bca | C56: =IFERROR(VLOOKUP($B:$B,'Montant GCO Mobile'!$A:$G,2,0),0) -> 690 | D56: =IFERROR(VLOOKUP($B:$B,'Nbr GCO Mobile'!$A:$G,2,0),0) -> 13 | E56: =IFERROR(VLOOKUP($B:$B,'Montant GCO Mobile'!$A:$G,6,0),0) -> 7440 | F56: =IFERROR(VLOOKUP($B:$B,'Nbr GCO Mobile'!$A:$G,6,0),0) -> 96 | G56: =IFERROR(VLOOKUP($B:$B,'Montant GCO Mobile'!$A:$G,7,0),0) -> 0 | H56: =IFERROR(VLOOKUP($B:$B,'Nbr GCO Mobile'!$A:$G,7,0),0) -> 0 | I56: =IFERROR(VLOOKUP($B:$B,'Montant GCO Mobile'!$A:$G,3,0),0) -> 50 | J56: =IFERROR(VLOOKUP($B:$B,'Nbr GCO Mobile'!$A:$G,3,0),0) -> 2 | K56: =IFERROR(VLOOKUP($B:$B,'Montant GCO Mobile'!$A:$G,4,0),0) -> 11.2 | L56: =IFERROR(VLOOKUP($B:$B,'Nbr GCO Mobile'!$A:$G,4,0),0) -> 1 | M56: =IFERROR(VLOOKUP($B:$B,'Montant GCO Mobile'!$A:$G,5,0),0) -> 0 | N56: =IFERROR(VLOOKUP($B:$B,'Nbr GCO Mobile'!$A:$G,5,0),0) -> 0 | O56: =IFERROR(VLOOKUP($B:$B,'Montant GCO Mobile'!$A:$J,8,0),0) -> 0 | P56: =IFERROR(VLOOKUP($B:$B,'Nbr GCO Mobile'!$A:$J,8,0),0) -> 0 | Q56: =IFERROR(VLOOKUP($B:$B,'Montant GCO Mobile'!$A:$J,9,0),0) -> 0 | R56: =IFERROR(VLOOKUP($B:$B,'Nbr GCO Mobile'!$A:$J,9,0),0) -> 0 | S56: =IFERROR(VLOOKUP($B:$B,'Montant GCO Mobile'!$A:$J,10,0),0) -> 0 | T56: =IFERROR(VLOOKUP($B:$B,'Nbr GCO Mobile'!$A:$J,10,0),0) -> 0
