Workbook

Sheet Matrice
A1: Log AUI | B1: Produit | C1: Montant | D1: Date | E1: Type 1 | F1: Type 2
A2: 78023bca | B2: ISW | C2: 3.66 | D2: 42401 | E2: GCO | F2: ORIAN
A3: 78023bca | B3: ISW | C3: 5 | D3: 42401 | E3: GCO | F3: ORIAN
A4: 78023bca | B4: align | C4: 85.2 | D4: 42401 | E4: Enveloppe | F4: ORIAN
A5: 78023bca | B5: align | C5: 96 | D5: 42401 | E5: Enveloppe | F5: ORIAN
A6: 78023bca | B6: align | C6: 49.99 | D6: 42401 | E6: Enveloppe | F6: ORIAN
A7: 78023bca | B7: align | C7: 32.99 | D7: 42401 | E7: Enveloppe | F7: ORIAN
A8: 78031bca | B8: ISW | C8: 10 | D8: 42401 | E8: GCO | F8: ORIAN
A9: 78031bca | B9: align | C9: 30 | D9: 42401 | E9: Enveloppe | F9: BIOS
A10: 78039bca | B10: align | C10: 40 | D10: 42401 | E10: Enveloppe | F10: BIOS
A11: 78039bca | B11: align | C11: 80 | D11: 42401 | E11: Enveloppe | F11: BIOS
A12: 78039bca | B12: align | C12: 30 | D12: 42401 | E12: Enveloppe | F12: BIOS
A13: 78075bca | B13: SRL | C13: 19.9 | D13: 42401 | E13: GCO | F13: BIOS
... A438: 79934bca | B438: align | C438: 50 | D438: 42404 | E438: Enveloppe | F438: BIOS
A439: 78023bca | B439: PRT4 | C439: 120 | D439: 2016/02/01 | E439: PRT | F439: EZY
A440: 78031bca | B440: PRT2 | C440: 60 | D440: 2016/02/01 | E440: PRT | F440: EZY
A441: 78075bca | B441: PRT3 | C441: 84 | D441: 2016/02/01 | E441: PRT | F441: EZY
A442: 78075bca | B442: IRP6 | C442: 60 | D442: 2016/02/01 | E442: IRP | F442: EZY
A443: 78075bca | B443: IRP6 | C443: 60 | D443: 2016/02/01 | E443: IRP | F443: EZY
A444: 78075bca | B444: IRP6 | C444: 60 | D444: 2016/02/01 | E444: IRP | F444: EZY
A445: 78077bca | B445: PRT2 | C445: 60 | D445: 2016/02/01 | E445: PRT | F445: EZY
A446: 78077bca | B446: PRT2 | C446: 60 | D446: 2016/02/01 | E446: PRT | F446: EZY
A447: 78077bca | B447: PRT2 | C447: 60 | D447: 2016/02/01 | E447: PRT | F447: EZY
A448: 78077bca | B448: PRT4 | C448: 120 | D448: 2016/02/01 | E448: PRT | F448: EZY
A449: 78077bca | B449: PRT4 | C449: 120 | D449: 2016/02/01 | E449: PRT | F449: EZY
A450: 78077bca | B450: IRP8 | C450: 60 | D450: 2016/02/01 | E450: IRP | F450: EZY
... A3594: 79934bca | B3594: IRPA | C3594: 60 | D3594: 2016/02/29 | E3594: IRP | F3594: EZY

Sheet Montant GCO Mobile
A1: Date | B1: (Tous)
A3: Somme de Montant | B3: Étiquettes de colonnes
B4: BIOS | F4: EZY | H4: ORIAN | K4: Total général
A5: Étiquettes de lignes | B5: Enveloppe | C5: GCO | D5: Rég | E5: Annul Frais | F5: IRP | G5: PRT | H5: Enveloppe | I5: GCO | J5: Rég
A6: 78023bca | F6: 900 | G6: 1584 | H6: 264.18 | I6: 8.66 | K6: 2756.84
A7: 78031bca | B7: 30 | F7: 360 | G7: 840 | I7: 10 | K7: 1240
A8: 78039bca | B8: 150 | F8: 240 | K8: 390
A9: 78075bca | B9: 192 | C9: 19.9 | F9: 660 | G9: 84 | K9: 955.9
A10: 78077bca | B10: 490 | C10: 29.08 | D10: 56 | E10: 494.91 | F10: 4560 | G10: 6492 | K10: 12121.99
A11: 78120bca | B11: 329.98 | E11: 34.15 | F11: 3960 | G11: 156 | K11: 4480.13
A12: 78224bca | B12: 508 | C12: 173 | E12: 249.54 | F12: 9180 | G12: 1092 | K12: 11202.54
A13: 78242bca | B13: 298.99 | F13: 2220 | G13: 3252 | K13: 5770.99
A14: 78286bca | F14: 2160 | G14: 792 | K14: 2952
A15: 78287bca | B15: 60 | C15: 28.99 | F15: 2940 | K15: 3028.99
A16: 78319BCA | B16: 260 | F16: 6840 | K16: 7100
A17: 78332bca | F17: 780 | K17: 780
A18: 78350bca | B18: 320 | C18: 33.49 | D18: 210 | E18: 76.92 | F18: 1920 | K18: 2560.41
A19: 78425bca | F19: 360 | G19: 120 | K19: 480
A20: 78437bca | F20: 60 | K20: 60
A21: 78438bca | F21: 180 | G21: 216 | K21: 396
A22: 78459bca | B22: 160 | F22: 2280 | G22: 480 | K22: 2920
A23: 78461bca | G23: 1056 | K23: 1056
A24: 78617bca | F24: 60 | G24: 120 | K24: 180
A25: 78635BCA | B25: 365 | C25: 30 | F25: 6900 | G25: 876 | K25: 8171
A26: 78637bca | B26: 140 | E26: 76.59 | F26: 1920 | G26: 1704 | K26: 3840.59
A27: 78642bca | B27: 289 | C27: 35 | F27: 1080 | G27: 2652 | K27: 4056
A28: 78775bca | F28: 240 | K28: 240
A29: 78787bca | F29: 300 | G29: 432 | K29: 732
A30: 78793bca | B30: 260 | C30: 13 | F30: 6120 | K30: 6393
A31: 78838bca | B31: 30 | K31: 30
A32: 78848bca | B32: 560 | C32: 0 | F32: 4680 | G32: 96 | K32: 5336
A33: 78851bca | B33: 803.99 | C33: 45 | F33: 3240 | G33: 432 | I33: 5.59 | J33: 15 | K33: 4541.58
A34: 78890bca | F34: 840 | K34: 840
A35: 78919bca | F35: 3000 | K35: 3000
A36: 78938bca | F36: 2760 | G36: 120 | K36: 2880
A37: 78953bca | F37: 240 | G37: 1920 | K37: 2160
A38: 78987bca | C38: 124.29 | F38: 1200 | G38: 1836 | K38: 3160.29
A39: 78999bca | F39: 180 | G39: 240 | K39: 420
A40: 79008bca | B40: 90 | C40: 50 | G40: 1992 | K40: 2132
A41: 79028bca | B41: 44.99 | C41: 30 | F41: 7320 | K41: 7394.99
...

Sheet Nbr GCO Mobile
A1: Date | B1: (Tous)
A3: Nombre de Montant | B3: Étiquettes de colonnes
B4: BIOS | F4: EZY | H4: ORIAN | K4: Total général
A5: Étiquettes de lignes | B5: Enveloppe | C5: GCO | D5: Rég | E5: Annul Frais | F5: IRP | G5: PRT | H5: Enveloppe | I5: GCO | J5: Rég
A6: 78023bca | F6: 12 | G6: 24 | H6: 4 | I6: 2 | K6: 42
A7: 78031bca | B7: 1 | F7: 4 | G7: 12 | I7: 1 | K7: 18
A8: 78039bca | B8: 3 | F8: 3 | K8: 6
A9: 78075bca | B9: 4 | C9: 1 | F9: 11 | G9: 1 | K9: 17
A10: 78077bca | B10: 10 | C10: 1 | D10: 2 | E10: 1 | F10: 65 | G10: 75 | K10: 154
A11: 78120bca | B11: 8 | E11: 1 | F11: 51 | G11: 1 | K11: 61
A12: 78224bca | B12: 7 | C12: 6 | E12: 2 | F12: 114 | G12: 14 | K12: 143
A13: 78242bca | B13: 5 | F13: 32 | G13: 32 | K13: 69
A14: 78286bca | F14: 26 | G14: 12 | K14: 38
A15: 78287bca | B15: 1 | C15: 1 | F15: 37 | K15: 39
A16: 78319BCA | B16: 6 | F16: 95 | K16: 101
A17: 78332bca | F17: 11 | K17: 11
A18: 78350bca | B18: 7 | C18: 4 | D18: 3 | E18: 1 | F18: 25 | K18: 40
A19: 78425bca | F19: 5 | G19: 2 | K19: 7
A20: 78437bca | F20: 1 | K20: 1
A21: 78438bca | F21: 2 | G21: 2 | K21: 4
A22: 78459bca | B22: 4 | F22: 27 | G22: 8 | K22: 39
A23: 78461bca | G23: 9 | K23: 9
A24: 78617bca | F24: 1 | G24: 1 | K24: 2
A25: 78635BCA | B25: 8 | C25: 3 | F25: 85 | G25: 13 | K25: 109
A26: 78637bca | B26: 3 | E26: 1 | F26: 27 | G26: 23 | K26: 54
A27: 78642bca | B27: 7 | C27: 2 | F27: 13 | G27: 32 | K27: 54
A28: 78775bca | F28: 3 | K28: 3
A29: 78787bca | F29: 4 | G29: 7 | K29: 11
A30: 78793bca | B30: 7 | C30: 1 | F30: 76 | K30: 84
A31: 78838bca | B31: 1 | K31: 1
A32: 78848bca | B32: 7 | C32: 1 | F32: 55 | G32: 2 | K32: 65
A33: 78851bca | B33: 13 | C33: 1 | F33: 41 | G33: 6 | I33: 1 | J33: 1 | K33: 63
A34: 78890bca | F34: 10 | K34: 10
A35: 78919bca | F35: 40 | K35: 40
A36: 78938bca | F36: 36 | G36: 2 | K36: 38
A37: 78953bca | F37: 4 | G37: 20 | K37: 24
A38: 78987bca | C38: 5 | F38: 18 | G38: 18 | K38: 41
A39: 78999bca | F39: 2 | G39: 3 | K39: 5
A40: 79008bca | B40: 2 | C40: 1 | G40: 21 | K40: 24
A41: 79028bca | B41: 2 | C41: 1 | F41: 88 | K41: 91
...

Sheet Rapport Mobile
C1: Annul Frais | E1: EZY | I1: BIOS | O1: ORIAN
A2: Date | B2: AUI | C2: Montant | D2: Nbr | E2: Montant IRP | F2: Nbr | G2: Montant PRT | H2: Nbr | I2: Montant Enveloppes | J2: Nbr | K2: Montant GCO | L2: Nbr | M2: Montant Réguls | N2: Nbr | O2: Montant Enveloppes | P2: Nbr | Q2: Montant GCO | R2: Nbr | S2: Montant Réguls | T2: Nbr
A3: 42401 | B3: 78023bca | C3: =IFERROR(VLOOKUP($B:$B,'Montant GCO Mobile'!$A:$G,2,0),0) -> 0 | D3: =IFERROR(VLOOKUP($B:$B,'Nbr GCO Mobile'!$A:$G,2,0),0) -> 0 | E3: =IFERROR(VLOOKUP($B:$B,'Montant GCO Mobile'!$A:$G,6,0),0) -> 900 | F3: =IFERROR(VLOOKUP($B:$B,'Nbr GCO Mobile'!$A:$G,6,0),0) -> 12 | G3: =IFERROR(VLOOKUP($B:$B,'Montant GCO Mobile'!$A:$G,7,0),0) -> 1584 | H3: =IFERROR(VLOOKUP($B:$B,'Nbr GCO Mobile'!$A:$G,7,0),0) -> 24 | I3: =IFERROR(VLOOKUP($B:$B,'Montant GCO Mobile'!$A:$G,3,0),0) -> 0 | J3: =IFERROR(VLOOKUP($B:$B,'Nbr GCO Mobile'!$A:$G,3,0),0) -> 0 | K3: =IFERROR(VLOOKUP($B:$B,'Montant GCO Mobile'!$A:$G,4,0),0) -> 0 | L3: =IFERROR(VLOOKUP($B:$B,'Nbr GCO Mobile'!$A:$G,4,0),0) -> 0 | M3: =IFERROR(VLOOKUP($B:$B,'Montant GCO Mobile'!$A:$G,5,0),0) -> 0 | N3: =IFERROR(VLOOKUP($B:$B,'Nbr GCO Mobile'!$A:$G,5,0),0) -> 0 | O3: =IFERROR(VLOOKUP($B:$B,'Montant GCO Mobile'!$A:$J,8,0),0) -> 264.18 | P3: =IFERROR(VLOOKUP($B:$B,'Nbr GCO Mobile'!$A:$J,8,0),0) -> 4 | Q3: =IFERROR(VLOOKUP($B:$B,'Montant GCO Mobile'!$A:$J,9,0),0) -> 8.66 | R3: =IFERROR(VLOOKUP($B:$B,'Nbr GCO Mobile'!$A:$J,9,0),0) -> 2 | S3: =IFERROR(VLOOKUP($B:$B,'Montant GCO Mobile'!$A:$J,10,0),0) -> 0 | T3: =IFERROR(VLOOKUP($B:$B,'Nbr GCO Mobile'!$A:$J,10,0),0) -> 0
A4: 42401 | B4: 78026bca | C4: =IFERROR(VLOOKUP($B:$B,'Montant GCO Mobile'!$A:$G,2,0),0) -> 0 | D4: =IFERROR(VLOOKUP($B:$B,'Nbr GCO Mobile'!$A:$G,2,0),0) -> 0 | E4: =IFERROR(VLOOKUP($B:$B,'Montant GCO Mobile'!$A:$G,6,0),0) -> 0 | F4: =IFERROR(VLOOKUP($B:$B,'Nbr GCO Mobile'!$A:$G,6,0),0) -> 0 | G4: =IFERROR(VLOOKUP($B:$B,'Montant GCO Mobile'!$A:$G,7,0),0) -> 0 | H4: =IFERROR(VLOOKUP($B:$B,'Nbr GCO Mobile'!$A:$G,7,0),0) -> 0 | I4: =IFERROR(VLOOKUP($B:$B,'Montant GCO Mobile'!$A:$G,3,0),0) -> 0 | J4: =IFERROR(VLOOKUP($B:$B,'Nbr GCO Mobile'!$A:$G,3,0),0) -> 0 | K4: =IFERROR(VLOOKUP($B:$B,'Montant GCO Mobile'!$A:$G,4,0),0) -> 0 | L4: =IFERROR(VLOOKUP($B:$B,'Nbr GCO Mobile'!$A:$G,4,0),0) -> 0 | M4: =IFERROR(VLOOKUP($B:$B,'Montant GCO Mobile'!$A:$G,5,0),0) -> 0 | N4: =IFERROR(VLOOKUP($B:$B,'Nbr GCO Mobile'!$A:$G,5,0),0) -> 0 | O4: =IFERROR(VLOOKUP($B:$B,'Montant GCO Mobile'!$A:$J,8,0),0) -> 0 | P4: =IFERROR(VLOOKUP($B:$B,'Nbr GCO Mobile'!$A:$J,8,0),0) -> 0 | Q4: =IFERROR(VLOOKUP($B:$B,'Montant GCO Mobile'!$A:$J,9,0),0) -> 0 | R4: =IFERROR(VLOOKUP($B:$B,'Nbr GCO Mobile'!$A:$J,9,0),0) -> 0 | S4: =IFERROR(VLOOKUP($B:$B,'Montant GCO Mobile'!$A:$J,10,0),0) -> 0 | T4: =IFERROR(VLOOKUP($B:$B,'Nbr GCO Mobile'!$A:$J,10,0),0) -> 0
A5: 42401 | B5: 78031bca | C5: =IFERROR(VLOOKUP($B:$B,'Montant GCO Mobile'!$A:$G,2,0),0) -> 30 | D5: =IFERROR(VLOOKUP($B:$B,'Nbr GCO Mobile'!$A:$G,2,0),0) -> 1 | E5: =IFERROR(VLOOKUP($B:$B,'Montant GCO Mobile'!$A:$G,6,0),0) -> 360 | F5: =IFERROR(VLOOKUP($B:$B,'Nbr GCO Mobile'!$A:$G,6,0),0) -> 4 | G5: =IFERROR(VLOOKUP($B:$B,'Montant GCO Mobile'!$A:$G,7,0),0) -> 840 | H5: =IFERROR(VLOOKUP($B:$B,'Nbr GCO Mobile'!$A:$G,7,0),0) -> 12 | I5: =IFERROR(VLOOKUP($B:$B,'Montant GCO Mobile'!$A:$G,3,0),0) -> 0 | J5: =IFERROR(VLOOKUP($B:$B,'Nbr GCO Mobile'!$A:$G,3,0),0) -> 0 | K5: =IFERROR(VLOOKUP($B:$B,'Montant GCO Mobile'!$A:$G,4,0),0) -> 0 | L5: =IFERROR(VLOOKUP($B:$B,'Nbr GCO Mobile'!$A:$G,4,0),0) -> 0 | M5: =IFERROR(VLOOKUP($B:$B,'Montant GCO Mobile'!$A:$G,5,0),0) -> 0 | N5: =IFERROR(VLOOKUP($B:$B,'Nbr GCO Mobile'!$A:$G,5,0),0) -> 0 | O5: =IFERROR(VLOOKUP($B:$B,'Montant GCO Mobile'!$A:$J,8,0),0) -> 0 | P5: =IFERROR(VLOOKUP($B:$B,'Nbr GCO Mobile'!$A:$J,8,0),0) -> 0 | Q5: =IFERROR(VLOOKUP($B:$B,'Montant GCO Mobile'!$A:$J,9,0),0) -> 10 | R5: =IFERROR(VLOOKUP($B:$B,'Nbr GCO Mobile'!$A:$J,9,0),0) -> 1 | S5: =IFERROR(VLOOKUP($B:$B,'Montant GCO Mobile'!$A:$J,10,0),0) -> 0 | T5: =IFERROR(VLOOKUP($B:$B,'Nbr GCO Mobile'!$A:$J,10,0),0) -> 0
A6: 42401 | B6: 78039bca | C6: =IFERROR(VLOOKUP($B:$B,'Montant GCO Mobile'!$A:$G,2,0),0) -> 150 | D6: =IFERROR(VLOOKUP($B:$B,'Nbr GCO Mobile'!$A:$G,2,0),0) -> 3 | E6: =IFERROR(VLOOKUP($B:$B,'Montant GCO Mobile'!$A:$G,6,0),0) -> 240 | F6: =IFERROR(VLOOKUP($B:$B,'Nbr GCO Mobile'!$A:$G,6,0),0) -> 3 | G6: =IFERROR(VLOOKUP($B:$B,'Montant GCO Mobile'!$A:$G,7,0),0) -> 0 | H6: =IFERROR(VLOOKUP($B:$B,'Nbr GCO Mobile'!$A:$G,7,0),0) -> 0 | I6: =IFERROR(VLOOKUP($B:$B,'Montant GCO Mobile'!$A:$G,3,0),0) -> 0 | J6: =IFERROR(VLOOKUP($B:$B,'Nbr GCO Mobile'!$A:$G,3,0),0) -> 0 | K6: =IFERROR(VLOOKUP($B:$B,'Montant GCO Mobile'!$A:$G,4,0),0) -> 0 | L6: =IFERROR(VLOOKUP($B:$B,'Nbr GCO Mobile'!$A:$G,4,0),0) -> 0 | M6: =IFERROR(VLOOKUP($B:$B,'Montant GCO Mobile'!$A:$G,5,0),0) -> 0 | N6: =IFERROR(VLOOKUP($B:$B,'Nbr GCO Mobile'!$A:$G,5,0),0) -> 0 | O6: =IFERROR(VLOOKUP($B:$B,'Montant GCO Mobile'!$A:$J,8,0),0) -> 0 | P6: =IFERROR(VLOOKUP($B:$B,'Nbr GCO Mobile'!$A:$J,8,0),0) -> 0 | Q6: =IFERROR(VLOOKUP($B:$B,'Montant GCO Mobile'!$A:$J,9,0),0) -> 0 | R6: =IFERROR(VLOOKUP($B:$B,'Nbr GCO Mobile'!$A:$J,9,0),0) -> 0 | S6: =IFERROR(VLOOKUP($B:$B,'Montant GCO Mobile'!$A:$J,10,0),0) -> 0 | T6: =IFERROR(VLOOKUP($B:$B,'Nbr GCO Mobile'!$A:$J,10,0),0) -> 0
A7: 42401 | B7: 78075bca | C7: =IFERROR(VLOOKUP($B:$B,'Montant GCO Mobile'!$A:$G,2,0),0) -> 192 | D7: =IFERROR(VLOOKUP($B:$B,'Nbr GCO Mobile'!$A:$G,2,0),0) -> 4 | E7: =IFERROR(VLOOKUP($B:$B,'Montant GCO Mobile'!$A:$G,6,0),0) -> 660 | F7: =IFERROR(VLOOKUP($B:$B,'Nbr GCO Mobile'!$A:$G,6,0),0) -> 11 | G7: =IFERROR(VLOOKUP($B:$B,'Montant GCO Mobile'!$A:$G,7,0),0) -> 84 | H7: =IFERROR(VLOOKUP($B:$B,'Nbr GCO Mobile'!$A:$G,7,0),0) -> 1 | I7: =IFERROR(VLOOKUP($B:$B,'Montant GCO Mobile'!$A:$G,3,0),0) -> 19.9 | J7: =IFERROR(VLOOKUP($B:$B,'Nbr GCO Mobile'!$A:$G,3,0),0) -> 1 | K7: =IFERROR(VLOOKUP($B:$B,'Montant GCO Mobile'!$A:$G,4,0),0) -> 0 | L7: =IFERROR(VLOOKUP($B:$B,'Nbr GCO Mobile'!$A:$G,4,0),0) -> 0 | M7: =IFERROR(VLOOKUP($B:$B,'Montant GCO Mobile'!$A:$G,5,0),0) -> 0 | N7: =IFERROR(VLOOKUP($B:$B,'Nbr GCO Mobile'!$A:$G,5,0),0) -> 0 | O7: =IFERROR(VLOOKUP($B:$B,'Montant GCO Mobile'!$A:$J,8,0),0) -> 0 | P7: =IFERROR(VLOOKUP($B:$B,'Nbr GCO Mobile'!$A:$J,8,0),0) -> 0 | Q7: =IFERROR(VLOOKUP($B:$B,'Montant GCO Mobile'!$A:$J,9,0),0) -> 0 | R7: =IFERROR(VLOOKUP($B:$B,'Nbr GCO Mobile'!$A:$J,9,0),0) -> 0 | S7: =IFERROR(VLOOKUP($B:$B,'Montant GCO Mobile'!$A:$J,10,0),0) -> 0 | T7: =IFERROR(VLOOKUP($B:$B,'Nbr GCO Mobile'!$A:$J,10,0),0) -> 0
A8: 42401 | B8: 78077bca | C8: =IFERROR(VLOOKUP($B:$B,'Montant GCO Mobile'!$A:$G,2,0),0) -> 490 | D8: =IFERROR(VLOOKUP($B:$B,'Nbr GCO Mobile'!$A:$G,2,0),0) -> 10 | E8: =IFERROR(VLOOKUP($B:$B,'Montant GCO Mobile'!$A:$G,6,0),0) -> 4560 | F8: =IFERROR(VLOOKUP($B:$B,'Nbr GCO Mobile'!$A:$G,6,0),0) -> 65 | G8: =IFERROR(VLOOKUP($B:$B,'Montant GCO Mobile'!$A:$G,7,0),0) -> 6492 | H8: =IFERROR(VLOOKUP($B:$B,'Nbr GCO Mobile'!$A:$G,7,0),0) -> 75 | I8: =IFERROR(VLOOKUP($B:$B,'Montant GCO Mobile'!$A:$G,3,0),0) -> 29.08 | J8: =IFERROR(VLOOKUP($B:$B,'Nbr GCO Mobile'!$A:$G,3,0),0) -> 1 | K8: =IFERROR(VLOOKUP($B:$B,'Montant GCO Mobile'!$A:$G,4,0),0) -> 56 | L8: =IFERROR(VLOOKUP($B:$B,'Nbr GCO Mobile'!$A:$G,4,0),0) -> 2 | M8: =IFERROR(VLOOKUP($B:$B,'Montant GCO Mobile'!$A:$G,5,0),0) -> 494.91 | N8: =IFERROR(VLOOKUP($B:$B,'Nbr GCO Mobile'!$A:$G,5,0),0) -> 1 | O8: =IFERROR(VLOOKUP($B:$B,'Montant GCO Mobile'!$A:$J,8,0),0) -> 0 | P8: =IFERROR(VLOOKUP($B:$B,'Nbr GCO Mobile'!$A:$J,8,0),0) -> 0 | Q8: =IFERROR(VLOOKUP($B:$B,'Montant GCO Mobile'!$A:$J,9,0),0) -> 0 | R8: =IFERROR(VLOOKUP($B:$B,'Nbr GCO Mobile'!$A:$J,9,0),0) -> 0 | S8: =IFERROR(VLOOKUP($B:$B,'Montant GCO Mobile'!$A:$J,10,0),0) -> 0 | T8: =IFERROR(VLOOKUP($B:$B,'Nbr GCO Mobile'!$A:$J,10,0),0) -> 0
A9: 42401 | B9: 78120bca | C9: =IFERROR(VLOOKUP($B:$B,'Montant GCO Mobile'!$A:$G,2,0),0) -> 329.98 | D9: =IFERROR(VLOOKUP($B:$B,'Nbr GCO Mobile'!$A:$G,2,0),0) -> 8 | E9: =IFERROR(VLOOKUP($B:$B,'Montant GCO Mobile'!$A:$G,6,0),0) -> 3960 | F9: =IFERROR(VLOOKUP($B:$B,'Nbr GCO Mobile'!$A:$G,6,0),0) -> 51 | G9: =IFERROR(VLOOKUP($B:$B,'Montant GCO Mobile'!$A:$G,7,0),0) -> 156 | H9: =IFERROR(VLOOKUP($B:$B,'Nbr GCO Mobile'!$A:$G,7,0),0) -> 1 | I9: =IFERROR(VLOOKUP($B:$B,'Montant GCO Mobile'!$A:$G,3,0),0) -> 0 | J9: =IFERROR(VLOOKUP($B:$B,'Nbr GCO Mobile'!$A:$G,3,0),0) -> 0 | K9: =IFERROR(VLOOKUP($B:$B,'Montant GCO Mobile'!$A:$G,4,0),0) -> 0 | L9: =IFERROR(VLOOKUP($B:$B,'Nbr GCO Mobile'!$A:$G,4,0),0) -> 0 | M9: =IFERROR(VLOOKUP($B:$B,'Montant GCO Mobile'!$A:$G,5,0),0) -> 34.15 | N9: =IFERROR(VLOOKUP($B:$B,'Nbr GCO Mobile'!$A:$G,5,0),0) -> 1 | O9: =IFERROR(VLOOKUP($B:$B,'Montant GCO Mobile'!$A:$J,8,0),0) -> 0 | P9: =IFERROR(VLOOKUP($B:$B,'Nbr GCO Mobile'!$A:$J,8,0),0) -> 0 | Q9: =IFERROR(VLOOKUP($B:$B,'Montant GCO Mobile'!$A:$J,9,0),0) -> 0 | R9: =IFERROR(VLOOKUP($B:$B,'Nbr GCO Mobile'!$A:$J,9,0),0) -> 0 | S9: =IFERROR(VLOOKUP($B:$B,'Montant GCO Mobile'!$A:$J,10,0),0) -> 0 | T9: =IFERROR(VLOOKUP($B:$B,'Nbr GCO Mobile'!$A:$J,10,0),0) -> 0
A10: 42401 | B10: 78224bca | C10: =IFERROR(VLOOKUP($B:$B,'Montant GCO Mobile'!$A:$G,2,0),0) -> 508 | D10: =IFERROR(VLOOKUP($B:$B,'Nbr GCO Mobile'!$A:$G,2,0),0) -> 7 | E10: =IFERROR(VLOOKUP($B:$B,'Montant GCO Mobile'!$A:$G,6,0),0) -> 9180 | F10: =IFERROR(VLOOKUP($B:$B,'Nbr GCO Mobile'!$A:$G,6,0),0) -> 114 | G10: =IFERROR(VLOOKUP($B:$B,'Montant GCO Mobile'!$A:$G,7,0),0) -> 1092 | H10: =IFERROR(VLOOKUP($B:$B,'Nbr GCO Mobile'!$A:$G,7,0),0) -> 14 | I10: =IFERROR(VLOOKUP($B:$B,'Montant GCO Mobile'!$A:$G,3,0),0) -> 173 | J10: =IFERROR(VLOOKUP($B:$B,'Nbr GCO Mobile'!$A:$G,3,0),0) -> 6 | K10: =IFERROR(VLOOKUP($B:$B,'Montant GCO Mobile'!$A:$G,4,0),0) -> 0 | L10: =IFERROR(VLOOKUP($B:$B,'Nbr GCO Mobile'!$A:$G,4,0),0) -> 0 | M10: =IFERROR(VLOOKUP($B:$B,'Montant GCO Mobile'!$A:$G,5,0),0) -> 249.54 | N10: =IFERROR(VLOOKUP($B:$B,'Nbr GCO Mobile'!$A:$G,5,0),0) -> 2 | O10: =IFERROR(VLOOKUP($B:$B,'Montant GCO Mobile'!$A:$J,8,0),0) -> 0 | P10: =IFERROR(VLOOKUP($B:$B,'Nbr GCO Mobile'!$A:$J,8,0),0) -> 0 | Q10: =IFERROR(VLOOKUP($B:$B,'Montant GCO Mobile'!$A:$J,9,0),0) -> 0 | R10: =IFERROR(VLOOKUP($B:$B,'Nbr GCO Mobile'!$A:$J,9,0),0) -> 0 | S10: =IFERROR(VLOOKUP($B:$B,'Montant GCO Mobile'!$A:$J,10,0),0) -> 0 | T10: =IFERROR(VLOOKUP($B:$B,'Nbr GCO Mobile'!$A:$J,10,0),0) -> 0
A11: 42401 | B11: 78242bca | C11: =IFERROR(VLOOKUP($B:$B,'Montant GCO Mobile'!$A:$G,2,0),0) -> 298.99 | D11: =IFERROR(VLOOKUP($B:$B,'Nbr GCO Mobile'!$A:$G,2,0),0) -> 5 | E11: =IFERROR(VLOOKUP($B:$B,'Montant GCO Mobile'!$A:$G,6,0),0) -> 2220 | F11: =IFERROR(VLOOKUP($B:$B,'Nbr GCO Mobile'!$A:$G,6,0),0) -> 32 | G11: =IFERROR(VLOOKUP($B:$B,'Montant GCO Mobile'!$A:$G,7,0),0) -> 3252 | H11: =IFERROR(VLOOKUP($B:$B,'Nbr GCO Mobile'!$A:$G,7,0),0) -> 32 | I11: =IFERROR(VLOOKUP($B:$B,'Montant GCO Mobile'!$A:$G,3,0),0) -> 0 | J11: =IFERROR(VLOOKUP($B:$B,'Nbr GCO Mobile'!$A:$G,3,0),0) -> 0 | K11: =IFERROR(VLOOKUP($B:$B,'Montant GCO Mobile'!$A:$G,4,0),0) -> 0 | L11: =IFERROR(VLOOKUP($B:$B,'Nbr GCO Mobile'!$A:$G,4,0),0) -> 0 | M11: =IFERROR(VLOOKUP($B:$B,'Montant GCO Mobile'!$A:$G,5,0),0) -> 0 | N11: =IFERROR(VLOOKUP($B:$B,'Nbr GCO Mobile'!$A:$G,5,0),0) -> 0 | O11: =IFERROR(VLOOKUP($B:$B,'Montant GCO Mobile'!$A:$J,8,0),0) -> 0 | P11: =IFERROR(VLOOKUP($B:$B,'Nbr GCO Mobile'!$A:$J,8,0),0) -> 0 | Q11: =IFERROR(VLOOKUP($B:$B,'Montant GCO Mobile'!$A:$J,9,0),0) -> 0 | R11: =IFERROR(VLOOKUP($B:$B,'Nbr GCO Mobile'!$A:$J,9,0),0) -> 0 | S11: =IFERROR(VLOOKUP($B:$B,'Montant GCO Mobile'!$A:$J,10,0),0) -> 0 | T11: =IFERROR(VLOOKUP($B:$B,'Nbr GCO Mobile'!$A:$J,10,0),0) -> 0
A12: 42401 | B12: 78287bca | C12: =IFERROR(VLOOKUP($B:$B,'Montant GCO Mobile'!$A:$G,2,0),0) -> 60 | D12: =IFERROR(VLOOKUP($B:$B,'Nbr GCO Mobile'!$A:$G,2,0),0) -> 1 | E12: =IFERROR(VLOOKUP($B:$B,'Montant GCO Mobile'!$A:$G,6,0),0) -> 2940 | F12: =IFERROR(VLOOKUP($B:$B,'Nbr GCO Mobile'!$A:$G,6,0),0) -> 37 | G12: =IFERROR(VLOOKUP($B:$B,'Montant GCO Mobile'!$A:$G,7,0),0) -> 0 | H12: =IFERROR(VLOOKUP($B:$B,'Nbr GCO Mobile'!$A:$G,7,0),0) -> 0 | I12: =IFERROR(VLOOKUP($B:$B,'Montant GCO Mobile'!$A:$G,3,0),0) -> 28.99 | J12: =IFERROR(VLOOKUP($B:$B,'Nbr GCO Mobile'!$A:$G,3,0),0) -> 1 | K12: =IFERROR(VLOOKUP($B:$B,'Montant GCO Mobile'!$A:$G,4,0),0) -> 0 | L12: =IFERROR(VLOOKUP($B:$B,'Nbr GCO Mobile'!$A:$G,4,0),0) -> 0 | M12: =IFERROR(VLOOKUP($B:$B,'Montant GCO Mobile'!$A:$G,5,0),0) -> 0 | N12: =IFERROR(VLOOKUP($B:$B,'Nbr GCO Mobile'!$A:$G,5,0),0) -> 0 | O12: =IFERROR(VLOOKUP($B:$B,'Montant GCO Mobile'!$A:$J,8,0),0) -> 0 | P12: =IFERROR(VLOOKUP($B:$B,'Nbr GCO Mobile'!$A:$J,8,0),0) -> 0 | Q12: =IFERROR(VLOOKUP($B:$B,'Montant GCO Mobile'!$A:$J,9,0),0) -> 0 | R12: =IFERROR(VLOOKUP($B:$B,'Nbr GCO Mobile'!$A:$J,9,0),0) -> 0 | S12: =IFERROR(VLOOKUP($B:$B,'Montant GCO Mobile'!$A:$J,10,0),0) -> 0 | T12: =IFERROR(VLOOKUP($B:$B,'Nbr GCO Mobile'!$A:$J,10,0),0) -> 0
A13: 42401 | B13: 78319bca | C13: =IFERROR(VLOOKUP($B:$B,'Montant GCO Mobile'!$A:$G,2,0),0) -> 260 | D13: =IFERROR(VLOOKUP($B:$B,'Nbr GCO Mobile'!$A:$G,2,0),0) -> 6 | E13: =IFERROR(VLOOKUP($B:$B,'Montant GCO Mobile'!$A:$G,6,0),0) -> 6840 | F13: =IFERROR(VLOOKUP($B:$B,'Nbr GCO Mobile'!$A:$G,6,0),0) -> 95 | G13: =IFERROR(VLOOKUP($B:$B,'Montant GCO Mobile'!$A:$G,7,0),0) -> 0 | H13: =IFERROR(VLOOKUP($B:$B,'Nbr GCO Mobile'!$A:$G,7,0),0) -> 0 | I13: =IFERROR(VLOOKUP($B:$B,'Montant GCO Mobile'!$A:$G,3,0),0) -> 0 | J13: =IFERROR(VLOOKUP($B:$B,'Nbr GCO Mobile'!$A:$G,3,0),0) -> 0 | K13: =IFERROR(VLOOKUP($B:$B,'Montant GCO Mobile'!$A:$G,4,0),0) -> 0 | L13: =IFERROR(VLOOKUP($B:$B,'Nbr GCO Mobile'!$A:$G,4,0),0) -> 0 | M13: =IFERROR(VLOOKUP($B:$B,'Montant GCO Mobile'!$A:$G,5,0),0) -> 0 | N13: =IFERROR(VLOOKUP($B:$B,'Nbr GCO Mobile'!$A:$G,5,0),0) -> 0 | O13: =IFERROR(VLOOKUP($B:$B,'Montant GCO Mobile'!$A:$J,8,0),0) -> 0 | P13: =IFERROR(VLOOKUP($B:$B,'Nbr GCO Mobile'!$A:$J,8,0),0) -> 0 | Q13: =IFERROR(VLOOKUP($B:$B,'Montant GCO Mobile'!$A:$J,9,0),0) -> 0 | R13: =IFERROR(VLOOKUP($B:$B,'Nbr GCO Mobile'!$A:$J,9,0),0) -> 0 | S13: =IFERROR(VLOOKUP($B:$B,'Montant GCO Mobile'!$A:$J,10,0),0) -> 0 | T13: =IFERROR(VLOOKUP($B:$B,'Nbr GCO Mobile'!$A:$J,10,0),0) -> 0
A14: 42401 | B14: 78350bca | C14: =IFERROR(VLOOKUP($B:$B,'Montant GCO Mobile'!$A:$G,2,0),0) -> 320 | D14: =IFERROR(VLOOKUP($B:$B,'Nbr GCO Mobile'!$A:$G,2,0),0) -> 7 | E14: =IFERROR(VLOOKUP($B:$B,'Montant GCO Mobile'!$A:$G,6,0),0) -> 1920 | F14: =IFERROR(VLOOKUP($B:$B,'Nbr GCO Mobile'!$A:$G,6,0),0) -> 25 | G14: =IFERROR(VLOOKUP($B:$B,'Montant GCO Mobile'!$A:$G,7,0),0) -> 0 | H14: =IFERROR(VLOOKUP($B:$B,'Nbr GCO Mobile'!$A:$G,7,0),0) -> 0 | I14: =IFERROR(VLOOKUP($B:$B,'Montant GCO Mobile'!$A:$G,3,0),0) -> 33.49 | J14: =IFERROR(VLOOKUP($B:$B,'Nbr GCO Mobile'!$A:$G,3,0),0) -> 4 | K14: =IFERROR(VLOOKUP($B:$B,'Montant GCO Mobile'!$A:$G,4,0),0) -> 210 | L14: =IFERROR(VLOOKUP($B:$B,'Nbr GCO Mobile'!$A:$G,4,0),0) -> 3 | M14: =IFERROR(VLOOKUP($B:$B,'Montant GCO Mobile'!$A:$G,5,0),0) -> 76.92 | N14: =IFERROR(VLOOKUP($B:$B,'Nbr GCO Mobile'!$A:$G,5,0),0) -> 1 | O14: =IFERROR(VLOOKUP($B:$B,'Montant GCO Mobile'!$A:$J,8,0),0) -> 0 | P14: =IFERROR(VLOOKUP($B:$B,'Nbr GCO Mobile'!$A:$J,8,0),0) -> 0 | Q14: =IFERROR(VLOOKUP($B:$B,'Montant GCO Mobile'!$A:$J,9,0),0) -> 0 | R14: =IFERROR(VLOOKUP($B:$B,'Nbr GCO Mobile'!$A:$J,9,0),0) -> 0 | S14: =IFERROR(VLOOKUP($B:$B,'Montant GCO Mobile'!$A:$J,10,0),0) -> 0 | T14: =IFERROR(VLOOKUP($B:$B,'Nbr GCO Mobile'!$A:$J,10,0),0) -> 0
... A56: 42401 | B56: 79934bca | C56: =IFERROR(VLOOKUP($B:$B,'Montant GCO Mobile'!$A:$G,2,0),0) -> 690 | D56: =IFERROR(VLOOKUP($B:$B,'Nbr GCO Mobile'!$A:$G,2,0),0) -> 13 | E56: =IFERROR(VLOOKUP($B:$B,'Montant GCO Mobile'!$A:$G,6,0),0) -> 7440 | F56: =IFERROR(VLOOKUP($B:$B,'Nbr GCO Mobile'!$A:$G,6,0),0) -> 96 | G56: =IFERROR(VLOOKUP($B:$B,'Montant GCO Mobile'!$A:$G,7,0),0) -> 0 | H56: =IFERROR(VLOOKUP($B:$B,'Nbr GCO Mobile'!$A:$G,7,0),0) -> 0 | I56: =IFERROR(VLOOKUP($B:$B,'Montant GCO Mobile'!$A:$G,3,0),0) -> 50 | J56: =IFERROR(VLOOKUP($B:$B,'Nbr GCO Mobile'!$A:$G,3,0),0) -> 2 | K56: =IFERROR(VLOOKUP($B:$B,'Montant GCO Mobile'!$A:$G,4,0),0) -> 11.2 | L56: =IFERROR(VLOOKUP($B:$B,'Nbr GCO Mobile'!$A:$G,4,0),0) -> 1 | M56: =IFERROR(VLOOKUP($B:$B,'Montant GCO Mobile'!$A:$G,5,0),0) -> 0 | N56: =IFERROR(VLOOKUP($B:$B,'Nbr GCO Mobile'!$A:$G,5,0),0) -> 0 | O56: =IFERROR(VLOOKUP($B:$B,'Montant GCO Mobile'!$A:$J,8,0),0) -> 0 | P56: =IFERROR(VLOOKUP($B:$B,'Nbr GCO Mobile'!$A:$J,8,0),0) -> 0 | Q56: =IFERROR(VLOOKUP($B:$B,'Montant GCO Mobile'!$A:$J,9,0),0) -> 0 | R56: =IFERROR(VLOOKUP($B:$B,'Nbr GCO Mobile'!$A:$J,9,0),0) -> 0 | S56: =IFERROR(VLOOKUP($B:$B,'Montant GCO Mobile'!$A:$J,10,0),0) -> 0 | T56: =IFERROR(VLOOKUP($B:$B,'Nbr GCO Mobile'!$A:$J,10,0),0) -> 0
