Workbook
Name Données: #REF!
Name Entrée: Entrée!$A$4:$AA$70
Name Entrées: Entrée!#REF!
Name Sortie: Sortie!$A$4:$AA$70
Name Sorties: Entrée!#REF!
Name Tableau: 'Suivi de stock'!$H$5:$AC$100
Name ValHighlight: 'Suivi de stock'!$J$1

Sheet Entrée
A3: Produit | B3: 42430
A4: Cheville D6 | B4: 1
A5: Cheville D8
A6: Cheville D10
A7: Cheville D14 | B7: 50
A8: Tirefonds 6*50
A9: Tirefonds 6*100
A10: vis 3,5*30
A11: vis 4*30
A12: vis 3,5*35
A13: vis 4*35
A14: vis 4*40
A15: vis 4*50
A16: vis 4*60
A17: vis 4*70

Sheet Sortie
A3: Produit | B3: 42430 | C3: 42431
A4: Cheville D6 | B4: 5
A5: Cheville D8 | B5: 10
A6: Cheville D10
A7: Cheville D14 | B7: 10
A8: Tirefonds 6*50
A9: Tirefonds 6*100
A10: vis 3,5*30
A11: vis 4*30
A12: vis 3,5*35
A13: vis 4*35
A14: vis 4*40
A15: vis 4*50
A16: vis 4*60
A17: vis 4*70

Sheet Suivi de stock
A1: Stock du service menuiserie
F4: 42430 | H4: 42431
A5: Colonne1 | B5: Produit | C5: Stock | D5: Seuil Critique | E5: Stock initial | F5: Entrée | G5: Sortie | H5: Entrée | I5: Sortie | J5: Entrée | K5: Sortie | L5: Entrée | M5: Sortie | N5: Entrée | O5: Sortie | P5: Entrée | Q5: Sortie | R5: Entrée | S5: Sortie | T5: Entrée | U5: Sortie | V5: Entrée | W5: Sortie | X5: Entrée | Y5: Sortie | Z5: Entrée | AA5: Sortie
C6: =SUM(E6,F6,H6,J6,L6,N6,P6,R6,T6,V6,X6,Z6)-SUM(Q6,S6,U6,W6,Y6,AA6,G6,I6,K6,M6,O6) -> #REF! | E6: =VLOOKUP(Tableau1[[#This Row],[Produit]],#REF!,2,FALSE) -> #REF!
A7: =IF(AND(Tableau1[[#This Row],[Produit]]>0,(Tableau1[[#This Row],[Stock ]]<=Tableau1[[#This Row],[Seuil Critique]])),0,1) -> 1 | B7: Cheville D6 | C7: =SUM(E7,F7,H7,J7,L7,N7,P7,R7,T7,V7,X7,Z7)-SUM(Q7,S7,U7,W7,Y7,AA7,G7,I7,K7,M7,O7) -> 66 | D7: 50 | E7: 70 | F7: =IF($F$4=HLOOKUP($F$4,Sortie!$B$3:$AA$3,1,FALSE),VLOOKUP(Tableau1[[#This Row],[Produit]],Entrée,2,FALSE),"") -> 1 | G7: =IF($F$4=HLOOKUP($F$4,Sortie!$B$3:$AA$3,1,FALSE),VLOOKUP(Tableau1[[#This Row],[Produit]],Sortie,2,FALSE),"") -> 5 | H7: =IF($H$4=HLOOKUP($H$4,Sortie!$B$3:$AA$3,1,FALSE),VLOOKUP(Tableau1[[#This Row],[Produit]],Entrée,3,FALSE),"") -> 0 | I7: =IF($H$4=HLOOKUP($H$4,Sortie!$B$3:$AA$3,1,FALSE),VLOOKUP(Tableau1[[#This Row],[Produit]],Sortie,3,FALSE),"") -> 0
A8: =IF(AND(Tableau1[[#This Row],[Produit]]>0,(Tableau1[[#This Row],[Stock ]]<=Tableau1[[#This Row],[Seuil Critique]])),0,1) -> 0 | B8: Cheville D8 | C8: =SUM(E8,F8,H8,J8,L8,N8,P8,R8,T8,V8,X8,Z8)-SUM(Q8,S8,U8,W8,Y8,AA8,G8,I8,K8,M8,O8) -> -9 | D8: 50 | E8: 1 | F8: =IF($F$4=HLOOKUP($F$4,Sortie!$B$3:$AA$3,1,FALSE),VLOOKUP(Tableau1[[#This Row],[Produit]],Entrée,2,FALSE),"") -> 0 | G8: =IF($F$4=HLOOKUP($F$4,Sortie!$B$3:$AA$3,1,FALSE),VLOOKUP(Tableau1[[#This Row],[Produit]],Sortie,2,FALSE),"") -> 10 | H8: =IF($H$4=HLOOKUP($H$4,Sortie!$B$3:$AA$3,1,FALSE),VLOOKUP(Tableau1[[#This Row],[Produit]],Entrée,3,FALSE),"") -> 0 | I8: =IF($H$4=HLOOKUP($H$4,Sortie!$B$3:$AA$3,1,FALSE),VLOOKUP(Tableau1[[#This Row],[Produit]],Sortie,3,FALSE),"") -> 0
A9: =IF(AND(Tableau1[[#This Row],[Produit]]>0,(Tableau1[[#This Row],[Stock ]]<=Tableau1[[#This Row],[Seuil Critique]])),0,1) -> 0 | B9: Cheville D10 | C9: =SUM(E9,F9,H9,J9,L9,N9,P9,R9,T9,V9,X9,Z9)-SUM(Q9,S9,U9,W9,Y9,AA9,G9,I9,K9,M9,O9) -> 0 | D9: 50 | E9: 0 | F9: =IF($F$4=HLOOKUP($F$4,Sortie!$B$3:$AA$3,1,FALSE),VLOOKUP(Tableau1[[#This Row],[Produit]],Entrée,2,FALSE),"") -> 0 | G9: =IF($F$4=HLOOKUP($F$4,Sortie!$B$3:$AA$3,1,FALSE),VLOOKUP(Tableau1[[#This Row],[Produit]],Sortie,2,FALSE),"") -> 0 | H9: =IF($H$4=HLOOKUP($H$4,Sortie!$B$3:$AA$3,1,FALSE),VLOOKUP(Tableau1[[#This Row],[Produit]],Entrée,3,FALSE),"") -> 0 | I9: =IF($H$4=HLOOKUP($H$4,Sortie!$B$3:$AA$3,1,FALSE),VLOOKUP(Tableau1[[#This Row],[Produit]],Sortie,3,FALSE),"") -> 0
A10: =IF(AND(Tableau1[[#This Row],[Produit]]>0,(Tableau1[[#This Row],[Stock ]]<=Tableau1[[#This Row],[Seuil Critique]])),0,1) -> 1 | B10: Cheville D14 | C10: =SUM(E10,F10,H10,J10,L10,N10,P10,R10,T10,V10,X10,Z10)-SUM(Q10,S10,U10,W10,Y10,AA10,G10,I10,K10,M10,O10) -> 85 | D10: 50 | E10: 45 | F10: =IF($F$4=HLOOKUP($F$4,Sortie!$B$3:$AA$3,1,FALSE),VLOOKUP(Tableau1[[#This Row],[Produit]],Entrée,2,FALSE),"") -> 50 | G10: =IF($F$4=HLOOKUP($F$4,Sortie!$B$3:$AA$3,1,FALSE),VLOOKUP(Tableau1[[#This Row],[Produit]],Sortie,2,FALSE),"") -> 10 | H10: =IF($H$4=HLOOKUP($H$4,Sortie!$B$3:$AA$3,1,FALSE),VLOOKUP(Tableau1[[#This Row],[Produit]],Entrée,3,FALSE),"") -> 0 | I10: =IF($H$4=HLOOKUP($H$4,Sortie!$B$3:$AA$3,1,FALSE),VLOOKUP(Tableau1[[#This Row],[Produit]],Sortie,3,FALSE),"") -> 0
A11: =IF(AND(Tableau1[[#This Row],[Produit]]>0,(Tableau1[[#This Row],[Stock ]]<=Tableau1[[#This Row],[Seuil Critique]])),0,1) -> 0 | B11: Tirefonds 6*50 | C11: =SUM(E11,F11,H11,J11,L11,N11,P11,R11,T11,V11,X11,Z11)-SUM(Q11,S11,U11,W11,Y11,AA11,G11,I11,K11,M11,O11) -> 0 | D11: 10 | E11: 0 | F11: =IF($F$4=HLOOKUP($F$4,Sortie!$B$3:$AA$3,1,FALSE),VLOOKUP(Tableau1[[#This Row],[Produit]],Entrée,2,FALSE),"") -> 0 | G11: =IF($F$4=HLOOKUP($F$4,Sortie!$B$3:$AA$3,1,FALSE),VLOOKUP(Tableau1[[#This Row],[Produit]],Sortie,2,FALSE),"") -> 0 | H11: =IF($H$4=HLOOKUP($H$4,Sortie!$B$3:$AA$3,1,FALSE),VLOOKUP(Tableau1[[#This Row],[Produit]],Entrée,3,FALSE),"") -> 0 | I11: =IF($H$4=HLOOKUP($H$4,Sortie!$B$3:$AA$3,1,FALSE),VLOOKUP(Tableau1[[#This Row],[Produit]],Sortie,3,FALSE),"") -> 0
A12: =IF(AND(Tableau1[[#This Row],[Produit]]>0,(Tableau1[[#This Row],[Stock ]]<=Tableau1[[#This Row],[Seuil Critique]])),0,1) -> 0 | B12: Tirefonds 6*100 | C12: =SUM(E12,F12,H12,J12,L12,N12,P12,R12,T12,V12,X12,Z12)-SUM(Q12,S12,U12,W12,Y12,AA12,G12,I12,K12,M12,O12) -> 0 | D12: 10 | E12: 0 | F12: =IF($F$4=HLOOKUP($F$4,Sortie!$B$3:$AA$3,1,FALSE),VLOOKUP(Tableau1[[#This Row],[Produit]],Entrée,2,FALSE),"") -> 0 | G12: =IF($F$4=HLOOKUP($F$4,Sortie!$B$3:$AA$3,1,FALSE),VLOOKUP(Tableau1[[#This Row],[Produit]],Sortie,2,FALSE),"") -> 0 | H12: =IF($H$4=HLOOKUP($H$4,Sortie!$B$3:$AA$3,1,FALSE),VLOOKUP(Tableau1[[#This Row],[Produit]],Entrée,3,FALSE),"") -> 0 | I12: =IF($H$4=HLOOKUP($H$4,Sortie!$B$3:$AA$3,1,FALSE),VLOOKUP(Tableau1[[#This Row],[Produit]],Sortie,3,FALSE),"") -> 0
A13: =IF(AND(Tableau1[[#This Row],[Produit]]>0,(Tableau1[[#This Row],[Stock ]]<=Tableau1[[#This Row],[Seuil Critique]])),0,1) -> 0 | B13: vis 3,5*30 | C13: =SUM(E13,F13,H13,J13,L13,N13,P13,R13,T13,V13,X13,Z13)-SUM(Q13,S13,U13,W13,Y13,AA13,G13,I13,K13,M13,O13) -> 0 | D13: 100 | E13: 0 | F13: =IF($F$4=HLOOKUP($F$4,Sortie!$B$3:$AA$3,1,FALSE),VLOOKUP(Tableau1[[#This Row],[Produit]],Entrée,2,FALSE),"") -> 0 | G13: =IF($F$4=HLOOKUP($F$4,Sortie!$B$3:$AA$3,1,FALSE),VLOOKUP(Tableau1[[#This Row],[Produit]],Sortie,2,FALSE),"") -> 0 | H13: =IF($H$4=HLOOKUP($H$4,Sortie!$B$3:$AA$3,1,FALSE),VLOOKUP(Tableau1[[#This Row],[Produit]],Entrée,3,FALSE),"") -> 0 | I13: =IF($H$4=HLOOKUP($H$4,Sortie!$B$3:$AA$3,1,FALSE),VLOOKUP(Tableau1[[#This Row],[Produit]],Sortie,3,FALSE),"") -> 0
A14: =IF(AND(Tableau1[[#This Row],[Produit]]>0,(Tableau1[[#This Row],[Stock ]]<=Tableau1[[#This Row],[Seuil Critique]])),0,1) -> 0 | B14: vis 4*30 | C14: =SUM(E14,F14,H14,J14,L14,N14,P14,R14,T14,V14,X14,Z14)-SUM(Q14,S14,U14,W14,Y14,AA14,G14,I14,K14,M14,O14) -> 0 | D14: 100 | E14: 0 | F14: =IF($F$4=HLOOKUP($F$4,Sortie!$B$3:$AA$3,1,FALSE),VLOOKUP(Tableau1[[#This Row],[Produit]],Entrée,2,FALSE),"") -> 0 | G14: =IF($F$4=HLOOKUP($F$4,Sortie!$B$3:$AA$3,1,FALSE),VLOOKUP(Tableau1[[#This Row],[Produit]],Sortie,2,FALSE),"") -> 0 | H14: =IF($H$4=HLOOKUP($H$4,Sortie!$B$3:$AA$3,1,FALSE),VLOOKUP(Tableau1[[#This Row],[Produit]],Entrée,3,FALSE),"") -> 0 | I14: =IF($H$4=HLOOKUP($H$4,Sortie!$B$3:$AA$3,1,FALSE),VLOOKUP(Tableau1[[#This Row],[Produit]],Sortie,3,FALSE),"") -> 0
A15: =IF(AND(Tableau1[[#This Row],[Produit]]>0,(Tableau1[[#This Row],[Stock ]]<=Tableau1[[#This Row],[Seuil Critique]])),0,1) -> 0 | B15: vis 3,5*35 | C15: =SUM(E15,F15,H15,J15,L15,N15,P15,R15,T15,V15,X15,Z15)-SUM(Q15,S15,U15,W15,Y15,AA15,G15,I15,K15,M15,O15) -> 0 | D15: 100 | E15: 0 | F15: =IF($F$4=HLOOKUP($F$4,Sortie!$B$3:$AA$3,1,FALSE),VLOOKUP(Tableau1[[#This Row],[Produit]],Entrée,2,FALSE),"") -> 0 | G15: =IF($F$4=HLOOKUP($F$4,Sortie!$B$3:$AA$3,1,FALSE),VLOOKUP(Tableau1[[#This Row],[Produit]],Sortie,2,FALSE),"") -> 0 | H15: =IF($H$4=HLOOKUP($H$4,Sortie!$B$3:$AA$3,1,FALSE),VLOOKUP(Tableau1[[#This Row],[Produit]],Entrée,3,FALSE),"") -> 0 | I15: =IF($H$4=HLOOKUP($H$4,Sortie!$B$3:$AA$3,1,FALSE),VLOOKUP(Tableau1[[#This Row],[Produit]],Sortie,3,FALSE),"") -> 0
A16: =IF(AND(Tableau1[[#This Row],[Produit]]>0,(Tableau1[[#This Row],[Stock ]]<=Tableau1[[#This Row],[Seuil Critique]])),0,1) -> 0 | B16: vis 4*35 | C16: =SUM(E16,F16,H16,J16,L16,N16,P16,R16,T16,V16,X16,Z16)-SUM(Q16,S16,U16,W16,Y16,AA16,G16,I16,K16,M16,O16) -> 0 | D16: 100 | E16: 0 | F16: =IF($F$4=HLOOKUP($F$4,Sortie!$B$3:$AA$3,1,FALSE),VLOOKUP(Tableau1[[#This Row],[Produit]],Entrée,2,FALSE),"") -> 0 | G16: =IF($F$4=HLOOKUP($F$4,Sortie!$B$3:$AA$3,1,FALSE),VLOOKUP(Tableau1[[#This Row],[Produit]],Sortie,2,FALSE),"") -> 0 | H16: =IF($H$4=HLOOKUP($H$4,Sortie!$B$3:$AA$3,1,FALSE),VLOOKUP(Tableau1[[#This Row],[Produit]],Entrée,3,FALSE),"") -> 0 | I16: =IF($H$4=HLOOKUP($H$4,Sortie!$B$3:$AA$3,1,FALSE),VLOOKUP(Tableau1[[#This Row],[Produit]],Sortie,3,FALSE),"") -> 0
A17: =IF(AND(Tableau1[[#This Row],[Produit]]>0,(Tableau1[[#This Row],[Stock ]]<=Tableau1[[#This Row],[Seuil Critique]])),0,1) -> 0 | B17: vis 4*40 | C17: =SUM(E17,F17,H17,J17,L17,N17,P17,R17,T17,V17,X17,Z17)-SUM(Q17,S17,U17,W17,Y17,AA17,G17,I17,K17,M17,O17) -> 0 | D17: 100 | E17: 0 | F17: =IF($F$4=HLOOKUP($F$4,Sortie!$B$3:$AA$3,1,FALSE),VLOOKUP(Tableau1[[#This Row],[Produit]],Entrée,2,FALSE),"") -> 0 | G17: =IF($F$4=HLOOKUP($F$4,Sortie!$B$3:$AA$3,1,FALSE),VLOOKUP(Tableau1[[#This Row],[Produit]],Sortie,2,FALSE),"") -> 0 | H17: =IF($H$4=HLOOKUP($H$4,Sortie!$B$3:$AA$3,1,FALSE),VLOOKUP(Tableau1[[#This Row],[Produit]],Entrée,3,FALSE),"") -> 0 | I17: =IF($H$4=HLOOKUP($H$4,Sortie!$B$3:$AA$3,1,FALSE),VLOOKUP(Tableau1[[#This Row],[Produit]],Sortie,3,FALSE),"") -> 0
A18: =IF(AND(Tableau1[[#This Row],[Produit]]>0,(Tableau1[[#This Row],[Stock ]]<=Tableau1[[#This Row],[Seuil Critique]])),0,1) -> 0 | B18: vis 4*50 | C18: =SUM(E18,F18,H18,J18,L18,N18,P18,R18,T18,V18,X18,Z18)-SUM(Q18,S18,U18,W18,Y18,AA18,G18,I18,K18,M18,O18) -> 0 | D18: 100 | E18: 0 | F18: =IF($F$4=HLOOKUP($F$4,Sortie!$B$3:$AA$3,1,FALSE),VLOOKUP(Tableau1[[#This Row],[Produit]],Entrée,2,FALSE),"") -> 0 | G18: =IF($F$4=HLOOKUP($F$4,Sortie!$B$3:$AA$3,1,FALSE),VLOOKUP(Tableau1[[#This Row],[Produit]],Sortie,2,FALSE),"") -> 0 | H18: =IF($H$4=HLOOKUP($H$4,Sortie!$B$3:$AA$3,1,FALSE),VLOOKUP(Tableau1[[#This Row],[Produit]],Entrée,3,FALSE),"") -> 0 | I18: =IF($H$4=HLOOKUP($H$4,Sortie!$B$3:$AA$3,1,FALSE),VLOOKUP(Tableau1[[#This Row],[Produit]],Sortie,3,FALSE),"") -> 0
... A20: =IF(AND(Tableau1[[#This Row],[Produit]]>0,(Tableau1[[#This Row],[Stock ]]<=Tableau1[[#This Row],[Seuil Critique]])),0,1) -> 0 | B20: vis 4*70 | C20: =SUM(E20,F20,H20,J20,L20,N20,P20,R20,T20,V20,X20,Z20)-SUM(Q20,S20,U20,W20,Y20,AA20,G20,I20,K20,M20,O20) -> 0 | D20: 100 | E20: 0 | F20: =IF($F$4=HLOOKUP($F$4,Sortie!$B$3:$AA$3,1,FALSE),VLOOKUP(Tableau1[[#This Row],[Produit]],Entrée,2,FALSE),"") -> 0 | G20: =IF($F$4=HLOOKUP($F$4,Sortie!$B$3:$AA$3,1,FALSE),VLOOKUP(Tableau1[[#This Row],[Produit]],Sortie,2,FALSE),"") -> 0 | H20: =IF($H$4=HLOOKUP($H$4,Sortie!$B$3:$AA$3,1,FALSE),VLOOKUP(Tableau1[[#This Row],[Produit]],Entrée,3,FALSE),"") -> 0 | I20: =IF($H$4=HLOOKUP($H$4,Sortie!$B$3:$AA$3,1,FALSE),VLOOKUP(Tableau1[[#This Row],[Produit]],Sortie,3,FALSE),"") -> 0
A21: =IF(AND(Tableau1[[#This Row],[Produit]]>0,(Tableau1[[#This Row],[Stock ]]<=Tableau1[[#This Row],[Seuil Critique]])),0,1) -> 1 | C21: =SUM(E21,F21,H21,J21,L21,N21,P21,R21,T21,V21,X21,Z21)-SUM(Q21,S21,U21,W21,Y21,AA21,G21,I21,K21,M21,O21) -> 0 | F21: =IF($F$4=Entrée!Q17,VLOOKUP(Tableau1[[#This Row],[Produit]],Entrée,2,FALSE),"")
A22: =IF(AND(Tableau1[[#This Row],[Produit]]>0,(Tableau1[[#This Row],[Stock ]]<=Tableau1[[#This Row],[Seuil Critique]])),0,1) -> 1 | C22: =SUM(E22,F22,H22,J22,L22,N22,P22,R22,T22,V22,X22,Z22)-SUM(Q22,S22,U22,W22,Y22,AA22,G22,I22,K22,M22,O22) -> 0 | F22: =IF($F$4=Entrée!Q18,VLOOKUP(Tableau1[[#This Row],[Produit]],Entrée,2,FALSE),"") | G22: =IF($F$4=Sortie!B18,VLOOKUP(Tableau1[[#This Row],[Produit]],Sortie,2,FALSE),"")
A23: =IF(AND(Tableau1[[#This Row],[Produit]]>0,(Tableau1[[#This Row],[Stock ]]<=Tableau1[[#This Row],[Seuil Critique]])),0,1) -> 1 | C23: =SUM(E23,F23,H23,J23,L23,N23,P23,R23,T23,V23,X23,Z23)-SUM(Q23,S23,U23,W23,Y23,AA23,G23,I23,K23,M23,O23) -> 0 | F23: =IF($F$4=Entrée!Q19,VLOOKUP(Tableau1[[#This Row],[Produit]],Entrée,2,FALSE),"") | G23: =IF($F$4=Sortie!B19,VLOOKUP(Tableau1[[#This Row],[Produit]],Sortie,2,FALSE),"")
A24: =IF(AND(Tableau1[[#This Row],[Produit]]>0,(Tableau1[[#This Row],[Stock ]]<=Tableau1[[#This Row],[Seuil Critique]])),0,1) -> 1 | C24: =SUM(E24,F24,H24,J24,L24,N24,P24,R24,T24,V24,X24,Z24)-SUM(Q24,S24,U24,W24,Y24,AA24,G24,I24,K24,M24,O24) -> 0 | F24: =IF($F$4=Entrée!Q20,VLOOKUP(Tableau1[[#This Row],[Produit]],Entrée,2,FALSE),"") | G24: =IF($F$4=Sortie!B20,VLOOKUP(Tableau1[[#This Row],[Produit]],Sortie,2,FALSE),"")
A25: =IF(AND(Tableau1[[#This Row],[Produit]]>0,(Tableau1[[#This Row],[Stock ]]<=Tableau1[[#This Row],[Seuil Critique]])),0,1) -> 1 | C25: =SUM(E25,F25,H25,J25,L25,N25,P25,R25,T25,V25,X25,Z25)-SUM(Q25,S25,U25,W25,Y25,AA25,G25,I25,K25,M25,O25) -> 0 | F25: =IF($F$4=Entrée!Q21,VLOOKUP(Tableau1[[#This Row],[Produit]],Entrée,2,FALSE),"") | G25: =IF($F$4=Sortie!B21,VLOOKUP(Tableau1[[#This Row],[Produit]],Sortie,2,FALSE),"")
A26: =IF(AND(Tableau1[[#This Row],[Produit]]>0,(Tableau1[[#This Row],[Stock ]]<=Tableau1[[#This Row],[Seuil Critique]])),0,1) -> 1 | C26: =SUM(E26,F26,H26,J26,L26,N26,P26,R26,T26,V26,X26,Z26)-SUM(Q26,S26,U26,W26,Y26,AA26,G26,I26,K26,M26,O26) -> 0 | F26: =IF($F$4=Entrée!Q22,VLOOKUP(Tableau1[[#This Row],[Produit]],Entrée,2,FALSE),"") | G26: =IF($F$4=Sortie!B22,VLOOKUP(Tableau1[[#This Row],[Produit]],Sortie,2,FALSE),"")
A27: =IF(AND(Tableau1[[#This Row],[Produit]]>0,(Tableau1[[#This Row],[Stock ]]<=Tableau1[[#This Row],[Seuil Critique]])),0,1) -> 1 | C27: =SUM(E27,F27,H27,J27,L27,N27,P27,R27,T27,V27,X27,Z27)-SUM(Q27,S27,U27,W27,Y27,AA27,G27,I27,K27,M27,O27) -> 0 | F27: =IF($F$4=Entrée!Q23,VLOOKUP(Tableau1[[#This Row],[Produit]],Entrée,2,FALSE),"") | G27: =IF($F$4=Sortie!B23,VLOOKUP(Tableau1[[#This Row],[Produit]],Sortie,2,FALSE),"")
A28: =IF(AND(Tableau1[[#This Row],[Produit]]>0,(Tableau1[[#This Row],[Stock ]]<=Tableau1[[#This Row],[Seuil Critique]])),0,1) -> 1 | C28: =SUM(E28,F28,H28,J28,L28,N28,P28,R28,T28,V28,X28,Z28)-SUM(Q28,S28,U28,W28,Y28,AA28,G28,I28,K28,M28,O28) -> 0 | F28: =IF($F$4=Entrée!Q24,VLOOKUP(Tableau1[[#This Row],[Produit]],Entrée,2,FALSE),"") | G28: =IF($F$4=Sortie!B24,VLOOKUP(Tableau1[[#This Row],[Produit]],Sortie,2,FALSE),"")
A29: =IF(AND(Tableau1[[#This Row],[Produit]]>0,(Tableau1[[#This Row],[Stock ]]<=Tableau1[[#This Row],[Seuil Critique]])),0,1) -> 1 | C29: =SUM(E29,F29,H29,J29,L29,N29,P29,R29,T29,V29,X29,Z29)-SUM(Q29,S29,U29,W29,Y29,AA29,G29,I29,K29,M29,O29) -> 0 | F29: =IF($F$4=Entrée!Q25,VLOOKUP(Tableau1[[#This Row],[Produit]],Entrée,2,FALSE),"") | G29: =IF($F$4=Sortie!B25,VLOOKUP(Tableau1[[#This Row],[Produit]],Sortie,2,FALSE),"")
A30: =IF(AND(Tableau1[[#This Row],[Produit]]>0,(Tableau1[[#This Row],[Stock ]]<=Tableau1[[#This Row],[Seuil Critique]])),0,1) -> 1 | C30: =SUM(E30,F30,H30,J30,L30,N30,P30,R30,T30,V30,X30,Z30)-SUM(Q30,S30,U30,W30,Y30,AA30,G30,I30,K30,M30,O30) -> 0 | F30: =IF($F$4=Entrée!Q26,VLOOKUP(Tableau1[[#This Row],[Produit]],Entrée,2,FALSE),"") | G30: =IF($F$4=Sortie!B26,VLOOKUP(Tableau1[[#This Row],[Produit]],Sortie,2,FALSE),"")
A31: =IF(AND(Tableau1[[#This Row],[Produit]]>0,(Tableau1[[#This Row],[Stock ]]<=Tableau1[[#This Row],[Seuil Critique]])),0,1) -> 1 | C31: =SUM(E31,F31,H31,J31,L31,N31,P31,R31,T31,V31,X31,Z31)-SUM(Q31,S31,U31,W31,Y31,AA31,G31,I31,K31,M31,O31) -> 0 | F31: =IF($F$4=Entrée!Q27,VLOOKUP(Tableau1[[#This Row],[Produit]],Entrée,2,FALSE),"") | G31: =IF($F$4=Sortie!B27,VLOOKUP(Tableau1[[#This Row],[Produit]],Sortie,2,FALSE),"")
A32: =IF(AND(Tableau1[[#This Row],[Produit]]>0,(Tableau1[[#This Row],[Stock ]]<=Tableau1[[#This Row],[Seuil Critique]])),0,1) -> 1 | C32: =SUM(E32,F32,H32,J32,L32,N32,P32,R32,T32,V32,X32,Z32)-SUM(Q32,S32,U32,W32,Y32,AA32,G32,I32,K32,M32,O32) -> 0 | F32: =IF($F$4=Entrée!Q28,VLOOKUP(Tableau1[[#This Row],[Produit]],Entrée,2,FALSE),"") | G32: =IF($F$4=Sortie!B28,VLOOKUP(Tableau1[[#This Row],[Produit]],Sortie,2,FALSE),"")
A33: =IF(AND(Tableau1[[#This Row],[Produit]]>0,(Tableau1[[#This Row],[Stock ]]<=Tableau1[[#This Row],[Seuil Critique]])),0,1) -> 1 | C33: =SUM(E33,F33,H33,J33,L33,N33,P33,R33,T33,V33,X33,Z33)-SUM(Q33,S33,U33,W33,Y33,AA33,G33,I33,K33,M33,O33) -> 0 | F33: =IF($F$4=Entrée!Q29,VLOOKUP(Tableau1[[#This Row],[Produit]],Entrée,2,FALSE),"") | G33: =IF($F$4=Sortie!B29,VLOOKUP(Tableau1[[#This Row],[Produit]],Sortie,2,FALSE),"")
... A100: =IF(AND(Tableau1[[#This Row],[Produit]]>0,(Tableau1[[#This Row],[Stock ]]<=Tableau1[[#This Row],[Seuil Critique]])),0,1) -> 1 | C100: =SUM(E100,F100,H100,J100,L100,N100,P100,R100,T100,V100,X100,Z100)-SUM(Q100,S100,U100,W100,Y100,AA100,G100,I100,K100,M100,O100) -> 0 | F100: =IF($F$4=Entrée!Q96,VLOOKUP(Tableau1[[#This Row],[Produit]],Entrée,2,FALSE),"") | G100: =IF($F$4=Sortie!B96,VLOOKUP(Tableau1[[#This Row],[Produit]],Sortie,2,FALSE),"")

Sheet Devis
A3: Fourniture | C3: Quantité demandée | E3: Fourniture | G3: Quantité demandée
I4: Ma cheville D6 doit s'afficher sur la première ligne fourniture et ma cheville D14 doit s'afficher juste en dessous
