Workbook
Name list: Base!$B$2:$B$22
Name test: Base!$A$2:$T$18

Sheet Resultat
A1: Horodateur | B1: Name | C1: Last Name | D1: Adress | E1: Skype | F1: Phone number | G1: Email | H1: Farm history (especially grazing management) or expected changes (if) | I1: Present and recent productions: problems (?) and positive points (?) | J1: Numbers of Blocks | K1: Distanced and distances between blocks | L1: Pasture and crops with notion-notes on future 1-5 years if possible | M1: The map should indicate clearly variable production zones, (either quality or quantity – but that are usually correlated), - if this is clearly the case - block into 1-3 classes that can be quantified. If the production is relatively uniform you might wish to increase definition on, for example... - pugging sensitive areas, machine compacted areas…. NOTES | N1: Access and livestock distribution lanes and yards and capacity to monitor animal performance | O1: Facility or difficulty of clean drinking supply (geographic source indication) | P1: Other limiting factors | Q1: What kind of shifting sequences have usually been the norm in the past? (a general description suffices) | R1: Compaction; suggested reasons for compaction | S1: Generalized notion of pastures ages | T1: Rainfall | U1: Number of >-4° frosts | V1: Availability of local weather data | W1: Typical/local good cereal yields | X1: Earliest local spring/late winter dairy turn-outs | Y1: Earliest local silage cuts | Z1: Approximate yields from first cuts, (with, if possible, a couple of notes on whether early grazed, out of winter covers, N-applications) | AA1: How much hay could you make in one season with NO grazing at all (ask an older farmer or neighbor to contribute to your estimate if this is usual) | AB1: Soil type (drainability/humidity retention capacity) | AC1: Susceptibility to compaction and/or pugging, (if possible associate these to 1-3 classes on your farm map) | AD1: P and S Status | AE1: K | AF1: pH ( past present) | AG1: Organic fertility | AH1: Possibility of slurry or manure toxicity or traditional over-nitrating | AI1: If the soil has been crop-exhausted over time, - witness photos of soil color under fence lines-to-exhausted soil ground. | AJ1: Number of pasture sward types (if more than one) | AK1: Specific or particular worries or sources of curiosity… For example: non-colonization, no-legume zones, weed infestation areas or zones, (with where possible some note of reasons-for impressions) | AL1: A series of root mass photo indicators | AM1: Area required for hay or silage. Approximate date periods of cuts. | AN1: Summer or winter forage crops | AO1: Extensive grazing block zone – such as “hill”, “estive”. Off-wintering, off-summering details | AP1: IF ‘in wintering’ – typical off-pasture entry dates, typical turn-out dates | AQ1: Overall stock numbers and classes | AR1: Selection retained mobs for breeding sales (how many, how long) | AS1: Selection retained mobs for breeding sales (how many, how long) | AT1: Weaning dates | AU1: ANY weaning weights or LWG data knowledge | AV1: Average culling ages | AW1: Average ages for first reproduction | AX1: On a scale of 10; 1 for very poor/ 10 for tops, – where do you place your animal production per hectare of pasture? | AY1: What is right, what is wrong? | AZ1: Any other thoughts worries, observations ... other | BA1: Guestimate your animal production/ha of pasture today. (If you total up your total supp. Feeds and your total kg of real animal production – we can give you a hand) | BB1: Date
A2: =BB2 -> 1 | B2: =A5 -> gerard | C2: =VLOOKUP($B$2,Base!$B$2:$BB$69,2,FALSE) -> 2 | D2: =VLOOKUP($B$2,Base!$B$2:$BB$69,3,FALSE) -> test | E2: =VLOOKUP($B$2,Base!$B$2:$BB$69,4,FALSE) -> 4 | F2: =VLOOKUP($B$2,Base!$B$2:$BB$69,5,FALSE) -> 5 | G2: =VLOOKUP($B$2,Base!$B$2:$BB$69,6,FALSE) -> 6 | H2: =VLOOKUP($B$2,Base!$B$2:$BB$69,7,FALSE) -> 7 | I2: =VLOOKUP($B$2,Base!$B$2:$BB$69,8,FALSE) -> 8 | J2: =VLOOKUP($B$2,Base!$B$2:$BB$69,9,FALSE) -> 9 | K2: =VLOOKUP($B$2,Base!$B$2:$BB$69,10,FALSE) -> 1 | L2: =VLOOKUP($B$2,Base!$B$2:$BB$69,11,FALSE) -> 0 | M2: =VLOOKUP($B$2,Base!$B$2:$BB$69,12,FALSE) -> 1 | N2: =VLOOKUP($B$2,Base!$B$2:$BB$69,13,FALSE) -> 1 | O2: =VLOOKUP($B$2,Base!$B$2:$BB$69,14,FALSE) -> 1 | P2: =VLOOKUP($B$2,Base!$B$2:$BB$69,15,FALSE) -> 1 | Q2: =VLOOKUP($B$2,Base!$B$2:$BB$69,16,FALSE) -> 1 | R2: =VLOOKUP($B$2,Base!$B$2:$BB$69,17,FALSE) -> 11 | S2: =VLOOKUP($B$2,Base!$B$2:$BB$69,18,FALSE) -> 1 | T2: =VLOOKUP($B$2,Base!$B$2:$BB$69,19,FALSE) -> 1 | U2: =VLOOKUP($B$2,Base!$B$2:$BB$69,20,FALSE) -> 1 | V2: =VLOOKUP($B$2,Base!$B$2:$BB$69,21,FALSE) -> 1 | W2: =VLOOKUP($B$2,Base!$B$2:$BB$69,22,FALSE) -> 11 | X2: =VLOOKUP($B$2,Base!$B$2:$BB$69,23,FALSE) -> 1 | Y2: =VLOOKUP($B$2,Base!$B$2:$BB$69,24,FALSE) -> 1 | Z2: =VLOOKUP($B$2,Base!$B$2:$BB$69,25,FALSE) -> 1 | AA2: =VLOOKUP($B$2,Base!$B$2:$BB$69,26,FALSE) -> 11 | AB2: =VLOOKUP($B$2,Base!$B$2:$BB$69,27,FALSE) -> 1 | AC2: =VLOOKUP($B$2,Base!$B$2:$BB$69,28,FALSE) -> 1 | AD2: =VLOOKUP($B$2,Base!$B$2:$BB$69,29,FALSE) -> 11 | AE2: =VLOOKUP($B$2,Base!$B$2:$BB$69,30,FALSE) -> 1 | AF2: =VLOOKUP($B$2,Base!$B$2:$BB$69,31,FALSE) -> 11 | AG2: =VLOOKUP($B$2,Base!$B$2:$BB$69,32,FALSE) -> 1 | AH2: =VLOOKUP($B$2,Base!$B$2:$BB$69,33,FALSE) -> 1 | AI2: =VLOOKUP($B$2,Base!$B$2:$BB$69,34,FALSE) -> 11 | AJ2: =VLOOKUP($B$2,Base!$B$2:$BB$69,35,FALSE) -> 1 | AK2: =VLOOKUP($B$2,Base!$B$2:$BB$69,36,FALSE) -> 1 | AL2: =VLOOKUP($B$2,Base!$B$2:$BB$69,37,FALSE) -> 11 | AM2: =VLOOKUP($B$2,Base!$B$2:$BB$69,38,FALSE) -> 1 | AN2: =VLOOKUP($B$2,Base!$B$2:$BB$69,39,FALSE) -> 1 | AO2: =VLOOKUP($B$2,Base!$B$2:$BB$69,40,FALSE) -> 11 | AP2: =VLOOKUP($B$2,Base!$B$2:$BB$69,41,FALSE) -> 1 | AQ2: =VLOOKUP($B$2,Base!$B$2:$BB$69,42,FALSE) -> 11 | AR2: =VLOOKUP($B$2,Base!$B$2:$BB$69,43,FALSE) -> 1 | AS2: =VLOOKUP($B$2,Base!$B$2:$BB$69,44,FALSE) -> 1 | AT2: =VLOOKUP($B$2,Base!$B$2:$BB$69,45,FALSE) -> 11 | AU2: =VLOOKUP($B$2,Base!$B$2:$BB$69,46,FALSE) -> 1 | AV2: =VLOOKUP($B$2,Base!$B$2:$BB$69,47,FALSE) -> 1 | AW2: =VLOOKUP($B$2,Base!$B$2:$BB$69,48,FALSE) -> 1 | AX2: =VLOOKUP($B$2,Base!$B$2:$BB$69,49,FALSE) -> 11 | AY2: =VLOOKUP($B$2,Base!$B$2:$BB$69,50,FALSE) -> 1 | AZ2: =VLOOKUP($B$2,Base!$B$2:$BB$69,51,FALSE) -> 11 | BA2: =VLOOKUP($B$2,Base!$B$2:$BB$69,52,FALSE) -> 1 | BB2: =VLOOKUP($B$2,Base!$B$2:$BB$69,53,FALSE) -> 1
A5: gerard
D6: General info
C8: Day of the Enquiry | F8: =A2 -> 1 | O8: Notes
C12: =B1 -> Name | F12: =B2 -> gerard
C16: =C1 -> Last Name | F16: =C2 -> 2
C20: =D1 -> Adress | F20: =D2 -> test
C24: =E1 -> Skype | F24: =E2 -> 4
C28: =F1 -> Phone number | F28: =F2 -> 5
C32: =G1 -> Email | F32: =G2 -> 6
O36: Notes
C37: Farm
B40: =H1 -> Farm history (especially grazing management) or expected changes (if) | F40: =H2 -> 7
B46: =I1 -> Present and recent productions: problems (?) and positive points (?) | F46: =I2 -> 8
C54: Map
B57: =J1 -> Numbers of Blocks | F57: =J2 -> 9 | O57: Notes
B63: =K1 -> Distanced and distances between blocks | F63: =K2 -> 1
B69: =L1 -> Pasture and crops with notion-notes on future 1-5 years if possible | F69: =L2 -> 0
B75: =M1 -> The map should indicate clearly variable production zones, (either quality or quantity – but that are usually correlated), - if this is clearly the case - block into 1-3 classes that can be quantified. If the production is relatively uniform you might wish to increase definition on, for example... - pugging sensitive areas, machine compacted areas…. NOTES | F75: =M2 -> 1
B81: =N1 -> Access and livestock distribution lanes and yards and capacity to monitor animal performance | F81: =N2 -> 1
B87: =O1 -> Facility or difficulty of clean drinking supply (geographic source indication) | F87: =O2 -> 1
B93: =P1 -> Other limiting factors | F93: =P2 -> 1
C100: Previous pasture and grazing management historic (last 3 years)
O102: Notes
B103: =Q1 -> What kind of shifting sequences have usually been the norm in the past? (a general description suffices) | F103: =Q2 -> 1
B109: =R1 -> Compaction; suggested reasons for compaction | F109: =R2 -> 11
B115: =S1 -> Generalized notion of pastures ages | F115: =S2 -> 1
C121: Pasture and Grazing agronomical potential data
B124: =T1 -> Rainfall | F124: =T2 -> 1 | O124: Notes
B130: =U1 -> Number of >-4° frosts | F130: =U2 -> 1
B136: =V1 -> Availability of local weather data | F136: =V2 -> 1
B142: =W1 -> Typical/local good cereal yields | F142: =W2 -> 11
B148: =X1 -> Earliest local spring/late winter dairy turn-outs | F148: =X2 -> 1
B154: =Y1 -> Earliest local silage cuts | F154: =Y2 -> 1
B160: =Z1 -> Approximate yields from first cuts, (with, if possible, a couple of notes on whether early grazed, out of winter covers, N-applications) | F160: =Z2 -> 1
B166: =AA1 -> How much hay could you make in one season with NO grazing at all (ask an older farmer or neighbor to contribute to your estimate if this is usual) | F166: =AA2 -> 11
C172: Analysis
B175: =AB1 -> Soil type (drainability/humidity retention capacity) | F175: =AB2 -> 1 | O175: Notes
B181: =AC1 -> Susceptibility to compaction and/or pugging, (if possible associate these to 1-3 classes on your farm map) | F181: =AC2 -> 1
B187: =AD1 -> P and S Status | F187: =AD2 -> 11
B193: =AE1 -> K | F193: =AE2 -> 1
B199: =AF1 -> pH ( past present) | F199: =AF2 -> 11
B205: =AG1 -> Organic fertility | F205: =AG2 -> 1
B211: =AH1 -> Possibility of slurry or manure toxicity or traditional over-nitrating | F211: =AH2 -> 1
B217: =AI1 -> If the soil has been crop-exhausted over time, - witness photos of soil color under fence lines-to-exhausted soil ground. | F217: =AI2 -> 11
C224: Sward type photos (examples)
O226: Notes
B227: =AJ1 -> Number of pasture sward types (if more than one) | F227: =AJ2 -> 1
B233: =AK1 -> Specific or particular worries or sources of curiosity… For example: non-colonization, no-legume zones, weed infestation areas or zones, (with where possible some note of reasons-for impressions) | F233: =AK2 -> 1
B239: =AL1 -> A series of root mass photo indicators | F239: =AL2 -> 11
C246: Wintering and summering
O248: Notes
B249: =AM1 -> Area required for hay or silage. Approximate date periods of cuts. | F249: =AM2 -> 1
B255: =AN1 -> Summer or winter forage crops | F255: =AN2 -> 1
B261: =AO1 -> Extensive grazing block zone – such as “hill”, “estive”. Off-wintering, off-summering details | F261: =AO2 -> 11
B267: =AP1 -> IF ‘in wintering’ – typical off-pasture entry dates, typical turn-out dates | F267: =AP2 -> 1
C274: Livestock production notes
B277: =AQ1 -> Overall stock numbers and classes | F277: =AQ2 -> 11 | O277: Notes
B283: =AR1 -> Selection retained mobs for breeding sales (how many, how long) | F283: =AR2 -> 1
B289: =AS1 -> Selection retained mobs for breeding sales (how many, how long) | F289: =AS2 -> 1
B295: =AT1 -> Weaning dates | F295: =AT2 -> 11
B301: =AU1 -> ANY weaning weights or LWG data knowledge | F301: =AU2 -> 1
B307: =AV1 -> Average culling ages | F307: =AV2 -> 1
B313: =AW1 -> Average ages for first reproduction | F313: =AW2 -> 1
C320: Livestock production notes
B323: =AX1 -> On a scale of 10; 1 for very poor/ 10 for tops, – where do you place your animal production per hectare of pasture? | F323: =AX2 -> 11
O324: Notes
B329: =AY1 -> What is right, what is wrong? | F329: =AY2 -> 1
B335: =AZ1 -> Any other thoughts worries, observations ... other | F335: =AZ2 -> 11
B341: =BA1 -> Guestimate your animal production/ha of pasture today. (If you total up your total supp. Feeds and your total kg of real animal production – we can give you a hand) | F341: =AT48 -> 0

Sheet Base
A1: horodateur | B1: Name | C1: Last Name | D1: Adress | E1: Skype | F1: Phone number | G1: Email | H1: Farm history (especially grazing management) or expected changes (if) | I1: Present and recent productions: problems (?) and positive points (?) | J1: Numbers of Blocks | K1: Distanced and distances between blocks | L1: Pasture and crops with notion-notes on future 1-5 years if possible | M1: The map should indicate clearly variable production zones, (either quality or quantity – but that are usually correlated), - if this is clearly the case - block into 1-3 classes that can be quantified. If the production is relatively uniform you might wish to increase definition on, for example... - pugging sensitive areas, machine compacted areas…. NOTES | N1: Access and livestock distribution lanes and yards and capacity to monitor animal performance | O1: Facility or difficulty of clean drinking supply (geographic source indication) | P1: Other limiting factors | Q1: What kind of shifting sequences have usually been the norm in the past? (a general description suffices) | R1: Compaction; suggested reasons for compaction | S1: Generalized notion of pastures ages | T1: Rainfall | U1: Number of >-4° frosts | V1: Availability of local weather data | W1: Typical/local good cereal yields | X1: Earliest local spring/late winter dairy turn-outs | Y1: Earliest local silage cuts | Z1: Approximate yields from first cuts, (with, if possible, a couple of notes on whether early grazed, out of winter covers, N-applications) | AA1: How much hay could you make in one season with NO grazing at all (ask an older farmer or neighbor to contribute to your estimate if this is usual) | AB1: Soil type (drainability/humidity retention capacity) | AC1: Susceptibility to compaction and/or pugging, (if possible associate these to 1-3 classes on your farm map) | AD1: P and S Status | AE1: K | AF1: pH ( past present) | AG1: Organic fertility | AH1: Possibility of slurry or manure toxicity or traditional over-nitrating | AI1: If the soil has been crop-exhausted over time, - witness photos of soil color under fence lines-to-exhausted soil ground. | AJ1: Number of pasture sward types (if more than one) | AK1: Specific or particular worries or sources of curiosity… For example: non-colonization, no-legume zones, weed infestation areas or zones, (with where possible some note of reasons-for impressions) | AL1: A series of root mass photo indicators | AM1: Area required for hay or silage. Approximate date periods of cuts. | AN1: Summer or winter forage crops | AO1: Extensive grazing block zone – such as “hill”, “estive”. Off-wintering, off-summering details | AP1: IF ‘in wintering’ – typical off-pasture entry dates, typical turn-out dates | AQ1: Overall stock numbers and classes | AR1: Selection retained mobs for breeding sales (how many, how long) | AS1: Selection retained mobs for breeding sales (how many, how long) | AT1: Weaning dates | AU1: ANY weaning weights or LWG data knowledge | AV1: Average culling ages | AW1: Average ages for first reproduction | AX1: On a scale of 10; 1 for very poor/ 10 for tops, – where do you place your animal production per hectare of pasture? | AY1: What is right, what is wrong? | AZ1: Any other thoughts worries, observations ... other | BA1: Guestimate your animal production/ha of pasture today. (If you total up your total supp. Feeds and your total kg of real animal production – we can give you a hand) | BB1: Date
A2: 1 | B2: gerard | C2: 2 | D2: test | E2: 4 | F2: 5 | G2: 6 | H2: 7 | I2: 8 | J2: 9 | K2: 1 | M2: 1 | N2: 1 | O2: 1 | P2: 1 | Q2: 1 | R2: 11 | S2: 1 | T2: 1 | U2: 1 | V2: 1 | W2: 11 | X2: 1 | Y2: 1 | Z2: 1 | AA2: 11 | AB2: 1 | AC2: 1 | AD2: 11 | AE2: 1 | AF2: 11 | AG2: 1 | AH2: 1 | AI2: 11 | AJ2: 1 | AK2: 1 | AL2: 11 | AM2: 1 | AN2: 1 | AO2: 11 | AP2: 1 | AQ2: 11 | AR2: 1 | AS2: 1 | AT2: 11 | AU2: 1 | AV2: 1 | AW2: 1 | AX2: 11 | AY2: 1 | AZ2: 11 | BA2: 1 | BB2: =A2 -> 1
A3: 2 | B3: Bigard | C3: 2 | D3: la mienne | E3: 4 | F3: 5 | G3: 6 | H3: 7 | I3: 8 | J3: 9 | K3: 1 | M3: 1 | N3: 1 | O3: 1 | P3: 1 | Q3: 1 | R3: 13 | S3: 1 | T3: 1 | U3: 1 | V3: 1 | W3: 11 | X3: 1 | Y3: 1 | Z3: 1 | AA3: 11 | AB3: 1 | AC3: 1 | AD3: 11 | AE3: 1 | AF3: 11 | AG3: 1 | AH3: 1 | AI3: 11 | AJ3: 1 | AK3: 1 | AL3: 11 | AM3: 1 | AN3: 1 | AO3: 11 | AP3: 1 | AQ3: 11 | AR3: 1 | AS3: 1 | AT3: 11 | AU3: 1 | AV3: 1 | AW3: 1 | AX3: 11 | AY3: 1 | AZ3: 11 | BA3: 1 | BB3: =A3 -> 2
BB4: =A4 -> 0
BB5: =A5 -> 0
BB6: =A6 -> 0
BB7: =A7 -> 0
BB8: =A8 -> 0
BB9: =A9 -> 0
BB10: =A10 -> 0
BB11: =A11 -> 0
BB12: =A12 -> 0
BB13: =A13 -> 0
BB14: =A14 -> 0
BB15: =A15 -> 0
... BB41: =A41 -> 0
