Workbook
Name active: Tableau1[#All]
Name Chaptel: 'Base de donnée simple'!$I$3:$K$17
Name chaptel2: 'Base de donnée simple'!$I$21:$K$34
Name flore: Tableau1[#Headers]
Name ouinon: Tableau4[#Headers]
Name passive: Tableau13[#All]
Name tab: Tableau5[]
Name tableau2: 'Base de donnée simple'!$B$21:$C$36
Name Tableau6: 'Base de donnée simple'!$I$21:$K$34
Name tableaupass: 'Base de donnée simple'!$B$21:$C$36
Name typechaptel: Tableau3[#Headers]

Sheet Demande d'aide
D3: 42370 | E3: Nombre de jours pour une rotation
D4: Dates des rotations
D5: 42470 | E5: =D5-$D$3 -> 100
D6: 42497 | E6: =D6-D5 -> 27
D7: 42513 | E7: =D7-D6 -> 16
D8: 42530 | E8: =D8-D7 -> 17 | M8: Date Precise
D9: 42547 | E9: =D9-D8 -> 17 | L9: =M9-30 -> 42526 | M9: 42556 | N9: =M9+30 -> 42586
D10: 42568 | E10: =D10-D9 -> 21
D11: 42599 | E11: =D11-D10 -> 31
D12: 42636 | E12: =D12-D11 -> 37
D13: 42692 | E13: =D13-D12 -> 56
D23: Janvier | E23: Fevrier | F23: Mars | G23: Avril | H23: Mai | I23: Juin | J23: Juillet | K23: Août | L23: Septembre | M23: Octobre | N23: Novembre | O23: Décembre
G24: 42470 | H24: 42497 | I24: 42530 | J24: 42568 | K24: 42599 | L24: 42636 | N24: 42692
H25: 42513 | I25: 42547

Sheet Accueuil
B1: Choix de different aspect | H1: IMPORTANT | N1: Gestion Des Courbes
B2: Type de Chaptel | C2: test | H2: =IF('Diffentre Besoin et dispo'!C32>0,"La production de la flore est plus importante que votre Besoin cela est cohérent"," Votres besoin est plus important que la production de la flore avec ces paramètres, cela n'est donc pas cohérent") -> La production de la flore est plus importante que votre Besoin cela est cohérent | M2: Menu déroulant pour l'activation des differentes courbes
B3: Nombre | C3: 7 | N3: Courbe Passive | P3: Activé
B4: Type de Flore | C4: Test | N4: Courbe Active | P4: Activé
B5: Coeff Passiv/active | C5: 1.3 | D5: Dont Touch | N5: Megajoule Passive | P5: Activé
B6: % Objectif de la courbe | C6: 80 | D6: =C6% -> 0.8 | N6: Megajoule Actif | P6: Activé
N7: Besoin Chaptel | P7: Activé
N8: Megajoule Objectif | P8: Activé
N9: Besoin different | P9: Activé
A18: Mois | B18: Nombre d'animaux
A19: Janvier | B19: 1
A20: Fevrier | B20: 2
A21: Mars | B21: 3
A22: Avril | B22: 4
A23: Mai | B23: 4
A24: Juin | B24: 4
A25: Juillet | B25: 6
A26: Août | B26: 5
A27: Septembre | B27: 4
A28: Octobre | B28: 2
A29: Novembre | B29: 2
A30: Décembre | B30: 1

Sheet Calcul Et Courbes 
I1: Code couleur en fonction des Courbes
A3: Courbe étude POTENTIEL ET OBJECTIVE | F3: (Tableau automatisé , Pour modification voir Page accueuil ou base de données) | O3: Activé | P3: Activé | Q3: Activé | R3: Activé | S3: Activé | T3: Activé | U3: Activé
E4: Total/mois | F4: Total/mois | G4: Qualité Passive | H4: Qualité | I4: MS x MJME | J4: Total MjME Passive/mois | K4: Total/mois | L4: TOTAL | O4: Pas Touche (Données prise sur le coté +calculs)
C5: PASSIVE | D5: ACTIVE | E5: PASSIVE | F5: ACTIVE MS | G5: MJ ME /jr | H5: MJ ME /jr | I5: /jour | K5: MJ ME | L5: Annuel | O5: =IF(Accueuil!$P$3="Activé",Y20,Z20) -> 1 | P5: =IF(Accueuil!$P$4="Activé",Y20,Z20) -> 1 | Q5: =IF(Accueuil!$P$5="Activé",Y20,Z20) -> 1 | R5: =IF(Accueuil!$P$6="Activé",Y20,Z20) -> 1 | S5: =IF(Accueuil!$P$7="Activé",Y20,Z20) -> 1 | T5: =IF(Accueuil!$P$8="Activé",Y20,Z20) -> 1 | U5: =IF(Accueuil!$P$9="Activé",Y20,Z20) -> 1
O6: Courbe Passive | P6: Courbe active | Q6: Courbe megajoule( Passive) | R6: Courbe megajoule dispo(active) | S6: Courbe besoin chaptel | T6: Courbe Megajoule Objectif | U6: Besoin different
E7: Dont Touch ( pour faire des test , changer les valeurs dans la base de donnés) | N7: Janvier | O7: =E9*$O$5*$O$19 -> 62 | P7: =F9*$P$5*$P$19 -> 80.6 | Q7: =J9*$Q$5*$Q$19 -> 394.54545 | R7: =K9*$R$5*$R$19 -> 564.2 | S7: =F28*$S$5*$S$19 -> 3255 | T7: =K9*Accueuil!$D$6*$T$5*$T$19 -> 451.36 | U7: =E28*Accueuil!B19*$U$5*$U$19 -> 465
A8: Mois | B8: jrs/mois | C8: kg/MS/Ha/jr | D8: =Accueuil!C5 -> 1.3 | E8: kg/MS/Ha | F8: kg/MS/Ha | G8: 1.1 | K8: kg/MS/Ha | L8: 64 Ha | N8: Février | O8: =E10*$O$5*$O$19 -> 203 | P8: =F10*$P$5*$P$19 -> 263.9 | Q8: =J10*$Q$5*$Q$19 -> 1476.3636 | R8: =K10*$R$5*$R$19 -> 2111.2 | S8: =F29*$S$5*$S$19 -> 5582.5 | T8: =K10*Accueuil!$D$6*$T$5*$T$19 -> 1688.96 | U8: =E29*Accueuil!B20*$U$5*$U$19 -> 1595
A9: jan | B9: 31 | C9: =INDEX('Base de donnée simple'!$B$23:'Base de donnée simple'!$E$34,MATCH('Calcul Et Courbes '!G49,'Base de donnée simple'!$A$6:'Base de donnée simple'!$A$17,0),MATCH(Accueuil!$C$4,Tableau13[#Headers],0)) -> 2 | D9: =C9*$D$8 -> 2.6 | E9: =B9*C9 -> 62 | F9: =E9*$D$8 -> 80.6 | G9: =H9/$G$8 -> 6.3636364 | H9: =INDEX('Base de donnée simple'!$B$6:'Base de donnée simple'!$E$17,MATCH('Calcul Et Courbes '!G49,'Base de donnée simple'!$A$6:'Base de donnée simple'!$A$17,0),MATCH(Accueuil!$C$4,Tableau1[#Headers],0)) -> 7 | I9: =H9*D9 -> 18.2 | J9: =G9*C9*B9 -> 394.54545 | K9: =I9*B9 -> 564.2 | L9: =K9*64 -> 36108.8 | N9: Mars | O9: =E11*$O$5*$O$19 -> 465 | P9: =F11*$P$5*$P$19 -> 604.5 | Q9: =J11*$Q$5*$Q$19 -> 4227.2727 | R9: =K11*$R$5*$R$19 -> 6045 | S9: =F30*$S$5*$S$19 -> 6683.6 | T9: =K11*Accueuil!$D$6*$T$5*$T$19 -> 4836 | U9: =E30*Accueuil!B21*$U$5*$U$19 -> 2864.4
A10: fev | B10: 29 | C10: =INDEX('Base de donnée simple'!$B$23:'Base de donnée simple'!$E$34,MATCH('Calcul Et Courbes '!G50,'Base de donnée simple'!$A$6:'Base de donnée simple'!$A$17,0),MATCH(Accueuil!$C$4,Tableau13[#Headers],0)) -> 7 | D10: =C10*$D$8 -> 9.1 | E10: =B10*C10 -> 203 | F10: =E10*$D$8 -> 263.9 | G10: =H10/$G$8 -> 7.2727273 | H10: =INDEX('Base de donnée simple'!$B$6:'Base de donnée simple'!$E$17,MATCH('Calcul Et Courbes '!G50,'Base de donnée simple'!$A$6:'Base de donnée simple'!$A$17,0),MATCH(Accueuil!$C$4,Tableau1[#Headers],0)) -> 8 | I10: =H10*D10 -> 72.8 | J10: =G10*C10*B10 -> 1476.3636 | K10: =I10*B10 -> 2111.2 | L10: =K10*64 -> 135116.8 | N10: Avril | O10: =E12*$O$5*$O$19 -> 900 | P10: =F12*$P$5*$P$19 -> 1170 | Q10: =J12*$Q$5*$Q$19 -> 8590.9091 | R10: =K12*$R$5*$R$19 -> 12285 | S10: =F31*$S$5*$S$19 -> 11340 | T10: =K12*Accueuil!$D$6*$T$5*$T$19 -> 9828 | U10: =E31*Accueuil!B22*$U$5*$U$19 -> 6480
A11: mars | B11: 31 | C11: =INDEX('Base de donnée simple'!$B$23:'Base de donnée simple'!$E$34,MATCH('Calcul Et Courbes '!G51,'Base de donnée simple'!$A$6:'Base de donnée simple'!$A$17,0),MATCH(Accueuil!$C$4,Tableau13[#Headers],0)) -> 15 | D11: =C11*$D$8 -> 19.5 | E11: =B11*C11 -> 465 | F11: =E11*$D$8 -> 604.5 | G11: =H11/$G$8 -> 9.0909091 | H11: =INDEX('Base de donnée simple'!$B$6:'Base de donnée simple'!$E$17,MATCH('Calcul Et Courbes '!G51,'Base de donnée simple'!$A$6:'Base de donnée simple'!$A$17,0),MATCH(Accueuil!$C$4,Tableau1[#Headers],0)) -> 10 | I11: =H11*D11 -> 195 | J11: =G11*C11*B11 -> 4227.2727 | K11: =I11*B11 -> 6045 | L11: =K11*64 -> 386880 | N11: Mai | O11: =E13*$O$5*$O$19 -> 2015 | P11: =F13*$P$5*$P$19 -> 2619.5 | Q11: =J13*$Q$5*$Q$19 -> 21981.818 | R11: =K13*$R$5*$R$19 -> 31434 | S11: =F32*$S$5*$S$19 -> 15624 | T11: =K13*Accueuil!$D$6*$T$5*$T$19 -> 25147.2 | U11: =E32*Accueuil!B23*$U$5*$U$19 -> 8928
A12: avril | B12: 30 | C12: =INDEX('Base de donnée simple'!$B$23:'Base de donnée simple'!$E$34,MATCH('Calcul Et Courbes '!G52,'Base de donnée simple'!$A$6:'Base de donnée simple'!$A$17,0),MATCH(Accueuil!$C$4,Tableau13[#Headers],0)) -> 30 | D12: =C12*$D$8 -> 39 | E12: =B12*C12 -> 900 | F12: =E12*$D$8 -> 1170 | G12: =H12/$G$8 -> 9.5454545 | H12: =INDEX('Base de donnée simple'!$B$6:'Base de donnée simple'!$E$17,MATCH('Calcul Et Courbes '!G52,'Base de donnée simple'!$A$6:'Base de donnée simple'!$A$17,0),MATCH(Accueuil!$C$4,Tableau1[#Headers],0)) -> 10.5 | I12: =H12*D12 -> 409.5 | J12: =G12*C12*B12 -> 8590.9091 | K12: =I12*B12 -> 12285 | L12: =K12*64 -> 786240 | N12: Juin | O12: =E14*$O$5*$O$19 -> 1800 | P12: =F14*$P$5*$P$19 -> 2340 | Q12: =J14*$Q$5*$Q$19 -> 18000 | R12: =K14*$R$5*$R$19 -> 25740 | S12: =F33*$S$5*$S$19 -> 12600 | T12: =K14*Accueuil!$D$6*$T$5*$T$19 -> 20592 | U12: =E33*Accueuil!B24*$U$5*$U$19 -> 7200
A13: mai | B13: 31 | C13: =INDEX('Base de donnée simple'!$B$23:'Base de donnée simple'!$E$34,MATCH('Calcul Et Courbes '!G53,'Base de donnée simple'!$A$6:'Base de donnée simple'!$A$17,0),MATCH(Accueuil!$C$4,Tableau13[#Headers],0)) -> 65 | D13: =C13*$D$8 -> 84.5 | E13: =B13*C13 -> 2015 | F13: =E13*$D$8 -> 2619.5 | G13: =H13/$G$8 -> 10.909091 | H13: =INDEX('Base de donnée simple'!$B$6:'Base de donnée simple'!$E$17,MATCH('Calcul Et Courbes '!G53,'Base de donnée simple'!$A$6:'Base de donnée simple'!$A$17,0),MATCH(Accueuil!$C$4,Tableau1[#Headers],0)) -> 12 | I13: =H13*D13 -> 1014 | J13: =G13*C13*B13 -> 21981.818 | K13: =I13*B13 -> 31434 | L13: =K13*64 -> 2011776 | N13: Juillet | O13: =E15*$O$5*$O$19 -> 1395 | P13: =F15*$P$5*$P$19 -> 1813.5 | Q13: =J15*$Q$5*$Q$19 -> 11413.636 | R13: =K15*$R$5*$R$19 -> 16321.5 | S13: =F34*$S$5*$S$19 -> 3255 | T13: =K15*Accueuil!$D$6*$T$5*$T$19 -> 13057.2 | U13: =E34*Accueuil!B25*$U$5*$U$19 -> 2790
A14: juin | B14: 30 | C14: =INDEX('Base de donnée simple'!$B$23:'Base de donnée simple'!$E$34,MATCH('Calcul Et Courbes '!G54,'Base de donnée simple'!$A$6:'Base de donnée simple'!$A$17,0),MATCH(Accueuil!$C$4,Tableau13[#Headers],0)) -> 60 | D14: =C14*$D$8 -> 78 | E14: =B14*C14 -> 1800 | F14: =E14*$D$8 -> 2340 | G14: =H14/$G$8 -> 10 | H14: =INDEX('Base de donnée simple'!$B$6:'Base de donnée simple'!$E$17,MATCH('Calcul Et Courbes '!G54,'Base de donnée simple'!$A$6:'Base de donnée simple'!$A$17,0),MATCH(Accueuil!$C$4,Tableau1[#Headers],0)) -> 11 | I14: =H14*D14 -> 858 | J14: =G14*C14*B14 -> 18000 | K14: =I14*B14 -> 25740 | L14: =K14*64 -> 1647360 | N14: Août | O14: =E16*$O$5*$O$19 -> 713 | P14: =F16*$P$5*$P$19 -> 926.9 | Q14: =J16*$Q$5*$Q$19 -> 3889.0909 | R14: =K16*$R$5*$R$19 -> 5561.4 | S14: =F35*$S$5*$S$19 -> 2929.5 | T14: =K16*Accueuil!$D$6*$T$5*$T$19 -> 4449.12 | U14: =E35*Accueuil!B26*$U$5*$U$19 -> 2092.5
A15: juillet | B15: 31 | C15: =INDEX('Base de donnée simple'!$B$23:'Base de donnée simple'!$E$34,MATCH('Calcul Et Courbes '!G55,'Base de donnée simple'!$A$6:'Base de donnée simple'!$A$17,0),MATCH(Accueuil!$C$4,Tableau13[#Headers],0)) -> 45 | D15: =C15*$D$8 -> 58.5 | E15: =B15*C15 -> 1395 | F15: =E15*$D$8 -> 1813.5 | G15: =H15/$G$8 -> 8.1818182 | H15: =INDEX('Base de donnée simple'!$B$6:'Base de donnée simple'!$E$17,MATCH('Calcul Et Courbes '!G55,'Base de donnée simple'!$A$6:'Base de donnée simple'!$A$17,0),MATCH(Accueuil!$C$4,Tableau1[#Headers],0)) -> 9 | I15: =H15*D15 -> 526.5 | J15: =G15*C15*B15 -> 11413.636 | K15: =I15*B15 -> 16321.5 | L15: =K15*64 -> 1044576 | N15: Septembre | O15: =E17*$O$5*$O$19 -> 900 | P15: =F17*$P$5*$P$19 -> 1170 | Q15: =J17*$Q$5*$Q$19 -> 8181.8182 | R15: =K17*$R$5*$R$19 -> 11700 | S15: =F36*$S$5*$S$19 -> 3780 | T15: =K17*Accueuil!$D$6*$T$5*$T$19 -> 9360 | U15: =E36*Accueuil!B27*$U$5*$U$19 -> 2160
A16: aout | B16: 31 | C16: =INDEX('Base de donnée simple'!$B$23:'Base de donnée simple'!$E$34,MATCH('Calcul Et Courbes '!G56,'Base de donnée simple'!$A$6:'Base de donnée simple'!$A$17,0),MATCH(Accueuil!$C$4,Tableau13[#Headers],0)) -> 23 | D16: =C16*$D$8 -> 29.9 | E16: =B16*C16 -> 713 | F16: =E16*$D$8 -> 926.9 | G16: =H16/$G$8 -> 5.4545455 | H16: =INDEX('Base de donnée simple'!$B$6:'Base de donnée simple'!$E$17,MATCH('Calcul Et Courbes '!G56,'Base de donnée simple'!$A$6:'Base de donnée simple'!$A$17,0),MATCH(Accueuil!$C$4,Tableau1[#Headers],0)) -> 6 | I16: =H16*D16 -> 179.4 | J16: =G16*C16*B16 -> 3889.0909 | K16: =I16*B16 -> 5561.4 | L16: =K16*64 -> 355929.6 | N16: Octobre | O16: =E18*$O$5*$O$19 -> 620 | P16: =F18*$P$5*$P$19 -> 806 | Q16: =J18*$Q$5*$Q$19 -> 6200 | R16: =K18*$R$5*$R$19 -> 8866 | S16: =F37*$S$5*$S$19 -> 4296.6 | T16: =K18*Accueuil!$D$6*$T$5*$T$19 -> 7092.8 | U16: =E37*Accueuil!B28*$U$5*$U$19 -> 1227.6
A17: sept | B17: 30 | C17: =INDEX('Base de donnée simple'!$B$23:'Base de donnée simple'!$E$34,MATCH('Calcul Et Courbes '!G57,'Base de donnée simple'!$A$6:'Base de donnée simple'!$A$17,0),MATCH(Accueuil!$C$4,Tableau13[#Headers],0)) -> 30 | D17: =C17*$D$8 -> 39 | E17: =B17*C17 -> 900 | F17: =E17*$D$8 -> 1170 | G17: =H17/$G$8 -> 9.0909091 | H17: =INDEX('Base de donnée simple'!$B$6:'Base de donnée simple'!$E$17,MATCH('Calcul Et Courbes '!G57,'Base de donnée simple'!$A$6:'Base de donnée simple'!$A$17,0),MATCH(Accueuil!$C$4,Tableau1[#Headers],0)) -> 10 | I17: =H17*D17 -> 390 | J17: =G17*C17*B17 -> 8181.8182 | K17: =I17*B17 -> 11700 | L17: =K17*64 -> 748800 | N17: Novembre | O17: =E19*$O$5*$O$19 -> 300 | P17: =F19*$P$5*$P$19 -> 390 | Q17: =J19*$Q$5*$Q$19 -> 2454.5455 | R17: =K19*$R$5*$R$19 -> 3510 | S17: =F38*$S$5*$S$19 -> 3360 | T17: =K19*Accueuil!$D$6*$T$5*$T$19 -> 2808 | U17: =E38*Accueuil!B29*$U$5*$U$19 -> 960
A18: oct | B18: 31 | C18: =INDEX('Base de donnée simple'!$B$23:'Base de donnée simple'!$E$34,MATCH('Calcul Et Courbes '!G58,'Base de donnée simple'!$A$6:'Base de donnée simple'!$A$17,0),MATCH(Accueuil!$C$4,Tableau13[#Headers],0)) -> 20 | D18: =C18*$D$8 -> 26 | E18: =B18*C18 -> 620 | F18: =E18*$D$8 -> 806 | G18: =H18/$G$8 -> 10 | H18: =INDEX('Base de donnée simple'!$B$6:'Base de donnée simple'!$E$17,MATCH('Calcul Et Courbes '!G58,'Base de donnée simple'!$A$6:'Base de donnée simple'!$A$17,0),MATCH(Accueuil!$C$4,Tableau1[#Headers],0)) -> 11 | I18: =H18*D18 -> 286 | J18: =G18*C18*B18 -> 6200 | K18: =I18*B18 -> 8866 | L18: =K18*64 -> 567424 | N18: Décembre | O18: =E20*$O$5*$O$19 -> 93 | P18: =F20*$P$5*$P$19 -> 120.9 | Q18: =J20*$Q$5*$Q$19 -> 591.81818 | R18: =K20*$R$5*$R$19 -> 846.3 | S18: =F39*$S$5*$S$19 -> 2929.5 | T18: =K20*Accueuil!$D$6*$T$5*$T$19 -> 677.04 | U18: =E39*Accueuil!B30*$U$5*$U$19 -> 418.5 | X18: Modificateur de courbe , Dont touch
A19: nov | B19: 30 | C19: =INDEX('Base de donnée simple'!$B$23:'Base de donnée simple'!$E$34,MATCH('Calcul Et Courbes '!G59,'Base de donnée simple'!$A$6:'Base de donnée simple'!$A$17,0),MATCH(Accueuil!$C$4,Tableau13[#Headers],0)) -> 10 | D19: =C19*$D$8 -> 13 | E19: =B19*C19 -> 300 | F19: =E19*$D$8 -> 390 | G19: =H19/$G$8 -> 8.1818182 | H19: =INDEX('Base de donnée simple'!$B$6:'Base de donnée simple'!$E$17,MATCH('Calcul Et Courbes '!G59,'Base de donnée simple'!$A$6:'Base de donnée simple'!$A$17,0),MATCH(Accueuil!$C$4,Tableau1[#Headers],0)) -> 9 | I19: =H19*D19 -> 117 | J19: =G19*C19*B19 -> 2454.5455 | K19: =I19*B19 -> 3510 | L19: =K19*64 -> 224640 | M19: Forcage | N19: 1/0 | O19: 1 | P19: 1 | Q19: 1 | R19: 1 | S19: 1 | T19: 1 | U19: 1 | Y19: Activé | Z19: Desactivé
A20: dec | B20: 31 | C20: =INDEX('Base de donnée simple'!$B$23:'Base de donnée simple'!$E$34,MATCH('Calcul Et Courbes '!G60,'Base de donnée simple'!$A$6:'Base de donnée simple'!$A$17,0),MATCH(Accueuil!$C$4,Tableau13[#Headers],0)) -> 3 | D20: =C20*$D$8 -> 3.9 | E20: =B20*C20 -> 93 | F20: =E20*$D$8 -> 120.9 | G20: =H20/$G$8 -> 6.3636364 | H20: =INDEX('Base de donnée simple'!$B$6:'Base de donnée simple'!$E$17,MATCH('Calcul Et Courbes '!G60,'Base de donnée simple'!$A$6:'Base de donnée simple'!$A$17,0),MATCH(Accueuil!$C$4,Tableau1[#Headers],0)) -> 7 | I20: =H20*D20 -> 27.3 | J20: =G20*C20*B20 -> 591.81818 | K20: =I20*B20 -> 846.3 | L20: =K20*64 -> 54163.2 | O20: Permet d'activer ou desactivé les courbes directement ici | Y20: 1 | Z20: 0
C21: =SUM(C9:C20) -> 310 | D21: =SUM(D9:D20) -> 403 | E21: =SUM(E9:E20) -> 9466 | F21: =SUM(F9:F20) -> 12305.8 | G21: =AVERAGE(G9:G20) -> 8.3712121 | H21: =AVERAGE(H9:H20) -> 9.2083333 | I21: =SUM(I9:I20) -> 4093.7 | J21: =AVERAGE(J9:J20) -> 7283.4848 | K21: =SUM(K9:K20) -> 124984.6 | L21: =SUM(L9:L20) -> 7999014.4
H22: Moy
A25: Besoins MS/MJME | D25: (Tableau automatisé , Pour modification voir Page accueuil ou base de données)
A27: Mois | B27: MJME/jr | C27: KgMS/day | D27: Total/jr | E27: Total/mois | F27: Total nombre d'animaux/mois | H27: Nombre d'animaux | K27: =Accueuil!C3 -> 7
A28: jan | B28: =INDEX('Base de donnée simple'!$I$6:'Base de donnée simple'!$L$17,MATCH('Calcul Et Courbes '!K49,'Base de donnée simple'!$H$6:'Base de donnée simple'!$H$17,0),MATCH(Accueuil!$C$2,Tableau3[#Headers],0)) -> 10 | C28: =INDEX('Base de donnée simple'!$I$23:'Base de donnée simple'!$L$34,MATCH('Calcul Et Courbes '!K49,'Base de donnée simple'!$H$6:'Base de donnée simple'!$H$17,0),MATCH(Accueuil!$C$2,Tableau3[#Headers],0)) -> 1.5 | D28: =C28*B28 -> 15 | E28: =D28*B9 -> 465 | F28: =E28*$K$27 -> 3255 | H28: A renseigné Page "accueuil"
A29: fev | B29: =INDEX('Base de donnée simple'!$I$6:'Base de donnée simple'!$L$17,MATCH('Calcul Et Courbes '!K50,'Base de donnée simple'!$H$6:'Base de donnée simple'!$H$17,0),MATCH(Accueuil!$C$2,Tableau3[#Headers],0)) -> 11 | C29: =INDEX('Base de donnée simple'!$I$23:'Base de donnée simple'!$L$34,MATCH('Calcul Et Courbes '!K50,'Base de donnée simple'!$H$6:'Base de donnée simple'!$H$17,0),MATCH(Accueuil!$C$2,Tableau3[#Headers],0)) -> 2.5 | D29: =C29*B29 -> 27.5 | E29: =D29*B10 -> 797.5 | F29: =E29*$K$27 -> 5582.5
A30: mars | B30: =INDEX('Base de donnée simple'!$I$6:'Base de donnée simple'!$L$17,MATCH('Calcul Et Courbes '!K51,'Base de donnée simple'!$H$6:'Base de donnée simple'!$H$17,0),MATCH(Accueuil!$C$2,Tableau3[#Headers],0)) -> 11 | C30: =INDEX('Base de donnée simple'!$I$23:'Base de donnée simple'!$L$34,MATCH('Calcul Et Courbes '!K51,'Base de donnée simple'!$H$6:'Base de donnée simple'!$H$17,0),MATCH(Accueuil!$C$2,Tableau3[#Headers],0)) -> 2.8 | D30: =C30*B30 -> 30.8 | E30: =D30*B11 -> 954.8 | F30: =E30*$K$27 -> 6683.6
A31: avril | B31: =INDEX('Base de donnée simple'!$I$6:'Base de donnée simple'!$L$17,MATCH('Calcul Et Courbes '!K52,'Base de donnée simple'!$H$6:'Base de donnée simple'!$H$17,0),MATCH(Accueuil!$C$2,Tableau3[#Headers],0)) -> 12 | C31: =INDEX('Base de donnée simple'!$I$23:'Base de donnée simple'!$L$34,MATCH('Calcul Et Courbes '!K52,'Base de donnée simple'!$H$6:'Base de donnée simple'!$H$17,0),MATCH(Accueuil!$C$2,Tableau3[#Headers],0)) -> 4.5 | D31: =C31*B31 -> 54 | E31: =D31*B12 -> 1620 | F31: =E31*$K$27 -> 11340
A32: mai | B32: =INDEX('Base de donnée simple'!$I$6:'Base de donnée simple'!$L$17,MATCH('Calcul Et Courbes '!K53,'Base de donnée simple'!$H$6:'Base de donnée simple'!$H$17,0),MATCH(Accueuil!$C$2,Tableau3[#Headers],0)) -> 12 | C32: =INDEX('Base de donnée simple'!$I$23:'Base de donnée simple'!$L$34,MATCH('Calcul Et Courbes '!K53,'Base de donnée simple'!$H$6:'Base de donnée simple'!$H$17,0),MATCH(Accueuil!$C$2,Tableau3[#Headers],0)) -> 6 | D32: =C32*B32 -> 72 | E32: =D32*B13 -> 2232 | F32: =E32*$K$27 -> 15624
A33: juin | B33: =INDEX('Base de donnée simple'!$I$6:'Base de donnée simple'!$L$17,MATCH('Calcul Et Courbes '!K54,'Base de donnée simple'!$H$6:'Base de donnée simple'!$H$17,0),MATCH(Accueuil!$C$2,Tableau3[#Headers],0)) -> 12 | C33: =INDEX('Base de donnée simple'!$I$23:'Base de donnée simple'!$L$34,MATCH('Calcul Et Courbes '!K54,'Base de donnée simple'!$H$6:'Base de donnée simple'!$H$17,0),MATCH(Accueuil!$C$2,Tableau3[#Headers],0)) -> 5 | D33: =C33*B33 -> 60 | E33: =D33*B14 -> 1800 | F33: =E33*$K$27 -> 12600
A34: juillet | B34: =INDEX('Base de donnée simple'!$I$6:'Base de donnée simple'!$L$17,MATCH('Calcul Et Courbes '!K55,'Base de donnée simple'!$H$6:'Base de donnée simple'!$H$17,0),MATCH(Accueuil!$C$2,Tableau3[#Headers],0)) -> 10 | C34: =INDEX('Base de donnée simple'!$I$23:'Base de donnée simple'!$L$34,MATCH('Calcul Et Courbes '!K55,'Base de donnée simple'!$H$6:'Base de donnée simple'!$H$17,0),MATCH(Accueuil!$C$2,Tableau3[#Headers],0)) -> 1.5 | D34: =C34*B34 -> 15 | E34: =D34*B15 -> 465 | F34: =E34*$K$27 -> 3255
A35: aout | B35: =INDEX('Base de donnée simple'!$I$6:'Base de donnée simple'!$L$17,MATCH('Calcul Et Courbes '!K56,'Base de donnée simple'!$H$6:'Base de donnée simple'!$H$17,0),MATCH(Accueuil!$C$2,Tableau3[#Headers],0)) -> 9 | C35: =INDEX('Base de donnée simple'!$I$23:'Base de donnée simple'!$L$34,MATCH('Calcul Et Courbes '!K56,'Base de donnée simple'!$H$6:'Base de donnée simple'!$H$17,0),MATCH(Accueuil!$C$2,Tableau3[#Headers],0)) -> 1.5 | D35: =C35*B35 -> 13.5 | E35: =D35*B16 -> 418.5 | F35: =E35*$K$27 -> 2929.5
A36: sept | B36: =INDEX('Base de donnée simple'!$I$6:'Base de donnée simple'!$L$17,MATCH('Calcul Et Courbes '!K57,'Base de donnée simple'!$H$6:'Base de donnée simple'!$H$17,0),MATCH(Accueuil!$C$2,Tableau3[#Headers],0)) -> 10 | C36: =INDEX('Base de donnée simple'!$I$23:'Base de donnée simple'!$L$34,MATCH('Calcul Et Courbes '!K57,'Base de donnée simple'!$H$6:'Base de donnée simple'!$H$17,0),MATCH(Accueuil!$C$2,Tableau3[#Headers],0)) -> 1.8 | D36: =C36*B36 -> 18 | E36: =D36*B17 -> 540 | F36: =E36*$K$27 -> 3780
A37: oct | B37: =INDEX('Base de donnée simple'!$I$6:'Base de donnée simple'!$L$17,MATCH('Calcul Et Courbes '!K58,'Base de donnée simple'!$H$6:'Base de donnée simple'!$H$17,0),MATCH(Accueuil!$C$2,Tableau3[#Headers],0)) -> 11 | C37: =INDEX('Base de donnée simple'!$I$23:'Base de donnée simple'!$L$34,MATCH('Calcul Et Courbes '!K58,'Base de donnée simple'!$H$6:'Base de donnée simple'!$H$17,0),MATCH(Accueuil!$C$2,Tableau3[#Headers],0)) -> 1.8 | D37: =C37*B37 -> 19.8 | E37: =D37*B18 -> 613.8 | F37: =E37*$K$27 -> 4296.6
A38: nov | B38: =INDEX('Base de donnée simple'!$I$6:'Base de donnée simple'!$L$17,MATCH('Calcul Et Courbes '!K59,'Base de donnée simple'!$H$6:'Base de donnée simple'!$H$17,0),MATCH(Accueuil!$C$2,Tableau3[#Headers],0)) -> 10 | C38: =INDEX('Base de donnée simple'!$I$23:'Base de donnée simple'!$L$34,MATCH('Calcul Et Courbes '!K59,'Base de donnée simple'!$H$6:'Base de donnée simple'!$H$17,0),MATCH(Accueuil!$C$2,Tableau3[#Headers],0)) -> 1.6 | D38: =C38*B38 -> 16 | E38: =D38*B19 -> 480 | F38: =E38*$K$27 -> 3360
A39: dec | B39: =INDEX('Base de donnée simple'!$I$6:'Base de donnée simple'!$L$17,MATCH('Calcul Et Courbes '!K60,'Base de donnée simple'!$H$6:'Base de donnée simple'!$H$17,0),MATCH(Accueuil!$C$2,Tableau3[#Headers],0)) -> 9 | C39: =INDEX('Base de donnée simple'!$I$23:'Base de donnée simple'!$L$34,MATCH('Calcul Et Courbes '!K60,'Base de donnée simple'!$H$6:'Base de donnée simple'!$H$17,0),MATCH(Accueuil!$C$2,Tableau3[#Headers],0)) -> 1.5 | D39: =C39*B39 -> 13.5 | E39: =D39*B20 -> 418.5 | F39: =E39*$K$27 -> 2929.5
C40: Besoin brebis MJME/MS/an | E40: =SUM(E28:E39) -> 10805.1
P45: Pas touche !(Données prise tableurs au dessus)
H47: Mes grigri de devellopement je vais les effacer rapidement | P47: Courbe Passive | Q47: Courbe active | R47: Courbe megajoule( Passive) | S47: Courbe megajoule dispo(active) | T47: Courbe besoin chaptel | U47: Courbe Megajoule Objectif | V47: Besoin different
H48: MEGA active | J48: Passive | M48: Chaptel | N48: Chaptel 2 | O48: Octobre | P48: =O16 -> 620 | Q48: =P16 -> 806 | R48: =Q16 -> 6200 | S48: =R16 -> 8866 | T48: =S16 -> 4296.6 | U48: =T16 -> 7092.8 | V48: =U16 -> 1227.6
G49: 1 | I49: =INDEX('Base de donnée simple'!$B$6:'Base de donnée simple'!$D$17,MATCH('Calcul Et Courbes '!G49,'Base de donnée simple'!$A$6:'Base de donnée simple'!$A$17,0),MATCH(Accueuil!$C$4,Tableau1[#Headers],0)) -> #REF! | J49: =INDEX('Base de donnée simple'!$B$23:'Base de donnée simple'!$D$34,MATCH('Calcul Et Courbes '!G49,'Base de donnée simple'!$A$6:'Base de donnée simple'!$A$17,0),MATCH(Accueuil!$C$4,Tableau13[#Headers],0)) -> #REF! | K49: 1 | M49: =INDEX('Base de donnée simple'!$I$6:'Base de donnée simple'!$K$17,MATCH('Calcul Et Courbes '!K49,'Base de donnée simple'!$H$6:'Base de donnée simple'!$H$17,0),MATCH(Accueuil!$C$2,Tableau3[#Headers],0)) -> #REF! | N49: =INDEX('Base de donnée simple'!$I$23:'Base de donnée simple'!$K$34,MATCH('Calcul Et Courbes '!K49,'Base de donnée simple'!$H$6:'Base de donnée simple'!$H$17,0),MATCH(Accueuil!$C$2,Tableau3[#Headers],0)) -> #REF! | O49: Novembre | P49: =O17 -> 300 | Q49: =P17 -> 390 | R49: =Q17 -> 2454.5455 | S49: =R17 -> 3510 | T49: =S17 -> 3360 | U49: =T17 -> 2808 | V49: =U17 -> 960
G50: 2 | I50: =INDEX('Base de donnée simple'!$B$6:'Base de donnée simple'!$D$17,MATCH('Calcul Et Courbes '!G50,'Base de donnée simple'!$A$6:'Base de donnée simple'!$A$17,0),MATCH(Accueuil!$C$4,Tableau1[#Headers],0)) -> #REF! | J50: =INDEX('Base de donnée simple'!$B$23:'Base de donnée simple'!$D$34,MATCH('Calcul Et Courbes '!G50,'Base de donnée simple'!$A$6:'Base de donnée simple'!$A$17,0),MATCH(Accueuil!$C$4,Tableau13[#Headers],0)) -> #REF! | K50: 2 | M50: =INDEX('Base de donnée simple'!$I$6:'Base de donnée simple'!$K$17,MATCH('Calcul Et Courbes '!K50,'Base de donnée simple'!$H$6:'Base de donnée simple'!$H$17,0),MATCH(Accueuil!$C$2,Tableau3[#Headers],0)) -> #REF! | N50: =INDEX('Base de donnée simple'!$I$23:'Base de donnée simple'!$K$34,MATCH('Calcul Et Courbes '!K50,'Base de donnée simple'!$H$6:'Base de donnée simple'!$H$17,0),MATCH(Accueuil!$C$2,Tableau3[#Headers],0)) -> #REF! | O50: Décembre | P50: =O18 -> 93 | Q50: =P18 -> 120.9 | R50: =Q18 -> 591.81818 | S50: =R18 -> 846.3 | T50: =S18 -> 2929.5 | U50: =T18 -> 677.04 | V50: =U18 -> 418.5
G51: 3 | I51: =INDEX('Base de donnée simple'!$B$6:'Base de donnée simple'!$D$17,MATCH('Calcul Et Courbes '!G51,'Base de donnée simple'!$A$6:'Base de donnée simple'!$A$17,0),MATCH(Accueuil!$C$4,Tableau1[#Headers],0)) -> #REF! | J51: =INDEX('Base de donnée simple'!$B$23:'Base de donnée simple'!$D$34,MATCH('Calcul Et Courbes '!G51,'Base de donnée simple'!$A$6:'Base de donnée simple'!$A$17,0),MATCH(Accueuil!$C$4,Tableau13[#Headers],0)) -> #REF! | K51: 3 | M51: =INDEX('Base de donnée simple'!$I$6:'Base de donnée simple'!$K$17,MATCH('Calcul Et Courbes '!K51,'Base de donnée simple'!$H$6:'Base de donnée simple'!$H$17,0),MATCH(Accueuil!$C$2,Tableau3[#Headers],0)) -> #REF! | N51: =INDEX('Base de donnée simple'!$I$23:'Base de donnée simple'!$K$34,MATCH('Calcul Et Courbes '!K51,'Base de donnée simple'!$H$6:'Base de donnée simple'!$H$17,0),MATCH(Accueuil!$C$2,Tableau3[#Headers],0)) -> #REF! | O51: Janvier | P51: =O7 -> 62 | Q51: =P7 -> 80.6 | R51: =Q7 -> 394.54545 | S51: =R7 -> 564.2 | T51: =S7 -> 3255 | U51: =T7 -> 451.36 | V51: =U7 -> 465
G52: 4 | I52: =INDEX('Base de donnée simple'!$B$6:'Base de donnée simple'!$D$17,MATCH('Calcul Et Courbes '!G52,'Base de donnée simple'!$A$6:'Base de donnée simple'!$A$17,0),MATCH(Accueuil!$C$4,Tableau1[#Headers],0)) -> #REF! | J52: =INDEX('Base de donnée simple'!$B$23:'Base de donnée simple'!$D$34,MATCH('Calcul Et Courbes '!G52,'Base de donnée simple'!$A$6:'Base de donnée simple'!$A$17,0),MATCH(Accueuil!$C$4,Tableau13[#Headers],0)) -> #REF! | K52: 4 | M52: =INDEX('Base de donnée simple'!$I$6:'Base de donnée simple'!$K$17,MATCH('Calcul Et Courbes '!K52,'Base de donnée simple'!$H$6:'Base de donnée simple'!$H$17,0),MATCH(Accueuil!$C$2,Tableau3[#Headers],0)) -> #REF! | N52: =INDEX('Base de donnée simple'!$I$23:'Base de donnée simple'!$K$34,MATCH('Calcul Et Courbes '!K52,'Base de donnée simple'!$H$6:'Base de donnée simple'!$H$17,0),MATCH(Accueuil!$C$2,Tableau3[#Headers],0)) -> #REF! | O52: Février | P52: =O8 -> 203 | Q52: =P8 -> 263.9 | R52: =Q8 -> 1476.3636 | S52: =R8 -> 2111.2 | T52: =S8 -> 5582.5 | U52: =T8 -> 1688.96 | V52: =U8 -> 1595
G53: 5 | I53: =INDEX('Base de donnée simple'!$B$6:'Base de donnée simple'!$D$17,MATCH('Calcul Et Courbes '!G53,'Base de donnée simple'!$A$6:'Base de donnée simple'!$A$17,0),MATCH(Accueuil!$C$4,Tableau1[#Headers],0)) -> #REF! | J53: =INDEX('Base de donnée simple'!$B$23:'Base de donnée simple'!$D$34,MATCH('Calcul Et Courbes '!G53,'Base de donnée simple'!$A$6:'Base de donnée simple'!$A$17,0),MATCH(Accueuil!$C$4,Tableau13[#Headers],0)) -> #REF! | K53: 5 | M53: =INDEX('Base de donnée simple'!$I$6:'Base de donnée simple'!$K$17,MATCH('Calcul Et Courbes '!K53,'Base de donnée simple'!$H$6:'Base de donnée simple'!$H$17,0),MATCH(Accueuil!$C$2,Tableau3[#Headers],0)) -> #REF! | N53: =INDEX('Base de donnée simple'!$I$23:'Base de donnée simple'!$K$34,MATCH('Calcul Et Courbes '!K53,'Base de donnée simple'!$H$6:'Base de donnée simple'!$H$17,0),MATCH(Accueuil!$C$2,Tableau3[#Headers],0)) -> #REF! | O53: Mars | P53: =O9 -> 465 | Q53: =P9 -> 604.5 | R53: =Q9 -> 4227.2727 | S53: =R9 -> 6045 | T53: =S9 -> 6683.6 | U53: =T9 -> 4836 | V53: =U9 -> 2864.4
G54: 6 | I54: =INDEX('Base de donnée simple'!$B$6:'Base de donnée simple'!$D$17,MATCH('Calcul Et Courbes '!G54,'Base de donnée simple'!$A$6:'Base de donnée simple'!$A$17,0),MATCH(Accueuil!$C$4,Tableau1[#Headers],0)) -> #REF! | J54: =INDEX('Base de donnée simple'!$B$23:'Base de donnée simple'!$D$34,MATCH('Calcul Et Courbes '!G54,'Base de donnée simple'!$A$6:'Base de donnée simple'!$A$17,0),MATCH(Accueuil!$C$4,Tableau13[#Headers],0)) -> #REF! | K54: 6 | M54: =INDEX('Base de donnée simple'!$I$6:'Base de donnée simple'!$K$17,MATCH('Calcul Et Courbes '!K54,'Base de donnée simple'!$H$6:'Base de donnée simple'!$H$17,0),MATCH(Accueuil!$C$2,Tableau3[#Headers],0)) -> #REF! | N54: =INDEX('Base de donnée simple'!$I$23:'Base de donnée simple'!$K$34,MATCH('Calcul Et Courbes '!K54,'Base de donnée simple'!$H$6:'Base de donnée simple'!$H$17,0),MATCH(Accueuil!$C$2,Tableau3[#Headers],0)) -> #REF! | O54: Avril | P54: =O10 -> 900 | Q54: =P10 -> 1170 | R54: =Q10 -> 8590.9091 | S54: =R10 -> 12285 | T54: =S10 -> 11340 | U54: =T10 -> 9828 | V54: =U10 -> 6480
G55: 7 | I55: =INDEX('Base de donnée simple'!$B$6:'Base de donnée simple'!$D$17,MATCH('Calcul Et Courbes '!G55,'Base de donnée simple'!$A$6:'Base de donnée simple'!$A$17,0),MATCH(Accueuil!$C$4,Tableau1[#Headers],0)) -> #REF! | J55: =INDEX('Base de donnée simple'!$B$23:'Base de donnée simple'!$D$34,MATCH('Calcul Et Courbes '!G55,'Base de donnée simple'!$A$6:'Base de donnée simple'!$A$17,0),MATCH(Accueuil!$C$4,Tableau13[#Headers],0)) -> #REF! | K55: 7 | M55: =INDEX('Base de donnée simple'!$I$6:'Base de donnée simple'!$K$17,MATCH('Calcul Et Courbes '!K55,'Base de donnée simple'!$H$6:'Base de donnée simple'!$H$17,0),MATCH(Accueuil!$C$2,Tableau3[#Headers],0)) -> #REF! | N55: =INDEX('Base de donnée simple'!$I$23:'Base de donnée simple'!$K$34,MATCH('Calcul Et Courbes '!K55,'Base de donnée simple'!$H$6:'Base de donnée simple'!$H$17,0),MATCH(Accueuil!$C$2,Tableau3[#Headers],0)) -> #REF! | O55: Mai | P55: =O11 -> 2015 | Q55: =P11 -> 2619.5 | R55: =Q11 -> 21981.818 | S55: =R11 -> 31434 | T55: =S11 -> 15624 | U55: =T11 -> 25147.2 | V55: =U11 -> 8928
G56: 8 | I56: =INDEX('Base de donnée simple'!$B$6:'Base de donnée simple'!$D$17,MATCH('Calcul Et Courbes '!G56,'Base de donnée simple'!$A$6:'Base de donnée simple'!$A$17,0),MATCH(Accueuil!$C$4,Tableau1[#Headers],0)) -> #REF! | J56: =INDEX('Base de donnée simple'!$B$23:'Base de donnée simple'!$D$34,MATCH('Calcul Et Courbes '!G56,'Base de donnée simple'!$A$6:'Base de donnée simple'!$A$17,0),MATCH(Accueuil!$C$4,Tableau13[#Headers],0)) -> #REF! | K56: 8 | M56: =INDEX('Base de donnée simple'!$I$6:'Base de donnée simple'!$K$17,MATCH('Calcul Et Courbes '!K56,'Base de donnée simple'!$H$6:'Base de donnée simple'!$H$17,0),MATCH(Accueuil!$C$2,Tableau3[#Headers],0)) -> #REF! | N56: =INDEX('Base de donnée simple'!$I$23:'Base de donnée simple'!$K$34,MATCH('Calcul Et Courbes '!K56,'Base de donnée simple'!$H$6:'Base de donnée simple'!$H$17,0),MATCH(Accueuil!$C$2,Tableau3[#Headers],0)) -> #REF! | O56: Juin | P56: =O12 -> 1800 | Q56: =P12 -> 2340 | R56: =Q12 -> 18000 | S56: =R12 -> 25740 | T56: =S12 -> 12600 | U56: =T12 -> 20592 | V56: =U12 -> 7200
G57: 9 | I57: =INDEX('Base de donnée simple'!$B$6:'Base de donnée simple'!$D$17,MATCH('Calcul Et Courbes '!G57,'Base de donnée simple'!$A$6:'Base de donnée simple'!$A$17,0),MATCH(Accueuil!$C$4,Tableau1[#Headers],0)) -> #REF! | J57: =INDEX('Base de donnée simple'!$B$23:'Base de donnée simple'!$D$34,MATCH('Calcul Et Courbes '!G57,'Base de donnée simple'!$A$6:'Base de donnée simple'!$A$17,0),MATCH(Accueuil!$C$4,Tableau13[#Headers],0)) -> #REF! | K57: 9 | M57: =INDEX('Base de donnée simple'!$I$6:'Base de donnée simple'!$K$17,MATCH('Calcul Et Courbes '!K57,'Base de donnée simple'!$H$6:'Base de donnée simple'!$H$17,0),MATCH(Accueuil!$C$2,Tableau3[#Headers],0)) -> #REF! | N57: =INDEX('Base de donnée simple'!$I$23:'Base de donnée simple'!$K$34,MATCH('Calcul Et Courbes '!K57,'Base de donnée simple'!$H$6:'Base de donnée simple'!$H$17,0),MATCH(Accueuil!$C$2,Tableau3[#Headers],0)) -> #REF! | O57: Juillet | P57: =O13 -> 1395 | Q57: =P13 -> 1813.5 | R57: =Q13 -> 11413.636 | S57: =R13 -> 16321.5 | T57: =S13 -> 3255 | U57: =T13 -> 13057.2 | V57: =U13 -> 2790
G58: 10 | I58: =INDEX('Base de donnée simple'!$B$6:'Base de donnée simple'!$D$17,MATCH('Calcul Et Courbes '!G58,'Base de donnée simple'!$A$6:'Base de donnée simple'!$A$17,0),MATCH(Accueuil!$C$4,Tableau1[#Headers],0)) -> #REF! | J58: =INDEX('Base de donnée simple'!$B$23:'Base de donnée simple'!$D$34,MATCH('Calcul Et Courbes '!G58,'Base de donnée simple'!$A$6:'Base de donnée simple'!$A$17,0),MATCH(Accueuil!$C$4,Tableau13[#Headers],0)) -> #REF! | K58: 10 | M58: =INDEX('Base de donnée simple'!$I$6:'Base de donnée simple'!$K$17,MATCH('Calcul Et Courbes '!K58,'Base de donnée simple'!$H$6:'Base de donnée simple'!$H$17,0),MATCH(Accueuil!$C$2,Tableau3[#Headers],0)) -> #REF! | N58: =INDEX('Base de donnée simple'!$I$23:'Base de donnée simple'!$K$34,MATCH('Calcul Et Courbes '!K58,'Base de donnée simple'!$H$6:'Base de donnée simple'!$H$17,0),MATCH(Accueuil!$C$2,Tableau3[#Headers],0)) -> #REF! | O58: Août | P58: =O14 -> 713 | Q58: =P14 -> 926.9 | R58: =Q14 -> 3889.0909 | S58: =R14 -> 5561.4 | T58: =S14 -> 2929.5 | U58: =T14 -> 4449.12 | V58: =U14 -> 2092.5
G59: 11 | I59: =INDEX('Base de donnée simple'!$B$6:'Base de donnée simple'!$D$17,MATCH('Calcul Et Courbes '!G59,'Base de donnée simple'!$A$6:'Base de donnée simple'!$A$17,0),MATCH(Accueuil!$C$4,Tableau1[#Headers],0)) -> #REF! | J59: =INDEX('Base de donnée simple'!$B$23:'Base de donnée simple'!$D$34,MATCH('Calcul Et Courbes '!G59,'Base de donnée simple'!$A$6:'Base de donnée simple'!$A$17,0),MATCH(Accueuil!$C$4,Tableau13[#Headers],0)) -> #REF! | K59: 11 | M59: =INDEX('Base de donnée simple'!$I$6:'Base de donnée simple'!$K$17,MATCH('Calcul Et Courbes '!K59,'Base de donnée simple'!$H$6:'Base de donnée simple'!$H$17,0),MATCH(Accueuil!$C$2,Tableau3[#Headers],0)) -> #REF! | N59: =INDEX('Base de donnée simple'!$I$23:'Base de donnée simple'!$K$34,MATCH('Calcul Et Courbes '!K59,'Base de donnée simple'!$H$6:'Base de donnée simple'!$H$17,0),MATCH(Accueuil!$C$2,Tableau3[#Headers],0)) -> #REF! | O59: Septembre | P59: =O15 -> 900 | Q59: =P15 -> 1170 | R59: =Q15 -> 8181.8182 | S59: =R15 -> 11700 | T59: =S15 -> 3780 | U59: =T15 -> 9360 | V59: =U15 -> 2160
G60: 12 | I60: =INDEX('Base de donnée simple'!$B$6:'Base de donnée simple'!$D$17,MATCH('Calcul Et Courbes '!G60,'Base de donnée simple'!$A$6:'Base de donnée simple'!$A$17,0),MATCH(Accueuil!$C$4,Tableau1[#Headers],0)) -> #REF! | J60: =INDEX('Base de donnée simple'!$B$23:'Base de donnée simple'!$D$34,MATCH('Calcul Et Courbes '!G60,'Base de donnée simple'!$A$6:'Base de donnée simple'!$A$17,0),MATCH(Accueuil!$C$4,Tableau13[#Headers],0)) -> #REF! | K60: 12 | M60: =INDEX('Base de donnée simple'!$I$6:'Base de donnée simple'!$K$17,MATCH('Calcul Et Courbes '!K60,'Base de donnée simple'!$H$6:'Base de donnée simple'!$H$17,0),MATCH(Accueuil!$C$2,Tableau3[#Headers],0)) -> #REF! | N60: =INDEX('Base de donnée simple'!$I$23:'Base de donnée simple'!$K$34,MATCH('Calcul Et Courbes '!K60,'Base de donnée simple'!$H$6:'Base de donnée simple'!$H$17,0),MATCH(Accueuil!$C$2,Tableau3[#Headers],0)) -> #REF! | O60: Octobre | P60: =O16 -> 620 | Q60: =P16 -> 806 | R60: =Q16 -> 6200 | S60: =R16 -> 8866 | T60: =S16 -> 4296.6 | U60: =T16 -> 7092.8 | V60: =U16 -> 1227.6
O61: Novembre | P61: =O17 -> 300 | Q61: =P17 -> 390 | R61: =Q17 -> 2454.5455 | S61: =R17 -> 3510 | T61: =S17 -> 3360 | U61: =T17 -> 2808 | V61: =U17 -> 960
O62: Décembre | P62: =O18 -> 93 | Q62: =P18 -> 120.9 | R62: =Q18 -> 591.81818 | S62: =R18 -> 846.3 | T62: =S18 -> 2929.5 | U62: =T18 -> 677.04 | V62: =U18 -> 418.5
O63: Janvier | P63: =O7 -> 62 | Q63: =P7 -> 80.6 | R63: =Q7 -> 394.54545 | S63: =R7 -> 564.2 | T63: =S7 -> 3255 | U63: =T7 -> 451.36 | V63: =U7 -> 465
O64: Février | P64: =O8 -> 203 | Q64: =P8 -> 263.9 | R64: =Q8 -> 1476.3636 | S64: =R8 -> 2111.2 | T64: =S8 -> 5582.5 | U64: =T8 -> 1688.96 | V64: =U8 -> 1595
O65: Mars | P65: =O9 -> 465 | Q65: =P9 -> 604.5 | R65: =Q9 -> 4227.2727 | S65: =R9 -> 6045 | T65: =S9 -> 6683.6 | U65: =T9 -> 4836 | V65: =U9 -> 2864.4

Sheet Diffentre Besoin et dispo
C2: Données prise feuilles calculs | E2: Pour les courbes , pas besoin de regardez cela
C3: ='Calcul Et Courbes '!T6 -> Courbe Megajoule Objectif | D3: ='Calcul Et Courbes '!S6 -> Courbe besoin chaptel | E3: Ecart | G3: Négatif | H3: Positif
B4: Janvier | C4: ='Calcul Et Courbes '!T7 -> 451.36 | D4: ='Calcul Et Courbes '!S7 -> 3255 | E4: =D4-C4 -> 2803.64 | G4: =IF(E4<0,E4,"") | H4: =IF(E4>0,E4,"") -> 2803.64
B5: Février | C5: ='Calcul Et Courbes '!T8 -> 1688.96 | D5: ='Calcul Et Courbes '!S8 -> 5582.5 | E5: =D5-C5 -> 3893.54 | G5: =IF(E5<0,E5,"") | H5: =IF(E5>0,E5,"") -> 3893.54
B6: Mars | C6: ='Calcul Et Courbes '!T9 -> 4836 | D6: ='Calcul Et Courbes '!S9 -> 6683.6 | E6: =D6-C6 -> 1847.6 | G6: =IF(E6<0,E6,"") | H6: =IF(E6>0,E6,"") -> 1847.6
B7: Avril | C7: ='Calcul Et Courbes '!T10 -> 9828 | D7: ='Calcul Et Courbes '!S10 -> 11340 | E7: =D7-C7 -> 1512 | G7: =IF(E7<0,E7,"") | H7: =IF(E7>0,E7,"") -> 1512
B8: Mai | C8: ='Calcul Et Courbes '!T11 -> 25147.2 | D8: ='Calcul Et Courbes '!S11 -> 15624 | E8: =D8-C8 -> -9523.2 | G8: =IF(E8<0,E8,"") -> -9523.2 | H8: =IF(E8>0,E8,"")
B9: Juin | C9: ='Calcul Et Courbes '!T12 -> 20592 | D9: ='Calcul Et Courbes '!S12 -> 12600 | E9: =D9-C9 -> -7992 | G9: =IF(E9<0,E9,"") -> -7992 | H9: =IF(E9>0,E9,"")
B10: Juillet | C10: ='Calcul Et Courbes '!T13 -> 13057.2 | D10: ='Calcul Et Courbes '!S13 -> 3255 | E10: =D10-C10 -> -9802.2 | G10: =IF(E10<0,E10,"") -> -9802.2 | H10: =IF(E10>0,E10,"")
B11: Août | C11: ='Calcul Et Courbes '!T14 -> 4449.12 | D11: ='Calcul Et Courbes '!S14 -> 2929.5 | E11: =D11-C11 -> -1519.62 | G11: =IF(E11<0,E11,"") -> -1519.62 | H11: =IF(E11>0,E11,"")
B12: Septembre | C12: ='Calcul Et Courbes '!T15 -> 9360 | D12: ='Calcul Et Courbes '!S15 -> 3780 | E12: =D12-C12 -> -5580 | G12: =IF(E12<0,E12,"") -> -5580 | H12: =IF(E12>0,E12,"")
B13: Octobre | C13: ='Calcul Et Courbes '!T16 -> 7092.8 | D13: ='Calcul Et Courbes '!S16 -> 4296.6 | E13: =D13-C13 -> -2796.2 | G13: =IF(E13<0,E13,"") -> -2796.2 | H13: =IF(E13>0,E13,"")
B14: Novembre | C14: ='Calcul Et Courbes '!T17 -> 2808 | D14: ='Calcul Et Courbes '!S17 -> 3360 | E14: =D14-C14 -> 552 | G14: =IF(E14<0,E14,"") | H14: =IF(E14>0,E14,"") -> 552
B15: Décembre | C15: ='Calcul Et Courbes '!T18 -> 677.04 | D15: ='Calcul Et Courbes '!S18 -> 2929.5 | E15: =D15-C15 -> 2252.46 | G15: =IF(E15<0,E15,"") | H15: =IF(E15>0,E15,"") -> 2252.46
C17: Dont Touch( Resultats pris au dessus) | E17: Resultats
C18: Différence de la Courbe objectif moins le Besoin | E18: Groupe de production(Chiffre) | G18: Périodes(Durée) | H18: Masquer
B19: Janvier | C19: =C4-D4 -> -2803.64 | E19: =IF(SIGN(C19)=SIGN(C20),"",SUM($C$19:C19)-SUM($E18:E$19)) | G19: =IF(E19="","",OFFSET(B19,1-COUNTIF($H$19:H19,H19),)&"-"&B19) | H19: =SUM(H18)+IF(G18="",0,1) -> 1
B20: Février | C20: =C5-D5 -> -3893.54 | E20: =IF(SIGN(C20)=SIGN(C21),"",SUM($C$19:C20)-SUM($E19:E$19)) | G20: =IF(E20="","",OFFSET(B20,1-COUNTIF($H$19:H20,H20),)&"-"&B20) | H20: =SUM(H19)+IF(G19="",0,1) -> 1
B21: Mars | C21: =C6-D6 -> -1847.6 | E21: =IF(SIGN(C21)=SIGN(C22),"",SUM($C$19:C21)-SUM($E$19:E20)) | G21: =IF(E21="","",OFFSET(B21,1-COUNTIF($H$19:H21,H21),)&"-"&B21) | H21: =SUM(H20)+IF(G20="",0,1) -> 1
B22: Avril | C22: =C7-D7 -> -1512 | E22: =IF(SIGN(C22)=SIGN(C23),"",SUM($C$19:C22)-SUM($E$19:E21)) -> -10056.78 | G22: =IF(E22="","",OFFSET(B22,1-COUNTIF($H$19:H22,H22),)&"-"&B22) -> Janvier-Avril | H22: =SUM(H21)+IF(G21="",0,1) -> 1
B23: Mai | C23: =C8-D8 -> 9523.2 | E23: =IF(SIGN(C23)=SIGN(C24),"",SUM($C$19:C23)-SUM($E$19:E22)) | G23: =IF(E23="","",OFFSET(B23,1-COUNTIF($H$19:H23,H23),)&"-"&B23) | H23: =SUM(H22)+IF(G22="",0,1) -> 2
B24: Juin | C24: =C9-D9 -> 7992 | E24: =IF(SIGN(C24)=SIGN(C25),"",SUM($C$19:C24)-SUM($E$19:E23)) | G24: =IF(E24="","",OFFSET(B24,1-COUNTIF($H$19:H24,H24),)&"-"&B24) | H24: =SUM(H23)+IF(G23="",0,1) -> 2
B25: Juillet | C25: =C10-D10 -> 9802.2 | E25: =IF(SIGN(C25)=SIGN(C26),"",SUM($C$19:C25)-SUM($E$19:E24)) | G25: =IF(E25="","",OFFSET(B25,1-COUNTIF($H$19:H25,H25),)&"-"&B25) | H25: =SUM(H24)+IF(G24="",0,1) -> 2
B26: Août | C26: =C11-D11 -> 1519.62 | E26: =IF(SIGN(C26)=SIGN(C27),"",SUM($C$19:C26)-SUM($E$19:E25)) | G26: =IF(E26="","",OFFSET(B26,1-COUNTIF($H$19:H26,H26),)&"-"&B26) | H26: =SUM(H25)+IF(G25="",0,1) -> 2
B27: Septembre | C27: =C12-D12 -> 5580 | E27: =IF(SIGN(C27)=SIGN(C28),"",SUM($C$19:C27)-SUM($E$19:E26)) | G27: =IF(E27="","",OFFSET(B27,1-COUNTIF($H$19:H27,H27),)&"-"&B27) | H27: =SUM(H26)+IF(G26="",0,1) -> 2
B28: Octobre | C28: =C13-D13 -> 2796.2 | E28: =IF(SIGN(C28)=SIGN(C29),"",SUM($C$19:C28)-SUM($E$19:E27)) -> 37213.22 | G28: =IF(E28="","",OFFSET(B28,1-COUNTIF($H$19:H28,H28),)&"-"&B28) -> Mai-Octobre | H28: =SUM(H27)+IF(G27="",0,1) -> 2
B29: Novembre | C29: =C14-D14 -> -552 | E29: =IF(SIGN(C29)=SIGN(C30),"",SUM($C$19:C29)-SUM($E$19:E28)) | G29: =IF(E29="","",OFFSET(B29,1-COUNTIF($H$19:H29,H29),)&"-"&B29) | H29: =SUM(H28)+IF(G28="",0,1) -> 3
B30: Décembre | C30: =C15-D15 -> -2252.46 | E30: =IF(SIGN(C30)=SIGN(C31),"",SUM($C$19:C30)-SUM($E$19:E29)) -> -2804.46 | G30: =IF(E30="","",OFFSET(B30,1-COUNTIF($H$19:H30,H30),)&"-"&B30) -> Novembre-Décembre | H30: =SUM(H29)+IF(G29="",0,1) -> 3
B31: Dec | C31: =C16-D16 -> 0 | H31: =SUM(H30)+IF(G30="",0,1) -> 4
B32: Année | C32: =SUM(C19:D30) -> 24351.98 | H32: =SUM(H31)+IF(G31="",0,1) -> 4
B33: Resultat | C33: =C32 -> 24351.98 | H33: =SUM(H32)+IF(G32="",0,1) -> 4
G35: =IF(E35="","",OFFSET(B35,1-COUNTIF($H$19:H35,H35),)&"-"&B35)
E43: Exemple
I48: Interprétation de la feuille

Sheet Decoupage et Rotation
I1: Decoupage et rotation avec Dates et nombre de jours
B3: Valeurs prise grace au base de donnée( Choisir page 1)
B4: Courbe active (Pousse/jour) | W4: 42370 | X4: Nombre de jour pour la rotation | Y4: Besoin en Ha pour la rotation
B5: ='Calcul Et Courbes '!D9 -> 2.6 | H5: Calendrier | I5: Pousse/Jour | J5: Total pousse | K5: Date des rotations | L5: Compteur de jours de rotations | Q5: Moyenne du besoin par rota | S5: Besoin en Ha par tranche de 24 | U5: Besoin Ha pour Chaque rotation au total | W5: Dates des rotations
B6: ='Calcul Et Courbes '!D10 -> 9.1 | W6: 42470 | X6: =W6-W4 -> 100 | Y6: =IFERROR(X6*$D$39,"") -> 3.2307692
B7: ='Calcul Et Courbes '!D11 -> 19.5 | J7: =D46 -> 1200 | W7: 42497 | X7: =IFERROR(W7-W6-1,"") -> 26 | Y7: =IFERROR(X7*$D$39,"") -> 0.84
B8: ='Calcul Et Courbes '!D12 -> 39 | H8: 42370 | I8: =$B$5 -> 2.6 | J8: =IF(J7>$E$46,$D$46+I8,J7+I8) -> 1202.6 | K8: =IF(J7>$E$46,H7,"") | L8: =IF(K8="",1+L7,0) -> 1 | N8: =$D$26 -> 10.5 | P8: =IF(L8=0,N8,N8+P7) -> 10.5 | Q8: =IF(L8=0,P7/L7,"") | S8: =IFERROR(Q8/$D$21,"") | U8: =IF(L8=0,$D$39*L7,"") | W8: 42513 | X8: =IFERROR(W8-W7-1,"") -> 15 | Y8: =IFERROR(X8*$D$39,"") -> 0.48461538
B9: ='Calcul Et Courbes '!D13 -> 84.5 | H9: 42371 | I9: =$B$5 -> 2.6 | J9: =IF(J8>$E$46,$D$46+I9,J8+I9) -> 1205.2 | K9: =IF(J8>$E$46,H8,"") | L9: =IF(K9="",1+L8,0) -> 2 | N9: =$D$26 -> 10.5 | P9: =IF(L9=0,N9,N9+P8) -> 21 | Q9: =IF(L9=0,P8/L8,"") | S9: =IFERROR(Q9/$D$21,"") | U9: =IF(L9=0,$D$39*L8,"") | W9: 42530 | X9: =IFERROR(W9-W8-1,"") -> 16 | Y9: =IFERROR(X9*$D$39,"") -> 0.51692308
B10: ='Calcul Et Courbes '!D14 -> 78 | H10: 42372 | I10: =$B$5 -> 2.6 | J10: =IF(J9>$E$46,$D$46+I10,J9+I10) -> 1207.8 | K10: =IF(J9>$E$46,H9,"") | L10: =IF(K10="",1+L9,0) -> 3 | N10: =$D$26 -> 10.5 | P10: =IF(L10=0,N10,N10+P9) -> 31.5 | Q10: =IF(L10=0,P9/L9,"") | S10: =IFERROR(Q10/$D$21,"") | U10: =IF(L10=0,$D$39*L9,"") | W10: 42547 | X10: =IFERROR(W10-W9-1,"") -> 16 | Y10: =IFERROR(X10*$D$39,"") -> 0.51692308
B11: ='Calcul Et Courbes '!D15 -> 58.5 | H11: 42373 | I11: =$B$5 -> 2.6 | J11: =IF(J10>$E$46,$D$46+I11,J10+I11) -> 1210.4 | K11: =IF(J10>$E$46,H10,"") | L11: =IF(K11="",1+L10,0) -> 4 | N11: =$D$26 -> 10.5 | P11: =IF(L11=0,N11,N11+P10) -> 42 | Q11: =IF(L11=0,P10/L10,"") | S11: =IFERROR(Q11/$D$21,"") | U11: =IF(L11=0,$D$39*L10,"") | W11: 42568 | X11: =IFERROR(W11-W10-1,"") -> 20 | Y11: =IFERROR(X11*$D$39,"") -> 0.64615385
B12: ='Calcul Et Courbes '!D16 -> 29.9 | H12: 42374 | I12: =$B$5 -> 2.6 | J12: =IF(J11>$E$46,$D$46+I12,J11+I12) -> 1213 | K12: =IF(J11>$E$46,H11,"") | L12: =IF(K12="",1+L11,0) -> 5 | N12: =$D$26 -> 10.5 | P12: =IF(L12=0,N12,N12+P11) -> 52.5 | Q12: =IF(L12=0,P11/L11,"") | S12: =IFERROR(Q12/$D$21,"") | U12: =IF(L12=0,$D$39*L11,"") | W12: 42599 | X12: =IFERROR(W12-W11-1,"") -> 30 | Y12: =IFERROR(X12*$D$39,"") -> 0.96923077
B13: ='Calcul Et Courbes '!D17 -> 39 | H13: 42375 | I13: =$B$5 -> 2.6 | J13: =IF(J12>$E$46,$D$46+I13,J12+I13) -> 1215.6 | K13: =IF(J12>$E$46,H12,"") | L13: =IF(K13="",1+L12,0) -> 6 | N13: =$D$26 -> 10.5 | P13: =IF(L13=0,N13,N13+P12) -> 63 | Q13: =IF(L13=0,P12/L12,"") | S13: =IFERROR(Q13/$D$21,"") | U13: =IF(L13=0,$D$39*L12,"") | W13: 42636 | X13: =IFERROR(W13-W12-1,"") -> 36 | Y13: =IFERROR(X13*$D$39,"") -> 1.1630769
B14: ='Calcul Et Courbes '!D18 -> 26 | H14: 42376 | I14: =$B$5 -> 2.6 | J14: =IF(J13>$E$46,$D$46+I14,J13+I14) -> 1218.2 | K14: =IF(J13>$E$46,H13,"") | L14: =IF(K14="",1+L13,0) -> 7 | N14: =$D$26 -> 10.5 | P14: =IF(L14=0,N14,N14+P13) -> 73.5 | Q14: =IF(L14=0,P13/L13,"") | S14: =IFERROR(Q14/$D$21,"") | U14: =IF(L14=0,$D$39*L13,"") | W14: 42692 | X14: =IFERROR(W14-W13-1,"") -> 55 | Y14: =IFERROR(X14*$D$39,"") -> 1.7769231
B15: ='Calcul Et Courbes '!D19 -> 13 | H15: 42377 | I15: =$B$5 -> 2.6 | J15: =IF(J14>$E$46,$D$46+I15,J14+I15) -> 1220.8 | K15: =IF(J14>$E$46,H14,"") | L15: =IF(K15="",1+L14,0) -> 8 | N15: =$D$26 -> 10.5 | P15: =IF(L15=0,N15,N15+P14) -> 84 | Q15: =IF(L15=0,P14/L14,"") | S15: =IFERROR(Q15/$D$21,"") | U15: =IF(L15=0,$D$39*L14,"") | X15: =IFERROR(W15-W14-1,"") -> -42693 | Y15: =IFERROR(X15*$D$39,"") -> -1379.3123
B16: ='Calcul Et Courbes '!D20 -> 3.9 | H16: 42378 | I16: =$B$5 -> 2.6 | J16: =IF(J15>$E$46,$D$46+I16,J15+I16) -> 1223.4 | K16: =IF(J15>$E$46,H15,"") | L16: =IF(K16="",1+L15,0) -> 9 | N16: =$D$26 -> 10.5 | P16: =IF(L16=0,N16,N16+P15) -> 94.5 | Q16: =IF(L16=0,P15/L15,"") | S16: =IFERROR(Q16/$D$21,"") | U16: =IF(L16=0,$D$39*L15,"") | X16: =IFERROR(W16-W15-1,"") -> -1 | Y16: =IFERROR(X16*$D$39,"") -> -0.032307692
H17: 42379 | I17: =$B$5 -> 2.6 | J17: =IF(J16>$E$46,$D$46+I17,J16+I17) -> 1226 | K17: =IF(J16>$E$46,H16,"") | L17: =IF(K17="",1+L16,0) -> 10 | N17: =$D$26 -> 10.5 | P17: =IF(L17=0,N17,N17+P16) -> 105 | Q17: =IF(L17=0,P16/L16,"") | S17: =IFERROR(Q17/$D$21,"") | U17: =IF(L17=0,$D$39*L16,"") | X17: =IFERROR(W17-W16-1,"") -> -1 | Y17: =IFERROR(X17*$D$39,"") -> -0.032307692
C18: Coupe haute | D18: 2500 | H18: 42380 | I18: =$B$5 -> 2.6 | J18: =IF(J17>$E$46,$D$46+I18,J17+I18) -> 1228.6 | K18: =IF(J17>$E$46,H17,"") | L18: =IF(K18="",1+L17,0) -> 11 | N18: =$D$26 -> 10.5 | P18: =IF(L18=0,N18,N18+P17) -> 115.5 | Q18: =IF(L18=0,P17/L17,"") | S18: =IFERROR(Q18/$D$21,"") | U18: =IF(L18=0,$D$39*L17,"") | X18: =IFERROR(W18-W17-1,"") -> -1 | Y18: =IFERROR(X18*$D$39,"") -> -0.032307692
C19: Coupe basse | D19: 1200 | H19: 42381 | I19: =$B$5 -> 2.6 | J19: =IF(J18>$E$46,$D$46+I19,J18+I19) -> 1231.2 | K19: =IF(J18>$E$46,H18,"") | L19: =IF(K19="",1+L18,0) -> 12 | N19: =$D$26 -> 10.5 | P19: =IF(L19=0,N19,N19+P18) -> 126 | Q19: =IF(L19=0,P18/L18,"") | S19: =IFERROR(Q19/$D$21,"") | U19: =IF(L19=0,$D$39*L18,"") | X19: =IFERROR(W19-W18-1,"") -> -1 | Y19: =IFERROR(X19*$D$39,"") -> -0.032307692
C20: A Remplir | H20: 42382 | I20: =$B$5 -> 2.6 | J20: =IF(J19>$E$46,$D$46+I20,J19+I20) -> 1233.8 | K20: =IF(J19>$E$46,H19,"") | L20: =IF(K20="",1+L19,0) -> 13 | N20: =$D$26 -> 10.5 | P20: =IF(L20=0,N20,N20+P19) -> 136.5 | Q20: =IF(L20=0,P19/L19,"") | S20: =IFERROR(Q20/$D$21,"") | U20: =IF(L20=0,$D$39*L19,"") | X20: =IFERROR(W20-W19-1,"") -> -1 | Y20: =IFERROR(X20*$D$39,"") -> -0.032307692
C21: Ressource dispo | D21: =D18-D19 -> 1300 | H21: 42383 | I21: =$B$5 -> 2.6 | J21: =IF(J20>$E$46,$D$46+I21,J20+I21) -> 1236.4 | K21: =IF(J20>$E$46,H20,"") | L21: =IF(K21="",1+L20,0) -> 14 | N21: =$D$26 -> 10.5 | P21: =IF(L21=0,N21,N21+P20) -> 147 | Q21: =IF(L21=0,P20/L20,"") | S21: =IFERROR(Q21/$D$21,"") | U21: =IF(L21=0,$D$39*L20,"") | X21: =IFERROR(W21-W20-1,"") -> -1 | Y21: =IFERROR(X21*$D$39,"") -> -0.032307692
H22: 42384 | I22: =$B$5 -> 2.6 | J22: =IF(J21>$E$46,$D$46+I22,J21+I22) -> 1239 | K22: =IF(J21>$E$46,H21,"") | L22: =IF(K22="",1+L21,0) -> 15 | N22: =$D$26 -> 10.5 | P22: =IF(L22=0,N22,N22+P21) -> 157.5 | Q22: =IF(L22=0,P21/L21,"") | S22: =IFERROR(Q22/$D$21,"") | U22: =IF(L22=0,$D$39*L21,"") | X22: =IFERROR(W22-W21-1,"") -> -1 | Y22: =IFERROR(X22*$D$39,"") -> -0.032307692
H23: 42385 | I23: =$B$5 -> 2.6 | J23: =IF(J22>$E$46,$D$46+I23,J22+I23) -> 1241.6 | K23: =IF(J22>$E$46,H22,"") | L23: =IF(K23="",1+L22,0) -> 16 | N23: =$D$26 -> 10.5 | P23: =IF(L23=0,N23,N23+P22) -> 168 | Q23: =IF(L23=0,P22/L22,"") | S23: =IFERROR(Q23/$D$21,"") | U23: =IF(L23=0,$D$39*L22,"") | X23: =IFERROR(W23-W22-1,"") -> -1 | Y23: =IFERROR(X23*$D$39,"") -> -0.032307692
A24: Taille du chaptel | B24: Besoin par animal KgMS/day | D24: Besoin du chaptel par jour | H24: 42386 | I24: =$B$5 -> 2.6 | J24: =IF(J23>$E$46,$D$46+I24,J23+I24) -> 1244.2 | K24: =IF(J23>$E$46,H23,"") | L24: =IF(K24="",1+L23,0) -> 17 | N24: =$D$26 -> 10.5 | P24: =IF(L24=0,N24,N24+P23) -> 178.5 | Q24: =IF(L24=0,P23/L23,"") | S24: =IFERROR(Q24/$D$21,"") | U24: =IF(L24=0,$D$39*L23,"") | X24: =IFERROR(W24-W23-1,"") -> -1
H25: 42387 | I25: =$B$5 -> 2.6 | J25: =IF(J24>$E$46,$D$46+I25,J24+I25) -> 1246.8 | K25: =IF(J24>$E$46,H24,"") | L25: =IF(K25="",1+L24,0) -> 18 | N25: =$D$26 -> 10.5 | P25: =IF(L25=0,N25,N25+P24) -> 189 | Q25: =IF(L25=0,P24/L24,"") | S25: =IFERROR(Q25/$D$21,"") | U25: =IF(L25=0,$D$39*L24,"")
A26: =Accueuil!C3 -> 7 | B26: ='Calcul Et Courbes '!C28 -> 1.5 | D26: =B26*$A$26 -> 10.5 | H26: 42388 | I26: =$B$5 -> 2.6 | J26: =IF(J25>$E$46,$D$46+I26,J25+I26) -> 1249.4 | K26: =IF(J25>$E$46,H25,"") | L26: =IF(K26="",1+L25,0) -> 19 | N26: =$D$26 -> 10.5 | P26: =IF(L26=0,N26,N26+P25) -> 199.5 | Q26: =IF(L26=0,P25/L25,"") | S26: =IFERROR(Q26/$D$21,"") | U26: =IF(L26=0,$D$39*L25,"")
B27: ='Calcul Et Courbes '!C29 -> 2.5 | D27: =B27*$A$26 -> 17.5 | H27: 42389 | I27: =$B$5 -> 2.6 | J27: =IF(J26>$E$46,$D$46+I27,J26+I27) -> 1252 | K27: =IF(J26>$E$46,H26,"") | L27: =IF(K27="",1+L26,0) -> 20 | N27: =$D$26 -> 10.5 | P27: =IF(L27=0,N27,N27+P26) -> 210 | Q27: =IF(L27=0,P26/L26,"") | S27: =IFERROR(Q27/$D$21,"") | U27: =IF(L27=0,$D$39*L26,"")
B28: ='Calcul Et Courbes '!C30 -> 2.8 | D28: =B28*$A$26 -> 19.6 | H28: 42390 | I28: =$B$5 -> 2.6 | J28: =IF(J27>$E$46,$D$46+I28,J27+I28) -> 1254.6 | K28: =IF(J27>$E$46,H27,"") | L28: =IF(K28="",1+L27,0) -> 21 | N28: =$D$26 -> 10.5 | P28: =IF(L28=0,N28,N28+P27) -> 220.5 | Q28: =IF(L28=0,P27/L27,"") | S28: =IFERROR(Q28/$D$21,"") | U28: =IF(L28=0,$D$39*L27,"")
B29: ='Calcul Et Courbes '!C31 -> 4.5 | D29: =B29*$A$26 -> 31.5 | H29: 42391 | I29: =$B$5 -> 2.6 | J29: =IF(J28>$E$46,$D$46+I29,J28+I29) -> 1257.2 | K29: =IF(J28>$E$46,H28,"") | L29: =IF(K29="",1+L28,0) -> 22 | N29: =$D$26 -> 10.5 | P29: =IF(L29=0,N29,N29+P28) -> 231 | Q29: =IF(L29=0,P28/L28,"") | S29: =IFERROR(Q29/$D$21,"") | U29: =IF(L29=0,$D$39*L28,"")
B30: ='Calcul Et Courbes '!C32 -> 6 | D30: =B30*$A$26 -> 42 | H30: 42392 | I30: =$B$5 -> 2.6 | J30: =IF(J29>$E$46,$D$46+I30,J29+I30) -> 1259.8 | K30: =IF(J29>$E$46,H29,"") | L30: =IF(K30="",1+L29,0) -> 23 | N30: =$D$26 -> 10.5 | P30: =IF(L30=0,N30,N30+P29) -> 241.5 | Q30: =IF(L30=0,P29/L29,"") | S30: =IFERROR(Q30/$D$21,"") | U30: =IF(L30=0,$D$39*L29,"")
B31: ='Calcul Et Courbes '!C33 -> 5 | D31: =B31*$A$26 -> 35 | H31: 42393 | I31: =$B$5 -> 2.6 | J31: =IF(J30>$E$46,$D$46+I31,J30+I31) -> 1262.4 | K31: =IF(J30>$E$46,H30,"") | L31: =IF(K31="",1+L30,0) -> 24 | N31: =$D$26 -> 10.5 | P31: =IF(L31=0,N31,N31+P30) -> 252 | Q31: =IF(L31=0,P30/L30,"") | S31: =IFERROR(Q31/$D$21,"") | U31: =IF(L31=0,$D$39*L30,"")
B32: ='Calcul Et Courbes '!C34 -> 1.5 | D32: =B32*$A$26 -> 10.5 | H32: 42394 | I32: =$B$5 -> 2.6 | J32: =IF(J31>$E$46,$D$46+I32,J31+I32) -> 1265 | K32: =IF(J31>$E$46,H31,"") | L32: =IF(K32="",1+L31,0) -> 25 | N32: =$D$26 -> 10.5 | P32: =IF(L32=0,N32,N32+P31) -> 262.5 | Q32: =IF(L32=0,P31/L31,"") | S32: =IFERROR(Q32/$D$21,"") | U32: =IF(L32=0,$D$39*L31,"")
B33: ='Calcul Et Courbes '!C35 -> 1.5 | D33: =B33*$A$26 -> 10.5 | H33: 42395 | I33: =$B$5 -> 2.6 | J33: =IF(J32>$E$46,$D$46+I33,J32+I33) -> 1267.6 | K33: =IF(J32>$E$46,H32,"") | L33: =IF(K33="",1+L32,0) -> 26 | N33: =$D$26 -> 10.5 | P33: =IF(L33=0,N33,N33+P32) -> 273 | Q33: =IF(L33=0,P32/L32,"") | S33: =IFERROR(Q33/$D$21,"") | U33: =IF(L33=0,$D$39*L32,"")
B34: ='Calcul Et Courbes '!C36 -> 1.8 | D34: =B34*$A$26 -> 12.6 | H34: 42396 | I34: =$B$5 -> 2.6 | J34: =IF(J33>$E$46,$D$46+I34,J33+I34) -> 1270.2 | K34: =IF(J33>$E$46,H33,"") | L34: =IF(K34="",1+L33,0) -> 27 | N34: =$D$26 -> 10.5 | P34: =IF(L34=0,N34,N34+P33) -> 283.5 | Q34: =IF(L34=0,P33/L33,"") | S34: =IFERROR(Q34/$D$21,"") | U34: =IF(L34=0,$D$39*L33,"")
B35: ='Calcul Et Courbes '!C37 -> 1.8 | D35: =B35*$A$26 -> 12.6 | H35: 42397 | I35: =$B$5 -> 2.6 | J35: =IF(J34>$E$46,$D$46+I35,J34+I35) -> 1272.8 | K35: =IF(J34>$E$46,H34,"") | L35: =IF(K35="",1+L34,0) -> 28 | N35: =$D$26 -> 10.5 | P35: =IF(L35=0,N35,N35+P34) -> 294 | Q35: =IF(L35=0,P34/L34,"") | S35: =IFERROR(Q35/$D$21,"") | U35: =IF(L35=0,$D$39*L34,"")
B36: ='Calcul Et Courbes '!C38 -> 1.6 | D36: =B36*$A$26 -> 11.2 | H36: 42398 | I36: =$B$5 -> 2.6 | J36: =IF(J35>$E$46,$D$46+I36,J35+I36) -> 1275.4 | K36: =IF(J35>$E$46,H35,"") | L36: =IF(K36="",1+L35,0) -> 29 | N36: =$D$26 -> 10.5 | P36: =IF(L36=0,N36,N36+P35) -> 304.5 | Q36: =IF(L36=0,P35/L35,"") | S36: =IFERROR(Q36/$D$21,"") | U36: =IF(L36=0,$D$39*L35,"")
B37: ='Calcul Et Courbes '!C39 -> 1.5 | D37: =B37*$A$26 -> 10.5 | H37: 42399 | I37: =$B$5 -> 2.6 | J37: =IF(J36>$E$46,$D$46+I37,J36+I37) -> 1278 | K37: =IF(J36>$E$46,H36,"") | L37: =IF(K37="",1+L36,0) -> 30 | N37: =$D$26 -> 10.5 | P37: =IF(L37=0,N37,N37+P36) -> 315 | Q37: =IF(L37=0,P36/L36,"") | S37: =IFERROR(Q37/$D$21,"") | U37: =IF(L37=0,$D$39*L36,"")
A38: Valeur la plus haute pour determiné les parcelles en HA | E38: =LARGE(D26:D37,1) -> 42 | H38: 42400 | I38: =$B$5 -> 2.6 | J38: =IF(J37>$E$46,$D$46+I38,J37+I38) -> 1280.6 | K38: =IF(J37>$E$46,H37,"") | L38: =IF(K38="",1+L37,0) -> 31 | N38: =$D$26 -> 10.5 | P38: =IF(L38=0,N38,N38+P37) -> 325.5 | Q38: =IF(L38=0,P37/L37,"") | S38: =IFERROR(Q38/$D$21,"") | U38: =IF(L38=0,$D$39*L37,"")
C39: Parcelles aire pour 24h en Ha | D39: =E38/D21 -> 0.032307692 | H39: 42401 | I39: =$B$6 -> 9.1 | J39: =IF(J38>$E$47,$D$47+I39,J38+I39) -> 1289.7 | K39: =IF(J38>$E$47,H38,"") | L39: =IF(K39="",1+L38,0) -> 32 | N39: =$D$27 -> 17.5 | P39: =IF(L39=0,N39,N39+P38) -> 343 | Q39: =IF(L39=0,P38/L38,"") | S39: =IFERROR(Q39/$D$21,"") | U39: =IF(L39=0,$D$39*L38,"")
H40: 42402 | I40: =$B$6 -> 9.1 | J40: =IF(J39>$E$47,$D$47+I40,J39+I40) -> 1298.8 | K40: =IF(J39>$E$47,H39,"") | L40: =IF(K40="",1+L39,0) -> 33 | N40: =$D$27 -> 17.5 | P40: =IF(L40=0,N40,N40+P39) -> 360.5 | Q40: =IF(L40=0,P39/L39,"") | S40: =IFERROR(Q40/$D$21,"") | U40: =IF(L40=0,$D$39*L39,"")
H41: 42403 | I41: =$B$6 -> 9.1 | J41: =IF(J40>$E$47,$D$47+I41,J40+I41) -> 1307.9 | K41: =IF(J40>$E$47,H40,"") | L41: =IF(K41="",1+L40,0) -> 34 | N41: =$D$27 -> 17.5 | P41: =IF(L41=0,N41,N41+P40) -> 378 | Q41: =IF(L41=0,P40/L40,"") | S41: =IFERROR(Q41/$D$21,"") | U41: =IF(L41=0,$D$39*L40,"")
H42: 42404 | I42: =$B$6 -> 9.1 | J42: =IF(J41>$E$47,$D$47+I42,J41+I42) -> 1317 | K42: =IF(J41>$E$47,H41,"") | L42: =IF(K42="",1+L41,0) -> 35 | N42: =$D$27 -> 17.5 | P42: =IF(L42=0,N42,N42+P41) -> 395.5 | Q42: =IF(L42=0,P41/L41,"") | S42: =IFERROR(Q42/$D$21,"") | U42: =IF(L42=0,$D$39*L41,"")
H43: 42405 | I43: =$B$6 -> 9.1 | J43: =IF(J42>$E$47,$D$47+I43,J42+I43) -> 1326.1 | K43: =IF(J42>$E$47,H42,"") | L43: =IF(K43="",1+L42,0) -> 36 | N43: =$D$27 -> 17.5 | P43: =IF(L43=0,N43,N43+P42) -> 413 | Q43: =IF(L43=0,P42/L42,"") | S43: =IFERROR(Q43/$D$21,"") | U43: =IF(L43=0,$D$39*L42,"")
A44: Incrémentation mensuelle des coupes | D44: Resultat | H44: 42406 | I44: =$B$6 -> 9.1 | J44: =IF(J43>$E$47,$D$47+I44,J43+I44) -> 1335.2 | K44: =IF(J43>$E$47,H43,"") | L44: =IF(K44="",1+L43,0) -> 37 | N44: =$D$27 -> 17.5 | P44: =IF(L44=0,N44,N44+P43) -> 430.5 | Q44: =IF(L44=0,P43/L43,"") | S44: =IFERROR(Q44/$D$21,"") | U44: =IF(L44=0,$D$39*L43,"")
B45: Coupe basse | C45: Coupe haute | D45: Coupe Basse | E45: Coupe haute | H45: 42407 | I45: =$B$6 -> 9.1 | J45: =IF(J44>$E$47,$D$47+I45,J44+I45) -> 1344.3 | K45: =IF(J44>$E$47,H44,"") | L45: =IF(K45="",1+L44,0) -> 38 | N45: =$D$27 -> 17.5 | P45: =IF(L45=0,N45,N45+P44) -> 448 | Q45: =IF(L45=0,P44/L44,"") | S45: =IFERROR(Q45/$D$21,"") | U45: =IF(L45=0,$D$39*L44,"")
A46: Janvier | B46: 0 | C46: 0 | D46: =$D$19+B46 -> 1200 | E46: =$D$18+C46 -> 2500 | H46: 42408 | I46: =$B$6 -> 9.1 | J46: =IF(J45>$E$47,$D$47+I46,J45+I46) -> 1353.4 | K46: =IF(J45>$E$47,H45,"") | L46: =IF(K46="",1+L45,0) -> 39 | N46: =$D$27 -> 17.5 | P46: =IF(L46=0,N46,N46+P45) -> 465.5 | Q46: =IF(L46=0,P45/L45,"") | S46: =IFERROR(Q46/$D$21,"") | U46: =IF(L46=0,$D$39*L45,"")
A47: Février | B47: 0 | C47: 0 | D47: =$D$19+B47 -> 1200 | E47: =$D$18+C47 -> 2500 | H47: 42409 | I47: =$B$6 -> 9.1 | J47: =IF(J46>$E$47,$D$47+I47,J46+I47) -> 1362.5 | K47: =IF(J46>$E$47,H46,"") | L47: =IF(K47="",1+L46,0) -> 40 | N47: =$D$27 -> 17.5 | P47: =IF(L47=0,N47,N47+P46) -> 483 | Q47: =IF(L47=0,P46/L46,"") | S47: =IFERROR(Q47/$D$21,"") | U47: =IF(L47=0,$D$39*L46,"")
A48: Mars | B48: 0 | C48: 0 | D48: =$D$19+B48 -> 1200 | E48: =$D$18+C48 -> 2500 | H48: 42410 | I48: =$B$6 -> 9.1 | J48: =IF(J47>$E$47,$D$47+I48,J47+I48) -> 1371.6 | K48: =IF(J47>$E$47,H47,"") | L48: =IF(K48="",1+L47,0) -> 41 | N48: =$D$27 -> 17.5 | P48: =IF(L48=0,N48,N48+P47) -> 500.5 | Q48: =IF(L48=0,P47/L47,"") | S48: =IFERROR(Q48/$D$21,"") | U48: =IF(L48=0,$D$39*L47,"")
A49: Avril | B49: 0 | C49: 0 | D49: =$D$19+B49 -> 1200 | E49: =$D$18+C49 -> 2500 | H49: 42411 | I49: =$B$6 -> 9.1 | J49: =IF(J48>$E$47,$D$47+I49,J48+I49) -> 1380.7 | K49: =IF(J48>$E$47,H48,"") | L49: =IF(K49="",1+L48,0) -> 42 | N49: =$D$27 -> 17.5 | P49: =IF(L49=0,N49,N49+P48) -> 518 | Q49: =IF(L49=0,P48/L48,"") | S49: =IFERROR(Q49/$D$21,"") | U49: =IF(L49=0,$D$39*L48,"")
A50: Mai | B50: 0 | C50: 0 | D50: =$D$19+B50 -> 1200 | E50: =$D$18+C50 -> 2500 | H50: 42412 | I50: =$B$6 -> 9.1 | J50: =IF(J49>$E$47,$D$47+I50,J49+I50) -> 1389.8 | K50: =IF(J49>$E$47,H49,"") | L50: =IF(K50="",1+L49,0) -> 43 | N50: =$D$27 -> 17.5 | P50: =IF(L50=0,N50,N50+P49) -> 535.5 | Q50: =IF(L50=0,P49/L49,"") | S50: =IFERROR(Q50/$D$21,"") | U50: =IF(L50=0,$D$39*L49,"")
A51: Juin | B51: 0 | C51: 0 | D51: =$D$19+B51 -> 1200 | E51: =$D$18+C51 -> 2500 | H51: 42413 | I51: =$B$6 -> 9.1 | J51: =IF(J50>$E$47,$D$47+I51,J50+I51) -> 1398.9 | K51: =IF(J50>$E$47,H50,"") | L51: =IF(K51="",1+L50,0) -> 44 | N51: =$D$27 -> 17.5 | P51: =IF(L51=0,N51,N51+P50) -> 553 | Q51: =IF(L51=0,P50/L50,"") | S51: =IFERROR(Q51/$D$21,"") | U51: =IF(L51=0,$D$39*L50,"")
A52: Juillet | B52: 0 | C52: 0 | D52: =$D$19+B52 -> 1200 | E52: =$D$18+C52 -> 2500 | H52: 42414 | I52: =$B$6 -> 9.1 | J52: =IF(J51>$E$47,$D$47+I52,J51+I52) -> 1408 | K52: =IF(J51>$E$47,H51,"") | L52: =IF(K52="",1+L51,0) -> 45 | N52: =$D$27 -> 17.5 | P52: =IF(L52=0,N52,N52+P51) -> 570.5 | Q52: =IF(L52=0,P51/L51,"") | S52: =IFERROR(Q52/$D$21,"") | U52: =IF(L52=0,$D$39*L51,"")
A53: Août | B53: 0 | C53: 0 | D53: =$D$19+B53 -> 1200 | E53: =$D$18+C53 -> 2500 | H53: 42415 | I53: =$B$6 -> 9.1 | J53: =IF(J52>$E$47,$D$47+I53,J52+I53) -> 1417.1 | K53: =IF(J52>$E$47,H52,"") | L53: =IF(K53="",1+L52,0) -> 46 | N53: =$D$27 -> 17.5 | P53: =IF(L53=0,N53,N53+P52) -> 588 | Q53: =IF(L53=0,P52/L52,"") | S53: =IFERROR(Q53/$D$21,"") | U53: =IF(L53=0,$D$39*L52,"")
A54: Septembre | B54: 0 | C54: 0 | D54: =$D$19+B54 -> 1200 | E54: =$D$18+C54 -> 2500 | H54: 42416 | I54: =$B$6 -> 9.1 | J54: =IF(J53>$E$47,$D$47+I54,J53+I54) -> 1426.2 | K54: =IF(J53>$E$47,H53,"") | L54: =IF(K54="",1+L53,0) -> 47 | N54: =$D$27 -> 17.5 | P54: =IF(L54=0,N54,N54+P53) -> 605.5 | Q54: =IF(L54=0,P53/L53,"") | S54: =IFERROR(Q54/$D$21,"") | U54: =IF(L54=0,$D$39*L53,"")
A55: Octobre | B55: 0 | C55: 0 | D55: =$D$19+B55 -> 1200 | E55: =$D$18+C55 -> 2500 | H55: 42417 | I55: =$B$6 -> 9.1 | J55: =IF(J54>$E$47,$D$47+I55,J54+I55) -> 1435.3 | K55: =IF(J54>$E$47,H54,"") | L55: =IF(K55="",1+L54,0) -> 48 | N55: =$D$27 -> 17.5 | P55: =IF(L55=0,N55,N55+P54) -> 623 | Q55: =IF(L55=0,P54/L54,"") | S55: =IFERROR(Q55/$D$21,"") | U55: =IF(L55=0,$D$39*L54,"")
A56: Novembre | B56: 0 | C56: 0 | D56: =$D$19+B56 -> 1200 | E56: =$D$18+C56 -> 2500 | H56: 42418 | I56: =$B$6 -> 9.1 | J56: =IF(J55>$E$47,$D$47+I56,J55+I56) -> 1444.4 | K56: =IF(J55>$E$47,H55,"") | L56: =IF(K56="",1+L55,0) -> 49 | N56: =$D$27 -> 17.5 | P56: =IF(L56=0,N56,N56+P55) -> 640.5 | Q56: =IF(L56=0,P55/L55,"") | S56: =IFERROR(Q56/$D$21,"") | U56: =IF(L56=0,$D$39*L55,"")
A57: Décembre | B57: 0 | C57: 0 | D57: =$D$19+B57 -> 1200 | E57: =$D$18+C57 -> 2500 | H57: 42419 | I57: =$B$6 -> 9.1 | J57: =IF(J56>$E$47,$D$47+I57,J56+I57) -> 1453.5 | K57: =IF(J56>$E$47,H56,"") | L57: =IF(K57="",1+L56,0) -> 50 | N57: =$D$27 -> 17.5 | P57: =IF(L57=0,N57,N57+P56) -> 658 | Q57: =IF(L57=0,P56/L56,"") | S57: =IFERROR(Q57/$D$21,"") | U57: =IF(L57=0,$D$39*L56,"")
A58: A remplir avec + X ou -X | D58: Ne pas touchez | H58: 42420 | I58: =$B$6 -> 9.1 | J58: =IF(J57>$E$47,$D$47+I58,J57+I58) -> 1462.6 | K58: =IF(J57>$E$47,H57,"") | L58: =IF(K58="",1+L57,0) -> 51 | N58: =$D$27 -> 17.5 | P58: =IF(L58=0,N58,N58+P57) -> 675.5 | Q58: =IF(L58=0,P57/L57,"") | S58: =IFERROR(Q58/$D$21,"") | U58: =IF(L58=0,$D$39*L57,"")
H59: 42421 | I59: =$B$6 -> 9.1 | J59: =IF(J58>$E$47,$D$47+I59,J58+I59) -> 1471.7 | K59: =IF(J58>$E$47,H58,"") | L59: =IF(K59="",1+L58,0) -> 52 | N59: =$D$27 -> 17.5 | P59: =IF(L59=0,N59,N59+P58) -> 693 | Q59: =IF(L59=0,P58/L58,"") | S59: =IFERROR(Q59/$D$21,"") | U59: =IF(L59=0,$D$39*L58,"")
H60: 42422 | I60: =$B$6 -> 9.1 | J60: =IF(J59>$E$47,$D$47+I60,J59+I60) -> 1480.8 | K60: =IF(J59>$E$47,H59,"") | L60: =IF(K60="",1+L59,0) -> 53 | N60: =$D$27 -> 17.5 | P60: =IF(L60=0,N60,N60+P59) -> 710.5 | Q60: =IF(L60=0,P59/L59,"") | S60: =IFERROR(Q60/$D$21,"") | U60: =IF(L60=0,$D$39*L59,"")
H61: 42423 | I61: =$B$6 -> 9.1 | J61: =IF(J60>$E$47,$D$47+I61,J60+I61) -> 1489.9 | K61: =IF(J60>$E$47,H60,"") | L61: =IF(K61="",1+L60,0) -> 54 | N61: =$D$27 -> 17.5 | P61: =IF(L61=0,N61,N61+P60) -> 728 | Q61: =IF(L61=0,P60/L60,"") | S61: =IFERROR(Q61/$D$21,"") | U61: =IF(L61=0,$D$39*L60,"")
H62: 42424 | I62: =$B$6 -> 9.1 | J62: =IF(J61>$E$47,$D$47+I62,J61+I62) -> 1499 | K62: =IF(J61>$E$47,H61,"") | L62: =IF(K62="",1+L61,0) -> 55 | N62: =$D$27 -> 17.5 | P62: =IF(L62=0,N62,N62+P61) -> 745.5 | Q62: =IF(L62=0,P61/L61,"") | S62: =IFERROR(Q62/$D$21,"") | U62: =IF(L62=0,$D$39*L61,"")
H63: 42425 | I63: =$B$6 -> 9.1 | J63: =IF(J62>$E$47,$D$47+I63,J62+I63) -> 1508.1 | K63: =IF(J62>$E$47,H62,"") | L63: =IF(K63="",1+L62,0) -> 56 | N63: =$D$27 -> 17.5 | P63: =IF(L63=0,N63,N63+P62) -> 763 | Q63: =IF(L63=0,P62/L62,"") | S63: =IFERROR(Q63/$D$21,"") | U63: =IF(L63=0,$D$39*L62,"")
H64: 42426 | I64: =$B$6 -> 9.1 | J64: =IF(J63>$E$47,$D$47+I64,J63+I64) -> 1517.2 | K64: =IF(J63>$E$47,H63,"") | L64: =IF(K64="",1+L63,0) -> 57 | N64: =$D$27 -> 17.5 | P64: =IF(L64=0,N64,N64+P63) -> 780.5 | Q64: =IF(L64=0,P63/L63,"") | S64: =IFERROR(Q64/$D$21,"") | U64: =IF(L64=0,$D$39*L63,"")
H65: 42427 | I65: =$B$6 -> 9.1 | J65: =IF(J64>$E$47,$D$47+I65,J64+I65) -> 1526.3 | K65: =IF(J64>$E$47,H64,"") | L65: =IF(K65="",1+L64,0) -> 58 | N65: =$D$27 -> 17.5 | P65: =IF(L65=0,N65,N65+P64) -> 798 | Q65: =IF(L65=0,P64/L64,"") | S65: =IFERROR(Q65/$D$21,"") | U65: =IF(L65=0,$D$39*L64,"")
H66: 42428 | I66: =$B$6 -> 9.1 | J66: =IF(J65>$E$47,$D$47+I66,J65+I66) -> 1535.4 | K66: =IF(J65>$E$47,H65,"") | L66: =IF(K66="",1+L65,0) -> 59 | N66: =$D$27 -> 17.5 | P66: =IF(L66=0,N66,N66+P65) -> 815.5 | Q66: =IF(L66=0,P65/L65,"") | S66: =IFERROR(Q66/$D$21,"") | U66: =IF(L66=0,$D$39*L65,"")
H67: 42430 | I67: =$B$7 -> 19.5 | J67: =IF(J66>$E$48,$D$48+I67,J66+I67) -> 1554.9 | K67: =IF(J66>$E$48,H66,"") | L67: =IF(K67="",1+L66,0) -> 60 | N67: =$D$28 -> 19.6 | P67: =IF(L67=0,N67,N67+P66) -> 835.1 | Q67: =IF(L67=0,P66/L66,"") | S67: =IFERROR(Q67/$D$21,"") | U67: =IF(L67=0,$D$39*L66,"")
H68: 42431 | I68: =$B$7 -> 19.5 | J68: =IF(J67>$E$48,$D$48+I68,J67+I68) -> 1574.4 | K68: =IF(J67>$E$48,H67,"") | L68: =IF(K68="",1+L67,0) -> 61 | N68: =$D$28 -> 19.6 | P68: =IF(L68=0,N68,N68+P67) -> 854.7 | Q68: =IF(L68=0,P67/L67,"") | S68: =IFERROR(Q68/$D$21,"") | U68: =IF(L68=0,$D$39*L67,"")
H69: 42432 | I69: =$B$7 -> 19.5 | J69: =IF(J68>$E$48,$D$48+I69,J68+I69) -> 1593.9 | K69: =IF(J68>$E$48,H68,"") | L69: =IF(K69="",1+L68,0) -> 62 | N69: =$D$28 -> 19.6 | P69: =IF(L69=0,N69,N69+P68) -> 874.3 | Q69: =IF(L69=0,P68/L68,"") | S69: =IFERROR(Q69/$D$21,"") | U69: =IF(L69=0,$D$39*L68,"")
H70: 42433 | I70: =$B$7 -> 19.5 | J70: =IF(J69>$E$48,$D$48+I70,J69+I70) -> 1613.4 | K70: =IF(J69>$E$48,H69,"") | L70: =IF(K70="",1+L69,0) -> 63 | N70: =$D$28 -> 19.6 | P70: =IF(L70=0,N70,N70+P69) -> 893.9 | Q70: =IF(L70=0,P69/L69,"") | S70: =IFERROR(Q70/$D$21,"") | U70: =IF(L70=0,$D$39*L69,"")
H71: 42434 | I71: =$B$7 -> 19.5 | J71: =IF(J70>$E$48,$D$48+I71,J70+I71) -> 1632.9 | K71: =IF(J70>$E$48,H70,"") | L71: =IF(K71="",1+L70,0) -> 64 | N71: =$D$28 -> 19.6 | P71: =IF(L71=0,N71,N71+P70) -> 913.5 | Q71: =IF(L71=0,P70/L70,"") | S71: =IFERROR(Q71/$D$21,"") | U71: =IF(L71=0,$D$39*L70,"")
H72: 42435 | I72: =$B$7 -> 19.5 | J72: =IF(J71>$E$48,$D$48+I72,J71+I72) -> 1652.4 | K72: =IF(J71>$E$48,H71,"") | L72: =IF(K72="",1+L71,0) -> 65 | N72: =$D$28 -> 19.6 | P72: =IF(L72=0,N72,N72+P71) -> 933.1 | Q72: =IF(L72=0,P71/L71,"") | S72: =IFERROR(Q72/$D$21,"") | U72: =IF(L72=0,$D$39*L71,"")
H73: 42436 | I73: =$B$7 -> 19.5 | J73: =IF(J72>$E$48,$D$48+I73,J72+I73) -> 1671.9 | K73: =IF(J72>$E$48,H72,"") | L73: =IF(K73="",1+L72,0) -> 66 | N73: =$D$28 -> 19.6 | P73: =IF(L73=0,N73,N73+P72) -> 952.7 | Q73: =IF(L73=0,P72/L72,"") | S73: =IFERROR(Q73/$D$21,"") | U73: =IF(L73=0,$D$39*L72,"")
H74: 42437 | I74: =$B$7 -> 19.5 | J74: =IF(J73>$E$48,$D$48+I74,J73+I74) -> 1691.4 | K74: =IF(J73>$E$48,H73,"") | L74: =IF(K74="",1+L73,0) -> 67 | N74: =$D$28 -> 19.6 | P74: =IF(L74=0,N74,N74+P73) -> 972.3 | Q74: =IF(L74=0,P73/L73,"") | S74: =IFERROR(Q74/$D$21,"") | U74: =IF(L74=0,$D$39*L73,"")
H75: 42438 | I75: =$B$7 -> 19.5 | J75: =IF(J74>$E$48,$D$48+I75,J74+I75) -> 1710.9 | K75: =IF(J74>$E$48,H74,"") | L75: =IF(K75="",1+L74,0) -> 68 | N75: =$D$28 -> 19.6 | P75: =IF(L75=0,N75,N75+P74) -> 991.9 | Q75: =IF(L75=0,P74/L74,"") | S75: =IFERROR(Q75/$D$21,"") | U75: =IF(L75=0,$D$39*L74,"")
H76: 42439 | I76: =$B$7 -> 19.5 | J76: =IF(J75>$E$48,$D$48+I76,J75+I76) -> 1730.4 | K76: =IF(J75>$E$48,H75,"") | L76: =IF(K76="",1+L75,0) -> 69 | N76: =$D$28 -> 19.6 | P76: =IF(L76=0,N76,N76+P75) -> 1011.5 | Q76: =IF(L76=0,P75/L75,"") | S76: =IFERROR(Q76/$D$21,"") | U76: =IF(L76=0,$D$39*L75,"")
H77: 42440 | I77: =$B$7 -> 19.5 | J77: =IF(J76>$E$48,$D$48+I77,J76+I77) -> 1749.9 | K77: =IF(J76>$E$48,H76,"") | L77: =IF(K77="",1+L76,0) -> 70 | N77: =$D$28 -> 19.6 | P77: =IF(L77=0,N77,N77+P76) -> 1031.1 | Q77: =IF(L77=0,P76/L76,"") | S77: =IFERROR(Q77/$D$21,"") | U77: =IF(L77=0,$D$39*L76,"")
H78: 42441 | I78: =$B$7 -> 19.5 | J78: =IF(J77>$E$48,$D$48+I78,J77+I78) -> 1769.4 | K78: =IF(J77>$E$48,H77,"") | L78: =IF(K78="",1+L77,0) -> 71 | N78: =$D$28 -> 19.6 | P78: =IF(L78=0,N78,N78+P77) -> 1050.7 | Q78: =IF(L78=0,P77/L77,"") | S78: =IFERROR(Q78/$D$21,"") | U78: =IF(L78=0,$D$39*L77,"")
... H97: 42460 | I97: =$B$7 -> 19.5 | J97: =IF(J96>$E$48,$D$48+I97,J96+I97) -> 2139.9 | K97: =IF(J96>$E$48,H96,"") | L97: =IF(K97="",1+L96,0) -> 90 | N97: =$D$28 -> 19.6 | P97: =IF(L97=0,N97,N97+P96) -> 1423.1 | Q97: =IF(L97=0,P96/L96,"") | S97: =IFERROR(Q97/$D$21,"") | U97: =IF(L97=0,$D$39*L96,"")
H98: 42461 | I98: =$B$8 -> 39 | J98: =IF(J97>$E$49,$D$49+I98,J97+I98) -> 2178.9 | K98: =IF(J97>$E$49,H97,"") | L98: =IF(K98="",1+L97,0) -> 91 | N98: =$D$29 -> 31.5 | P98: =IF(L98=0,N98,N98+P97) -> 1454.6 | Q98: =IF(L98=0,P97/L97,"") | S98: =IFERROR(Q98/$D$21,"") | U98: =IF(L98=0,$D$39*L97,"")
H99: 42462 | I99: =$B$8 -> 39 | J99: =IF(J98>$E$49,$D$49+I99,J98+I99) -> 2217.9 | K99: =IF(J98>$E$49,H98,"") | L99: =IF(K99="",1+L98,0) -> 92 | N99: =$D$29 -> 31.5 | P99: =IF(L99=0,N99,N99+P98) -> 1486.1 | Q99: =IF(L99=0,P98/L98,"") | S99: =IFERROR(Q99/$D$21,"") | U99: =IF(L99=0,$D$39*L98,"")
H100: 42463 | I100: =$B$8 -> 39 | J100: =IF(J99>$E$49,$D$49+I100,J99+I100) -> 2256.9 | K100: =IF(J99>$E$49,H99,"") | L100: =IF(K100="",1+L99,0) -> 93 | N100: =$D$29 -> 31.5 | P100: =IF(L100=0,N100,N100+P99) -> 1517.6 | Q100: =IF(L100=0,P99/L99,"") | S100: =IFERROR(Q100/$D$21,"") | U100: =IF(L100=0,$D$39*L99,"")
H101: 42464 | I101: =$B$8 -> 39 | J101: =IF(J100>$E$49,$D$49+I101,J100+I101) -> 2295.9 | K101: =IF(J100>$E$49,H100,"") | L101: =IF(K101="",1+L100,0) -> 94 | N101: =$D$29 -> 31.5 | P101: =IF(L101=0,N101,N101+P100) -> 1549.1 | Q101: =IF(L101=0,P100/L100,"") | S101: =IFERROR(Q101/$D$21,"") | U101: =IF(L101=0,$D$39*L100,"")
H102: 42465 | I102: =$B$8 -> 39 | J102: =IF(J101>$E$49,$D$49+I102,J101+I102) -> 2334.9 | K102: =IF(J101>$E$49,H101,"") | L102: =IF(K102="",1+L101,0) -> 95 | N102: =$D$29 -> 31.5 | P102: =IF(L102=0,N102,N102+P101) -> 1580.6 | Q102: =IF(L102=0,P101/L101,"") | S102: =IFERROR(Q102/$D$21,"") | U102: =IF(L102=0,$D$39*L101,"")
H103: 42466 | I103: =$B$8 -> 39 | J103: =IF(J102>$E$49,$D$49+I103,J102+I103) -> 2373.9 | K103: =IF(J102>$E$49,H102,"") | L103: =IF(K103="",1+L102,0) -> 96 | N103: =$D$29 -> 31.5 | P103: =IF(L103=0,N103,N103+P102) -> 1612.1 | Q103: =IF(L103=0,P102/L102,"") | S103: =IFERROR(Q103/$D$21,"") | U103: =IF(L103=0,$D$39*L102,"")
H104: 42467 | I104: =$B$8 -> 39 | J104: =IF(J103>$E$49,$D$49+I104,J103+I104) -> 2412.9 | K104: =IF(J103>$E$49,H103,"") | L104: =IF(K104="",1+L103,0) -> 97 | N104: =$D$29 -> 31.5 | P104: =IF(L104=0,N104,N104+P103) -> 1643.6 | Q104: =IF(L104=0,P103/L103,"") | S104: =IFERROR(Q104/$D$21,"") | U104: =IF(L104=0,$D$39*L103,"")
H105: 42468 | I105: =$B$8 -> 39 | J105: =IF(J104>$E$49,$D$49+I105,J104+I105) -> 2451.9 | K105: =IF(J104>$E$49,H104,"") | L105: =IF(K105="",1+L104,0) -> 98 | N105: =$D$29 -> 31.5 | P105: =IF(L105=0,N105,N105+P104) -> 1675.1 | Q105: =IF(L105=0,P104/L104,"") | S105: =IFERROR(Q105/$D$21,"") | U105: =IF(L105=0,$D$39*L104,"")
H106: 42469 | I106: =$B$8 -> 39 | J106: =IF(J105>$E$49,$D$49+I106,J105+I106) -> 2490.9 | K106: =IF(J105>$E$49,H105,"") | L106: =IF(K106="",1+L105,0) -> 99 | N106: =$D$29 -> 31.5 | P106: =IF(L106=0,N106,N106+P105) -> 1706.6 | Q106: =IF(L106=0,P105/L105,"") | S106: =IFERROR(Q106/$D$21,"") | U106: =IF(L106=0,$D$39*L105,"")
H107: 42470 | I107: =$B$8 -> 39 | J107: =IF(J106>$E$49,$D$49+I107,J106+I107) -> 2529.9 | K107: =IF(J106>$E$49,H106,"") | L107: =IF(K107="",1+L106,0) -> 100 | N107: =$D$29 -> 31.5 | P107: =IF(L107=0,N107,N107+P106) -> 1738.1 | Q107: =IF(L107=0,P106/L106,"") | S107: =IFERROR(Q107/$D$21,"") | U107: =IF(L107=0,$D$39*L106,"")
H108: 42471 | I108: =$B$8 -> 39 | J108: =IF(J107>$E$49,$D$49+I108,J107+I108) -> 1239 | K108: =IF(J107>$E$49,H107,"") -> 42470 | L108: =IF(K108="",1+L107,0) -> 0 | N108: =$D$29 -> 31.5 | P108: =IF(L108=0,N108,N108+P107) -> 31.5 | Q108: =IF(L108=0,P107/L107,"") -> 17.381 | S108: =IFERROR(Q108/$D$21,"") -> 0.01337 | U108: =IF(L108=0,$D$39*L107,"") -> 3.2307692
H109: 42472 | I109: =$B$8 -> 39 | J109: =IF(J108>$E$49,$D$49+I109,J108+I109) -> 1278 | K109: =IF(J108>$E$49,H108,"") | L109: =IF(K109="",1+L108,0) -> 1 | N109: =$D$29 -> 31.5 | P109: =IF(L109=0,N109,N109+P108) -> 63 | Q109: =IF(L109=0,P108/L108,"") | S109: =IFERROR(Q109/$D$21,"") | U109: =IF(L109=0,$D$39*L108,"")
... H127: 42490 | I127: =$B$8 -> 39 | J127: =IF(J126>$E$49,$D$49+I127,J126+I127) -> 1980 | K127: =IF(J126>$E$49,H126,"") | L127: =IF(K127="",1+L126,0) -> 19 | N127: =$D$29 -> 31.5 | P127: =IF(L127=0,N127,N127+P126) -> 630 | Q127: =IF(L127=0,P126/L126,"") | S127: =IFERROR(Q127/$D$21,"") | U127: =IF(L127=0,$D$39*L126,"")
H128: 42491 | I128: =$B$9 -> 84.5 | J128: =IF(J127>$E$50,$D$50+I128,J127+I128) -> 2064.5 | K128: =IF(J127>$E$50,H127,"") | L128: =IF(K128="",1+L127,0) -> 20 | N128: =$D$30 -> 42 | P128: =IF(L128=0,N128,N128+P127) -> 672 | Q128: =IF(L128=0,P127/L127,"") | S128: =IFERROR(Q128/$D$21,"") | U128: =IF(L128=0,$D$39*L127,"")
H129: 42492 | I129: =$B$9 -> 84.5 | J129: =IF(J128>$E$50,$D$50+I129,J128+I129) -> 2149 | K129: =IF(J128>$E$50,H128,"") | L129: =IF(K129="",1+L128,0) -> 21 | N129: =$D$30 -> 42 | P129: =IF(L129=0,N129,N129+P128) -> 714 | Q129: =IF(L129=0,P128/L128,"") | S129: =IFERROR(Q129/$D$21,"") | U129: =IF(L129=0,$D$39*L128,"")
H130: 42493 | I130: =$B$9 -> 84.5 | J130: =IF(J129>$E$50,$D$50+I130,J129+I130) -> 2233.5 | K130: =IF(J129>$E$50,H129,"") | L130: =IF(K130="",1+L129,0) -> 22 | N130: =$D$30 -> 42 | P130: =IF(L130=0,N130,N130+P129) -> 756 | Q130: =IF(L130=0,P129/L129,"") | S130: =IFERROR(Q130/$D$21,"") | U130: =IF(L130=0,$D$39*L129,"")
H131: 42494 | I131: =$B$9 -> 84.5 | J131: =IF(J130>$E$50,$D$50+I131,J130+I131) -> 2318 | K131: =IF(J130>$E$50,H130,"") | L131: =IF(K131="",1+L130,0) -> 23 | N131: =$D$30 -> 42 | P131: =IF(L131=0,N131,N131+P130) -> 798 | Q131: =IF(L131=0,P130/L130,"") | S131: =IFERROR(Q131/$D$21,"") | U131: =IF(L131=0,$D$39*L130,"")
H132: 42495 | I132: =$B$9 -> 84.5 | J132: =IF(J131>$E$50,$D$50+I132,J131+I132) -> 2402.5 | K132: =IF(J131>$E$50,H131,"") | L132: =IF(K132="",1+L131,0) -> 24 | N132: =$D$30 -> 42 | P132: =IF(L132=0,N132,N132+P131) -> 840 | Q132: =IF(L132=0,P131/L131,"") | S132: =IFERROR(Q132/$D$21,"") | U132: =IF(L132=0,$D$39*L131,"")
H133: 42496 | I133: =$B$9 -> 84.5 | J133: =IF(J132>$E$50,$D$50+I133,J132+I133) -> 2487 | K133: =IF(J132>$E$50,H132,"") | L133: =IF(K133="",1+L132,0) -> 25 | N133: =$D$30 -> 42 | P133: =IF(L133=0,N133,N133+P132) -> 882 | Q133: =IF(L133=0,P132/L132,"") | S133: =IFERROR(Q133/$D$21,"") | U133: =IF(L133=0,$D$39*L132,"")
H134: 42497 | I134: =$B$9 -> 84.5 | J134: =IF(J133>$E$50,$D$50+I134,J133+I134) -> 2571.5 | K134: =IF(J133>$E$50,H133,"") | L134: =IF(K134="",1+L133,0) -> 26 | N134: =$D$30 -> 42 | P134: =IF(L134=0,N134,N134+P133) -> 924 | Q134: =IF(L134=0,P133/L133,"") | S134: =IFERROR(Q134/$D$21,"") | U134: =IF(L134=0,$D$39*L133,"")
H135: 42498 | I135: =$B$9 -> 84.5 | J135: =IF(J134>$E$50,$D$50+I135,J134+I135) -> 1284.5 | K135: =IF(J134>$E$50,H134,"") -> 42497 | L135: =IF(K135="",1+L134,0) -> 0 | N135: =$D$30 -> 42 | P135: =IF(L135=0,N135,N135+P134) -> 42 | Q135: =IF(L135=0,P134/L134,"") -> 35.538462 | S135: =IFERROR(Q135/$D$21,"") -> 0.027337278 | U135: =IF(L135=0,$D$39*L134,"") -> 0.84
H136: 42499 | I136: =$B$9 -> 84.5 | J136: =IF(J135>$E$50,$D$50+I136,J135+I136) -> 1369 | K136: =IF(J135>$E$50,H135,"") | L136: =IF(K136="",1+L135,0) -> 1 | N136: =$D$30 -> 42 | P136: =IF(L136=0,N136,N136+P135) -> 84 | Q136: =IF(L136=0,P135/L135,"") | S136: =IFERROR(Q136/$D$21,"") | U136: =IF(L136=0,$D$39*L135,"")
...

Sheet Base de donnée simple
B2: Courbe Active (Qualité en MJ ME /jr) | I2: Chaptel MJME/jr
B3: Summer Dry | C3: Medium hill inbye | D3: HQ dairy pasture | E3: Test | I3: dairy 12mnthr | J3: beef finisher R2 | K3: spring lmb Waireres | L3: test
A6: 1 | B6: 8.5 | C6: 7 | D6: 9 | E6: 7 | H6: 1 | I6: 9 | J6: 8.5 | K6: 8.5 | L6: 10
A7: 2 | B7: 9.5 | C7: 7 | D7: 10 | E7: 8 | H7: 2 | I7: 10 | J7: 9.5 | K7: 9.5 | L7: 11
A8: 3 | B8: 10.5 | C8: 8 | D8: 11 | E8: 10 | H8: 3 | I8: 11 | J8: 10.5 | K8: 10.5 | L8: 11
A9: 4 | B9: 11.5 | C9: 10.5 | D9: 12 | E9: 10.5 | H9: 4 | I9: 12 | J9: 11.5 | K9: 11.5 | L9: 12
A10: 5 | B10: 12 | C10: 11 | D10: 12.5 | E10: 12 | H10: 5 | I10: 12.5 | J10: 12 | K10: 12 | L10: 12
A11: 6 | B11: 11 | C11: 12 | D11: 12 | E11: 11 | H11: 6 | I11: 12 | J11: 11 | K11: 11 | L11: 12
A12: 7 | B12: 9 | C12: 12 | D12: 11.5 | E12: 9 | H12: 7 | I12: 11.5 | J12: 9 | K12: 9 | L12: 10
A13: 8 | B13: 7 | C13: 11 | D13: 11 | E13: 6 | H13: 8 | I13: 11 | J13: 7 | K13: 7 | L13: 9
A14: 9 | B14: 9.5 | C14: 11.5 | D14: 11.5 | E14: 10 | H14: 9 | I14: 11.5 | J14: 9.5 | K14: 9.5 | L14: 10
A15: 10 | B15: 10.5 | C15: 9 | D15: 10.5 | E15: 11 | H15: 10 | I15: 10.5 | J15: 10.5 | K15: 10.5 | L15: 11
A16: 11 | B16: 9.5 | C16: 8 | D16: 10 | E16: 9 | H16: 11 | I16: 10 | J16: 9.5 | K16: 9.5 | L16: 10
A17: 12 | B17: 9 | C17: 7 | D17: 9 | E17: 7 | H17: 12 | I17: 9 | J17: 9 | K17: 9 | L17: 9
B19: Courbe passive en kgMs/jr | I19: Chaptel 2 KgMS/day
B20: Summer Dry | C20: Medium hill inbye | D20: HQ dairy pasture | E20: Test | I20: dairy 12mnthr | J20: beef finisher R2 | K20: spring lmb Waireres | L20: Test
B23: 5 | C23: 2 | D23: 8 | E23: 2 | H23: 1 | I23: 14 | J23: 12 | K23: 1.8 | L23: 1.5
B24: 10 | C24: 6 | D24: 14 | E24: 7 | H24: 2 | I24: 16 | J24: 14 | K24: 2.8 | L24: 2.5
B25: 15 | C25: 12 | D25: 22 | E25: 15 | H25: 3 | I25: 16 | J25: 14 | K25: 3.25 | L25: 2.8
B26: 38 | C26: 20 | D26: 38 | E26: 30 | H26: 4 | I26: 16 | J26: 16 | K26: 4.4 | L26: 4.5
B27: 60 | C27: 50 | D27: 66 | E27: 65 | H27: 5 | I27: 18 | J27: 16 | K27: 5 | L27: 6
B28: 50 | C28: 60 | D28: 60 | E28: 60 | H28: 6 | I28: 18 | J28: 16 | K28: 5.5 | L28: 5
B29: 25 | C29: 50 | D29: 54 | E29: 45 | H29: 7 | I29: 18 | J29: 18 | K29: 1.2 | L29: 1.5
B30: 5 | C30: 30 | D30: 48 | E30: 23 | H30: 8 | I30: 16 | J30: 18 | K30: 1.4 | L30: 1.5
B31: 25 | C31: 20 | D31: 44 | E31: 30 | H31: 9 | I31: 14 | J31: 18 | K31: 1.5 | L31: 1.8
B32: 20 | C32: 10 | D32: 34 | E32: 20 | H32: 10 | I32: 14 | J32: 14 | K32: 1.4 | L32: 1.8
B33: 15 | C33: 8 | D33: 20 | E33: 10 | H33: 11 | I33: 12 | J33: 12 | K33: 1.3 | L33: 1.6
B34: 10 | C34: 4 | D34: 12 | E34: 3 | H34: 12 | I34: 10 | J34: 12 | K34: 1.4 | L34: 1.5
