Workbook
Name Cabinet: Formules!$A$2:$A$5
Name CABINETV: Saisie!#REF!
Name CABINETVV: Saisie!#REF!
Name CABINETVVV: Saisie!#REF!
Name codpro2: Formules!$A$43:$A$53
Name codprom: Formules!$A$44:$A$51
Name CV: Saisie!#REF!
Name FA: Saisie!#REF!
Name FM: Saisie!#REF!
Name FV: Saisie!#REF!
Name heuredatefixe: Formules!#REF!
Name listcab09: Formules!$A$2:$A$13
Name LISTEC: Formules!$F$1:$F$11
Name LISTEC2: Formules!$F$1:$F$7
Name LISTEC3: Formules!$A$1:$A$16
Name LISTEC4: Formules!$A$1:$A$10
Name LISTEC5: Formules!$A$2:$A$9
Name listec6: Formules!$A$2:$A$12
Name listec7: Formules!$A$2:$A$11
Name LISTEVOYANTS: Formules!$H$1:$H$38
Name LISTEVOYANTS1: Formules!$H$1:$H$9
Name LISTEVOYANTS2: Formules!$H$1:$H$7
Name prixparcabinet: Saisie!#REF!
Name Tarif: Formules!$B$2:$B$5
Name TARIFCABINET: Formules!$A$2:$B$15
Name TARIFPROM2: Formules!$A$43:$B$51
Name TARIFPROM3: Formules!$B$43:$B$54
Name TARIFPROM4: Formules!$A$43:$B$54
Name TARIFPROMOS: Formules!$A$43:$B$50
Name TARIFPROMOS2: Formules!$A$1:$B$15
Name TARIFPROMTEST: Formules!$A$43:$B$49

Sheet Saisie
A1: Total TTC | B1: =SUBTOTAL(9,I8:I570) -> 53.4 | C1: Panier moyen | D1: =B1/D2 -> 17.8 | E1: =+B1-SUM(H2:H6) -> 0 | F1: consultant | H1: CA TTC | I1: Reversement HT | J1: Nombre Consults | K1: Panier Moyen | L1: Durées totales | M1: TMC
A2: Total HT | B2: =B1/1.2 -> 44.5 | C2: Nbre consults | D2: =SUBTOTAL(3,F9:F570) -> 3 | E2: =+B1-SUM(B5:D5) -> 0 | F2: Claudia | H2: =SUMPRODUCT(SUBTOTAL(9,OFFSET(I8,ROW(INDIRECT("1:"&ROWS(I9:I570))),))*(K9:K570="Claudia")) -> 38.4 | I2: =H2/1.2*0.3 -> 9.6 | J2: =SUMPRODUCT(SUBTOTAL(3,OFFSET(I8,ROW(INDIRECT("1:"&ROWS(I9:I570))),))*(K9:K570="Claudia")) -> 2 | K2: =H2/J2 -> 19.2 | L2: =SUMPRODUCT(SUBTOTAL(9,OFFSET(F8,ROW(INDIRECT("1:"&ROWS(F9:F570))),))*(K9:K570="Claudia"))/(24*60) -> 0.011111111 | M2: =L2/J2 -> 0.0055555556
A3: Consultants HT | B3: =SUM(I2:I6) -> 12.725 | C3: durée hh:mm:ss | D3: =SUBTOTAL(9,F9:F570)/(24*60) -> 0.018055556 | E3: =+B3-SUM(I2:I6) -> 0 | F3: Gabriel | H3: =SUMPRODUCT(SUBTOTAL(9,OFFSET(I8,ROW(INDIRECT("1:"&ROWS(I9:I570))),))*(K9:K570="Gabriel")) -> 0 | I3: =H3/1.2*0.25 -> 0 | J3: =SUMPRODUCT(SUBTOTAL(3,OFFSET(I8,ROW(INDIRECT("1:"&ROWS(I9:I570))),))*(K9:K570="Gabriel")) -> 0 | K3: =H3/J3 -> #DIV/0! | L3: =SUMPRODUCT(SUBTOTAL(9,OFFSET(F8,ROW(INDIRECT("1:"&ROWS(F9:F570))),))*(K9:K570="Gabriel"))/(24*60) -> 0 | M3: =L3/J3 -> #DIV/0!
A4: Cabinet HT | B4: =B1/1.2-B3 -> 31.775 | C4: TMC | D4: =D3/D2 -> 0.0060185185 | F4: Jessica | H4: =SUMPRODUCT(SUBTOTAL(9,OFFSET(I8,ROW(INDIRECT("1:"&ROWS(I9:I570))),))*(K9:K570="Jessica")) -> 15 | I4: =H4/1.2*0.25 -> 3.125 | J4: =SUMPRODUCT(SUBTOTAL(3,OFFSET(I8,ROW(INDIRECT("1:"&ROWS(I9:I570))),))*(K9:K570="Jessica")) -> 1 | K4: =H4/J4 -> 15 | L4: =SUMPRODUCT(SUBTOTAL(9,OFFSET(F8,ROW(INDIRECT("1:"&ROWS(F9:F570))),))*(K9:K570="Jessica"))/(24*60) -> 0.0069444444 | M4: =L4/J4 -> 0.0069444444
A5: sans promo | B5: =B1-D5 -> 53.4 | C5: promo | D5: =SUMPRODUCT(SUBTOTAL(9,OFFSET(I8,ROW(INDIRECT("1:"&ROWS(I9:I570))),))*(D9:D570<=14)) -> 0 | E5: =+B1-(B5+D5) -> 0 | F5: Clara | H5: =SUMPRODUCT(SUBTOTAL(9,OFFSET(I8,ROW(INDIRECT("1:"&ROWS(I9:I570))),))*(K9:K570="Clara")) -> 0 | I5: =H5/1.2*0.25 -> 0 | J5: =SUMPRODUCT(SUBTOTAL(3,OFFSET(I8,ROW(INDIRECT("1:"&ROWS(I9:I570))),))*(K9:K570="Clara")) -> 0 | K5: =H5/J5 -> #DIV/0! | L5: =SUMPRODUCT(SUBTOTAL(9,OFFSET(F8,ROW(INDIRECT("1:"&ROWS(F9:F570))),))*(K9:K570="Clara"))/(24*60) -> 0 | M5: =L5/J5 -> #DIV/0!
A6: sans promo % CA | B6: =B5/B1 -> 1 | C6: promo % CA | D6: =D5/B1 -> 0 | F6: Elena | H6: =SUMPRODUCT(SUBTOTAL(9,OFFSET(I8,ROW(INDIRECT("1:"&ROWS(I9:I570))),))*(K9:K570="Elena")) -> 0 | I6: =H6/1.2*0.25 -> 0 | J6: =SUMPRODUCT(SUBTOTAL(3,OFFSET(I8,ROW(INDIRECT("1:"&ROWS(I9:I570))),))*(K9:K570="Elena")) -> 0 | K6: =H6/J6 -> #DIV/0! | L6: =SUMPRODUCT(SUBTOTAL(9,OFFSET(F8,ROW(INDIRECT("1:"&ROWS(F9:F570))),))*(K9:K570="Elena"))/(24*60) -> 0 | M6: =L6/J6 -> #DIV/0!
A7: Nbre sans promos | B7: =D2-D7 -> 3 | C7: Nbre promos | D7: =SUMPRODUCT(SUBTOTAL(3,OFFSET(F8,ROW(INDIRECT("1:"&ROWS(F9:F570))),))*(D9:D570<=14)) -> 0
A8: standardiste | B8: date | C8: Colonne1 | D8: BASE 10 min | E8: code promo | F8: minutes | G8: mn sup | H8: TAUX MN SUP | I8: TOTAL TTC | J8: Nom Client | K8: Consultant | L8: SMS | M8: Encaissement | N8: COMMENTAIRES | O8: verif encaissement ogone
A9: Francois | B9: 42542 | D9: 15 | F9: 49 | H9: 3.9 | I9: =IF(SUM(F9)<=0,0,F9*H9-(10*H9-D9)) -> 167.1 | J9: aurelie bruyas | K9: Jessica | M9: Celine
A10: Francois | B10: 42542 | D10: 15 | F10: 37 | H10: 3.9 | I10: =IF(SUM(F10)<=0,0,F10*H10-(10*H10-D10)) -> 120.3 | J10: sonia gasmi | K10: Jessica | M10: Celine
A11: Pierre | B11: 42542 | D11: 15 | F11: 10 | H11: 3.9 | I11: =IF(SUM(F11)<=0,0,F11*H11-(10*H11-D11)) -> 15 | J11: Sandra Furtaro | K11: Jessica | M11: Pierre
A12: Pierre | B12: 42542 | D12: 15 | F12: 20 | H12: 3.9 | I12: =IF(SUM(F12)<=0,0,F12*H12-(10*H12-D12)) -> 54 | J12: NADIA NANI | K12: Gabriel | M12: Pierre
A13: Pierre | B13: 42542 | D13: 15 | F13: 29 | H13: 3.9 | I13: =IF(SUM(F13)<=0,0,F13*H13-(10*H13-D13)) -> 89.1 | J13: Laurence Bonrepaux | K13: Gabriel | M13: Pierre
A14: Pierre | B14: 42542 | D14: 15 | F14: 10 | H14: 3.9 | I14: =IF(SUM(F14)<=0,0,F14*H14-(10*H14-D14)) -> 15 | J14: Jacqueline Marin resse | K14: Gabriel | M14: Pierre
A15: Celine | B15: 42542 | D15: 15 | F15: 10 | H15: 3.9 | I15: =IF(SUM(F15)<=0,0,F15*H15-(10*H15-D15)) -> 15 | J15: SANDRA CHUNG | K15: Gabriel | M15: Francois
A16: Francois | B16: 42542 | D16: 15 | F16: 31 | H16: 3.9 | I16: =IF(SUM(F16)<=0,0,F16*H16-(10*H16-D16)) -> 96.9 | J16: eric sibisnki | K16: Claudia | M16: Francois
A17: Celine | B17: 42543 | D17: 15 | F17: 12 | H17: 3.9 | I17: =IF(SUM(F17)<=0,0,F17*H17-(10*H17-D17)) -> 22.8 | J17: ABDEL BENSSA | K17: Jessica | M17: Celine
A18: Celine | B18: 42543 | D18: 15 | F18: 10 | H18: 3.9 | I18: =IF(SUM(F18)<=0,0,F18*H18-(10*H18-D18)) -> 15 | J18: Agnes boury | K18: Jessica | M18: Celine
A19: Celine | B19: 42543 | D19: 15 | F19: 18 | H19: 3.9 | I19: =IF(SUM(F19)<=0,0,F19*H19-(10*H19-D19)) -> 46.2 | J19: aurelie bruyas | K19: Jessica | M19: Celine
A20: Celine | B20: 42543 | D20: 15 | E20: suivi | F20: 25 | H20: 3.9 | I20: =IF(SUM(F20)<=0,0,F20*H20-(10*H20-D20)) -> 73.5 | J20: Dominique Guilloux | K20: Claudia | M20: Julien
A21: Julien | B21: 42543 | D21: 15 | E21: suivi | F21: 27 | H21: 3.9 | I21: =IF(SUM(F21)<=0,0,F21*H21-(10*H21-D21)) -> 81.3 | J21: Evelyne Britelle | K21: Gabriel | M21: Julien
A22: Julien | B22: 42543 | D22: 15 | E22: sms16 | F22: 12 | H22: 3.9 | I22: =IF(SUM(F22)<=0,0,F22*H22-(10*H22-D22)) -> 22.8 | J22: SEVERINE MONNIER | K22: Claudia | M22: Julien
A23: Pierre | B23: 42543 | D23: 15 | F23: 34 | H23: 3.9 | I23: =IF(SUM(F23)<=0,0,F23*H23-(10*H23-D23)) -> 108.6 | J23: Claudette Provost | K23: Gabriel | M23: Julien
A24: Julien | B24: 42543 | D24: 15 | E24: AS03 | F24: 14 | H24: 3.9 | I24: =IF(SUM(F24)<=0,0,F24*H24-(10*H24-D24)) -> 30.6 | J24: LUTENE LOUIS | K24: Claudia | M24: Julien
A25: Pierre | B25: 42543 | D25: 15 | F25: 14 | H25: 3.9 | I25: =IF(SUM(F25)<=0,0,F25*H25-(10*H25-D25)) -> 30.6 | J25: Sarah Grenier | K25: Gabriel | M25: Pierre
A26: Pierre | B26: 42543 | D26: 15 | E26: suivi | F26: 31 | H26: 3.9 | I26: =IF(SUM(F26)<=0,0,F26*H26-(10*H26-D26)) -> 96.9 | J26: ISABELLE ARTAUD | K26: Gabriel | M26: Julien
A27: Francois | B27: 42543 | D27: 15 | F27: 42 | H27: 3.9 | I27: =IF(SUM(F27)<=0,0,F27*H27-(10*H27-D27)) -> 139.8 | J27: Beatrice Braud | K27: Gabriel | M27: Francois
A28: Francois | B28: 42543 | D28: 15 | F28: 11 | H28: 3.9 | I28: =IF(SUM(F28)<=0,0,F28*H28-(10*H28-D28)) -> 18.9 | J28: anne marie Ramos | K28: Claudia | M28: Francois
A29: Francois | B29: 42543 | D29: 15 | F29: 21 | H29: 3.9 | I29: =IF(SUM(F29)<=0,0,F29*H29-(10*H29-D29)) -> 57.9 | J29: Sandra Furtaro | K29: Jessica | M29: Francois
A30: Francois | B30: 42543 | D30: =IF(ISBLANK(E30),"15,00 €",VLOOKUP(E30,TARIFPROM4,2,0)) -> 15,00 € | F30: 23 | H30: 3.9 | I30: =IF(SUM(F30)<=0,0,F30*H30-(10*H30-D30)) -> 65.7 | J30: Hayet benmarouf | K30: Jessica | M30: Francois
A31: Francois | B31: 42543 | D31: =IF(ISBLANK(E31),"15,00 €",VLOOKUP(E31,TARIFPROM4,2,0)) -> 15,00 € | F31: 11 | H31: 3.9 | I31: =IF(SUM(F31)<=0,0,F31*H31-(10*H31-D31)) -> 18.9 | J31: viviane tarjus | K31: Jessica | M31: Francois
A32: Celine | B32: 42544 | D32: =IF(ISBLANK(E32),"15,00 €",VLOOKUP(E32,TARIFPROM4,2,0)) -> 15,00 € | F32: 13 | H32: 3.9 | I32: =IF(SUM(F32)<=0,0,F32*H32-(10*H32-D32)) -> 26.7 | J32: JEAN MICHEL VIDAL | K32: Jessica | M32: Julien
A33: Celine | B33: 42544 | D33: =IF(ISBLANK(E33),"15,00 €",VLOOKUP(E33,TARIFPROM4,2,0)) -> 15,00 € | F33: 10 | H33: 3.9 | I33: =IF(SUM(F33)<=0,0,F33*H33-(10*H33-D33)) -> 15 | J33: Agnes boury | K33: Jessica | M33: Julien
A34: Celine | B34: 42544 | D34: =IF(ISBLANK(E34),"15,00 €",VLOOKUP(E34,TARIFPROM4,2,0)) -> 15,00 € | F34: 25 | H34: 3.9 | I34: =IF(SUM(F34)<=0,0,F34*H34-(10*H34-D34)) -> 73.5 | J34: aurelie bruyas | K34: Jessica | M34: Celine
A35: Celine | B35: 42544 | D35: =IF(ISBLANK(E35),"15,00 €",VLOOKUP(E35,TARIFPROM4,2,0)) -> 15,00 € | F35: 118 | H35: 3.9 | I35: =IF(SUM(F35)<=0,0,F35*H35-(10*H35-D35)) -> 436.2 | J35: MARTINE FOUGERES | K35: Jessica | M35: Julien
A36: Celine | B36: 42544 | D36: =IF(ISBLANK(E36),"15,00 €",VLOOKUP(E36,TARIFPROM4,2,0)) -> 15,00 € | F36: 22 | H36: 3.9 | I36: =IF(SUM(F36)<=0,0,F36*H36-(10*H36-D36)) -> 61.8 | J36: timothée denjean | K36: Gabriel | M36: Julien
A37: Julien | B37: 42544 | D37: =IF(ISBLANK(E37),"15,00 €",VLOOKUP(E37,TARIFPROM4,2,0)) -> 15,00 € | F37: 10 | H37: 3.9 | I37: =IF(SUM(F37)<=0,0,F37*H37-(10*H37-D37)) -> 15 | J37: MICHELE MEAUX | K37: Gabriel | M37: Julien
A38: Julien | B38: 42544 | D38: =IF(ISBLANK(E38),"15,00 €",VLOOKUP(E38,TARIFPROM4,2,0)) -> 15,00 € | F38: 16 | H38: 3.9 | I38: =IF(SUM(F38)<=0,0,F38*H38-(10*H38-D38)) -> 38.4 | J38: MICHAEL CHIOUSSE | K38: Gabriel | M38: Pierre
A39: Julien | B39: 42544 | D39: =IF(ISBLANK(E39),"15,00 €",VLOOKUP(E39,TARIFPROM4,2,0)) -> 15,00 € | F39: 15 | H39: 3.9 | I39: =IF(SUM(F39)<=0,0,F39*H39-(10*H39-D39)) -> 34.5 | J39: sonia gasmi | K39: Jessica | M39: Julien
A40: Celine | B40: 42544 | D40: =IF(ISBLANK(E40),"15,00 €",VLOOKUP(E40,TARIFPROM4,2,0)) -> 15,00 € | F40: =9+21 -> 30 | H40: 3.9 | I40: =IF(SUM(F40)<=0,0,F40*H40-(10*H40-D40)) -> 93 | J40: Catherine Detienne | K40: Jessica | M40: Pierre
...

Sheet Recherche
B1: Panier moyen | C1: =C4/C2 -> 73.066667
B2: Nbre consults | C2: =SUBTOTAL(3,C9:C3176) -> 9
B3: durée hh:mm | C3: =SUBTOTAL(9,F9:F3176)/(24*60) -> 0.15555556 | D3: TMC | E3: =C3/C2 -> 0.017283951 | J3: MODULE DE RECHERCHE
B4: Total TTC | C4: =SUBTOTAL(9,I9:I3176) -> 657.6 | J4: PAS DE SAISIE
B5: Consultants HT | C5: =C4/1.2*0.25 -> 137
B6: Cabinet HT | C6: =C4/1.2-C5 -> 411
A8: standardiste | B8: date | C8: colonne1 | D8: BASE 10 min | E8: code promo | F8: Durée totale | G8: mn sup | H8: TAUX MN SUP | I8: TOTAL TTC | J8: Nom client | K8: NOM CONSULTANT | L8: SMS | M8: Encaissement | N8: COMMENTAIRES
A9: =Saisie!A9 -> Francois | B9: =Saisie!B9 -> 42542 | C9: =Saisie!C9 -> 0 | D9: =Saisie!D9 -> 15 | E9: =Saisie!E9 -> 0 | F9: =Saisie!F9 -> 49 | G9: =Saisie!G9 -> 0 | H9: =Saisie!H9 -> 3.9 | ... N9: =Saisie!N9 -> 0
A10: =Saisie!A10 -> Francois | B10: =Saisie!B10 -> 42542 | C10: =Saisie!C10 -> 0 | D10: =Saisie!D10 -> 15 | E10: =Saisie!E10 -> 0 | F10: =Saisie!F10 -> 37 | G10: =Saisie!G10 -> 0 | H10: =Saisie!H10 -> 3.9 | ... N10: =Saisie!N10 -> 0
A11: =Saisie!A11 -> Pierre | B11: =Saisie!B11 -> 42542 | C11: =Saisie!C11 -> 0 | D11: =Saisie!D11 -> 15 | E11: =Saisie!E11 -> 0 | F11: =Saisie!F11 -> 10 | G11: =Saisie!G11 -> 0 | H11: =Saisie!H11 -> 3.9 | ... N11: =Saisie!N11 -> 0
A12: =Saisie!A12 -> Pierre | B12: =Saisie!B12 -> 42542 | C12: =Saisie!C12 -> 0 | D12: =Saisie!D12 -> 15 | E12: =Saisie!E12 -> 0 | F12: =Saisie!F12 -> 20 | G12: =Saisie!G12 -> 0 | H12: =Saisie!H12 -> 3.9 | ... N12: =Saisie!N12 -> 0
A13: =Saisie!A13 -> Pierre | B13: =Saisie!B13 -> 42542 | C13: =Saisie!C13 -> 0 | D13: =Saisie!D13 -> 15 | E13: =Saisie!E13 -> 0 | F13: =Saisie!F13 -> 29 | G13: =Saisie!G13 -> 0 | H13: =Saisie!H13 -> 3.9 | ... N13: =Saisie!N13 -> 0
A14: =Saisie!A14 -> Pierre | B14: =Saisie!B14 -> 42542 | C14: =Saisie!C14 -> 0 | D14: =Saisie!D14 -> 15 | E14: =Saisie!E14 -> 0 | F14: =Saisie!F14 -> 10 | G14: =Saisie!G14 -> 0 | H14: =Saisie!H14 -> 3.9 | ... N14: =Saisie!N14 -> 0
A15: =Saisie!A15 -> Celine | B15: =Saisie!B15 -> 42542 | C15: =Saisie!C15 -> 0 | D15: =Saisie!D15 -> 15 | E15: =Saisie!E15 -> 0 | F15: =Saisie!F15 -> 10 | G15: =Saisie!G15 -> 0 | H15: =Saisie!H15 -> 3.9 | ... N15: =Saisie!N15 -> 0
A16: =Saisie!A16 -> Francois | B16: =Saisie!B16 -> 42542 | C16: =Saisie!C16 -> 0 | D16: =Saisie!D16 -> 15 | E16: =Saisie!E16 -> 0 | F16: =Saisie!F16 -> 31 | G16: =Saisie!G16 -> 0 | H16: =Saisie!H16 -> 3.9 | ... N16: =Saisie!N16 -> 0
A17: =Saisie!A17 -> Celine | B17: =Saisie!B17 -> 42543 | C17: =Saisie!C17 -> 0 | D17: =Saisie!D17 -> 15 | E17: =Saisie!E17 -> 0 | F17: =Saisie!F17 -> 12 | G17: =Saisie!G17 -> 0 | H17: =Saisie!H17 -> 3.9 | ... N17: =Saisie!N17 -> 0
A18: =Saisie!A18 -> Celine | B18: =Saisie!B18 -> 42543 | C18: =Saisie!C18 -> 0 | D18: =Saisie!D18 -> 15 | E18: =Saisie!E18 -> 0 | F18: =Saisie!F18 -> 10 | G18: =Saisie!G18 -> 0 | H18: =Saisie!H18 -> 3.9 | ... N18: =Saisie!N18 -> 0
A19: =Saisie!A19 -> Celine | B19: =Saisie!B19 -> 42543 | C19: =Saisie!C19 -> 0 | D19: =Saisie!D19 -> 15 | E19: =Saisie!E19 -> 0 | F19: =Saisie!F19 -> 18 | G19: =Saisie!G19 -> 0 | H19: =Saisie!H19 -> 3.9 | ... N19: =Saisie!N19 -> 0
A20: =Saisie!A20 -> Celine | B20: =Saisie!B20 -> 42543 | C20: =Saisie!C20 -> 0 | D20: =Saisie!D20 -> 15 | E20: =Saisie!E20 -> suivi | F20: =Saisie!F20 -> 25 | G20: =Saisie!G20 -> 0 | H20: =Saisie!H20 -> 3.9 | ... N20: =Saisie!N20 -> 0
... A427: =Saisie!A427 -> Pierre | B427: =Saisie!B427 -> 42564 | C427: =Saisie!C427 -> 0 | D427: =Saisie!D427 -> 15,00 € | E427: =Saisie!E427 -> 0 | F427: =Saisie!F427 -> 44 | G427: =Saisie!G427 -> 0 | H427: =Saisie!H427 -> 3.9 | ... N427: =Saisie!N427 -> 0
A428: =Saisie!#REF! -> #REF! | B428: =Saisie!#REF! -> #REF! | C428: =Saisie!#REF! -> #REF! | D428: =Saisie!#REF! -> #REF! | E428: =Saisie!#REF! -> #REF! | F428: =Saisie!#REF! -> #REF! | G428: =Saisie!#REF! -> #REF! | H428: =Saisie!#REF! -> #REF! | ... N428: =Saisie!#REF! -> #REF!
A429: =Saisie!A428 -> Pierre | B429: =Saisie!B428 -> 42564 | C429: =Saisie!C428 -> 0 | D429: =Saisie!D428 -> 15,00 € | E429: =Saisie!E428 -> 0 | F429: =Saisie!F428 -> 15 | G429: =Saisie!G428 -> 5 | H429: =Saisie!H428 -> 3.9 | ... N429: =Saisie!N428 -> 0
A430: =Saisie!A429 -> Pierre | B430: =Saisie!B429 -> 42564 | C430: =Saisie!C429 -> 0 | D430: =Saisie!D429 -> 15,00 € | E430: =Saisie!E429 -> 0 | F430: =Saisie!F429 -> 12 | G430: =Saisie!G429 -> 2 | H430: =Saisie!H429 -> 3.9 | ... N430: =Saisie!N429 -> 0
A431: =Saisie!A430 -> Pierre | B431: =Saisie!B430 -> 42564 | C431: =Saisie!C430 -> 0 | D431: =Saisie!D430 -> 15,00 € | E431: =Saisie!E430 -> 0 | F431: =Saisie!F430 -> 28 | G431: =Saisie!G430 -> 18 | H431: =Saisie!H430 -> 3.9 | ... N431: =Saisie!N430 -> 0
A432: =Saisie!A431 -> Julien | B432: =Saisie!B431 -> 42564 | C432: =Saisie!C431 -> 0 | D432: =Saisie!D431 -> 15,00 € | E432: =Saisie!E431 -> 0 | F432: =Saisie!F431 -> 24 | G432: =Saisie!G431 -> 14 | H432: =Saisie!H431 -> 3.9 | ... N432: =Saisie!N431 -> 0
A433: =Saisie!A432 -> Pierre | B433: =Saisie!B432 -> 42564 | C433: =Saisie!C432 -> 0 | D433: =Saisie!D432 -> 15,00 € | E433: =Saisie!E432 -> 0 | F433: =Saisie!F432 -> 39 | G433: =Saisie!G432 -> 29 | H433: =Saisie!H432 -> 3.9 | ... N433: =Saisie!N432 -> 0
A434: =Saisie!A433 -> Julien | B434: =Saisie!B433 -> 42564 | C434: =Saisie!C433 -> 0 | D434: =Saisie!D433 -> 15,00 € | E434: =Saisie!E433 -> 0 | F434: =Saisie!F433 -> 15 | G434: =Saisie!G433 -> 5 | H434: =Saisie!H433 -> 3.9 | ... N434: =Saisie!N433 -> 0
A435: =Saisie!A434 -> Julien | B435: =Saisie!B434 -> 42564 | C435: =Saisie!C434 -> 0 | D435: =Saisie!D434 -> 15,00 € | E435: =Saisie!E434 -> 0 | F435: =Saisie!F434 -> 10 | G435: =Saisie!G434 -> 0 | H435: =Saisie!H434 -> 3.9 | ... N435: =Saisie!N434 -> 0
A436: =Saisie!A435 -> Julien | B436: =Saisie!B435 -> 42564 | C436: =Saisie!C435 -> 0 | D436: =Saisie!D435 -> 15,00 € | E436: =Saisie!E435 -> 0 | F436: =Saisie!F435 -> 27 | G436: =Saisie!G435 -> 17 | H436: =Saisie!H435 -> 3.9 | ... N436: =Saisie!N435 -> 0
A437: =Saisie!A436 -> Francois | B437: =Saisie!B436 -> 42564 | C437: =Saisie!C436 -> 0 | D437: =Saisie!D436 -> 15,00 € | E437: =Saisie!E436 -> 0 | F437: =Saisie!F436 -> 10 | G437: =Saisie!G436 -> 0 | H437: =Saisie!H436 -> 3.9 | ... N437: =Saisie!N436 -> 0
A438: =Saisie!#REF! -> #REF! | B438: =Saisie!#REF! -> #REF! | C438: =Saisie!#REF! -> #REF! | D438: =Saisie!#REF! -> #REF! | E438: =Saisie!#REF! -> #REF! | F438: =Saisie!#REF! -> #REF! | G438: =Saisie!#REF! -> #REF! | H438: =Saisie!#REF! -> #REF! | ... N438: =Saisie!#REF! -> #REF!
A439: =Saisie!A437 -> Francois | B439: =Saisie!B437 -> 42564 | C439: =Saisie!C437 -> 0 | D439: =Saisie!D437 -> 15,00 € | E439: =Saisie!E437 -> 0 | F439: =Saisie!F437 -> 24 | G439: =Saisie!G437 -> 14 | H439: =Saisie!H437 -> 3.9 | ... N439: =Saisie!N437 -> 0
A440: =Saisie!A438 -> Francois | B440: =Saisie!B438 -> 42564 | C440: =Saisie!C438 -> 0 | D440: =Saisie!D438 -> 15,00 € | E440: =Saisie!E438 -> 0 | F440: =Saisie!F438 -> 19 | G440: =Saisie!G438 -> 9 | H440: =Saisie!H438 -> 3.9 | ... N440: =Saisie!N438 -> 0
A441: =Saisie!A439 -> Julien | B441: =Saisie!B439 -> 42564 | C441: =Saisie!C439 -> 0 | D441: =Saisie!D439 -> 15,00 € | E441: =Saisie!E439 -> 0 | F441: =Saisie!F439 -> 10 | G441: =Saisie!G439 -> 0 | H441: =Saisie!H439 -> 3.9 | ... N441: =Saisie!N439 -> 0
A442: =Saisie!A440 -> Julien | B442: =Saisie!B440 -> 42564 | C442: =Saisie!C440 -> 0 | D442: =Saisie!D440 -> 15,00 € | E442: =Saisie!E440 -> 0 | F442: =Saisie!F440 -> 10 | G442: =Saisie!G440 -> 0 | H442: =Saisie!H440 -> 3.9 | ... N442: =Saisie!N440 -> 0
A443: =Saisie!A441 -> Julien | B443: =Saisie!B441 -> 42564 | C443: =Saisie!C441 -> 0 | D443: =Saisie!D441 -> 15,00 € | E443: =Saisie!E441 -> 0 | F443: =Saisie!F441 -> 10 | G443: =Saisie!G441 -> 0 | H443: =Saisie!H441 -> 3.9 | ... N443: =Saisie!N441 -> 0
A444: =Saisie!A442 -> Francois | B444: =Saisie!B442 -> 42565 | C444: =Saisie!C442 -> 0 | D444: =Saisie!D442 -> 15,00 € | E444: =Saisie!E442 -> 0 | F444: =Saisie!F442 -> 13 | G444: =Saisie!G442 -> 3 | H444: =Saisie!H442 -> 3.9 | ... N444: =Saisie!N442 -> 0
A445: =Saisie!A443 -> Celine | B445: =Saisie!B443 -> 42565 | C445: =Saisie!C443 -> 0 | D445: =Saisie!D443 -> 15,00 € | E445: =Saisie!E443 -> 0 | F445: =Saisie!F443 -> 15 | G445: =Saisie!G443 -> 5 | H445: =Saisie!H443 -> 3.9 | ... N445: =Saisie!N443 -> 0
A446: =Saisie!A444 -> Celine | B446: =Saisie!B444 -> 42565 | C446: =Saisie!C444 -> 0 | D446: =Saisie!D444 -> 15,00 € | E446: =Saisie!E444 -> 0 | F446: =Saisie!F444 -> 52 | G446: =Saisie!G444 -> 42 | H446: =Saisie!H444 -> 3.9 | ... N446: =Saisie!N444 -> 0
A447: =Saisie!A445 -> Julien | B447: =Saisie!B445 -> 42565 | C447: =Saisie!C445 -> 0 | D447: =Saisie!D445 -> 15,00 € | E447: =Saisie!E445 -> 0 | F447: =Saisie!F445 -> 15 | G447: =Saisie!G445 -> 5 | H447: =Saisie!H445 -> 3.9 | ... N447: =Saisie!N445 -> 0
...

Sheet Formules
D1: en cours | E1: Francois | H1: Claudia
D2: attente | E2: Pierre | H2: Elena
D3: RDV | E3: Julien | H3: Jessica
E4: Celine | H4: Gabriel
H5: Catherine
H6: Clara
A17: Claudia
A18: Elena
A19: Jessica
A20: Gabriel
A21: Karine
A22: Catherine
A35: Francois
A36: Pierre
A37: Julien
D43: 15
D44: 1
