Workbook
Name Cabinet: Formules!$A$2:$A$5
Name CABINETV: Saisie!#REF!
Name CABINETVV: Saisie!#REF!
Name CABINETVVV: Saisie!#REF!
Name codpro2: Formules!$A$43:$A$53
Name codprom: Formules!$A$44:$A$51
Name CV: Saisie!#REF!
Name FA: Saisie!#REF!
Name FM: Saisie!#REF!
Name FV: Saisie!#REF!
Name heuredatefixe: Formules!#REF!
Name listcab09: Formules!$A$2:$A$13
Name LISTEC: Formules!$F$1:$F$11
Name LISTEC2: Formules!$F$1:$F$7
Name LISTEC3: Formules!$A$1:$A$16
Name LISTEC4: Formules!$A$1:$A$10
Name LISTEC5: Formules!$A$2:$A$9
Name listec6: Formules!$A$2:$A$12
Name listec7: Formules!$A$2:$A$11
Name LISTEVOYANTS: Formules!$H$1:$H$38
Name LISTEVOYANTS1: Formules!$H$1:$H$9
Name LISTEVOYANTS2: Formules!$H$1:$H$7
Name prixparcabinet: Saisie!#REF!
Name Tarif: Formules!$B$2:$B$5
Name TARIFCABINET: Formules!$A$2:$B$15
Name TARIFPROM2: Formules!$A$43:$B$51
Name TARIFPROM3: Formules!$B$43:$B$54
Name TARIFPROM4: Formules!$A$43:$B$54
Name TARIFPROMOS: Formules!$A$43:$B$50
Name TARIFPROMOS2: Formules!$A$1:$B$15
Name TARIFPROMTEST: Formules!$A$43:$B$49

Sheet Saisie
A1: Total TTC | B1: =SUBTOTAL(9,I8:I570) -> 53.4 | C1: Panier moyen | D1: =B1/D2 -> 17.8 | E1: =+B1-SUM(H2:H6) -> 0 | F1: consultant | H1: CA TTC | I1: Reversement HT | J1: Nombre Consults | K1: Panier Moyen | L1: Durées totales | M1: TMC
A2: Total HT | B2: =B1/1.2 -> 44.5 | C2: Nbre consults | D2: =SUBTOTAL(3,F9:F570) -> 3 | E2: =+B1-SUM(B5:D5) -> 0 | F2: Claudia | H2: =SUMPRODUCT(SUBTOTAL(9,OFFSET(I8,ROW(INDIRECT("1:"&ROWS(I9:I570))),))*(K9:K570="Claudia")) -> 38.4 | I2: =H2/1.2*0.3 -> 9.6 | J2: =SUMPRODUCT(SUBTOTAL(3,OFFSET(I8,ROW(INDIRECT("1:"&ROWS(I9:I570))),))*(K9:K570="Claudia")) -> 2 | K2: =H2/J2 -> 19.2 | L2: =SUMPRODUCT(SUBTOTAL(9,OFFSET(F8,ROW(INDIRECT("1:"&ROWS(F9:F570))),))*(K9:K570="Claudia"))/(24*60) -> 0.011111111 | M2: =L2/J2 -> 0.0055555556
A3: Consultants HT | B3: =SUM(I2:I6) -> 12.725 | C3: durée hh:mm:ss | D3: =SUBTOTAL(9,F9:F570)/(24*60) -> 0.018055556 | E3: =+B3-SUM(I2:I6) -> 0 | F3: Gabriel | H3: =SUMPRODUCT(SUBTOTAL(9,OFFSET(I8,ROW(INDIRECT("1:"&ROWS(I9:I570))),))*(K9:K570="Gabriel")) -> 0 | I3: =H3/1.2*0.25 -> 0 | J3: =SUMPRODUCT(SUBTOTAL(3,OFFSET(I8,ROW(INDIRECT("1:"&ROWS(I9:I570))),))*(K9:K570="Gabriel")) -> 0 | K3: =H3/J3 -> #DIV/0! | L3: =SUMPRODUCT(SUBTOTAL(9,OFFSET(F8,ROW(INDIRECT("1:"&ROWS(F9:F570))),))*(K9:K570="Gabriel"))/(24*60) -> 0 | M3: =L3/J3 -> #DIV/0!
A4: Cabinet HT | B4: =B1/1.2-B3 -> 31.775 | C4: TMC | D4: =D3/D2 -> 0.0060185185 | F4: Jessica | H4: =SUMPRODUCT(SUBTOTAL(9,OFFSET(I8,ROW(INDIRECT("1:"&ROWS(I9:I570))),))*(K9:K570="Jessica")) -> 15 | I4: =H4/1.2*0.25 -> 3.125 | J4: =SUMPRODUCT(SUBTOTAL(3,OFFSET(I8,ROW(INDIRECT("1:"&ROWS(I9:I570))),))*(K9:K570="Jessica")) -> 1 | K4: =H4/J4 -> 15 | L4: =SUMPRODUCT(SUBTOTAL(9,OFFSET(F8,ROW(INDIRECT("1:"&ROWS(F9:F570))),))*(K9:K570="Jessica"))/(24*60) -> 0.0069444444 | M4: =L4/J4 -> 0.0069444444
A5: sans promo | B5: =B1-D5 -> 53.4 | C5: promo | D5: =SUMPRODUCT(SUBTOTAL(9,OFFSET(I8,ROW(INDIRECT("1:"&ROWS(I9:I570))),))*(D9:D570<=14)) -> 0 | E5: =+B1-(B5+D5) -> 0 | F5: Clara | H5: =SUMPRODUCT(SUBTOTAL(9,OFFSET(I8,ROW(INDIRECT("1:"&ROWS(I9:I570))),))*(K9:K570="Clara")) -> 0 | I5: =H5/1.2*0.25 -> 0 | J5: =SUMPRODUCT(SUBTOTAL(3,OFFSET(I8,ROW(INDIRECT("1:"&ROWS(I9:I570))),))*(K9:K570="Clara")) -> 0 | K5: =H5/J5 -> #DIV/0! | L5: =SUMPRODUCT(SUBTOTAL(9,OFFSET(F8,ROW(INDIRECT("1:"&ROWS(F9:F570))),))*(K9:K570="Clara"))/(24*60) -> 0 | M5: =L5/J5 -> #DIV/0!
A6: sans promo % CA | B6: =B5/B1 -> 1 | C6: promo % CA | D6: =D5/B1 -> 0 | F6: Elena | H6: =SUMPRODUCT(SUBTOTAL(9,OFFSET(I8,ROW(INDIRECT("1:"&ROWS(I9:I570))),))*(K9:K570="Elena")) -> 0 | I6: =H6/1.2*0.25 -> 0 | J6: =SUMPRODUCT(SUBTOTAL(3,OFFSET(I8,ROW(INDIRECT("1:"&ROWS(I9:I570))),))*(K9:K570="Elena")) -> 0 | K6: =H6/J6 -> #DIV/0! | L6: =SUMPRODUCT(SUBTOTAL(9,OFFSET(F8,ROW(INDIRECT("1:"&ROWS(F9:F570))),))*(K9:K570="Elena"))/(24*60) -> 0 | M6: =L6/J6 -> #DIV/0!
A7: Nbre sans promos | B7: =D2-D7 -> 3 | C7: Nbre promos | D7: =SUMPRODUCT(SUBTOTAL(3,OFFSET(F8,ROW(INDIRECT("1:"&ROWS(F9:F570))),))*(D9:D570<=14)) -> 0
A8: standardiste | B8: date | C8: Colonne1 | D8: BASE 10 min | E8: code promo | F8: minutes | G8: mn sup | H8: TAUX MN SUP | I8: TOTAL TTC | J8: Nom Client | K8: Consultant | L8: SMS | M8: Encaissement | N8: COMMENTAIRES | O8: verif encaissement ogone
A9: Francois | B9: 42542 | D9: 15 | F9: 49 | H9: 3.9 | I9: =IF(SUM(F9)<=0,0,F9*H9-(10*H9-D9)) -> 167.1 | J9: aurelie bruyas | K9: Jessica | M9: Celine
A10: Francois | B10: 42542 | D10: 15 | F10: 37 | H10: 3.9 | I10: =IF(SUM(F10)<=0,0,F10*H10-(10*H10-D10)) -> 120.3 | J10: sonia gasmi | K10: Jessica | M10: Celine
A11: Pierre | B11: 42542 | D11: 15 | F11: 10 | H11: 3.9 | I11: =IF(SUM(F11)<=0,0,F11*H11-(10*H11-D11)) -> 15 | J11: Sandra Furtaro | K11: Jessica | M11: Pierre
A12: Pierre | B12: 42542 | D12: 15 | F12: 20 | H12: 3.9 | I12: =IF(SUM(F12)<=0,0,F12*H12-(10*H12-D12)) -> 54 | J12: NADIA NANI | K12: Gabriel | M12: Pierre
A13: Pierre | B13: 42542 | D13: 15 | F13: 29 | H13: 3.9 | I13: =IF(SUM(F13)<=0,0,F13*H13-(10*H13-D13)) -> 89.1 | J13: Laurence Bonrepaux | K13: Gabriel | M13: Pierre
A14: Pierre | B14: 42542 | D14: 15 | F14: 10 | H14: 3.9 | I14: =IF(SUM(F14)<=0,0,F14*H14-(10*H14-D14)) -> 15 | J14: Jacqueline Marin resse | K14: Gabriel | M14: Pierre
A15: Celine | B15: 42542 | D15: 15 | F15: 10 | H15: 3.9 | I15: =IF(SUM(F15)<=0,0,F15*H15-(10*H15-D15)) -> 15 | J15: SANDRA CHUNG | K15: Gabriel | M15: Francois
A16: Francois | B16: 42542 | D16: 15 | F16: 31 | H16: 3.9 | I16: =IF(SUM(F16)<=0,0,F16*H16-(10*H16-D16)) -> 96.9 | J16: eric sibisnki | K16: Claudia | M16: Francois
A17: Celine | B17: 42543 | D17: 15 | F17: 12 | H17: 3.9 | I17: =IF(SUM(F17)<=0,0,F17*H17-(10*H17-D17)) -> 22.8 | J17: ABDEL BENSSA | K17: Jessica | M17: Celine
A18: Celine | B18: 42543 | D18: 15 | F18: 10 | H18: 3.9 | I18: =IF(SUM(F18)<=0,0,F18*H18-(10*H18-D18)) -> 15 | J18: Agnes boury | K18: Jessica | M18: Celine
A19: Celine | B19: 42543 | D19: 15 | F19: 18 | H19: 3.9 | I19: =IF(SUM(F19)<=0,0,F19*H19-(10*H19-D19)) -> 46.2 | J19: aurelie bruyas | K19: Jessica | M19: Celine
A20: Celine | B20: 42543 | D20: 15 | E20: suivi | F20: 25 | H20: 3.9 | I20: =IF(SUM(F20)<=0,0,F20*H20-(10*H20-D20)) -> 73.5 | J20: Dominique Guilloux | K20: Claudia | M20: Julien
A21: Julien | B21: 42543 | D21: 15 | E21: suivi | F21: 27 | H21: 3.9 | I21: =IF(SUM(F21)<=0,0,F21*H21-(10*H21-D21)) -> 81.3 | J21: Evelyne Britelle | K21: Gabriel | M21: Julien
A22: Julien | B22: 42543 | D22: 15 | E22: sms16 | F22: 12 | H22: 3.9 | I22: =IF(SUM(F22)<=0,0,F22*H22-(10*H22-D22)) -> 22.8 | J22: SEVERINE MONNIER | K22: Claudia | M22: Julien
A23: Pierre | B23: 42543 | D23: 15 | F23: 34 | H23: 3.9 | I23: =IF(SUM(F23)<=0,0,F23*H23-(10*H23-D23)) -> 108.6 | J23: Claudette Provost | K23: Gabriel | M23: Julien
A24: Julien | B24: 42543 | D24: 15 | E24: AS03 | F24: 14 | H24: 3.9 | I24: =IF(SUM(F24)<=0,0,F24*H24-(10*H24-D24)) -> 30.6 | J24: LUTENE LOUIS | K24: Claudia | M24: Julien
A25: Pierre | B25: 42543 | D25: 15 | F25: 14 | H25: 3.9 | I25: =IF(SUM(F25)<=0,0,F25*H25-(10*H25-D25)) -> 30.6 | J25: Sarah Grenier | K25: Gabriel | M25: Pierre
A26: Pierre | B26: 42543 | D26: 15 | E26: suivi | F26: 31 | H26: 3.9 | I26: =IF(SUM(F26)<=0,0,F26*H26-(10*H26-D26)) -> 96.9 | J26: ISABELLE ARTAUD | K26: Gabriel | M26: Julien
A27: Francois | B27: 42543 | D27: 15 | F27: 42 | H27: 3.9 | I27: =IF(SUM(F27)<=0,0,F27*H27-(10*H27-D27)) -> 139.8 | J27: Beatrice Braud | K27: Gabriel | M27: Francois
A28: Francois | B28: 42543 | D28: 15 | F28: 11 | H28: 3.9 | I28: =IF(SUM(F28)<=0,0,F28*H28-(10*H28-D28)) -> 18.9 | J28: anne marie Ramos | K28: Claudia | M28: Francois
A29: Francois | B29: 42543 | D29: 15 | F29: 21 | H29: 3.9 | I29: =IF(SUM(F29)<=0,0,F29*H29-(10*H29-D29)) -> 57.9 | J29: Sandra Furtaro | K29: Jessica | M29: Francois
A30: Francois | B30: 42543 | D30: =IF(ISBLANK(E30),"15,00 €",VLOOKUP(E30,TARIFPROM4,2,0)) -> 15,00 € | F30: 23 | H30: 3.9 | I30: =IF(SUM(F30)<=0,0,F30*H30-(10*H30-D30)) -> 65.7 | J30: Hayet benmarouf | K30: Jessica | M30: Francois
A31: Francois | B31: 42543 | D31: =IF(ISBLANK(E31),"15,00 €",VLOOKUP(E31,TARIFPROM4,2,0)) -> 15,00 € | F31: 11 | H31: 3.9 | I31: =IF(SUM(F31)<=0,0,F31*H31-(10*H31-D31)) -> 18.9 | J31: viviane tarjus | K31: Jessica | M31: Francois
A32: Celine | B32: 42544 | D32: =IF(ISBLANK(E32),"15,00 €",VLOOKUP(E32,TARIFPROM4,2,0)) -> 15,00 € | F32: 13 | H32: 3.9 | I32: =IF(SUM(F32)<=0,0,F32*H32-(10*H32-D32)) -> 26.7 | J32: JEAN MICHEL VIDAL | K32: Jessica | M32: Julien
A33: Celine | B33: 42544 | D33: =IF(ISBLANK(E33),"15,00 €",VLOOKUP(E33,TARIFPROM4,2,0)) -> 15,00 € | F33: 10 | H33: 3.9 | I33: =IF(SUM(F33)<=0,0,F33*H33-(10*H33-D33)) -> 15 | J33: Agnes boury | K33: Jessica | M33: Julien
A34: Celine | B34: 42544 | D34: =IF(ISBLANK(E34),"15,00 €",VLOOKUP(E34,TARIFPROM4,2,0)) -> 15,00 € | F34: 25 | H34: 3.9 | I34: =IF(SUM(F34)<=0,0,F34*H34-(10*H34-D34)) -> 73.5 | J34: aurelie bruyas | K34: Jessica | M34: Celine
A35: Celine | B35: 42544 | D35: =IF(ISBLANK(E35),"15,00 €",VLOOKUP(E35,TARIFPROM4,2,0)) -> 15,00 € | F35: 118 | H35: 3.9 | I35: =IF(SUM(F35)<=0,0,F35*H35-(10*H35-D35)) -> 436.2 | J35: MARTINE FOUGERES | K35: Jessica | M35: Julien
A36: Celine | B36: 42544 | D36: =IF(ISBLANK(E36),"15,00 €",VLOOKUP(E36,TARIFPROM4,2,0)) -> 15,00 € | F36: 22 | H36: 3.9 | I36: =IF(SUM(F36)<=0,0,F36*H36-(10*H36-D36)) -> 61.8 | J36: timothée denjean | K36: Gabriel | M36: Julien
A37: Julien | B37: 42544 | D37: =IF(ISBLANK(E37),"15,00 €",VLOOKUP(E37,TARIFPROM4,2,0)) -> 15,00 € | F37: 10 | H37: 3.9 | I37: =IF(SUM(F37)<=0,0,F37*H37-(10*H37-D37)) -> 15 | J37: MICHELE MEAUX | K37: Gabriel | M37: Julien
A38: Julien | B38: 42544 | D38: =IF(ISBLANK(E38),"15,00 €",VLOOKUP(E38,TARIFPROM4,2,0)) -> 15,00 € | F38: 16 | H38: 3.9 | I38: =IF(SUM(F38)<=0,0,F38*H38-(10*H38-D38)) -> 38.4 | J38: MICHAEL CHIOUSSE | K38: Gabriel | M38: Pierre
A39: Julien | B39: 42544 | D39: =IF(ISBLANK(E39),"15,00 €",VLOOKUP(E39,TARIFPROM4,2,0)) -> 15,00 € | F39: 15 | H39: 3.9 | I39: =IF(SUM(F39)<=0,0,F39*H39-(10*H39-D39)) -> 34.5 | J39: sonia gasmi | K39: Jessica | M39: Julien
A40: Celine | B40: 42544 | D40: =IF(ISBLANK(E40),"15,00 €",VLOOKUP(E40,TARIFPROM4,2,0)) -> 15,00 € | F40: =9+21 -> 30 | H40: 3.9 | I40: =IF(SUM(F40)<=0,0,F40*H40-(10*H40-D40)) -> 93 | J40: Catherine Detienne | K40: Jessica | M40: Pierre
A41: Pierre | B41: 42544 | D41: =IF(ISBLANK(E41),"15,00 €",VLOOKUP(E41,TARIFPROM4,2,0)) -> 15,00 € | F41: 22 | H41: 3.9 | I41: =IF(SUM(F41)<=0,0,F41*H41-(10*H41-D41)) -> 61.8 | J41: muriel gentes | K41: Gabriel | M41: Pierre
A42: Pierre | B42: 42544 | D42: =IF(ISBLANK(E42),"15,00 €",VLOOKUP(E42,TARIFPROM4,2,0)) -> 15,00 € | F42: 26 | H42: 3.9 | I42: =IF(SUM(F42)<=0,0,F42*H42-(10*H42-D42)) -> 77.4 | J42: Laura Dos Santos | K42: Gabriel | M42: Pierre
A43: Pierre | B43: 42544 | D43: =IF(ISBLANK(E43),"15,00 €",VLOOKUP(E43,TARIFPROM4,2,0)) -> 15,00 € | F43: 12 | H43: 3.9 | I43: =IF(SUM(F43)<=0,0,F43*H43-(10*H43-D43)) -> 22.8 | J43: danny maneuf | K43: Gabriel | M43: Pierre
A44: Pierre | B44: 42544 | D44: =IF(ISBLANK(E44),"15,00 €",VLOOKUP(E44,TARIFPROM4,2,0)) -> 15,00 € | F44: 17 | H44: 3.9 | I44: =IF(SUM(F44)<=0,0,F44*H44-(10*H44-D44)) -> 42.3 | J44: Laetitia Guittenit | K44: Claudia | M44: Pierre
A45: Julien | B45: 42544 | D45: =IF(ISBLANK(E45),"15,00 €",VLOOKUP(E45,TARIFPROM4,2,0)) -> 15,00 € | F45: 13 | H45: 3.9 | I45: =IF(SUM(F45)<=0,0,F45*H45-(10*H45-D45)) -> 26.7 | J45: ARLETTE COLSON | K45: Gabriel | M45: Pierre
A46: Pierre | B46: 42544 | D46: =IF(ISBLANK(E46),"15,00 €",VLOOKUP(E46,TARIFPROM4,2,0)) -> 15,00 € | F46: 12 | H46: 3.9 | I46: =IF(SUM(F46)<=0,0,F46*H46-(10*H46-D46)) -> 22.8 | J46: Monique Veerkamp | K46: Gabriel | M46: Pierre
A47: Pierre | B47: 42544 | D47: =IF(ISBLANK(E47),"15,00 €",VLOOKUP(E47,TARIFPROM4,2,0)) -> 15,00 € | F47: 17 | H47: 3.9 | I47: =IF(SUM(F47)<=0,0,F47*H47-(10*H47-D47)) -> 42.3 | J47: helene Boulestin | K47: Jessica | M47: Pierre
A48: Pierre | B48: 42544 | D48: =IF(ISBLANK(E48),"15,00 €",VLOOKUP(E48,TARIFPROM4,2,0)) -> 15,00 € | F48: 14 | H48: 3.9 | I48: =IF(SUM(F48)<=0,0,F48*H48-(10*H48-D48)) -> 30.6 | J48: Pascale Durand | K48: Jessica | M48: Pierre
A49: Pierre | B49: 42544 | D49: =IF(ISBLANK(E49),"15,00 €",VLOOKUP(E49,TARIFPROM4,2,0)) -> 15,00 € | F49: 16 | H49: 3.9 | I49: =IF(SUM(F49)<=0,0,F49*H49-(10*H49-D49)) -> 38.4 | J49: NATACHA LAURET | K49: Claudia | M49: Pierre
A50: Julien | B50: 42545 | D50: =IF(ISBLANK(E50),"15,00 €",VLOOKUP(E50,TARIFPROM4,2,0)) -> 15,00 € | F50: 33 | H50: 3.9 | I50: =IF(SUM(F50)<=0,0,F50*H50-(10*H50-D50)) -> 104.7 | J50: aurelie bruyas | K50: Jessica | M50: Julien
A51: Francois | B51: 42545 | D51: =IF(ISBLANK(E51),"15,00 €",VLOOKUP(E51,TARIFPROM4,2,0)) -> 15,00 € | F51: 40 | H51: 3.9 | I51: =IF(SUM(F51)<=0,0,F51*H51-(10*H51-D51)) -> 132 | J51: Juliette Cotard | K51: Jessica | M51: Julien
A52: Francois | B52: 42545 | D52: =IF(ISBLANK(E52),"15,00 €",VLOOKUP(E52,TARIFPROM4,2,0)) -> 15,00 € | F52: 24 | H52: 3.9 | I52: =IF(SUM(F52)<=0,0,F52*H52-(10*H52-D52)) -> 69.6 | J52: michele Porez | K52: Claudia | M52: Julien
... A104: Julien | B104: 42548 | D104: =IF(ISBLANK(E104),"15,00 €",VLOOKUP(E104,TARIFPROM4,2,0)) -> 15,00 € | F104: 38 | H104: 3.9 | I104: =IF(SUM(F104)<=0,0,F104*H104-(10*H104-D104)) -> 124.2 | J104: PEGGY MENAGER | K104: Clara | M104: Julien
A105: Julien | B105: 42548 | D105: 1 | F105: 52 | H105: 3.9 | I105: =IF(SUM(F105)<=0,0,F105*H105-(10*H105-D105)) -> 164.8 | J105: Monique Sommavilla | K105: Gabriel | M105: Julien
A106: Francois | B106: 42548 | D106: =IF(ISBLANK(E106),"15,00 €",VLOOKUP(E106,TARIFPROM4,2,0)) -> 15,00 € | F106: 33 | H106: 3.9 | I106: =IF(SUM(F106)<=0,0,F106*H106-(10*H106-D106)) -> 104.7 | J106: EMILIE HANELAT | K106: Clara | M106: Julien
A107: Pierre | B107: 42549 | D107: =IF(ISBLANK(E107),"15,00 €",VLOOKUP(E107,TARIFPROM4,2,0)) -> 15,00 € | F107: 10 | H107: 3.9 | I107: =IF(SUM(F107)<=0,0,F107*H107-(10*H107-D107)) -> 15 | J107: laetitia Peslerbe | K107: Jessica | M107: Julien
A108: Pierre | B108: 42549 | D108: =IF(ISBLANK(E108),"15,00 €",VLOOKUP(E108,TARIFPROM4,2,0)) -> 15,00 € | F108: 10 | H108: 3.9 | I108: =IF(SUM(F108)<=0,0,F108*H108-(10*H108-D108)) -> 15 | J108: JEAN CLAUDE GLAUZY | K108: Jessica | M108: Pierre
A109: Pierre | B109: 42549 | D109: =IF(ISBLANK(E109),"15,00 €",VLOOKUP(E109,TARIFPROM4,2,0)) -> 15,00 € | F109: 10 | H109: 3.9 | I109: =IF(SUM(F109)<=0,0,F109*H109-(10*H109-D109)) -> 15 | J109: Josiane Le guioux | K109: Jessica | M109: Pierre
A110: Pierre | B110: 42549 | D110: =IF(ISBLANK(E110),"15,00 €",VLOOKUP(E110,TARIFPROM4,2,0)) -> 15,00 € | F110: 17 | H110: 3.9 | I110: =IF(SUM(F110)<=0,0,F110*H110-(10*H110-D110)) -> 42.3 | J110: Sylvie Laroche | K110: Claudia | M110: Julien
A111: Pierre | B111: 42549 | D111: =IF(ISBLANK(E111),"15,00 €",VLOOKUP(E111,TARIFPROM4,2,0)) -> 15,00 € | F111: 19 | H111: 3.9 | I111: =IF(SUM(F111)<=0,0,F111*H111-(10*H111-D111)) -> 50.1 | J111: Florence Faure | K111: Claudia | M111: Julien
A112: Pierre | B112: 42549 | D112: =IF(ISBLANK(E112),"15,00 €",VLOOKUP(E112,TARIFPROM4,2,0)) -> 15,00 € | F112: 18 | H112: 3.9 | I112: =IF(SUM(F112)<=0,0,F112*H112-(10*H112-D112)) -> 46.2 | J112: sonia gasmi | K112: Jessica | M112: Julien
A113: Pierre | B113: 42549 | D113: =IF(ISBLANK(E113),"15,00 €",VLOOKUP(E113,TARIFPROM4,2,0)) -> 15,00 € | F113: 11 | H113: 3.9 | I113: =IF(SUM(F113)<=0,0,F113*H113-(10*H113-D113)) -> 18.9 | J113: JUlie Ghamassia | K113: Claudia | M113: Pierre
A114: Pierre | B114: 42549 | D114: =IF(ISBLANK(E114),"15,00 €",VLOOKUP(E114,TARIFPROM4,2,0)) -> 15,00 € | F114: 16 | H114: 3.9 | I114: =IF(SUM(F114)<=0,0,F114*H114-(10*H114-D114)) -> 38.4 | J114: Marie Anne Capdeville | K114: Jessica | M114: Pierre
A115: Pierre | B115: 42549 | D115: =IF(ISBLANK(E115),"15,00 €",VLOOKUP(E115,TARIFPROM4,2,0)) -> 15,00 € | F115: 13 | H115: 3.9 | I115: =IF(SUM(F115)<=0,0,F115*H115-(10*H115-D115)) -> 26.7 | J115: NATACHA LAURET | K115: Claudia | M115: Pierre
A116: Pierre | B116: 42549 | D116: =IF(ISBLANK(E116),"15,00 €",VLOOKUP(E116,TARIFPROM4,2,0)) -> 15,00 € | F116: 14 | H116: 3.9 | I116: =IF(SUM(F116)<=0,0,F116*H116-(10*H116-D116)) -> 30.6 | J116: Caroline Clerc | K116: Gabriel | M116: Julien
A117: Pierre | B117: 42549 | D117: =IF(ISBLANK(E117),"15,00 €",VLOOKUP(E117,TARIFPROM4,2,0)) -> 15,00 € | F117: 10 | H117: 3.9 | I117: =IF(SUM(F117)<=0,0,F117*H117-(10*H117-D117)) -> 15 | J117: BRIGITTE DE PRATER | K117: Gabriel | M117: Julien
... A129: Julien | B129: 42550 | D129: =IF(ISBLANK(E129),"15,00 €",VLOOKUP(E129,TARIFPROM4,2,0)) -> 15,00 € | F129: 10 | H129: 3.9 | I129: =IF(SUM(F129)<=0,0,F129*H129-(10*H129-D129)) -> 15 | J129: Josiane Le guioux | K129: Jessica | M129: Julien
A130: Julien | B130: 42550 | D130: =IF(ISBLANK(E130),"15,00 €",VLOOKUP(E130,TARIFPROM4,2,0)) -> 15,00 € | F130: =9+20 -> 29 | H130: 3.9 | I130: =IF(SUM(F130)<=0,0,F130*H130-(10*H130-D130)) -> 89.1 | J130: Christelle Gautier | K130: Claudia | M130: Julien
A131: Julien | B131: 42550 | D131: =IF(ISBLANK(E131),"15,00 €",VLOOKUP(E131,TARIFPROM4,2,0)) -> 15,00 € | F131: 10 | H131: 3.9 | I131: =IF(SUM(F131)<=0,0,F131*H131-(10*H131-D131)) -> 15 | J131: Catherine Depretto | K131: Claudia | M131: Julien
A132: Julien | B132: 42550 | D132: =IF(ISBLANK(E132),"15,00 €",VLOOKUP(E132,TARIFPROM4,2,0)) -> 15,00 € | F132: 20 | H132: 3.9 | I132: =IF(SUM(F132)<=0,0,F132*H132-(10*H132-D132)) -> 54 | J132: Yacin Moublad | K132: Claudia | M132: Julien
A133: Julien | B133: 42550 | D133: =IF(ISBLANK(E133),"15,00 €",VLOOKUP(E133,TARIFPROM4,2,0)) -> 15,00 € | F133: 23 | H133: 3.9 | I133: =IF(SUM(F133)<=0,0,F133*H133-(10*H133-D133)) -> 65.7 | J133: BERIZA DHAHOUA | K133: Claudia | M133: Pierre
A134: Julien | B134: 42550 | D134: 1 | E134: promo | F134: 38 | H134: 3.9 | I134: =IF(SUM(F134)<=0,0,F134*H134-(10*H134-D134)) -> 110.2 | J134: FLORENCE REIDE | K134: Gabriel | M134: Pierre
A135: Julien | B135: 42550 | D135: =IF(ISBLANK(E135),"15,00 €",VLOOKUP(E135,TARIFPROM4,2,0)) -> 15,00 € | F135: 10 | H135: 3.9 | I135: =IF(SUM(F135)<=0,0,F135*H135-(10*H135-D135)) -> 15 | J135: Christiane Bouley | K135: Claudia | M135: Julien
A136: Pierre | B136: 42550 | D136: =IF(ISBLANK(E136),"15,00 €",VLOOKUP(E136,TARIFPROM4,2,0)) -> 15,00 € | F136: 36 | H136: 3.9 | I136: =IF(SUM(F136)<=0,0,F136*H136-(10*H136-D136)) -> 116.4 | J136: ALDY LAMOTHE | K136: Gabriel | M136: Pierre
A137: Pierre | B137: 42550 | D137: =IF(ISBLANK(E137),"15,00 €",VLOOKUP(E137,TARIFPROM4,2,0)) -> 15,00 € | F137: 13 | H137: 3.9 | I137: =IF(SUM(F137)<=0,0,F137*H137-(10*H137-D137)) -> 26.7 | J137: Nadia Maissoui | K137: Claudia | M137: Pierre
A138: Pierre | B138: 42550 | D138: =IF(ISBLANK(E138),"15,00 €",VLOOKUP(E138,TARIFPROM4,2,0)) -> 15,00 € | F138: 42 | H138: 3.9 | I138: =IF(SUM(F138)<=0,0,F138*H138-(10*H138-D138)) -> 139.8 | J138: Laurence Bonrepaux | K138: Gabriel | M138: Pierre
A139: Pierre | B139: 42550 | D139: =IF(ISBLANK(E139),"15,00 €",VLOOKUP(E139,TARIFPROM4,2,0)) -> 15,00 € | F139: 26 | H139: 3.9 | I139: =IF(SUM(F139)<=0,0,F139*H139-(10*H139-D139)) -> 77.4 | J139: sonia gasmi | K139: Jessica | M139: Julien
A140: Pierre | B140: 42550 | D140: =IF(ISBLANK(E140),"15,00 €",VLOOKUP(E140,TARIFPROM4,2,0)) -> 15,00 € | F140: 28 | H140: 3.9 | I140: =IF(SUM(F140)<=0,0,F140*H140-(10*H140-D140)) -> 85.2 | J140: Daisy Cattier | K140: Clara | M140: Pierre
A141: Pierre | B141: 42550 | D141: =IF(ISBLANK(E141),"15,00 €",VLOOKUP(E141,TARIFPROM4,2,0)) -> 15,00 € | F141: 20 | H141: 3.9 | I141: =IF(SUM(F141)<=0,0,F141*H141-(10*H141-D141)) -> 54 | J141: VANESSA DENION | K141: Clara | M141: Pierre
A142: Pierre | B142: 42550 | D142: =IF(ISBLANK(E142),"15,00 €",VLOOKUP(E142,TARIFPROM4,2,0)) -> 15,00 € | F142: 35 | H142: 3.9 | I142: =IF(SUM(F142)<=0,0,F142*H142-(10*H142-D142)) -> 112.5 | J142: antoine meunier | K142: Gabriel | M142: Celine
A143: Celine | B143: 42550 | D143: =IF(ISBLANK(E143),"15,00 €",VLOOKUP(E143,TARIFPROM4,2,0)) -> 15,00 € | F143: 27 | H143: 3.9 | I143: =IF(SUM(F143)<=0,0,F143*H143-(10*H143-D143)) -> 81.3 | J143: CLAUDE MAILLET | K143: Claudia | M143: Julien
A144: Julien | B144: 42550 | D144: =IF(ISBLANK(E144),"15,00 €",VLOOKUP(E144,TARIFPROM4,2,0)) -> 15,00 € | F144: 17 | H144: 3.9 | I144: =IF(SUM(F144)<=0,0,F144*H144-(10*H144-D144)) -> 42.3 | J144: Céline Leconte | K144: Clara | M144: Celine
A145: Julien | B145: 42550 | D145: =IF(ISBLANK(E145),"15,00 €",VLOOKUP(E145,TARIFPROM4,2,0)) -> 15,00 € | F145: 10 | H145: 3.9 | I145: =IF(SUM(F145)<=0,0,F145*H145-(10*H145-D145)) -> 15 | J145: viviane tarjus | K145: Claudia | M145: Celine
A146: Celine | B146: 42550 | D146: =IF(ISBLANK(E146),"15,00 €",VLOOKUP(E146,TARIFPROM4,2,0)) -> 15,00 € | F146: 35 | H146: 3.9 | I146: =IF(SUM(F146)<=0,0,F146*H146-(10*H146-D146)) -> 112.5 | J146: caroline Graglia | K146: Clara | M146: Celine
... A150: Julien | B150: 42550 | D150: =IF(ISBLANK(E150),"15,00 €",VLOOKUP(E150,TARIFPROM4,2,0)) -> 15,00 € | F150: 10 | H150: 3.9 | I150: =IF(SUM(F150)<=0,0,F150*H150-(10*H150-D150)) -> 15 | J150: laetitia Peslerbe | K150: Jessica | M150: Julien
A151: Francois | B151: 42551 | D151: =IF(ISBLANK(E151),"15,00 €",VLOOKUP(E151,TARIFPROM4,2,0)) -> 15,00 € | F151: 40 | H151: 3.9 | I151: =IF(SUM(F151)<=0,0,F151*H151-(10*H151-D151)) -> 132 | J151: sonia gasmi | K151: Jessica
A152: Francois | B152: 42551 | D152: =IF(ISBLANK(E152),"15,00 €",VLOOKUP(E152,TARIFPROM4,2,0)) -> 15,00 € | F152: 15 | H152: 3.9 | I152: =IF(SUM(F152)<=0,0,F152*H152-(10*H152-D152)) -> 34.5 | J152: Pascale Corion | K152: Jessica | M152: Francois
A153: Francois | B153: 42551 | D153: =IF(ISBLANK(E153),"15,00 €",VLOOKUP(E153,TARIFPROM4,2,0)) -> 15,00 € | F153: 12 | H153: 3.9 | I153: =IF(SUM(F153)<=0,0,F153*H153-(10*H153-D153)) -> 22.8 | J153: Alice Turinetty | K153: Clara | M153: Pierre
A154: Francois | B154: 42551 | D154: =IF(ISBLANK(E154),"15,00 €",VLOOKUP(E154,TARIFPROM4,2,0)) -> 15,00 € | F154: 10 | H154: 3.9 | I154: =IF(SUM(F154)<=0,0,F154*H154-(10*H154-D154)) -> 15 | J154: PIERRE TRITZ | K154: Jessica | M154: Francois
A155: Francois | B155: 42551 | D155: =IF(ISBLANK(E155),"15,00 €",VLOOKUP(E155,TARIFPROM4,2,0)) -> 15,00 € | F155: 40 | H155: 3.9 | I155: =IF(SUM(F155)<=0,0,F155*H155-(10*H155-D155)) -> 132 | J155: RAOUDHA MAJDOUB | K155: Gabriel | M155: Julien
A156: Francois | B156: 42551 | D156: =IF(ISBLANK(E156),"15,00 €",VLOOKUP(E156,TARIFPROM4,2,0)) -> 15,00 € | F156: 10 | H156: 3.9 | I156: =IF(SUM(F156)<=0,0,F156*H156-(10*H156-D156)) -> 15 | J156: Josiane Le guioux | K156: Jessica | M156: Francois
A157: Francois | B157: 42551 | D157: =IF(ISBLANK(E157),"15,00 €",VLOOKUP(E157,TARIFPROM4,2,0)) -> 15,00 € | F157: 12 | H157: 3.9 | I157: =IF(SUM(F157)<=0,0,F157*H157-(10*H157-D157)) -> 22.8 | J157: Sylvie Laroche | K157: Jessica | M157: Francois
A158: Francois | B158: 42551 | D158: =IF(ISBLANK(E158),"15,00 €",VLOOKUP(E158,TARIFPROM4,2,0)) -> 15,00 € | F158: 28 | H158: 3.9 | I158: =IF(SUM(F158)<=0,0,F158*H158-(10*H158-D158)) -> 85.2 | J158: mafita Diakité | K158: Gabriel | M158: Julien
A159: Pierre | B159: 42551 | D159: =IF(ISBLANK(E159),"15,00 €",VLOOKUP(E159,TARIFPROM4,2,0)) -> 15,00 € | F159: 15 | H159: 3.9 | I159: =IF(SUM(F159)<=0,0,F159*H159-(10*H159-D159)) -> 34.5 | J159: PAULINE CHEMIN | K159: Jessica | M159: Pierre
A160: Francois | B160: 42551 | D160: =IF(ISBLANK(E160),"15,00 €",VLOOKUP(E160,TARIFPROM4,2,0)) -> 15,00 € | F160: 24 | H160: 3.9 | I160: =IF(SUM(F160)<=0,0,F160*H160-(10*H160-D160)) -> 69.6 | J160: ARLETTE COLSON | K160: Jessica | M160: Pierre
A161: Pierre | B161: 42551 | D161: =IF(ISBLANK(E161),"15,00 €",VLOOKUP(E161,TARIFPROM4,2,0)) -> 15,00 € | F161: 15 | H161: 3.9 | I161: =IF(SUM(F161)<=0,0,F161*H161-(10*H161-D161)) -> 34.5 | J161: Hervé Girault | K161: Gabriel | M161: Pierre
A162: Pierre | B162: 42551 | D162: =IF(ISBLANK(E162),"15,00 €",VLOOKUP(E162,TARIFPROM4,2,0)) -> 15,00 € | F162: =28+18 -> 46 | H162: 3.9 | I162: =IF(SUM(F162)<=0,0,F162*H162-(10*H162-D162)) -> 155.4 | J162: Evelyne Britelle | K162: Gabriel | M162: Pierre
A163: Pierre | B163: 42551 | D163: =IF(ISBLANK(E163),"15,00 €",VLOOKUP(E163,TARIFPROM4,2,0)) -> 15,00 € | F163: 17 | H163: 3.9 | I163: =IF(SUM(F163)<=0,0,F163*H163-(10*H163-D163)) -> 42.3 | J163: ALAIN LEBRETON | K163: Gabriel | M163: Pierre
A164: Francois | B164: 42551 | D164: =IF(ISBLANK(E164),"15,00 €",VLOOKUP(E164,TARIFPROM4,2,0)) -> 15,00 € | F164: 62 | H164: 3.9 | I164: =IF(SUM(F164)<=0,0,F164*H164-(10*H164-D164)) -> 217.8 | J164: MARIE PAULE DELSOL | K164: Clara | M164: Pierre
A165: Pierre | B165: 42551 | D165: =IF(ISBLANK(E165),"15,00 €",VLOOKUP(E165,TARIFPROM4,2,0)) -> 15,00 € | F165: 14 | H165: 3.9 | I165: =IF(SUM(F165)<=0,0,F165*H165-(10*H165-D165)) -> 30.6 | J165: Sandra Furtaro | K165: Jessica | M165: Pierre
...

Sheet Recherche
B1: Panier moyen | C1: =C4/C2 -> 73.066667
B2: Nbre consults | C2: =SUBTOTAL(3,C9:C3176) -> 9
B3: durée hh:mm | C3: =SUBTOTAL(9,F9:F3176)/(24*60) -> 0.15555556 | D3: TMC | E3: =C3/C2 -> 0.017283951 | J3: MODULE DE RECHERCHE
B4: Total TTC | C4: =SUBTOTAL(9,I9:I3176) -> 657.6 | J4: PAS DE SAISIE
B5: Consultants HT | C5: =C4/1.2*0.25 -> 137
B6: Cabinet HT | C6: =C4/1.2-C5 -> 411
A8: standardiste | B8: date | C8: colonne1 | D8: BASE 10 min | E8: code promo | F8: Durée totale | G8: mn sup | H8: TAUX MN SUP | I8: TOTAL TTC | J8: Nom client | K8: NOM CONSULTANT | L8: SMS | M8: Encaissement | N8: COMMENTAIRES
A9: =Saisie!A9 -> Francois | B9: =Saisie!B9 -> 42542 | C9: =Saisie!C9 -> 0 | D9: =Saisie!D9 -> 15 | E9: =Saisie!E9 -> 0 | F9: =Saisie!F9 -> 49 | G9: =Saisie!G9 -> 0 | H9: =Saisie!H9 -> 3.9 | ... N9: =Saisie!N9 -> 0
A10: =Saisie!A10 -> Francois | B10: =Saisie!B10 -> 42542 | C10: =Saisie!C10 -> 0 | D10: =Saisie!D10 -> 15 | E10: =Saisie!E10 -> 0 | F10: =Saisie!F10 -> 37 | G10: =Saisie!G10 -> 0 | H10: =Saisie!H10 -> 3.9 | ... N10: =Saisie!N10 -> 0
A11: =Saisie!A11 -> Pierre | B11: =Saisie!B11 -> 42542 | C11: =Saisie!C11 -> 0 | D11: =Saisie!D11 -> 15 | E11: =Saisie!E11 -> 0 | F11: =Saisie!F11 -> 10 | G11: =Saisie!G11 -> 0 | H11: =Saisie!H11 -> 3.9 | ... N11: =Saisie!N11 -> 0
A12: =Saisie!A12 -> Pierre | B12: =Saisie!B12 -> 42542 | C12: =Saisie!C12 -> 0 | D12: =Saisie!D12 -> 15 | E12: =Saisie!E12 -> 0 | F12: =Saisie!F12 -> 20 | G12: =Saisie!G12 -> 0 | H12: =Saisie!H12 -> 3.9 | ... N12: =Saisie!N12 -> 0
A13: =Saisie!A13 -> Pierre | B13: =Saisie!B13 -> 42542 | C13: =Saisie!C13 -> 0 | D13: =Saisie!D13 -> 15 | E13: =Saisie!E13 -> 0 | F13: =Saisie!F13 -> 29 | G13: =Saisie!G13 -> 0 | H13: =Saisie!H13 -> 3.9 | ... N13: =Saisie!N13 -> 0
A14: =Saisie!A14 -> Pierre | B14: =Saisie!B14 -> 42542 | C14: =Saisie!C14 -> 0 | D14: =Saisie!D14 -> 15 | E14: =Saisie!E14 -> 0 | F14: =Saisie!F14 -> 10 | G14: =Saisie!G14 -> 0 | H14: =Saisie!H14 -> 3.9 | ... N14: =Saisie!N14 -> 0
A15: =Saisie!A15 -> Celine | B15: =Saisie!B15 -> 42542 | C15: =Saisie!C15 -> 0 | D15: =Saisie!D15 -> 15 | E15: =Saisie!E15 -> 0 | F15: =Saisie!F15 -> 10 | G15: =Saisie!G15 -> 0 | H15: =Saisie!H15 -> 3.9 | ... N15: =Saisie!N15 -> 0
A16: =Saisie!A16 -> Francois | B16: =Saisie!B16 -> 42542 | C16: =Saisie!C16 -> 0 | D16: =Saisie!D16 -> 15 | E16: =Saisie!E16 -> 0 | F16: =Saisie!F16 -> 31 | G16: =Saisie!G16 -> 0 | H16: =Saisie!H16 -> 3.9 | ... N16: =Saisie!N16 -> 0
A17: =Saisie!A17 -> Celine | B17: =Saisie!B17 -> 42543 | C17: =Saisie!C17 -> 0 | D17: =Saisie!D17 -> 15 | E17: =Saisie!E17 -> 0 | F17: =Saisie!F17 -> 12 | G17: =Saisie!G17 -> 0 | H17: =Saisie!H17 -> 3.9 | ... N17: =Saisie!N17 -> 0
A18: =Saisie!A18 -> Celine | B18: =Saisie!B18 -> 42543 | C18: =Saisie!C18 -> 0 | D18: =Saisie!D18 -> 15 | E18: =Saisie!E18 -> 0 | F18: =Saisie!F18 -> 10 | G18: =Saisie!G18 -> 0 | H18: =Saisie!H18 -> 3.9 | ... N18: =Saisie!N18 -> 0
A19: =Saisie!A19 -> Celine | B19: =Saisie!B19 -> 42543 | C19: =Saisie!C19 -> 0 | D19: =Saisie!D19 -> 15 | E19: =Saisie!E19 -> 0 | F19: =Saisie!F19 -> 18 | G19: =Saisie!G19 -> 0 | H19: =Saisie!H19 -> 3.9 | ... N19: =Saisie!N19 -> 0
A20: =Saisie!A20 -> Celine | B20: =Saisie!B20 -> 42543 | C20: =Saisie!C20 -> 0 | D20: =Saisie!D20 -> 15 | E20: =Saisie!E20 -> suivi | F20: =Saisie!F20 -> 25 | G20: =Saisie!G20 -> 0 | H20: =Saisie!H20 -> 3.9 | ... N20: =Saisie!N20 -> 0
... A427: =Saisie!A427 -> Pierre | B427: =Saisie!B427 -> 42564 | C427: =Saisie!C427 -> 0 | D427: =Saisie!D427 -> 15,00 € | E427: =Saisie!E427 -> 0 | F427: =Saisie!F427 -> 44 | G427: =Saisie!G427 -> 0 | H427: =Saisie!H427 -> 3.9 | ... N427: =Saisie!N427 -> 0
A428: =Saisie!#REF! -> #REF! | B428: =Saisie!#REF! -> #REF! | C428: =Saisie!#REF! -> #REF! | D428: =Saisie!#REF! -> #REF! | E428: =Saisie!#REF! -> #REF! | F428: =Saisie!#REF! -> #REF! | G428: =Saisie!#REF! -> #REF! | H428: =Saisie!#REF! -> #REF! | ... N428: =Saisie!#REF! -> #REF!
A429: =Saisie!A428 -> Pierre | B429: =Saisie!B428 -> 42564 | C429: =Saisie!C428 -> 0 | D429: =Saisie!D428 -> 15,00 € | E429: =Saisie!E428 -> 0 | F429: =Saisie!F428 -> 15 | G429: =Saisie!G428 -> 5 | H429: =Saisie!H428 -> 3.9 | ... N429: =Saisie!N428 -> 0
A430: =Saisie!A429 -> Pierre | B430: =Saisie!B429 -> 42564 | C430: =Saisie!C429 -> 0 | D430: =Saisie!D429 -> 15,00 € | E430: =Saisie!E429 -> 0 | F430: =Saisie!F429 -> 12 | G430: =Saisie!G429 -> 2 | H430: =Saisie!H429 -> 3.9 | ... N430: =Saisie!N429 -> 0
A431: =Saisie!A430 -> Pierre | B431: =Saisie!B430 -> 42564 | C431: =Saisie!C430 -> 0 | D431: =Saisie!D430 -> 15,00 € | E431: =Saisie!E430 -> 0 | F431: =Saisie!F430 -> 28 | G431: =Saisie!G430 -> 18 | H431: =Saisie!H430 -> 3.9 | ... N431: =Saisie!N430 -> 0
A432: =Saisie!A431 -> Julien | B432: =Saisie!B431 -> 42564 | C432: =Saisie!C431 -> 0 | D432: =Saisie!D431 -> 15,00 € | E432: =Saisie!E431 -> 0 | F432: =Saisie!F431 -> 24 | G432: =Saisie!G431 -> 14 | H432: =Saisie!H431 -> 3.9 | ... N432: =Saisie!N431 -> 0
A433: =Saisie!A432 -> Pierre | B433: =Saisie!B432 -> 42564 | C433: =Saisie!C432 -> 0 | D433: =Saisie!D432 -> 15,00 € | E433: =Saisie!E432 -> 0 | F433: =Saisie!F432 -> 39 | G433: =Saisie!G432 -> 29 | H433: =Saisie!H432 -> 3.9 | ... N433: =Saisie!N432 -> 0
A434: =Saisie!A433 -> Julien | B434: =Saisie!B433 -> 42564 | C434: =Saisie!C433 -> 0 | D434: =Saisie!D433 -> 15,00 € | E434: =Saisie!E433 -> 0 | F434: =Saisie!F433 -> 15 | G434: =Saisie!G433 -> 5 | H434: =Saisie!H433 -> 3.9 | ... N434: =Saisie!N433 -> 0
A435: =Saisie!A434 -> Julien | B435: =Saisie!B434 -> 42564 | C435: =Saisie!C434 -> 0 | D435: =Saisie!D434 -> 15,00 € | E435: =Saisie!E434 -> 0 | F435: =Saisie!F434 -> 10 | G435: =Saisie!G434 -> 0 | H435: =Saisie!H434 -> 3.9 | ... N435: =Saisie!N434 -> 0
A436: =Saisie!A435 -> Julien | B436: =Saisie!B435 -> 42564 | C436: =Saisie!C435 -> 0 | D436: =Saisie!D435 -> 15,00 € | E436: =Saisie!E435 -> 0 | F436: =Saisie!F435 -> 27 | G436: =Saisie!G435 -> 17 | H436: =Saisie!H435 -> 3.9 | ... N436: =Saisie!N435 -> 0
A437: =Saisie!A436 -> Francois | B437: =Saisie!B436 -> 42564 | C437: =Saisie!C436 -> 0 | D437: =Saisie!D436 -> 15,00 € | E437: =Saisie!E436 -> 0 | F437: =Saisie!F436 -> 10 | G437: =Saisie!G436 -> 0 | H437: =Saisie!H436 -> 3.9 | ... N437: =Saisie!N436 -> 0
A438: =Saisie!#REF! -> #REF! | B438: =Saisie!#REF! -> #REF! | C438: =Saisie!#REF! -> #REF! | D438: =Saisie!#REF! -> #REF! | E438: =Saisie!#REF! -> #REF! | F438: =Saisie!#REF! -> #REF! | G438: =Saisie!#REF! -> #REF! | H438: =Saisie!#REF! -> #REF! | ... N438: =Saisie!#REF! -> #REF!
A439: =Saisie!A437 -> Francois | B439: =Saisie!B437 -> 42564 | C439: =Saisie!C437 -> 0 | D439: =Saisie!D437 -> 15,00 € | E439: =Saisie!E437 -> 0 | F439: =Saisie!F437 -> 24 | G439: =Saisie!G437 -> 14 | H439: =Saisie!H437 -> 3.9 | ... N439: =Saisie!N437 -> 0
A440: =Saisie!A438 -> Francois | B440: =Saisie!B438 -> 42564 | C440: =Saisie!C438 -> 0 | D440: =Saisie!D438 -> 15,00 € | E440: =Saisie!E438 -> 0 | F440: =Saisie!F438 -> 19 | G440: =Saisie!G438 -> 9 | H440: =Saisie!H438 -> 3.9 | ... N440: =Saisie!N438 -> 0
A441: =Saisie!A439 -> Julien | B441: =Saisie!B439 -> 42564 | C441: =Saisie!C439 -> 0 | D441: =Saisie!D439 -> 15,00 € | E441: =Saisie!E439 -> 0 | F441: =Saisie!F439 -> 10 | G441: =Saisie!G439 -> 0 | H441: =Saisie!H439 -> 3.9 | ... N441: =Saisie!N439 -> 0
A442: =Saisie!A440 -> Julien | B442: =Saisie!B440 -> 42564 | C442: =Saisie!C440 -> 0 | D442: =Saisie!D440 -> 15,00 € | E442: =Saisie!E440 -> 0 | F442: =Saisie!F440 -> 10 | G442: =Saisie!G440 -> 0 | H442: =Saisie!H440 -> 3.9 | ... N442: =Saisie!N440 -> 0
A443: =Saisie!A441 -> Julien | B443: =Saisie!B441 -> 42564 | C443: =Saisie!C441 -> 0 | D443: =Saisie!D441 -> 15,00 € | E443: =Saisie!E441 -> 0 | F443: =Saisie!F441 -> 10 | G443: =Saisie!G441 -> 0 | H443: =Saisie!H441 -> 3.9 | ... N443: =Saisie!N441 -> 0
A444: =Saisie!A442 -> Francois | B444: =Saisie!B442 -> 42565 | C444: =Saisie!C442 -> 0 | D444: =Saisie!D442 -> 15,00 € | E444: =Saisie!E442 -> 0 | F444: =Saisie!F442 -> 13 | G444: =Saisie!G442 -> 3 | H444: =Saisie!H442 -> 3.9 | ... N444: =Saisie!N442 -> 0
A445: =Saisie!A443 -> Celine | B445: =Saisie!B443 -> 42565 | C445: =Saisie!C443 -> 0 | D445: =Saisie!D443 -> 15,00 € | E445: =Saisie!E443 -> 0 | F445: =Saisie!F443 -> 15 | G445: =Saisie!G443 -> 5 | H445: =Saisie!H443 -> 3.9 | ... N445: =Saisie!N443 -> 0
A446: =Saisie!A444 -> Celine | B446: =Saisie!B444 -> 42565 | C446: =Saisie!C444 -> 0 | D446: =Saisie!D444 -> 15,00 € | E446: =Saisie!E444 -> 0 | F446: =Saisie!F444 -> 52 | G446: =Saisie!G444 -> 42 | H446: =Saisie!H444 -> 3.9 | ... N446: =Saisie!N444 -> 0
A447: =Saisie!A445 -> Julien | B447: =Saisie!B445 -> 42565 | C447: =Saisie!C445 -> 0 | D447: =Saisie!D445 -> 15,00 € | E447: =Saisie!E445 -> 0 | F447: =Saisie!F445 -> 15 | G447: =Saisie!G445 -> 5 | H447: =Saisie!H445 -> 3.9 | ... N447: =Saisie!N445 -> 0
A448: =Saisie!#REF! -> #REF! | B448: =Saisie!#REF! -> #REF! | C448: =Saisie!#REF! -> #REF! | D448: =Saisie!#REF! -> #REF! | E448: =Saisie!#REF! -> #REF! | F448: =Saisie!#REF! -> #REF! | G448: =Saisie!#REF! -> #REF! | H448: =Saisie!#REF! -> #REF! | ... N448: =Saisie!#REF! -> #REF!
A449: =Saisie!A446 -> Julien | B449: =Saisie!B446 -> 42565 | C449: =Saisie!C446 -> 0 | D449: =Saisie!D446 -> 15,00 € | E449: =Saisie!E446 -> 0 | F449: =Saisie!F446 -> 14 | G449: =Saisie!G446 -> 4 | H449: =Saisie!H446 -> 3.9 | ... N449: =Saisie!N446 -> 0
A450: =Saisie!A447 -> Pierre | B450: =Saisie!B447 -> 42565 | C450: =Saisie!C447 -> 0 | D450: =Saisie!D447 -> 15,00 € | E450: =Saisie!E447 -> 0 | F450: =Saisie!F447 -> 36 | G450: =Saisie!G447 -> 26 | H450: =Saisie!H447 -> 3.9 | ... N450: =Saisie!N447 -> 0
A451: =Saisie!A448 -> Pierre | B451: =Saisie!B448 -> 42565 | C451: =Saisie!C448 -> 0 | D451: =Saisie!D448 -> 15,00 € | E451: =Saisie!E448 -> 0 | F451: =Saisie!F448 -> 10 | G451: =Saisie!G448 -> 0 | H451: =Saisie!H448 -> 3.9 | ... N451: =Saisie!N448 -> 0
A452: =Saisie!A449 -> Pierre | B452: =Saisie!B449 -> 42565 | C452: =Saisie!C449 -> 0 | D452: =Saisie!D449 -> 15,00 € | E452: =Saisie!E449 -> 0 | F452: =Saisie!F449 -> 11 | G452: =Saisie!G449 -> 1 | H452: =Saisie!H449 -> 3.9 | ... N452: =Saisie!N449 -> 0
A453: =Saisie!A450 -> Pierre | B453: =Saisie!B450 -> 42565 | C453: =Saisie!C450 -> 0 | D453: =Saisie!D450 -> 15,00 € | E453: =Saisie!E450 -> 0 | F453: =Saisie!F450 -> 12 | G453: =Saisie!G450 -> 2 | H453: =Saisie!H450 -> 3.9 | ... N453: =Saisie!N450 -> 0
A454: =Saisie!A451 -> Pierre | B454: =Saisie!B451 -> 42566 | C454: =Saisie!C451 -> 0 | D454: =Saisie!D451 -> 15,00 € | E454: =Saisie!E451 -> 0 | F454: =Saisie!F451 -> 25 | G454: =Saisie!G451 -> 15 | H454: =Saisie!H451 -> 3.9 | ... N454: =Saisie!N451 -> 0
A455: =Saisie!A452 -> Pierre | B455: =Saisie!B452 -> 42566 | C455: =Saisie!C452 -> 0 | D455: =Saisie!D452 -> 15,00 € | E455: =Saisie!E452 -> 0 | F455: =Saisie!F452 -> 10 | G455: =Saisie!G452 -> 0 | H455: =Saisie!H452 -> 3.9 | ... N455: =Saisie!N452 -> 0
A456: =Saisie!A453 -> Pierre | B456: =Saisie!B453 -> 42565 | C456: =Saisie!C453 -> 0 | D456: =Saisie!D453 -> 15,00 € | E456: =Saisie!E453 -> 0 | F456: =Saisie!F453 -> 10 | G456: =Saisie!G453 -> 0 | H456: =Saisie!H453 -> 3.9 | ... N456: =Saisie!N453 -> 0
A457: =Saisie!A454 -> Francois | B457: =Saisie!B454 -> 42565 | C457: =Saisie!C454 -> 0 | D457: =Saisie!D454 -> 15,00 € | E457: =Saisie!E454 -> 0 | F457: =Saisie!F454 -> 10 | G457: =Saisie!G454 -> 0 | H457: =Saisie!H454 -> 3.9 | ... N457: =Saisie!N454 -> 0
A458: =Saisie!A455 -> Francois | B458: =Saisie!B455 -> 42565 | C458: =Saisie!C455 -> 0 | D458: =Saisie!D455 -> 15,00 € | E458: =Saisie!E455 -> 0 | F458: =Saisie!F455 -> 10 | G458: =Saisie!G455 -> 0 | H458: =Saisie!H455 -> 3.9 | ... N458: =Saisie!N455 -> 0
A459: =Saisie!A456 -> Francois | B459: =Saisie!B456 -> 42565 | C459: =Saisie!C456 -> 0 | D459: =Saisie!D456 -> 15,00 € | E459: =Saisie!E456 -> 0 | F459: =Saisie!F456 -> 11 | G459: =Saisie!G456 -> 1 | H459: =Saisie!H456 -> 3.9 | ... N459: =Saisie!N456 -> 0
A460: =Saisie!A457 -> Francois | B460: =Saisie!B457 -> 42565 | C460: =Saisie!C457 -> 0 | D460: =Saisie!D457 -> 15,00 € | E460: =Saisie!E457 -> 0 | F460: =Saisie!F457 -> 11 | G460: =Saisie!G457 -> 1 | H460: =Saisie!H457 -> 3.9 | ... N460: =Saisie!N457 -> 0
... A470: =Saisie!A467 -> Pierre | B470: =Saisie!B467 -> 42566 | C470: =Saisie!C467 -> 0 | D470: =Saisie!D467 -> 15,00 € | E470: =Saisie!E467 -> 0 | F470: =Saisie!F467 -> 30 | G470: =Saisie!G467 -> 20 | H470: =Saisie!H467 -> 3.9 | ... N470: =Saisie!N467 -> 0
A471: =Saisie!#REF! -> #REF! | B471: =Saisie!#REF! -> #REF! | C471: =Saisie!#REF! -> #REF! | D471: =Saisie!#REF! -> #REF! | E471: =Saisie!#REF! -> #REF! | F471: =Saisie!#REF! -> #REF! | G471: =Saisie!#REF! -> #REF! | H471: =Saisie!#REF! -> #REF! | ... N471: =Saisie!#REF! -> #REF!
A472: =Saisie!A468 -> Pierre | B472: =Saisie!B468 -> 42566 | C472: =Saisie!C468 -> 0 | D472: =Saisie!D468 -> 15,00 € | E472: =Saisie!E468 -> 0 | F472: =Saisie!F468 -> 30 | G472: =Saisie!G468 -> 20 | H472: =Saisie!H468 -> 3.9 | ... N472: =Saisie!N468 -> 0
A473: =Saisie!A469 -> Pierre | B473: =Saisie!B469 -> 42566 | C473: =Saisie!C469 -> 0 | D473: =Saisie!D469 -> 15,00 € | E473: =Saisie!E469 -> 0 | F473: =Saisie!F469 -> 33 | G473: =Saisie!G469 -> 23 | H473: =Saisie!H469 -> 3.9 | ... N473: =Saisie!N469 -> 0
A474: =Saisie!A470 -> Pierre | B474: =Saisie!B470 -> 42566 | C474: =Saisie!C470 -> 0 | D474: =Saisie!D470 -> 15,00 € | E474: =Saisie!E470 -> 0 | F474: =Saisie!F470 -> 10 | G474: =Saisie!G470 -> 0 | H474: =Saisie!H470 -> 3.9 | ... N474: =Saisie!N470 -> 0
A475: =Saisie!A471 -> Pierre | B475: =Saisie!B471 -> 42566 | C475: =Saisie!C471 -> 0 | D475: =Saisie!D471 -> 15,00 € | E475: =Saisie!E471 -> 0 | F475: =Saisie!F471 -> 27 | G475: =Saisie!G471 -> 17 | H475: =Saisie!H471 -> 3.9 | ... N475: =Saisie!N471 -> 0
A476: =Saisie!A472 -> Pierre | B476: =Saisie!B472 -> 42566 | C476: =Saisie!C472 -> 0 | D476: =Saisie!D472 -> 15,00 € | E476: =Saisie!E472 -> 0 | F476: =Saisie!F472 -> 16 | G476: =Saisie!G472 -> 6 | H476: =Saisie!H472 -> 3.9 | ... N476: =Saisie!N472 -> 0
A477: =Saisie!A473 -> Julien | B477: =Saisie!B473 -> 42566 | C477: =Saisie!C473 -> 0 | D477: =Saisie!D473 -> 15,00 € | E477: =Saisie!E473 -> 0 | F477: =Saisie!F473 -> 13 | G477: =Saisie!G473 -> 3 | H477: =Saisie!H473 -> 3.9 | ... N477: =Saisie!N473 -> 0
A478: =Saisie!A474 -> Pierre | B478: =Saisie!B474 -> 42566 | C478: =Saisie!C474 -> 0 | D478: =Saisie!D474 -> 15,00 € | E478: =Saisie!E474 -> 0 | F478: =Saisie!F474 -> 19 | G478: =Saisie!G474 -> 9 | H478: =Saisie!H474 -> 3.9 | ... N478: =Saisie!N474 -> 0
A479: =Saisie!A475 -> Francois | B479: =Saisie!B475 -> 42567 | C479: =Saisie!C475 -> 0 | D479: =Saisie!D475 -> 15,00 € | E479: =Saisie!E475 -> 0 | F479: =Saisie!F475 -> 21 | G479: =Saisie!G475 -> 11 | H479: =Saisie!H475 -> 3.9 | ... N479: =Saisie!N475 -> 0
A480: =Saisie!A476 -> Celine | B480: =Saisie!B476 -> 42567 | C480: =Saisie!C476 -> 0 | D480: =Saisie!D476 -> 15,00 € | E480: =Saisie!E476 -> 0 | F480: =Saisie!F476 -> 19 | G480: =Saisie!G476 -> 9 | H480: =Saisie!H476 -> 3.9 | ... N480: =Saisie!N476 -> 0
A481: =Saisie!A477 -> Celine | B481: =Saisie!B477 -> 42567 | C481: =Saisie!C477 -> 0 | D481: =Saisie!D477 -> 15,00 € | E481: =Saisie!E477 -> 0 | F481: =Saisie!F477 -> 12 | G481: =Saisie!G477 -> 2 | H481: =Saisie!H477 -> 3.9 | ... N481: =Saisie!N477 -> 0
A482: =Saisie!A478 -> Celine | B482: =Saisie!B478 -> 42567 | C482: =Saisie!C478 -> 0 | D482: =Saisie!D478 -> 15,00 € | E482: =Saisie!E478 -> 0 | F482: =Saisie!F478 -> 24 | G482: =Saisie!G478 -> 14 | H482: =Saisie!H478 -> 3.9 | ... N482: =Saisie!N478 -> 0
A483: =Saisie!A479 -> Celine | B483: =Saisie!B479 -> 42567 | C483: =Saisie!C479 -> 0 | D483: =Saisie!D479 -> 15,00 € | E483: =Saisie!E479 -> 0 | F483: =Saisie!F479 -> 17 | G483: =Saisie!G479 -> 7 | H483: =Saisie!H479 -> 3.9 | ... N483: =Saisie!N479 -> 0
... A511: =Saisie!A507 -> Pierre | B511: =Saisie!B507 -> 42569 | C511: =Saisie!C507 -> 0 | D511: =Saisie!D507 -> 15,00 € | E511: =Saisie!E507 -> 0 | F511: =Saisie!F507 -> 20 | G511: =Saisie!G507 -> 10 | H511: =Saisie!H507 -> 3.9 | ... N511: =Saisie!N507 -> 0
A512: =Saisie!#REF! -> #REF! | B512: =Saisie!#REF! -> #REF! | C512: =Saisie!#REF! -> #REF! | D512: =Saisie!#REF! -> #REF! | E512: =Saisie!#REF! -> #REF! | F512: =Saisie!#REF! -> #REF! | G512: =Saisie!#REF! -> #REF! | H512: =Saisie!#REF! -> #REF! | ... N512: =Saisie!#REF! -> #REF!
A513: =Saisie!#REF! -> #REF! | B513: =Saisie!#REF! -> #REF! | C513: =Saisie!#REF! -> #REF! | D513: =Saisie!#REF! -> #REF! | E513: =Saisie!#REF! -> #REF! | F513: =Saisie!#REF! -> #REF! | G513: =Saisie!#REF! -> #REF! | H513: =Saisie!#REF! -> #REF! | ... N513: =Saisie!#REF! -> #REF!
A514: =Saisie!A508 -> Pierre | B514: =Saisie!B508 -> 42569 | C514: =Saisie!C508 -> 0 | D514: =Saisie!D508 -> 15,00 € | E514: =Saisie!E508 -> 0 | F514: =Saisie!F508 -> 10 | G514: =Saisie!G508 -> 0 | H514: =Saisie!H508 -> 3.9 | ... N514: =Saisie!N508 -> 0
A515: =Saisie!A509 -> Pierre | B515: =Saisie!B509 -> 42569 | C515: =Saisie!C509 -> 0 | D515: =Saisie!D509 -> 15,00 € | E515: =Saisie!E509 -> 0 | F515: =Saisie!F509 -> 11 | G515: =Saisie!G509 -> 1 | H515: =Saisie!H509 -> 3.9 | ... N515: =Saisie!N509 -> 0
A516: =Saisie!A510 -> Pierre | B516: =Saisie!B510 -> 42569 | C516: =Saisie!C510 -> 0 | D516: =Saisie!D510 -> 15,00 € | E516: =Saisie!E510 -> 0 | F516: =Saisie!F510 -> 10 | G516: =Saisie!G510 -> 0 | H516: =Saisie!H510 -> 3.9 | ... N516: =Saisie!N510 -> 0
A517: =Saisie!A511 -> Pierre | B517: =Saisie!B511 -> 42569 | C517: =Saisie!C511 -> 0 | D517: =Saisie!D511 -> 15,00 € | E517: =Saisie!E511 -> 0 | F517: =Saisie!F511 -> 10 | G517: =Saisie!G511 -> 0 | H517: =Saisie!H511 -> 3.9 | ... N517: =Saisie!N511 -> 0
A518: =Saisie!A512 -> Pierre | B518: =Saisie!B512 -> 42569 | C518: =Saisie!C512 -> 0 | D518: =Saisie!D512 -> 15,00 € | E518: =Saisie!E512 -> 0 | F518: =Saisie!F512 -> 12 | G518: =Saisie!G512 -> 2 | H518: =Saisie!H512 -> 3.9 | ... N518: =Saisie!N512 -> 0
A519: =Saisie!A513 -> Pierre | B519: =Saisie!B513 -> 42569 | C519: =Saisie!C513 -> 0 | D519: =Saisie!D513 -> 15,00 € | E519: =Saisie!E513 -> 0 | F519: =Saisie!F513 -> 35 | G519: =Saisie!G513 -> 25 | H519: =Saisie!H513 -> 3.9 | ... N519: =Saisie!N513 -> 0
A520: =Saisie!A514 -> Pierre | B520: =Saisie!B514 -> 42569 | C520: =Saisie!C514 -> 0 | D520: =Saisie!D514 -> 15,00 € | E520: =Saisie!E514 -> 0 | F520: =Saisie!F514 -> 28 | G520: =Saisie!G514 -> 18 | H520: =Saisie!H514 -> 3.9 | ... N520: =Saisie!N514 -> 0
A521: =Saisie!A515 -> Pierre | B521: =Saisie!B515 -> 42569 | C521: =Saisie!C515 -> 0 | D521: =Saisie!D515 -> 15,00 € | E521: =Saisie!E515 -> 0 | F521: =Saisie!F515 -> 11 | G521: =Saisie!G515 -> 1 | H521: =Saisie!H515 -> 3.9 | ... N521: =Saisie!N515 -> 0
A522: =Saisie!A516 -> Pierre | B522: =Saisie!B516 -> 42569 | C522: =Saisie!C516 -> 0 | D522: =Saisie!D516 -> 15,00 € | E522: =Saisie!E516 -> 0 | F522: =Saisie!F516 -> 10 | G522: =Saisie!G516 -> 0 | H522: =Saisie!H516 -> 3.9 | ... N522: =Saisie!N516 -> 0
A523: =Saisie!A517 -> Julien | B523: =Saisie!B517 -> 42569 | C523: =Saisie!C517 -> 0 | D523: =Saisie!D517 -> 15,00 € | E523: =Saisie!E517 -> 0 | F523: =Saisie!F517 -> 11 | G523: =Saisie!G517 -> 1 | H523: =Saisie!H517 -> 3.9 | ... N523: =Saisie!N517 -> 0
A524: =Saisie!A518 -> Julien | B524: =Saisie!B518 -> 42569 | C524: =Saisie!C518 -> 0 | D524: =Saisie!D518 -> 15,00 € | E524: =Saisie!E518 -> 0 | F524: =Saisie!F518 -> 15 | G524: =Saisie!G518 -> 5 | H524: =Saisie!H518 -> 3.9 | ... N524: =Saisie!N518 -> 0
A525: =Saisie!A519 -> Pierre | B525: =Saisie!B519 -> 42569 | C525: =Saisie!C519 -> 0 | D525: =Saisie!D519 -> 15,00 € | E525: =Saisie!E519 -> 0 | F525: =Saisie!F519 -> 16 | G525: =Saisie!G519 -> 6 | H525: =Saisie!H519 -> 3.9 | ... N525: =Saisie!N519 -> 0
... A532: =Saisie!A526 -> Celine | B532: =Saisie!B526 -> 42570 | C532: =Saisie!C526 -> 0 | D532: =Saisie!D526 -> 15,00 € | E532: =Saisie!E526 -> 0 | F532: =Saisie!F526 -> en cours | G532: =Saisie!G526 -> #VALUE! | H532: =Saisie!H526 -> 3.9 | ... N532: =Saisie!N526 -> 0
A533: =Saisie!#REF! -> #REF! | B533: =Saisie!#REF! -> #REF! | C533: =Saisie!#REF! -> #REF! | D533: =Saisie!#REF! -> #REF! | E533: =Saisie!#REF! -> #REF! | F533: =Saisie!#REF! -> #REF! | G533: =Saisie!#REF! -> #REF! | H533: =Saisie!#REF! -> #REF! | ... N533: =Saisie!#REF! -> #REF!
A534: =Saisie!#REF! -> #REF! | B534: =Saisie!#REF! -> #REF! | C534: =Saisie!#REF! -> #REF! | D534: =Saisie!#REF! -> #REF! | E534: =Saisie!#REF! -> #REF! | F534: =Saisie!#REF! -> #REF! | G534: =Saisie!#REF! -> #REF! | H534: =Saisie!#REF! -> #REF! | ... N534: =Saisie!#REF! -> #REF!
A535: =Saisie!#REF! -> #REF! | B535: =Saisie!#REF! -> #REF! | C535: =Saisie!#REF! -> #REF! | D535: =Saisie!#REF! -> #REF! | E535: =Saisie!#REF! -> #REF! | F535: =Saisie!#REF! -> #REF! | G535: =Saisie!#REF! -> #REF! | H535: =Saisie!#REF! -> #REF! | ... N535: =Saisie!#REF! -> #REF!
A536: =Saisie!#REF! -> #REF! | B536: =Saisie!#REF! -> #REF! | C536: =Saisie!#REF! -> #REF! | D536: =Saisie!#REF! -> #REF! | E536: =Saisie!#REF! -> #REF! | F536: =Saisie!#REF! -> #REF! | G536: =Saisie!#REF! -> #REF! | H536: =Saisie!#REF! -> #REF! | ... N536: =Saisie!#REF! -> #REF!
A537: =Saisie!#REF! -> #REF! | B537: =Saisie!#REF! -> #REF! | C537: =Saisie!#REF! -> #REF! | D537: =Saisie!#REF! -> #REF! | E537: =Saisie!#REF! -> #REF! | F537: =Saisie!#REF! -> #REF! | G537: =Saisie!#REF! -> #REF! | H537: =Saisie!#REF! -> #REF! | ... N537: =Saisie!#REF! -> #REF!
A538: =Saisie!#REF! -> #REF! | B538: =Saisie!#REF! -> #REF! | C538: =Saisie!#REF! -> #REF! | D538: =Saisie!#REF! -> #REF! | E538: =Saisie!#REF! -> #REF! | F538: =Saisie!#REF! -> #REF! | G538: =Saisie!#REF! -> #REF! | H538: =Saisie!#REF! -> #REF! | ... N538: =Saisie!#REF! -> #REF!
A539: =Saisie!#REF! -> #REF! | B539: =Saisie!#REF! -> #REF! | C539: =Saisie!#REF! -> #REF! | D539: =Saisie!#REF! -> #REF! | E539: =Saisie!#REF! -> #REF! | F539: =Saisie!#REF! -> #REF! | G539: =Saisie!#REF! -> #REF! | H539: =Saisie!#REF! -> #REF! | ... N539: =Saisie!#REF! -> #REF!
A540: =Saisie!#REF! -> #REF! | B540: =Saisie!#REF! -> #REF! | C540: =Saisie!#REF! -> #REF! | D540: =Saisie!#REF! -> #REF! | E540: =Saisie!#REF! -> #REF! | F540: =Saisie!#REF! -> #REF! | G540: =Saisie!#REF! -> #REF! | H540: =Saisie!#REF! -> #REF! | ... N540: =Saisie!#REF! -> #REF!
A541: =Saisie!#REF! -> #REF! | B541: =Saisie!#REF! -> #REF! | C541: =Saisie!#REF! -> #REF! | D541: =Saisie!#REF! -> #REF! | E541: =Saisie!#REF! -> #REF! | F541: =Saisie!#REF! -> #REF! | G541: =Saisie!#REF! -> #REF! | H541: =Saisie!#REF! -> #REF! | ... N541: =Saisie!#REF! -> #REF!
A542: =Saisie!#REF! -> #REF! | B542: =Saisie!#REF! -> #REF! | C542: =Saisie!#REF! -> #REF! | D542: =Saisie!#REF! -> #REF! | E542: =Saisie!#REF! -> #REF! | F542: =Saisie!#REF! -> #REF! | G542: =Saisie!#REF! -> #REF! | H542: =Saisie!#REF! -> #REF! | ... N542: =Saisie!#REF! -> #REF!
A543: =Saisie!#REF! -> #REF! | B543: =Saisie!#REF! -> #REF! | C543: =Saisie!#REF! -> #REF! | D543: =Saisie!#REF! -> #REF! | E543: =Saisie!#REF! -> #REF! | F543: =Saisie!#REF! -> #REF! | G543: =Saisie!#REF! -> #REF! | H543: =Saisie!#REF! -> #REF! | ... N543: =Saisie!#REF! -> #REF!
A544: =Saisie!#REF! -> #REF! | B544: =Saisie!#REF! -> #REF! | C544: =Saisie!#REF! -> #REF! | D544: =Saisie!#REF! -> #REF! | E544: =Saisie!#REF! -> #REF! | F544: =Saisie!#REF! -> #REF! | G544: =Saisie!#REF! -> #REF! | H544: =Saisie!#REF! -> #REF! | ... N544: =Saisie!#REF! -> #REF!
... A2353: =Saisie!#REF! -> #REF! | B2353: =Saisie!#REF! -> #REF! | C2353: =Saisie!#REF! -> #REF! | D2353: =Saisie!#REF! -> #REF! | E2353: =Saisie!#REF! -> #REF! | F2353: =Saisie!#REF! -> #REF! | G2353: =Saisie!#REF! -> #REF! | H2353: =Saisie!#REF! -> #REF! | ... N2353: =Saisie!#REF! -> #REF!
A2354: =Saisie!A571 -> 0 | B2354: =Saisie!B571 -> 0 | C2354: =Saisie!C571 -> 0 | D2354: =Saisie!D571 -> 0 | E2354: =Saisie!E571 -> 0 | F2354: =Saisie!F571 -> 0 | G2354: =Saisie!G571 -> 0 | H2354: =Saisie!H571 -> 0 | ... N2354: =Saisie!N571 -> 0
A2355: =Saisie!A572 -> 0 | B2355: =Saisie!B572 -> 0 | C2355: =Saisie!C572 -> 0 | D2355: =Saisie!D572 -> 0 | E2355: =Saisie!E572 -> 0 | F2355: =Saisie!F572 -> 0 | G2355: =Saisie!G572 -> 0 | H2355: =Saisie!H572 -> 0 | ... N2355: =Saisie!N572 -> 0
A2356: =Saisie!A573 -> 0 | B2356: =Saisie!B573 -> 0 | C2356: =Saisie!C573 -> 0 | D2356: =Saisie!D573 -> 0 | E2356: =Saisie!E573 -> 0 | F2356: =Saisie!F573 -> 0 | G2356: =Saisie!G573 -> 0 | H2356: =Saisie!H573 -> 0 | ... N2356: =Saisie!N573 -> 0
A2357: =Saisie!A574 -> 0 | B2357: =Saisie!B574 -> 0 | C2357: =Saisie!C574 -> 0 | D2357: =Saisie!D574 -> 0 | E2357: =Saisie!E574 -> 0 | F2357: =Saisie!F574 -> 0 | G2357: =Saisie!G574 -> 0 | H2357: =Saisie!H574 -> 0 | ... N2357: =Saisie!N574 -> 0
...

Sheet Formules
D1: en cours | E1: Francois | H1: Claudia
D2: attente | E2: Pierre | H2: Elena
D3: RDV | E3: Julien | H3: Jessica
E4: Celine | H4: Gabriel
H5: Catherine
H6: Clara
A17: Claudia
A18: Elena
A19: Jessica
A20: Gabriel
A21: Karine
A22: Catherine
A35: Francois
A36: Pierre
A37: Julien
D43: 15
D44: 1
