Workbook

Sheet Feuil1
B1: Base de donnée
B2: 1 | C2: 2 | D2: 3 | E2: 4 | F2: 5 | G2: 6 | H2: 7 | I2: 8 | J2: 9 | K2: 10 | L2: catégorie | M2: date | N2: catégorie | O2: montant
A3: 1 | B3: =IF(B$2=VLOOKUP($A3,Feuil1!$M$3:$O$11,2,FALSE),VLOOKUP($A3,Feuil1!$M$3:$O$11,3,FALSE),"") | C3: =IF(C$2=VLOOKUP($A3,Feuil1!$M$3:$O$11,2,FALSE),VLOOKUP($A3,Feuil1!$M$3:$O$11,3,FALSE),"") | D3: =IF(D$2=VLOOKUP($A3,Feuil1!$M$3:$O$11,2,FALSE),VLOOKUP($A3,Feuil1!$M$3:$O$11,3,FALSE),"") -> 3.34 | E3: =IF(E$2=VLOOKUP($A3,Feuil1!$M$3:$O$11,2,FALSE),VLOOKUP($A3,Feuil1!$M$3:$O$11,3,FALSE),"") | F3: =IF(F$2=VLOOKUP($A3,Feuil1!$M$3:$O$11,2,FALSE),VLOOKUP($A3,Feuil1!$M$3:$O$11,3,FALSE),"") | G3: =IF(G$2=VLOOKUP($A3,Feuil1!$M$3:$O$11,2,FALSE),VLOOKUP($A3,Feuil1!$M$3:$O$11,3,FALSE),"") | H3: =IF(H$2=VLOOKUP($A3,Feuil1!$M$3:$O$11,2,FALSE),VLOOKUP($A3,Feuil1!$M$3:$O$11,3,FALSE),"") | I3: =IF(I$2=VLOOKUP($A3,Feuil1!$M$3:$O$11,2,FALSE),VLOOKUP($A3,Feuil1!$M$3:$O$11,3,FALSE),"") | ... K3: =IF(K$2=VLOOKUP($A3,Feuil1!$M$3:$O$11,2,FALSE),VLOOKUP($A3,Feuil1!$M$3:$O$11,3,FALSE),"") | M3: 1 | N3: 3 | O3: 3.34
A4: 2 | B4: =IF(B$2=VLOOKUP($A4,Feuil1!$M$3:$O$11,2,FALSE),VLOOKUP($A4,Feuil1!$M$3:$O$11,3,FALSE),"") -> #N/A | C4: =IF(C$2=VLOOKUP($A4,Feuil1!$M$3:$O$11,2,FALSE),VLOOKUP($A4,Feuil1!$M$3:$O$11,3,FALSE),"") -> #N/A | D4: =IF(D$2=VLOOKUP($A4,Feuil1!$M$3:$O$11,2,FALSE),VLOOKUP($A4,Feuil1!$M$3:$O$11,3,FALSE),"") -> #N/A | E4: =IF(E$2=VLOOKUP($A4,Feuil1!$M$3:$O$11,2,FALSE),VLOOKUP($A4,Feuil1!$M$3:$O$11,3,FALSE),"") -> #N/A | F4: =IF(F$2=VLOOKUP($A4,Feuil1!$M$3:$O$11,2,FALSE),VLOOKUP($A4,Feuil1!$M$3:$O$11,3,FALSE),"") -> #N/A | G4: =IF(G$2=VLOOKUP($A4,Feuil1!$M$3:$O$11,2,FALSE),VLOOKUP($A4,Feuil1!$M$3:$O$11,3,FALSE),"") -> #N/A | H4: =IF(H$2=VLOOKUP($A4,Feuil1!$M$3:$O$11,2,FALSE),VLOOKUP($A4,Feuil1!$M$3:$O$11,3,FALSE),"") -> #N/A | I4: =IF(I$2=VLOOKUP($A4,Feuil1!$M$3:$O$11,2,FALSE),VLOOKUP($A4,Feuil1!$M$3:$O$11,3,FALSE),"") -> #N/A | ... K4: =IF(K$2=VLOOKUP($A4,Feuil1!$M$3:$O$11,2,FALSE),VLOOKUP($A4,Feuil1!$M$3:$O$11,3,FALSE),"") -> #N/A | M4: 3 | N4: 6 | O4: 4.67
A5: 3 | B5: =IF(B$2=VLOOKUP($A5,Feuil1!$M$3:$O$11,2,FALSE),VLOOKUP($A5,Feuil1!$M$3:$O$11,3,FALSE),"") | C5: =IF(C$2=VLOOKUP($A5,Feuil1!$M$3:$O$11,2,FALSE),VLOOKUP($A5,Feuil1!$M$3:$O$11,3,FALSE),"") | D5: =IF(D$2=VLOOKUP($A5,Feuil1!$M$3:$O$11,2,FALSE),VLOOKUP($A5,Feuil1!$M$3:$O$11,3,FALSE),"") | E5: =IF(E$2=VLOOKUP($A5,Feuil1!$M$3:$O$11,2,FALSE),VLOOKUP($A5,Feuil1!$M$3:$O$11,3,FALSE),"") | F5: =IF(F$2=VLOOKUP($A5,Feuil1!$M$3:$O$11,2,FALSE),VLOOKUP($A5,Feuil1!$M$3:$O$11,3,FALSE),"") | G5: =IF(G$2=VLOOKUP($A5,Feuil1!$M$3:$O$11,2,FALSE),VLOOKUP($A5,Feuil1!$M$3:$O$11,3,FALSE),"") -> 4.67 | H5: =IF(H$2=VLOOKUP($A5,Feuil1!$M$3:$O$11,2,FALSE),VLOOKUP($A5,Feuil1!$M$3:$O$11,3,FALSE),"") | I5: =IF(I$2=VLOOKUP($A5,Feuil1!$M$3:$O$11,2,FALSE),VLOOKUP($A5,Feuil1!$M$3:$O$11,3,FALSE),"") | ... K5: =IF(K$2=VLOOKUP($A5,Feuil1!$M$3:$O$11,2,FALSE),VLOOKUP($A5,Feuil1!$M$3:$O$11,3,FALSE),"") | M5: 4 | N5: 8 | O5: 4.58
A6: 4 | B6: =IF(B$2=VLOOKUP($A6,Feuil1!$M$3:$O$11,2,FALSE),VLOOKUP($A6,Feuil1!$M$3:$O$11,3,FALSE),"") | C6: =IF(C$2=VLOOKUP($A6,Feuil1!$M$3:$O$11,2,FALSE),VLOOKUP($A6,Feuil1!$M$3:$O$11,3,FALSE),"") | D6: =IF(D$2=VLOOKUP($A6,Feuil1!$M$3:$O$11,2,FALSE),VLOOKUP($A6,Feuil1!$M$3:$O$11,3,FALSE),"") | E6: =IF(E$2=VLOOKUP($A6,Feuil1!$M$3:$O$11,2,FALSE),VLOOKUP($A6,Feuil1!$M$3:$O$11,3,FALSE),"") | F6: =IF(F$2=VLOOKUP($A6,Feuil1!$M$3:$O$11,2,FALSE),VLOOKUP($A6,Feuil1!$M$3:$O$11,3,FALSE),"") | G6: =IF(G$2=VLOOKUP($A6,Feuil1!$M$3:$O$11,2,FALSE),VLOOKUP($A6,Feuil1!$M$3:$O$11,3,FALSE),"") | H6: =IF(H$2=VLOOKUP($A6,Feuil1!$M$3:$O$11,2,FALSE),VLOOKUP($A6,Feuil1!$M$3:$O$11,3,FALSE),"") | I6: =IF(I$2=VLOOKUP($A6,Feuil1!$M$3:$O$11,2,FALSE),VLOOKUP($A6,Feuil1!$M$3:$O$11,3,FALSE),"") -> 4.58 | ... K6: =IF(K$2=VLOOKUP($A6,Feuil1!$M$3:$O$11,2,FALSE),VLOOKUP($A6,Feuil1!$M$3:$O$11,3,FALSE),"") | M6: 5 | N6: 3 | O6: 8.47
A7: 5 | B7: =IF(B$2=VLOOKUP($A7,Feuil1!$M$3:$O$11,2,FALSE),VLOOKUP($A7,Feuil1!$M$3:$O$11,3,FALSE),"") | C7: =IF(C$2=VLOOKUP($A7,Feuil1!$M$3:$O$11,2,FALSE),VLOOKUP($A7,Feuil1!$M$3:$O$11,3,FALSE),"") | D7: =IF(D$2=VLOOKUP($A7,Feuil1!$M$3:$O$11,2,FALSE),VLOOKUP($A7,Feuil1!$M$3:$O$11,3,FALSE),"") -> 8.47 | E7: =IF(E$2=VLOOKUP($A7,Feuil1!$M$3:$O$11,2,FALSE),VLOOKUP($A7,Feuil1!$M$3:$O$11,3,FALSE),"") | F7: =IF(F$2=VLOOKUP($A7,Feuil1!$M$3:$O$11,2,FALSE),VLOOKUP($A7,Feuil1!$M$3:$O$11,3,FALSE),"") | G7: =IF(G$2=VLOOKUP($A7,Feuil1!$M$3:$O$11,2,FALSE),VLOOKUP($A7,Feuil1!$M$3:$O$11,3,FALSE),"") | H7: =IF(H$2=VLOOKUP($A7,Feuil1!$M$3:$O$11,2,FALSE),VLOOKUP($A7,Feuil1!$M$3:$O$11,3,FALSE),"") | I7: =IF(I$2=VLOOKUP($A7,Feuil1!$M$3:$O$11,2,FALSE),VLOOKUP($A7,Feuil1!$M$3:$O$11,3,FALSE),"") | ... K7: =IF(K$2=VLOOKUP($A7,Feuil1!$M$3:$O$11,2,FALSE),VLOOKUP($A7,Feuil1!$M$3:$O$11,3,FALSE),"") | M7: 6 | N7: 2 | O7: 9.39
A8: 6 | B8: =IF(B$2=VLOOKUP($A8,Feuil1!$M$3:$O$11,2,FALSE),VLOOKUP($A8,Feuil1!$M$3:$O$11,3,FALSE),"") | C8: =IF(C$2=VLOOKUP($A8,Feuil1!$M$3:$O$11,2,FALSE),VLOOKUP($A8,Feuil1!$M$3:$O$11,3,FALSE),"") -> 9.39 | D8: =IF(D$2=VLOOKUP($A8,Feuil1!$M$3:$O$11,2,FALSE),VLOOKUP($A8,Feuil1!$M$3:$O$11,3,FALSE),"") | E8: =IF(E$2=VLOOKUP($A8,Feuil1!$M$3:$O$11,2,FALSE),VLOOKUP($A8,Feuil1!$M$3:$O$11,3,FALSE),"") | F8: =IF(F$2=VLOOKUP($A8,Feuil1!$M$3:$O$11,2,FALSE),VLOOKUP($A8,Feuil1!$M$3:$O$11,3,FALSE),"") | G8: =IF(G$2=VLOOKUP($A8,Feuil1!$M$3:$O$11,2,FALSE),VLOOKUP($A8,Feuil1!$M$3:$O$11,3,FALSE),"") | H8: =IF(H$2=VLOOKUP($A8,Feuil1!$M$3:$O$11,2,FALSE),VLOOKUP($A8,Feuil1!$M$3:$O$11,3,FALSE),"") | I8: =IF(I$2=VLOOKUP($A8,Feuil1!$M$3:$O$11,2,FALSE),VLOOKUP($A8,Feuil1!$M$3:$O$11,3,FALSE),"") | ... K8: =IF(K$2=VLOOKUP($A8,Feuil1!$M$3:$O$11,2,FALSE),VLOOKUP($A8,Feuil1!$M$3:$O$11,3,FALSE),"") | M8: 3 | N8: 8 | O8: 8.56
A9: 7 | B9: =IF(B$2=VLOOKUP($A9,Feuil1!$M$3:$O$11,2,FALSE),VLOOKUP($A9,Feuil1!$M$3:$O$11,3,FALSE),"") -> #N/A | C9: =IF(C$2=VLOOKUP($A9,Feuil1!$M$3:$O$11,2,FALSE),VLOOKUP($A9,Feuil1!$M$3:$O$11,3,FALSE),"") -> #N/A | D9: =IF(D$2=VLOOKUP($A9,Feuil1!$M$3:$O$11,2,FALSE),VLOOKUP($A9,Feuil1!$M$3:$O$11,3,FALSE),"") -> #N/A | E9: =IF(E$2=VLOOKUP($A9,Feuil1!$M$3:$O$11,2,FALSE),VLOOKUP($A9,Feuil1!$M$3:$O$11,3,FALSE),"") -> #N/A | F9: =IF(F$2=VLOOKUP($A9,Feuil1!$M$3:$O$11,2,FALSE),VLOOKUP($A9,Feuil1!$M$3:$O$11,3,FALSE),"") -> #N/A | G9: =IF(G$2=VLOOKUP($A9,Feuil1!$M$3:$O$11,2,FALSE),VLOOKUP($A9,Feuil1!$M$3:$O$11,3,FALSE),"") -> #N/A | H9: =IF(H$2=VLOOKUP($A9,Feuil1!$M$3:$O$11,2,FALSE),VLOOKUP($A9,Feuil1!$M$3:$O$11,3,FALSE),"") -> #N/A | I9: =IF(I$2=VLOOKUP($A9,Feuil1!$M$3:$O$11,2,FALSE),VLOOKUP($A9,Feuil1!$M$3:$O$11,3,FALSE),"") -> #N/A | ... K9: =IF(K$2=VLOOKUP($A9,Feuil1!$M$3:$O$11,2,FALSE),VLOOKUP($A9,Feuil1!$M$3:$O$11,3,FALSE),"") -> #N/A
A10: 8 | B10: =IF(B$2=VLOOKUP($A10,Feuil1!$M$3:$O$11,2,FALSE),VLOOKUP($A10,Feuil1!$M$3:$O$11,3,FALSE),"") -> #N/A | C10: =IF(C$2=VLOOKUP($A10,Feuil1!$M$3:$O$11,2,FALSE),VLOOKUP($A10,Feuil1!$M$3:$O$11,3,FALSE),"") -> #N/A | D10: =IF(D$2=VLOOKUP($A10,Feuil1!$M$3:$O$11,2,FALSE),VLOOKUP($A10,Feuil1!$M$3:$O$11,3,FALSE),"") -> #N/A | E10: =IF(E$2=VLOOKUP($A10,Feuil1!$M$3:$O$11,2,FALSE),VLOOKUP($A10,Feuil1!$M$3:$O$11,3,FALSE),"") -> #N/A | F10: =IF(F$2=VLOOKUP($A10,Feuil1!$M$3:$O$11,2,FALSE),VLOOKUP($A10,Feuil1!$M$3:$O$11,3,FALSE),"") -> #N/A | G10: =IF(G$2=VLOOKUP($A10,Feuil1!$M$3:$O$11,2,FALSE),VLOOKUP($A10,Feuil1!$M$3:$O$11,3,FALSE),"") -> #N/A | H10: =IF(H$2=VLOOKUP($A10,Feuil1!$M$3:$O$11,2,FALSE),VLOOKUP($A10,Feuil1!$M$3:$O$11,3,FALSE),"") -> #N/A | I10: =IF(I$2=VLOOKUP($A10,Feuil1!$M$3:$O$11,2,FALSE),VLOOKUP($A10,Feuil1!$M$3:$O$11,3,FALSE),"") -> #N/A | ... K10: =IF(K$2=VLOOKUP($A10,Feuil1!$M$3:$O$11,2,FALSE),VLOOKUP($A10,Feuil1!$M$3:$O$11,3,FALSE),"") -> #N/A
A11: 9 | B11: =IF(B$2=VLOOKUP($A11,Feuil1!$M$3:$O$11,2,FALSE),VLOOKUP($A11,Feuil1!$M$3:$O$11,3,FALSE),"") -> #N/A | C11: =IF(C$2=VLOOKUP($A11,Feuil1!$M$3:$O$11,2,FALSE),VLOOKUP($A11,Feuil1!$M$3:$O$11,3,FALSE),"") -> #N/A | D11: =IF(D$2=VLOOKUP($A11,Feuil1!$M$3:$O$11,2,FALSE),VLOOKUP($A11,Feuil1!$M$3:$O$11,3,FALSE),"") -> #N/A | E11: =IF(E$2=VLOOKUP($A11,Feuil1!$M$3:$O$11,2,FALSE),VLOOKUP($A11,Feuil1!$M$3:$O$11,3,FALSE),"") -> #N/A | F11: =IF(F$2=VLOOKUP($A11,Feuil1!$M$3:$O$11,2,FALSE),VLOOKUP($A11,Feuil1!$M$3:$O$11,3,FALSE),"") -> #N/A | G11: =IF(G$2=VLOOKUP($A11,Feuil1!$M$3:$O$11,2,FALSE),VLOOKUP($A11,Feuil1!$M$3:$O$11,3,FALSE),"") -> #N/A | H11: =IF(H$2=VLOOKUP($A11,Feuil1!$M$3:$O$11,2,FALSE),VLOOKUP($A11,Feuil1!$M$3:$O$11,3,FALSE),"") -> #N/A | I11: =IF(I$2=VLOOKUP($A11,Feuil1!$M$3:$O$11,2,FALSE),VLOOKUP($A11,Feuil1!$M$3:$O$11,3,FALSE),"") -> #N/A | ... K11: =IF(K$2=VLOOKUP($A11,Feuil1!$M$3:$O$11,2,FALSE),VLOOKUP($A11,Feuil1!$M$3:$O$11,3,FALSE),"") -> #N/A
A12: 10 | B12: =IF(B$2=VLOOKUP($A12,Feuil1!$M$3:$O$11,2,FALSE),VLOOKUP($A12,Feuil1!$M$3:$O$11,3,FALSE),"") -> #N/A | C12: =IF(C$2=VLOOKUP($A12,Feuil1!$M$3:$O$11,2,FALSE),VLOOKUP($A12,Feuil1!$M$3:$O$11,3,FALSE),"") -> #N/A | D12: =IF(D$2=VLOOKUP($A12,Feuil1!$M$3:$O$11,2,FALSE),VLOOKUP($A12,Feuil1!$M$3:$O$11,3,FALSE),"") -> #N/A | E12: =IF(E$2=VLOOKUP($A12,Feuil1!$M$3:$O$11,2,FALSE),VLOOKUP($A12,Feuil1!$M$3:$O$11,3,FALSE),"") -> #N/A | F12: =IF(F$2=VLOOKUP($A12,Feuil1!$M$3:$O$11,2,FALSE),VLOOKUP($A12,Feuil1!$M$3:$O$11,3,FALSE),"") -> #N/A | G12: =IF(G$2=VLOOKUP($A12,Feuil1!$M$3:$O$11,2,FALSE),VLOOKUP($A12,Feuil1!$M$3:$O$11,3,FALSE),"") -> #N/A | H12: =IF(H$2=VLOOKUP($A12,Feuil1!$M$3:$O$11,2,FALSE),VLOOKUP($A12,Feuil1!$M$3:$O$11,3,FALSE),"") -> #N/A | I12: =IF(I$2=VLOOKUP($A12,Feuil1!$M$3:$O$11,2,FALSE),VLOOKUP($A12,Feuil1!$M$3:$O$11,3,FALSE),"") -> #N/A | ... K12: =IF(K$2=VLOOKUP($A12,Feuil1!$M$3:$O$11,2,FALSE),VLOOKUP($A12,Feuil1!$M$3:$O$11,3,FALSE),"") -> #N/A
A13: Date
