Workbook

Sheet GPS1
A1: Date | B1: Time | C1: Date et heure | D1: Longitude | E1: Latitude
A2: 42225 | B2: 0.87774306 | C2: =A2+B2 -> 42225.878 | D2: Y1 | E2: X1
A3: 42225 | B3: 0.88228009 | C3: =A3+B3 -> 42225.882 | D3: Y2 | E3: X2
A4: 42225 | B4: 0.88521991 | C4: =A4+B4 -> 42225.885 | D4: Y3 | E4: X3
A5: 42225 | B5: 0.88837963 | C5: =A5+B5 -> 42225.888 | D5: Y4 | E5: X4
A6: 42225 | B6: 0.89263889 | C6: =A6+B6 -> 42225.893 | D6: Y5 | E6: X5
A7: 42225 | B7: 0.89673611 | C7: =A7+B7 -> 42225.897 | D7: Y6 | E7: X6
A8: 42225 | B8: 0.90137731 | C8: =A8+B8 -> 42225.901 | D8: Y7 | E8: X7
A9: 42225 | B9: 0.90642361 | C9: =A9+B9 -> 42225.906 | D9: Y8 | E9: X8
A10: 42225 | B10: 0.91178241 | C10: =A10+B10 -> 42225.912 | D10: Y9 | E10: X9
A11: 42225 | B11: 0.91642361 | C11: =A11+B11 -> 42225.916 | D11: Y10 | E11: X10
A12: 42225 | B12: 0.92107639 | C12: =A12+B12 -> 42225.921 | D12: Y11 | E12: X11
A13: 42225 | B13: 0.92605324 | C13: =A13+B13 -> 42225.926 | D13: Y12 | E13: X12
... A161: 42226 | B161: 0.37 | C161: =A161+B161 -> 42226.37 | D161: Y160 | E161: X160

Sheet GPS2
A1: Date | B1: Time | C1: Date et heure | D1: Longitude | E1: Latitude | G1: Time | I1: Time | J1: Longitude | K1: Latitude | M1: Time | N1: Longitude | O1: Latitude
A2: 42225 | B2: 0.87461806 | C2: =A2+B2 -> 42225.875 | D2: Y1 | E2: X1 | G2: {=MIN(IF(B2:B2412>='GPS1'!B2,B2:B2412,9E+99))} -> 0.87802083 | I2: 0.87802083 | M2: 0.87802083 | N2: Y9 | O2: X9 | Q2: Plage à filtrer
A3: 42225 | B3: 0.8750463 | C3: =A3+B3 -> 42225.875 | D3: Y2 | E3: X2 | G3: {=MIN(IF(B3:B2413>='GPS1'!B3,B3:B2413,9E+99))} -> 0.88273148 | I3: 0.88273148 | M3: 0.88273148 | N3: Y20 | O3: X20
A4: 42225 | B4: 0.87549769 | C4: =A4+B4 -> 42225.875 | D4: Y3 | E4: X3 | G4: {=MIN(IF(B4:B2414>='GPS1'!B4,B4:B2414,9E+99))} -> 0.885625 | I4: 0.885625 | M4: 0.885625 | N4: Y27 | O4: X27 | Q4: Valeurs GPS2 proches de GPS1
A5: 42225 | B5: 0.87592593 | C5: =A5+B5 -> 42225.876 | D5: Y4 | E5: X4 | G5: {=MIN(IF(B5:B2415>='GPS1'!B5,B5:B2415,9E+99))} -> 0.88853009 | I5: 0.88853009 | M5: 0.88853009 | N5: Y34 | O5: X34
A6: 42225 | B6: 0.87633102 | C6: =A6+B6 -> 42225.876 | D6: Y5 | E6: X5 | G6: {=MIN(IF(B6:B2416>='GPS1'!B6,B6:B2416,9E+99))} -> 0.89290509 | I6: 0.89290509 | M6: 0.89290509 | N6: Y44 | O6: X44 | Q6: Plage de critères
A7: 42225 | B7: 0.87675926 | C7: =A7+B7 -> 42225.877 | D7: Y6 | E7: X6 | G7: {=MIN(IF(B7:B2417>='GPS1'!B7,B7:B2417,9E+99))} -> 0.89678241 | I7: 0.89678241 | M7: 0.89678241 | N7: Y53 | O7: X53
A8: 42225 | B8: 0.87716435 | C8: =A8+B8 -> 42225.877 | D8: Y7 | E8: X7 | G8: {=MIN(IF(B8:B2418>='GPS1'!B8,B8:B2418,9E+99))} -> 0.90145833 | I8: 0.90145833 | M8: 0.90145833 | N8: Y64 | O8: X64 | Q8: Plage filtrée
A9: 42225 | B9: 0.87760417 | C9: =A9+B9 -> 42225.878 | D9: Y8 | E9: X8 | G9: {=MIN(IF(B9:B2419>='GPS1'!B9,B9:B2419,9E+99))} -> 0.90649306 | I9: 0.90649306 | M9: 0.90649306 | N9: Y76 | O9: X76
A10: 42225 | B10: 0.87802083 | C10: =A10+B10 -> 42225.878 | D10: Y9 | E10: X9 | G10: {=MIN(IF(B10:B2420>='GPS1'!B10,B10:B2420,9E+99))} -> 0.91209491 | I10: 0.91209491 | M10: 0.91209491 | N10: Y89 | O10: X89
A11: 42225 | B11: 0.8784838 | C11: =A11+B11 -> 42225.878 | D11: Y10 | E11: X10 | G11: {=MIN(IF(B11:B2421>='GPS1'!B11,B11:B2421,9E+99))} -> 0.91707176 | I11: 0.91707176 | M11: 0.91707176 | N11: Y100 | O11: X100
A12: 42225 | B12: 0.87890046 | C12: =A12+B12 -> 42225.879 | D12: Y11 | E12: X11 | G12: {=MIN(IF(B12:B2422>='GPS1'!B12,B12:B2422,9E+99))} -> 0.92113426 | I12: 0.92113426 | M12: 0.92113426 | N12: Y110 | O12: X110
A13: 42225 | B13: 0.87930556 | C13: =A13+B13 -> 42225.879 | D13: Y12 | E13: X12 | G13: {=MIN(IF(B13:B2423>='GPS1'!B13,B13:B2423,9E+99))} -> 0.92634259 | I13: 0.92634259 | M13: 0.92634259 | N13: Y124 | O13: X124
A14: 42225 | B14: 0.87971065 | C14: =A14+B14 -> 42225.88 | D14: Y13 | E14: X13 | G14: {=MIN(IF(B14:B2424>='GPS1'!B14,B14:B2424,9E+99))} -> 0.93092593 | I14: 0.93092593 | M14: 0.93092593 | N14: Y136 | O14: X136
A15: 42225 | B15: 0.88011574 | C15: =A15+B15 -> 42225.88 | D15: Y14 | E15: X14 | G15: {=MIN(IF(B15:B2425>='GPS1'!B15,B15:B2425,9E+99))} -> 0.93358796 | I15: 0.93358796 | M15: 0.93358796 | N15: Y143 | O15: X143
A16: 42225 | B16: 0.88052083 | C16: =A16+B16 -> 42225.881 | D16: Y15 | E16: X15 | G16: {=MIN(IF(B16:B2426>='GPS1'!B16,B16:B2426,9E+99))} -> 0.93664352 | I16: 0.93664352 | M16: 0.93664352 | N16: Y151 | O16: X151
A17: 42225 | B17: 0.88092593 | C17: =A17+B17 -> 42225.881 | D17: Y16 | E17: X16 | G17: {=MIN(IF(B17:B2427>='GPS1'!B17,B17:B2427,9E+99))} -> 0.93969907 | I17: 0.93969907 | M17: 0.93969907 | N17: Y159 | O17: X159
A18: 42225 | B18: 0.88133102 | C18: =A18+B18 -> 42225.881 | D18: Y17 | E18: X17 | G18: {=MIN(IF(B18:B2428>='GPS1'!B18,B18:B2428,9E+99))} -> 0.94275463 | I18: 0.94275463 | M18: 0.94275463 | N18: Y167 | O18: X167
A19: 42225 | B19: 0.88179398 | C19: =A19+B19 -> 42225.882 | D19: Y18 | E19: X18 | G19: {=MIN(IF(B19:B2429>='GPS1'!B19,B19:B2429,9E+99))} -> 0.94542824 | I19: 0.94542824 | M19: 0.94542824 | N19: Y174 | O19: X174
A20: 42225 | B20: 0.88226852 | C20: =A20+B20 -> 42225.882 | D20: Y19 | E20: X19 | G20: {=MIN(IF(B20:B2430>='GPS1'!B20,B20:B2430,9E+99))} -> 0.9484838 | I20: 0.9484838 | M20: 0.9484838 | N20: Y182 | O20: X182
... A153: 42225 | B153: 0.93702546 | C153: =A153+B153 -> 42225.937 | D153: Y152 | E153: X152 | G153: {=MIN(IF(B153:B2563>='GPS1'!B153,B153:B2563,9E+99))} -> 0.3459838 | I153: 0.3459838 | M153: 0.3702662 | N153: Y1166 | O153: X1166
A154: 42225 | B154: 0.93740741 | C154: =A154+B154 -> 42225.937 | D154: Y153 | E154: X153 | G154: {=MIN(IF(B154:B2564>='GPS1'!B154,B154:B2564,9E+99))} -> 0.34877315 | I154: 0.34877315
A155: 42225 | B155: 0.93778935 | C155: =A155+B155 -> 42225.938 | D155: Y154 | E155: X154 | G155: {=MIN(IF(B155:B2565>='GPS1'!B155,B155:B2565,9E+99))} -> 0.35158565 | I155: 0.35158565
A156: 42225 | B156: 0.9381713 | C156: =A156+B156 -> 42225.938 | D156: Y155 | E156: X155 | G156: {=MIN(IF(B156:B2566>='GPS1'!B156,B156:B2566,9E+99))} -> 0.35482639 | I156: 0.35482639
A157: 42225 | B157: 0.93855324 | C157: =A157+B157 -> 42225.939 | D157: Y156 | E157: X156 | G157: {=MIN(IF(B157:B2567>='GPS1'!B157,B157:B2567,9E+99))} -> 0.35773148 | I157: 0.35773148
A158: 42225 | B158: 0.93893519 | C158: =A158+B158 -> 42225.939 | D158: Y157 | E158: X157 | G158: {=MIN(IF(B158:B2568>='GPS1'!B158,B158:B2568,9E+99))} -> 0.36092593 | I158: 0.36092593
A159: 42225 | B159: 0.93931713 | C159: =A159+B159 -> 42225.939 | D159: Y158 | E159: X158 | G159: {=MIN(IF(B159:B2569>='GPS1'!B159,B159:B2569,9E+99))} -> 0.36443287 | I159: 0.36443287
A160: 42225 | B160: 0.93969907 | C160: =A160+B160 -> 42225.94 | D160: Y159 | E160: X159 | G160: {=MIN(IF(B160:B2570>='GPS1'!B160,B160:B2570,9E+99))} -> 0.36738426 | I160: 0.36738426
A161: 42225 | B161: 0.94008102 | C161: =A161+B161 -> 42225.94 | D161: Y160 | E161: X160 | G161: {=MIN(IF(B161:B2571>='GPS1'!B161,B161:B2571,9E+99))} -> 0.3702662 | I161: 0.3702662
A162: 42225 | B162: 0.94046296 | C162: =A162+B162 -> 42225.94 | D162: Y161 | E162: X161
A163: 42225 | B163: 0.94084491 | C163: =A163+B163 -> 42225.941 | D163: Y162 | E163: X162
A164: 42225 | B164: 0.94122685 | C164: =A164+B164 -> 42225.941 | D164: Y163 | E164: X163
A165: 42225 | B165: 0.9416088 | C165: =A165+B165 -> 42225.942 | D165: Y164 | E165: X164
A166: 42225 | B166: 0.94199074 | C166: =A166+B166 -> 42225.942 | D166: Y165 | E166: X165
A167: 42225 | B167: 0.94237269 | C167: =A167+B167 -> 42225.942 | D167: Y166 | E167: X166
A168: 42225 | B168: 0.94275463 | C168: =A168+B168 -> 42225.943 | D168: Y167 | E168: X167
A169: 42225 | B169: 0.94313657 | C169: =A169+B169 -> 42225.943 | D169: Y168 | E169: X168
A170: 42225 | B170: 0.94351852 | C170: =A170+B170 -> 42225.944 | D170: Y169 | E170: X169
A171: 42225 | B171: 0.94390046 | C171: =A171+B171 -> 42225.944 | D171: Y170 | E171: X170
A172: 42225 | B172: 0.94428241 | C172: =A172+B172 -> 42225.944 | D172: Y171 | E172: X171
A173: 42225 | B173: 0.94466435 | C173: =A173+B173 -> 42225.945 | D173: Y172 | E173: X172
... A2412: 42226 | B2412: 0.8209838 | C2412: =A2412+B2412 -> 42226.821 | D2412: Y2411 | E2412: X2411
