Workbook
Name HeuresSemaineTravail: 'Bruxelles (2)'!#REF!
Name HeuresSemaineTravail: Bruxelles!#REF!

Sheet Source
A2: Mois: | B2: 2
A3: Année: | B3: 2016
A5: N° | B5: Contrats: | C5: Lundi | D5: Mardi | E5: Mercredi | F5: Jeudi | G5: Vendredi | H5: Samedi | I5: Dimanche
A6: 1 | B6: Elodie C. | H6: 10
A7: 2 | B7: Cy-Ba J. | H7: 10
A8: 3 | B8: Sara B. | H8: 10
A9: 4 | B9: Nicolas H. | H9: 10
A10: 5 | B10: Nicolas B. | E10: 10
A11: 6 | B11: Amandine V.D.G. | H11: 10
A12: 7 | B12: Sophie J. | H12: 10
A13: 8 | B13: Mathilde L. | G13: 3
A14: 9 | B14: Coralie D. | C14: 10
A15: 10 | B15: Marie H. | H15: 10
A16: 11 | B16: Charlotte V. | H16: 10
A17: 12 | B17: Mélanie V.H. | H17: 10
A18: 13 | B18: Sébastin G. | D18: 10

Sheet Bruxelles
B3: Feuille de présences étudiants
B4: Maison Lanssens: Bruxelles | R4: - | S4: Les heures affichées sont payées sur le compte fin du mois
B5: Responsable: Fabienne Leysens | R5: - | S5: Barrer/Corriger les heures non prestées
M7: Période: | R7: =Source!B2 -> 2 | W7: =Source!B3 -> 2016
C9: 1 | D9: 2 | E9: 3 | F9: 4 | G9: 5 | H9: 6 | I9: 7 | J9: 8 | K9: 9 | L9: 10 | M9: 11 | N9: 12 | O9: 13 | P9: 14 | Q9: 15 | R9: 16 | S9: 17 | T9: 18 | U9: 19 | V9: 20 | W9: 21 | X9: 22 | Y9: 23 | Z9: 24 | AA9: 25 | AB9: 26 | AC9: 27 | AD9: 28 | AE9: 29 | AF9: 30 | AG9: 31
B11: Elodie Crabbe | O11: 10 | V11: 10 | AC11: 10
B12: Cy-Ba Jenkins | H12: 10 | O12: 10 | V12: 10 | AC12: 10
B13: Sara Brarou | H13: 10 | O13: 10 | V13: 10 | AC13: 10
B14: Nicolas Hayot | H14: 6 | O14: 10 | V14: 10 | AC14: 10
B15: Nicolas Bassine | E15: 10 | L15: 10 | S15: 10 | Z15: 10 | AG15: 10
B16: Amandine V.D. Ghinst | H16: 10 | O16: 10 | V16: 10 | AC16: 10
B17: Sophie Jadoul | O17: 10 | V17: 10 | AC17: 10
B18: Mathilde Lebe | G18: 3 | N18: 3 | U18: 3 | AB18: 3
B19: Coralie Debouck | C19: 10 | J19: 10 | Q19: 10 | X19: 10 | AE19: 10
B20: Marie Huret | O20: 10 | V20: 10 | AC20: 10
B21: Mélanie van Haute | H21: 10 | O21: 10 | V21: 10 | AC21: 10
B22: Sébastien Gicquel | K22: 10 | R22: 10 | Y22: 10 | AF22: 10
B23: Charlotte Vandamme | H23: 4 | O23: 10 | V23: 10 | AC23: 10
Y24: MAJ: | AA24: 42428
Y25: Signature:

Sheet Bruxelles (2)
B3: Feuille de présences étudiants
B4: Maison Lanssens: Bruxelles | R4: - | S4: Les heures affichées sont payées sur le compte fin du mois
B5: Responsable: Fabienne | R5: - | S5: Barrer/Corriger les heures non prestées
M7: Période: | R7: =DATE(Source!B3,Source!B2,1) -> 42401
C9: =DATE(Source!B3,Source!B2,1) -> 42401 | D9: =C9+1 -> 42402 | E9: =D9+1 -> 42403 | F9: =E9+1 -> 42404 | G9: =F9+1 -> 42405 | H9: =G9+1 -> 42406 | I9: =H9+1 -> 42407 | J9: =I9+1 -> 42408 | K9: =J9+1 -> 42409 | ... AG9: =AF9+1 -> 42431
C10: =DATE(Source!B3,Source!B2,1) -> 42401 | D10: =C10+1 -> 42402 | E10: =D10+1 -> 42403 | F10: =E10+1 -> 42404 | G10: =F10+1 -> 42405 | H10: =G10+1 -> 42406 | I10: =H10+1 -> 42407 | J10: =I10+1 -> 42408 | K10: =J10+1 -> 42409 | ... AG10: =AF10+1 -> 42431
B12: Elodie | C12: =IF(WEEKDAY(C9,2)=1,Source!C6,IF(WEEKDAY('Bruxelles (2)'!C9,2)=6,Source!H6,"")) -> 0 | D12: =IF(WEEKDAY(D9,2)=1,Source!D6,IF(WEEKDAY('Bruxelles (2)'!D9,2)=6,Source!I6,"")) | E12: =IF(WEEKDAY(E9,2)=1,Source!E6,IF(WEEKDAY('Bruxelles (2)'!E9,2)=6,Source!J6,"")) | F12: =IF(WEEKDAY(F9,2)=1,Source!F6,IF(WEEKDAY('Bruxelles (2)'!F9,2)=6,Source!K6,"")) | G12: =IF(WEEKDAY(G9,2)=1,Source!G6,IF(WEEKDAY('Bruxelles (2)'!G9,2)=6,Source!L6,"")) | H12: =IF(WEEKDAY(H9,2)=1,Source!H6,IF(WEEKDAY('Bruxelles (2)'!H9,2)=6,Source!M6,"")) -> 0
B13: Cyba
B14: Sara
B15: Nico H.
B16: Nico B.
B17: Amand
B18: Sophie | C18: =IF(WEEKDAY(C$10,2)=1,Source!$C$14,"") -> 10
B19: Mathil
B20: Coralie | D20: =IF(WEEKDAY(D$10,2)=1,Source!$C$14,"") | E20: =IF(WEEKDAY(E$10,2)=1,Source!$C$14,"") | F20: =IF(WEEKDAY(F$10,2)=1,Source!$C$14,"") | G20: =IF(WEEKDAY(G$10,2)=1,Source!$C$14,"") | H20: =IF(WEEKDAY(H$10,2)=1,Source!$C$14,"") | I20: =IF(WEEKDAY(I$10,2)=1,Source!$C$14,"") | J20: =IF(WEEKDAY(J$10,2)=1,Source!$C$14,"") -> 10 | K20: =IF(WEEKDAY(K$10,2)=1,Source!$C$14,"") | ... AG20: =IF(WEEKDAY(AG$10,2)=1,Source!$C$14,"")
B21: Marie
B22: Mélanie
B23: Sebastien
B24: Charlotte
Y25: MAJ: | AA25: 42428
Y26: Signature:
