Workbook

Sheet Synthèse
A1: =NOW() -> 43522.393 | C1: Suivi réel mois par mois
C2: Janvier | D2: Février | E2: Mars | F2: Avril | G2: Mai | H2: Juin | I2: Juillet | J2: Août | K2: Septembre | L2: Octobre | M2: Novembre | N2: Décembre
A3: Revenus du travail | B3: Complémntaire José | C3: =Revenus!C6 -> 100 | D3: =Revenus!D6 -> 100
B4: Retraite José | C4: =Revenus!C7 -> 800 | D4: =Revenus!D7 -> 800
B5: Complémentaire Nicole | C5: =Revenus!C13 -> 100 | D5: =Revenus!D13 -> 100
B6: Retraite Nicole | C6: =Revenus!C14 -> 800 | D6: =Revenus!D14 -> 800
A7: Remboursement santé | B7: Rembousement CPAM
B8: Rembousement PROBTP
A9: Livret A | B9: Virement du livret
B10: Virement vers livret
B11: Total revenus | C11: =SUM(C3:C10) -> 1800 | D11: =SUM(D3:D10) -> 1800 | E11: =SUM(E3:E6) -> 0 | F11: =SUM(F3:F6) -> 0 | G11: =SUM(G3:G6) -> 0 | H11: =SUM(H3:H6) -> 0 | I11: =SUM(I3:I6) -> 0 | J11: =SUM(J3:J6) -> 0 | K11: =SUM(K3:K6) -> 0 | L11: =SUM(L3:L6) -> 0 | ... N11: =SUM(N3:N6) -> 0
A12: Logement | B12: Loyer
B13: Assurance logement
B14: Taxe d'habitation et redevance TV
B15: Eau
B16: EDF
B17: Total logement | C17: =SUM(C12:C16) -> 0 | D17: =SUM(D12:D16) -> 0 | E17: =SUM(E12:E16) -> 0 | F17: =SUM(F12:F16) -> 0 | G17: =SUM(G12:G16) -> 0 | H17: =SUM(H12:H16) -> 0 | I17: =SUM(I12:I16) -> 0 | J17: =SUM(J12:J16) -> 0 | ... N17: =SUM(N12:N16) -> 0
A18: Alimetation et entretien maison | B18: Carrefour
B19: Leader Price
B20: Les Grands Champs
B21: Boulangerie de l'Eglise
B22: Robin
B23: Floriane
B24: La Fringale
B25: Pizza Sop
B26: Total alimentation | C26: =SUM(C18:C25) -> 0 | D26: =SUM(D18:D25) -> 0 | E26: =SUM(E18:E25) -> 0 | F26: =SUM(F18:F25) -> 0 | G26: =SUM(G18:G25) -> 0 | H26: =SUM(H18:H25) -> 0 | I26: =SUM(I18:I25) -> 0 | J26: =SUM(J18:J25) -> 0 | ... N26: =SUM(N18:N25) -> 0
A27: Habillement | B27: Habillement
B28: Total habillement | C28: =SUM(C27) -> 0 | D28: =SUM(D27) -> 0 | E28: =SUM(E27) -> 0 | F28: =SUM(F27) -> 0 | G28: =SUM(G27) -> 0 | H28: =SUM(H27) -> 0 | I28: =SUM(I27) -> 0 | J28: =SUM(J27) -> 0 | ... N28: =SUM(N27) -> 0
A29: Santé | B29: Mutuelle
B30: Médecin
B31: Spécialiste
B32: Pharmacie
B33: Total santé | C33: =SUM(C29:C32) -> 0 | D33: =SUM(D29:D32) -> 0 | E33: =SUM(E29:E32) -> 0 | F33: =SUM(F29:F32) -> 0 | G33: =SUM(G29:G32) -> 0 | H33: =SUM(H29:H32) -> 0 | I33: =SUM(I29:I32) -> 0 | J33: =SUM(J29:J32) -> 0 | ... N33: =SUM(N29:N32) -> 0
A34: Voiture Clio IV | B34: Assurance
B35: Carburant
B36: Cofiroute
A37: CM-092-TA | B37: Entretien
B38: Lavage
B39: Total voiture | C39: =SUM(C34:C38) -> 0 | D39: =SUM(D34:D38) -> 0 | E39: =SUM(E34:E38) -> 0 | F39: =SUM(F34:F38) -> 0 | G39: =SUM(G34:G38) -> 0 | H39: =SUM(H34:H38) -> 0 | I39: =SUM(I34:I38) -> 0 | J39: =SUM(J34:J38) -> 0 | ... N39: =SUM(N34:N38) -> 0
A40: Abonnement | B40: Free Internet
...

Sheet Revenus
B1: Retraite & revenus exeptionnels
C4: José
C5: Janvier | D5: Février | E5: Mars | F5: Avril | G5: Mai | H5: Juin | I5: Juillet | J5: Août | K5: Septembre | L5: Octobre | M5: Novembre | N5: Décembre
A6: Complémentaire | C6: 100 | D6: 100
A7: Retraite | C7: 800 | D7: 800
A8: Total | C8: =SUM(C6:C7) -> 900 | D8: =SUM(D6:D7) -> 900 | E8: =SUM(E6:E7) -> 0 | F8: =SUM(F6:F7) -> 0 | G8: =SUM(G6:G7) -> 0 | H8: =SUM(H6:H7) -> 0 | I8: =SUM(I6:I7) -> 0 | J8: =SUM(J6:J7) -> 0 | ... N8: =SUM(N6:N7) -> 0
C11: Nicole
C12: Janvier | D12: Février | E12: Mars | F12: Avril | G12: Mai | H12: Juin | I12: Juillet | J12: Août | K12: Septembre | L12: Octobre | M12: Novembre | N12: Décembre
A13: Complémentaire | C13: 100 | D13: 100
A14: Retraite | C14: 800 | D14: 800
A15: Total | C15: =SUM(C13:C14) -> 900 | D15: =SUM(D13:D14) -> 900 | E15: =SUM(E13:E14) -> 0 | F15: =SUM(F13:F14) -> 0 | G15: =SUM(G13:G14) -> 0 | H15: =SUM(H13:H14) -> 0 | I15: =SUM(I13:I14) -> 0 | J15: =SUM(J13:J14) -> 0 | ... N15: =SUM(N13:N14) -> 0
