Workbook
Name Aujourd’hui: TODAY()
Name Début_Projet: Gantt!$G$1
Name Incrément_Défilement: Gantt!$G$2
Name Marqueur_Jalon: Gantt!$G$3

Sheet Gantt
A1: Entrez le nom de la société dans la cellule B2. Entrez la date de début du projet dans la cellule E2, ou autorisez l’exemple de formule à rechercher la plus petite valeur de date dans le tableau de données du diagramme de Gantt. Date de début du projet : l’étiquette figure dans la cellule C2. | B1: POSAGE USINAGE OBELIX | E1: Date de début du projet : | G1: =IFERROR(IF(MIN(Jalons[Début])=0,TODAY(),MIN(Jalons[Début])),TODAY()) -> 43572
A2: Entrez le nom du Responsable du projet dans la cellule B3. Un incrément de défilement figure dans la cellule E3. La barre de défilement figure dans les cellules H3 à M3. L’augmentation de l’incrément de défilement ou l’utilisation de la barre de défilement ont pour effet d’incrémenter la chronologie du diagramme de Gantt. L’entrée de la valeur 0 dans la cellule E3 a pour effet de réinitialiser le diagramme au début du projet. | B2: Projeteurs | E2: Incrément de défilement : | G2: 0
A3: Pour modifier le type de Marqueur de jalon par défaut, entrez 0, 1 ou 2 dans la cellule E5. Le marqueur correspondant s’affiche dans la cellule F5. Pour changer les marqueurs, modifiez le format conditionnel de cette cellule et du tableau ci-dessous. Les mois des dates dans la ligne 5 s’affichent dans les cellules H4 à BK4. Ne modifiez pas ces cellules. Elles sont mises à jour automatiquement en fonction de la date de début du projet et de l’incrément de la barre de défilement. Incrément de défilement : l’étiquette figure dans la cellule C4. | J3: =TEXT(J4,"mmmm") -> avril | Q3: =IF(TEXT(Q4,"mmmm")=J3,"",TEXT(Q4,"mmmm")) | X3: =IF(OR(TEXT(X4,"mmmm")=Q3,TEXT(X4,"mmmm")=J3),"",TEXT(X4,"mmmm")) -> mai | AE3: =IF(OR(TEXT(AE4,"mmmm")=X3,TEXT(AE4,"mmmm")=Q3,TEXT(AE4,"mmmm")=J3),"",TEXT(AE4,"mmmm")) | AL3: =IF(OR(TEXT(AL4,"mmmm")=AE3,TEXT(AL4,"mmmm")=X3,TEXT(AL4,"mmmm")=Q3,TEXT(AL4,"mmmm")=J3),"",TEXT(AL4,"mmmm")) | AS3: =IF(OR(TEXT(AS4,"mmmm")=AL3,TEXT(AS4,"mmmm")=AE3,TEXT(AS4,"mmmm")=X3,TEXT(AS4,"mmmm")=Q3),"",TEXT(AS4,"mmmm")) | AZ3: =IF(OR(TEXT(AZ4,"mmmm")=AS3,TEXT(AZ4,"mmmm")=AL3,TEXT(AZ4,"mmmm")=AE3,TEXT(AZ4,"mmmm")=X3),"",TEXT(AZ4,"mmmm")) | BG3: =IF(OR(TEXT(BG4,"mmmm")=AZ3,TEXT(BG4,"mmmm")=AS3,TEXT(BG4,"mmmm")=AL3,TEXT(BG4,"mmmm")=AE3),"",TEXT(BG4,"mmmm")) -> juin
A4: Les cellules H5 à BK5 contiennent les numéros de jour du mois représenté dans le bloc de cellules au-dessus de chaque cellule de date. Leurs valeurs sont calculées automatiquement. Ne modifiez pas ces cellules. Les dates antérieures à aujourd’hui sont grisées. | J4: =IFERROR(Début_Projet+Incrément_Défilement,TODAY()) -> 43572 | K4: =J4+1 -> 43573 | L4: =K4+1 -> 43574 | M4: =L4+1 -> 43575 | N4: =M4+1 -> 43576 | O4: =N4+1 -> 43577 | P4: =O4+1 -> 43578 | Q4: =P4+1 -> 43579 | R4: =Q4+1 -> 43580 | ... BM4: =BL4+1 -> 43627
A5: Cette ligne contient des en-têtes pour le planning de projet figurant sous ceux-ci. Naviguez des cellules B7 à BK7 pour entendre l’énoncé du contenu. Première lettre de chaque jour de la semaine pour la date figurant au-dessus de cet en-tête. Commence dans la cellule H7, et continue jusqu’à la cellule BK7. Le diagramme entier de chronologie du projet est généré automatiquement en fonction de la catégorie, de la date de début et du nombre de jours entré dans le tableau Jalons. Les formules figurant dans ces cellules vous permettent de définir l’apparence du diagramme de Gantt. Ne modifiez pas ces cellules. | B5: N° | C5: Description du jalon | D5: Besoin | E5: Affecté à | F5: Avancement | G5: Début | H5: Nombre de jours | J5: =LEFT(TEXT(J4,"jjj"),1) -> m | K5: =LEFT(TEXT(K4,"jjj"),1) -> j | L5: =LEFT(TEXT(L4,"jjj"),1) -> v | M5: =LEFT(TEXT(M4,"jjj"),1) -> s | N5: =LEFT(TEXT(N4,"jjj"),1) -> d | O5: =LEFT(TEXT(O4,"jjj"),1) -> l | P5: =LEFT(TEXT(P4,"jjj"),1) -> m | Q5: =LEFT(TEXT(Q4,"jjj"),1) -> m | ... BM5: =LEFT(TEXT(BM4,"jjj"),1) -> m
A6: Ne supprimez pas cette ligne. Cette ligne est masquée afin de préserver une formule utilisée pour mettre en évidence le jour en cours au sein du planning de projet.
A7: Entrez les informations du projet des cellules B8 à F8. Les cellules B8 à G32 contiennent les exemples de données. Entrez la Description du jalon, affectez une personne à l’élément, entrez l’avancement de la tâche en tant que pourcentage d’accomplissement, entrez une date de début et une durée de tâche exprimée en nombre de jours. Le diagramme de Gantt est automatiquement mis à jour pendant l’entrée des données. L’instruction suivante figure dans la cellule A33. | B7: POSAGE F29850-415-001/003
A8: DOSSIER DEFINITION | C8: Réception données client | D8: Données 3D et 2D | F8: 0 | G8: 43572 | H8: 1
C9: Création de la panoplie | D9: L'intégration crée un PN | F9: 0 | G9: =WORKDAY(G8,H8,'JOUR FERIE'!$B$2:$B$12) -> 43573 | H9: 5
C10: Création de la DHA | D10: MDE, CDC, PANOPLIE, Doc des spécificités | F10: 0 | G10: =WORKDAY(G9,H9,'JOUR FERIE'!$B$2:$B$12) -> 43581 | H10: 1
C11: Validation de la DHA | D11: Comunication mail aux interlocuteurs | F11: 0 | G11: =WORKDAY(G10,H10,'JOUR FERIE'!$B$2:$B$12) -> 43584 | H11: 1
A12: ACHAT | C12: Validation compréhension | D12: Valider la compréhension du besoin avec le fournisseur | F12: 0 | G12: =WORKDAY(G11,H11,'JOUR FERIE'!$B$2:$B$12) -> 43585 | H12: 5
C13: Validation du délai | D13: Valider le délai avec les achats | F13: 0 | G13: =WORKDAY(G12,H12,'JOUR FERIE'!$B$2:$B$12) -> 43594 | H13: 3
A14: ETUDES | C14: Retour étude 1 | D14: Insérer le rapport | F14: 0 | G14: =WORKDAY(G13,H13,'JOUR FERIE'!$B$2:$B$12) -> 43599 | H14: 2
C15: Retour étude 2 | D15: Insérer le rapport | F15: 0 | G15: =WORKDAY(G14,H14,'JOUR FERIE'!$B$2:$B$12) -> 43601 | H15: 2
C16: Revue intern | D16: Insérer le rapport | F16: 0 | G16: =WORKDAY(G15,H15,'JOUR FERIE'!$B$2:$B$12) -> 43605 | H16: 2
C17: Retour étude 3 | D17: Insérer le rapport | F17: 0 | G17: =WORKDAY(G16,H16,'JOUR FERIE'!$B$2:$B$12) -> 43607 | H17: 2
C18: Revue intern de validation | D18: Insérer le rapport | F18: 0 | G18: =WORKDAY(G17,H17,'JOUR FERIE'!$B$2:$B$12) -> 43609 | H18: 2
A19: FABRICATION | C19: Appro Matière | D19: Suivi | F19: 0 | G19: =WORKDAY(G18,H18,'JOUR FERIE'!$B$2:$B$12) -> 43613 | H19: 8
C20: Usinage | D20: Suivi | F20: 0 | G20: =WORKDAY(G19,H19,'JOUR FERIE'!$B$2:$B$12) -> 43627 | H20: 8
C21: Montage | D21: Suivi | F21: 0 | G21: =WORKDAY(G20,H20,'JOUR FERIE'!$B$2:$B$12) -> 43637 | H21: 5
C22: Control | D22: Suivi | F22: 0 | G22: =WORKDAY(G21,H21,'JOUR FERIE'!$B$2:$B$12) -> 43644 | H22: 2
A23: RECPETION | C23: Check posage | D23: Insérer le rapport | F23: 0 | G23: =WORKDAY(G22,H22,'JOUR FERIE'!$B$2:$B$12) -> 43648 | H23: 2
C24: Déploiment du plan d'action | D24: Comunication | F24: 0 | G24: =WORKDAY(G23,H23,'JOUR FERIE'!$B$2:$B$12) -> 43650 | H24: 5
C25: Livraison du posage | D25: Insérer le rapport de validation | F25: 0 | G25: =WORKDAY(G24,H24,'JOUR FERIE'!$B$2:$B$12) -> 43657 | H25: 1
B27: POSAGE F29850-415-002/004
A28: DOSSIER DEFINITION | C28: Réception données client | D28: Données 3D et 2D | F28: 0 | G28: 43572 | H28: 1
C29: Création de la panoplie | D29: L'intégration crée un PN | F29: 0 | G29: =WORKDAY(G28,H28,'JOUR FERIE'!$B$2:$B$12) -> 43573 | H29: 2
C30: Création de la DHA -MDE -CDC -PNAOPLIE -DOC DES SPECIFICITES | D30: MDE, CDC, PANOPLIE, Doc des spécificités | F30: 0 | G30: =WORKDAY(G29,H29,'JOUR FERIE'!$B$2:$B$12) -> 43578 | H30: 1
C31: Validation de la DHA | D31: Comunication mail aux interlocuteurs | F31: 0 | G31: =WORKDAY(G30,H30,'JOUR FERIE'!$B$2:$B$12) -> 43579 | H31: 1
A32: ACHAT | C32: Validation compréhension | D32: Valider la compréhension du besoin avec fournisseur | F32: 0 | G32: =WORKDAY(G31,H31,'JOUR FERIE'!$B$2:$B$12) -> 43580 | H32: 5
C33: Validation du délai | D33: Valider le délai avec les achats | F33: 0 | G33: =WORKDAY(G32,H32,'JOUR FERIE'!$B$2:$B$12) -> 43588 | H33: 3
A34: ETUDES | C34: Retour étude 1 | D34: Insérer le rapport | F34: 0 | G34: =WORKDAY(G33,H33,'JOUR FERIE'!$B$2:$B$12) -> 43594 | H34: 2
C35: Retour étude 2 | D35: Insérer le rapport | F35: 0 | G35: =WORKDAY(G34,H34,'JOUR FERIE'!$B$2:$B$12) -> 43598 | H35: 2
C36: Revue intern | D36: Insérer le rapport | F36: 0 | G36: =WORKDAY(G35,H35,'JOUR FERIE'!$B$2:$B$12) -> 43600 | H36: 2
C37: Retour étude 3 | D37: Insérer le rapport | F37: 0 | G37: =WORKDAY(G36,H36,'JOUR FERIE'!$B$2:$B$12) -> 43602 | H37: 2
C38: Revue intern de validation | D38: Insérer le rapport | F38: 0 | G38: =WORKDAY(G37,H37,'JOUR FERIE'!$B$2:$B$12) -> 43606 | H38: 2
A39: FABRICATION | C39: Appro Matière | D39: Suivi | F39: 0 | G39: =WORKDAY(G38,H38,'JOUR FERIE'!$B$2:$B$12) -> 43608 | H39: 8
C40: Usinage | D40: Suivi | F40: 0 | G40: =WORKDAY(G39,H39,'JOUR FERIE'!$B$2:$B$12) -> 43621 | H40: 8
C41: Montage | D41: Suivi | F41: 0 | G41: =WORKDAY(G40,H40,'JOUR FERIE'!$B$2:$B$12) -> 43634 | H41: 5
C42: Control | D42: Suivi | F42: 0 | G42: =WORKDAY(G41,H41,'JOUR FERIE'!$B$2:$B$12) -> 43641 | H42: 2
A43: RECPETION | C43: Check posage | D43: Insérer le rapport | F43: 0 | G43: =WORKDAY(G42,H42,'JOUR FERIE'!$B$2:$B$12) -> 43643 | H43: 2
C44: Déploiment du plan d'action | D44: Comunication | F44: 0 | G44: =WORKDAY(G43,H43,'JOUR FERIE'!$B$2:$B$12) -> 43647 | H44: 5
C45: Livraison du posage | D45: Insérer le rapport de validation | F45: 0 | G45: =WORKDAY(G44,H44,'JOUR FERIE'!$B$2:$B$12) -> 43654 | H45: 1
A47: Entrez les informations du projet des cellules B8 à F8. Les cellules B8 à G32 contiennent les exemples de données. Entrez la Description du jalon, affectez une personne à l’élément, entrez l’avancement de la tâche en tant que pourcentage d’accomplissement, entrez une date de début et une durée de tâche exprimée en nombre de jours. Le diagramme de Gantt est automatiquement mis à jour pendant l’entrée des données. L’instruction suivante figure dans la cellule A33. | B47: POSAGE F29850-420-001/003
A48: DOSSIER DEFINITION | C48: Réception données client | D48: Données 3D et 2D | F48: 0 | G48: 43572 | H48: 1
C49: Création de la panoplie | D49: L'intégration crée un PN | F49: 0 | G49: =WORKDAY(G48,H48,'JOUR FERIE'!$B$2:$B$12) -> 43573 | H49: 2
C50: Création de la DHA -MDE -CDC -PNAOPLIE -DOC DES SPECIFICITES | D50: MDE, CDC, PANOPLIE, Doc des spécificités | F50: 0 | G50: =WORKDAY(G49,H49,'JOUR FERIE'!$B$2:$B$12) -> 43578 | H50: 1
C51: Validation de la DHA | D51: Comunication mail aux interlocuteurs | F51: 0 | G51: =WORKDAY(G50,H50,'JOUR FERIE'!$B$2:$B$12) -> 43579 | H51: 1
A52: ACHAT | C52: Validation compréhension | D52: Valider la compréhension du besoin avec fournisseur | F52: 0 | G52: =WORKDAY(G51,H51,'JOUR FERIE'!$B$2:$B$12) -> 43580 | H52: 5
C53: Validation du délai | D53: Valider le délai avec les achats | F53: 0 | G53: =WORKDAY(G52,H52,'JOUR FERIE'!$B$2:$B$12) -> 43588 | H53: 3
A54: ETUDES | C54: Retour étude 1 | D54: Insérer le rapport | F54: 0 | G54: =WORKDAY(G53,H53,'JOUR FERIE'!$B$2:$B$12) -> 43594 | H54: 2
C55: Retour étude 2 | D55: Insérer le rapport | F55: 0 | G55: =WORKDAY(G54,H54,'JOUR FERIE'!$B$2:$B$12) -> 43598 | H55: 2
C56: Revue intern | D56: Insérer le rapport | F56: 0 | G56: =WORKDAY(G55,H55,'JOUR FERIE'!$B$2:$B$12) -> 43600 | H56: 2
C57: Retour étude 3 | D57: Insérer le rapport | F57: 0 | G57: =WORKDAY(G56,H56,'JOUR FERIE'!$B$2:$B$12) -> 43602 | H57: 2
C58: Revue intern de validation | D58: Insérer le rapport | F58: 0 | G58: =WORKDAY(G57,H57,'JOUR FERIE'!$B$2:$B$12) -> 43606 | H58: 2
A59: FABRICATION | C59: Appro Matière | D59: Suivi | F59: 0 | G59: =WORKDAY(G58,H58,'JOUR FERIE'!$B$2:$B$12) -> 43608 | H59: 8
C60: Usinage | D60: Suivi | F60: 0 | G60: =WORKDAY(G59,H59,'JOUR FERIE'!$B$2:$B$12) -> 43621 | H60: 8
C61: Montage | D61: Suivi | F61: 0 | G61: =WORKDAY(G60,H60,'JOUR FERIE'!$B$2:$B$12) -> 43634 | H61: 5
C62: Control | D62: Suivi | F62: 0 | G62: =WORKDAY(G61,H61,'JOUR FERIE'!$B$2:$B$12) -> 43641 | H62: 2
A63: RECPETION | C63: Check posage | D63: Insérer le rapport | F63: 0 | G63: =WORKDAY(G62,H62,'JOUR FERIE'!$B$2:$B$12) -> 43643 | H63: 2
C64: Déploiment du plan d'action | D64: Comunication | F64: 0 | G64: =WORKDAY(G63,H63,'JOUR FERIE'!$B$2:$B$12) -> 43647 | H64: 5
C65: Livraison du posage | D65: Insérer le rapport de validation | F65: 0 | G65: =WORKDAY(G64,H64,'JOUR FERIE'!$B$2:$B$12) -> 43654 | H65: 1
B67: POSAGE F29850-420-002/004
A68: DOSSIER DEFINITION | C68: Réception données client | D68: Données 3D et 2D | F68: 0 | G68: 43572 | H68: 1
C69: Création de la panoplie | D69: L'intégration crée un PN | F69: 0 | G69: =WORKDAY(G68,H68,'JOUR FERIE'!$B$2:$B$12) -> 43573 | H69: 2
C70: Création de la DHA -MDE -CDC -PNAOPLIE -DOC DES SPECIFICITES | D70: MDE, CDC, PANOPLIE, Doc des spécificités | F70: 0 | G70: =WORKDAY(G69,H69,'JOUR FERIE'!$B$2:$B$12) -> 43578 | H70: 1
C71: Validation de la DHA | D71: Comunication mail aux interlocuteurs | F71: 0 | G71: =WORKDAY(G70,H70,'JOUR FERIE'!$B$2:$B$12) -> 43579 | H71: 1
A72: ACHAT | C72: Validation compréhension | D72: Valider la compréhension du besoin avec fournisseur | F72: 0 | G72: =WORKDAY(G71,H71,'JOUR FERIE'!$B$2:$B$12) -> 43580 | H72: 5
C73: Validation du délai | D73: Valider le délai avec les achats | F73: 0 | G73: =WORKDAY(G72,H72,'JOUR FERIE'!$B$2:$B$12) -> 43588 | H73: 3
A74: ETUDES | C74: Retour étude 1 | D74: Insérer le rapport | F74: 0 | G74: =WORKDAY(G73,H73,'JOUR FERIE'!$B$2:$B$12) -> 43594 | H74: 2
C75: Retour étude 2 | D75: Insérer le rapport | F75: 0 | G75: =WORKDAY(G74,H74,'JOUR FERIE'!$B$2:$B$12) -> 43598 | H75: 2
C76: Revue intern | D76: Insérer le rapport | F76: 0 | G76: =WORKDAY(G75,H75,'JOUR FERIE'!$B$2:$B$12) -> 43600 | H76: 2
C77: Retour étude 3 | D77: Insérer le rapport | F77: 0 | G77: =WORKDAY(G76,H76,'JOUR FERIE'!$B$2:$B$12) -> 43602 | H77: 2
C78: Revue intern de validation | D78: Insérer le rapport | F78: 0 | G78: =WORKDAY(G77,H77,'JOUR FERIE'!$B$2:$B$12) -> 43606 | H78: 2
A79: FABRICATION | C79: Appro Matière | D79: Suivi | F79: 0 | G79: =WORKDAY(G78,H78,'JOUR FERIE'!$B$2:$B$12) -> 43608 | H79: 8
C80: Usinage | D80: Suivi | F80: 0 | G80: =WORKDAY(G79,H79,'JOUR FERIE'!$B$2:$B$12) -> 43621 | H80: 8
C81: Montage | D81: Suivi | F81: 0 | G81: =WORKDAY(G80,H80,'JOUR FERIE'!$B$2:$B$12) -> 43634 | H81: 5
C82: Control | D82: Suivi | F82: 0 | G82: =WORKDAY(G81,H81,'JOUR FERIE'!$B$2:$B$12) -> 43641 | H82: 2
A83: RECPETION | C83: Check posage | D83: Insérer le rapport | F83: 0 | G83: =WORKDAY(G82,H82,'JOUR FERIE'!$B$2:$B$12) -> 43643 | H83: 2
C84: Déploiment du plan d'action | D84: Comunication | F84: 0 | G84: =WORKDAY(G83,H83,'JOUR FERIE'!$B$2:$B$12) -> 43647 | H84: 5
C85: Livraison du posage | D85: Insérer le rapport de validation | F85: 0 | G85: =WORKDAY(G84,H84,'JOUR FERIE'!$B$2:$B$12) -> 43654 | H85: 1
A87: Entrez les informations du projet des cellules B8 à F8. Les cellules B8 à G32 contiennent les exemples de données. Entrez la Description du jalon, affectez une personne à l’élément, entrez l’avancement de la tâche en tant que pourcentage d’accomplissement, entrez une date de début et une durée de tâche exprimée en nombre de jours. Le diagramme de Gantt est automatiquement mis à jour pendant l’entrée des données. L’instruction suivante figure dans la cellule A33. | B87: POSAGE F29850-425-001/003
A88: DOSSIER DEFINITION | C88: Réception données client | D88: Données 3D et 2D | F88: 0 | G88: 43572 | H88: 1
C89: Création de la panoplie | D89: L'intégration crée un PN | F89: 0 | G89: =WORKDAY(G88,H88,'JOUR FERIE'!$B$2:$B$12) -> 43573 | H89: 2
C90: Création de la DHA -MDE -CDC -PNAOPLIE -DOC DES SPECIFICITES | D90: MDE, CDC, PANOPLIE, Doc des spécificités | F90: 0 | G90: =WORKDAY(G89,H89,'JOUR FERIE'!$B$2:$B$12) -> 43578 | H90: 1
C91: Validation de la DHA | D91: Comunication mail aux interlocuteurs | F91: 0 | G91: =WORKDAY(G90,H90,'JOUR FERIE'!$B$2:$B$12) -> 43579 | H91: 1
A92: ACHAT | C92: Validation compréhension | D92: Valider la compréhension du besoin avec fournisseur | F92: 0 | G92: =WORKDAY(G91,H91,'JOUR FERIE'!$B$2:$B$12) -> 43580 | H92: 5
C93: Validation du délai | D93: Valider le délai avec les achats | F93: 0 | G93: =WORKDAY(G92,H92,'JOUR FERIE'!$B$2:$B$12) -> 43588 | H93: 3
A94: ETUDES | C94: Retour étude 1 | D94: Insérer le rapport | F94: 0 | G94: =WORKDAY(G93,H93,'JOUR FERIE'!$B$2:$B$12) -> 43594 | H94: 2
C95: Retour étude 2 | D95: Insérer le rapport | F95: 0 | G95: =WORKDAY(G94,H94,'JOUR FERIE'!$B$2:$B$12) -> 43598 | H95: 2
C96: Revue intern | D96: Insérer le rapport | F96: 0 | G96: =WORKDAY(G95,H95,'JOUR FERIE'!$B$2:$B$12) -> 43600 | H96: 2
C97: Retour étude 3 | D97: Insérer le rapport | F97: 0 | G97: =WORKDAY(G96,H96,'JOUR FERIE'!$B$2:$B$12) -> 43602 | H97: 2
C98: Revue intern de validation | D98: Insérer le rapport | F98: 0 | G98: =WORKDAY(G97,H97,'JOUR FERIE'!$B$2:$B$12) -> 43606 | H98: 2
A99: FABRICATION | C99: Appro Matière | D99: Suivi | F99: 0 | G99: =WORKDAY(G98,H98,'JOUR FERIE'!$B$2:$B$12) -> 43608 | H99: 8
C100: Usinage | D100: Suivi | F100: 0 | G100: =WORKDAY(G99,H99,'JOUR FERIE'!$B$2:$B$12) -> 43621 | H100: 8
C101: Montage | D101: Suivi | F101: 0 | G101: =WORKDAY(G100,H100,'JOUR FERIE'!$B$2:$B$12) -> 43634 | H101: 5
C102: Control | D102: Suivi | F102: 0 | G102: =WORKDAY(G101,H101,'JOUR FERIE'!$B$2:$B$12) -> 43641 | H102: 2
A103: RECPETION | C103: Check posage | D103: Insérer le rapport | F103: 0 | G103: =WORKDAY(G102,H102,'JOUR FERIE'!$B$2:$B$12) -> 43643 | H103: 2
C104: Déploiment du plan d'action | D104: Comunication | F104: 0 | G104: =WORKDAY(G103,H103,'JOUR FERIE'!$B$2:$B$12) -> 43647 | H104: 5
...

Sheet JOUR FERIE
A1: France | B1: 2019 | C1: 2020 | D1: 2021
A2: Jour de l'an | B2: 43466 | C2: mercredi 1er janvier | D2: vendredi 1er janvier
A3: Lundi de Pâques | B3: 43577 | C3: lundi 13 avril | D3: lundi 5 avril
A4: Fête du Travail | B4: 43586 | C4: vendredi 1er mai | D4: samedi 1er mai
A5: Victoire des alliés | B5: 43593 | C5: vendredi 8 Mai | D5: samedi 8 Mai
A6: Jeudi de l'Ascension | B6: 43615 | C6: jeudi 21 mai | D6: jeudi 13 mai
A7: Lundi de Pentecôte | B7: 43626 | C7: lundi 1er juin | D7: lundi 24 mai
A8: Fête nationale | B8: 43660 | C8: mardi 14 juillet | D8: mercredi 14 juillet
A9: Assomption | B9: 43692 | C9: samedi 15 août | D9: dimanche 15 août
A10: La Toussaint | B10: 43770 | C10: dimanche 1er novembre | D10: lundi 1er novembre
A11: Armistice | B11: 43780 | C11: mercredi 11 novembre | D11: jeudi 11 novembre
A12: Noël | B12: 43824 | C12: vendredi 25 décembre | D12: samedi 25 décembre
