Workbook
Name Aujourd’hui: TODAY()
Name Début_Projet: Gantt!$G$1
Name Incrément_Défilement: Gantt!$G$2
Name Marqueur_Jalon: Gantt!$G$3

Sheet Gantt
A1: Entrez le nom de la société dans la cellule B2. Entrez la date de début du projet dans la cellule E2, ou autorisez l’exemple de formule à rechercher la plus petite valeur de date dans le tableau de données du diagramme de Gantt. Date de début du projet : l’étiquette figure dans la cellule C2. | B1: POSAGE USINAGE OBELIX | E1: Date de début du projet : | G1: =IFERROR(IF(MIN(Jalons[Début])=0,TODAY(),MIN(Jalons[Début])),TODAY()) -> 43572
A2: Entrez le nom du Responsable du projet dans la cellule B3. Un incrément de défilement figure dans la cellule E3. La barre de défilement figure dans les cellules H3 à M3. L’augmentation de l’incrément de défilement ou l’utilisation de la barre de défilement ont pour effet d’incrémenter la chronologie du diagramme de Gantt. L’entrée de la valeur 0 dans la cellule E3 a pour effet de réinitialiser le diagramme au début du projet. | B2: Projeteurs | E2: Incrément de défilement : | G2: 0
A3: Pour modifier le type de Marqueur de jalon par défaut, entrez 0, 1 ou 2 dans la cellule E5. Le marqueur correspondant s’affiche dans la cellule F5. Pour changer les marqueurs, modifiez le format conditionnel de cette cellule et du tableau ci-dessous. Les mois des dates dans la ligne 5 s’affichent dans les cellules H4 à BK4. Ne modifiez pas ces cellules. Elles sont mises à jour automatiquement en fonction de la date de début du projet et de l’incrément de la barre de défilement. Incrément de défilement : l’étiquette figure dans la cellule C4. | J3: =TEXT(J4,"mmmm") -> avril | Q3: =IF(TEXT(Q4,"mmmm")=J3,"",TEXT(Q4,"mmmm")) | X3: =IF(OR(TEXT(X4,"mmmm")=Q3,TEXT(X4,"mmmm")=J3),"",TEXT(X4,"mmmm")) -> mai | AE3: =IF(OR(TEXT(AE4,"mmmm")=X3,TEXT(AE4,"mmmm")=Q3,TEXT(AE4,"mmmm")=J3),"",TEXT(AE4,"mmmm")) | AL3: =IF(OR(TEXT(AL4,"mmmm")=AE3,TEXT(AL4,"mmmm")=X3,TEXT(AL4,"mmmm")=Q3,TEXT(AL4,"mmmm")=J3),"",TEXT(AL4,"mmmm")) | AS3: =IF(OR(TEXT(AS4,"mmmm")=AL3,TEXT(AS4,"mmmm")=AE3,TEXT(AS4,"mmmm")=X3,TEXT(AS4,"mmmm")=Q3),"",TEXT(AS4,"mmmm")) | AZ3: =IF(OR(TEXT(AZ4,"mmmm")=AS3,TEXT(AZ4,"mmmm")=AL3,TEXT(AZ4,"mmmm")=AE3,TEXT(AZ4,"mmmm")=X3),"",TEXT(AZ4,"mmmm")) | BG3: =IF(OR(TEXT(BG4,"mmmm")=AZ3,TEXT(BG4,"mmmm")=AS3,TEXT(BG4,"mmmm")=AL3,TEXT(BG4,"mmmm")=AE3),"",TEXT(BG4,"mmmm")) -> juin
A4: Les cellules H5 à BK5 contiennent les numéros de jour du mois représenté dans le bloc de cellules au-dessus de chaque cellule de date. Leurs valeurs sont calculées automatiquement. Ne modifiez pas ces cellules. Les dates antérieures à aujourd’hui sont grisées. | J4: =IFERROR(Début_Projet+Incrément_Défilement,TODAY()) -> 43572 | K4: =J4+1 -> 43573 | L4: =K4+1 -> 43574 | M4: =L4+1 -> 43575 | N4: =M4+1 -> 43576 | O4: =N4+1 -> 43577 | P4: =O4+1 -> 43578 | Q4: =P4+1 -> 43579 | R4: =Q4+1 -> 43580 | ... BM4: =BL4+1 -> 43627
A5: Cette ligne contient des en-têtes pour le planning de projet figurant sous ceux-ci. Naviguez des cellules B7 à BK7 pour entendre l’énoncé du contenu. Première lettre de chaque jour de la semaine pour la date figurant au-dessus de cet en-tête. Commence dans la cellule H7, et continue jusqu’à la cellule BK7. Le diagramme entier de chronologie du projet est généré automatiquement en fonction de la catégorie, de la date de début et du nombre de jours entré dans le tableau Jalons. Les formules figurant dans ces cellules vous permettent de définir l’apparence du diagramme de Gantt. Ne modifiez pas ces cellules. | B5: N° | C5: Description du jalon | D5: Besoin | E5: Affecté à | F5: Avancement | G5: Début | H5: Nombre de jours | J5: =LEFT(TEXT(J4,"jjj"),1) -> m | K5: =LEFT(TEXT(K4,"jjj"),1) -> j | L5: =LEFT(TEXT(L4,"jjj"),1) -> v | M5: =LEFT(TEXT(M4,"jjj"),1) -> s | N5: =LEFT(TEXT(N4,"jjj"),1) -> d | O5: =LEFT(TEXT(O4,"jjj"),1) -> l | P5: =LEFT(TEXT(P4,"jjj"),1) -> m | Q5: =LEFT(TEXT(Q4,"jjj"),1) -> m | ... BM5: =LEFT(TEXT(BM4,"jjj"),1) -> m
A6: Ne supprimez pas cette ligne. Cette ligne est masquée afin de préserver une formule utilisée pour mettre en évidence le jour en cours au sein du planning de projet.
A7: Entrez les informations du projet des cellules B8 à F8. Les cellules B8 à G32 contiennent les exemples de données. Entrez la Description du jalon, affectez une personne à l’élément, entrez l’avancement de la tâche en tant que pourcentage d’accomplissement, entrez une date de début et une durée de tâche exprimée en nombre de jours. Le diagramme de Gantt est automatiquement mis à jour pendant l’entrée des données. L’instruction suivante figure dans la cellule A33. | B7: POSAGE F29850-415-001/003
A8: DOSSIER DEFINITION | C8: Réception données client | D8: Données 3D et 2D | F8: 0 | G8: 43572 | H8: 1
C9: Création de la panoplie | D9: L'intégration crée un PN | F9: 0 | G9: =WORKDAY(G8,H8,'JOUR FERIE'!$B$2:$B$12) -> 43573 | H9: 5
C10: Création de la DHA | D10: MDE, CDC, PANOPLIE, Doc des spécificités | F10: 0 | G10: =WORKDAY(G9,H9,'JOUR FERIE'!$B$2:$B$12) -> 43581 | H10: 1
C11: Validation de la DHA | D11: Comunication mail aux interlocuteurs | F11: 0 | G11: =WORKDAY(G10,H10,'JOUR FERIE'!$B$2:$B$12) -> 43584 | H11: 1
A12: ACHAT | C12: Validation compréhension | D12: Valider la compréhension du besoin avec le fournisseur | F12: 0 | G12: =WORKDAY(G11,H11,'JOUR FERIE'!$B$2:$B$12) -> 43585 | H12: 5
C13: Validation du délai | D13: Valider le délai avec les achats | F13: 0 | G13: =WORKDAY(G12,H12,'JOUR FERIE'!$B$2:$B$12) -> 43594 | H13: 3
A14: ETUDES | C14: Retour étude 1 | D14: Insérer le rapport | F14: 0 | G14: =WORKDAY(G13,H13,'JOUR FERIE'!$B$2:$B$12) -> 43599 | H14: 2
C15: Retour étude 2 | D15: Insérer le rapport | F15: 0 | G15: =WORKDAY(G14,H14,'JOUR FERIE'!$B$2:$B$12) -> 43601 | H15: 2
C16: Revue intern | D16: Insérer le rapport | F16: 0 | G16: =WORKDAY(G15,H15,'JOUR FERIE'!$B$2:$B$12) -> 43605 | H16: 2
C17: Retour étude 3 | D17: Insérer le rapport | F17: 0 | G17: =WORKDAY(G16,H16,'JOUR FERIE'!$B$2:$B$12) -> 43607 | H17: 2
C18: Revue intern de validation | D18: Insérer le rapport | F18: 0 | G18: =WORKDAY(G17,H17,'JOUR FERIE'!$B$2:$B$12) -> 43609 | H18: 2
A19: FABRICATION | C19: Appro Matière | D19: Suivi | F19: 0 | G19: =WORKDAY(G18,H18,'JOUR FERIE'!$B$2:$B$12) -> 43613 | H19: 8
C20: Usinage | D20: Suivi | F20: 0 | G20: =WORKDAY(G19,H19,'JOUR FERIE'!$B$2:$B$12) -> 43627 | H20: 8
C21: Montage | D21: Suivi | F21: 0 | G21: =WORKDAY(G20,H20,'JOUR FERIE'!$B$2:$B$12) -> 43637 | H21: 5
C22: Control | D22: Suivi | F22: 0 | G22: =WORKDAY(G21,H21,'JOUR FERIE'!$B$2:$B$12) -> 43644 | H22: 2
A23: RECPETION | C23: Check posage | D23: Insérer le rapport | F23: 0 | G23: =WORKDAY(G22,H22,'JOUR FERIE'!$B$2:$B$12) -> 43648 | H23: 2
C24: Déploiment du plan d'action | D24: Comunication | F24: 0 | G24: =WORKDAY(G23,H23,'JOUR FERIE'!$B$2:$B$12) -> 43650 | H24: 5
C25: Livraison du posage | D25: Insérer le rapport de validation | F25: 0 | G25: =WORKDAY(G24,H24,'JOUR FERIE'!$B$2:$B$12) -> 43657 | H25: 1
B27: POSAGE F29850-415-002/004
A28: DOSSIER DEFINITION | C28: Réception données client | D28: Données 3D et 2D | F28: 0 | G28: 43572 | H28: 1
C29: Création de la panoplie | D29: L'intégration crée un PN | F29: 0 | G29: =WORKDAY(G28,H28,'JOUR FERIE'!$B$2:$B$12) -> 43573 | H29: 2
C30: Création de la DHA -MDE -CDC -PNAOPLIE -DOC DES SPECIFICITES | D30: MDE, CDC, PANOPLIE, Doc des spécificités | F30: 0 | G30: =WORKDAY(G29,H29,'JOUR FERIE'!$B$2:$B$12) -> 43578 | H30: 1
C31: Validation de la DHA | D31: Comunication mail aux interlocuteurs | F31: 0 | G31: =WORKDAY(G30,H30,'JOUR FERIE'!$B$2:$B$12) -> 43579 | H31: 1
A32: ACHAT | C32: Validation compréhension | D32: Valider la compréhension du besoin avec fournisseur | F32: 0 | G32: =WORKDAY(G31,H31,'JOUR FERIE'!$B$2:$B$12) -> 43580 | H32: 5
C33: Validation du délai | D33: Valider le délai avec les achats | F33: 0 | G33: =WORKDAY(G32,H32,'JOUR FERIE'!$B$2:$B$12) -> 43588 | H33: 3
A34: ETUDES | C34: Retour étude 1 | D34: Insérer le rapport | F34: 0 | G34: =WORKDAY(G33,H33,'JOUR FERIE'!$B$2:$B$12) -> 43594 | H34: 2
C35: Retour étude 2 | D35: Insérer le rapport | F35: 0 | G35: =WORKDAY(G34,H34,'JOUR FERIE'!$B$2:$B$12) -> 43598 | H35: 2
C36: Revue intern | D36: Insérer le rapport | F36: 0 | G36: =WORKDAY(G35,H35,'JOUR FERIE'!$B$2:$B$12) -> 43600 | H36: 2
C37: Retour étude 3 | D37: Insérer le rapport | F37: 0 | G37: =WORKDAY(G36,H36,'JOUR FERIE'!$B$2:$B$12) -> 43602 | H37: 2
C38: Revue intern de validation | D38: Insérer le rapport | F38: 0 | G38: =WORKDAY(G37,H37,'JOUR FERIE'!$B$2:$B$12) -> 43606 | H38: 2
A39: FABRICATION | C39: Appro Matière | D39: Suivi | F39: 0 | G39: =WORKDAY(G38,H38,'JOUR FERIE'!$B$2:$B$12) -> 43608 | H39: 8
C40: Usinage | D40: Suivi | F40: 0 | G40: =WORKDAY(G39,H39,'JOUR FERIE'!$B$2:$B$12) -> 43621 | H40: 8
C41: Montage | D41: Suivi | F41: 0 | G41: =WORKDAY(G40,H40,'JOUR FERIE'!$B$2:$B$12) -> 43634 | H41: 5
...

Sheet JOUR FERIE
A1: France | B1: 2019 | C1: 2020 | D1: 2021
A2: Jour de l'an | B2: 43466 | C2: mercredi 1er janvier | D2: vendredi 1er janvier
A3: Lundi de Pâques | B3: 43577 | C3: lundi 13 avril | D3: lundi 5 avril
A4: Fête du Travail | B4: 43586 | C4: vendredi 1er mai | D4: samedi 1er mai
A5: Victoire des alliés | B5: 43593 | C5: vendredi 8 Mai | D5: samedi 8 Mai
A6: Jeudi de l'Ascension | B6: 43615 | C6: jeudi 21 mai | D6: jeudi 13 mai
A7: Lundi de Pentecôte | B7: 43626 | C7: lundi 1er juin | D7: lundi 24 mai
A8: Fête nationale | B8: 43660 | C8: mardi 14 juillet | D8: mercredi 14 juillet
A9: Assomption | B9: 43692 | C9: samedi 15 août | D9: dimanche 15 août
A10: La Toussaint | B10: 43770 | C10: dimanche 1er novembre | D10: lundi 1er novembre
A11: Armistice | B11: 43780 | C11: mercredi 11 novembre | D11: jeudi 11 novembre
A12: Noël | B12: 43824 | C12: vendredi 25 décembre | D12: samedi 25 décembre
