Workbook
Name Jeudi: #REF!
Name Lundi: #REF!
Name Mardi: #REF!
Name Mercredi: #REF!
Name Samedi: #REF!
Name Situation: #REF!
Name validcell1: #REF!
Name Vendredi: #REF!

Sheet Accueil
A1: 2016

Sheet Janvier
A1: 1 | B1: =DATE(Accueil!A1,A1,1) -> 42370 | C1: 1 | D1: =C1+1 -> 2 | E1: =D1+1 -> 3 | F1: =E1+1 -> 4 | G1: =F1+1 -> 5 | H1: =G1+1 -> 6 | I1: =H1+1 -> 7 | J1: =I1+1 -> 8 | K1: =J1+1 -> 9 | ... AG1: =AF1+1 -> 31
C2: =IF(WEEKDAY($B$1+C1-1)=1,"D",IF(WEEKDAY($B$1+C1-1)=2,"L",IF(WEEKDAY($B$1+C1-1)=3,"Ma",IF(WEEKDAY($B$1+C1-1)=4,"Me",IF(WEEKDAY($B$1+C1-1)=5,"J",IF(WEEKDAY($B$1+C1-1)=6,"V",IF(WEEKDAY($B$1+C1-1)=7,"S",""))))))) -> V | D2: =IF(WEEKDAY($B$1+D1-1)=1,"D",IF(WEEKDAY($B$1+D1-1)=2,"L",IF(WEEKDAY($B$1+D1-1)=3,"Ma",IF(WEEKDAY($B$1+D1-1)=4,"Me",IF(WEEKDAY($B$1+D1-1)=5,"J",IF(WEEKDAY($B$1+D1-1)=6,"V",IF(WEEKDAY($B$1+D1-1)=7,"S",""))))))) -> S | E2: =IF(WEEKDAY($B$1+E1-1)=1,"D",IF(WEEKDAY($B$1+E1-1)=2,"L",IF(WEEKDAY($B$1+E1-1)=3,"Ma",IF(WEEKDAY($B$1+E1-1)=4,"Me",IF(WEEKDAY($B$1+E1-1)=5,"J",IF(WEEKDAY($B$1+E1-1)=6,"V",IF(WEEKDAY($B$1+E1-1)=7,"S",""))))))) -> D | F2: =IF(WEEKDAY($B$1+F1-1)=1,"D",IF(WEEKDAY($B$1+F1-1)=2,"L",IF(WEEKDAY($B$1+F1-1)=3,"Ma",IF(WEEKDAY($B$1+F1-1)=4,"Me",IF(WEEKDAY($B$1+F1-1)=5,"J",IF(WEEKDAY($B$1+F1-1)=6,"V",IF(WEEKDAY($B$1+F1-1)=7,"S",""))))))) -> L | G2: =IF(WEEKDAY($B$1+G1-1)=1,"D",IF(WEEKDAY($B$1+G1-1)=2,"L",IF(WEEKDAY($B$1+G1-1)=3,"Ma",IF(WEEKDAY($B$1+G1-1)=4,"Me",IF(WEEKDAY($B$1+G1-1)=5,"J",IF(WEEKDAY($B$1+G1-1)=6,"V",IF(WEEKDAY($B$1+G1-1)=7,"S",""))))))) -> Ma | H2: =IF(WEEKDAY($B$1+H1-1)=1,"D",IF(WEEKDAY($B$1+H1-1)=2,"L",IF(WEEKDAY($B$1+H1-1)=3,"Ma",IF(WEEKDAY($B$1+H1-1)=4,"Me",IF(WEEKDAY($B$1+H1-1)=5,"J",IF(WEEKDAY($B$1+H1-1)=6,"V",IF(WEEKDAY($B$1+H1-1)=7,"S",""))))))) -> Me | I2: =IF(WEEKDAY($B$1+I1-1)=1,"D",IF(WEEKDAY($B$1+I1-1)=2,"L",IF(WEEKDAY($B$1+I1-1)=3,"Ma",IF(WEEKDAY($B$1+I1-1)=4,"Me",IF(WEEKDAY($B$1+I1-1)=5,"J",IF(WEEKDAY($B$1+I1-1)=6,"V",IF(WEEKDAY($B$1+I1-1)=7,"S",""))))))) -> J | J2: =IF(WEEKDAY($B$1+J1-1)=1,"D",IF(WEEKDAY($B$1+J1-1)=2,"L",IF(WEEKDAY($B$1+J1-1)=3,"Ma",IF(WEEKDAY($B$1+J1-1)=4,"Me",IF(WEEKDAY($B$1+J1-1)=5,"J",IF(WEEKDAY($B$1+J1-1)=6,"V",IF(WEEKDAY($B$1+J1-1)=7,"S",""))))))) -> V | ... AG2: =IF(WEEKDAY($B$1+AG1-1)=1,"D",IF(WEEKDAY($B$1+AG1-1)=2,"L",IF(WEEKDAY($B$1+AG1-1)=3,"Ma",IF(WEEKDAY($B$1+AG1-1)=4,"Me",IF(WEEKDAY($B$1+AG1-1)=5,"J",IF(WEEKDAY($B$1+AG1-1)=6,"V",IF(WEEKDAY($B$1+AG1-1)=7,"S",""))))))) -> D
C3: f
C4: =IF(C3="f","f",(COUNTBLANK(C19:C20)-COUNTBLANK($A$19:$A$20)+COUNTBLANK(C22:C25)-COUNTBLANK($A$22:$A$25)+COUNTBLANK(C37:C38)-COUNTBLANK($A$37:$A$38)+COUNTBLANK(C40:C43)-COUNTBLANK($A$40:$A$43)+COUNTIF(C9:C43,"FE"))+COUNTIF(C9:C43,"mrp")+COUNTIFS($A$19:$A$20,"",C19:C20,">=A")+COUNTIFS($A$19:$A$20,"",C19:C20,">=0")+COUNTIFS($A$22:$A$25,"",C22:C25,">=A")+COUNTIFS($A$22:$A$25,"",C22:C25,">=0")+COUNTIFS($A$37:$A$38,"",C37:C38,">=A")+COUNTIFS($A$37:$A$38,"",C37:C38,">=0")+COUNTIFS($A$40:$A$43,"",C40:C43,">=A")+COUNTIFS($A$40:$A$43,"",C40:C43,">=0")) -> f
A6: 100 | C6: f
A7: 101 | C7: f
A8: 102 | C8: f
A9: 103 | C9: f
A10: 104 | C10: f
A11: 105 | C11: f
A12: 106 | C12: f | D12: ca | F12: ca | K12: rtt | O12: rtt | Y12: rtt | AC12: for | AD12: for | AF12: rtt
A13: 107 | C13: f | R13: RTT | V13: RTT | Y13: RTT | AE13: RTT
A14: 108 | C14: f
A15: 109 | C15: f | D15: CA | K15: RTT | Y15: RTT | AF15: RTT
A16: 110 | C16: f | Q16: RTT | AE16: RTT
A17: 111 | C17: f | X17: rtt
A18: 112 | C18: f | I18: JAS
A19: 117 | C19: f
A20: 118 | C20: f
A21: 119 | C21: f | D21: atm | F21: atm | G21: atm | H21: atm | I21: atm | J21: atm | K21: atm | R21: rtt | T21: ca | Y21: rtt | AA21: rtt | AB21: for | AC21: for
A22: 120 | C22: f
A23: 121 | C23: f | H23: rtt | Y23: rtt | AC23: rtt
A24: 122 | C24: f
A25: 123 | C25: f | H25: atm | I25: atm | J25: atm | K25: atm | M25: rtt | V25: ca | W25: ca | Y25: rtt | AF25: rtt
A26: 124 | C26: f | D26: ca | F26: ca | K26: rtt | R26: rtt | T26: rtt | AF26: rtt
A27: 125 | C27: f
A28: 126 | C28: f
A29: 127 | C29: f
A30: 128 | C30: f
A31: 129 | C31: f
C32: f
C33: f
C34: f
C35: f
C36: f
C37: f
C38: f
C39: f
C40: f | M40: FO | N40: FO | O40: FO | P40: FO | Q40: FO | R40: FO | T40: FO | U40: FO | V40: FO | W40: FO | X40: FO | Y40: FO
C41: f | K41: rtt | R41: rtt | T41: for | U41: for | V41: for | W41: for | X41: for | Y41: for | AA41: rtt
...

Sheet Février
A1: 2 | B1: =DATE(Accueil!A1,A1,1) -> 42401 | C1: 1 | D1: =C1+1 -> 2 | E1: =D1+1 -> 3 | F1: =E1+1 -> 4 | G1: =F1+1 -> 5 | H1: =G1+1 -> 6 | I1: =H1+1 -> 7 | J1: =I1+1 -> 8 | K1: =J1+1 -> 9 | ... AG1: =AF1+1 -> 31
C2: =IF(WEEKDAY($B$1+C1-1)=1,"D",IF(WEEKDAY($B$1+C1-1)=2,"L",IF(WEEKDAY($B$1+C1-1)=3,"Ma",IF(WEEKDAY($B$1+C1-1)=4,"Me",IF(WEEKDAY($B$1+C1-1)=5,"J",IF(WEEKDAY($B$1+C1-1)=6,"V",IF(WEEKDAY($B$1+C1-1)=7,"S",""))))))) -> L | D2: =IF(WEEKDAY($B$1+D1-1)=1,"D",IF(WEEKDAY($B$1+D1-1)=2,"L",IF(WEEKDAY($B$1+D1-1)=3,"Ma",IF(WEEKDAY($B$1+D1-1)=4,"Me",IF(WEEKDAY($B$1+D1-1)=5,"J",IF(WEEKDAY($B$1+D1-1)=6,"V",IF(WEEKDAY($B$1+D1-1)=7,"S",""))))))) -> Ma | E2: =IF(WEEKDAY($B$1+E1-1)=1,"D",IF(WEEKDAY($B$1+E1-1)=2,"L",IF(WEEKDAY($B$1+E1-1)=3,"Ma",IF(WEEKDAY($B$1+E1-1)=4,"Me",IF(WEEKDAY($B$1+E1-1)=5,"J",IF(WEEKDAY($B$1+E1-1)=6,"V",IF(WEEKDAY($B$1+E1-1)=7,"S",""))))))) -> Me | F2: =IF(WEEKDAY($B$1+F1-1)=1,"D",IF(WEEKDAY($B$1+F1-1)=2,"L",IF(WEEKDAY($B$1+F1-1)=3,"Ma",IF(WEEKDAY($B$1+F1-1)=4,"Me",IF(WEEKDAY($B$1+F1-1)=5,"J",IF(WEEKDAY($B$1+F1-1)=6,"V",IF(WEEKDAY($B$1+F1-1)=7,"S",""))))))) -> J | G2: =IF(WEEKDAY($B$1+G1-1)=1,"D",IF(WEEKDAY($B$1+G1-1)=2,"L",IF(WEEKDAY($B$1+G1-1)=3,"Ma",IF(WEEKDAY($B$1+G1-1)=4,"Me",IF(WEEKDAY($B$1+G1-1)=5,"J",IF(WEEKDAY($B$1+G1-1)=6,"V",IF(WEEKDAY($B$1+G1-1)=7,"S",""))))))) -> V | H2: =IF(WEEKDAY($B$1+H1-1)=1,"D",IF(WEEKDAY($B$1+H1-1)=2,"L",IF(WEEKDAY($B$1+H1-1)=3,"Ma",IF(WEEKDAY($B$1+H1-1)=4,"Me",IF(WEEKDAY($B$1+H1-1)=5,"J",IF(WEEKDAY($B$1+H1-1)=6,"V",IF(WEEKDAY($B$1+H1-1)=7,"S",""))))))) -> S | I2: =IF(WEEKDAY($B$1+I1-1)=1,"D",IF(WEEKDAY($B$1+I1-1)=2,"L",IF(WEEKDAY($B$1+I1-1)=3,"Ma",IF(WEEKDAY($B$1+I1-1)=4,"Me",IF(WEEKDAY($B$1+I1-1)=5,"J",IF(WEEKDAY($B$1+I1-1)=6,"V",IF(WEEKDAY($B$1+I1-1)=7,"S",""))))))) -> D | J2: =IF(WEEKDAY($B$1+J1-1)=1,"D",IF(WEEKDAY($B$1+J1-1)=2,"L",IF(WEEKDAY($B$1+J1-1)=3,"Ma",IF(WEEKDAY($B$1+J1-1)=4,"Me",IF(WEEKDAY($B$1+J1-1)=5,"J",IF(WEEKDAY($B$1+J1-1)=6,"V",IF(WEEKDAY($B$1+J1-1)=7,"S",""))))))) -> L | ... AG2: =IF(WEEKDAY($B$1+AG1-1)=1,"D",IF(WEEKDAY($B$1+AG1-1)=2,"L",IF(WEEKDAY($B$1+AG1-1)=3,"Ma",IF(WEEKDAY($B$1+AG1-1)=4,"Me",IF(WEEKDAY($B$1+AG1-1)=5,"J",IF(WEEKDAY($B$1+AG1-1)=6,"V",IF(WEEKDAY($B$1+AG1-1)=7,"S",""))))))) -> Me
AF5: =IF(AF3="f","f",COUNTIFS($A$21:$A$21,"FQ",AF21:AF21,"FQ*")+COUNTIFS($A$21:$A$21,"FQ",AF21:AF21,"")+COUNTIFS($A$39:$A$39,"FQ",AF39:AF39,"FQ*")+COUNTIFS($A$39:$A$39,"FQ",AF39:AF39,"")) -> 0 | AG5: =IF(AG3="f","f",COUNTIFS($A$21:$A$21,"FQ",AG21:AG21,"FQ*")+COUNTIFS($A$21:$A$21,"FQ",AG21:AG21,"")+COUNTIFS($A$39:$A$39,"FQ",AG39:AG39,"FQ*")+COUNTIFS($A$39:$A$39,"FQ",AG39:AG39,"")) -> 0
A6: 100
A7: 101
A8: 102
A9: 103
A10: 104 | J10: JRS | K10: JRS | L10: JRS | M10: JRS | N10: JRS
A11: 105 | L11: JRS | M11: JRS | N11: JRS | Q11: JRS | R11: JRS | S11: JRS | Y11: FO | Z11: FO | AA11: FO | AE11: JRS
A12: 106 | L12: rtt | O12: rtt | Q12: rtt | R12: rtt | S12: rtt | T12: ca | U12: ca | V12: ca | Z12: rtt
A13: 107 | H13: RTT | O13: RTT | V13: RTT
A14: 108
A15: 109 | J15: TP | K15: TP | L15: TP | M15: TP | N15: TP | O15: RTT | Q15: TP | R15: TP | S15: TP | T15: TP | U15: TP | V15: TP | AC15: RTT
A16: 110 | U16: rtt | X16: rtt | AB16: RTT
A17: 111 | G17: rtt | H17: L | U17: rtt | AC17: L
A18: 112 | J18: JRS | K18: JRS | L18: JRS | M18: JRS | N18: JRS | Q18: JRS | R18: JRS
A19: 117
A20: 118
A21: 119 | H21: rtt | O21: rtt | Q21: rtt | AC21: rtt
A22: 120
A23: 121 | H23: rtt | O23: rtt | S23: rtt | AC23: rtt
A24: 122
A25: 123 | N25: rtt | O25: rtt | Q25: ca | S25: ca | X25: rtt | AC25: rtt
A26: 124 | C26: tp | D26: tp | E26: tp | F26: tp | G26: tp | H26: tp | J26: rtt | V26: rtt | AC26: rtt | AE26: rtt
A27: 125
A28: 126
A29: 127
A30: 128
A31: 129
A39: ALT1 | Z39: ca | AA39: ca | AB39: ca | AC39: rtt | AE39: ca
A40: ALT2 | C40: FO | D40: FO | E40: FO | F40: FO | G40: FO | H40: FO
A41: ALT3 | J41: rtt | Q41: for | R41: for | S41: for | T41: for | U41: for | V41: for | AC41: rtt | AE41: rtt
C62: atm | E62: atm | F62: atm | G62: atm | H62: atm | I62: atm | J62: atm | L62: atm | M62: atm | N62: atm | O62: atm | P62: atm | Q62: atm | S62: atm | T62: atm | U62: atm | V62: atm | W62: atm | X62: atm | Z62: atm | AA62: atm | AB62: atm | AC62: atm | AD62: atm | AE62: atm
E63: ca | F63: ca | G63: ca | H63: ca | I63: ca | J63: ca | L63: ca | M63: ca | N63: ca | O63: ca | P63: ca | Q63: ca | S63: ca | T63: ca | U63: ca | V63: ca | W63: ca | X63: ca | Z63: ca | AA63: ca | AB63: ca | AC63: ca | AD63: ca | AE63: ca
C64: atm | E64: atm | F64: atm | G64: atm | H64: atm | I64: atm | J64: atm | L64: atm | M64: atm | N64: atm | O64: atm | P64: atm | Q64: atm | S64: atm | T64: atm | U64: atm | V64: atm | W64: atm | X64: atm | Z64: atm | AA64: atm | AB64: atm | AC64: atm | AD64: atm | AE64: atm

Sheet Mars
A1: 3 | B1: =DATE(Accueil!A1,A1,1) -> 42430 | C1: 1 | D1: =C1+1 -> 2 | E1: =D1+1 -> 3 | F1: =E1+1 -> 4 | G1: =F1+1 -> 5 | H1: =G1+1 -> 6 | I1: =H1+1 -> 7 | J1: =I1+1 -> 8 | K1: =J1+1 -> 9 | ... AG1: =AF1+1 -> 31
C2: =IF(WEEKDAY($B$1+C1-1)=1,"D",IF(WEEKDAY($B$1+C1-1)=2,"L",IF(WEEKDAY($B$1+C1-1)=3,"Ma",IF(WEEKDAY($B$1+C1-1)=4,"Me",IF(WEEKDAY($B$1+C1-1)=5,"J",IF(WEEKDAY($B$1+C1-1)=6,"V",IF(WEEKDAY($B$1+C1-1)=7,"S",""))))))) -> Ma | D2: =IF(WEEKDAY($B$1+D1-1)=1,"D",IF(WEEKDAY($B$1+D1-1)=2,"L",IF(WEEKDAY($B$1+D1-1)=3,"Ma",IF(WEEKDAY($B$1+D1-1)=4,"Me",IF(WEEKDAY($B$1+D1-1)=5,"J",IF(WEEKDAY($B$1+D1-1)=6,"V",IF(WEEKDAY($B$1+D1-1)=7,"S",""))))))) -> Me | E2: =IF(WEEKDAY($B$1+E1-1)=1,"D",IF(WEEKDAY($B$1+E1-1)=2,"L",IF(WEEKDAY($B$1+E1-1)=3,"Ma",IF(WEEKDAY($B$1+E1-1)=4,"Me",IF(WEEKDAY($B$1+E1-1)=5,"J",IF(WEEKDAY($B$1+E1-1)=6,"V",IF(WEEKDAY($B$1+E1-1)=7,"S",""))))))) -> J | F2: =IF(WEEKDAY($B$1+F1-1)=1,"D",IF(WEEKDAY($B$1+F1-1)=2,"L",IF(WEEKDAY($B$1+F1-1)=3,"Ma",IF(WEEKDAY($B$1+F1-1)=4,"Me",IF(WEEKDAY($B$1+F1-1)=5,"J",IF(WEEKDAY($B$1+F1-1)=6,"V",IF(WEEKDAY($B$1+F1-1)=7,"S",""))))))) -> V | G2: =IF(WEEKDAY($B$1+G1-1)=1,"D",IF(WEEKDAY($B$1+G1-1)=2,"L",IF(WEEKDAY($B$1+G1-1)=3,"Ma",IF(WEEKDAY($B$1+G1-1)=4,"Me",IF(WEEKDAY($B$1+G1-1)=5,"J",IF(WEEKDAY($B$1+G1-1)=6,"V",IF(WEEKDAY($B$1+G1-1)=7,"S",""))))))) -> S | H2: =IF(WEEKDAY($B$1+H1-1)=1,"D",IF(WEEKDAY($B$1+H1-1)=2,"L",IF(WEEKDAY($B$1+H1-1)=3,"Ma",IF(WEEKDAY($B$1+H1-1)=4,"Me",IF(WEEKDAY($B$1+H1-1)=5,"J",IF(WEEKDAY($B$1+H1-1)=6,"V",IF(WEEKDAY($B$1+H1-1)=7,"S",""))))))) -> D | I2: =IF(WEEKDAY($B$1+I1-1)=1,"D",IF(WEEKDAY($B$1+I1-1)=2,"L",IF(WEEKDAY($B$1+I1-1)=3,"Ma",IF(WEEKDAY($B$1+I1-1)=4,"Me",IF(WEEKDAY($B$1+I1-1)=5,"J",IF(WEEKDAY($B$1+I1-1)=6,"V",IF(WEEKDAY($B$1+I1-1)=7,"S",""))))))) -> L | J2: =IF(WEEKDAY($B$1+J1-1)=1,"D",IF(WEEKDAY($B$1+J1-1)=2,"L",IF(WEEKDAY($B$1+J1-1)=3,"Ma",IF(WEEKDAY($B$1+J1-1)=4,"Me",IF(WEEKDAY($B$1+J1-1)=5,"J",IF(WEEKDAY($B$1+J1-1)=6,"V",IF(WEEKDAY($B$1+J1-1)=7,"S",""))))))) -> Ma | ... AG2: =IF(WEEKDAY($B$1+AG1-1)=1,"D",IF(WEEKDAY($B$1+AG1-1)=2,"L",IF(WEEKDAY($B$1+AG1-1)=3,"Ma",IF(WEEKDAY($B$1+AG1-1)=4,"Me",IF(WEEKDAY($B$1+AG1-1)=5,"J",IF(WEEKDAY($B$1+AG1-1)=6,"V",IF(WEEKDAY($B$1+AG1-1)=7,"S",""))))))) -> J
A6: 100 | S6: ca | T6: ca | W6: ca | X6: ca | Y6: ca | Z6: ca | AA6: ca
A7: 101
A8: 102 | W8: ca | X8: ca | Y8: ca | Z8: JRS | AA8: JRS
A9: 103 | J9: for | K9: for | L9: for
A10: 104 | K10: JRS | R10: JRS | AF10: JRS
A11: 105 | C11: JRS | D11: JRS | E11: JRS | F11: JRS | P11: JRS | AE11: JRS | AF11: JRS | AG11: JRS
A12: 106 | D12: rtt | F12: for | G12: rtt | I12: for | J12: for | R12: rtt | U12: rtt | Y12: rtt | AB12: rtt
A13: 107 | E13: RTT | G13: RTT | I13: RTT | J13: ca | K13: ca | L13: ca | M13: ca | N13: ca | U13: RTT | AB13: RTT | AD13: rtt
A14: 108 | W14: ca | X14: ca
A15: 109 | N15: RTT | Z15: ca | AB15: RTT
A16: 110 | M16: RTT | Y16: RTT | AA16: RTT | AF16: RTT
A17: 111 | F17: rtt | G17: L | T17: rtt | U17: L
A18: 112 | Q18: JRS | R18: JRS | S18: JRS
A19: 117
A20: 118 | Z20: ca | AA20: ca
A21: 119 | G21: rtt | I21: rtt | J21: ca | K21: ca | U21: rtt | AB21: rtt | AD21: rtt | AE21: ca | AF21: ca | AG21: ca
A22: 120
A23: 121 | G23: rtt | K23: rtt | U23: rtt | AB23: rtt | AF23: rtt
A24: 122
A25: 123 | G25: rtt | I25: asaf | N25: rtt | P25: rtt | AA25: atm | AB25: rtt
A26: 124 | N26: rtt | U26: rtt | W26: rtt | AE26: TP | AF26: TP | AG26: TP
A27: 125
A28: 126
A29: 127
A30: 128
A31: 129
A39: ALT1 | C39: ca | D39: ca | E39: ca | F39: ca | G39: ca | I39: ca | J39: ca | K39: ca | V39: rtt | W39: CA
A40: ALT2 | I40: FO | J40: FO | K40: FO | L40: FO | M40: FO | N40: FO | P40: FO | Q40: FO | R40: FO | S40: FO | T40: FO | U40: FO | W40: rtt | X40: ca | Y40: ca | Z40: ca | AA40: ca
A41: ALT3 | N41: rtt | P41: for | Q41: for | R41: for | S41: for | T41: for | U41: for | AA41: rtt
C62: atm | E62: atm | F62: atm | G62: atm | H62: atm | I62: atm | J62: atm | L62: atm | M62: atm | N62: atm | O62: atm | P62: atm | Q62: atm | S62: atm | T62: atm | U62: atm | V62: atm | W62: atm | X62: atm | Z62: atm | AA62: atm | AB62: atm | AC62: atm | AD62: atm | AE62: atm
E63: ca | F63: ca | G63: ca | H63: ca | I63: ca | J63: ca | L63: ca | M63: ca | N63: ca | O63: ca | P63: ca | Q63: ca | S63: ca | T63: ca | U63: ca | V63: ca | W63: ca | X63: ca | Z63: ca | AA63: ca | AB63: ca | AC63: ca | AD63: ca | AE63: ca
C64: atm | E64: atm | F64: atm | G64: atm | H64: atm | I64: atm | J64: atm | L64: atm | M64: atm | N64: atm | O64: atm | P64: atm | Q64: atm | S64: atm | T64: atm | U64: atm | V64: atm | W64: atm | X64: atm | Z64: atm | AA64: atm | AB64: atm | AC64: atm | AD64: atm | AE64: atm

Sheet Avril
A1: 4 | B1: =DATE(Accueil!A1,A1,1) -> 42461 | C1: 1 | D1: =C1+1 -> 2 | E1: =D1+1 -> 3 | F1: =E1+1 -> 4 | G1: =F1+1 -> 5 | H1: =G1+1 -> 6 | I1: =H1+1 -> 7 | J1: =I1+1 -> 8 | K1: =J1+1 -> 9 | ... AG1: =AF1+1 -> 31
C2: =IF(WEEKDAY($B$1+C1-1)=1,"D",IF(WEEKDAY($B$1+C1-1)=2,"L",IF(WEEKDAY($B$1+C1-1)=3,"Ma",IF(WEEKDAY($B$1+C1-1)=4,"Me",IF(WEEKDAY($B$1+C1-1)=5,"J",IF(WEEKDAY($B$1+C1-1)=6,"V",IF(WEEKDAY($B$1+C1-1)=7,"S",""))))))) -> V | D2: =IF(WEEKDAY($B$1+D1-1)=1,"D",IF(WEEKDAY($B$1+D1-1)=2,"L",IF(WEEKDAY($B$1+D1-1)=3,"Ma",IF(WEEKDAY($B$1+D1-1)=4,"Me",IF(WEEKDAY($B$1+D1-1)=5,"J",IF(WEEKDAY($B$1+D1-1)=6,"V",IF(WEEKDAY($B$1+D1-1)=7,"S",""))))))) -> S | E2: =IF(WEEKDAY($B$1+E1-1)=1,"D",IF(WEEKDAY($B$1+E1-1)=2,"L",IF(WEEKDAY($B$1+E1-1)=3,"Ma",IF(WEEKDAY($B$1+E1-1)=4,"Me",IF(WEEKDAY($B$1+E1-1)=5,"J",IF(WEEKDAY($B$1+E1-1)=6,"V",IF(WEEKDAY($B$1+E1-1)=7,"S",""))))))) -> D | F2: =IF(WEEKDAY($B$1+F1-1)=1,"D",IF(WEEKDAY($B$1+F1-1)=2,"L",IF(WEEKDAY($B$1+F1-1)=3,"Ma",IF(WEEKDAY($B$1+F1-1)=4,"Me",IF(WEEKDAY($B$1+F1-1)=5,"J",IF(WEEKDAY($B$1+F1-1)=6,"V",IF(WEEKDAY($B$1+F1-1)=7,"S",""))))))) -> L | G2: =IF(WEEKDAY($B$1+G1-1)=1,"D",IF(WEEKDAY($B$1+G1-1)=2,"L",IF(WEEKDAY($B$1+G1-1)=3,"Ma",IF(WEEKDAY($B$1+G1-1)=4,"Me",IF(WEEKDAY($B$1+G1-1)=5,"J",IF(WEEKDAY($B$1+G1-1)=6,"V",IF(WEEKDAY($B$1+G1-1)=7,"S",""))))))) -> Ma | H2: =IF(WEEKDAY($B$1+H1-1)=1,"D",IF(WEEKDAY($B$1+H1-1)=2,"L",IF(WEEKDAY($B$1+H1-1)=3,"Ma",IF(WEEKDAY($B$1+H1-1)=4,"Me",IF(WEEKDAY($B$1+H1-1)=5,"J",IF(WEEKDAY($B$1+H1-1)=6,"V",IF(WEEKDAY($B$1+H1-1)=7,"S",""))))))) -> Me | I2: =IF(WEEKDAY($B$1+I1-1)=1,"D",IF(WEEKDAY($B$1+I1-1)=2,"L",IF(WEEKDAY($B$1+I1-1)=3,"Ma",IF(WEEKDAY($B$1+I1-1)=4,"Me",IF(WEEKDAY($B$1+I1-1)=5,"J",IF(WEEKDAY($B$1+I1-1)=6,"V",IF(WEEKDAY($B$1+I1-1)=7,"S",""))))))) -> J | J2: =IF(WEEKDAY($B$1+J1-1)=1,"D",IF(WEEKDAY($B$1+J1-1)=2,"L",IF(WEEKDAY($B$1+J1-1)=3,"Ma",IF(WEEKDAY($B$1+J1-1)=4,"Me",IF(WEEKDAY($B$1+J1-1)=5,"J",IF(WEEKDAY($B$1+J1-1)=6,"V",IF(WEEKDAY($B$1+J1-1)=7,"S",""))))))) -> V | ... AG2: =IF(WEEKDAY($B$1+AG1-1)=1,"D",IF(WEEKDAY($B$1+AG1-1)=2,"L",IF(WEEKDAY($B$1+AG1-1)=3,"Ma",IF(WEEKDAY($B$1+AG1-1)=4,"Me",IF(WEEKDAY($B$1+AG1-1)=5,"J",IF(WEEKDAY($B$1+AG1-1)=6,"V",IF(WEEKDAY($B$1+AG1-1)=7,"S",""))))))) -> D
AG5: =IF(AG3="f","f",COUNTIFS($A$21:$A$21,"FQ",AG21:AG21,"FQ*")+COUNTIFS($A$21:$A$21,"FQ",AG21:AG21,"")+COUNTIFS($A$39:$A$39,"FQ",AG39:AG39,"FQ*")+COUNTIFS($A$39:$A$39,"FQ",AG39:AG39,"")) -> 0
A6: 100
A7: 101 | F7: ATM | G7: ATM | H7: ATM | I7: ATM | J7: ATM | K7: ATM | M7: ca | N7: ca | O7: ca | P7: ca | Q7: ca | T7: ca | U7: ca | V7: ca | W7: ca | X7: ca | AA7: ca
A8: 102
A9: 103
A10: 104 | F10: ca | G10: JRS | H10: JRS | I10: JRS | J10: JRS
A11: 105 | M11: CA | N11: CA | O11: CA | P11: CA | Q11: CA | AE11: atm | AF11: atm
A12: 106 | C12: rrtt | D12: rtt | H12: rtt | K12: rtt | M12: ca | N12: ca | O12: ca | P12: ca | Q12: ca | R12: ca | Y12: rtt | AC12: rtt
A13: 107 | K13: RTT | O13: CA | P13: CA | Q13: CA | R13: CA | T13: CA | U13: CA | V13: CA | W13: CA | X13: CA | AD13: FO | AF13: RTT
A14: 108 | T14: CA | U14: CA | V14: CA
A15: 109 | K15: RTT | M15: CA | N15: CA | T15: TP | U15: TP | V15: TP | W15: TP | X15: TP | Y15: RTT | AA15: TP | AB15: TP | AC15: TP | AD15: TP | AE15: TP | AF15: TP
A16: 110 | J16: RTT | X16: RTT | AA16: CA | AB16: CA | AC16: CA | AD16: CA | AE16: CA
A17: 111 | D17: L | M17: rtt | N17: ca | R17: L | W17: RTT | X17: rc | Y17: rc | AA17: CA | AB17: CA | AC17: CA | AE17: rtt | AF17: L
A18: 112 | F18: ca | G18: ca | H18: ca | I18: ca | J18: ca
A19: 117
A20: 118 | J20: ca | X20: ca | AC20: for | AD20: for | AE20: ca
A21: 119 | C21: ca | D21: ca | K21: rtt | R21: rtt | T21: rtt | U21: ca | V21: ca | AF21: rtt
A22: 120
A23: 121 | K23: rtt | R23: rtt | V23: rtt | W23: for | AA23: CA | AB23: CA | AC23: CA | AD23: CA | AE23: CA | AF23: CA
A24: 122
A25: 123 | D25: rtt | F25: rtt | H25: atm | I25: atm | J25: atm | K25: atm | X25: atm | Y25: rtt | AA25: rtt | AC25: atm | AD25: atm | AE25: atm | AF25: atm
A26: 124 | C26: TP | D26: TP | M26: rtt | R26: lrtt | T26: CA | U26: CA | V26: CA | W26: CA | X26: CA | Y26: CA | AA26: CA | AF26: rtt
A27: 125 | H27: ATM | I27: ATM | J27: ATM | K27: ATM | M27: ATM | N27: ATM | O27: rtt | P27: ca | Q27: ca | R27: ca | T27: ca
A28: 126
A29: 127
A30: 128
A31: 129
A39: ALT1
A40: ALT2 | T40: FO | U40: FO | V40: FO | W40: FO | X40: FO | Y40: FO | AA40: FO | AB40: FO | AC40: FO | AD40: FO | AE40: FO | AF40: FO
A41: ALT3 | M41: for | N41: for | O41: for | P41: for | Q41: for | R41: for | V41: rtt | W41: ca | X41: ca | Y41: ca | AA41: ca | AB41: ca | AC41: ca | AD41: ca | AE41: ca | AF41: rtt

Sheet Mai
A1: 5 | B1: =DATE(Accueil!A1,A1,1) -> 42491 | C1: 1 | D1: =C1+1 -> 2 | E1: =D1+1 -> 3 | F1: =E1+1 -> 4 | G1: =F1+1 -> 5 | H1: =G1+1 -> 6 | I1: =H1+1 -> 7 | J1: =I1+1 -> 8 | K1: =J1+1 -> 9 | ... AG1: =AF1+1 -> 31
C2: =IF(WEEKDAY($B$1+C1-1)=1,"D",IF(WEEKDAY($B$1+C1-1)=2,"L",IF(WEEKDAY($B$1+C1-1)=3,"Ma",IF(WEEKDAY($B$1+C1-1)=4,"Me",IF(WEEKDAY($B$1+C1-1)=5,"J",IF(WEEKDAY($B$1+C1-1)=6,"V",IF(WEEKDAY($B$1+C1-1)=7,"S",""))))))) -> D | D2: =IF(WEEKDAY($B$1+D1-1)=1,"D",IF(WEEKDAY($B$1+D1-1)=2,"L",IF(WEEKDAY($B$1+D1-1)=3,"Ma",IF(WEEKDAY($B$1+D1-1)=4,"Me",IF(WEEKDAY($B$1+D1-1)=5,"J",IF(WEEKDAY($B$1+D1-1)=6,"V",IF(WEEKDAY($B$1+D1-1)=7,"S",""))))))) -> L | E2: =IF(WEEKDAY($B$1+E1-1)=1,"D",IF(WEEKDAY($B$1+E1-1)=2,"L",IF(WEEKDAY($B$1+E1-1)=3,"Ma",IF(WEEKDAY($B$1+E1-1)=4,"Me",IF(WEEKDAY($B$1+E1-1)=5,"J",IF(WEEKDAY($B$1+E1-1)=6,"V",IF(WEEKDAY($B$1+E1-1)=7,"S",""))))))) -> Ma | F2: =IF(WEEKDAY($B$1+F1-1)=1,"D",IF(WEEKDAY($B$1+F1-1)=2,"L",IF(WEEKDAY($B$1+F1-1)=3,"Ma",IF(WEEKDAY($B$1+F1-1)=4,"Me",IF(WEEKDAY($B$1+F1-1)=5,"J",IF(WEEKDAY($B$1+F1-1)=6,"V",IF(WEEKDAY($B$1+F1-1)=7,"S",""))))))) -> Me | G2: =IF(WEEKDAY($B$1+G1-1)=1,"D",IF(WEEKDAY($B$1+G1-1)=2,"L",IF(WEEKDAY($B$1+G1-1)=3,"Ma",IF(WEEKDAY($B$1+G1-1)=4,"Me",IF(WEEKDAY($B$1+G1-1)=5,"J",IF(WEEKDAY($B$1+G1-1)=6,"V",IF(WEEKDAY($B$1+G1-1)=7,"S",""))))))) -> J | H2: =IF(WEEKDAY($B$1+H1-1)=1,"D",IF(WEEKDAY($B$1+H1-1)=2,"L",IF(WEEKDAY($B$1+H1-1)=3,"Ma",IF(WEEKDAY($B$1+H1-1)=4,"Me",IF(WEEKDAY($B$1+H1-1)=5,"J",IF(WEEKDAY($B$1+H1-1)=6,"V",IF(WEEKDAY($B$1+H1-1)=7,"S",""))))))) -> V | I2: =IF(WEEKDAY($B$1+I1-1)=1,"D",IF(WEEKDAY($B$1+I1-1)=2,"L",IF(WEEKDAY($B$1+I1-1)=3,"Ma",IF(WEEKDAY($B$1+I1-1)=4,"Me",IF(WEEKDAY($B$1+I1-1)=5,"J",IF(WEEKDAY($B$1+I1-1)=6,"V",IF(WEEKDAY($B$1+I1-1)=7,"S",""))))))) -> S | J2: =IF(WEEKDAY($B$1+J1-1)=1,"D",IF(WEEKDAY($B$1+J1-1)=2,"L",IF(WEEKDAY($B$1+J1-1)=3,"Ma",IF(WEEKDAY($B$1+J1-1)=4,"Me",IF(WEEKDAY($B$1+J1-1)=5,"J",IF(WEEKDAY($B$1+J1-1)=6,"V",IF(WEEKDAY($B$1+J1-1)=7,"S",""))))))) -> D | ... AG2: =IF(WEEKDAY($B$1+AG1-1)=1,"D",IF(WEEKDAY($B$1+AG1-1)=2,"L",IF(WEEKDAY($B$1+AG1-1)=3,"Ma",IF(WEEKDAY($B$1+AG1-1)=4,"Me",IF(WEEKDAY($B$1+AG1-1)=5,"J",IF(WEEKDAY($B$1+AG1-1)=6,"V",IF(WEEKDAY($B$1+AG1-1)=7,"S",""))))))) -> Ma
A6: 100 | H6: CA
A7: 101 | H7: ca
A8: 102
A9: 103
A10: 104
A11: 105 | D11: atm | E11: atm | F11: atm | H11: atm | I11: atm | K11: atm | L11: atm | M11: atm | N11: atm | O11: atm | P11: atm | S11: atm | T11: atm | U11: atm | V11: atm | W11: atm
A12: 106 | F12: rtt | I12: rtt | P12: rtt | T12: rtt | AA12: rtt | AD12: rtt
A13: 107 | H13: RTT | I13: RTT | K13: RTT | W13: RTT | AD13: RTT | AF13: RTT
A14: 108
A15: 109 | D15: TP | E15: TP | F15: TP | H15: TP | I15: RTT | K15: TP | L15: TP | M15: TP | N15: TP | O15: TP | P15: TP | W15: RTT
A16: 110 | H16: RTT | AA16: RTT
A17: 111 | O17: rtt | P17: L | AD17: L | AF17: rtt
A18: 112
A19: 117
A20: 118
A21: 119 | I21: rtt | K21: rtt | L21: ca | M21: ca | N21: ca | O21: ca | P21: ca | W21: rtt | AD21: rtt | AF21: rtt
A22: 120
A23: 121 | I23: rtt | M23: rtt | W23: rtt | AD23: rtt
A24: 122
A25: 123 | D25: atm | E25: atm | F25: atm | H25: atm | I25: atm | P25: rtt | W25: rtt | Y25: rtt
A26: 124 | D26: TP | E26: TP | F26: TP | H26: TP | I26: TP | N26: for | P26: rtt | R26: rtt | AD26: rtt
A27: 125
A28: 126
A29: 127
A30: 128
A31: 129
A39: ALT1
A40: ALT2 | K40: FO | L40: FO | M40: FO | N40: FO | O40: FO | P40: FO | S40: FO | T40: FO | U40: FO | V40: FO | W40: FO
A41: ALT3 | D41: rtt | E41: ca | F41: ca | H41: ca | I41: ca | K41: for | L41: for | M41: for | N41: for | O41: for | P41: rtt | W41: rtt | Y41: rtt | AF41: for | AG41: for

Sheet Juin
A1: 6 | B1: =DATE(Accueil!A1,A1,1) -> 42522 | C1: 1 | D1: =C1+1 -> 2 | E1: =D1+1 -> 3 | F1: =E1+1 -> 4 | G1: =F1+1 -> 5 | H1: =G1+1 -> 6 | I1: =H1+1 -> 7 | J1: =I1+1 -> 8 | K1: =J1+1 -> 9 | ... AG1: =AF1+1 -> 31
C2: =IF(WEEKDAY($B$1+C1-1)=1,"D",IF(WEEKDAY($B$1+C1-1)=2,"L",IF(WEEKDAY($B$1+C1-1)=3,"Ma",IF(WEEKDAY($B$1+C1-1)=4,"Me",IF(WEEKDAY($B$1+C1-1)=5,"J",IF(WEEKDAY($B$1+C1-1)=6,"V",IF(WEEKDAY($B$1+C1-1)=7,"S",""))))))) -> Me | D2: =IF(WEEKDAY($B$1+D1-1)=1,"D",IF(WEEKDAY($B$1+D1-1)=2,"L",IF(WEEKDAY($B$1+D1-1)=3,"Ma",IF(WEEKDAY($B$1+D1-1)=4,"Me",IF(WEEKDAY($B$1+D1-1)=5,"J",IF(WEEKDAY($B$1+D1-1)=6,"V",IF(WEEKDAY($B$1+D1-1)=7,"S",""))))))) -> J | E2: =IF(WEEKDAY($B$1+E1-1)=1,"D",IF(WEEKDAY($B$1+E1-1)=2,"L",IF(WEEKDAY($B$1+E1-1)=3,"Ma",IF(WEEKDAY($B$1+E1-1)=4,"Me",IF(WEEKDAY($B$1+E1-1)=5,"J",IF(WEEKDAY($B$1+E1-1)=6,"V",IF(WEEKDAY($B$1+E1-1)=7,"S",""))))))) -> V | F2: =IF(WEEKDAY($B$1+F1-1)=1,"D",IF(WEEKDAY($B$1+F1-1)=2,"L",IF(WEEKDAY($B$1+F1-1)=3,"Ma",IF(WEEKDAY($B$1+F1-1)=4,"Me",IF(WEEKDAY($B$1+F1-1)=5,"J",IF(WEEKDAY($B$1+F1-1)=6,"V",IF(WEEKDAY($B$1+F1-1)=7,"S",""))))))) -> S | G2: =IF(WEEKDAY($B$1+G1-1)=1,"D",IF(WEEKDAY($B$1+G1-1)=2,"L",IF(WEEKDAY($B$1+G1-1)=3,"Ma",IF(WEEKDAY($B$1+G1-1)=4,"Me",IF(WEEKDAY($B$1+G1-1)=5,"J",IF(WEEKDAY($B$1+G1-1)=6,"V",IF(WEEKDAY($B$1+G1-1)=7,"S",""))))))) -> D | H2: =IF(WEEKDAY($B$1+H1-1)=1,"D",IF(WEEKDAY($B$1+H1-1)=2,"L",IF(WEEKDAY($B$1+H1-1)=3,"Ma",IF(WEEKDAY($B$1+H1-1)=4,"Me",IF(WEEKDAY($B$1+H1-1)=5,"J",IF(WEEKDAY($B$1+H1-1)=6,"V",IF(WEEKDAY($B$1+H1-1)=7,"S",""))))))) -> L | I2: =IF(WEEKDAY($B$1+I1-1)=1,"D",IF(WEEKDAY($B$1+I1-1)=2,"L",IF(WEEKDAY($B$1+I1-1)=3,"Ma",IF(WEEKDAY($B$1+I1-1)=4,"Me",IF(WEEKDAY($B$1+I1-1)=5,"J",IF(WEEKDAY($B$1+I1-1)=6,"V",IF(WEEKDAY($B$1+I1-1)=7,"S",""))))))) -> Ma | J2: =IF(WEEKDAY($B$1+J1-1)=1,"D",IF(WEEKDAY($B$1+J1-1)=2,"L",IF(WEEKDAY($B$1+J1-1)=3,"Ma",IF(WEEKDAY($B$1+J1-1)=4,"Me",IF(WEEKDAY($B$1+J1-1)=5,"J",IF(WEEKDAY($B$1+J1-1)=6,"V",IF(WEEKDAY($B$1+J1-1)=7,"S",""))))))) -> Me | ... AG2: =IF(WEEKDAY($B$1+AG1-1)=1,"D",IF(WEEKDAY($B$1+AG1-1)=2,"L",IF(WEEKDAY($B$1+AG1-1)=3,"Ma",IF(WEEKDAY($B$1+AG1-1)=4,"Me",IF(WEEKDAY($B$1+AG1-1)=5,"J",IF(WEEKDAY($B$1+AG1-1)=6,"V",IF(WEEKDAY($B$1+AG1-1)=7,"S",""))))))) -> V
A6: 100
A7: 101
A8: 102 | AC8: ca | AD8: ca | AE8: ca | AF8: ca
A9: 103
A10: 104
A11: 105
A12: 106 | F12: rtt | J12: rtt | Q12: rtt | T12: rtt | AA12: rtt | AE12: rtt | AF12: for
A13: 107 | M13: RTT | T13: RTT | V13: RTT
A14: 108
A15: 109 | F15: RTT | T15: RTT
A16: 110 | E16: RTT | S16: RTT
A17: 111 | L17: rtt | M17: L | Z17: rtt | AA17: L
A18: 112
A19: 117
A20: 118
A21: 119 | M21: rtt | T21: rtt | V21: rtt | AC21: ca | AD21: ca | AE21: ca | AF21: ca
A22: 120
A23: 121 | C23: rtt | M23: rtt | T23: rtt | X23: rtt
A24: 122
A25: 123 | F25: RTT | T25: rtt | AA25: rtt
A26: 124 | F26: rtt | H26: TP | I26: TP | J26: TP | K26: TP | L26: TP | M26: TP | T26: lrtt | V26: ca | W26: ca | X26: ca | Y26: ca | Z26: ca | AA26: ca | AC26: ca | AD26: ca | AE26: ca | AF26: ca
A27: 125
A28: 126
A29: 127
A30: 128
A31: 129
A39: ALT1
A40: ALT2 | H40: FO | I40: FO | J40: FO | K40: FO | L40: FO | M40: FO | O40: FO | P40: FO | Q40: FO | R40: FO | S40: FO | T40: FO
A41: ALT3 | C41: for | D41: for | E41: for | F41: rtt | M41: rtt | O41: rtt | V41: for | W41: for | X41: for | Y41: for | Z41: for | AA41: rtt

Sheet Juillet
A1: 7 | B1: =DATE(Accueil!A1,A1,1) -> 42552 | C1: 1 | D1: =C1+1 -> 2 | E1: =D1+1 -> 3 | F1: =E1+1 -> 4 | G1: =F1+1 -> 5 | H1: =G1+1 -> 6 | I1: =H1+1 -> 7 | J1: =I1+1 -> 8 | K1: =J1+1 -> 9 | ... AG1: =AF1+1 -> 31
C2: =IF(WEEKDAY($B$1+C1-1)=1,"D",IF(WEEKDAY($B$1+C1-1)=2,"L",IF(WEEKDAY($B$1+C1-1)=3,"Ma",IF(WEEKDAY($B$1+C1-1)=4,"Me",IF(WEEKDAY($B$1+C1-1)=5,"J",IF(WEEKDAY($B$1+C1-1)=6,"V",IF(WEEKDAY($B$1+C1-1)=7,"S",""))))))) -> V | D2: =IF(WEEKDAY($B$1+D1-1)=1,"D",IF(WEEKDAY($B$1+D1-1)=2,"L",IF(WEEKDAY($B$1+D1-1)=3,"Ma",IF(WEEKDAY($B$1+D1-1)=4,"Me",IF(WEEKDAY($B$1+D1-1)=5,"J",IF(WEEKDAY($B$1+D1-1)=6,"V",IF(WEEKDAY($B$1+D1-1)=7,"S",""))))))) -> S | E2: =IF(WEEKDAY($B$1+E1-1)=1,"D",IF(WEEKDAY($B$1+E1-1)=2,"L",IF(WEEKDAY($B$1+E1-1)=3,"Ma",IF(WEEKDAY($B$1+E1-1)=4,"Me",IF(WEEKDAY($B$1+E1-1)=5,"J",IF(WEEKDAY($B$1+E1-1)=6,"V",IF(WEEKDAY($B$1+E1-1)=7,"S",""))))))) -> D | F2: =IF(WEEKDAY($B$1+F1-1)=1,"D",IF(WEEKDAY($B$1+F1-1)=2,"L",IF(WEEKDAY($B$1+F1-1)=3,"Ma",IF(WEEKDAY($B$1+F1-1)=4,"Me",IF(WEEKDAY($B$1+F1-1)=5,"J",IF(WEEKDAY($B$1+F1-1)=6,"V",IF(WEEKDAY($B$1+F1-1)=7,"S",""))))))) -> L | G2: =IF(WEEKDAY($B$1+G1-1)=1,"D",IF(WEEKDAY($B$1+G1-1)=2,"L",IF(WEEKDAY($B$1+G1-1)=3,"Ma",IF(WEEKDAY($B$1+G1-1)=4,"Me",IF(WEEKDAY($B$1+G1-1)=5,"J",IF(WEEKDAY($B$1+G1-1)=6,"V",IF(WEEKDAY($B$1+G1-1)=7,"S",""))))))) -> Ma | H2: =IF(WEEKDAY($B$1+H1-1)=1,"D",IF(WEEKDAY($B$1+H1-1)=2,"L",IF(WEEKDAY($B$1+H1-1)=3,"Ma",IF(WEEKDAY($B$1+H1-1)=4,"Me",IF(WEEKDAY($B$1+H1-1)=5,"J",IF(WEEKDAY($B$1+H1-1)=6,"V",IF(WEEKDAY($B$1+H1-1)=7,"S",""))))))) -> Me | I2: =IF(WEEKDAY($B$1+I1-1)=1,"D",IF(WEEKDAY($B$1+I1-1)=2,"L",IF(WEEKDAY($B$1+I1-1)=3,"Ma",IF(WEEKDAY($B$1+I1-1)=4,"Me",IF(WEEKDAY($B$1+I1-1)=5,"J",IF(WEEKDAY($B$1+I1-1)=6,"V",IF(WEEKDAY($B$1+I1-1)=7,"S",""))))))) -> J | J2: =IF(WEEKDAY($B$1+J1-1)=1,"D",IF(WEEKDAY($B$1+J1-1)=2,"L",IF(WEEKDAY($B$1+J1-1)=3,"Ma",IF(WEEKDAY($B$1+J1-1)=4,"Me",IF(WEEKDAY($B$1+J1-1)=5,"J",IF(WEEKDAY($B$1+J1-1)=6,"V",IF(WEEKDAY($B$1+J1-1)=7,"S",""))))))) -> V | ... AG2: =IF(WEEKDAY($B$1+AG1-1)=1,"D",IF(WEEKDAY($B$1+AG1-1)=2,"L",IF(WEEKDAY($B$1+AG1-1)=3,"Ma",IF(WEEKDAY($B$1+AG1-1)=4,"Me",IF(WEEKDAY($B$1+AG1-1)=5,"J",IF(WEEKDAY($B$1+AG1-1)=6,"V",IF(WEEKDAY($B$1+AG1-1)=7,"S",""))))))) -> D
A6: 100 | J6: ca | M6: ca | N6: ca | O6: ca | Q6: ca | T6: ca | U6: ca | V6: ca | W6: ca | X6: ca | AA6: ca | AB6: ca | AC6: ca | AD6: ca | AE6: ca
A7: 101 | M7: ca | N7: ca | O7: ca | Q7: ca | T7: ca | U7: ca | V7: ca | W7: ca | X7: ca | AA7: ca | AB7: ca | AC7: ca | AD7: ca | AE7: ca
A8: 102 | F8: ca | G8: ca | H8: ca | I8: ca | J8: ca | M8: ca | N8: ca | O8: ca | Q8: ca
A9: 103
A10: 104 | F10: ca | G10: ca | H10: ca | I10: ca | J10: ca
A11: 105 | F11: ca | G11: ca | H11: ca | I11: ca | J11: ca | M11: ca | N11: ca | O11: ca | Q11: ca | T11: ca | U11: ca | V11: ca | W11: ca | X11: ca
A12: 106 | C12: for | H12: rtt | K12: rtt | R12: rtt | V12: rtt | AC12: rtt | AF12: rtt
A13: 107 | D13: RTT | K13: RTT | M13: RTT | Q13: CA | R13: CA | Y13: RTT | AF13: RTT
A14: 108 | AA14: ca | AB14: ca | AC14: ca | AD14: ca | AE14: ca
A15: 109 | D15: RTT | R15: RTT | AF15: RTT
A16: 110 | C16: RTT | Q16: RTT | AE16: RTT
A17: 111 | J17: rtt | K17: L | O17: ca | X17: rtt | Y17: L
A18: 112 | T18: CA | U18: CA | V18: CA | W18: CA | X18: CA | AA18: CA | AB18: CA | AC18: CA | AD18: CA | AE18: CA
A19: 117
A20: 118 | I20: ca | J20: ca | M20: ca | N20: ca | O20: ca | Q20: ca | T20: ca | U20: ca | V20: ca | W20: ca | X20: ca
A21: 119 | C21: ca | D21: ca | F21: ca | G21: ca | H21: ca | I21: ca | J21: ca | K21: ca | M21: ca | N21: ca | O21: ca | Q21: ca | R21: ca | Y21: rtt | AF21: rtt
A22: 120
A23: 121 | D23: rtt | K23: rtt | O23: rtt | T23: ca | U23: ca | V23: ca | W23: ca | X23: ca | Y23: ca | AA23: ca | AB23: ca | AC23: ca | AD23: ca | AE23: ca | AF23: ca
A24: 122
A25: 123 | K25: rtt | O25: rtt | Q25: rtt | R25: rtt | T25: rtt | U25: ca | V25: ca | W25: ca | X25: ca | Y25: ca | AA25: ca | AB25: ca | AC25: ca | AD25: ca | AE25: ca | AF25: ca
A26: 124 | D26: ca | F26: ca | M26: TP | N26: TP | O26: TP | Q26: TP | R26: TP | Y26: rtt
A27: 125
A28: 126
A29: 127
A30: 128
A31: 129
A39: ALT1
A40: ALT2
A41: ALT3 | D41: rtt | F41: rtt | R41: rtt | Y41: rtt | AA41: rtt

Sheet Aout
A1: 8 | B1: =DATE(Accueil!A1,A1,1) -> 42583 | C1: 1 | D1: =C1+1 -> 2 | E1: =D1+1 -> 3 | F1: =E1+1 -> 4 | G1: =F1+1 -> 5 | H1: =G1+1 -> 6 | I1: =H1+1 -> 7 | J1: =I1+1 -> 8 | K1: =J1+1 -> 9 | ... AG1: =AF1+1 -> 31
C2: =IF(WEEKDAY($B$1+C1-1)=1,"D",IF(WEEKDAY($B$1+C1-1)=2,"L",IF(WEEKDAY($B$1+C1-1)=3,"Ma",IF(WEEKDAY($B$1+C1-1)=4,"Me",IF(WEEKDAY($B$1+C1-1)=5,"J",IF(WEEKDAY($B$1+C1-1)=6,"V",IF(WEEKDAY($B$1+C1-1)=7,"S",""))))))) -> L | D2: =IF(WEEKDAY($B$1+D1-1)=1,"D",IF(WEEKDAY($B$1+D1-1)=2,"L",IF(WEEKDAY($B$1+D1-1)=3,"Ma",IF(WEEKDAY($B$1+D1-1)=4,"Me",IF(WEEKDAY($B$1+D1-1)=5,"J",IF(WEEKDAY($B$1+D1-1)=6,"V",IF(WEEKDAY($B$1+D1-1)=7,"S",""))))))) -> Ma | E2: =IF(WEEKDAY($B$1+E1-1)=1,"D",IF(WEEKDAY($B$1+E1-1)=2,"L",IF(WEEKDAY($B$1+E1-1)=3,"Ma",IF(WEEKDAY($B$1+E1-1)=4,"Me",IF(WEEKDAY($B$1+E1-1)=5,"J",IF(WEEKDAY($B$1+E1-1)=6,"V",IF(WEEKDAY($B$1+E1-1)=7,"S",""))))))) -> Me | F2: =IF(WEEKDAY($B$1+F1-1)=1,"D",IF(WEEKDAY($B$1+F1-1)=2,"L",IF(WEEKDAY($B$1+F1-1)=3,"Ma",IF(WEEKDAY($B$1+F1-1)=4,"Me",IF(WEEKDAY($B$1+F1-1)=5,"J",IF(WEEKDAY($B$1+F1-1)=6,"V",IF(WEEKDAY($B$1+F1-1)=7,"S",""))))))) -> J | G2: =IF(WEEKDAY($B$1+G1-1)=1,"D",IF(WEEKDAY($B$1+G1-1)=2,"L",IF(WEEKDAY($B$1+G1-1)=3,"Ma",IF(WEEKDAY($B$1+G1-1)=4,"Me",IF(WEEKDAY($B$1+G1-1)=5,"J",IF(WEEKDAY($B$1+G1-1)=6,"V",IF(WEEKDAY($B$1+G1-1)=7,"S",""))))))) -> V | H2: =IF(WEEKDAY($B$1+H1-1)=1,"D",IF(WEEKDAY($B$1+H1-1)=2,"L",IF(WEEKDAY($B$1+H1-1)=3,"Ma",IF(WEEKDAY($B$1+H1-1)=4,"Me",IF(WEEKDAY($B$1+H1-1)=5,"J",IF(WEEKDAY($B$1+H1-1)=6,"V",IF(WEEKDAY($B$1+H1-1)=7,"S",""))))))) -> S | I2: =IF(WEEKDAY($B$1+I1-1)=1,"D",IF(WEEKDAY($B$1+I1-1)=2,"L",IF(WEEKDAY($B$1+I1-1)=3,"Ma",IF(WEEKDAY($B$1+I1-1)=4,"Me",IF(WEEKDAY($B$1+I1-1)=5,"J",IF(WEEKDAY($B$1+I1-1)=6,"V",IF(WEEKDAY($B$1+I1-1)=7,"S",""))))))) -> D | J2: =IF(WEEKDAY($B$1+J1-1)=1,"D",IF(WEEKDAY($B$1+J1-1)=2,"L",IF(WEEKDAY($B$1+J1-1)=3,"Ma",IF(WEEKDAY($B$1+J1-1)=4,"Me",IF(WEEKDAY($B$1+J1-1)=5,"J",IF(WEEKDAY($B$1+J1-1)=6,"V",IF(WEEKDAY($B$1+J1-1)=7,"S",""))))))) -> L | ... AG2: =IF(WEEKDAY($B$1+AG1-1)=1,"D",IF(WEEKDAY($B$1+AG1-1)=2,"L",IF(WEEKDAY($B$1+AG1-1)=3,"Ma",IF(WEEKDAY($B$1+AG1-1)=4,"Me",IF(WEEKDAY($B$1+AG1-1)=5,"J",IF(WEEKDAY($B$1+AG1-1)=6,"V",IF(WEEKDAY($B$1+AG1-1)=7,"S",""))))))) -> Me
A6: 100 | C6: ca | D6: ca | E6: ca
A7: 101
A8: 102
A9: 103 | J9: CA | K9: CA | L9: CA | M9: CA | N9: CA | O9: CA | R9: CA | S9: CA | T9: CA | U9: CA | V9: CA | X9: CA | Y9: CA | Z9: CA | AA9: CA | AB9: CA | AC9: CA
A10: 104 | C10: ca | D10: ca | E10: ca | F10: ca | G10: ca | J10: ca | K10: ca | L10: ca | M10: ca | N10: ca
A11: 105
A12: 106 | C12: ca | D12: ca | E12: ca | F12: ca | G12: ca | H12: ca | J12: ca | K12: ca | L12: ca | M12: ca | N12: ca | O12: ca | R12: ca | S12: ca | T12: ca | U12: ca | V12: ca | AG12: rtt
A13: 107 | C13: CA | D13: CA | E13: CA | F13: CA | G13: CA | J13: CA | K13: CA | L13: CA | M13: CA | N13: CA | O13: RTT | R13: CA | S13: CA | T13: CA | U13: CA | V13: RTT | X13: RTT | Y13: CA | Z13: CA | AA13: CA | AB13: CA | AC13: CA
A14: 108
A15: 109 | O15: RTT | AC15: RTT
A16: 110 | C16: CA | D16: CA | E16: CA | F16: CA | G16: CA | H16: CA | J16: CA | K16: CA | L16: CA | M16: CA | N16: RTT | O16: CA | R16: CA | S16: CA | T16: CA | U16: CA | V16: CA | X16: CA | Y16: CA | Z16: CA | AA16: CA | AB16: RTT
A17: 111
A18: 112 | C18: CA | D18: CA | E18: JRS | F18: JRS | G18: JRS | J18: JRS | K18: JRS | L18: JRS | M18: JRS | N18: JRS
A19: 117
A20: 118
A21: 119 | C21: rtt | O21: rtt | V21: rtt | X21: rtt
A22: 120
A23: 121 | C23: ca | D23: ca | E23: ca | F23: ca | G23: ca | H23: ca | O23: rtt | V23: rtt | Z23: rtt
A24: 122
A25: 123 | C25: ca | D25: ca | E25: ca | F25: ca | G25: ca | H25: ca
A26: 124 | R26: TP | S26: TP | T26: TP | U26: TP | V26: TP | AC26: ca | AE26: ca | AF26: ca | AG26: ca
A27: 125
A28: 126
A29: 127
A30: 128
A31: 129
A39: ALT1
A40: ALT2
A41: ALT3

Sheet Septembre
A1: 9 | B1: =DATE(Accueil!A1,A1,1) -> 42614 | C1: 1 | D1: =C1+1 -> 2 | E1: =D1+1 -> 3 | F1: =E1+1 -> 4 | G1: =F1+1 -> 5 | H1: =G1+1 -> 6 | I1: =H1+1 -> 7 | J1: =I1+1 -> 8 | K1: =J1+1 -> 9 | ... AG1: =AF1+1 -> 31
C2: =IF(WEEKDAY($B$1+C1-1)=1,"D",IF(WEEKDAY($B$1+C1-1)=2,"L",IF(WEEKDAY($B$1+C1-1)=3,"Ma",IF(WEEKDAY($B$1+C1-1)=4,"Me",IF(WEEKDAY($B$1+C1-1)=5,"J",IF(WEEKDAY($B$1+C1-1)=6,"V",IF(WEEKDAY($B$1+C1-1)=7,"S",""))))))) -> J | D2: =IF(WEEKDAY($B$1+D1-1)=1,"D",IF(WEEKDAY($B$1+D1-1)=2,"L",IF(WEEKDAY($B$1+D1-1)=3,"Ma",IF(WEEKDAY($B$1+D1-1)=4,"Me",IF(WEEKDAY($B$1+D1-1)=5,"J",IF(WEEKDAY($B$1+D1-1)=6,"V",IF(WEEKDAY($B$1+D1-1)=7,"S",""))))))) -> V | E2: =IF(WEEKDAY($B$1+E1-1)=1,"D",IF(WEEKDAY($B$1+E1-1)=2,"L",IF(WEEKDAY($B$1+E1-1)=3,"Ma",IF(WEEKDAY($B$1+E1-1)=4,"Me",IF(WEEKDAY($B$1+E1-1)=5,"J",IF(WEEKDAY($B$1+E1-1)=6,"V",IF(WEEKDAY($B$1+E1-1)=7,"S",""))))))) -> S | F2: =IF(WEEKDAY($B$1+F1-1)=1,"D",IF(WEEKDAY($B$1+F1-1)=2,"L",IF(WEEKDAY($B$1+F1-1)=3,"Ma",IF(WEEKDAY($B$1+F1-1)=4,"Me",IF(WEEKDAY($B$1+F1-1)=5,"J",IF(WEEKDAY($B$1+F1-1)=6,"V",IF(WEEKDAY($B$1+F1-1)=7,"S",""))))))) -> D | G2: =IF(WEEKDAY($B$1+G1-1)=1,"D",IF(WEEKDAY($B$1+G1-1)=2,"L",IF(WEEKDAY($B$1+G1-1)=3,"Ma",IF(WEEKDAY($B$1+G1-1)=4,"Me",IF(WEEKDAY($B$1+G1-1)=5,"J",IF(WEEKDAY($B$1+G1-1)=6,"V",IF(WEEKDAY($B$1+G1-1)=7,"S",""))))))) -> L | H2: =IF(WEEKDAY($B$1+H1-1)=1,"D",IF(WEEKDAY($B$1+H1-1)=2,"L",IF(WEEKDAY($B$1+H1-1)=3,"Ma",IF(WEEKDAY($B$1+H1-1)=4,"Me",IF(WEEKDAY($B$1+H1-1)=5,"J",IF(WEEKDAY($B$1+H1-1)=6,"V",IF(WEEKDAY($B$1+H1-1)=7,"S",""))))))) -> Ma | I2: =IF(WEEKDAY($B$1+I1-1)=1,"D",IF(WEEKDAY($B$1+I1-1)=2,"L",IF(WEEKDAY($B$1+I1-1)=3,"Ma",IF(WEEKDAY($B$1+I1-1)=4,"Me",IF(WEEKDAY($B$1+I1-1)=5,"J",IF(WEEKDAY($B$1+I1-1)=6,"V",IF(WEEKDAY($B$1+I1-1)=7,"S",""))))))) -> Me | J2: =IF(WEEKDAY($B$1+J1-1)=1,"D",IF(WEEKDAY($B$1+J1-1)=2,"L",IF(WEEKDAY($B$1+J1-1)=3,"Ma",IF(WEEKDAY($B$1+J1-1)=4,"Me",IF(WEEKDAY($B$1+J1-1)=5,"J",IF(WEEKDAY($B$1+J1-1)=6,"V",IF(WEEKDAY($B$1+J1-1)=7,"S",""))))))) -> J | ... AG2: =IF(WEEKDAY($B$1+AG1-1)=1,"D",IF(WEEKDAY($B$1+AG1-1)=2,"L",IF(WEEKDAY($B$1+AG1-1)=3,"Ma",IF(WEEKDAY($B$1+AG1-1)=4,"Me",IF(WEEKDAY($B$1+AG1-1)=5,"J",IF(WEEKDAY($B$1+AG1-1)=6,"V",IF(WEEKDAY($B$1+AG1-1)=7,"S",""))))))) -> S
AG5: =IF(AG3="f","f",COUNTIFS($A$21:$A$21,"FQ",AG21:AG21,"FQ*")+COUNTIFS($A$21:$A$21,"FQ",AG21:AG21,"")+COUNTIFS($A$39:$A$39,"FQ",AG39:AG39,"FQ*")+COUNTIFS($A$39:$A$39,"FQ",AG39:AG39,"")) -> 0
A6: 100
A7: 101
A8: 102
A9: 103
A10: 104 | N10: JRS | O10: JRS | P10: JRS | Q10: JRS | R10: JRS | U10: JRS | V10: JRS | W10: JRS | X10: JRS | Y10: JRS
A11: 105
A12: 106
A13: 107 | E13: RTT | L13: RTT | N13: RTT | Z13: RTT
A14: 108 | G14: CA | H14: CA | I14: CA | J14: CA | K14: CA | N14: CA | O14: CA | P14: CA | Q14: CA | R14: CA | U14: CA | V14: CA | W14: CA | X14: CA | Y14: CA | AG14: CA
A15: 109 | L15: RTT | Z15: RTT
A16: 110 | K16: RTT | Y16: RTT
A17: 111
A18: 112
A19: 117
A20: 118
A21: 119 | E21: rtt | L21: rtt | N21: rtt | Z21: rtt
A22: 120
A23: 121 | E23: rtt | L23: rtt | P23: rtt | Z23: rtt
A24: 122
A25: 123
A26: 124 | C26: ca | D26: ca | E26: ca | G26: ca | U26: TP | V26: TP | W26: TP | X26: TP | Y26: TP | Z26: TP
A27: 125
A28: 126
A29: 127
A30: 128
A31: 129
A39: ALT1
A40: ALT2 | G40: FO | H40: FO | I40: FO | J40: FO | K40: FO | L40: FO
A41: ALT3

Sheet Octobre
A1: 10 | B1: =DATE(Accueil!A1,A1,1) -> 42644 | C1: 1 | D1: =C1+1 -> 2 | E1: =D1+1 -> 3 | F1: =E1+1 -> 4 | G1: =F1+1 -> 5 | H1: =G1+1 -> 6 | I1: =H1+1 -> 7 | J1: =I1+1 -> 8 | K1: =J1+1 -> 9 | ... AG1: =AF1+1 -> 31
C2: =IF(WEEKDAY($B$1+C1-1)=1,"D",IF(WEEKDAY($B$1+C1-1)=2,"L",IF(WEEKDAY($B$1+C1-1)=3,"Ma",IF(WEEKDAY($B$1+C1-1)=4,"Me",IF(WEEKDAY($B$1+C1-1)=5,"J",IF(WEEKDAY($B$1+C1-1)=6,"V",IF(WEEKDAY($B$1+C1-1)=7,"S",""))))))) -> S | D2: =IF(WEEKDAY($B$1+D1-1)=1,"D",IF(WEEKDAY($B$1+D1-1)=2,"L",IF(WEEKDAY($B$1+D1-1)=3,"Ma",IF(WEEKDAY($B$1+D1-1)=4,"Me",IF(WEEKDAY($B$1+D1-1)=5,"J",IF(WEEKDAY($B$1+D1-1)=6,"V",IF(WEEKDAY($B$1+D1-1)=7,"S",""))))))) -> D | E2: =IF(WEEKDAY($B$1+E1-1)=1,"D",IF(WEEKDAY($B$1+E1-1)=2,"L",IF(WEEKDAY($B$1+E1-1)=3,"Ma",IF(WEEKDAY($B$1+E1-1)=4,"Me",IF(WEEKDAY($B$1+E1-1)=5,"J",IF(WEEKDAY($B$1+E1-1)=6,"V",IF(WEEKDAY($B$1+E1-1)=7,"S",""))))))) -> L | F2: =IF(WEEKDAY($B$1+F1-1)=1,"D",IF(WEEKDAY($B$1+F1-1)=2,"L",IF(WEEKDAY($B$1+F1-1)=3,"Ma",IF(WEEKDAY($B$1+F1-1)=4,"Me",IF(WEEKDAY($B$1+F1-1)=5,"J",IF(WEEKDAY($B$1+F1-1)=6,"V",IF(WEEKDAY($B$1+F1-1)=7,"S",""))))))) -> Ma | G2: =IF(WEEKDAY($B$1+G1-1)=1,"D",IF(WEEKDAY($B$1+G1-1)=2,"L",IF(WEEKDAY($B$1+G1-1)=3,"Ma",IF(WEEKDAY($B$1+G1-1)=4,"Me",IF(WEEKDAY($B$1+G1-1)=5,"J",IF(WEEKDAY($B$1+G1-1)=6,"V",IF(WEEKDAY($B$1+G1-1)=7,"S",""))))))) -> Me | H2: =IF(WEEKDAY($B$1+H1-1)=1,"D",IF(WEEKDAY($B$1+H1-1)=2,"L",IF(WEEKDAY($B$1+H1-1)=3,"Ma",IF(WEEKDAY($B$1+H1-1)=4,"Me",IF(WEEKDAY($B$1+H1-1)=5,"J",IF(WEEKDAY($B$1+H1-1)=6,"V",IF(WEEKDAY($B$1+H1-1)=7,"S",""))))))) -> J | I2: =IF(WEEKDAY($B$1+I1-1)=1,"D",IF(WEEKDAY($B$1+I1-1)=2,"L",IF(WEEKDAY($B$1+I1-1)=3,"Ma",IF(WEEKDAY($B$1+I1-1)=4,"Me",IF(WEEKDAY($B$1+I1-1)=5,"J",IF(WEEKDAY($B$1+I1-1)=6,"V",IF(WEEKDAY($B$1+I1-1)=7,"S",""))))))) -> V | J2: =IF(WEEKDAY($B$1+J1-1)=1,"D",IF(WEEKDAY($B$1+J1-1)=2,"L",IF(WEEKDAY($B$1+J1-1)=3,"Ma",IF(WEEKDAY($B$1+J1-1)=4,"Me",IF(WEEKDAY($B$1+J1-1)=5,"J",IF(WEEKDAY($B$1+J1-1)=6,"V",IF(WEEKDAY($B$1+J1-1)=7,"S",""))))))) -> S | ... AG2: =IF(WEEKDAY($B$1+AG1-1)=1,"D",IF(WEEKDAY($B$1+AG1-1)=2,"L",IF(WEEKDAY($B$1+AG1-1)=3,"Ma",IF(WEEKDAY($B$1+AG1-1)=4,"Me",IF(WEEKDAY($B$1+AG1-1)=5,"J",IF(WEEKDAY($B$1+AG1-1)=6,"V",IF(WEEKDAY($B$1+AG1-1)=7,"S",""))))))) -> L
A6: 100
A7: 101
A8: 102
A9: 103
A10: 104
A11: 105
A12: 106
A13: 107 | C13: RTT | E13: RTT | Q13: RTT | X13: RTT | Z13: RTT
A14: 108
A15: 109 | J15: RTT | X15: RTT
A16: 110 | I16: RTT | W16: RTT
A17: 111
A18: 112
A19: 117
A20: 118
A21: 119 | C21: rtt | E21: rtt | Q21: rtt | X21: rtt | Z21: rtt
A22: 120
A23: 121 | C23: rtt | G23: rtt | Q23: rtt | X23: rtt | AB23: rtt
A24: 122
A25: 123
A26: 124 | Z26: TP | AA26: TP | AB26: TP | AC26: TP | AD26: TP | AE26: TP
A27: 125
A28: 126
A29: 127
A30: 128
A31: 129
A39: ALT1
A40: ALT2
A41: ALT3

Sheet Novembre
A1: 11 | B1: =DATE(Accueil!A1,A1,1) -> 42675 | C1: 1 | D1: =C1+1 -> 2 | E1: =D1+1 -> 3 | F1: =E1+1 -> 4 | G1: =F1+1 -> 5 | H1: =G1+1 -> 6 | I1: =H1+1 -> 7 | J1: =I1+1 -> 8 | K1: =J1+1 -> 9 | ... AG1: =AF1+1 -> 31
C2: =IF(WEEKDAY($B$1+C1-1)=1,"D",IF(WEEKDAY($B$1+C1-1)=2,"L",IF(WEEKDAY($B$1+C1-1)=3,"Ma",IF(WEEKDAY($B$1+C1-1)=4,"Me",IF(WEEKDAY($B$1+C1-1)=5,"J",IF(WEEKDAY($B$1+C1-1)=6,"V",IF(WEEKDAY($B$1+C1-1)=7,"S",""))))))) -> Ma | D2: =IF(WEEKDAY($B$1+D1-1)=1,"D",IF(WEEKDAY($B$1+D1-1)=2,"L",IF(WEEKDAY($B$1+D1-1)=3,"Ma",IF(WEEKDAY($B$1+D1-1)=4,"Me",IF(WEEKDAY($B$1+D1-1)=5,"J",IF(WEEKDAY($B$1+D1-1)=6,"V",IF(WEEKDAY($B$1+D1-1)=7,"S",""))))))) -> Me | E2: =IF(WEEKDAY($B$1+E1-1)=1,"D",IF(WEEKDAY($B$1+E1-1)=2,"L",IF(WEEKDAY($B$1+E1-1)=3,"Ma",IF(WEEKDAY($B$1+E1-1)=4,"Me",IF(WEEKDAY($B$1+E1-1)=5,"J",IF(WEEKDAY($B$1+E1-1)=6,"V",IF(WEEKDAY($B$1+E1-1)=7,"S",""))))))) -> J | F2: =IF(WEEKDAY($B$1+F1-1)=1,"D",IF(WEEKDAY($B$1+F1-1)=2,"L",IF(WEEKDAY($B$1+F1-1)=3,"Ma",IF(WEEKDAY($B$1+F1-1)=4,"Me",IF(WEEKDAY($B$1+F1-1)=5,"J",IF(WEEKDAY($B$1+F1-1)=6,"V",IF(WEEKDAY($B$1+F1-1)=7,"S",""))))))) -> V | G2: =IF(WEEKDAY($B$1+G1-1)=1,"D",IF(WEEKDAY($B$1+G1-1)=2,"L",IF(WEEKDAY($B$1+G1-1)=3,"Ma",IF(WEEKDAY($B$1+G1-1)=4,"Me",IF(WEEKDAY($B$1+G1-1)=5,"J",IF(WEEKDAY($B$1+G1-1)=6,"V",IF(WEEKDAY($B$1+G1-1)=7,"S",""))))))) -> S | H2: =IF(WEEKDAY($B$1+H1-1)=1,"D",IF(WEEKDAY($B$1+H1-1)=2,"L",IF(WEEKDAY($B$1+H1-1)=3,"Ma",IF(WEEKDAY($B$1+H1-1)=4,"Me",IF(WEEKDAY($B$1+H1-1)=5,"J",IF(WEEKDAY($B$1+H1-1)=6,"V",IF(WEEKDAY($B$1+H1-1)=7,"S",""))))))) -> D | I2: =IF(WEEKDAY($B$1+I1-1)=1,"D",IF(WEEKDAY($B$1+I1-1)=2,"L",IF(WEEKDAY($B$1+I1-1)=3,"Ma",IF(WEEKDAY($B$1+I1-1)=4,"Me",IF(WEEKDAY($B$1+I1-1)=5,"J",IF(WEEKDAY($B$1+I1-1)=6,"V",IF(WEEKDAY($B$1+I1-1)=7,"S",""))))))) -> L | J2: =IF(WEEKDAY($B$1+J1-1)=1,"D",IF(WEEKDAY($B$1+J1-1)=2,"L",IF(WEEKDAY($B$1+J1-1)=3,"Ma",IF(WEEKDAY($B$1+J1-1)=4,"Me",IF(WEEKDAY($B$1+J1-1)=5,"J",IF(WEEKDAY($B$1+J1-1)=6,"V",IF(WEEKDAY($B$1+J1-1)=7,"S",""))))))) -> Ma | ... AG2: =IF(WEEKDAY($B$1+AG1-1)=1,"D",IF(WEEKDAY($B$1+AG1-1)=2,"L",IF(WEEKDAY($B$1+AG1-1)=3,"Ma",IF(WEEKDAY($B$1+AG1-1)=4,"Me",IF(WEEKDAY($B$1+AG1-1)=5,"J",IF(WEEKDAY($B$1+AG1-1)=6,"V",IF(WEEKDAY($B$1+AG1-1)=7,"S",""))))))) -> J
AG5: =IF(AG3="f","f",COUNTIFS($A$21:$A$21,"FQ",AG21:AG21,"FQ*")+COUNTIFS($A$21:$A$21,"FQ",AG21:AG21,"")+COUNTIFS($A$39:$A$39,"FQ",AG39:AG39,"FQ*")+COUNTIFS($A$39:$A$39,"FQ",AG39:AG39,"")) -> 0
A6: 100
A7: 101
A8: 102
A9: 103
A10: 104
A11: 105
A12: 106
A13: 107 | G13: RTT | N13: RTT | P13: RTT | AB13: RTT
A14: 108
A15: 109 | G15: RTT | U15: RTT
A16: 110 | F16: RTT | T16: RTT
A17: 111
A18: 112
A19: 117
A20: 118
A21: 119 | G21: rtt | N21: rtt | P21: rtt | AB21: rtt
A22: 120
A23: 121 | G23: rtt | N23: rtt | R23: rtt | AB23: rtt
A24: 122
A25: 123
A26: 124 | AD26: TP | AE26: TP | AF26: TP
A27: 125
A28: 126
A29: 127
A30: 128
A31: 129
A39: ALT1
A40: ALT2
A41: ALT3

Sheet Décembre
A1: 12 | B1: =DATE(Accueil!A1,A1,1) -> 42705 | C1: 1 | D1: =C1+1 -> 2 | E1: =D1+1 -> 3 | F1: =E1+1 -> 4 | G1: =F1+1 -> 5 | H1: =G1+1 -> 6 | I1: =H1+1 -> 7 | J1: =I1+1 -> 8 | K1: =J1+1 -> 9 | ... AG1: =AF1+1 -> 31
C2: =IF(WEEKDAY($B$1+C1-1)=1,"D",IF(WEEKDAY($B$1+C1-1)=2,"L",IF(WEEKDAY($B$1+C1-1)=3,"Ma",IF(WEEKDAY($B$1+C1-1)=4,"Me",IF(WEEKDAY($B$1+C1-1)=5,"J",IF(WEEKDAY($B$1+C1-1)=6,"V",IF(WEEKDAY($B$1+C1-1)=7,"S",""))))))) -> J | D2: =IF(WEEKDAY($B$1+D1-1)=1,"D",IF(WEEKDAY($B$1+D1-1)=2,"L",IF(WEEKDAY($B$1+D1-1)=3,"Ma",IF(WEEKDAY($B$1+D1-1)=4,"Me",IF(WEEKDAY($B$1+D1-1)=5,"J",IF(WEEKDAY($B$1+D1-1)=6,"V",IF(WEEKDAY($B$1+D1-1)=7,"S",""))))))) -> V | E2: =IF(WEEKDAY($B$1+E1-1)=1,"D",IF(WEEKDAY($B$1+E1-1)=2,"L",IF(WEEKDAY($B$1+E1-1)=3,"Ma",IF(WEEKDAY($B$1+E1-1)=4,"Me",IF(WEEKDAY($B$1+E1-1)=5,"J",IF(WEEKDAY($B$1+E1-1)=6,"V",IF(WEEKDAY($B$1+E1-1)=7,"S",""))))))) -> S | F2: =IF(WEEKDAY($B$1+F1-1)=1,"D",IF(WEEKDAY($B$1+F1-1)=2,"L",IF(WEEKDAY($B$1+F1-1)=3,"Ma",IF(WEEKDAY($B$1+F1-1)=4,"Me",IF(WEEKDAY($B$1+F1-1)=5,"J",IF(WEEKDAY($B$1+F1-1)=6,"V",IF(WEEKDAY($B$1+F1-1)=7,"S",""))))))) -> D | G2: =IF(WEEKDAY($B$1+G1-1)=1,"D",IF(WEEKDAY($B$1+G1-1)=2,"L",IF(WEEKDAY($B$1+G1-1)=3,"Ma",IF(WEEKDAY($B$1+G1-1)=4,"Me",IF(WEEKDAY($B$1+G1-1)=5,"J",IF(WEEKDAY($B$1+G1-1)=6,"V",IF(WEEKDAY($B$1+G1-1)=7,"S",""))))))) -> L | H2: =IF(WEEKDAY($B$1+H1-1)=1,"D",IF(WEEKDAY($B$1+H1-1)=2,"L",IF(WEEKDAY($B$1+H1-1)=3,"Ma",IF(WEEKDAY($B$1+H1-1)=4,"Me",IF(WEEKDAY($B$1+H1-1)=5,"J",IF(WEEKDAY($B$1+H1-1)=6,"V",IF(WEEKDAY($B$1+H1-1)=7,"S",""))))))) -> Ma | I2: =IF(WEEKDAY($B$1+I1-1)=1,"D",IF(WEEKDAY($B$1+I1-1)=2,"L",IF(WEEKDAY($B$1+I1-1)=3,"Ma",IF(WEEKDAY($B$1+I1-1)=4,"Me",IF(WEEKDAY($B$1+I1-1)=5,"J",IF(WEEKDAY($B$1+I1-1)=6,"V",IF(WEEKDAY($B$1+I1-1)=7,"S",""))))))) -> Me | J2: =IF(WEEKDAY($B$1+J1-1)=1,"D",IF(WEEKDAY($B$1+J1-1)=2,"L",IF(WEEKDAY($B$1+J1-1)=3,"Ma",IF(WEEKDAY($B$1+J1-1)=4,"Me",IF(WEEKDAY($B$1+J1-1)=5,"J",IF(WEEKDAY($B$1+J1-1)=6,"V",IF(WEEKDAY($B$1+J1-1)=7,"S",""))))))) -> J | ... AG2: =IF(WEEKDAY($B$1+AG1-1)=1,"D",IF(WEEKDAY($B$1+AG1-1)=2,"L",IF(WEEKDAY($B$1+AG1-1)=3,"Ma",IF(WEEKDAY($B$1+AG1-1)=4,"Me",IF(WEEKDAY($B$1+AG1-1)=5,"J",IF(WEEKDAY($B$1+AG1-1)=6,"V",IF(WEEKDAY($B$1+AG1-1)=7,"S",""))))))) -> S
A6: 100
A7: 101
A8: 102
A9: 103
A10: 104
A11: 105
A12: 106
A13: 107 | E13: RTT | G13: RTT | S13: RTT | Z13: RTT | AB13: RTT
A14: 108
A15: 109 | E15: RTT | S15: RTT | AG15: RTT
A16: 110 | D16: RTT | R16: RTT | AF16: RTT
A17: 111
A18: 112
A19: 117
A20: 118
A21: 119 | E21: rtt | G21: rtt | S21: rtt | Z21: rtt | AB21: rtt
A22: 120
A23: 121 | E23: rtt | I23: rtt
A24: 122
A25: 123
A26: 124 | C26: TP | D26: TP | E26: TP
A27: 125
A28: 126
A29: 127
A30: 128
A31: 129
A39: ALT1
A40: ALT2
A41: ALT3
