Workbook
Name ALGER: RECAP!$C:$C
Name ALGER_C: RECAP!$J:$J
Name ANNABA: RECAP!$I:$I
Name BEJAIA: RECAP!$F:$F
Name DJEN_DJEN: RECAP!$G:$G
Name GHAZAOUET: RECAP!$E:$E
Name Mosta: RECAP!$L:$L
Name ORAN: RECAP!$D:$D
Name ORAN_Sec: RECAP!$K:$K
Name pol: RECAP!$B:$B
Name SKIKDA: RECAP!$H:$H
Name week: RECAP!$A:$A

Sheet RECAP
A1: week | B1: pol | C1: ALGER | D1: ORAN | E1: GHAZAOUET | F1: BEJAIA | G1: DJEN DJEN | H1: SKIKDA | I1: ANNABA | J1: ALGER C | K1: ORAN Sec | L1: Mosta
A2: 22 | B2: BARCELONE | C2: 83 | D2: 230 | E2: 2 | F2: 345 | G2: 0 | H2: 300 | I2: 1 | J2: 6 | K2: 0 | L2: 0
A3: 22 | B3: VALENCE | C3: 84 | D3: 70 | E3: 18 | F3: 121 | G3: 1 | H3: 75 | I3: 14 | J3: 3 | K3: 0 | L3: 0
A4: 22 | B4: GANDIA | C4: 0 | D4: 0 | E4: 0 | F4: 0 | G4: 0 | H4: 0 | I4: 0 | J4: 34 | K4: 0 | L4: 0
A5: 22 | B5: LA SPEZIA | C5: 10 | D5: 16 | E5: 6 | F5: 9 | G5: 0 | H5: 2 | I5: 6 | J5: 9 | K5: 0 | L5: 0
A6: 22 | B6: GENES | C6: 82 | D6: 41 | E6: 123 | F6: 83 | G6: 17 | H6: 22 | I6: 1 | J6: 5 | K6: 0 | L6: 0
A7: 22 | B7: MARSEILLE | C7: 430 | D7: 121 | E7: 192 | F7: 199 | G7: 0 | H7: 96 | I7: 114 | J7: 168 | K7: 0 | L7: 0
A8: 23 | B8: BARCELONE | C8: 83 | D8: 230 | E8: 2 | F8: 345 | G8: 0 | H8: 300 | I8: 1 | J8: 6 | K8: 0 | L8: 0
A9: 23 | B9: VALENCE | C9: 84 | D9: 70 | E9: 18 | F9: 121 | G9: 1 | H9: 75 | I9: 14 | J9: 3 | K9: 0 | L9: 0
A10: 23 | B10: GANDIA | C10: 0 | D10: 0 | E10: 0 | F10: 0 | G10: 0 | H10: 0 | I10: 0 | J10: 34 | K10: 0 | L10: 0
A11: 23 | B11: LA SPEZIA | C11: 10 | D11: 16 | E11: 6 | F11: 9 | G11: 0 | H11: 2 | I11: 6 | J11: 9 | K11: 0 | L11: 0
A12: 23 | B12: GENES | C12: 82 | D12: 41 | E12: 123 | F12: 83 | G12: 17 | H12: 22 | I12: 1 | J12: 5 | K12: 0 | L12: 0
A13: 23 | B13: MARSEILLE | C13: 430 | D13: 121 | E13: 192 | F13: 199 | G13: 0 | H13: 96 | I13: 114 | J13: 168 | K13: 0 | L13: 0
... A43: 28 | B43: MARSEILLE | C43: 205 | D43: 122 | E43: 85 | F43: 90 | G43: 90 | H43: 90 | I43: 90 | J43: 90 | K43: 90 | L43: 90

Sheet synthése
A1: YEAR | B1: WEEK | C1: POL | D1: ALGER | E1: ORAN | F1: GHAZAOUET | G1: BEJAIA | H1: DJEN DJEN | I1: SKIKDA | J1: ANNABA | K1: ALGER C | L1: ORAN Sec | M1: Mosta | N1: TOTAL
A2: =IF(B2="","",YEAR(TODAY())) -> 2016 | B2: 22 | C2: =IF(RECAP!B2="","",RECAP!B2) -> BARCELONE | D2: {=SUMPRODUCT((RECAP!$A$2:$A$1000=synthése!$B2)*(RECAP!$B$2:$B$1000=synthése!$C2)*(RECAP!$C$1:$L$1=synthése!D$1)*(RECAP!$C$2:$L$1000))} -> 83 | E2: {=SUMPRODUCT((RECAP!$A$2:$A$7=synthése!$B2)*(RECAP!$B$2:$B$7=synthése!$C2)*(RECAP!$C$1:$L$1=synthése!E$1)*(RECAP!$C$2:$L$7))} -> 230 | F2: {=SUMPRODUCT((RECAP!$A$2:$A$7=synthése!$B2)*(RECAP!$B$2:$B$7=synthése!$C2)*(RECAP!$C$1:$L$1=synthése!F$1)*(RECAP!$C$2:$L$7))} -> 2 | G2: {=SUMPRODUCT((RECAP!$A$2:$A$7=synthése!$B2)*(RECAP!$B$2:$B$7=synthése!$C2)*(RECAP!$C$1:$L$1=synthése!G$1)*(RECAP!$C$2:$L$7))} -> 345 | H2: {=SUMPRODUCT((RECAP!$A$2:$A$7=synthése!$B2)*(RECAP!$B$2:$B$7=synthése!$C2)*(RECAP!$C$1:$L$1=synthése!H$1)*(RECAP!$C$2:$L$7))} -> 0 | I2: {=SUMPRODUCT((RECAP!$A$2:$A$7=synthése!$B2)*(RECAP!$B$2:$B$7=synthése!$C2)*(RECAP!$C$1:$L$1=synthése!I$1)*(RECAP!$C$2:$L$7))} -> 300 | J2: {=SUMPRODUCT((RECAP!$A$2:$A$7=synthése!$B2)*(RECAP!$B$2:$B$7=synthése!$C2)*(RECAP!$C$1:$L$1=synthése!J$1)*(RECAP!$C$2:$L$7))} -> 1 | K2: {=SUMPRODUCT((RECAP!$A$2:$A$7=synthése!$B2)*(RECAP!$B$2:$B$7=synthése!$C2)*(RECAP!$C$1:$L$1=synthése!K$1)*(RECAP!$C$2:$L$7))} -> 6 | L2: {=SUMPRODUCT((RECAP!$A$2:$A$7=synthése!$B2)*(RECAP!$B$2:$B$7=synthése!$C2)*(RECAP!$C$1:$L$1=synthése!L$1)*(RECAP!$C$2:$L$7))} -> 0 | M2: {=SUMPRODUCT((RECAP!$A$2:$A$7=synthése!$B2)*(RECAP!$B$2:$B$7=synthése!$C2)*(RECAP!$C$1:$L$1=synthése!M$1)*(RECAP!$C$2:$L$7))} -> 0 | N2: =SUM(D2:M2) -> 967
A3: =IF(B3="","",YEAR(TODAY())) -> 2016 | B3: 22 | C3: =IF(RECAP!B3="","",RECAP!B3) -> VALENCE | D3: {=SUMPRODUCT((RECAP!$A$2:$A$7=synthése!$B3)*(RECAP!$B$2:$B$7=synthése!$C3)*(RECAP!$C$1:$L$1=synthése!D$1)*(RECAP!$C$2:$L$7))} -> 84 | E3: {=SUMPRODUCT((RECAP!$A$2:$A$7=synthése!$B3)*(RECAP!$B$2:$B$7=synthése!$C3)*(RECAP!$C$1:$L$1=synthése!E$1)*(RECAP!$C$2:$L$7))} -> 70 | F3: {=SUMPRODUCT((RECAP!$A$2:$A$7=synthése!$B3)*(RECAP!$B$2:$B$7=synthése!$C3)*(RECAP!$C$1:$L$1=synthése!F$1)*(RECAP!$C$2:$L$7))} -> 18 | G3: {=SUMPRODUCT((RECAP!$A$2:$A$7=synthése!$B3)*(RECAP!$B$2:$B$7=synthése!$C3)*(RECAP!$C$1:$L$1=synthése!G$1)*(RECAP!$C$2:$L$7))} -> 121 | H3: {=SUMPRODUCT((RECAP!$A$2:$A$7=synthése!$B3)*(RECAP!$B$2:$B$7=synthése!$C3)*(RECAP!$C$1:$L$1=synthése!H$1)*(RECAP!$C$2:$L$7))} -> 1 | I3: {=SUMPRODUCT((RECAP!$A$2:$A$7=synthése!$B3)*(RECAP!$B$2:$B$7=synthése!$C3)*(RECAP!$C$1:$L$1=synthése!I$1)*(RECAP!$C$2:$L$7))} -> 75 | J3: {=SUMPRODUCT((RECAP!$A$2:$A$7=synthése!$B3)*(RECAP!$B$2:$B$7=synthése!$C3)*(RECAP!$C$1:$L$1=synthése!J$1)*(RECAP!$C$2:$L$7))} -> 14 | K3: {=SUMPRODUCT((RECAP!$A$2:$A$7=synthése!$B3)*(RECAP!$B$2:$B$7=synthése!$C3)*(RECAP!$C$1:$L$1=synthése!K$1)*(RECAP!$C$2:$L$7))} -> 3 | ... M3: {=SUMPRODUCT((RECAP!$A$2:$A$7=synthése!$B3)*(RECAP!$B$2:$B$7=synthése!$C3)*(RECAP!$C$1:$L$1=synthése!M$1)*(RECAP!$C$2:$L$7))} -> 0 | N3: =SUM(D3:M3) -> 386
A4: =IF(B4="","",YEAR(TODAY())) -> 2016 | B4: 22 | C4: =IF(RECAP!B4="","",RECAP!B4) -> GANDIA | D4: {=SUMPRODUCT((RECAP!$A$2:$A$7=synthése!$B4)*(RECAP!$B$2:$B$7=synthése!$C4)*(RECAP!$C$1:$L$1=synthése!D$1)*(RECAP!$C$2:$L$7))} -> 0 | E4: {=SUMPRODUCT((RECAP!$A$2:$A$7=synthése!$B4)*(RECAP!$B$2:$B$7=synthése!$C4)*(RECAP!$C$1:$L$1=synthése!E$1)*(RECAP!$C$2:$L$7))} -> 0 | F4: {=SUMPRODUCT((RECAP!$A$2:$A$7=synthése!$B4)*(RECAP!$B$2:$B$7=synthése!$C4)*(RECAP!$C$1:$L$1=synthése!F$1)*(RECAP!$C$2:$L$7))} -> 0 | G4: {=SUMPRODUCT((RECAP!$A$2:$A$7=synthése!$B4)*(RECAP!$B$2:$B$7=synthése!$C4)*(RECAP!$C$1:$L$1=synthése!G$1)*(RECAP!$C$2:$L$7))} -> 0 | H4: {=SUMPRODUCT((RECAP!$A$2:$A$7=synthése!$B4)*(RECAP!$B$2:$B$7=synthése!$C4)*(RECAP!$C$1:$L$1=synthése!H$1)*(RECAP!$C$2:$L$7))} -> 0 | I4: {=SUMPRODUCT((RECAP!$A$2:$A$7=synthése!$B4)*(RECAP!$B$2:$B$7=synthése!$C4)*(RECAP!$C$1:$L$1=synthése!I$1)*(RECAP!$C$2:$L$7))} -> 0 | J4: {=SUMPRODUCT((RECAP!$A$2:$A$7=synthése!$B4)*(RECAP!$B$2:$B$7=synthése!$C4)*(RECAP!$C$1:$L$1=synthése!J$1)*(RECAP!$C$2:$L$7))} -> 0 | K4: {=SUMPRODUCT((RECAP!$A$2:$A$7=synthése!$B4)*(RECAP!$B$2:$B$7=synthése!$C4)*(RECAP!$C$1:$L$1=synthése!K$1)*(RECAP!$C$2:$L$7))} -> 34 | ... M4: {=SUMPRODUCT((RECAP!$A$2:$A$7=synthése!$B4)*(RECAP!$B$2:$B$7=synthése!$C4)*(RECAP!$C$1:$L$1=synthése!M$1)*(RECAP!$C$2:$L$7))} -> 0 | N4: =SUM(D4:M4) -> 34
A5: =IF(B5="","",YEAR(TODAY())) -> 2016 | B5: 22 | C5: =IF(RECAP!B5="","",RECAP!B5) -> LA SPEZIA | D5: {=SUMPRODUCT((RECAP!$A$2:$A$7=synthése!$B5)*(RECAP!$B$2:$B$7=synthése!$C5)*(RECAP!$C$1:$L$1=synthése!D$1)*(RECAP!$C$2:$L$7))} -> 10 | E5: {=SUMPRODUCT((RECAP!$A$2:$A$7=synthése!$B5)*(RECAP!$B$2:$B$7=synthése!$C5)*(RECAP!$C$1:$L$1=synthése!E$1)*(RECAP!$C$2:$L$7))} -> 16 | F5: {=SUMPRODUCT((RECAP!$A$2:$A$7=synthése!$B5)*(RECAP!$B$2:$B$7=synthése!$C5)*(RECAP!$C$1:$L$1=synthése!F$1)*(RECAP!$C$2:$L$7))} -> 6 | G5: {=SUMPRODUCT((RECAP!$A$2:$A$7=synthése!$B5)*(RECAP!$B$2:$B$7=synthése!$C5)*(RECAP!$C$1:$L$1=synthése!G$1)*(RECAP!$C$2:$L$7))} -> 9 | H5: {=SUMPRODUCT((RECAP!$A$2:$A$7=synthése!$B5)*(RECAP!$B$2:$B$7=synthése!$C5)*(RECAP!$C$1:$L$1=synthése!H$1)*(RECAP!$C$2:$L$7))} -> 0 | I5: {=SUMPRODUCT((RECAP!$A$2:$A$7=synthése!$B5)*(RECAP!$B$2:$B$7=synthése!$C5)*(RECAP!$C$1:$L$1=synthése!I$1)*(RECAP!$C$2:$L$7))} -> 2 | J5: {=SUMPRODUCT((RECAP!$A$2:$A$7=synthése!$B5)*(RECAP!$B$2:$B$7=synthése!$C5)*(RECAP!$C$1:$L$1=synthése!J$1)*(RECAP!$C$2:$L$7))} -> 6 | K5: {=SUMPRODUCT((RECAP!$A$2:$A$7=synthése!$B5)*(RECAP!$B$2:$B$7=synthése!$C5)*(RECAP!$C$1:$L$1=synthése!K$1)*(RECAP!$C$2:$L$7))} -> 9 | ... M5: {=SUMPRODUCT((RECAP!$A$2:$A$7=synthése!$B5)*(RECAP!$B$2:$B$7=synthése!$C5)*(RECAP!$C$1:$L$1=synthése!M$1)*(RECAP!$C$2:$L$7))} -> 0 | N5: =SUM(D5:M5) -> 58
A6: =IF(B6="","",YEAR(TODAY())) -> 2016 | B6: 22 | C6: =IF(RECAP!B6="","",RECAP!B6) -> GENES | D6: {=SUMPRODUCT((RECAP!$A$2:$A$7=synthése!$B6)*(RECAP!$B$2:$B$7=synthése!$C6)*(RECAP!$C$1:$L$1=synthése!D$1)*(RECAP!$C$2:$L$7))} -> 82 | E6: {=SUMPRODUCT((RECAP!$A$2:$A$7=synthése!$B6)*(RECAP!$B$2:$B$7=synthése!$C6)*(RECAP!$C$1:$L$1=synthése!E$1)*(RECAP!$C$2:$L$7))} -> 41 | F6: {=SUMPRODUCT((RECAP!$A$2:$A$7=synthése!$B6)*(RECAP!$B$2:$B$7=synthése!$C6)*(RECAP!$C$1:$L$1=synthése!F$1)*(RECAP!$C$2:$L$7))} -> 123 | G6: {=SUMPRODUCT((RECAP!$A$2:$A$7=synthése!$B6)*(RECAP!$B$2:$B$7=synthése!$C6)*(RECAP!$C$1:$L$1=synthése!G$1)*(RECAP!$C$2:$L$7))} -> 83 | H6: {=SUMPRODUCT((RECAP!$A$2:$A$7=synthése!$B6)*(RECAP!$B$2:$B$7=synthése!$C6)*(RECAP!$C$1:$L$1=synthése!H$1)*(RECAP!$C$2:$L$7))} -> 17 | I6: {=SUMPRODUCT((RECAP!$A$2:$A$7=synthése!$B6)*(RECAP!$B$2:$B$7=synthése!$C6)*(RECAP!$C$1:$L$1=synthése!I$1)*(RECAP!$C$2:$L$7))} -> 22 | J6: {=SUMPRODUCT((RECAP!$A$2:$A$7=synthése!$B6)*(RECAP!$B$2:$B$7=synthése!$C6)*(RECAP!$C$1:$L$1=synthése!J$1)*(RECAP!$C$2:$L$7))} -> 1 | K6: {=SUMPRODUCT((RECAP!$A$2:$A$7=synthése!$B6)*(RECAP!$B$2:$B$7=synthése!$C6)*(RECAP!$C$1:$L$1=synthése!K$1)*(RECAP!$C$2:$L$7))} -> 5 | ... M6: {=SUMPRODUCT((RECAP!$A$2:$A$7=synthése!$B6)*(RECAP!$B$2:$B$7=synthése!$C6)*(RECAP!$C$1:$L$1=synthése!M$1)*(RECAP!$C$2:$L$7))} -> 0 | N6: =SUM(D6:M6) -> 374
A7: =IF(B7="","",YEAR(TODAY())) -> 2016 | B7: 22 | C7: =IF(RECAP!B7="","",RECAP!B7) -> MARSEILLE | D7: {=SUMPRODUCT((RECAP!$A$2:$A$7=synthése!$B7)*(RECAP!$B$2:$B$7=synthése!$C7)*(RECAP!$C$1:$L$1=synthése!D$1)*(RECAP!$C$2:$L$7))} -> 430 | E7: {=SUMPRODUCT((RECAP!$A$2:$A$7=synthése!$B7)*(RECAP!$B$2:$B$7=synthése!$C7)*(RECAP!$C$1:$L$1=synthése!E$1)*(RECAP!$C$2:$L$7))} -> 121 | F7: {=SUMPRODUCT((RECAP!$A$2:$A$7=synthése!$B7)*(RECAP!$B$2:$B$7=synthése!$C7)*(RECAP!$C$1:$L$1=synthése!F$1)*(RECAP!$C$2:$L$7))} -> 192 | G7: {=SUMPRODUCT((RECAP!$A$2:$A$7=synthése!$B7)*(RECAP!$B$2:$B$7=synthése!$C7)*(RECAP!$C$1:$L$1=synthése!G$1)*(RECAP!$C$2:$L$7))} -> 199 | H7: {=SUMPRODUCT((RECAP!$A$2:$A$7=synthése!$B7)*(RECAP!$B$2:$B$7=synthése!$C7)*(RECAP!$C$1:$L$1=synthése!H$1)*(RECAP!$C$2:$L$7))} -> 0 | I7: {=SUMPRODUCT((RECAP!$A$2:$A$7=synthése!$B7)*(RECAP!$B$2:$B$7=synthése!$C7)*(RECAP!$C$1:$L$1=synthése!I$1)*(RECAP!$C$2:$L$7))} -> 96 | J7: {=SUMPRODUCT((RECAP!$A$2:$A$7=synthése!$B7)*(RECAP!$B$2:$B$7=synthése!$C7)*(RECAP!$C$1:$L$1=synthése!J$1)*(RECAP!$C$2:$L$7))} -> 114 | K7: {=SUMPRODUCT((RECAP!$A$2:$A$7=synthése!$B7)*(RECAP!$B$2:$B$7=synthése!$C7)*(RECAP!$C$1:$L$1=synthése!K$1)*(RECAP!$C$2:$L$7))} -> 168 | ... M7: {=SUMPRODUCT((RECAP!$A$2:$A$7=synthése!$B7)*(RECAP!$B$2:$B$7=synthése!$C7)*(RECAP!$C$1:$L$1=synthése!M$1)*(RECAP!$C$2:$L$7))} -> 0 | N7: =SUM(D7:M7) -> 1320
A8: =IF(B8="","",YEAR(TODAY())) -> 2016 | B8: =IF(RECAP!A8="","",RECAP!A8) -> 23 | C8: =IF(RECAP!B8="","",RECAP!B8) -> BARCELONE | D8: {=SUMPRODUCT((RECAP!$A$2:$A$1000=synthése!$B8)*(RECAP!$B$2:$B$1000=synthése!$C8)*(RECAP!$C$1:$L$1=synthése!D$1)*(RECAP!$C$2:$L$1000))} -> 83 | E8: {=SUMPRODUCT((RECAP!$A$2:$A$1000=synthése!$B8)*(RECAP!$B$2:$B$1000=synthése!$C8)*(RECAP!$C$1:$L$1=synthése!E$1)*(RECAP!$C$2:$L$1000))} -> 230 | F8: {=SUMPRODUCT((RECAP!$A$2:$A$1000=synthése!$B8)*(RECAP!$B$2:$B$1000=synthése!$C8)*(RECAP!$C$1:$L$1=synthése!F$1)*(RECAP!$C$2:$L$1000))} -> 2 | G8: {=SUMPRODUCT((RECAP!$A$2:$A$1000=synthése!$B8)*(RECAP!$B$2:$B$1000=synthése!$C8)*(RECAP!$C$1:$L$1=synthése!G$1)*(RECAP!$C$2:$L$1000))} -> 345 | H8: {=SUMPRODUCT((RECAP!$A$2:$A$1000=synthése!$B8)*(RECAP!$B$2:$B$1000=synthése!$C8)*(RECAP!$C$1:$L$1=synthése!H$1)*(RECAP!$C$2:$L$1000))} -> 0 | I8: {=SUMPRODUCT((RECAP!$A$2:$A$1000=synthése!$B8)*(RECAP!$B$2:$B$1000=synthése!$C8)*(RECAP!$C$1:$L$1=synthése!I$1)*(RECAP!$C$2:$L$1000))} -> 300 | J8: {=SUMPRODUCT((RECAP!$A$2:$A$1000=synthése!$B8)*(RECAP!$B$2:$B$1000=synthése!$C8)*(RECAP!$C$1:$L$1=synthése!J$1)*(RECAP!$C$2:$L$1000))} -> 1 | K8: {=SUMPRODUCT((RECAP!$A$2:$A$1000=synthése!$B8)*(RECAP!$B$2:$B$1000=synthése!$C8)*(RECAP!$C$1:$L$1=synthése!K$1)*(RECAP!$C$2:$L$1000))} -> 6 | ... M8: {=SUMPRODUCT((RECAP!$A$2:$A$1000=synthése!$B8)*(RECAP!$B$2:$B$1000=synthése!$C8)*(RECAP!$C$1:$L$1=synthése!M$1)*(RECAP!$C$2:$L$1000))} -> 0 | N8: =SUM(D8:M8) -> 967
A9: =IF(B9="","",YEAR(TODAY())) -> 2016 | B9: =IF(RECAP!A9="","",RECAP!A9) -> 23 | C9: =IF(RECAP!B9="","",RECAP!B9) -> VALENCE | D9: {=SUMPRODUCT((RECAP!$A$2:$A$1000=synthése!$B9)*(RECAP!$B$2:$B$1000=synthése!$C9)*(RECAP!$C$1:$L$1=synthése!D$1)*(RECAP!$C$2:$L$1000))} -> 84 | E9: {=SUMPRODUCT((RECAP!$A$2:$A$1000=synthése!$B9)*(RECAP!$B$2:$B$1000=synthése!$C9)*(RECAP!$C$1:$L$1=synthése!E$1)*(RECAP!$C$2:$L$1000))} -> 70 | F9: {=SUMPRODUCT((RECAP!$A$2:$A$1000=synthése!$B9)*(RECAP!$B$2:$B$1000=synthése!$C9)*(RECAP!$C$1:$L$1=synthése!F$1)*(RECAP!$C$2:$L$1000))} -> 18 | G9: {=SUMPRODUCT((RECAP!$A$2:$A$1000=synthése!$B9)*(RECAP!$B$2:$B$1000=synthése!$C9)*(RECAP!$C$1:$L$1=synthése!G$1)*(RECAP!$C$2:$L$1000))} -> 121 | H9: {=SUMPRODUCT((RECAP!$A$2:$A$1000=synthése!$B9)*(RECAP!$B$2:$B$1000=synthése!$C9)*(RECAP!$C$1:$L$1=synthése!H$1)*(RECAP!$C$2:$L$1000))} -> 1 | I9: {=SUMPRODUCT((RECAP!$A$2:$A$1000=synthése!$B9)*(RECAP!$B$2:$B$1000=synthése!$C9)*(RECAP!$C$1:$L$1=synthése!I$1)*(RECAP!$C$2:$L$1000))} -> 75 | J9: {=SUMPRODUCT((RECAP!$A$2:$A$1000=synthése!$B9)*(RECAP!$B$2:$B$1000=synthése!$C9)*(RECAP!$C$1:$L$1=synthése!J$1)*(RECAP!$C$2:$L$1000))} -> 14 | K9: {=SUMPRODUCT((RECAP!$A$2:$A$1000=synthése!$B9)*(RECAP!$B$2:$B$1000=synthése!$C9)*(RECAP!$C$1:$L$1=synthése!K$1)*(RECAP!$C$2:$L$1000))} -> 3 | ... M9: {=SUMPRODUCT((RECAP!$A$2:$A$1000=synthése!$B9)*(RECAP!$B$2:$B$1000=synthése!$C9)*(RECAP!$C$1:$L$1=synthése!M$1)*(RECAP!$C$2:$L$1000))} -> 0 | N9: =SUM(D9:M9) -> 386
A10: =IF(B10="","",YEAR(TODAY())) -> 2016 | B10: =IF(RECAP!A10="","",RECAP!A10) -> 23 | C10: =IF(RECAP!B10="","",RECAP!B10) -> GANDIA | D10: {=SUMPRODUCT((RECAP!$A$2:$A$1000=synthése!$B10)*(RECAP!$B$2:$B$1000=synthése!$C10)*(RECAP!$C$1:$L$1=synthése!D$1)*(RECAP!$C$2:$L$1000))} -> 0 | E10: {=SUMPRODUCT((RECAP!$A$2:$A$1000=synthése!$B10)*(RECAP!$B$2:$B$1000=synthése!$C10)*(RECAP!$C$1:$L$1=synthése!E$1)*(RECAP!$C$2:$L$1000))} -> 0 | F10: {=SUMPRODUCT((RECAP!$A$2:$A$1000=synthése!$B10)*(RECAP!$B$2:$B$1000=synthése!$C10)*(RECAP!$C$1:$L$1=synthése!F$1)*(RECAP!$C$2:$L$1000))} -> 0 | G10: {=SUMPRODUCT((RECAP!$A$2:$A$1000=synthése!$B10)*(RECAP!$B$2:$B$1000=synthése!$C10)*(RECAP!$C$1:$L$1=synthése!G$1)*(RECAP!$C$2:$L$1000))} -> 0 | H10: {=SUMPRODUCT((RECAP!$A$2:$A$1000=synthése!$B10)*(RECAP!$B$2:$B$1000=synthése!$C10)*(RECAP!$C$1:$L$1=synthése!H$1)*(RECAP!$C$2:$L$1000))} -> 0 | I10: {=SUMPRODUCT((RECAP!$A$2:$A$1000=synthése!$B10)*(RECAP!$B$2:$B$1000=synthése!$C10)*(RECAP!$C$1:$L$1=synthése!I$1)*(RECAP!$C$2:$L$1000))} -> 0 | J10: {=SUMPRODUCT((RECAP!$A$2:$A$1000=synthése!$B10)*(RECAP!$B$2:$B$1000=synthése!$C10)*(RECAP!$C$1:$L$1=synthése!J$1)*(RECAP!$C$2:$L$1000))} -> 0 | K10: {=SUMPRODUCT((RECAP!$A$2:$A$1000=synthése!$B10)*(RECAP!$B$2:$B$1000=synthése!$C10)*(RECAP!$C$1:$L$1=synthése!K$1)*(RECAP!$C$2:$L$1000))} -> 34 | ... M10: {=SUMPRODUCT((RECAP!$A$2:$A$1000=synthése!$B10)*(RECAP!$B$2:$B$1000=synthése!$C10)*(RECAP!$C$1:$L$1=synthése!M$1)*(RECAP!$C$2:$L$1000))} -> 0 | N10: =SUM(D10:M10) -> 34
A11: =IF(B11="","",YEAR(TODAY())) -> 2016 | B11: =IF(RECAP!A11="","",RECAP!A11) -> 23 | C11: =IF(RECAP!B11="","",RECAP!B11) -> LA SPEZIA | D11: {=SUMPRODUCT((RECAP!$A$2:$A$1000=synthése!$B11)*(RECAP!$B$2:$B$1000=synthése!$C11)*(RECAP!$C$1:$L$1=synthése!D$1)*(RECAP!$C$2:$L$1000))} -> 10 | E11: {=SUMPRODUCT((RECAP!$A$2:$A$1000=synthése!$B11)*(RECAP!$B$2:$B$1000=synthése!$C11)*(RECAP!$C$1:$L$1=synthése!E$1)*(RECAP!$C$2:$L$1000))} -> 16 | F11: {=SUMPRODUCT((RECAP!$A$2:$A$1000=synthése!$B11)*(RECAP!$B$2:$B$1000=synthése!$C11)*(RECAP!$C$1:$L$1=synthése!F$1)*(RECAP!$C$2:$L$1000))} -> 6 | G11: {=SUMPRODUCT((RECAP!$A$2:$A$1000=synthése!$B11)*(RECAP!$B$2:$B$1000=synthése!$C11)*(RECAP!$C$1:$L$1=synthése!G$1)*(RECAP!$C$2:$L$1000))} -> 9 | H11: {=SUMPRODUCT((RECAP!$A$2:$A$1000=synthése!$B11)*(RECAP!$B$2:$B$1000=synthése!$C11)*(RECAP!$C$1:$L$1=synthése!H$1)*(RECAP!$C$2:$L$1000))} -> 0 | I11: {=SUMPRODUCT((RECAP!$A$2:$A$1000=synthése!$B11)*(RECAP!$B$2:$B$1000=synthése!$C11)*(RECAP!$C$1:$L$1=synthése!I$1)*(RECAP!$C$2:$L$1000))} -> 2 | J11: {=SUMPRODUCT((RECAP!$A$2:$A$1000=synthése!$B11)*(RECAP!$B$2:$B$1000=synthése!$C11)*(RECAP!$C$1:$L$1=synthése!J$1)*(RECAP!$C$2:$L$1000))} -> 6 | K11: {=SUMPRODUCT((RECAP!$A$2:$A$1000=synthése!$B11)*(RECAP!$B$2:$B$1000=synthése!$C11)*(RECAP!$C$1:$L$1=synthése!K$1)*(RECAP!$C$2:$L$1000))} -> 9 | ... M11: {=SUMPRODUCT((RECAP!$A$2:$A$1000=synthése!$B11)*(RECAP!$B$2:$B$1000=synthése!$C11)*(RECAP!$C$1:$L$1=synthése!M$1)*(RECAP!$C$2:$L$1000))} -> 0 | N11: =SUM(D11:M11) -> 58
A12: =IF(B12="","",YEAR(TODAY())) -> 2016 | B12: =IF(RECAP!A12="","",RECAP!A12) -> 23 | C12: =IF(RECAP!B12="","",RECAP!B12) -> GENES | D12: {=SUMPRODUCT((RECAP!$A$2:$A$1000=synthése!$B12)*(RECAP!$B$2:$B$1000=synthése!$C12)*(RECAP!$C$1:$L$1=synthése!D$1)*(RECAP!$C$2:$L$1000))} -> 82 | E12: {=SUMPRODUCT((RECAP!$A$2:$A$1000=synthése!$B12)*(RECAP!$B$2:$B$1000=synthése!$C12)*(RECAP!$C$1:$L$1=synthése!E$1)*(RECAP!$C$2:$L$1000))} -> 41 | F12: {=SUMPRODUCT((RECAP!$A$2:$A$1000=synthése!$B12)*(RECAP!$B$2:$B$1000=synthése!$C12)*(RECAP!$C$1:$L$1=synthése!F$1)*(RECAP!$C$2:$L$1000))} -> 123 | G12: {=SUMPRODUCT((RECAP!$A$2:$A$1000=synthése!$B12)*(RECAP!$B$2:$B$1000=synthése!$C12)*(RECAP!$C$1:$L$1=synthése!G$1)*(RECAP!$C$2:$L$1000))} -> 83 | H12: {=SUMPRODUCT((RECAP!$A$2:$A$1000=synthése!$B12)*(RECAP!$B$2:$B$1000=synthése!$C12)*(RECAP!$C$1:$L$1=synthése!H$1)*(RECAP!$C$2:$L$1000))} -> 17 | I12: {=SUMPRODUCT((RECAP!$A$2:$A$1000=synthése!$B12)*(RECAP!$B$2:$B$1000=synthése!$C12)*(RECAP!$C$1:$L$1=synthése!I$1)*(RECAP!$C$2:$L$1000))} -> 22 | J12: {=SUMPRODUCT((RECAP!$A$2:$A$1000=synthése!$B12)*(RECAP!$B$2:$B$1000=synthése!$C12)*(RECAP!$C$1:$L$1=synthése!J$1)*(RECAP!$C$2:$L$1000))} -> 1 | K12: {=SUMPRODUCT((RECAP!$A$2:$A$1000=synthése!$B12)*(RECAP!$B$2:$B$1000=synthése!$C12)*(RECAP!$C$1:$L$1=synthése!K$1)*(RECAP!$C$2:$L$1000))} -> 5 | ... M12: {=SUMPRODUCT((RECAP!$A$2:$A$1000=synthése!$B12)*(RECAP!$B$2:$B$1000=synthése!$C12)*(RECAP!$C$1:$L$1=synthése!M$1)*(RECAP!$C$2:$L$1000))} -> 0 | N12: =SUM(D12:M12) -> 374
A13: =IF(B13="","",YEAR(TODAY())) -> 2016 | B13: =IF(RECAP!A13="","",RECAP!A13) -> 23 | C13: =IF(RECAP!B13="","",RECAP!B13) -> MARSEILLE | D13: {=SUMPRODUCT((RECAP!$A$2:$A$1000=synthése!$B13)*(RECAP!$B$2:$B$1000=synthése!$C13)*(RECAP!$C$1:$L$1=synthése!D$1)*(RECAP!$C$2:$L$1000))} -> 430 | E13: {=SUMPRODUCT((RECAP!$A$2:$A$1000=synthése!$B13)*(RECAP!$B$2:$B$1000=synthése!$C13)*(RECAP!$C$1:$L$1=synthése!E$1)*(RECAP!$C$2:$L$1000))} -> 121 | F13: {=SUMPRODUCT((RECAP!$A$2:$A$1000=synthése!$B13)*(RECAP!$B$2:$B$1000=synthése!$C13)*(RECAP!$C$1:$L$1=synthése!F$1)*(RECAP!$C$2:$L$1000))} -> 192 | G13: {=SUMPRODUCT((RECAP!$A$2:$A$1000=synthése!$B13)*(RECAP!$B$2:$B$1000=synthése!$C13)*(RECAP!$C$1:$L$1=synthése!G$1)*(RECAP!$C$2:$L$1000))} -> 199 | H13: {=SUMPRODUCT((RECAP!$A$2:$A$1000=synthése!$B13)*(RECAP!$B$2:$B$1000=synthése!$C13)*(RECAP!$C$1:$L$1=synthése!H$1)*(RECAP!$C$2:$L$1000))} -> 0 | I13: {=SUMPRODUCT((RECAP!$A$2:$A$1000=synthése!$B13)*(RECAP!$B$2:$B$1000=synthése!$C13)*(RECAP!$C$1:$L$1=synthése!I$1)*(RECAP!$C$2:$L$1000))} -> 96 | J13: {=SUMPRODUCT((RECAP!$A$2:$A$1000=synthése!$B13)*(RECAP!$B$2:$B$1000=synthése!$C13)*(RECAP!$C$1:$L$1=synthése!J$1)*(RECAP!$C$2:$L$1000))} -> 114 | K13: {=SUMPRODUCT((RECAP!$A$2:$A$1000=synthése!$B13)*(RECAP!$B$2:$B$1000=synthése!$C13)*(RECAP!$C$1:$L$1=synthése!K$1)*(RECAP!$C$2:$L$1000))} -> 168 | ... M13: {=SUMPRODUCT((RECAP!$A$2:$A$1000=synthése!$B13)*(RECAP!$B$2:$B$1000=synthése!$C13)*(RECAP!$C$1:$L$1=synthése!M$1)*(RECAP!$C$2:$L$1000))} -> 0 | N13: =SUM(D13:M13) -> 1320
A14: =IF(B14="","",YEAR(TODAY())) -> 2016 | B14: =IF(RECAP!A14="","",RECAP!A14) -> 24 | C14: =IF(RECAP!B14="","",RECAP!B14) -> BARCELONE | D14: {=SUMPRODUCT((RECAP!$A$2:$A$1000=synthése!$B14)*(RECAP!$B$2:$B$1000=synthése!$C14)*(RECAP!$C$1:$L$1=synthése!D$1)*(RECAP!$C$2:$L$1000))} -> 83 | E14: {=SUMPRODUCT((RECAP!$A$2:$A$1000=synthése!$B14)*(RECAP!$B$2:$B$1000=synthése!$C14)*(RECAP!$C$1:$L$1=synthése!E$1)*(RECAP!$C$2:$L$1000))} -> 230 | F14: {=SUMPRODUCT((RECAP!$A$2:$A$1000=synthése!$B14)*(RECAP!$B$2:$B$1000=synthése!$C14)*(RECAP!$C$1:$L$1=synthése!F$1)*(RECAP!$C$2:$L$1000))} -> 2 | G14: {=SUMPRODUCT((RECAP!$A$2:$A$1000=synthése!$B14)*(RECAP!$B$2:$B$1000=synthése!$C14)*(RECAP!$C$1:$L$1=synthése!G$1)*(RECAP!$C$2:$L$1000))} -> 345 | H14: {=SUMPRODUCT((RECAP!$A$2:$A$1000=synthése!$B14)*(RECAP!$B$2:$B$1000=synthése!$C14)*(RECAP!$C$1:$L$1=synthése!H$1)*(RECAP!$C$2:$L$1000))} -> 0 | I14: {=SUMPRODUCT((RECAP!$A$2:$A$1000=synthése!$B14)*(RECAP!$B$2:$B$1000=synthése!$C14)*(RECAP!$C$1:$L$1=synthése!I$1)*(RECAP!$C$2:$L$1000))} -> 300 | J14: {=SUMPRODUCT((RECAP!$A$2:$A$1000=synthése!$B14)*(RECAP!$B$2:$B$1000=synthése!$C14)*(RECAP!$C$1:$L$1=synthése!J$1)*(RECAP!$C$2:$L$1000))} -> 1 | K14: {=SUMPRODUCT((RECAP!$A$2:$A$1000=synthése!$B14)*(RECAP!$B$2:$B$1000=synthése!$C14)*(RECAP!$C$1:$L$1=synthése!K$1)*(RECAP!$C$2:$L$1000))} -> 6 | ... M14: {=SUMPRODUCT((RECAP!$A$2:$A$1000=synthése!$B14)*(RECAP!$B$2:$B$1000=synthése!$C14)*(RECAP!$C$1:$L$1=synthése!M$1)*(RECAP!$C$2:$L$1000))} -> 0 | N14: =SUM(D14:M14) -> 967
A15: =IF(B15="","",YEAR(TODAY())) -> 2016 | B15: =IF(RECAP!A15="","",RECAP!A15) -> 24 | C15: =IF(RECAP!B15="","",RECAP!B15) -> VALENCE | D15: {=SUMPRODUCT((RECAP!$A$2:$A$1000=synthése!$B15)*(RECAP!$B$2:$B$1000=synthése!$C15)*(RECAP!$C$1:$L$1=synthése!D$1)*(RECAP!$C$2:$L$1000))} -> 84 | E15: {=SUMPRODUCT((RECAP!$A$2:$A$1000=synthése!$B15)*(RECAP!$B$2:$B$1000=synthése!$C15)*(RECAP!$C$1:$L$1=synthése!E$1)*(RECAP!$C$2:$L$1000))} -> 70 | F15: {=SUMPRODUCT((RECAP!$A$2:$A$1000=synthése!$B15)*(RECAP!$B$2:$B$1000=synthése!$C15)*(RECAP!$C$1:$L$1=synthése!F$1)*(RECAP!$C$2:$L$1000))} -> 18 | G15: {=SUMPRODUCT((RECAP!$A$2:$A$1000=synthése!$B15)*(RECAP!$B$2:$B$1000=synthése!$C15)*(RECAP!$C$1:$L$1=synthése!G$1)*(RECAP!$C$2:$L$1000))} -> 121 | H15: {=SUMPRODUCT((RECAP!$A$2:$A$1000=synthése!$B15)*(RECAP!$B$2:$B$1000=synthése!$C15)*(RECAP!$C$1:$L$1=synthése!H$1)*(RECAP!$C$2:$L$1000))} -> 1 | I15: {=SUMPRODUCT((RECAP!$A$2:$A$1000=synthése!$B15)*(RECAP!$B$2:$B$1000=synthése!$C15)*(RECAP!$C$1:$L$1=synthése!I$1)*(RECAP!$C$2:$L$1000))} -> 75 | J15: {=SUMPRODUCT((RECAP!$A$2:$A$1000=synthése!$B15)*(RECAP!$B$2:$B$1000=synthése!$C15)*(RECAP!$C$1:$L$1=synthése!J$1)*(RECAP!$C$2:$L$1000))} -> 14 | K15: {=SUMPRODUCT((RECAP!$A$2:$A$1000=synthése!$B15)*(RECAP!$B$2:$B$1000=synthése!$C15)*(RECAP!$C$1:$L$1=synthése!K$1)*(RECAP!$C$2:$L$1000))} -> 3 | ... M15: {=SUMPRODUCT((RECAP!$A$2:$A$1000=synthése!$B15)*(RECAP!$B$2:$B$1000=synthése!$C15)*(RECAP!$C$1:$L$1=synthése!M$1)*(RECAP!$C$2:$L$1000))} -> 0 | N15: =SUM(D15:M15) -> 386
A16: =IF(B16="","",YEAR(TODAY())) -> 2016 | B16: =IF(RECAP!A16="","",RECAP!A16) -> 24 | C16: =IF(RECAP!B16="","",RECAP!B16) -> GANDIA | D16: {=SUMPRODUCT((RECAP!$A$2:$A$1000=synthése!$B16)*(RECAP!$B$2:$B$1000=synthése!$C16)*(RECAP!$C$1:$L$1=synthése!D$1)*(RECAP!$C$2:$L$1000))} -> 0 | E16: {=SUMPRODUCT((RECAP!$A$2:$A$1000=synthése!$B16)*(RECAP!$B$2:$B$1000=synthése!$C16)*(RECAP!$C$1:$L$1=synthése!E$1)*(RECAP!$C$2:$L$1000))} -> 0 | F16: {=SUMPRODUCT((RECAP!$A$2:$A$1000=synthése!$B16)*(RECAP!$B$2:$B$1000=synthése!$C16)*(RECAP!$C$1:$L$1=synthése!F$1)*(RECAP!$C$2:$L$1000))} -> 0 | G16: {=SUMPRODUCT((RECAP!$A$2:$A$1000=synthése!$B16)*(RECAP!$B$2:$B$1000=synthése!$C16)*(RECAP!$C$1:$L$1=synthése!G$1)*(RECAP!$C$2:$L$1000))} -> 0 | H16: {=SUMPRODUCT((RECAP!$A$2:$A$1000=synthése!$B16)*(RECAP!$B$2:$B$1000=synthése!$C16)*(RECAP!$C$1:$L$1=synthése!H$1)*(RECAP!$C$2:$L$1000))} -> 0 | I16: {=SUMPRODUCT((RECAP!$A$2:$A$1000=synthése!$B16)*(RECAP!$B$2:$B$1000=synthése!$C16)*(RECAP!$C$1:$L$1=synthése!I$1)*(RECAP!$C$2:$L$1000))} -> 0 | J16: {=SUMPRODUCT((RECAP!$A$2:$A$1000=synthése!$B16)*(RECAP!$B$2:$B$1000=synthése!$C16)*(RECAP!$C$1:$L$1=synthése!J$1)*(RECAP!$C$2:$L$1000))} -> 0 | K16: {=SUMPRODUCT((RECAP!$A$2:$A$1000=synthése!$B16)*(RECAP!$B$2:$B$1000=synthése!$C16)*(RECAP!$C$1:$L$1=synthése!K$1)*(RECAP!$C$2:$L$1000))} -> 34 | ... M16: {=SUMPRODUCT((RECAP!$A$2:$A$1000=synthése!$B16)*(RECAP!$B$2:$B$1000=synthése!$C16)*(RECAP!$C$1:$L$1=synthése!M$1)*(RECAP!$C$2:$L$1000))} -> 0 | N16: =SUM(D16:M16) -> 34
A17: =IF(B17="","",YEAR(TODAY())) -> 2016 | B17: =IF(RECAP!A17="","",RECAP!A17) -> 24 | C17: =IF(RECAP!B17="","",RECAP!B17) -> LA SPEZIA | D17: {=SUMPRODUCT((RECAP!$A$2:$A$1000=synthése!$B17)*(RECAP!$B$2:$B$1000=synthése!$C17)*(RECAP!$C$1:$L$1=synthése!D$1)*(RECAP!$C$2:$L$1000))} -> 10 | E17: {=SUMPRODUCT((RECAP!$A$2:$A$1000=synthése!$B17)*(RECAP!$B$2:$B$1000=synthése!$C17)*(RECAP!$C$1:$L$1=synthése!E$1)*(RECAP!$C$2:$L$1000))} -> 16 | F17: {=SUMPRODUCT((RECAP!$A$2:$A$1000=synthése!$B17)*(RECAP!$B$2:$B$1000=synthése!$C17)*(RECAP!$C$1:$L$1=synthése!F$1)*(RECAP!$C$2:$L$1000))} -> 6 | G17: {=SUMPRODUCT((RECAP!$A$2:$A$1000=synthése!$B17)*(RECAP!$B$2:$B$1000=synthése!$C17)*(RECAP!$C$1:$L$1=synthése!G$1)*(RECAP!$C$2:$L$1000))} -> 9 | H17: {=SUMPRODUCT((RECAP!$A$2:$A$1000=synthése!$B17)*(RECAP!$B$2:$B$1000=synthése!$C17)*(RECAP!$C$1:$L$1=synthése!H$1)*(RECAP!$C$2:$L$1000))} -> 0 | I17: {=SUMPRODUCT((RECAP!$A$2:$A$1000=synthése!$B17)*(RECAP!$B$2:$B$1000=synthése!$C17)*(RECAP!$C$1:$L$1=synthése!I$1)*(RECAP!$C$2:$L$1000))} -> 2 | J17: {=SUMPRODUCT((RECAP!$A$2:$A$1000=synthése!$B17)*(RECAP!$B$2:$B$1000=synthése!$C17)*(RECAP!$C$1:$L$1=synthése!J$1)*(RECAP!$C$2:$L$1000))} -> 6 | K17: {=SUMPRODUCT((RECAP!$A$2:$A$1000=synthése!$B17)*(RECAP!$B$2:$B$1000=synthése!$C17)*(RECAP!$C$1:$L$1=synthése!K$1)*(RECAP!$C$2:$L$1000))} -> 9 | ... M17: {=SUMPRODUCT((RECAP!$A$2:$A$1000=synthése!$B17)*(RECAP!$B$2:$B$1000=synthése!$C17)*(RECAP!$C$1:$L$1=synthése!M$1)*(RECAP!$C$2:$L$1000))} -> 0 | N17: =SUM(D17:M17) -> 58
A18: =IF(B18="","",YEAR(TODAY())) -> 2016 | B18: =IF(RECAP!A18="","",RECAP!A18) -> 24 | C18: =IF(RECAP!B18="","",RECAP!B18) -> GENES | D18: {=SUMPRODUCT((RECAP!$A$2:$A$1000=synthése!$B18)*(RECAP!$B$2:$B$1000=synthése!$C18)*(RECAP!$C$1:$L$1=synthése!D$1)*(RECAP!$C$2:$L$1000))} -> 82 | E18: {=SUMPRODUCT((RECAP!$A$2:$A$1000=synthése!$B18)*(RECAP!$B$2:$B$1000=synthése!$C18)*(RECAP!$C$1:$L$1=synthése!E$1)*(RECAP!$C$2:$L$1000))} -> 41 | F18: {=SUMPRODUCT((RECAP!$A$2:$A$1000=synthése!$B18)*(RECAP!$B$2:$B$1000=synthése!$C18)*(RECAP!$C$1:$L$1=synthése!F$1)*(RECAP!$C$2:$L$1000))} -> 123 | G18: {=SUMPRODUCT((RECAP!$A$2:$A$1000=synthése!$B18)*(RECAP!$B$2:$B$1000=synthése!$C18)*(RECAP!$C$1:$L$1=synthése!G$1)*(RECAP!$C$2:$L$1000))} -> 83 | H18: {=SUMPRODUCT((RECAP!$A$2:$A$1000=synthése!$B18)*(RECAP!$B$2:$B$1000=synthése!$C18)*(RECAP!$C$1:$L$1=synthése!H$1)*(RECAP!$C$2:$L$1000))} -> 17 | I18: {=SUMPRODUCT((RECAP!$A$2:$A$1000=synthése!$B18)*(RECAP!$B$2:$B$1000=synthése!$C18)*(RECAP!$C$1:$L$1=synthése!I$1)*(RECAP!$C$2:$L$1000))} -> 22 | J18: {=SUMPRODUCT((RECAP!$A$2:$A$1000=synthése!$B18)*(RECAP!$B$2:$B$1000=synthése!$C18)*(RECAP!$C$1:$L$1=synthése!J$1)*(RECAP!$C$2:$L$1000))} -> 1 | K18: {=SUMPRODUCT((RECAP!$A$2:$A$1000=synthése!$B18)*(RECAP!$B$2:$B$1000=synthése!$C18)*(RECAP!$C$1:$L$1=synthése!K$1)*(RECAP!$C$2:$L$1000))} -> 5 | ... M18: {=SUMPRODUCT((RECAP!$A$2:$A$1000=synthése!$B18)*(RECAP!$B$2:$B$1000=synthése!$C18)*(RECAP!$C$1:$L$1=synthése!M$1)*(RECAP!$C$2:$L$1000))} -> 0 | N18: =SUM(D18:M18) -> 374
A19: =IF(B19="","",YEAR(TODAY())) -> 2016 | B19: =IF(RECAP!A19="","",RECAP!A19) -> 24 | C19: =IF(RECAP!B19="","",RECAP!B19) -> MARSEILLE | D19: {=SUMPRODUCT((RECAP!$A$2:$A$1000=synthése!$B19)*(RECAP!$B$2:$B$1000=synthése!$C19)*(RECAP!$C$1:$L$1=synthése!D$1)*(RECAP!$C$2:$L$1000))} -> 430 | E19: {=SUMPRODUCT((RECAP!$A$2:$A$1000=synthése!$B19)*(RECAP!$B$2:$B$1000=synthése!$C19)*(RECAP!$C$1:$L$1=synthése!E$1)*(RECAP!$C$2:$L$1000))} -> 121 | F19: {=SUMPRODUCT((RECAP!$A$2:$A$1000=synthése!$B19)*(RECAP!$B$2:$B$1000=synthése!$C19)*(RECAP!$C$1:$L$1=synthése!F$1)*(RECAP!$C$2:$L$1000))} -> 192 | G19: {=SUMPRODUCT((RECAP!$A$2:$A$1000=synthése!$B19)*(RECAP!$B$2:$B$1000=synthése!$C19)*(RECAP!$C$1:$L$1=synthése!G$1)*(RECAP!$C$2:$L$1000))} -> 199 | H19: {=SUMPRODUCT((RECAP!$A$2:$A$1000=synthése!$B19)*(RECAP!$B$2:$B$1000=synthése!$C19)*(RECAP!$C$1:$L$1=synthése!H$1)*(RECAP!$C$2:$L$1000))} -> 0 | I19: {=SUMPRODUCT((RECAP!$A$2:$A$1000=synthése!$B19)*(RECAP!$B$2:$B$1000=synthése!$C19)*(RECAP!$C$1:$L$1=synthése!I$1)*(RECAP!$C$2:$L$1000))} -> 96 | J19: {=SUMPRODUCT((RECAP!$A$2:$A$1000=synthése!$B19)*(RECAP!$B$2:$B$1000=synthése!$C19)*(RECAP!$C$1:$L$1=synthése!J$1)*(RECAP!$C$2:$L$1000))} -> 114 | K19: {=SUMPRODUCT((RECAP!$A$2:$A$1000=synthése!$B19)*(RECAP!$B$2:$B$1000=synthése!$C19)*(RECAP!$C$1:$L$1=synthése!K$1)*(RECAP!$C$2:$L$1000))} -> 168 | ... M19: {=SUMPRODUCT((RECAP!$A$2:$A$1000=synthése!$B19)*(RECAP!$B$2:$B$1000=synthése!$C19)*(RECAP!$C$1:$L$1=synthése!M$1)*(RECAP!$C$2:$L$1000))} -> 0 | N19: =SUM(D19:M19) -> 1320
... A403: =IF(B403="","",YEAR(TODAY())) | B403: =IF(RECAP!A403="","",RECAP!A403) | C403: =IF(RECAP!B403="","",RECAP!B403) | D403: {=SUMPRODUCT((RECAP!$A$2:$A$1000=synthése!$B403)*(RECAP!$B$2:$B$1000=synthése!$C403)*(RECAP!$C$1:$L$1=synthése!D$1)*(RECAP!$C$2:$L$1000))} -> 0 | E403: {=SUMPRODUCT((RECAP!$A$2:$A$1000=synthése!$B403)*(RECAP!$B$2:$B$1000=synthése!$C403)*(RECAP!$C$1:$L$1=synthése!E$1)*(RECAP!$C$2:$L$1000))} -> 0 | F403: {=SUMPRODUCT((RECAP!$A$2:$A$1000=synthése!$B403)*(RECAP!$B$2:$B$1000=synthése!$C403)*(RECAP!$C$1:$L$1=synthése!F$1)*(RECAP!$C$2:$L$1000))} -> 0 | G403: {=SUMPRODUCT((RECAP!$A$2:$A$1000=synthése!$B403)*(RECAP!$B$2:$B$1000=synthése!$C403)*(RECAP!$C$1:$L$1=synthése!G$1)*(RECAP!$C$2:$L$1000))} -> 0 | H403: {=SUMPRODUCT((RECAP!$A$2:$A$1000=synthése!$B403)*(RECAP!$B$2:$B$1000=synthése!$C403)*(RECAP!$C$1:$L$1=synthése!H$1)*(RECAP!$C$2:$L$1000))} -> 0 | I403: {=SUMPRODUCT((RECAP!$A$2:$A$1000=synthése!$B403)*(RECAP!$B$2:$B$1000=synthése!$C403)*(RECAP!$C$1:$L$1=synthése!I$1)*(RECAP!$C$2:$L$1000))} -> 0 | J403: {=SUMPRODUCT((RECAP!$A$2:$A$1000=synthése!$B403)*(RECAP!$B$2:$B$1000=synthése!$C403)*(RECAP!$C$1:$L$1=synthése!J$1)*(RECAP!$C$2:$L$1000))} -> 0 | K403: {=SUMPRODUCT((RECAP!$A$2:$A$1000=synthése!$B403)*(RECAP!$B$2:$B$1000=synthése!$C403)*(RECAP!$C$1:$L$1=synthése!K$1)*(RECAP!$C$2:$L$1000))} -> 0 | ... M403: {=SUMPRODUCT((RECAP!$A$2:$A$1000=synthése!$B403)*(RECAP!$B$2:$B$1000=synthése!$C403)*(RECAP!$C$1:$L$1=synthése!M$1)*(RECAP!$C$2:$L$1000))} -> 0 | N403: =SUM(D403:M403) -> 0

Sheet MARSEILLE
A1: YEAR | B1: WEEK | C1: POL | D1: ALGER | E1: ORAN | F1: GHAZAOUET | G1: BEJAIA | H1: DJEN DJEN | I1: SKIKDA | J1: ANNABA | K1: ALGER C | L1: ORAN Sec | M1: Mosta | N1: TOTAL | P1: Delta
A2: 2012 | B2: 1 | C2: MARSEILLE | D2: NC | E2: NC | F2: NC | G2: NC | H2: NC | I2: NC | J2: NC | K2: NC | L2: NC | M2: NC | N2: 0 | P2: -
A3: 2012 | B3: 2 | C3: MARSEILLE | D3: NC | E3: NC | F3: NC | G3: NC | H3: NC | I3: NC | J3: NC | K3: NC | L3: NC | M3: NC | N3: 0 | P3: -
A4: 2012 | B4: 3 | C4: MARSEILLE | D4: NC | E4: NC | F4: NC | G4: NC | H4: NC | I4: NC | J4: NC | K4: NC | L4: NC | M4: NC | N4: 0 | P4: -
A5: 2012 | B5: 4 | C5: MARSEILLE | D5: NC | E5: NC | F5: NC | G5: NC | H5: NC | I5: NC | J5: NC | K5: NC | L5: NC | M5: NC | N5: 0 | P5: -
A6: 2012 | B6: 5 | C6: MARSEILLE | D6: 283 | E6: 46 | F6: 149 | G6: 92 | H6: 0 | I6: 19 | J6: 68 | K6: 137 | L6: 0 | M6: 0 | N6: =SUM(D6:M6) -> 794 | P6: -
A7: 2012 | B7: 6 | C7: MARSEILLE | D7: 363 | E7: 91 | F7: 65 | G7: 70 | H7: 0 | I7: 33 | J7: 67 | K7: 49 | L7: 0 | M7: 0 | N7: =SUM(D7:M7) -> 738 | P7: -
A8: 2012 | B8: 7 | C8: MARSEILLE | D8: 238 | E8: 87 | F8: 72 | G8: 51 | H8: 0 | I8: 36 | J8: 54 | K8: 45 | L8: 0 | M8: 0 | N8: =SUM(D8:M8) -> 583 | P8: -
A9: 2012 | B9: 8 | C9: MARSEILLE | D9: 274 | E9: 85 | F9: 165 | G9: 85 | H9: 0 | I9: 48 | J9: 72 | K9: 61 | L9: 0 | M9: 0 | N9: =SUM(D9:M9) -> 790 | P9: -
A10: 2012 | B10: 9 | C10: MARSEILLE | D10: 274 | E10: 81 | F10: 99 | G10: 117 | H10: 0 | I10: 54 | J10: 72 | K10: 66 | L10: 0 | M10: 0 | N10: =SUM(D10:M10) -> 763 | P10: -
A11: 2012 | B11: 10 | C11: MARSEILLE | D11: 331 | E11: 107 | F11: 159 | G11: 69 | H11: 0 | I11: 63 | J11: 83 | K11: 87 | L11: 0 | M11: 0 | N11: =SUM(D11:M11) -> 899 | P11: -
A12: 2012 | B12: 11 | C12: MARSEILLE | D12: 349 | E12: 75 | F12: 117 | G12: 90 | H12: 0 | I12: 51 | J12: 53 | K12: 87 | L12: 0 | M12: 0 | N12: =SUM(D12:M12) -> 822 | P12: -
A13: 2012 | B13: 12 | C13: MARSEILLE | D13: 306 | E13: 145 | F13: 151 | G13: 105 | H13: 0 | I13: 27 | J13: 104 | K13: 102 | L13: 0 | M13: 0 | N13: =SUM(D13:M13) -> 940 | P13: -
A14: 2012 | B14: 13 | C14: MARSEILLE | D14: 368 | E14: 88 | F14: 169 | G14: 76 | H14: 0 | I14: 78 | J14: 124 | K14: 101 | L14: 0 | M14: 0 | N14: =SUM(D14:M14) -> 1004 | P14: -
A15: 2012 | B15: 14 | C15: MARSEILLE | D15: 364 | E15: 152 | F15: 118 | G15: 105 | H15: 0 | I15: 59 | J15: 108 | K15: 95 | L15: 0 | M15: 0 | N15: =SUM(D15:M15) -> 1001 | P15: -
A16: 2012 | B16: 15 | C16: MARSEILLE | D16: 284 | E16: 89 | F16: 156 | G16: 98 | H16: 0 | I16: 60 | J16: 77 | K16: 127 | L16: 0 | M16: 0 | N16: =SUM(D16:M16) -> 891 | P16: -
A17: 2012 | B17: 16 | C17: MARSEILLE | D17: 356 | E17: 76 | F17: 23 | G17: 138 | H17: 0 | I17: 50 | J17: 52 | K17: 80 | L17: 0 | M17: 0 | N17: =SUM(D17:M17) -> 775 | P17: -
... A53: 2012 | B53: 52 | C53: MARSEILLE | D53: 219 | E53: 126 | F53: 77 | G53: 75 | H53: 0 | I53: 41 | J53: 86 | K53: 130 | L53: 0 | M53: 0 | N53: =SUM(D53:M53) -> 754 | P53: -
A54: YEAR | B54: WEEK | C54: POL | D54: ALGER | E54: ORAN | F54: GHAZAOUET | G54: BEJAIA | H54: DJEN DJEN | I54: SKIKDA | J54: ANNABA | K54: ALGER C | L54: ORAN Sec | M54: Mosta | N54: TOTAL | P54: Delta
A55: 2013 | B55: 1 | C55: MARSEILLE | D55: 159 | E55: 104 | F55: 24 | G55: 70 | H55: 0 | I55: 4 | J55: 70 | K55: 67 | L55: 0 | M55: 0 | N55: =SUM(D55:M55) -> 498 | P55: -
A56: 2013 | B56: 2 | C56: MARSEILLE | D56: 127 | E56: 74 | F56: 120 | G56: 62 | H56: 0 | I56: 36 | J56: 35 | K56: 62 | L56: 0 | M56: 0 | N56: =SUM(D56:M56) -> 516 | P56: -
A57: 2013 | B57: 3 | C57: MARSEILLE | D57: 200 | E57: 61 | F57: 105 | G57: 70 | H57: 0 | I57: 46 | J57: 51 | K57: 100 | L57: 0 | M57: 0 | N57: =SUM(D57:M57) -> 633 | P57: -
A58: 2013 | B58: 4 | C58: MARSEILLE | D58: 225 | E58: 103 | F58: 168 | G58: 60 | H58: 0 | I58: 48 | J58: 72 | K58: 82 | L58: 0 | M58: 0 | N58: =SUM(D58:M58) -> 758 | P58: -
A59: 2013 | B59: 5 | C59: MARSEILLE | D59: 240 | E59: 104 | F59: 173 | G59: 105 | H59: 0 | I59: 105 | J59: 74 | K59: 103 | L59: 0 | M59: 0 | N59: =SUM(D59:M59) -> 904 | P59: =(N59-N6)/N6 -> 0.13853904
A60: 2013 | B60: 6 | C60: MARSEILLE | D60: 231 | E60: 91 | F60: 134 | G60: 98 | H60: 0 | I60: 45 | J60: 41 | K60: 109 | L60: 0 | M60: 0 | N60: =SUM(D60:M60) -> 749 | P60: =(N60-N7)/N7 -> 0.014905149
A61: 2013 | B61: 7 | C61: MARSEILLE | D61: 271 | E61: 67 | F61: 103 | G61: 84 | H61: 0 | I61: 81 | J61: 63 | K61: 136 | L61: 0 | M61: 0 | N61: =SUM(D61:M61) -> 805 | P61: =(N61-N8)/N8 -> 0.38078902
A62: 2013 | B62: 8 | C62: MARSEILLE | D62: 267 | E62: 88 | F62: 165 | G62: 61 | H62: 0 | I62: 72 | J62: 56 | K62: 135 | L62: 0 | M62: 0 | N62: =SUM(D62:M62) -> 844 | P62: =(N62-N9)/N9 -> 0.06835443
A63: 2013 | B63: 9 | C63: MARSEILLE | D63: 267 | E63: 97 | F63: 85 | G63: 55 | H63: 0 | I63: 26 | J63: 102 | K63: 124 | L63: 0 | M63: 0 | N63: =SUM(D63:M63) -> 756 | P63: =(N63-N10)/N10 -> -0.0091743119
A64: 2013 | B64: 10 | C64: MARSEILLE | D64: 313 | E64: 87 | F64: 156 | G64: 123 | H64: 0 | I64: 65 | J64: 46 | K64: 123 | L64: 0 | M64: 0 | N64: =SUM(D64:M64) -> 913 | P64: =(N64-N11)/N11 -> 0.015572859
A65: 2013 | B65: 11 | C65: MARSEILLE | D65: 279 | E65: 85 | F65: 135 | G65: 89 | H65: 0 | I65: 41 | J65: 76 | K65: 91 | L65: 0 | M65: 0 | N65: =SUM(D65:M65) -> 796 | P65: =(N65-N12)/N12 -> -0.03163017
A66: 2013 | B66: 12 | C66: MARSEILLE | D66: 226 | E66: 98 | F66: 163 | G66: 86 | H66: 0 | I66: 54 | J66: 68 | K66: 181 | L66: 0 | M66: 0 | N66: =SUM(D66:M66) -> 876 | P66: =(N66-N13)/N13 -> -0.068085106
A67: 2013 | B67: 13 | C67: MARSEILLE | D67: 354 | E67: 139 | F67: 222 | G67: 101 | H67: 0 | I67: 79 | J67: 84 | K67: 211 | L67: 0 | M67: 0 | N67: =SUM(D67:M67) -> 1190 | P67: =(N67-N14)/N14 -> 0.18525896
A68: 2013 | B68: 14 | C68: MARSEILLE | D68: 259 | E68: 132 | F68: 107 | G68: 101 | H68: 0 | I68: 48 | J68: 67 | K68: 150 | L68: 0 | M68: 0 | N68: =SUM(D68:M68) -> 864 | P68: =(N68-N15)/N15 -> -0.13686314
A69: 2013 | B69: 15 | C69: MARSEILLE | D69: 282 | E69: 91 | F69: 126 | G69: 82 | H69: 0 | I69: 86 | J69: 59 | K69: 131 | L69: 0 | M69: 0 | N69: =SUM(D69:M69) -> 857 | P69: =(N69-N16)/N16 -> -0.038159371
A70: 2013 | B70: 16 | C70: MARSEILLE | D70: 298 | E70: 66 | F70: 191 | G70: 81 | H70: 0 | I70: 82 | J70: 72 | K70: 132 | L70: 0 | M70: 0 | N70: =SUM(D70:M70) -> 922 | P70: =(N70-N17)/N17 -> 0.18967742
... A106: 2013 | B106: 52 | C106: MARSEILLE | D106: 259 | E106: 149 | F106: 106 | G106: 141 | H106: 0 | I106: 21 | J106: 69 | K106: 122 | L106: 0 | M106: 0 | N106: =SUM(D106:M106) -> 867 | P106: =(N106-N53)/N53 -> 0.14986737
A107: YEAR | B107: WEEK | C107: POL | D107: ALGER | E107: ORAN | F107: GHAZAOUET | G107: BEJAIA | H107: DJEN DJEN | I107: SKIKDA | J107: ANNABA | K107: ALGER C | L107: ORAN Sec | M107: Mosta | N107: TOTAL | P107: Delta
A108: 2014 | B108: 1 | C108: MARSEILLE | D108: 103 | E108: 40 | F108: 70 | G108: 0 | H108: 0 | I108: 40 | J108: 36 | K108: 144 | L108: 0 | M108: 4 | N108: =SUM(D108:M108) -> 437 | P108: =(N108-N55)/N55 -> -0.12248996
A109: 2014 | B109: 2 | C109: MARSEILLE | D109: 164 | E109: 70 | F109: 110 | G109: 139 | H109: 0 | I109: 34 | J109: 41 | K109: 58 | L109: 0 | M109: 2 | N109: =SUM(D109:M109) -> 618 | P109: =(N109-N56)/N56 -> 0.19767442
A110: 2014 | B110: 3 | C110: MARSEILLE | D110: 250 | E110: 92 | F110: 150 | G110: 127 | H110: 0 | I110: 74 | J110: 98 | K110: 128 | L110: 0 | M110: 0 | N110: =SUM(D110:M110) -> 919 | P110: =(N110-N57)/N57 -> 0.45181675
A111: 2014 | B111: 4 | C111: MARSEILLE | D111: 210 | E111: 42 | F111: 183 | G111: 0 | H111: 0 | I111: 35 | J111: 91 | K111: 103 | L111: 0 | M111: 0 | N111: =SUM(D111:M111) -> 664 | P111: =(N111-N58)/N58 -> -0.12401055
A112: 2014 | B112: 5 | C112: MARSEILLE | D112: 217 | E112: 127 | F112: 158 | G112: 207 | H112: 0 | I112: 67 | J112: 95 | K112: 127 | L112: 0 | M112: 8 | N112: =SUM(D112:M112) -> 1006 | P112: =(N112-N59)/N59 -> 0.11283186
A113: 2014 | B113: 6 | C113: MARSEILLE | D113: 198 | E113: 87 | F113: 193 | G113: 130 | H113: 0 | I113: 54 | J113: 80 | K113: 169 | L113: 0 | M113: 0 | N113: =SUM(D113:M113) -> 911 | P113: =(N113-N60)/N60 -> 0.21628838
A114: 2014 | B114: 7 | C114: MARSEILLE | D114: 133 | E114: 89 | F114: 173 | G114: 61 | H114: 0 | I114: 73 | J114: 69 | K114: 119 | L114: 0 | M114: 9 | N114: =SUM(D114:M114) -> 726 | P114: =(N114-N61)/N61 -> -0.098136646
A115: 2014 | B115: 8 | C115: MARSEILLE | D115: 224 | E115: 128 | F115: 201 | G115: 0 | H115: 0 | I115: 83 | J115: 60 | K115: 217 | L115: 0 | M115: 10 | N115: =SUM(D115:M115) -> 923 | P115: =(N115-N62)/N62 -> 0.093601896
A116: 2014 | B116: 9 | C116: MARSEILLE | D116: 234 | E116: 49 | F116: 250 | G116: 103 | H116: 0 | I116: 80 | J116: 78 | K116: 124 | L116: 0 | M116: 0 | N116: =SUM(D116:M116) -> 918 | P116: =(N116-N63)/N63 -> 0.21428571
A117: 2014 | B117: 10 | C117: MARSEILLE | D117: 207 | E117: 86 | F117: 254 | G117: 238 | H117: 0 | I117: 65 | J117: 77 | K117: 105 | L117: 0 | M117: 131 | N117: =SUM(D117:M117) -> 1163 | P117: =(N117-N64)/N64 -> 0.27382256
A118: 2014 | B118: 11 | C118: MARSEILLE | D118: 237 | E118: 107 | F118: 275 | G118: 104 | H118: 0 | I118: 56 | J118: 70 | K118: 134 | L118: 0 | M118: 0 | N118: =SUM(D118:M118) -> 983 | P118: =(N118-N65)/N65 -> 0.23492462
A119: 2014 | B119: 12 | C119: MARSEILLE | D119: 227 | E119: 117 | F119: 235 | G119: 113 | H119: 0 | I119: 87 | J119: 98 | K119: 117 | L119: 0 | M119: 0 | N119: =SUM(D119:M119) -> 994 | P119: =(N119-N66)/N66 -> 0.1347032
... A159: 2014 | B159: 52 | C159: MARSEILLE | D159: 324 | E159: 88 | F159: 76 | G159: 77 | H159: 0 | I159: 24 | J159: 47 | K159: 168 | L159: 0 | M159: 0 | N159: =SUM(D159:M159) -> 804 | P159: =(N159-N106)/N106 -> -0.07266436
A160: YEAR | B160: WEEK | C160: POL | D160: ALGER | E160: ORAN | F160: GHAZAOUET | G160: BEJAIA | H160: DJEN DJEN | I160: SKIKDA | J160: ANNABA | K160: ALGER C | L160: ORAN Sec | M160: Mosta | N160: TOTAL | P160: Delta
A161: 2015 | B161: 1 | C161: MARSEILLE | D161: 144 | E161: 56 | F161: 68 | G161: 60 | H161: 0 | I161: 67 | J161: 30 | K161: 82 | L161: 0 | M161: 5 | N161: =SUM(D161:M161) -> 512 | P161: =(N161-N108)/N108 -> 0.17162471
A162: 2015 | B162: 2 | C162: MARSEILLE | D162: 152 | E162: 44 | F162: 145 | G162: 42 | H162: 0 | I162: 34 | J162: 68 | K162: 90 | L162: 0 | M162: 1 | N162: =SUM(D162:M162) -> 576 | P162: =(N162-N109)/N109 -> -0.067961165
A163: 2015 | B163: 3 | C163: MARSEILLE | D163: 166 | E163: 48 | F163: 174 | G163: 69 | H163: 0 | I163: 83 | J163: 46 | K163: 112 | L163: 0 | M163: 162 | N163: =SUM(D163:M163) -> 860 | P163: =(N163-N110)/N110 -> -0.064200218
A164: 2015 | B164: 4 | C164: MARSEILLE | D164: 201 | E164: 80 | F164: 150 | G164: 41 | H164: 0 | I164: 67 | J164: 47 | K164: 93 | L164: 0 | M164: 0 | N164: =SUM(D164:M164) -> 679 | P164: =(N164-N111)/N111 -> 0.022590361
A165: 2015 | B165: 5 | C165: MARSEILLE | D165: 197 | E165: 132 | F165: 212 | G165: 249 | H165: 4 | I165: 53 | J165: 28 | K165: 147 | L165: 0 | M165: 0 | N165: =SUM(D165:M165) -> 1022 | P165: =(N165-N112)/N112 -> 0.015904573
A166: 2015 | B166: 6 | C166: MARSEILLE | D166: 222 | E166: 99 | F166: 194 | G166: 65 | H166: 0 | I166: 166 | J166: 51 | K166: 107 | L166: 0 | M166: 0 | N166: =SUM(D166:M166) -> 904 | P166: =(N166-N113)/N113 -> -0.0076838639
A167: 2015 | B167: 7 | C167: MARSEILLE | D167: 267 | E167: 75 | F167: 205 | G167: 170 | H167: 4 | I167: 94 | J167: 78 | K167: 126 | L167: 0 | M167: 0 | N167: =SUM(D167:M167) -> 1019 | P167: =(N167-N114)/N114 -> 0.40358127
A168: 2015 | B168: 8 | C168: MARSEILLE | D168: 282 | E168: 65 | F168: 254 | G168: 115 | H168: 1 | I168: 55 | J168: 60 | K168: 134 | L168: 0 | M168: 0 | N168: =SUM(D168:M168) -> 966 | P168: =(N168-N115)/N115 -> 0.046587216
A169: 2015 | B169: 9 | C169: MARSEILLE | D169: 306 | E169: 108 | F169: 184 | G169: 111 | H169: 0 | I169: 103 | J169: 129 | K169: 114 | L169: 0 | M169: 75 | N169: =SUM(D169:M169) -> 1130 | P169: =(N169-N116)/N116 -> 0.23093682
A170: 2015 | B170: 10 | C170: MARSEILLE | D170: 225 | E170: 99 | F170: 255 | G170: 112 | H170: 0 | I170: 75 | J170: 86 | K170: 165 | L170: 0 | M170: 0 | N170: =SUM(D170:M170) -> 1017 | P170: =(N170-N117)/N117 -> -0.1255374
A171: 2015 | B171: 11 | C171: MARSEILLE | D171: 345 | E171: 131 | F171: 176 | G171: 157 | H171: 0 | I171: 108 | J171: 65 | K171: 113 | L171: 0 | M171: 0 | N171: =SUM(D171:M171) -> 1095 | P171: =(N171-N118)/N118 -> 0.11393693
A172: 2015 | B172: 12 | C172: MARSEILLE | D172: 462 | E172: 153 | F172: 217 | G172: 132 | H172: 2 | I172: 116 | J172: 57 | K172: 118 | L172: 0 | M172: 0 | N172: =SUM(D172:M172) -> 1257 | P172: =(N172-N119)/N119 -> 0.26458753
... A212: 2015 | B212: 52 | C212: MARSEILLE | D212: 228 | E212: 60 | F212: 158 | G212: 117 | H212: 0 | I212: 70 | J212: 57 | K212: 141 | L212: 0 | M212: 0 | N212: =SUM(D212:M212) -> 831 | P212: =(N212-N159)/N159 -> 0.03358209
A213: 2015 | B213: 53 | C213: MARSEILLE | D213: 104 | E213: 89 | F213: 64 | G213: 78 | H213: 27 | I213: 23 | J213: 47 | K213: 59 | L213: 0 | M213: 0 | N213: =SUM(D213:M213) -> 491 | P213: -
A214: YEAR | B214: WEEK | C214: POL | D214: ALGER | E214: ORAN | F214: GHAZAOUET | G214: BEJAIA | H214: DJEN DJEN | I214: SKIKDA | J214: ANNABA | K214: ALGER C | L214: ORAN Sec | M214: Mosta | N214: TOTAL | P214: Delta
A215: 2016 | B215: 1 | C215: MARSEILLE | D215: 207 | E215: 33 | F215: 145 | G215: 38 | H215: 0 | I215: 37 | J215: 50 | K215: 68 | L215: 0 | M215: 0 | N215: =SUM(D215:M215) -> 578 | P215: =(N215-N162)/N162 -> 0.0034722222
A216: 2016 | B216: 2 | C216: MARSEILLE | D216: 220 | E216: 47 | F216: 117 | G216: 59 | H216: 0 | I216: 58 | J216: 53 | K216: 45 | L216: 0 | M216: 0 | N216: =SUM(D216:M216) -> 599 | P216: =(N216-N163)/N163 -> -0.30348837
A217: 2016 | B217: 3 | C217: MARSEILLE | D217: 298 | E217: 52 | F217: 196 | G217: 101 | H217: 0 | I217: 79 | J217: 49 | K217: 72 | L217: 0 | M217: 0 | N217: =SUM(D217:M217) -> 847 | P217: =(N217-N164)/N164 -> 0.24742268
A218: 2016 | B218: 4 | C218: MARSEILLE | D218: 282 | E218: 104 | F218: 150 | G218: 97 | H218: 0 | I218: 57 | J218: 69 | K218: 111 | L218: 0 | M218: 19 | N218: =SUM(D218:M218) -> 889 | P218: =(N218-N165)/N165 -> -0.13013699
A219: 2016 | B219: 5 | C219: MARSEILLE | D219: 264 | E219: 99 | F219: 82 | G219: 149 | H219: 33 | I219: 60 | J219: 92 | K219: 83 | L219: 0 | M219: 0 | N219: =SUM(D219:M219) -> 862 | P219: =(N219-N166)/N166 -> -0.046460177
A220: 2016 | B220: 6 | C220: MARSEILLE | D220: 366 | E220: 78 | F220: 261 | G220: 91 | H220: 0 | I220: 69 | J220: 34 | K220: 93 | L220: 0 | M220: 0 | N220: =SUM(D220:M220) -> 992 | P220: =(N220-N167)/N167 -> -0.026496565
A221: 2016 | B221: 7 | C221: MARSEILLE | D221: 266 | E221: 102 | F221: 168 | G221: 148 | H221: 0 | I221: 75 | J221: 101 | K221: 119 | L221: 0 | M221: 0 | N221: =SUM(D221:M221) -> 979 | P221: =(N221-N168)/N168 -> 0.013457557
A222: 2016 | B222: 8 | C222: MARSEILLE | D222: 354 | E222: 135 | F222: 198 | G222: 136 | H222: 0 | I222: 78 | J222: 89 | K222: 100 | L222: 0 | M222: 0 | N222: =SUM(D222:M222) -> 1090 | P222: =(N222-N169)/N169 -> -0.03539823
A223: 2016 | B223: 9 | C223: MARSEILLE | D223: 332 | E223: 169 | F223: 202 | G223: 80 | H223: 6 | I223: 44 | J223: 87 | K223: 186 | L223: 0 | M223: 0 | N223: =SUM(D223:M223) -> 1106 | P223: =(N223-N170)/N170 -> 0.087512291
A224: 2016 | B224: 10 | C224: MARSEILLE | D224: 240 | E224: 125 | F224: 193 | G224: 134 | H224: 0 | I224: 60 | J224: 56 | K224: 88 | L224: 0 | M224: 0 | N224: =SUM(D224:M224) -> 896 | P224: =(N224-N171)/N171 -> -0.18173516
A225: 2016 | B225: 11 | C225: MARSEILLE | P225: =(N225-N172)/N172 -> -1
A226: 2016 | B226: 12 | C226: MARSEILLE | P226: =(N226-N173)/N173 -> -1
A227: 2016 | B227: 13 | C227: MARSEILLE | P227: =(N227-N174)/N174 -> -1
A228: 2016 | B228: 14 | C228: MARSEILLE | P228: =(N228-N175)/N175 -> -1
A229: 2016 | B229: 15 | C229: MARSEILLE | P229: =(N229-N176)/N176 -> -1
A230: 2016 | B230: 16 | C230: MARSEILLE | P230: =(N230-N177)/N177 -> -1
A231: 2016 | B231: 17 | C231: MARSEILLE | P231: =(N231-N178)/N178 -> -1
A232: 2016 | B232: 18 | C232: MARSEILLE | P232: =(N232-N179)/N179 -> -1
A233: 2016 | B233: 19 | C233: MARSEILLE | P233: =(N233-N180)/N180 -> -1
A234: 2016 | B234: 20 | C234: MARSEILLE | P234: =(N234-N181)/N181 -> -1
A235: 2016 | B235: 21 | C235: MARSEILLE | P235: =(N235-N182)/N182 -> -1
A236: 2016 | B236: 22 | C236: MARSEILLE | D236: =SUMPRODUCT((synthése!$B$2:$B$1000=MARSEILLE!$B$236)*(synthése!$C$2:$C$1000=MARSEILLE!$C$236)*(synthése!$D$1:$M$1=MARSEILLE!$D$1)*(synthése!D2:M1000)) -> 430 | E236: =SUMPRODUCT((synthése!$B$2:$B$1000=MARSEILLE!$B$236)*(synthése!$C$2:$C$1000=MARSEILLE!$C$236)*(synthése!$D$1:$M$1=MARSEILLE!$D$1)*(synthése!E2:N1000)) -> 121 | F236: =SUMPRODUCT((synthése!$B$2:$B$1000=MARSEILLE!$B$236)*(synthése!$C$2:$C$1000=MARSEILLE!$C$236)*(synthése!$D$1:$M$1=MARSEILLE!$D$1)*(synthése!F2:O1000)) -> 192 | G236: =SUMPRODUCT((synthése!$B$2:$B$1000=MARSEILLE!$B$236)*(synthése!$C$2:$C$1000=MARSEILLE!$C$236)*(synthése!$D$1:$M$1=MARSEILLE!$D$1)*(synthése!G2:P1000)) -> 199 | H236: =SUMPRODUCT((synthése!$B$2:$B$1000=MARSEILLE!$B$236)*(synthése!$C$2:$C$1000=MARSEILLE!$C$236)*(synthése!$D$1:$M$1=MARSEILLE!$D$1)*(synthése!H2:Q1000)) -> 0 | I236: =SUMPRODUCT((synthése!$B$2:$B$1000=MARSEILLE!$B$236)*(synthése!$C$2:$C$1000=MARSEILLE!$C$236)*(synthése!$D$1:$M$1=MARSEILLE!$D$1)*(synthése!I2:R1000)) -> 96 | J236: =SUMPRODUCT((synthése!$B$2:$B$1000=MARSEILLE!$B$236)*(synthése!$C$2:$C$1000=MARSEILLE!$C$236)*(synthése!$D$1:$M$1=MARSEILLE!$D$1)*(synthése!J2:S1000)) -> 114 | K236: =SUMPRODUCT((synthése!$B$2:$B$1000=MARSEILLE!$B$236)*(synthése!$C$2:$C$1000=MARSEILLE!$C$236)*(synthése!$D$1:$M$1=MARSEILLE!$D$1)*(synthése!K2:T1000)) -> 168 | ... M236: =SUMPRODUCT((synthése!$B$2:$B$1000=MARSEILLE!$B$236)*(synthése!$C$2:$C$1000=MARSEILLE!$C$236)*(synthése!$D$1:$M$1=MARSEILLE!$D$1)*(synthése!M2:V1000)) -> 0 | P236: =(N236-N183)/N183 -> -1
A237: 2016 | B237: 23 | C237: MARSEILLE | D237: =SUMPRODUCT((synthése!$B$2:$B$1000=MARSEILLE!$B$237)*(synthése!$C$2:$C$1000=MARSEILLE!$C$237)*(synthése!$D$1:$M$1=MARSEILLE!$D$1)*(synthése!D3:M1001)) -> 83 | E237: =SUMPRODUCT((synthése!$B$2:$B$1000=MARSEILLE!$B$237)*(synthése!$C$2:$C$1000=MARSEILLE!$C$237)*(synthése!$D$1:$M$1=MARSEILLE!$D$1)*(synthése!E3:N1001)) -> 230 | F237: =SUMPRODUCT((synthése!$B$2:$B$1000=MARSEILLE!$B$237)*(synthése!$C$2:$C$1000=MARSEILLE!$C$237)*(synthése!$D$1:$M$1=MARSEILLE!$D$1)*(synthése!F3:O1001)) -> 2 | G237: =SUMPRODUCT((synthése!$B$2:$B$1000=MARSEILLE!$B$237)*(synthése!$C$2:$C$1000=MARSEILLE!$C$237)*(synthése!$D$1:$M$1=MARSEILLE!$D$1)*(synthése!G3:P1001)) -> 345 | H237: =SUMPRODUCT((synthése!$B$2:$B$1000=MARSEILLE!$B$237)*(synthése!$C$2:$C$1000=MARSEILLE!$C$237)*(synthése!$D$1:$M$1=MARSEILLE!$D$1)*(synthése!H3:Q1001)) -> 0 | I237: =SUMPRODUCT((synthése!$B$2:$B$1000=MARSEILLE!$B$237)*(synthése!$C$2:$C$1000=MARSEILLE!$C$237)*(synthése!$D$1:$M$1=MARSEILLE!$D$1)*(synthése!I3:R1001)) -> 300 | J237: =SUMPRODUCT((synthése!$B$2:$B$1000=MARSEILLE!$B$237)*(synthése!$C$2:$C$1000=MARSEILLE!$C$237)*(synthése!$D$1:$M$1=MARSEILLE!$D$1)*(synthése!J3:S1001)) -> 1 | K237: =SUMPRODUCT((synthése!$B$2:$B$1000=MARSEILLE!$B$237)*(synthése!$C$2:$C$1000=MARSEILLE!$C$237)*(synthése!$D$1:$M$1=MARSEILLE!$D$1)*(synthése!K3:T1001)) -> 6 | ... M237: =SUMPRODUCT((synthése!$B$2:$B$1000=MARSEILLE!$B$237)*(synthése!$C$2:$C$1000=MARSEILLE!$C$237)*(synthése!$D$1:$M$1=MARSEILLE!$D$1)*(synthése!M3:V1001)) -> 0 | P237: =(N237-N184)/N184 -> -1
A238: 2016 | B238: 24 | C238: MARSEILLE | P238: =(N238-N185)/N185 -> -1
A239: 2016 | B239: 25 | C239: MARSEILLE | P239: =(N239-N186)/N186 -> -1
A240: 2016 | B240: 26 | C240: MARSEILLE | P240: =(N240-N187)/N187 -> -1
A241: 2016 | B241: 27 | C241: MARSEILLE | P241: =(N241-N188)/N188 -> -1
A242: 2016 | B242: 28 | C242: MARSEILLE | P242: =(N242-N189)/N189 -> -1
A243: 2016 | B243: 29 | C243: MARSEILLE | P243: =(N243-N190)/N190 -> -1
A244: 2016 | B244: 30 | C244: MARSEILLE | P244: =(N244-N191)/N191 -> -1
A245: 2016 | B245: 31 | C245: MARSEILLE | P245: =(N245-N192)/N192 -> -1
A246: 2016 | B246: 32 | C246: MARSEILLE | P246: =(N246-N193)/N193 -> -1
A247: 2016 | B247: 33 | C247: MARSEILLE | P247: =(N247-N194)/N194 -> -1
A248: 2016 | B248: 34 | C248: MARSEILLE | P248: =(N248-N195)/N195 -> -1
...

Sheet BARCELONE
A1: YEAR | B1: WEEK | C1: POL | D1: ALGER SEC | E1: ORAN | F1: GHAZAOUET | G1: BEJAIA | H1: DJEN DJEN | I1: SKIKDA | J1: ANNABA | K1: ALGER C | L1: ORAN Sec | M1: Mosta | N1: TOTAL | P1: Delta | R1: T/S BCN-ORAN | S1: TOTAL TRADE + T/S
A2: 2012 | B2: 1 | C2: BARCELONE | D2: NC | E2: NC | F2: NC | G2: NC | H2: NC | I2: NC | J2: NC | K2: NC | L2: NC | M2: NC | N2: - | P2: -
A3: 2012 | B3: 2 | C3: BARCELONE | D3: NC | E3: NC | F3: NC | G3: NC | H3: NC | I3: NC | J3: NC | K3: NC | L3: NC | M3: NC | N3: - | P3: -
A4: 2012 | B4: 3 | C4: BARCELONE | D4: NC | E4: NC | F4: NC | G4: NC | H4: NC | I4: NC | J4: NC | K4: NC | L4: NC | M4: NC | N4: - | P4: -
A5: 2012 | B5: 4 | C5: BARCELONE | D5: NC | E5: NC | F5: NC | G5: NC | H5: NC | I5: NC | J5: NC | K5: NC | L5: NC | M5: NC | N5: - | P5: -
A6: 2012 | B6: 5 | C6: BARCELONE | D6: 24 | E6: 13 | F6: 82 | G6: 40 | H6: 0 | I6: 9 | J6: 39 | K6: 25 | L6: 0 | M6: 0 | N6: =SUM(D6:M6) -> 232 | P6: -
A7: 2012 | B7: 6 | C7: BARCELONE | D7: 20 | E7: 16 | F7: 62 | G7: 12 | H7: 0 | I7: 4 | J7: 6 | K7: 29 | L7: 0 | M7: 0 | N7: =SUM(D7:M7) -> 149 | P7: -
A8: 2012 | B8: 7 | C8: BARCELONE | D8: 45 | E8: 13 | F8: 49 | G8: 5 | H8: 0 | I8: 86 | J8: 16 | K8: 14 | L8: 0 | M8: 0 | N8: =SUM(D8:M8) -> 228 | P8: -
A9: 2012 | B9: 8 | C9: BARCELONE | D9: 8 | E9: 5 | F9: 54 | G9: 15 | H9: 0 | I9: 4 | J9: 9 | K9: 24 | L9: 0 | M9: 0 | N9: =SUM(D9:M9) -> 119 | P9: -
A10: 2012 | B10: 9 | C10: BARCELONE | D10: 42 | E10: 27 | F10: 89 | G10: 11 | H10: 0 | I10: 86 | J10: 39 | K10: 3 | L10: 0 | M10: 0 | N10: =SUM(D10:M10) -> 297 | P10: -
A11: 2012 | B11: 10 | C11: BARCELONE | D11: 47 | E11: 23 | F11: 44 | G11: 13 | H11: 0 | I11: 0 | J11: 4 | K11: 7 | L11: 0 | M11: 0 | N11: =SUM(D11:M11) -> 138 | P11: -
A12: 2012 | B12: 11 | C12: BARCELONE | D12: 29 | E12: 14 | F12: 43 | G12: 54 | H12: 0 | I12: 0 | J12: 13 | K12: 9 | L12: 0 | M12: 0 | N12: =SUM(D12:M12) -> 162 | P12: -
A13: 2012 | B13: 12 | C13: BARCELONE | D13: 42 | E13: 0 | F13: 10 | G13: 10 | H13: 0 | I13: 1 | J13: 33 | K13: 4 | L13: 0 | M13: 0 | N13: =SUM(D13:M13) -> 100 | P13: -
A14: 2012 | B14: 13 | C14: BARCELONE | D14: 21 | E14: 24 | F14: 37 | G14: 5 | H14: 0 | I14: 1 | J14: 20 | K14: 6 | L14: 0 | M14: 0 | N14: =SUM(D14:M14) -> 114 | P14: -
A15: 2012 | B15: 14 | C15: BARCELONE | D15: 32 | E15: 6 | F15: 34 | G15: 0 | H15: 0 | I15: 1 | J15: 5 | K15: 60 | L15: 0 | M15: 0 | N15: =SUM(D15:M15) -> 138 | P15: -
A16: 2012 | B16: 15 | C16: BARCELONE | D16: 20 | E16: 23 | F16: 26 | G16: 4 | H16: 0 | I16: 2 | J16: 4 | K16: 25 | L16: 0 | M16: 0 | N16: =SUM(D16:M16) -> 104 | P16: -
A17: 2012 | B17: 16 | C17: BARCELONE | D17: 111 | E17: 1 | F17: 43 | G17: 9 | H17: 0 | I17: 7 | J17: 4 | K17: 0 | L17: 0 | M17: 0 | N17: =SUM(D17:M17) -> 175 | P17: -
... A53: 2012 | B53: 52 | C53: BARCELONE | D53: 10 | E53: 7 | F53: 36 | G53: 3 | H53: 0 | I53: 0 | J53: 2 | K53: 0 | L53: 0 | M53: 0 | N53: =SUM(D53:M53) -> 58 | P53: -
A54: YEAR | B54: WEEK | C54: POL | D54: ALGER | E54: ORAN | F54: GHAZAOUET | G54: BEJAIA | H54: DJEN DJEN | I54: SKIKDA | J54: ANNABA | K54: ALGER C | L54: ORAN Sec | M54: Mosta | N54: TOTAL | P54: Delta
A55: 2013 | B55: 1 | C55: BARCELONE | D55: 20 | E55: 8 | F55: 2 | G55: 8 | H55: 0 | I55: 4 | J55: 15 | K55: 16 | L55: 0 | M55: 0 | N55: =SUM(D55:M55) -> 73 | P55: -
A56: 2013 | B56: 2 | C56: BARCELONE | D56: 18 | E56: 34 | F56: 5 | G56: 0 | H56: 0 | I56: 2 | J56: 5 | K56: 2 | L56: 0 | M56: 0 | N56: =SUM(D56:M56) -> 66 | P56: -
A57: 2013 | B57: 3 | C57: BARCELONE | D57: 19 | E57: 32 | F57: 15 | G57: 2 | H57: 0 | I57: 7 | J57: 11 | K57: 2 | L57: 0 | M57: 0 | N57: =SUM(D57:M57) -> 88 | P57: -
A58: 2013 | B58: 4 | C58: BARCELONE | D58: 14 | E58: 14 | F58: 2 | G58: 2 | H58: 0 | I58: 9 | J58: 2 | K58: 7 | L58: 0 | M58: 0 | N58: =SUM(D58:M58) -> 50 | P58: -
A59: 2013 | B59: 5 | C59: BARCELONE | D59: 27 | E59: 4 | F59: 4 | G59: 4 | H59: 0 | I59: 0 | J59: 9 | K59: 0 | L59: 0 | M59: 0 | N59: =SUM(D59:M59) -> 48 | P59: =(N59-N6)/N6 -> -0.79310345
A60: 2013 | B60: 6 | C60: BARCELONE | D60: 23 | E60: 4 | F60: 6 | G60: 6 | H60: 0 | I60: 0 | J60: 5 | K60: 0 | L60: 0 | M60: 0 | N60: =SUM(D60:M60) -> 44 | P60: =(N60-N7)/N7 -> -0.70469799
A61: 2013 | B61: 7 | C61: BARCELONE | D61: 33 | E61: 19 | F61: 4 | G61: 19 | H61: 0 | I61: 28 | J61: 10 | K61: 0 | L61: 0 | M61: 0 | N61: =SUM(D61:M61) -> 113 | P61: =(N61-N8)/N8 -> -0.50438596
A62: 2013 | B62: 8 | C62: BARCELONE | D62: 22 | E62: 24 | F62: 3 | G62: 54 | H62: 0 | I62: 0 | J62: 59 | K62: 2 | L62: 0 | M62: 0 | N62: =SUM(D62:M62) -> 164 | P62: =(N62-N9)/N9 -> 0.37815126
A63: 2013 | B63: 9 | C63: BARCELONE | D63: 48 | E63: 18 | F63: 4 | G63: 4 | H63: 0 | I63: 0 | J63: 59 | K63: 17 | L63: 0 | M63: 0 | N63: =SUM(D63:M63) -> 150 | P63: =(N63-N10)/N10 -> -0.49494949
A64: 2013 | B64: 10 | C64: BARCELONE | D64: 47 | E64: 23 | F64: 0 | G64: 40 | H64: 0 | I64: 27 | J64: 18 | K64: 0 | L64: 0 | M64: 0 | N64: =SUM(D64:M64) -> 155 | P64: =(N64-N11)/N11 -> 0.12318841
A65: 2013 | B65: 11 | C65: BARCELONE | D65: 41 | E65: 25 | F65: 2 | G65: 64 | H65: 0 | I65: 0 | J65: 8 | K65: 16 | L65: 0 | M65: 0 | N65: =SUM(D65:M65) -> 156 | P65: =(N65-N12)/N12 -> -0.037037037
A66: 2013 | B66: 12 | C66: BARCELONE | D66: 35 | E66: 12 | F66: 10 | G66: 5 | H66: 0 | I66: 0 | J66: 16 | K66: 0 | L66: 0 | M66: 0 | N66: =SUM(D66:M66) -> 78 | P66: =(N66-N13)/N13 -> -0.22
A67: 2013 | B67: 13 | C67: BARCELONE | D67: 40 | E67: 51 | F67: 19 | G67: 9 | H67: 0 | I67: 0 | J67: 1 | K67: 0 | L67: 0 | M67: 0 | N67: =SUM(D67:M67) -> 120 | P67: =(N67-N14)/N14 -> 0.052631579
A68: 2013 | B68: 14 | C68: BARCELONE | D68: 26 | E68: 4 | F68: 1 | G68: 2 | H68: 0 | I68: 0 | J68: 24 | K68: 0 | L68: 0 | M68: 0 | N68: =SUM(D68:M68) -> 57 | P68: =(N68-N15)/N15 -> -0.58695652
A69: 2013 | B69: 15 | C69: BARCELONE | D69: 29 | E69: 10 | F69: 13 | G69: 13 | H69: 0 | I69: 19 | J69: 0 | K69: 0 | L69: 0 | M69: 0 | N69: =SUM(D69:M69) -> 84 | P69: =(N69-N16)/N16 -> -0.19230769
A70: 2013 | B70: 16 | C70: BARCELONE | D70: 44 | E70: 8 | F70: 5 | G70: 5 | H70: 0 | I70: 8 | J70: 10 | K70: 0 | L70: 0 | M70: 0 | N70: =SUM(D70:M70) -> 80 | P70: =(N70-N17)/N17 -> -0.54285714
... A106: 2013 | B106: 52 | C106: BARCELONE | D106: 33 | E106: 13 | F106: 16 | G106: 3 | H106: 0 | I106: 2 | J106: 1 | K106: 3 | L106: 0 | M106: 0 | N106: =SUM(D106:M106) -> 71 | P106: =(N106-N53)/N53 -> 0.22413793
A107: YEAR | B107: WEEK | C107: POL | D107: ALGER | E107: ORAN | F107: GHAZAOUET | G107: BEJAIA | H107: DJEN DJEN | I107: SKIKDA | J107: ANNABA | K107: ALGER C | L107: ORAN Sec | M107: Mosta | N107: TOTAL | P107: Delta | R107: T/S BCN-ORAN | S107: TOTAL TRADE + T/S
A108: 2014 | B108: 1 | C108: BARCELONE | D108: 8 | E108: 2 | F108: 0 | G108: 0 | H108: 0 | I108: 2 | J108: 0 | K108: 12 | L108: 0 | M108: 0 | N108: =SUM(D108:M108) -> 24 | P108: =(N108-N55)/N55 -> -0.67123288 | R108: 0 | S108: =N108+R108 -> 24
A109: 2014 | B109: 2 | C109: BARCELONE | D109: 7 | E109: 4 | F109: 0 | G109: 20 | H109: 0 | I109: 0 | J109: 3 | K109: 0 | L109: 0 | M109: 0 | N109: =SUM(D109:M109) -> 34 | P109: =(N109-N56)/N56 -> -0.48484848 | R109: 0 | S109: =N109+R109 -> 34
A110: 2014 | B110: 3 | C110: BARCELONE | D110: 18 | E110: 6 | F110: 18 | G110: 2 | H110: 0 | I110: 2 | J110: 0 | K110: 0 | L110: 0 | M110: 0 | N110: =SUM(D110:M110) -> 46 | P110: =(N110-N57)/N57 -> -0.47727273 | R110: 0 | S110: =N110+R110 -> 46
A111: 2014 | B111: 4 | C111: BARCELONE | D111: 26 | E111: 15 | F111: 9 | G111: 0 | H111: 0 | I111: 0 | J111: 0 | K111: 0 | L111: 0 | M111: 0 | N111: =SUM(D111:M111) -> 50 | P111: =(N111-N58)/N58 -> 0 | R111: 0 | S111: =N111+R111 -> 50
A112: 2014 | B112: 5 | C112: BARCELONE | D112: 22 | E112: 4 | F112: 17 | G112: 17 | H112: 0 | I112: 7 | J112: 28 | K112: 6 | L112: 0 | M112: 0 | N112: =SUM(D112:M112) -> 101 | P112: =(N112-N59)/N59 -> 1.1041667 | R112: 0 | S112: =N112+R112 -> 101
A113: 2014 | B113: 6 | C113: BARCELONE | D113: 33 | E113: 0 | F113: 16 | G113: 1 | H113: 0 | I113: 5 | J113: 10 | K113: 21 | L113: 0 | M113: 0 | N113: =SUM(D113:M113) -> 86 | P113: =(N113-N60)/N60 -> 0.95454545 | R113: 0 | S113: =N113+R113 -> 86
A114: 2014 | B114: 7 | C114: BARCELONE | D114: 36 | E114: 4 | F114: 14 | G114: 17 | H114: 0 | I114: 0 | J114: 17 | K114: 10 | L114: 0 | M114: 0 | N114: =SUM(D114:M114) -> 98 | P114: =(N114-N61)/N61 -> -0.13274336 | R114: 0 | S114: =N114+R114 -> 98
A115: 2014 | B115: 8 | C115: BARCELONE | D115: 25 | E115: 8 | F115: 8 | G115: 0 | H115: 0 | I115: 42 | J115: 5 | K115: 76 | L115: 0 | M115: 0 | N115: =SUM(D115:M115) -> 164 | P115: =(N115-N62)/N62 -> 0 | R115: 0 | S115: =N115+R115 -> 164
A116: 2014 | B116: 9 | C116: BARCELONE | D116: 22 | E116: 50 | F116: 0 | G116: 6 | H116: 0 | I116: 0 | J116: 19 | K116: 9 | L116: 0 | M116: 0 | N116: =SUM(D116:M116) -> 106 | P116: =(N116-N63)/N63 -> -0.29333333 | R116: 0 | S116: =N116+R116 -> 106
A117: 2014 | B117: 10 | C117: BARCELONE | D117: 25 | E117: 10 | F117: 2 | G117: 2 | H117: 0 | I117: 3 | J117: 0 | K117: 7 | L117: 0 | M117: 0 | N117: =SUM(D117:M117) -> 49 | P117: =(N117-N64)/N64 -> -0.68387097 | R117: 0 | S117: =N117+R117 -> 49
A118: 2014 | B118: 11 | C118: BARCELONE | D118: 20 | E118: 39 | F118: 4 | G118: 3 | H118: 0 | I118: 17 | J118: 5 | K118: 17 | L118: 0 | M118: 0 | N118: =SUM(D118:M118) -> 105 | P118: =(N118-N65)/N65 -> -0.32692308 | R118: 78 | S118: =N118+R118 -> 183
A119: 2014 | B119: 12 | C119: BARCELONE | D119: 41 | E119: 7 | F119: 27 | G119: 0 | H119: 0 | I119: 0 | J119: 2 | K119: 51 | L119: 0 | M119: 0 | N119: =SUM(D119:M119) -> 128 | P119: =(N119-N66)/N66 -> 0.64102564 | R119: 0 | S119: =N119+R119 -> 128
... A159: 2014 | B159: 52 | C159: BARCELONE | D159: 45 | E159: 61 | F159: 14 | G159: 3 | H159: 0 | I159: 7 | J159: 19 | K159: 11 | L159: 0 | M159: 2 | N159: =SUM(D159:M159) -> 162 | P159: =(N159-N106)/N106 -> 1.2816901 | R159: 110 | S159: =N159+R159 -> 272
A160: YEAR | B160: WEEK | C160: POL | D160: ALGER | E160: ORAN | F160: GHAZAOUET | G160: BEJAIA | H160: DJEN DJEN | I160: SKIKDA | J160: ANNABA | K160: ALGER C | L160: ORAN Sec | M160: Mosta | N160: TOTAL | P160: Delta | R160: T/S BCN-ORAN | S160: TOTAL TRADE + T/S
A161: 2015 | B161: 1 | C161: BARCELONE | D161: 28 | E161: =125-114 -> 11 | F161: 4 | G161: 0 | H161: 318 | I161: 7 | J161: 4 | K161: 26 | L161: 0 | M161: 0 | N161: =SUM(D161:M161) -> 398 | P161: =(N161-N108)/N108 -> 15.583333 | R161: 114 | S161: =N161+R161 -> 512
A162: 2015 | B162: 2 | C162: BARCELONE | D162: 52 | E162: 45 | F162: 14 | G162: 2 | H162: 128 | I162: 14 | J162: 2 | K162: 12 | L162: 0 | M162: 0 | N162: =SUM(D162:M162) -> 269 | P162: =(N162-N109)/N109 -> 6.9117647 | R162: 1 | S162: =N162+R162 -> 270
A163: 2015 | B163: 3 | C163: BARCELONE | D163: 52 | E163: =232-217 -> 15 | F163: 6 | G163: 13 | H163: 230 | I163: 11 | J163: 45 | K163: 5 | L163: 0 | M163: 5 | N163: =SUM(D163:M163) -> 382 | P163: =(N163-N110)/N110 -> 7.3043478 | R163: 217 | S163: =N163+R163 -> 599
A164: 2015 | B164: 4 | C164: BARCELONE | D164: 48 | E164: =215-178 -> 37 | F164: 0 | G164: 26 | H164: 0 | I164: 13 | J164: 2 | K164: 22 | L164: 0 | M164: 1 | N164: =SUM(D164:M164) -> 149 | P164: =(N164-N111)/N111 -> 1.98 | R164: 178 | S164: =N164+R164 -> 327
A165: 2015 | B165: 5 | C165: BARCELONE | D165: 118 | E165: =240-223 -> 17 | F165: 0 | G165: 10 | H165: 256 | I165: 45 | J165: 16 | K165: 0 | L165: 0 | M165: 0 | N165: =SUM(D165:M165) -> 462 | P165: =(N165-N112)/N112 -> 3.5742574 | R165: 223 | S165: =N165+R165 -> 685
A166: 2015 | B166: 6 | C166: BARCELONE | D166: 137 | E166: 39 | F166: 11 | G166: 28 | H166: 0 | I166: 8 | J166: 17 | K166: 5 | L166: 0 | M166: 0 | N166: =SUM(D166:M166) -> 245 | P166: =(N166-N113)/N113 -> 1.8488372 | R166: 124 | S166: =N166+R166 -> 369
A167: 2015 | B167: 7 | C167: BARCELONE | D167: 87 | E167: 39 | F167: 12 | G167: 4 | H167: 162 | I167: 10 | J167: 6 | K167: 10 | L167: 0 | M167: 16 | N167: =SUM(D167:M167) -> 346 | P167: =(N167-N114)/N114 -> 2.5306122 | R167: 147 | S167: =N167+R167 -> 493
A168: 2015 | B168: 8 | C168: BARCELONE | D168: 113 | E168: 59 | F168: 10 | G168: 30 | H168: 212 | I168: 8 | J168: 7 | K168: 21 | L168: 0 | M168: 0 | N168: =SUM(D168:M168) -> 460 | P168: =(N168-N115)/N115 -> 1.804878 | R168: 158 | S168: =N168+R168 -> 618
A169: 2015 | B169: 9 | C169: BARCELONE | D169: 66 | E169: 12 | F169: 2 | G169: 4 | H169: 0 | I169: 13 | J169: 81 | K169: 9 | L169: 0 | M169: 0 | N169: =SUM(D169:M169) -> 187 | P169: =(N169-N116)/N116 -> 0.76415094 | R169: 251 | S169: =N169+R169 -> 438
A170: 2015 | B170: 10 | C170: BARCELONE | D170: 167 | E170: 60 | F170: 20 | G170: 41 | H170: 235 | I170: 7 | J170: 2 | K170: 14 | L170: 0 | M170: 8 | N170: =SUM(D170:M170) -> 554 | P170: =(N170-N117)/N117 -> 10.306122 | R170: 157 | S170: =N170+R170 -> 711
A171: 2015 | B171: 11 | C171: BARCELONE | D171: 77 | E171: =245-209 -> 36 | F171: 20 | G171: 23 | H171: 0 | I171: 17 | J171: 10 | K171: 24 | L171: 0 | M171: 0 | N171: =SUM(D171:M171) -> 207 | P171: =(N171-N118)/N118 -> 0.97142857 | R171: 209 | S171: =N171+R171 -> 416
A172: 2015 | B172: 12 | C172: BARCELONE | D172: 153 | E172: =331-223 -> 108 | F172: 8 | G172: 25 | H172: 143 | I172: 2 | J172: 43 | K172: 10 | L172: 0 | M172: 11 | N172: =SUM(D172:M172) -> 503 | P172: =(N172-N119)/N119 -> 2.9296875 | R172: 223 | S172: =N172+R172 -> 726
A173: 2015 | B173: 13 | C173: BARCELONE | D173: 143 | E173: =139-111 -> 28 | F173: 21 | G173: 22 | H173: 226 | I173: 17 | J173: 4 | K173: 13 | L173: 0 | M173: 3 | N173: =SUM(D173:M173) -> 477 | P173: =(N173-N120)/N120 -> 3.631068 | R173: 111 | S173: =N173+R173 -> 588
A174: 2015 | B174: 14 | C174: BARCELONE | D174: 39 | E174: 0 | F174: 19 | G174: 0 | H174: 236 | I174: 18 | J174: 5 | K174: 0 | L174: 0 | M174: 0 | N174: =SUM(D174:M174) -> 317 | P174: =(N174-N121)/N121 -> 4.031746 | R174: 0 | S174: =N174+R174 -> 317
A175: 2015 | B175: 15 | C175: BARCELONE | D175: 56 | E175: =217-202 -> 15 | F175: 3 | G175: 40 | H175: 136 | I175: 2 | J175: 0 | K175: 17 | L175: 0 | M175: 0 | N175: =SUM(D175:M175) -> 269 | P175: =(N175-N122)/N122 -> 1.8020833 | R175: 202 | S175: =N175+R175 -> 471
A176: 2015 | B176: 16 | C176: BARCELONE | D176: 86 | E176: =147-140 -> 7 | F176: 5 | G176: 5 | H176: 128 | I176: 4 | J176: 16 | K176: 2 | L176: 0 | M176: 0 | N176: =SUM(D176:M176) -> 253 | P176: =(N176-N123)/N123 -> 0.02016129 | R176: 140 | S176: =N176+R176 -> 393
A177: 2015 | B177: 17 | C177: BARCELONE | D177: 103 | E177: =219-210 -> 9 | F177: 9 | G177: 336 | H177: 0 | I177: 47 | J177: 5 | K177: 11 | L177: 0 | M177: 0 | N177: =SUM(D177:M177) -> 520 | P177: =(N177-N124)/N124 -> 6.5362319 | R177: 210 | S177: =N177+R177 -> 730
A178: 2015 | B178: 18 | C178: BARCELONE | D178: 152 | E178: =217-182 -> 35 | F178: 12 | G178: 12 | H178: 0 | I178: 22 | J178: 27 | K178: 7 | L178: 0 | M178: 0 | N178: =SUM(D178:M178) -> 267 | P178: =(N178-N125)/N125 -> -0.32575758 | R178: 182 | S178: =N178+R178 -> 449
A179: 2015 | B179: 19 | C179: BARCELONE | D179: 61 | E179: =169-139 -> 30 | F179: 42 | G179: 18 | H179: 260 | I179: 10 | J179: 7 | K179: 44 | L179: 0 | M179: 0 | N179: =SUM(D179:M179) -> 472 | P179: =(N179-N126)/N126 -> 0.69784173 | R179: 139 | S179: =N179+R179 -> 611
A180: 2015 | B180: 20 | C180: BARCELONE | D180: 58 | E180: =134-118 -> 16 | F180: 6 | G180: 17 | H180: 4 | I180: 10 | J180: 25 | K180: 19 | L180: 0 | M180: 0 | N180: =SUM(D180:M180) -> 155 | P180: =(N180-N127)/N127 -> 0.76136364 | R180: 118 | S180: =N180+R180 -> 273
A181: 2015 | B181: 21 | C181: BARCELONE | D181: 43 | E181: =201-96 -> 105 | F181: 16 | G181: 12 | H181: 233 | I181: 24 | J181: 0 | K181: 0 | L181: 6 | M181: 2 | N181: =SUM(D181:M181) -> 441 | P181: =(N181-N128)/N128 -> 0.81481481 | R181: 96 | S181: =N181+R181 -> 537
A182: 2015 | B182: 22 | C182: BARCELONE | D182: 75 | E182: =333-290 -> 43 | F182: 3 | G182: 21 | H182: 0 | I182: 84 | J182: 10 | K182: 22 | L182: 0 | M182: 0 | N182: =SUM(D182:M182) -> 258 | P182: =(N182-N129)/N129 -> 4.2653061 | R182: 290 | S182: =N182+R182 -> 548
A183: 2015 | B183: 23 | C183: BARCELONE | D183: 45 | E183: 46 | F183: 0 | G183: 8 | H183: 238 | I183: 3 | J183: 12 | K183: 25 | L183: 0 | M183: 0 | N183: =SUM(D183:M183) -> 377 | P183: =(N183-N130)/N130 -> -0.020779221 | R183: 0 | S183: =N183+R183 -> 377
A184: 2015 | B184: 24 | C184: BARCELONE | D184: 119 | E184: =211-189 -> 22 | F184: 0 | G184: 21 | H184: 90 | I184: 6 | J184: 13 | K184: 9 | L184: 0 | M184: 0 | N184: =SUM(D184:M184) -> 280 | P184: =(N184-N131)/N131 -> 2.1460674 | R184: 189 | S184: =N184+R184 -> 469
A185: 2015 | B185: 25 | C185: BARCELONE | D185: 108 | E185: =144-133 -> 11 | F185: 8 | G185: 19 | H185: 288 | I185: 8 | J185: 13 | K185: 10 | L185: 0 | M185: 0 | N185: =SUM(D185:M185) -> 465 | P185: =(N185-N132)/N132 -> 0.76136364 | R185: 133 | S185: =N185+R185 -> 598
A186: 2015 | B186: 26 | C186: BARCELONE | D186: 40 | E186: =174-172 -> 2 | F186: 3 | G186: 9 | H186: 0 | I186: 36 | J186: 15 | K186: 19 | L186: 0 | M186: 0 | N186: =SUM(D186:M186) -> 124 | P186: =(N186-N133)/N133 -> 1 | R186: 172 | S186: =N186+R186 -> 296
A187: 2015 | B187: 27 | C187: BARCELONE | D187: 85 | E187: =114-111 -> 3 | F187: 11 | G187: 28 | H187: 279 | I187: 23 | J187: 1 | K187: 20 | L187: 9 | M187: 10 | N187: =SUM(D187:M187) -> 469 | P187: =(N187-N134)/N134 -> 0.70545455 | R187: 111 | S187: =N187+R187 -> 580
A188: 2015 | B188: 28 | C188: BARCELONE | D188: 39 | E188: =295-274 -> 21 | F188: 4 | G188: 86 | H188: 0 | I188: 15 | J188: 7 | K188: 30 | L188: 15 | M188: 44 | N188: =SUM(D188:M188) -> 261 | P188: =(N188-N135)/N135 -> 2.3461538 | R188: 274 | S188: =N188+R188 -> 535
A189: 2015 | B189: 29 | C189: BARCELONE | D189: 58 | E189: =128-105 -> 23 | F189: 1 | G189: 328 | H189: 0 | I189: 14 | J189: 24 | K189: 2 | L189: 2 | M189: 44 | N189: =SUM(D189:M189) -> 496 | P189: =(N189-N136)/N136 -> 5.278481 | R189: 105 | S189: =N189+R189 -> 601
A190: 2015 | B190: 30 | C190: BARCELONE | D190: 81 | E190: =236-214 -> 22 | F190: 4 | G190: 62 | H190: 1 | I190: 26 | J190: 19 | K190: 7 | L190: 0 | M190: 24 | N190: =SUM(D190:M190) -> 246 | P190: =(N190-N137)/N137 -> 0 | R190: 214 | S190: =N190+R190 -> 460
A191: 2015 | B191: 31 | C191: BARCELONE | D191: 90 | E191: =229-209 -> 20 | F191: 27 | G191: 315 | H191: 0 | I191: 11 | J191: 4 | K191: 15 | L191: 21 | M191: 0 | N191: =SUM(D191:M191) -> 503 | P191: =(N191-N138)/N138 -> 0.43714286 | R191: 209 | S191: =N191+R191 -> 712
A192: 2015 | B192: 32 | C192: BARCELONE | D192: 97 | E192: =220-195 -> 25 | F192: 12 | G192: 39 | H192: 0 | I192: 13 | J192: 31 | K192: 10 | L192: 0 | M192: 7 | N192: =SUM(D192:M192) -> 234 | P192: =(N192-N139)/N139 -> 2.6 | R192: 195 | S192: =N192+R192 -> 429
A193: 2015 | B193: 33 | C193: BARCELONE | D193: 39 | E193: =45-8 -> 37 | F193: 12 | G193: 217 | H193: 0 | I193: 3 | J193: 0 | K193: 8 | L193: 10 | M193: 9 | N193: =SUM(D193:M193) -> 335 | P193: =(N193-N140)/N140 -> 2.7222222 | R193: 8 | S193: =N193+R193 -> 343
A194: 2015 | B194: 34 | C194: BARCELONE | D194: 95 | E194: =240-236 -> 4 | F194: 5 | G194: 220 | H194: 41 | I194: 18 | J194: 0 | K194: 13 | L194: 0 | M194: 0 | N194: =SUM(D194:M194) -> 396 | P194: =(N194-N141)/N141 -> 2.09375 | R194: =236+283 -> 519 | S194: =N194+R194 -> 915
A195: 2015 | B195: 35 | C195: BARCELONE | D195: 41 | E195: =171-162 -> 9 | F195: 2 | G195: 11 | H195: 0 | I195: 13 | J195: 0 | K195: 2 | L195: 0 | M195: 4 | N195: =SUM(D195:M195) -> 82 | P195: =(N195-N142)/N142 -> -0.73801917 | R195: 162 | S195: =N195+R195 -> 244
A196: 2015 | B196: 36 | C196: BARCELONE | D196: 33 | E196: 27 | F196: 4 | G196: 265 | H196: 0 | I196: 3 | J196: 0 | K196: 6 | L196: 0 | M196: 0 | N196: =SUM(D196:M196) -> 338 | P196: =(N196-N143)/N143 -> 1.6 | R196: 0 | S196: =N196+R196 -> 338
A197: 2015 | B197: 37 | C197: BARCELONE | D197: 67 | E197: 1 | F197: 2 | G197: 26 | H197: 0 | I197: 0 | J197: 24 | K197: 5 | L197: 2 | M197: 0 | N197: =SUM(D197:M197) -> 127 | P197: =(N197-N144)/N144 -> -0.23030303 | R197: 378 | S197: =N197+R197 -> 505
A198: 2015 | B198: 38 | C198: BARCELONE | D198: 85 | E198: 0 | F198: 23 | G198: 289 | H198: 21 | I198: 14 | J198: 20 | K198: 0 | L198: 0 | M198: 0 | N198: =SUM(D198:M198) -> 452 | P198: =(N198-N145)/N145 -> 3.8085106 | Q198: 91 | R198: 91 | S198: =N198+R198 -> 543
A199: 2015 | B199: 39 | C199: BARCELONE | D199: =136-99 -> 37 | E199: 13 | F199: 12 | G199: 260 | H199: 0 | I199: 5 | J199: 3 | K199: 17 | L199: 15 | M199: 0 | N199: =SUM(D199:M199) -> 362 | P199: =(N199-N146)/N146 -> 0.14920635 | R199: =70+99 -> 169 | S199: =N199+R199 -> 531
A200: 2015 | B200: 40 | C200: BARCELONE | D200: 40 | E200: =245-218 -> 27 | F200: 16 | G200: =172-16 -> 156 | H200: 0 | I200: 5 | J200: 11 | K200: 11 | L200: 0 | M200: 0 | N200: =SUM(D200:M200) -> 266 | P200: =(N200-N147)/N147 -> 2.8550725 | R200: =218+30+16 -> 264 | S200: =N200+R200 -> 530
A201: 2015 | B201: 41 | C201: BARCELONE | D201: =150-94 -> 56 | E201: =125-97 -> 28 | F201: 8 | G201: 10 | H201: 0 | I201: 1 | J201: 15 | K201: 1 | L201: 0 | M201: 0 | N201: =SUM(D201:M201) -> 119 | P201: =(N201-N148)/N148 -> -0.67837838 | R201: =97+94+14 -> 205 | S201: =N201+R201 -> 324
A202: 2015 | B202: 42 | C202: BARCELONE | D202: =69-42 -> 27 | E202: =149-112 -> 37 | F202: 3 | G202: 150 | H202: 7 | I202: 5 | J202: 24 | K202: 0 | L202: 19 | M202: 0 | N202: =SUM(D202:M202) -> 272 | P202: =(N202-N149)/N149 -> 0.43157895 | R202: =112+42 -> 154 | S202: =N202+R202 -> 426
A203: 2015 | B203: 43 | C203: BARCELONE | D203: =135-28 -> 107 | E203: =200-194 -> 6 | F203: 34 | G203: 196 | H203: 0 | I203: 2 | J203: 12 | K203: 5 | L203: 0 | M203: 0 | N203: =SUM(D203:M203) -> 362 | P203: =(N203-N150)/N150 -> 1.7424242 | R203: =194+28 -> 222 | S203: =N203+R203 -> 584
A204: 2015 | B204: 44 | C204: BARCELONE | D204: 103 | E204: =211-194 -> 17 | F204: 8 | G204: 240 | H204: 0 | I204: 6 | J204: 1 | K204: 0 | L204: 0 | M204: 1 | N204: =SUM(D204:M204) -> 376 | P204: =(N204-N151)/N151 -> 0.0080428954 | R204: 194 | S204: =N204+R204 -> 570
A205: 2015 | B205: 45 | C205: BARCELONE | D205: 50 | E205: 10 | F205: 2 | G205: 6 | H205: 0 | I205: 10 | J205: 15 | K205: 6 | L205: 0 | M205: 0 | N205: =SUM(D205:M205) -> 99 | P205: =(N205-N152)/N152 -> -0.6609589 | R205: =19+62+82+42 -> 205 | S205: =N205+R205 -> 304
A206: 2015 | B206: 46 | C206: BARCELONE | D206: 67 | E206: =83-6 -> 77 | F206: 13 | G206: =243-18 -> 225 | H206: 0 | I206: 1 | J206: 17 | K206: 13 | L206: 0 | M206: 0 | N206: =SUM(D206:M206) -> 413 | P206: =(N206-N153)/N153 -> 0.16011236 | R206: 24 | S206: =N206+R206 -> 437
A207: 2015 | B207: 47 | C207: BARCELONE | D207: 31 | E207: =288-263 -> 25 | F207: 12 | G207: 196 | H207: 0 | I207: 16 | J207: 17 | K207: 3 | L207: 0 | M207: 0 | N207: =SUM(D207:M207) -> 300 | P207: =(N207-N154)/N154 -> -0.25558313 | R207: 293 | S207: =N207+R207 -> 593
A208: 2015 | B208: 48 | C208: BARCELONE | D208: =183-132 -> 51 | E208: 10 | F208: 34 | G208: 28 | H208: 0 | I208: 9 | J208: 14 | K208: 28 | L208: 0 | M208: 0 | N208: =SUM(D208:M208) -> 174 | P208: =(N208-N155)/N155 -> -0.14705882 | R208: =132+125 -> 257 | S208: =N208+R208 -> 431
A209: 2015 | B209: 49 | C209: BARCELONE | D209: 104 | E209: =115-106 -> 9 | F209: 21 | G209: 275 | H209: 0 | I209: 14 | J209: 15 | K209: 20 | L209: 0 | M209: 0 | N209: =SUM(D209:M209) -> 458 | P209: =(N209-N156)/N156 -> 0.04805492 | R209: 106 | S209: =N209+R209 -> 564
...

Sheet VALENCE
A1: YEAR | B1: WEEK | C1: POL | D1: ALGER SEC | E1: ORAN | F1: GHAZAOUET | G1: BEJAIA | H1: DJEN DJEN | I1: SKIKDA | J1: ANNABA | K1: ALGER C | L1: ORAN Sec | M1: Mosta | N1: TOTAL | P1: Delta | R1: Mex - VLC T/S | S1: TOTAL TRADE + T/S
A2: 2012 | B2: 1 | C2: VALENCE | D2: 0 | E2: 0 | F2: 0 | G2: 0 | H2: 0 | I2: 0 | J2: 0 | K2: 0 | L2: NC | M2: NC | N2: 0 | P2: -
A3: 2012 | B3: 2 | C3: VALENCE | D3: 0 | E3: 0 | F3: 0 | G3: 0 | H3: 0 | I3: 0 | J3: 0 | K3: 0 | L3: NC | M3: NC | N3: 0 | P3: -
A4: 2012 | B4: 3 | C4: VALENCE | D4: 0 | E4: 0 | F4: 0 | G4: 0 | H4: 0 | I4: 0 | J4: 0 | K4: 0 | L4: NC | M4: NC | N4: 0 | P4: -
A5: 2012 | B5: 4 | C5: VALENCE | D5: 0 | E5: 0 | F5: 0 | G5: 0 | H5: 0 | I5: 0 | J5: 0 | K5: 0 | L5: NC | M5: NC | N5: 0 | P5: -
A6: 2012 | B6: 5 | C6: VALENCE | D6: 0 | E6: 0 | F6: 0 | G6: 0 | H6: 0 | I6: 0 | J6: 0 | K6: 0 | L6: 0 | M6: 0 | N6: =SUM(D6:M6) -> 0 | P6: -
A7: 2012 | B7: 6 | C7: VALENCE | D7: 0 | E7: 0 | F7: 0 | G7: 0 | H7: 0 | I7: 0 | J7: 0 | K7: 0 | L7: 0 | M7: 0 | N7: =SUM(D7:M7) -> 0 | P7: -
A8: 2012 | B8: 7 | C8: VALENCE | D8: 0 | E8: 0 | F8: 0 | G8: 0 | H8: 0 | I8: 0 | J8: 0 | K8: 0 | L8: 0 | M8: 0 | N8: =SUM(D8:M8) -> 0 | P8: -
A9: 2012 | B9: 8 | C9: VALENCE | D9: 0 | E9: 0 | F9: 0 | G9: 0 | H9: 0 | I9: 0 | J9: 0 | K9: 0 | L9: 0 | M9: 0 | N9: =SUM(D9:M9) -> 0 | P9: -
A10: 2012 | B10: 9 | C10: VALENCE | D10: 0 | E10: 0 | F10: 0 | G10: 0 | H10: 0 | I10: 0 | J10: 0 | K10: 0 | L10: 0 | M10: 0 | N10: =SUM(D10:M10) -> 0 | P10: -
A11: 2012 | B11: 10 | C11: VALENCE | D11: 0 | E11: 0 | F11: 0 | G11: 0 | H11: 0 | I11: 0 | J11: 0 | K11: 0 | L11: 0 | M11: 0 | N11: =SUM(D11:M11) -> 0 | P11: -
A12: 2012 | B12: 11 | C12: VALENCE | D12: 0 | E12: 0 | F12: 0 | G12: 0 | H12: 0 | I12: 0 | J12: 0 | K12: 0 | L12: 0 | M12: 0 | N12: =SUM(D12:M12) -> 0 | P12: -
A13: 2012 | B13: 12 | C13: VALENCE | D13: 0 | E13: 0 | F13: 0 | G13: 0 | H13: 0 | I13: 0 | J13: 0 | K13: 0 | L13: 0 | M13: 0 | N13: =SUM(D13:M13) -> 0 | P13: -
A14: 2012 | B14: 13 | C14: VALENCE | D14: 0 | E14: 0 | F14: 0 | G14: 0 | H14: 0 | I14: 0 | J14: 0 | K14: 0 | L14: 0 | M14: 0 | N14: =SUM(D14:M14) -> 0 | P14: -
A15: 2012 | B15: 14 | C15: VALENCE | D15: 0 | E15: 0 | F15: 0 | G15: 0 | H15: 0 | I15: 0 | J15: 0 | K15: 0 | L15: 0 | M15: 0 | N15: =SUM(D15:M15) -> 0 | P15: -
A16: 2012 | B16: 15 | C16: VALENCE | D16: 0 | E16: 0 | F16: 0 | G16: 0 | H16: 0 | I16: 0 | J16: 0 | K16: 0 | L16: 0 | M16: 0 | N16: =SUM(D16:M16) -> 0 | P16: -
A17: 2012 | B17: 16 | C17: VALENCE | D17: 0 | E17: 0 | F17: 0 | G17: 0 | H17: 0 | I17: 0 | J17: 0 | K17: 0 | L17: 0 | M17: 0 | N17: =SUM(D17:M17) -> 0 | P17: -
... A53: 2012 | B53: 52 | C53: VALENCE | D53: 12 | E53: 0 | F53: 0 | G53: 27 | H53: 0 | I53: 0 | J53: 0 | K53: 0 | L53: 0 | M53: 0 | N53: =SUM(D53:M53) -> 39 | P53: -
A54: YEAR | B54: WEEK | C54: POL | D54: ALGER | E54: ORAN | F54: GHAZAOUET | G54: BEJAIA | H54: DJEN DJEN | I54: SKIKDA | J54: ANNABA | K54: ALGER C | L54: ORAN Sec | M54: Mosta | N54: TOTAL | P54: Delta | R54: Mex - VLC T/S | S54: TOTAL TRADE + T/S
A55: 2013 | B55: 1 | C55: VALENCE | D55: 51 | E55: 8 | F55: 1 | G55: 5 | H55: 0 | I55: 0 | J55: 0 | K55: 0 | L55: 0 | M55: 0 | N55: =SUM(D55:M55) -> 65 | P55: -
A56: 2013 | B56: 2 | C56: VALENCE | D56: 8 | E56: 0 | F56: 6 | G56: 7 | H56: 0 | I56: 2 | J56: 0 | K56: 0 | L56: 0 | M56: 0 | N56: =SUM(D56:M56) -> 23 | P56: -
A57: 2013 | B57: 3 | C57: VALENCE | D57: 17 | E57: 2 | F57: 5 | G57: 4 | H57: 0 | I57: 0 | J57: 0 | K57: 0 | L57: 0 | M57: 0 | N57: =SUM(D57:M57) -> 28 | P57: -
A58: 2013 | B58: 4 | C58: VALENCE | D58: 31 | E58: 40 | F58: 7 | G58: 12 | H58: 0 | I58: 0 | J58: 2 | K58: 0 | L58: 0 | M58: 0 | N58: =SUM(D58:M58) -> 92 | P58: -
A59: 2013 | B59: 5 | C59: VALENCE | D59: 46 | E59: 2 | F59: 3 | G59: 28 | H59: 0 | I59: 0 | J59: 12 | K59: 0 | L59: 0 | M59: 0 | N59: =SUM(D59:M59) -> 91 | P59: -
A60: 2013 | B60: 6 | C60: VALENCE | D60: 13 | E60: 13 | F60: 10 | G60: 1 | H60: 0 | I60: 0 | J60: 7 | K60: 0 | L60: 0 | M60: 0 | N60: =SUM(D60:M60) -> 44 | P60: -
A61: 2013 | B61: 7 | C61: VALENCE | D61: 16 | E61: 0 | F61: 4 | G61: 11 | H61: 0 | I61: 0 | J61: 9 | K61: 17 | L61: 0 | M61: 0 | N61: =SUM(D61:M61) -> 57 | P61: -
A62: 2013 | B62: 8 | C62: VALENCE | D62: 43 | E62: 2 | F62: 4 | G62: 3 | H62: 0 | I62: 0 | J62: 0 | K62: 0 | L62: 0 | M62: 0 | N62: =SUM(D62:M62) -> 52 | P62: -
A63: 2013 | B63: 9 | C63: VALENCE | D63: 36 | E63: 1 | F63: 16 | G63: 11 | H63: 0 | I63: 0 | J63: 12 | K63: 0 | L63: 0 | M63: 0 | N63: =SUM(D63:M63) -> 76 | P63: -
A64: 2013 | B64: 10 | C64: VALENCE | D64: 30 | E64: 4 | F64: 26 | G64: 6 | H64: 0 | I64: 0 | J64: 10 | K64: 23 | L64: 0 | M64: 0 | N64: =SUM(D64:M64) -> 99 | P64: -
A65: 2013 | B65: 11 | C65: VALENCE | D65: 26 | E65: 8 | F65: 13 | G65: 11 | H65: 0 | I65: 0 | J65: 0 | K65: 5 | L65: 0 | M65: 0 | N65: =SUM(D65:M65) -> 63 | P65: -
A66: 2013 | B66: 12 | C66: VALENCE | D66: 16 | E66: 2 | F66: 20 | G66: 2 | H66: 0 | I66: 13 | J66: 10 | K66: 0 | L66: 0 | M66: 0 | N66: =SUM(D66:M66) -> 63 | P66: -
... A99: 2013 | B99: 45 | C99: VALENCE | D99: 34 | E99: 8 | F99: 14 | G99: 4 | H99: 0 | I99: 0 | J99: 0 | K99: 71 | L99: 0 | M99: 0 | N99: =SUM(D99:M99) -> 131 | P99: -
A100: 2013 | B100: 46 | C100: VALENCE | D100: 20 | E100: 8 | F100: 38 | G100: 16 | H100: 0 | I100: 20 | J100: 0 | K100: 2 | L100: 0 | M100: 0 | N100: =SUM(D100:M100) -> 104 | P100: =(N100-N47)/N47 -> 7
A101: 2013 | B101: 47 | C101: VALENCE | D101: 31 | E101: 6 | F101: 4 | G101: 11 | H101: 0 | I101: 0 | J101: 1 | K101: 0 | L101: 0 | M101: 0 | N101: =SUM(D101:M101) -> 53 | P101: =(N101-N48)/N48 -> 0.06
A102: 2013 | B102: 48 | C102: VALENCE | D102: 54 | E102: 6 | F102: 34 | G102: 0 | H102: 0 | I102: 7 | J102: 3 | K102: 1 | L102: 0 | M102: 0 | N102: =SUM(D102:M102) -> 105 | P102: =(N102-N49)/N49 -> 1.3333333
A103: 2013 | B103: 49 | C103: VALENCE | D103: 33 | E103: 4 | F103: 8 | G103: 38 | H103: 0 | I103: 4 | J103: 30 | K103: 6 | L103: 0 | M103: 0 | N103: =SUM(D103:M103) -> 123 | P103: =(N103-N50)/N50 -> 1.05
A104: 2013 | B104: 50 | C104: VALENCE | D104: 42 | E104: 10 | F104: 12 | G104: 0 | H104: 0 | I104: 0 | J104: 14 | K104: 2 | L104: 0 | M104: 0 | N104: =SUM(D104:M104) -> 80 | P104: =(N104-N51)/N51 -> 1.5
A105: 2013 | B105: 51 | C105: VALENCE | D105: 55 | E105: 6 | F105: 23 | G105: 0 | H105: 0 | I105: 0 | J105: 33 | K105: 3 | L105: 0 | M105: 0 | N105: =SUM(D105:M105) -> 120 | P105: =(N105-N52)/N52 -> 1.7272727
A106: 2013 | B106: 52 | C106: VALENCE | D106: 80 | E106: 23 | F106: 15 | G106: 12 | H106: 0 | I106: 0 | J106: 0 | K106: 13 | L106: 0 | M106: 0 | N106: =SUM(D106:M106) -> 143 | P106: =(N106-N53)/N53 -> 2.6666667
A107: YEAR | B107: WEEK | C107: POL | D107: ALGER | E107: ORAN | F107: GHAZAOUET | G107: BEJAIA | H107: DJEN DJEN | I107: SKIKDA | J107: ANNABA | K107: ALGER C | L107: ORAN Sec | M107: Mosta | N107: TOTAL | P107: Delta | R107: Mex - VLC T/S | S107: TOTAL TRADE + T/S
A108: 2014 | B108: 1 | C108: VALENCE | D108: 43 | E108: 3 | F108: 5 | G108: 0 | H108: 0 | I108: 1 | J108: 10 | K108: 4 | L108: 0 | M108: 0 | N108: =SUM(D108:M108) -> 66 | P108: =(N108-N55)/N55 -> 0.015384615 | S108: =N108+R108 -> 66
A109: 2014 | B109: 2 | C109: VALENCE | D109: 38 | E109: 0 | F109: 2 | G109: 0 | H109: 0 | I109: 4 | J109: 10 | K109: 2 | L109: 0 | M109: 0 | N109: =SUM(D109:M109) -> 56 | P109: =(N109-N56)/N56 -> 1.4347826 | S109: =N109+R109 -> 56
A110: 2014 | B110: 3 | C110: VALENCE | D110: 96 | E110: 27 | F110: 0 | G110: 21 | H110: 0 | I110: 1 | J110: 0 | K110: 0 | L110: 0 | M110: 0 | N110: =SUM(D110:M110) -> 145 | P110: =(N110-N57)/N57 -> 4.1785714 | S110: =N110+R110 -> 145
A111: 2014 | B111: 4 | C111: VALENCE | D111: 38 | E111: 5 | F111: 6 | G111: 0 | H111: 0 | I111: 17 | J111: 10 | K111: 2 | L111: 0 | M111: 0 | N111: =SUM(D111:M111) -> 78 | P111: =(N111-N58)/N58 -> -0.15217391 | S111: =N111+R111 -> 78
A112: 2014 | B112: 5 | C112: VALENCE | D112: 40 | E112: 22 | F112: 13 | G112: 29 | H112: 0 | I112: 19 | J112: 15 | K112: 3 | L112: 0 | M112: 0 | N112: =SUM(D112:M112) -> 141 | P112: =(N112-N59)/N59 -> 0.54945055 | S112: =N112+R112 -> 141
A113: 2014 | B113: 6 | C113: VALENCE | D113: 51 | E113: 31 | F113: 5 | G113: 4 | H113: 0 | I113: 11 | J113: 1 | K113: 38 | L113: 0 | M113: 0 | N113: =SUM(D113:M113) -> 141 | P113: =(N113-N60)/N60 -> 2.2045455 | S113: =N113+R113 -> 141
A114: 2014 | B114: 7 | C114: VALENCE | D114: 40 | E114: 15 | F114: 11 | G114: 40 | H114: 0 | I114: 0 | J114: 1 | K114: 19 | L114: 0 | M114: 0 | N114: =SUM(D114:M114) -> 126 | P114: =(N114-N61)/N61 -> 1.2105263 | S114: =N114+R114 -> 126
A115: 2014 | B115: 8 | C115: VALENCE | D115: 91 | E115: 49 | F115: 13 | G115: 0 | H115: 0 | I115: 2 | J115: 0 | K115: 2 | L115: 0 | M115: 0 | N115: =SUM(D115:M115) -> 157 | P115: =(N115-N62)/N62 -> 2.0192308 | S115: =N115+R115 -> 157
A116: 2014 | B116: 9 | C116: VALENCE | D116: 64 | E116: 12 | F116: 0 | G116: 9 | H116: 0 | I116: 18 | J116: 21 | K116: 0 | L116: 0 | M116: 54 | N116: =SUM(D116:M116) -> 178 | P116: =(N116-N63)/N63 -> 1.3421053 | S116: =N116+R116 -> 178
A117: 2014 | B117: 10 | C117: VALENCE | D117: 48 | E117: 8 | F117: 24 | G117: 43 | H117: 0 | I117: 22 | J117: 6 | K117: 18 | L117: 0 | M117: 0 | N117: =SUM(D117:M117) -> 169 | P117: =(N117-N64)/N64 -> 0.70707071 | S117: =N117+R117 -> 169
A118: 2014 | B118: 11 | C118: VALENCE | D118: 6 | E118: 21 | F118: 10 | G118: 26 | H118: 0 | I118: 9 | J118: 4 | K118: 18 | L118: 0 | M118: 2 | N118: =SUM(D118:M118) -> 96 | P118: =(N118-N65)/N65 -> 0.52380952 | S118: =N118+R118 -> 96
A119: 2014 | B119: 12 | C119: VALENCE | D119: 38 | E119: 28 | F119: 4 | G119: 4 | H119: 0 | I119: 0 | J119: 12 | K119: 5 | L119: 0 | M119: 3 | N119: =SUM(D119:M119) -> 94 | P119: =(N119-N66)/N66 -> 0.49206349 | S119: =N119+R119 -> 94
... A159: 2014 | B159: 52 | C159: VALENCE | D159: 31 | E159: 43 | F159: 12 | G159: 27 | H159: 0 | I159: 2 | J159: 8 | K159: 10 | L159: 0 | M159: 2 | N159: =SUM(D159:M159) -> 135 | P159: =(N159-N106)/N106 -> -0.055944056 | S159: =N159+R159 -> 135
A160: YEAR | B160: WEEK | C160: POL | D160: ALGER | E160: ORAN | F160: GHAZAOUET | G160: BEJAIA | H160: DJEN DJEN | I160: SKIKDA | J160: ANNABA | K160: ALGER C | L160: ORAN Sec | M160: Mosta | N160: TOTAL | P160: Delta | R160: Mex - VLC T/S | S160: TOTAL TRADE + T/S
A161: 2015 | B161: 1 | C161: VALENCE | D161: 81 | E161: 2 | F161: 10 | G161: 22 | H161: 0 | I161: 0 | J161: 25 | K161: 14 | L161: 25 | M161: 0 | N161: =SUM(D161:M161) -> 179 | P161: =(N161-N108)/N108 -> 1.7121212 | S161: =N161+R161 -> 179
A162: 2015 | B162: 2 | C162: VALENCE | D162: 13 | E162: 11 | F162: 1 | G162: 44 | H162: 0 | I162: 1 | J162: 13 | K162: 0 | L162: 2 | M162: 0 | N162: =SUM(D162:M162) -> 85 | P162: =(N162-N109)/N109 -> 0.51785714 | S162: =N162+R162 -> 85
A163: 2015 | B163: 3 | C163: VALENCE | D163: 68 | E163: 4 | F163: 18 | G163: 52 | H163: 0 | I163: 24 | J163: 1 | K163: 0 | L163: 29 | M163: 1 | N163: =SUM(D163:M163) -> 197 | P163: =(N163-N110)/N110 -> 0.35862069 | S163: =N163+R163 -> 197
A164: 2015 | B164: 4 | C164: VALENCE | D164: 95 | E164: 55 | F164: 0 | G164: 69 | H164: 0 | I164: 4 | J164: 19 | K164: 2 | L164: 47 | M164: 0 | N164: =SUM(D164:M164) -> 291 | P164: =(N164-N111)/N111 -> 2.7307692 | S164: =N164+R164 -> 291
A165: 2015 | B165: 5 | C165: VALENCE | D165: 53 | E165: 46 | F165: 7 | G165: 99 | H165: 0 | I165: 28 | J165: 39 | K165: 0 | L165: 39 | M165: 0 | N165: =SUM(D165:M165) -> 311 | P165: =(N165-N112)/N112 -> 1.2056738 | S165: =N165+R165 -> 311
A166: 2015 | B166: 6 | C166: VALENCE | D166: 37 | E166: 48 | F166: 11 | G166: 59 | H166: 0 | I166: 14 | J166: 14 | K166: 0 | L166: 31 | M166: 0 | N166: =SUM(D166:M166) -> 214 | P166: =(N166-N113)/N113 -> 0.5177305 | S166: =N166+R166 -> 214
A167: 2015 | B167: 7 | C167: VALENCE | D167: 73 | E167: 24 | F167: 11 | G167: 28 | H167: 0 | I167: 20 | J167: 27 | K167: 2 | L167: 20 | M167: 0 | N167: =SUM(D167:M167) -> 205 | P167: =(N167-N114)/N114 -> 0.62698413 | S167: =N167+R167 -> 205
A168: 2015 | B168: 8 | C168: VALENCE | D168: 79 | E168: 2 | F168: 11 | G168: 45 | H168: 0 | I168: 2 | J168: 18 | K168: 11 | L168: 115 | M168: 0 | N168: =SUM(D168:M168) -> 283 | P168: =(N168-N115)/N115 -> 0.80254777 | S168: =N168+R168 -> 283
A169: 2015 | B169: 9 | C169: VALENCE | D169: 90 | E169: 44 | F169: 12 | G169: 33 | H169: 0 | I169: 8 | J169: 11 | K169: 3 | L169: 76 | M169: 0 | N169: =SUM(D169:M169) -> 277 | P169: =(N169-N116)/N116 -> 0.55617978 | S169: =N169+R169 -> 277
A170: 2015 | B170: 10 | C170: VALENCE | D170: 92 | E170: 0 | F170: 21 | G170: 49 | H170: 0 | I170: 13 | J170: 6 | K170: 16 | L170: 87 | M170: 0 | N170: =SUM(D170:M170) -> 284 | P170: =(N170-N117)/N117 -> 0.68047337 | S170: =N170+R170 -> 284
A171: 2015 | B171: 11 | C171: VALENCE | D171: 73 | E171: 49 | F171: 8 | G171: 23 | H171: 0 | I171: 8 | J171: 21 | K171: 1 | L171: 30 | M171: 0 | N171: =SUM(D171:M171) -> 213 | P171: =(N171-N118)/N118 -> 1.21875 | S171: =N171+R171 -> 213
A172: 2015 | B172: 12 | C172: VALENCE | D172: 42 | E172: 26 | F172: 29 | G172: 0 | H172: 0 | I172: 0 | J172: 4 | K172: 0 | L172: 41 | M172: 0 | N172: =SUM(D172:M172) -> 142 | P172: =(N172-N119)/N119 -> 0.5106383 | S172: =N172+R172 -> 142
... A212: 2015 | B212: 52 | C212: VALENCE | D212: 59 | E212: 40 | F212: 26 | G212: 54 | H212: 0 | I212: 21 | J212: 53 | K212: 4 | L212: 0 | M212: 0 | N212: =SUM(D212:M212) -> 257 | P212: =(N212-N159)/N159 -> 0.9037037 | S212: =N212+R212 -> 257
A213: 2015 | B213: 53 | C213: VALENCE | D213: 43 | E213: 17 | F213: 6 | G213: 71 | H213: 0 | I213: 5 | J213: 4 | K213: 0 | L213: 0 | M213: 0 | N213: =SUM(D213:M213) -> 146 | P213: =(N213-N159)/N159 -> 0.081481481 | S213: =N213+R213 -> 146
A214: YEAR | B214: WEEK | C214: POL | D214: ALGER | E214: ORAN | F214: GHAZAOUET | G214: BEJAIA | H214: DJEN DJEN | I214: SKIKDA | J214: ANNABA | K214: ALGER C | L214: ORAN Sec | M214: Mosta | N214: TOTAL | P214: Delta | R214: Mex - VLC T/S | S214: TOTAL TRADE + T/S
A215: 2016 | B215: 1 | C215: VALENCE | D215: 6 | E215: 6 | F215: 10 | G215: 61 | H215: 0 | I215: 0 | J215: 4 | K215: 4 | L215: 0 | M215: 0 | N215: =SUM(D215:M215) -> 91 | P215: =(N215-N162)/N162 -> 0.070588235 | R215: 0 | S215: =N215+R215 -> 91
A216: 2016 | B216: 2 | C216: VALENCE | D216: 39 | E216: 28 | F216: 19 | G216: 8 | H216: 0 | I216: 3 | J216: 8 | K216: 4 | L216: 0 | M216: 0 | N216: =SUM(D216:M216) -> 109 | P216: =(N216-N163)/N163 -> -0.44670051 | R216: 1329 | S216: =N216+R216 -> 1438
A217: 2016 | B217: 3 | C217: VALENCE | D217: 116 | E217: 60 | F217: 11 | G217: 35 | H217: 0 | I217: 11 | J217: 16 | K217: 66 | L217: 0 | M217: 0 | N217: =SUM(D217:M217) -> 315 | P217: =(N217-N164)/N164 -> 0.082474227 | R217: 0 | S217: =N217+R217 -> 315
A218: 2016 | B218: 4 | C218: VALENCE | D218: 62 | E218: 64 | F218: 22 | G218: 0 | H218: 0 | I218: 1 | J218: 2 | K218: 21 | L218: 0 | M218: 2 | N218: =SUM(D218:M218) -> 174 | P218: =(N218-N165)/N165 -> -0.44051447 | R218: 0 | S218: =N218+R218 -> 174
A219: 2016 | B219: 5 | C219: VALENCE | D219: 59 | E219: 112 | F219: 16 | G219: 55 | H219: 4 | I219: 3 | J219: 9 | K219: 18 | L219: 0 | M219: 0 | N219: =SUM(D219:M219) -> 276 | P219: =(N219-N166)/N166 -> 0.28971963 | R219: 1617 | S219: =N219+R219 -> 1893
A220: 2016 | B220: 6 | C220: VALENCE | D220: 63 | E220: 67 | F220: 5 | G220: 59 | H220: 0 | I220: 0 | J220: 0 | K220: 0 | L220: 0 | M220: 0 | N220: =SUM(D220:M220) -> 194 | P220: =(N220-N167)/N167 -> -0.053658537 | R220: 0 | S220: =N220+R220 -> 194
A221: 2016 | B221: 7 | C221: VALENCE | D221: 84 | E221: 33 | F221: 7 | G221: 56 | H221: 0 | I221: 18 | J221: 43 | K221: 1 | L221: 0 | M221: 0 | N221: =SUM(D221:M221) -> 242 | P221: =(N221-N168)/N168 -> -0.14487633 | R221: 0 | S221: =N221+R221 -> 242
A222: 2016 | B222: 8 | C222: VALENCE | D222: 62 | E222: 25 | F222: 4 | G222: 72 | H222: 0 | I222: 3 | J222: 13 | K222: 0 | L222: 0 | M222: 0 | N222: =SUM(D222:M222) -> 179 | P222: =(N222-N169)/N169 -> -0.35379061 | R222: 0 | S222: =N222+R222 -> 179
A223: 2016 | B223: 9 | C223: VALENCE | D223: 78 | E223: 49 | F223: 5 | G223: 122 | H223: 0 | I223: 14 | J223: 15 | K223: 33 | L223: 0 | M223: 0 | N223: =SUM(D223:M223) -> 316 | P223: =(N223-N170)/N170 -> 0.11267606 | R223: 0 | S223: =N223+R223 -> 316
A224: 2016 | B224: 10 | C224: VALENCE | D224: 112 | E224: 50 | F224: 4 | G224: 40 | H224: 0 | I224: 1 | J224: 3 | K224: 0 | L224: 0 | M224: 0 | N224: =SUM(D224:M224) -> 210 | P224: =(N224-N171)/N171 -> -0.014084507 | R224: 0 | S224: =N224+R224 -> 210
A225: 2016 | B225: 11 | C225: VALENCE | P225: =(N225-N172)/N172 -> -1
A226: 2016 | B226: 12 | C226: VALENCE | P226: =(N226-N173)/N173 -> -1
A227: 2016 | B227: 13 | C227: VALENCE | P227: =(N227-N174)/N174 -> -1
A228: 2016 | B228: 14 | C228: VALENCE | P228: =(N228-N175)/N175 -> -1
A229: 2016 | B229: 15 | C229: VALENCE | P229: =(N229-N176)/N176 -> -1
A230: 2016 | B230: 16 | C230: VALENCE | P230: =(N230-N177)/N177 -> -1
A231: 2016 | B231: 17 | C231: VALENCE | P231: =(N231-N178)/N178 -> -1
A232: 2016 | B232: 18 | C232: VALENCE | P232: =(N232-N179)/N179 -> -1
A233: 2016 | B233: 19 | C233: VALENCE | P233: =(N233-N180)/N180 -> -1
A234: 2016 | B234: 20 | C234: VALENCE | P234: =(N234-N181)/N181 -> -1
A235: 2016 | B235: 21 | C235: VALENCE | P235: =(N235-N182)/N182 -> -1
A236: 2016 | B236: 22 | C236: VALENCE | P236: =(N236-N183)/N183 -> -1
... A266: 2016 | B266: 52 | C266: VALENCE | P266: =(N266-N213)/N213 -> -1
A267: 2016 | B267: 53 | C267: VALENCE | P267: =(N267-N213)/N213 -> -1
R268: =SUM(R215:R267) -> 2946 | S268: =SUM(S215:S267) -> 5052

Sheet GENES
A1: YEAR | B1: WEEK | C1: POL | D1: ALGER SEC | E1: ORAN | F1: GHAZAOUET | G1: BEJAIA | H1: DJEN DJEN | I1: SKIKDA | J1: ANNABA | K1: ALGER C | L1: ORAN Sec | M1: Mosta | N1: TOTAL | P1: Delta | R1: MGE - GOA T/S | S1: TOTAL TRADE + T/S
A2: 2012 | B2: 1 | C2: GENES | D2: NC | E2: NC | F2: NC | G2: NC | H2: NC | I2: NC | J2: NC | K2: NC | L2: NC | M2: NC | N2: 0 | P2: -
A3: 2012 | B3: 2 | C3: GENES | D3: NC | E3: NC | F3: NC | G3: NC | H3: NC | I3: NC | J3: NC | K3: NC | L3: NC | M3: NC | N3: 0 | P3: -
A4: 2012 | B4: 3 | C4: GENES | D4: NC | E4: NC | F4: NC | G4: NC | H4: NC | I4: NC | J4: NC | K4: NC | L4: NC | M4: NC | N4: 0 | P4: -
A5: 2012 | B5: 4 | C5: GENES | D5: NC | E5: NC | F5: NC | G5: NC | H5: NC | I5: NC | J5: NC | K5: NC | L5: NC | M5: NC | N5: 0 | P5: -
A6: 2012 | B6: 5 | C6: GENES | D6: 37 | E6: 25 | F6: 93 | G6: 22 | H6: 0 | I6: 13 | J6: 20 | K6: 0 | L6: 0 | M6: 0 | N6: =SUM(D6:M6) -> 210 | P6: -
A7: 2012 | B7: 6 | C7: GENES | D7: 52 | E7: 5 | F7: 36 | G7: 17 | H7: 0 | I7: 18 | J7: 4 | K7: 0 | L7: 0 | M7: 0 | N7: =SUM(D7:M7) -> 132 | P7: -
A8: 2012 | B8: 7 | C8: GENES | D8: 24 | E8: 10 | F8: 43 | G8: 29 | H8: 0 | I8: 8 | J8: 2 | K8: 0 | L8: 0 | M8: 0 | N8: =SUM(D8:M8) -> 116 | P8: -
A9: 2012 | B9: 8 | C9: GENES | D9: 33 | E9: 16 | F9: 103 | G9: 9 | H9: 0 | I9: 11 | J9: 10 | K9: 0 | L9: 0 | M9: 0 | N9: =SUM(D9:M9) -> 182 | P9: -
A10: 2012 | B10: 9 | C10: GENES | D10: 24 | E10: 32 | F10: 50 | G10: 39 | H10: 0 | I10: 1 | J10: 27 | K10: 0 | L10: 0 | M10: 0 | N10: =SUM(D10:M10) -> 173 | P10: -
A11: 2012 | B11: 10 | C11: GENES | D11: 53 | E11: 13 | F11: 111 | G11: 34 | H11: 0 | I11: 3 | J11: 13 | K11: 0 | L11: 0 | M11: 0 | N11: =SUM(D11:M11) -> 227 | P11: -
A12: 2012 | B12: 11 | C12: GENES | D12: 36 | E12: 18 | F12: 101 | G12: 18 | H12: 0 | I12: 23 | J12: 8 | K12: 0 | L12: 0 | M12: 0 | N12: =SUM(D12:M12) -> 204 | P12: -
A13: 2012 | B13: 12 | C13: GENES | D13: 51 | E13: 12 | F13: 102 | G13: 33 | H13: 0 | I13: 4 | J13: 10 | K13: 0 | L13: 0 | M13: 0 | N13: =SUM(D13:M13) -> 212 | P13: -
A14: 2012 | B14: 13 | C14: GENES | D14: 49 | E14: 16 | F14: 96 | G14: 19 | H14: 0 | I14: 5 | J14: 20 | K14: 0 | L14: 0 | M14: 0 | N14: =SUM(D14:M14) -> 205 | P14: -
A15: 2012 | B15: 14 | C15: GENES | D15: 50 | E15: 25 | F15: 124 | G15: 34 | H15: 0 | I15: 16 | J15: 14 | K15: 0 | L15: 0 | M15: 0 | N15: =SUM(D15:M15) -> 263 | P15: -
A16: 2012 | B16: 15 | C16: GENES | D16: 20 | E16: 17 | F16: 118 | G16: 11 | H16: 0 | I16: 12 | J16: 1 | K16: 0 | L16: 0 | M16: 0 | N16: =SUM(D16:M16) -> 179 | P16: -
A17: 2012 | B17: 16 | C17: GENES | D17: 38 | E17: 19 | F17: 160 | G17: 50 | H17: 0 | I17: 7 | J17: 16 | K17: 0 | L17: 0 | M17: 0 | N17: =SUM(D17:M17) -> 290 | P17: -
... A53: 2012 | B53: 52 | C53: GENES | D53: 8 | E53: 2 | F53: 22 | G53: 2 | H53: 0 | I53: 16 | J53: 6 | K53: 0 | L53: 0 | M53: 0 | N53: =SUM(D53:M53) -> 56 | P53: -
A54: YEAR | B54: WEEK | C54: POL | D54: ALGER | E54: ORAN | F54: GHAZAOUET | G54: BEJAIA | H54: DJEN DJEN | I54: SKIKDA | J54: ANNABA | K54: ALGER C | L54: ORAN Sec | M54: Mosta | N54: TOTAL | P54: Delta | R54: MGE - GOA T/S | S54: TOTAL TRADE + T/S
A55: 2013 | B55: 1 | C55: GENES | D55: 30 | E55: 37 | F55: 49 | G55: 13 | H55: 0 | I55: 28 | J55: 8 | K55: 0 | L55: 0 | M55: 0 | N55: =SUM(D55:M55) -> 165 | P55: -
A56: 2013 | B56: 2 | C56: GENES | D56: 17 | E56: 2 | F56: 36 | G56: 19 | H56: 0 | I56: 2 | J56: 3 | K56: 0 | L56: 0 | M56: 0 | N56: =SUM(D56:M56) -> 79 | P56: -
A57: 2013 | B57: 3 | C57: GENES | D57: 41 | E57: 9 | F57: 30 | G57: 1 | H57: 0 | I57: 3 | J57: 0 | K57: 0 | L57: 0 | M57: 0 | N57: =SUM(D57:M57) -> 84 | P57: -
A58: 2013 | B58: 4 | C58: GENES | D58: 43 | E58: 36 | F58: 100 | G58: 9 | H58: 0 | I58: 3 | J58: 15 | K58: 0 | L58: 0 | M58: 0 | N58: =SUM(D58:M58) -> 206 | P58: -
A59: 2013 | B59: 5 | C59: GENES | D59: 30 | E59: 23 | F59: 82 | G59: 31 | H59: 0 | I59: 2 | J59: 6 | K59: 0 | L59: 0 | M59: 0 | N59: =SUM(D59:M59) -> 174 | P59: =(N59-N6)/N6 -> -0.17142857
A60: 2013 | B60: 6 | C60: GENES | D60: 32 | E60: 17 | F60: 84 | G60: 10 | H60: 0 | I60: 3 | J60: 3 | K60: 0 | L60: 0 | M60: 0 | N60: =SUM(D60:M60) -> 149 | P60: =(N60-N7)/N7 -> 0.12878788
A61: 2013 | B61: 7 | C61: GENES | D61: 10 | E61: 6 | F61: 38 | G61: 3 | H61: 0 | I61: 6 | J61: 4 | K61: 5 | L61: 0 | M61: 0 | N61: =SUM(D61:M61) -> 72 | P61: =(N61-N8)/N8 -> -0.37931034
A62: 2013 | B62: 8 | C62: GENES | D62: 35 | E62: 27 | F62: 106 | G62: 22 | H62: 0 | I62: 23 | J62: 10 | K62: 1 | L62: 0 | M62: 0 | N62: =SUM(D62:M62) -> 224 | P62: =(N62-N9)/N9 -> 0.23076923
A63: 2013 | B63: 9 | C63: GENES | D63: 25 | E63: 19 | F63: 64 | G63: 32 | H63: 0 | I63: 5 | J63: 7 | K63: 0 | L63: 0 | M63: 0 | N63: =SUM(D63:M63) -> 152 | P63: =(N63-N10)/N10 -> -0.12138728
A64: 2013 | B64: 10 | C64: GENES | D64: 34 | E64: 8 | F64: 128 | G64: 31 | H64: 0 | I64: 7 | J64: 23 | K64: 1 | L64: 0 | M64: 0 | N64: =SUM(D64:M64) -> 232 | P64: =(N64-N11)/N11 -> 0.022026432
A65: 2013 | B65: 11 | C65: GENES | D65: 65 | E65: 10 | F65: 116 | G65: 58 | H65: 0 | I65: 1 | J65: 7 | K65: 0 | L65: 0 | M65: 0 | N65: =SUM(D65:M65) -> 257 | P65: =(N65-N12)/N12 -> 0.25980392
A66: 2013 | B66: 12 | C66: GENES | D66: 33 | E66: 35 | F66: 104 | G66: 22 | H66: 0 | I66: 3 | J66: 14 | K66: 0 | L66: 0 | M66: 0 | N66: =SUM(D66:M66) -> 211 | P66: =(N66-N13)/N13 -> -0.0047169811
A67: 2013 | B67: 13 | C67: GENES | D67: 65 | E67: 24 | F67: 116 | G67: 16 | H67: 0 | I67: 21 | J67: 26 | K67: 1 | L67: 0 | M67: 0 | N67: =SUM(D67:M67) -> 269 | P67: =(N67-N14)/N14 -> 0.31219512
A68: 2013 | B68: 14 | C68: GENES | D68: 22 | E68: 11 | F68: 64 | G68: 15 | H68: 0 | I68: 29 | J68: 12 | K68: 0 | L68: 0 | M68: 0 | N68: =SUM(D68:M68) -> 153 | P68: =(N68-N15)/N15 -> -0.41825095
A69: 2013 | B69: 15 | C69: GENES | D69: 40 | E69: 19 | F69: 138 | G69: 12 | H69: 0 | I69: 16 | J69: 6 | K69: 0 | L69: 0 | M69: 0 | N69: =SUM(D69:M69) -> 231 | P69: =(N69-N16)/N16 -> 0.29050279
A70: 2013 | B70: 16 | C70: GENES | D70: 41 | E70: 0 | F70: 165 | G70: 15 | H70: 0 | I70: 2 | J70: 22 | K70: 0 | L70: 0 | M70: 0 | N70: =SUM(D70:M70) -> 245 | P70: =(N70-N17)/N17 -> -0.15517241
... A106: 2013 | B106: 52 | C106: GENES | D106: 19 | E106: 5 | F106: 82 | G106: 0 | H106: 0 | I106: 19 | J106: 2 | K106: 6 | L106: 0 | M106: 0 | N106: =SUM(D106:M106) -> 133 | P106: =(N106-N53)/N53 -> 1.375
A107: YEAR | B107: WEEK | C107: POL | D107: ALGER | E107: ORAN | F107: GHAZAOUET | G107: BEJAIA | H107: DJEN DJEN | I107: SKIKDA | J107: ANNABA | K107: ALGER C | L107: ORAN Sec | M107: Mosta | N107: TOTAL | P107: Delta | R107: MGE - GOA T/S | S107: TOTAL TRADE + T/S
A108: 2014 | B108: 1 | C108: GENES | D108: 30 | E108: 1 | F108: 64 | G108: 0 | H108: 0 | I108: 14 | J108: 2 | K108: 6 | L108: 0 | M108: 0 | N108: =SUM(D108:M108) -> 117 | P108: =(N108-N55)/N55 -> -0.29090909 | S108: =N108+R108 -> 117
A109: 2014 | B109: 2 | C109: GENES | D109: 13 | E109: 5 | F109: 56 | G109: 7 | H109: 0 | I109: 0 | J109: 8 | K109: 3 | L109: 0 | M109: 0 | N109: =SUM(D109:M109) -> 92 | P109: =(N109-N56)/N56 -> 0.16455696 | S109: =N109+R109 -> 92
A110: 2014 | B110: 3 | C110: GENES | D110: 36 | E110: 15 | F110: 100 | G110: 6 | H110: 0 | I110: 6 | J110: 3 | K110: 6 | L110: 0 | M110: 0 | N110: =SUM(D110:M110) -> 172 | P110: =(N110-N57)/N57 -> 1.047619 | S110: =N110+R110 -> 172
A111: 2014 | B111: 4 | C111: GENES | D111: 35 | E111: 8 | F111: 158 | G111: 0 | H111: 0 | I111: 3 | J111: 4 | K111: 12 | L111: 0 | M111: 0 | N111: =SUM(D111:M111) -> 220 | P111: =(N111-N58)/N58 -> 0.067961165 | S111: =N111+R111 -> 220
A112: 2014 | B112: 5 | C112: GENES | D112: 52 | E112: 24 | F112: 74 | G112: 31 | H112: 0 | I112: 5 | J112: 6 | K112: 0 | L112: 0 | M112: 0 | N112: =SUM(D112:M112) -> 192 | P112: =(N112-N59)/N59 -> 0.10344828 | S112: =N112+R112 -> 192
A113: 2014 | B113: 6 | C113: GENES | D113: 10 | E113: 28 | F113: 116 | G113: 9 | H113: 0 | I113: 14 | J113: 9 | K113: 0 | L113: 0 | M113: 0 | N113: =SUM(D113:M113) -> 186 | P113: =(N113-N60)/N60 -> 0.24832215 | S113: =N113+R113 -> 186
A114: 2014 | B114: 7 | C114: GENES | D114: 66 | E114: 24 | F114: 118 | G114: 25 | H114: 0 | I114: 7 | J114: 9 | K114: 20 | L114: 0 | M114: 0 | N114: =SUM(D114:M114) -> 269 | P114: =(N114-N61)/N61 -> 2.7361111 | S114: =N114+R114 -> 269
A115: 2014 | B115: 8 | C115: GENES | D115: 67 | E115: 43 | F115: 118 | G115: 0 | H115: 0 | I115: 2 | J115: 16 | K115: 0 | L115: 0 | M115: 0 | N115: =SUM(D115:M115) -> 246 | P115: =(N115-N62)/N62 -> 0.098214286 | S115: =N115+R115 -> 246
A116: 2014 | B116: 9 | C116: GENES | D116: 41 | E116: 29 | F116: 113 | G116: 36 | H116: 0 | I116: 4 | J116: 21 | K116: 3 | L116: 0 | M116: 0 | N116: =SUM(D116:M116) -> 247 | P116: =(N116-N63)/N63 -> 0.625 | S116: =N116+R116 -> 247
A117: 2014 | B117: 10 | C117: GENES | D117: 37 | E117: 32 | F117: 150 | G117: 8 | H117: 0 | I117: 4 | J117: 16 | K117: 0 | L117: 0 | M117: 0 | N117: =SUM(D117:M117) -> 247 | P117: =(N117-N64)/N64 -> 0.064655172 | S117: =N117+R117 -> 247
A118: 2014 | B118: 11 | C118: GENES | D118: 34 | E118: 26 | F118: 107 | G118: 6 | H118: 0 | I118: 3 | J118: 10 | K118: 8 | L118: 0 | M118: 0 | N118: =SUM(D118:M118) -> 194 | P118: =(N118-N65)/N65 -> -0.24513619 | S118: =N118+R118 -> 194
A119: 2014 | B119: 12 | C119: GENES | D119: 51 | E119: 28 | F119: 172 | G119: 34 | H119: 0 | I119: 7 | J119: 53 | K119: 0 | L119: 0 | M119: 0 | N119: =SUM(D119:M119) -> 345 | P119: =(N119-N66)/N66 -> 0.63507109 | S119: =N119+R119 -> 345
... A159: 2014 | B159: 52 | C159: GENES | D159: 84 | E159: 23 | F159: 87 | G159: 34 | H159: 0 | I159: 9 | J159: 11 | K159: 10 | L159: 0 | M159: 0 | N159: =SUM(D159:M159) -> 258 | P159: =(N159-N106)/N106 -> 0.93984962 | S159: =N159+R159 -> 258
A160: YEAR | B160: WEEK | C160: POL | D160: ALGER | E160: ORAN | F160: GHAZAOUET | G160: BEJAIA | H160: DJEN DJEN | I160: SKIKDA | J160: ANNABA | K160: ALGER C | L160: ORAN Sec | M160: Mosta | N160: TOTAL | P160: Delta | R160: MGE - GOA T/S | S160: TOTAL TRADE + T/S
A161: 2015 | B161: 1 | C161: GENES | D161: 33 | E161: 8 | F161: 94 | G161: 2 | H161: 0 | I161: 4 | J161: 15 | K161: 4 | L161: 0 | M161: 0 | N161: =SUM(D161:M161) -> 160 | P161: =(N161-N108)/N108 -> 0.36752137 | S161: =N161+R161 -> 160
A162: 2015 | B162: 2 | C162: GENES | D162: 10 | E162: 4 | F162: 90 | G162: 0 | H162: 0 | I162: 3 | J162: 16 | K162: 5 | L162: 0 | M162: 0 | N162: =SUM(D162:M162) -> 128 | P162: =(N162-N109)/N109 -> 0.39130435 | S162: =N162+R162 -> 128
A163: 2015 | B163: 3 | C163: GENES | D163: 96 | E163: 17 | F163: 180 | G163: 20 | H163: 0 | I163: 3 | J163: 19 | K163: 0 | L163: 0 | M163: 0 | N163: =SUM(D163:M163) -> 335 | P163: =(N163-N110)/N110 -> 0.94767442 | S163: =N163+R163 -> 335
A164: 2015 | B164: 4 | C164: GENES | D164: 68 | E164: 16 | F164: 248 | G164: 7 | H164: 0 | I164: 2 | J164: 15 | K164: 13 | L164: 0 | M164: 0 | N164: =SUM(D164:M164) -> 369 | P164: =(N164-N111)/N111 -> 0.67727273 | S164: =N164+R164 -> 369
A165: 2015 | B165: 5 | C165: GENES | D165: 83 | E165: 17 | F165: 224 | G165: 20 | H165: 0 | I165: 3 | J165: 19 | K165: 13 | L165: 0 | M165: 0 | N165: =SUM(D165:M165) -> 379 | P165: =(N165-N112)/N112 -> 0.97395833 | S165: =N165+R165 -> 379
A166: 2015 | B166: 6 | C166: GENES | D166: 69 | E166: 60 | F166: 266 | G166: 11 | H166: 0 | I166: 7 | J166: 26 | K166: 21 | L166: 0 | M166: 0 | N166: =SUM(D166:M166) -> 460 | P166: =(N166-N113)/N113 -> 1.4731183 | S166: =N166+R166 -> 460
A167: 2015 | B167: 7 | C167: GENES | D167: 112 | E167: 35 | F167: 217 | G167: 18 | H167: 8 | I167: 1 | J167: 36 | K167: 4 | L167: 0 | M167: 0 | N167: =SUM(D167:M167) -> 431 | P167: =(N167-N114)/N114 -> 0.60223048 | S167: =N167+R167 -> 431
A168: 2015 | B168: 8 | C168: GENES | D168: 78 | E168: 38 | F168: 254 | G168: 22 | H168: 0 | I168: 2 | J168: 19 | K168: 25 | L168: 0 | M168: 0 | N168: =SUM(D168:M168) -> 438 | P168: =(N168-N115)/N115 -> 0.7804878 | S168: =N168+R168 -> 438
A169: 2015 | B169: 9 | C169: GENES | D169: 72 | E169: 26 | F169: 252 | G169: 13 | H169: 0 | I169: 23 | J169: 47 | K169: 6 | L169: 0 | M169: 0 | N169: =SUM(D169:M169) -> 439 | P169: =(N169-N116)/N116 -> 0.77732794 | S169: =N169+R169 -> 439
A170: 2015 | B170: 10 | C170: GENES | D170: 44 | E170: 21 | F170: 251 | G170: 58 | H170: 4 | I170: 0 | J170: 12 | K170: 5 | L170: 0 | M170: 0 | N170: =SUM(D170:M170) -> 395 | P170: =(N170-N117)/N117 -> 0.59919028 | S170: =N170+R170 -> 395
A171: 2015 | B171: 11 | C171: GENES | D171: 48 | E171: 16 | F171: 228 | G171: 22 | H171: 0 | I171: 7 | J171: 25 | K171: 5 | L171: 0 | M171: 0 | N171: =SUM(D171:M171) -> 351 | P171: =(N171-N118)/N118 -> 0.80927835 | S171: =N171+R171 -> 351
A172: 2015 | B172: 12 | C172: GENES | D172: 43 | E172: 17 | F172: 208 | G172: 52 | H172: 0 | I172: 2 | J172: 26 | K172: 5 | L172: 0 | M172: 0 | N172: =SUM(D172:M172) -> 353 | P172: =(N172-N119)/N119 -> 0.023188406 | S172: =N172+R172 -> 353
... A210: 2015 | B210: 50 | C210: GENES | D210: 45 | E210: 20 | F210: 92 | G210: 12 | H210: 0 | I210: 6 | J210: 13 | K210: 10 | L210: 0 | M210: 0 | N210: =SUM(D210:M210) -> 198 | P210: =(N210-N157)/N157 -> -0.22352941 | S210: =N210+R210 -> 198
A211: 2015 | B211: 51 | C211: GENES | D211: 51 | E211: 32 | F211: 80 | G211: 36 | H211: 0 | I211: 10 | J211: 32 | K211: 14 | L211: 0 | M211: 0 | N211: =SUM(D211:M211) -> 255 | P211: =(N211-N157)/N157 -> 0 | S211: =N211+R211 -> 255
A212: 2015 | B212: 52 | C212: GENES | D212: 97 | E212: 63 | F212: 90 | G212: 21 | H212: 0 | I212: 27 | J212: 12 | K212: 16 | L212: 0 | M212: 0 | N212: =SUM(D212:M212) -> 326 | P212: =(N212-N158)/N158 -> -0.12834225 | S212: =N212+R212 -> 326
A213: 2015 | B213: 53 | C213: GENES | D213: 38 | E213: 21 | F213: 44 | G213: 9 | H213: 1 | I213: 6 | J213: 9 | K213: 8 | L213: 0 | M213: 0 | N213: =SUM(D213:M213) -> 136 | P213: =(N213-N159)/N159 -> -0.47286822 | S213: =N213+R213 -> 136
A214: YEAR | B214: WEEK | C214: POL | D214: ALGER | E214: ORAN | F214: GHAZAOUET | G214: BEJAIA | H214: DJEN DJEN | I214: SKIKDA | J214: ANNABA | K214: ALGER C | L214: ORAN Sec | M214: Mosta | N214: TOTAL | P214: Delta | R214: MGE - GOA T/S | S214: TOTAL TRADE + T/S
A215: 2016 | B215: 1 | C215: GENES | D215: 6 | E215: 6 | F215: 46 | G215: 4 | H215: 0 | I215: 0 | J215: 22 | K215: 6 | L215: 0 | M215: 0 | N215: =SUM(D215:M215) -> 90 | P215: =(N215-N162)/N162 -> -0.296875 | R215: 0 | S215: =N215+R215 -> 90
A216: 2016 | B216: 2 | C216: GENES | D216: 22 | E216: 13 | F216: 72 | G216: 10 | H216: 0 | I216: 17 | J216: 12 | K216: 6 | L216: 0 | M216: 40 | N216: =SUM(D216:M216) -> 192 | P216: =(N216-N163)/N163 -> -0.42686567 | R216: 0 | S216: =N216+R216 -> 192
A217: 2016 | B217: 3 | C217: GENES | D217: 27 | E217: 43 | F217: =130-14 -> 116 | G217: 37 | H217: 0 | I217: 5 | J217: 22 | K217: 17 | L217: 0 | M217: 0 | N217: =SUM(D217:M217) -> 267 | P217: =(N217-N164)/N164 -> -0.27642276 | R217: 14 | S217: =N217+R217 -> 281
A218: 2016 | B218: 4 | C218: GENES | D218: 44 | E218: 22 | F218: 136 | G218: 29 | H218: 0 | I218: 12 | J218: 0 | K218: 4 | L218: 0 | M218: 0 | N218: =SUM(D218:M218) -> 247 | P218: =(N218-N165)/N165 -> -0.34828496 | R218: 0 | S218: =N218+R218 -> 247
A219: 2016 | B219: 5 | C219: GENES | D219: 58 | E219: 43 | F219: 102 | G219: 23 | H219: 0 | I219: 6 | J219: 29 | K219: 26 | L219: 0 | M219: 0 | N219: =SUM(D219:M219) -> 287 | P219: =(N219-N166)/N166 -> -0.37608696 | R219: 52 | S219: =N219+R219 -> 339
A220: 2016 | B220: 6 | C220: GENES | D220: 43 | E220: 80 | F220: =263-86 -> 177 | G220: 71 | H220: 0 | I220: 16 | J220: 4 | K220: 6 | L220: 0 | M220: 0 | N220: =SUM(D220:M220) -> 397 | P220: =(N220-N167)/N167 -> -0.078886311 | R220: 86 | S220: =N220+R220 -> 483
A221: 2016 | B221: 7 | C221: GENES | D221: 55 | E221: 51 | F221: =120-34 -> 86 | G221: 24 | H221: 0 | I221: 15 | J221: 27 | K221: 15 | L221: 0 | M221: 0 | N221: =SUM(D221:M221) -> 273 | P221: =(N221-N168)/N168 -> -0.37671233 | R221: 34 | S221: =N221+R221 -> 307
A222: 2016 | B222: 8 | C222: GENES | D222: 36 | E222: 88 | F222: =126-34 -> 92 | G222: 32 | H222: 0 | I222: 3 | J222: 4 | K222: 13 | L222: 0 | M222: 0 | N222: =SUM(D222:M222) -> 268 | P222: =(N222-N169)/N169 -> -0.38952164 | R222: 34 | S222: =N222+R222 -> 302
A223: 2016 | B223: 9 | C223: GENES | D223: 56 | E223: 49 | F223: =174-22 -> 152 | G223: 40 | H223: 17 | I223: 21 | J223: 28 | K223: 27 | L223: 0 | M223: 0 | N223: =SUM(D223:M223) -> 390 | P223: =(N223-N170)/N170 -> -0.012658228 | R223: 22 | S223: =N223+R223 -> 412
A224: 2016 | B224: 10 | C224: GENES | D224: 82 | E224: 2 | F224: 70 | G224: 29 | H224: 0 | I224: 3 | J224: 11 | K224: 30 | L224: 0 | M224: 0 | N224: =SUM(D224:M224) -> 227 | P224: =(N224-N171)/N171 -> -0.35327635 | R224: 18 | S224: =N224+R224 -> 245
A225: 2016 | B225: 11 | C225: GENES | P225: =(N225-N172)/N172 -> -1
A226: 2016 | B226: 12 | C226: GENES | P226: =(N226-N173)/N173 -> -1
A227: 2016 | B227: 13 | C227: GENES | P227: =(N227-N174)/N174 -> -1
A228: 2016 | B228: 14 | C228: GENES | P228: =(N228-N175)/N175 -> -1
A229: 2016 | B229: 15 | C229: GENES | P229: =(N229-N176)/N176 -> -1
A230: 2016 | B230: 16 | C230: GENES | P230: =(N230-N177)/N177 -> -1
A231: 2016 | B231: 17 | C231: GENES | P231: =(N231-N178)/N178 -> -1
A232: 2016 | B232: 18 | C232: GENES | P232: =(N232-N179)/N179 -> -1
A233: 2016 | B233: 19 | C233: GENES | P233: =(N233-N180)/N180 -> -1
A234: 2016 | B234: 20 | C234: GENES | P234: =(N234-N181)/N181 -> -1
A235: 2016 | B235: 21 | C235: GENES | P235: =(N235-N182)/N182 -> -1
A236: 2016 | B236: 22 | C236: GENES | P236: =(N236-N183)/N183 -> -1
... A264: 2016 | B264: 50 | C264: GENES | P264: =(N264-N211)/N211 -> -1
A265: 2016 | B265: 51 | C265: GENES | P265: =(N265-N211)/N211 -> -1
A266: 2016 | B266: 52 | C266: GENES | P266: =(N266-N212)/N212 -> -1
A267: 2016 | B267: 53 | C267: GENES | P267: =(N267-N213)/N213 -> -1

Sheet LA SPEZIA
A1: YEAR | B1: WEEK | C1: POL | D1: ALGER SEC | E1: ORAN | F1: GHAZAOUET | G1: BEJAIA | H1: DJEN DJEN | I1: SKIKDA | J1: ANNABA | K1: ALGER C | L1: ORAN Sec | M1: Mosta | N1: TOTAL | P1: Delta
A2: 2012 | B2: 1 | C2: LA SPEZIA | D2: NC | E2: NC | F2: NC | G2: NC | H2: 0 | I2: NC | J2: NC | K2: NC | L2: NC | M2: NC | N2: 0 | P2: -
A3: 2012 | B3: 2 | C3: LA SPEZIA | D3: NC | E3: NC | F3: NC | G3: NC | H3: 0 | I3: NC | J3: NC | K3: NC | L3: NC | M3: NC | N3: 0 | P3: -
A4: 2012 | B4: 3 | C4: LA SPEZIA | D4: NC | E4: NC | F4: NC | G4: NC | H4: 0 | I4: NC | J4: NC | K4: NC | L4: NC | M4: NC | N4: 0 | P4: -
A5: 2012 | B5: 4 | C5: LA SPEZIA | D5: NC | E5: NC | F5: NC | G5: NC | H5: 0 | I5: NC | J5: NC | K5: NC | L5: NC | M5: NC | N5: 0 | P5: -
A6: 2012 | B6: 5 | C6: LA SPEZIA | D6: 8 | E6: 2 | F6: 0 | G6: 26 | H6: 0 | I6: 19 | J6: 0 | K6: 0 | L6: 0 | M6: 0 | N6: =SUM(D6:M6) -> 55 | P6: -
A7: 2012 | B7: 6 | C7: LA SPEZIA | D7: 9 | E7: 1 | F7: 0 | G7: 80 | H7: 0 | I7: 0 | J7: 0 | K7: 0 | L7: 0 | M7: 0 | N7: =SUM(D7:M7) -> 90 | P7: -
A8: 2012 | B8: 7 | C8: LA SPEZIA | D8: 10 | E8: 0 | F8: 0 | G8: 6 | H8: 0 | I8: 12 | J8: 40 | K8: 0 | L8: 0 | M8: 0 | N8: =SUM(D8:M8) -> 68 | P8: -
A9: 2012 | B9: 8 | C9: LA SPEZIA | D9: 4 | E9: 0 | F9: 0 | G9: 4 | H9: 0 | I9: 4 | J9: 0 | K9: 0 | L9: 0 | M9: 0 | N9: =SUM(D9:M9) -> 12 | P9: -
A10: 2012 | B10: 9 | C10: LA SPEZIA | D10: 11 | E10: 0 | F10: 0 | G10: 3 | H10: 0 | I10: 18 | J10: 0 | K10: 0 | L10: 0 | M10: 0 | N10: =SUM(D10:M10) -> 32 | P10: -
A11: 2012 | B11: 10 | C11: LA SPEZIA | D11: 18 | E11: 2 | F11: 3 | G11: 0 | H11: 0 | I11: 11 | J11: 74 | K11: 0 | L11: 0 | M11: 0 | N11: =SUM(D11:M11) -> 108 | P11: -
A12: 2012 | B12: 11 | C12: LA SPEZIA | D12: 18 | E12: 0 | F12: 0 | G12: 0 | H12: 0 | I12: 11 | J12: 60 | K12: 0 | L12: 0 | M12: 0 | N12: =SUM(D12:M12) -> 89 | P12: -
A13: 2012 | B13: 12 | C13: LA SPEZIA | D13: 21 | E13: 0 | F13: 0 | G13: 3 | H13: 0 | I13: 3 | J13: 6 | K13: 0 | L13: 0 | M13: 0 | N13: =SUM(D13:M13) -> 33 | P13: -
A14: 2012 | B14: 13 | C14: LA SPEZIA | D14: 12 | E14: 1 | F14: 0 | G14: 3 | H14: 0 | I14: 0 | J14: 1 | K14: 0 | L14: 0 | M14: 0 | N14: =SUM(D14:M14) -> 17 | P14: -
A15: 2012 | B15: 14 | C15: LA SPEZIA | D15: 22 | E15: 4 | F15: 0 | G15: 2 | H15: 0 | I15: 5 | J15: 28 | K15: 0 | L15: 0 | M15: 0 | N15: =SUM(D15:M15) -> 61 | P15: -
A16: 2012 | B16: 15 | C16: LA SPEZIA | D16: 16 | E16: 2 | F16: 1 | G16: 1 | H16: 0 | I16: 2 | J16: 1 | K16: 0 | L16: 0 | M16: 0 | N16: =SUM(D16:M16) -> 23 | P16: -
A17: 2012 | B17: 16 | C17: LA SPEZIA | D17: 12 | E17: 0 | F17: 3 | G17: 2 | H17: 0 | I17: 14 | J17: 4 | K17: 0 | L17: 0 | M17: 0 | N17: =SUM(D17:M17) -> 35 | P17: -
... A53: 2012 | B53: 52 | C53: LA SPEZIA | D53: 8 | E53: 18 | F53: 3 | G53: 60 | H53: 0 | I53: 1 | J53: 7 | K53: 0 | L53: 0 | M53: 0 | N53: =SUM(D53:M53) -> 97 | P53: -
A54: YEAR | B54: WEEK | C54: POL | D54: ALGER | E54: ORAN | F54: GHAZAOUET | G54: BEJAIA | I54: SKIKDA | J54: ANNABA | K54: ALGER C | L54: ORAN Sec | M54: Mosta | N54: TOTAL | P54: Delta
A55: 2013 | B55: 1 | C55: LA SPEZIA | D55: 5 | E55: 0 | F55: 0 | G55: 0 | H55: 0 | I55: 2 | J55: 47 | K55: 0 | L55: 0 | M55: 0 | N55: =SUM(D55:M55) -> 54 | P55: -
A56: 2013 | B56: 2 | C56: LA SPEZIA | D56: 1 | E56: 0 | F56: 0 | G56: 7 | H56: 0 | I56: 2 | J56: 2 | K56: 0 | L56: 0 | M56: 0 | N56: =SUM(D56:M56) -> 12 | P56: -
A57: 2013 | B57: 3 | C57: LA SPEZIA | D57: 6 | E57: 4 | F57: 50 | G57: 6 | H57: 0 | I57: 2 | J57: 22 | K57: 0 | L57: 0 | M57: 0 | N57: =SUM(D57:M57) -> 90 | P57: -
A58: 2013 | B58: 4 | C58: LA SPEZIA | D58: 17 | E58: 2 | F58: 21 | G58: 0 | H58: 0 | I58: 1 | J58: 28 | K58: 0 | L58: 0 | M58: 0 | N58: =SUM(D58:M58) -> 69 | P58: -
A59: 2013 | B59: 5 | C59: LA SPEZIA | D59: 0 | E59: 0 | F59: 0 | G59: 0 | H59: 0 | I59: 0 | J59: 0 | K59: 0 | L59: 0 | M59: 0 | N59: =SUM(D59:M59) -> 0 | P59: =(N59-N6)/N6 -> -1
A60: 2013 | B60: 6 | C60: LA SPEZIA | D60: 31 | E60: 7 | F60: 24 | G60: 5 | H60: 0 | I60: 4 | J60: 16 | K60: 0 | L60: 0 | M60: 0 | N60: =SUM(D60:M60) -> 87 | P60: =(N60-N7)/N7 -> -0.033333333
A61: 2013 | B61: 7 | C61: LA SPEZIA | D61: 31 | E61: 0 | F61: 0 | G61: 17 | H61: 0 | I61: 0 | J61: 73 | K61: 0 | L61: 0 | M61: 0 | N61: =SUM(D61:M61) -> 121 | P61: =(N61-N8)/N8 -> 0.77941176
A62: 2013 | B62: 8 | C62: LA SPEZIA | D62: 4 | E62: 0 | F62: 0 | G62: 17 | H62: 0 | I62: 0 | J62: 9 | K62: 0 | L62: 0 | M62: 0 | N62: =SUM(D62:M62) -> 30 | P62: =(N62-N9)/N9 -> 1.5
A63: 2013 | B63: 9 | C63: LA SPEZIA | D63: 19 | E63: 10 | F63: 2 | G63: 1 | H63: 0 | I63: 2 | J63: 6 | K63: 5 | L63: 0 | M63: 0 | N63: =SUM(D63:M63) -> 45 | P63: =(N63-N10)/N10 -> 0.40625
A64: 2013 | B64: 10 | C64: LA SPEZIA | D64: 28 | E64: 5 | F64: 2 | G64: 1 | H64: 0 | I64: 9 | J64: 10 | K64: 0 | L64: 0 | M64: 0 | N64: =SUM(D64:M64) -> 55 | P64: =(N64-N11)/N11 -> -0.49074074
A65: 2013 | B65: 11 | C65: LA SPEZIA | D65: 26 | E65: 3 | F65: 0 | G65: 3 | H65: 0 | I65: 7 | J65: 2 | K65: 0 | L65: 0 | M65: 0 | N65: =SUM(D65:M65) -> 41 | P65: =(N65-N12)/N12 -> -0.53932584
A66: 2013 | B66: 12 | C66: LA SPEZIA | D66: 18 | E66: 2 | F66: 1 | G66: 15 | H66: 0 | I66: 2 | J66: 9 | K66: 0 | L66: 0 | M66: 0 | N66: =SUM(D66:M66) -> 47 | P66: =(N66-N13)/N13 -> 0.42424242
A67: 2013 | B67: 13 | C67: LA SPEZIA | D67: 29 | E67: 5 | F67: 12 | G67: 18 | H67: 0 | I67: 1 | J67: 0 | K67: 1 | L67: 0 | M67: 0 | N67: =SUM(D67:M67) -> 66 | P67: =(N67-N14)/N14 -> 2.8823529
A68: 2013 | B68: 14 | C68: LA SPEZIA | D68: 9 | E68: 2 | F68: 2 | G68: 23 | H68: 0 | I68: 3 | J68: 0 | K68: 0 | L68: 0 | M68: 0 | N68: =SUM(D68:M68) -> 39 | P68: =(N68-N15)/N15 -> -0.36065574
A69: 2013 | B69: 15 | C69: LA SPEZIA | D69: 16 | E69: 2 | F69: 0 | G69: 12 | H69: 0 | I69: 16 | J69: 5 | K69: 0 | L69: 0 | M69: 0 | N69: =SUM(D69:M69) -> 51 | P69: =(N69-N16)/N16 -> 1.2173913
A70: 2013 | B70: 16 | C70: LA SPEZIA | D70: 18 | E70: 1 | F70: 0 | G70: 7 | H70: 0 | I70: 7 | J70: 0 | K70: 0 | L70: 0 | M70: 0 | N70: =SUM(D70:M70) -> 33 | P70: =(N70-N17)/N17 -> -0.057142857
... A106: 2013 | B106: 52 | C106: LA SPEZIA | D106: 4 | E106: 8 | F106: 0 | G106: 0 | H106: 0 | I106: 15 | J106: 4 | K106: 0 | L106: 0 | M106: 0 | N106: =SUM(D106:M106) -> 31 | P106: =(N106-N53)/N53 -> -0.68041237
A107: YEAR | B107: WEEK | C107: POL | D107: ALGER | E107: ORAN | F107: GHAZAOUET | G107: BEJAIA | H107: DJEN DJEN | I107: SKIKDA | J107: ANNABA | K107: ALGER C | L107: ORAN Sec | M107: Mosta | N107: TOTAL | P107: Delta
A108: 2014 | B108: 1 | C108: LA SPEZIA | D108: 6 | E108: 4 | F108: 4 | G108: 0 | H108: 0 | I108: 4 | J108: 0 | K108: 2 | L108: 0 | M108: 0 | N108: =SUM(D108:M108) -> 20 | P108: =(N108-N55)/N55 -> -0.62962963
A109: 2014 | B109: 2 | C109: LA SPEZIA | D109: 4 | E109: 0 | F109: 0 | G109: 1 | H109: 0 | I109: 2 | J109: 0 | K109: 0 | L109: 0 | M109: 0 | N109: =SUM(D109:M109) -> 7 | P109: =(N109-N56)/N56 -> -0.41666667
A110: 2014 | B110: 3 | C110: LA SPEZIA | D110: 10 | E110: 2 | F110: 5 | G110: 2 | H110: 0 | I110: 11 | J110: 102 | K110: 2 | L110: 0 | M110: 0 | N110: =SUM(D110:M110) -> 134 | P110: =(N110-N57)/N57 -> 0.48888889
A111: 2014 | B111: 4 | C111: LA SPEZIA | D111: 4 | E111: 2 | F111: 2 | G111: 0 | H111: 0 | I111: 10 | J111: 88 | K111: 0 | L111: 0 | M111: 0 | N111: =SUM(D111:M111) -> 106 | P111: =(N111-N58)/N58 -> 0.53623188
A112: 2014 | B112: 5 | C112: LA SPEZIA | D112: 16 | E112: 12 | F112: 2 | G112: 7 | H112: 0 | I112: 13 | J112: 8 | K112: 0 | L112: 0 | M112: 0 | N112: =SUM(D112:M112) -> 58 | P112: =(N112-N59)/N59 -> #DIV/0!
A113: 2014 | B113: 6 | C113: LA SPEZIA | D113: 18 | E113: 8 | F113: 0 | G113: 12 | H113: 0 | I113: 0 | J113: 79 | K113: 1 | L113: 0 | M113: 1 | N113: =SUM(D113:M113) -> 119 | P113: =(N113-N60)/N60 -> 0.36781609
A114: 2014 | B114: 7 | C114: LA SPEZIA | D114: 50 | E114: 4 | F114: 0 | G114: 8 | H114: 0 | I114: 2 | J114: 2 | K114: 0 | L114: 0 | M114: 0 | N114: =SUM(D114:M114) -> 66 | P114: =(N114-N61)/N61 -> -0.45454545
A115: 2014 | B115: 8 | C115: LA SPEZIA | D115: 11 | E115: 7 | F115: 3 | G115: 0 | H115: 0 | I115: 0 | J115: 1 | K115: 0 | L115: 0 | M115: 0 | N115: =SUM(D115:M115) -> 22 | P115: =(N115-N62)/N62 -> -0.26666667
A116: 2014 | B116: 9 | C116: LA SPEZIA | D116: 33 | E116: 10 | F116: 8 | G116: 9 | H116: 0 | I116: 4 | J116: 5 | K116: 2 | L116: 0 | M116: 0 | N116: =SUM(D116:M116) -> 71 | P116: =(N116-N63)/N63 -> 0.57777778
A117: 2014 | B117: 10 | C117: LA SPEZIA | D117: 31 | E117: 13 | F117: 8 | G117: 4 | H117: 0 | I117: 17 | J117: 0 | K117: 0 | L117: 0 | M117: 0 | N117: =SUM(D117:M117) -> 73 | P117: =(N117-N64)/N64 -> 0.32727273
A118: 2014 | B118: 11 | C118: LA SPEZIA | D118: 27 | E118: 37 | F118: 19 | G118: 1 | H118: 0 | I118: 3 | J118: 1 | K118: 3 | L118: 0 | M118: 0 | N118: =SUM(D118:M118) -> 91 | P118: =(N118-N65)/N65 -> 1.2195122
A119: 2014 | B119: 12 | C119: LA SPEZIA | D119: 21 | E119: 16 | F119: 3 | G119: 6 | H119: 0 | I119: 8 | J119: 48 | K119: 2 | L119: 0 | M119: 0 | N119: =SUM(D119:M119) -> 104 | P119: =(N119-N66)/N66 -> 1.212766
... A159: 2014 | B159: 52 | C159: LA SPEZIA | D159: 97 | E159: 24 | F159: 12 | G159: 12 | H159: 0 | I159: 19 | J159: 0 | K159: 0 | L159: 0 | M159: 0 | N159: =SUM(D159:M159) -> 164 | P159: =(N159-N106)/N106 -> 4.2903226
A160: YEAR | B160: WEEK | C160: POL | D160: ALGER SEC | E160: ORAN | F160: GHAZAOUET | G160: BEJAIA | H160: DJEN DJEN | I160: SKIKDA | J160: ANNABA | K160: ALGER C | L160: ORAN Sec | M160: Mosta | N160: TOTAL | P160: Delta
A161: 2015 | B161: 1 | C161: LA SPEZIA | D161: 20 | E161: 7 | F161: 0 | G161: 4 | H161: 0 | I161: 4 | J161: 0 | K161: 2 | L161: 0 | M161: 0 | N161: =SUM(D161:M161) -> 37 | P161: =(N161-N108)/N108 -> 0.85
A162: 2015 | B162: 2 | C162: LA SPEZIA | D162: 12 | E162: 0 | F162: 0 | G162: 8 | H162: 0 | I162: 0 | J162: 0 | K162: 14 | L162: 0 | M162: 0 | N162: =SUM(D162:M162) -> 34 | P162: =(N162-N109)/N109 -> 3.8571429
A163: 2015 | B163: 3 | C163: LA SPEZIA | D163: 21 | E163: 20 | F163: 0 | G163: 1 | H163: 0 | I163: 0 | J163: 4 | K163: 3 | L163: 0 | M163: 0 | N163: =SUM(D163:M163) -> 49 | P163: =(N163-N110)/N110 -> -0.63432836
A164: 2015 | B164: 4 | C164: LA SPEZIA | D164: 44 | E164: 2 | F164: 4 | G164: 30 | H164: 0 | I164: 2 | J164: 6 | K164: 10 | L164: 0 | M164: 0 | N164: =SUM(D164:M164) -> 98 | P164: =(N164-N111)/N111 -> -0.075471698
A165: 2015 | B165: 5 | C165: LA SPEZIA | D165: 22 | E165: 20 | F165: 7 | G165: 1 | H165: 0 | I165: 0 | J165: 4 | K165: 2 | L165: 0 | M165: 0 | N165: =SUM(D165:M165) -> 56 | P165: =(N165-N112)/N112 -> -0.034482759
A166: 2015 | B166: 6 | C166: LA SPEZIA | D166: 108 | E166: 14 | F166: 1 | G166: 15 | H166: 0 | I166: 2 | J166: 8 | K166: 5 | L166: 0 | M166: 0 | N166: =SUM(D166:M166) -> 153 | P166: =(N166-N113)/N113 -> 0.28571429
A167: 2015 | B167: 7 | C167: LA SPEZIA | D167: 20 | E167: 1 | F167: 3 | G167: 5 | H167: 24 | I167: 3 | J167: 14 | K167: 2 | L167: 0 | M167: 0 | N167: =SUM(D167:M167) -> 72 | P167: =(N167-N114)/N114 -> 0.090909091
A168: 2015 | B168: 8 | C168: LA SPEZIA | D168: 38 | E168: 26 | F168: 2 | G168: 12 | H168: 6 | I168: 4 | J168: 0 | K168: 6 | L168: 0 | M168: 0 | N168: =SUM(D168:M168) -> 94 | P168: =(N168-N115)/N115 -> 3.2727273
A169: 2015 | B169: 9 | C169: LA SPEZIA | D169: 35 | E169: 9 | F169: 10 | G169: 3 | H169: 0 | I169: 13 | J169: 4 | K169: 4 | L169: 0 | M169: 0 | N169: =SUM(D169:M169) -> 78 | P169: =(N169-N116)/N116 -> 0.098591549
A170: 2015 | B170: 10 | C170: LA SPEZIA | D170: 48 | E170: 0 | F170: 27 | G170: 11 | H170: 0 | I170: 3 | J170: 7 | K170: 4 | L170: 0 | M170: 1 | N170: =SUM(D170:M170) -> 101 | P170: =(N170-N117)/N117 -> 0.38356164
A171: 2015 | B171: 11 | C171: LA SPEZIA | D171: 28 | E171: 9 | F171: 4 | G171: 18 | H171: 0 | I171: 6 | J171: 4 | K171: 5 | L171: 0 | M171: 0 | N171: =SUM(D171:M171) -> 74 | P171: =(N171-N118)/N118 -> -0.18681319
A172: 2015 | B172: 12 | C172: LA SPEZIA | D172: 119 | E172: 21 | F172: 11 | G172: 8 | H172: 14 | I172: 4 | J172: 12 | K172: 14 | L172: 0 | M172: 0 | N172: =SUM(D172:M172) -> 203 | P172: =(N172-N119)/N119 -> 0.95192308
... A212: 2015 | B212: 52 | C212: LA SPEZIA | D212: 46 | E212: 15 | F212: 11 | G212: 16 | H212: 0 | I212: 3 | J212: 7 | K212: 2 | L212: 0 | M212: 0 | N212: =SUM(D212:M212) -> 100 | P212: =(N212-N159)/N159 -> -0.3902439
A213: 2015 | B213: 53 | C213: LA SPEZIA | D213: 21 | E213: 7 | F213: 2 | G213: 3 | H213: 1 | I213: 2 | J213: 2 | K213: 0 | L213: 0 | M213: 0 | N213: =SUM(D213:M213) -> 38 | P213: -
A214: YEAR | B214: WEEK | C214: POL | D214: ALGER SEC | E214: ORAN | F214: GHAZAOUET | G214: BEJAIA | H214: DJEN DJEN | I214: SKIKDA | J214: ANNABA | K214: ALGER C | L214: ORAN Sec | M214: Mosta | N214: TOTAL | P214: Delta
A215: 2016 | B215: 1 | C215: LA SPEZIA | D215: 4 | E215: 1 | F215: 0 | G215: 27 | H215: 0 | I215: 0 | J215: 0 | K215: 10 | L215: 0 | M215: 0 | N215: =SUM(D215:M215) -> 42 | P215: =(N215-N162)/N162 -> 0.23529412
A216: 2016 | B216: 2 | C216: LA SPEZIA | D216: 17 | E216: 11 | F216: 0 | G216: 2 | H216: 1 | I216: 0 | J216: 2 | K216: 2 | L216: 0 | M216: 0 | N216: =SUM(D216:M216) -> 35 | P216: =(N216-N163)/N163 -> -0.28571429
A217: 2016 | B217: 3 | C217: LA SPEZIA | D217: 18 | E217: 0 | F217: 0 | G217: 4 | H217: 0 | I217: 0 | J217: 1 | K217: 4 | L217: 0 | M217: 0 | N217: =SUM(D217:M217) -> 27 | P217: =(N217-N164)/N164 -> -0.7244898
A218: 2016 | B218: 4 | C218: LA SPEZIA | D218: 4 | E218: 15 | F218: 13 | G218: 8 | H218: 0 | I218: 11 | J218: 4 | K218: 2 | L218: 0 | M218: 0 | N218: =SUM(D218:M218) -> 57 | P218: =(N218-N165)/N165 -> 0.017857143
A219: 2016 | B219: 5 | C219: LA SPEZIA | D219: 86 | E219: 13 | F219: 22 | G219: 16 | H219: 0 | I219: 1 | J219: 19 | K219: 11 | L219: 0 | M219: 0 | N219: =SUM(D219:M219) -> 168 | P219: =(N219-N166)/N166 -> 0.098039216
A220: 2016 | B220: 6 | C220: LA SPEZIA | D220: 42 | E220: 2 | F220: 4 | G220: 11 | H220: 0 | I220: 2 | J220: 5 | K220: 7 | L220: 0 | M220: 0 | N220: =SUM(D220:M220) -> 73 | P220: =(N220-N167)/N167 -> 0.013888889
A221: 2016 | B221: 7 | C221: LA SPEZIA | D221: 22 | E221: 12 | F221: 10 | G221: 16 | H221: 0 | I221: 2 | J221: 25 | K221: 9 | L221: 0 | M221: 0 | N221: =SUM(D221:M221) -> 96 | P221: =(N221-N168)/N168 -> 0.021276596
A222: 2016 | B222: 8 | C222: LA SPEZIA | D222: 93 | E222: 11 | F222: 4 | G222: 11 | H222: 0 | I222: 34 | J222: 37 | K222: 0 | L222: 0 | M222: 0 | N222: =SUM(D222:M222) -> 190 | P222: =(N222-N169)/N169 -> 1.4358974
A223: 2016 | B223: 9 | C223: LA SPEZIA | D223: 17 | E223: 10 | F223: 25 | G223: 18 | H223: 0 | I223: 5 | J223: 9 | K223: 13 | L223: 0 | M223: 0 | N223: =SUM(D223:M223) -> 97 | P223: =(N223-N170)/N170 -> -0.03960396
A224: 2016 | B224: 10 | C224: LA SPEZIA | D224: 24 | E224: 34 | F224: 5 | G224: 9 | H224: 0 | I224: 2 | J224: 20 | K224: 2 | L224: 0 | M224: 0 | N224: =SUM(D224:M224) -> 96 | P224: =(N224-N171)/N171 -> 0.2972973
A225: 2016 | B225: 11 | C225: LA SPEZIA | P225: =(N225-N172)/N172 -> -1
A226: 2016 | B226: 12 | C226: LA SPEZIA | P226: =(N226-N173)/N173 -> -1
A227: 2016 | B227: 13 | C227: LA SPEZIA | P227: =(N227-N174)/N174 -> -1
A228: 2016 | B228: 14 | C228: LA SPEZIA | P228: =(N228-N175)/N175 -> -1
A229: 2016 | B229: 15 | C229: LA SPEZIA | P229: =(N229-N176)/N176 -> -1
A230: 2016 | B230: 16 | C230: LA SPEZIA | P230: =(N230-N177)/N177 -> -1
A231: 2016 | B231: 17 | C231: LA SPEZIA | P231: =(N231-N178)/N178 -> -1
A232: 2016 | B232: 18 | C232: LA SPEZIA | P232: =(N232-N179)/N179 -> -1
A233: 2016 | B233: 19 | C233: LA SPEZIA | P233: =(N233-N180)/N180 -> -1
A234: 2016 | B234: 20 | C234: LA SPEZIA | P234: =(N234-N181)/N181 -> -1
A235: 2016 | B235: 21 | C235: LA SPEZIA | P235: =(N235-N182)/N182 -> -1
A236: 2016 | B236: 22 | C236: LA SPEZIA | P236: =(N236-N183)/N183 -> -1
... A266: 2016 | B266: 52 | C266: LA SPEZIA | P266: =(N266-N213)/N213 -> -1
A267: 2016 | B267: 53 | C267: LA SPEZIA | P267: -

Sheet GANDIA
A1: YEAR | B1: WEEK | C1: POL | D1: ORAN | E1: GHAZAOUET | F1: TOTAL | H1: Delta
A2: 2013 | B2: 1 | C2: GANDIA | D2: 0 | E2: 0 | F2: =SUM(D2:E2) -> 0 | H2: -
A3: 2013 | B3: 2 | C3: GANDIA | D3: 0 | E3: 0 | F3: =SUM(D3:E3) -> 0 | H3: -
A4: 2013 | B4: 3 | C4: GANDIA | D4: 0 | E4: 0 | F4: =SUM(D4:E4) -> 0 | H4: -
A5: 2013 | B5: 4 | C5: GANDIA | D5: 0 | E5: 0 | F5: =SUM(D5:E5) -> 0 | H5: -
A6: 2013 | B6: 5 | C6: GANDIA | D6: 0 | E6: 0 | F6: =SUM(D6:E6) -> 0 | H6: -
A7: 2013 | B7: 6 | C7: GANDIA | D7: 0 | E7: 0 | F7: =SUM(D7:E7) -> 0 | H7: -
A8: 2013 | B8: 7 | C8: GANDIA | D8: 0 | E8: 0 | F8: =SUM(D8:E8) -> 0 | H8: -
A9: 2013 | B9: 8 | C9: GANDIA | D9: 0 | E9: 0 | F9: =SUM(D9:E9) -> 0 | H9: -
A10: 2013 | B10: 9 | C10: GANDIA | D10: 0 | E10: 0 | F10: =SUM(D10:E10) -> 0 | H10: -
A11: 2013 | B11: 10 | C11: GANDIA | D11: 0 | E11: 0 | F11: =SUM(D11:E11) -> 0 | H11: -
A12: 2013 | B12: 11 | C12: GANDIA | D12: 0 | E12: 0 | F12: =SUM(D12:E12) -> 0 | H12: -
A13: 2013 | B13: 12 | C13: GANDIA | D13: 0 | E13: 0 | F13: =SUM(D13:E13) -> 0 | H13: -
... A53: 2013 | B53: 52 | C53: GANDIA | D53: 0 | E53: 18 | F53: =SUM(D53:E53) -> 18 | H53: -
A54: YEAR | B54: WEEK | C54: POL | D54: ORAN | E54: GHAZAOUET | F54: TOTAL | H54: Delta
A55: 2014 | B55: 1 | C55: GANDIA | D55: 0 | E55: 0 | F55: =SUM(D55:E55) -> 0 | H55: -
A56: 2014 | B56: 2 | C56: GANDIA | D56: 0 | E56: 20 | F56: =SUM(D56:E56) -> 20 | H56: -
A57: 2014 | B57: 3 | C57: GANDIA | D57: 0 | E57: 22 | F57: =SUM(D57:E57) -> 22 | H57: -
A58: 2014 | B58: 4 | C58: GANDIA | D58: 0 | E58: 26 | F58: =SUM(D58:E58) -> 26 | H58: -
A59: 2014 | B59: 5 | C59: GANDIA | D59: 0 | E59: 14 | F59: =SUM(D59:E59) -> 14 | H59: -
A60: 2014 | B60: 6 | C60: GANDIA | D60: 0 | E60: 27 | F60: =SUM(D60:E60) -> 27 | H60: -
A61: 2014 | B61: 7 | C61: GANDIA | D61: 0 | E61: 0 | F61: =SUM(D61:E61) -> 0 | H61: -
A62: 2014 | B62: 8 | C62: GANDIA | D62: 0 | E62: 12 | F62: =SUM(D62:E62) -> 12 | H62: -
A63: 2014 | B63: 9 | C63: GANDIA | D63: 0 | E63: 12 | F63: =SUM(D63:E63) -> 12 | H63: -
A64: 2014 | B64: 10 | C64: GANDIA | D64: 0 | E64: 0 | F64: =SUM(D64:E64) -> 0 | H64: -
A65: 2014 | B65: 11 | C65: GANDIA | D65: 0 | E65: 10 | F65: =SUM(D65:E65) -> 10 | H65: -
A66: 2014 | B66: 12 | C66: GANDIA | D66: 0 | E66: 0 | F66: =SUM(D66:E66) -> 0 | H66: -
... A68: 2014 | B68: 14 | C68: VALENCE | D68: 0 | E68: 38 | F68: =SUM(D68:E68) -> 38 | H68: -
A69: 2014 | B69: 15 | C69: GANDIA | D69: 0 | E69: 108 | F69: =SUM(D69:E69) -> 108 | H69: =(F69-F16)/F16 -> 0.35
A70: 2014 | B70: 16 | C70: GANDIA | D70: 0 | E70: 20 | F70: =SUM(D70:E70) -> 20 | H70: =(F70-F17)/F17 -> -0.7826087
A71: 2014 | B71: 17 | C71: GANDIA | D71: 0 | E71: 104 | F71: =SUM(D71:E71) -> 104 | H71: =(F71-F18)/F18 -> 0.67741935
A72: 2014 | B72: 18 | C72: GANDIA | D72: 0 | E72: 82 | F72: =SUM(D72:E72) -> 82 | H72: =(F72-F19)/F19 -> 0.86363636
A73: 2014 | B73: 19 | C73: GANDIA | D73: 0 | E73: 44 | F73: =SUM(D73:E73) -> 44 | H73: =(F73-F20)/F20 -> 1.4444444
A74: 2014 | B74: 20 | C74: GANDIA | D74: 0 | E74: 24 | F74: =SUM(D74:E74) -> 24 | H74: -
A75: 2014 | B75: 21 | C75: GANDIA | D75: 0 | E75: 0 | F75: =SUM(D75:E75) -> 0 | H75: -
A76: 2014 | B76: 22 | C76: GANDIA | D76: 0 | E76: 0 | F76: =SUM(D76:E76) -> 0 | H76: -
A77: 2014 | B77: 23 | C77: GANDIA | D77: 0 | E77: 0 | F77: =SUM(D77:E77) -> 0 | H77: -
A78: 2014 | B78: 24 | C78: GANDIA | D78: 0 | E78: 0 | F78: =SUM(D78:E78) -> 0 | H78: -
A79: 2014 | B79: 25 | C79: GANDIA | D79: 0 | E79: 0 | F79: =SUM(D79:E79) -> 0 | H79: -
A80: 2014 | B80: 26 | C80: GANDIA | D80: 0 | E80: 0 | F80: =SUM(D80:E80) -> 0 | H80: -
A81: 2014 | B81: 27 | C81: GANDIA | D81: 0 | E81: 0 | F81: =SUM(D81:E81) -> 0 | H81: -
A82: 2014 | B82: 28 | C82: GANDIA | D82: 0 | E82: 58 | F82: =SUM(D82:E82) -> 58 | H82: =(F82-F29)/F29 -> 2.4117647
A83: 2014 | B83: 29 | C83: GANDIA | D83: 0 | E83: 92 | F83: =SUM(D83:E83) -> 92 | H83: -
A84: 2014 | B84: 30 | C84: GANDIA | D84: 0 | E84: 46 | F84: =SUM(D84:E84) -> 46 | H84: =(F84-F31)/F31 -> 0.53333333
A85: 2014 | B85: 31 | C85: GANDIA | D85: 0 | E85: 58 | F85: =SUM(D85:E85) -> 58 | H85: =(F85-F32)/F32 -> 2.2222222
A86: 2014 | B86: 32 | C86: GANDIA | D86: 0 | E86: 16 | F86: =SUM(D86:E86) -> 16 | H86: =(F86-F33)/F33 -> -0.38461538
A87: 2014 | B87: 33 | C87: GANDIA | D87: 0 | E87: 0 | F87: =SUM(D87:E87) -> 0 | H87: =(F87-F34)/F34 -> -1
A88: 2014 | B88: 34 | C88: GANDIA | D88: 0 | E88: 40 | F88: =SUM(D88:E88) -> 40 | H88: =(F88-F35)/F35 -> 39
A89: 2014 | B89: 35 | C89: GANDIA | D89: 0 | E89: 36 | F89: =SUM(D89:E89) -> 36 | H89: =(F89-F36)/F36 -> 0.38461538
A90: 2014 | B90: 36 | C90: GANDIA | D90: 0 | E90: 44 | F90: =SUM(D90:E90) -> 44 | H90: =(F90-F37)/F37 -> 0.46666667
A91: 2014 | B91: 37 | C91: GANDIA | D91: 0 | E91: 20 | F91: =SUM(D91:E91) -> 20 | H91: -
A92: 2014 | B92: 38 | C92: GANDIA | D92: 0 | E92: 22 | F92: =SUM(D92:E92) -> 22 | H92: -
A93: 2014 | B93: 39 | C93: GANDIA | D93: 0 | E93: 22 | F93: =SUM(D93:E93) -> 22 | H93: -
A94: 2014 | B94: 40 | C94: GANDIA | D94: 0 | E94: 22 | F94: =SUM(D94:E94) -> 22 | H94: -
A95: 2014 | B95: 41 | C95: GANDIA | D95: 0 | E95: 28 | F95: =SUM(D95:E95) -> 28 | H95: -
A96: 2014 | B96: 42 | C96: GANDIA | D96: 0 | E96: 42 | F96: =SUM(D96:E96) -> 42 | H96: -
A97: 2014 | B97: 43 | C97: GANDIA | D97: 0 | E97: 44 | F97: =SUM(D97:E97) -> 44 | H97: -
A98: 2014 | B98: 44 | C98: GANDIA | D98: 0 | E98: 40 | F98: =SUM(D98:E98) -> 40 | H98: -
A99: 2014 | B99: 45 | C99: GANDIA | D99: 0 | E99: 57 | F99: =SUM(D99:E99) -> 57 | H99: -
A100: 2014 | B100: 46 | C100: GANDIA | D100: 0 | E100: 54 | F100: =SUM(D100:E100) -> 54 | H100: -
A101: 2014 | B101: 47 | C101: GANDIA | D101: 0 | E101: 48 | F101: =SUM(D101:E101) -> 48 | H101: -
A102: 2014 | B102: 48 | C102: GANDIA | D102: 0 | E102: 30 | F102: =SUM(D102:E102) -> 30 | H102: =(F102-F49)/F49 -> 1.1428571
A103: 2014 | B103: 49 | C103: GANDIA | D103: 0 | E103: 45 | F103: =SUM(D103:E103) -> 45 | H103: =(F103-F50)/F50 -> 0.875
A104: 2014 | B104: 50 | C104: GANDIA | D104: 0 | E104: 34 | F104: =SUM(D104:E104) -> 34 | H104: =(F104-F51)/F51 -> 0.03030303
A105: 2014 | B105: 51 | C105: GANDIA | D105: 0 | E105: 32 | F105: =SUM(D105:E105) -> 32 | H105: =(F105-F52)/F52 -> -0.56164384
A106: 2014 | B106: 52 | C106: GANDIA | D106: 0 | E106: 14 | F106: =SUM(D106:E106) -> 14 | H106: =(F106-F53)/F53 -> -0.22222222
A107: YEAR | B107: WEEK | C107: POL | D107: ORAN | E107: GHAZAOUET | F107: TOTAL | H107: Delta
A108: 2015 | B108: 1 | C108: GANDIA | D108: 0 | E108: 0 | F108: =SUM(D108:E108) -> 0 | H108: -
A109: 2015 | B109: 2 | C109: GANDIA | D109: 0 | E109: 30 | F109: =SUM(D109:E109) -> 30 | H109: =(F109-F56)/F56 -> 0.5
A110: 2015 | B110: 3 | C110: GANDIA | D110: 0 | E110: 44 | F110: =SUM(D110:E110) -> 44 | H110: =(F110-F57)/F57 -> 1
A111: 2015 | B111: 4 | C111: GANDIA | D111: 0 | E111: 62 | F111: =SUM(D111:E111) -> 62 | H111: =(F111-F58)/F58 -> 1.3846154
A112: 2015 | B112: 5 | C112: GANDIA | D112: 0 | E112: 49 | F112: =SUM(D112:E112) -> 49 | H112: =(F112-F59)/F59 -> 2.5
A113: 2015 | B113: 6 | C113: GANDIA | D113: 0 | E113: 50 | F113: =SUM(D113:E113) -> 50 | H113: =(F113-F60)/F60 -> 0.85185185
A114: 2015 | B114: 7 | C114: GANDIA | D114: 0 | E114: 56 | F114: =SUM(D114:E114) -> 56 | H114: -
A115: 2015 | B115: 8 | C115: GANDIA | D115: 0 | E115: 0 | F115: =SUM(D115:E115) -> 0 | H115: =(F115-F62)/F62 -> -1
A116: 2015 | B116: 9 | C116: GANDIA | D116: 0 | E116: 61 | F116: =SUM(D116:E116) -> 61 | H116: =(F116-F63)/F63 -> 4.0833333
A117: 2015 | B117: 10 | C117: GANDIA | D117: 0 | E117: 56 | F117: =SUM(D117:E117) -> 56 | H117: -
A118: 2015 | B118: 11 | C118: GANDIA | D118: 0 | E118: 44 | F118: =SUM(D118:E118) -> 44 | H118: =(F118-F65)/F65 -> 3.4
A119: 2015 | B119: 12 | C119: GANDIA | D119: 0 | E119: 24 | F119: =SUM(D119:E119) -> 24 | H119: -
A120: 2015 | B120: 13 | C120: GANDIA | D120: 0 | E120: 32 | F120: =SUM(D120:E120) -> 32 | H120: -
A121: 2015 | B121: 14 | C121: GANDIA | D121: 0 | E121: 0 | F121: =SUM(D121:E121) -> 0 | H121: =(F121-F68)/F68 -> -1
A122: 2015 | B122: 15 | C122: GANDIA | D122: 0 | E122: 50 | F122: =SUM(D122:E122) -> 50 | H122: =(F122-F69)/F69 -> -0.53703704
A123: 2015 | B123: 16 | C123: GANDIA | D123: 0 | E123: 42 | F123: =SUM(D123:E123) -> 42 | H123: =(F123-F70)/F70 -> 1.1
A124: 2015 | B124: 17 | C124: GANDIA | D124: 0 | E124: 44 | F124: =SUM(D124:E124) -> 44 | H124: =(F124-F71)/F71 -> -0.57692308
A125: 2015 | B125: 18 | C125: GANDIA | D125: 0 | E125: 0 | F125: =SUM(D125:E125) -> 0 | H125: =(F125-F72)/F72 -> -1 | I125: OMIT
A126: 2015 | B126: 19 | C126: GANDIA | D126: 0 | E126: 20 | F126: =SUM(D126:E126) -> 20 | H126: =(F126-F73)/F73 -> -0.54545455
A127: 2015 | B127: 20 | C127: GANDIA | D127: 0 | E127: 22 | F127: =SUM(D127:E127) -> 22 | H127: =(F127-F74)/F74 -> -0.083333333
A128: 2015 | B128: 21 | C128: GANDIA | D128: 0 | E128: 0 | F128: =SUM(D128:E128) -> 0 | H128: - | I128: OMIT
A129: 2015 | B129: 22 | C129: GANDIA | D129: 0 | E129: 36 | F129: =SUM(D129:E129) -> 36 | H129: -
A130: 2015 | B130: 23 | C130: GANDIA | D130: 0 | E130: 20 | F130: =SUM(D130:E130) -> 20 | H130: -
A131: 2015 | B131: 24 | C131: GANDIA | D131: 0 | E131: 0 | F131: =SUM(D131:E131) -> 0 | H131: -
A132: 2015 | B132: 25 | C132: GANDIA | D132: 0 | E132: 0 | F132: =SUM(D132:E132) -> 0 | H132: -
A133: 2015 | B133: 26 | C133: GANDIA | D133: 0 | E133: 0 | F133: =SUM(D133:E133) -> 0 | H133: - | I133: OMIT
A134: 2015 | B134: 27 | C134: GANDIA | D134: 0 | E134: 86 | F134: =SUM(D134:E134) -> 86 | H134: -
A135: 2015 | B135: 28 | C135: GANDIA | D135: 0 | E135: 30 | F135: =SUM(D135:E135) -> 30 | H135: =(F135-F82)/F82 -> -0.48275862
A136: 2015 | B136: 29 | C136: GANDIA | D136: 0 | E136: 26 | F136: =SUM(D136:E136) -> 26 | H136: =(F136-F83)/F83 -> -0.7173913
A137: 2015 | B137: 30 | C137: GANDIA | D137: 0 | E137: 42 | F137: =SUM(D137:E137) -> 42 | H137: =(F137-F84)/F84 -> -0.086956522
A138: 2015 | B138: 31 | C138: GANDIA | D138: 0 | E138: 22 | F138: =SUM(D138:E138) -> 22 | H138: =(F138-F85)/F85 -> -0.62068966
A139: 2015 | B139: 32 | C139: GANDIA | D139: 0 | E139: 0 | F139: =SUM(D139:E139) -> 0 | H139: - | I139: OMIT
A140: 2015 | B140: 33 | C140: GANDIA | D140: 0 | E140: 0 | F140: =SUM(D140:E140) -> 0 | H140: - | I140: OMIT
...
