Workbook
Name ALGER: RECAP!$C:$C
Name ALGER_C: RECAP!$J:$J
Name ANNABA: RECAP!$I:$I
Name BEJAIA: RECAP!$F:$F
Name DJEN_DJEN: RECAP!$G:$G
Name GHAZAOUET: RECAP!$E:$E
Name Mosta: RECAP!$L:$L
Name ORAN: RECAP!$D:$D
Name ORAN_Sec: RECAP!$K:$K
Name pol: RECAP!$B:$B
Name SKIKDA: RECAP!$H:$H
Name week: RECAP!$A:$A

Sheet RECAP
A1: week | B1: pol | C1: ALGER | D1: ORAN | E1: GHAZAOUET | F1: BEJAIA | G1: DJEN DJEN | H1: SKIKDA | I1: ANNABA | J1: ALGER C | K1: ORAN Sec | L1: Mosta
A2: 22 | B2: BARCELONE | C2: 83 | D2: 230 | E2: 2 | F2: 345 | G2: 0 | H2: 300 | I2: 1 | J2: 6 | K2: 0 | L2: 0
A3: 22 | B3: VALENCE | C3: 84 | D3: 70 | E3: 18 | F3: 121 | G3: 1 | H3: 75 | I3: 14 | J3: 3 | K3: 0 | L3: 0
A4: 22 | B4: GANDIA | C4: 0 | D4: 0 | E4: 0 | F4: 0 | G4: 0 | H4: 0 | I4: 0 | J4: 34 | K4: 0 | L4: 0
A5: 22 | B5: LA SPEZIA | C5: 10 | D5: 16 | E5: 6 | F5: 9 | G5: 0 | H5: 2 | I5: 6 | J5: 9 | K5: 0 | L5: 0
A6: 22 | B6: GENES | C6: 82 | D6: 41 | E6: 123 | F6: 83 | G6: 17 | H6: 22 | I6: 1 | J6: 5 | K6: 0 | L6: 0
A7: 22 | B7: MARSEILLE | C7: 430 | D7: 121 | E7: 192 | F7: 199 | G7: 0 | H7: 96 | I7: 114 | J7: 168 | K7: 0 | L7: 0
A8: 23 | B8: BARCELONE | C8: 83 | D8: 230 | E8: 2 | F8: 345 | G8: 0 | H8: 300 | I8: 1 | J8: 6 | K8: 0 | L8: 0
A9: 23 | B9: VALENCE | C9: 84 | D9: 70 | E9: 18 | F9: 121 | G9: 1 | H9: 75 | I9: 14 | J9: 3 | K9: 0 | L9: 0
A10: 23 | B10: GANDIA | C10: 0 | D10: 0 | E10: 0 | F10: 0 | G10: 0 | H10: 0 | I10: 0 | J10: 34 | K10: 0 | L10: 0
A11: 23 | B11: LA SPEZIA | C11: 10 | D11: 16 | E11: 6 | F11: 9 | G11: 0 | H11: 2 | I11: 6 | J11: 9 | K11: 0 | L11: 0
A12: 23 | B12: GENES | C12: 82 | D12: 41 | E12: 123 | F12: 83 | G12: 17 | H12: 22 | I12: 1 | J12: 5 | K12: 0 | L12: 0
A13: 23 | B13: MARSEILLE | C13: 430 | D13: 121 | E13: 192 | F13: 199 | G13: 0 | H13: 96 | I13: 114 | J13: 168 | K13: 0 | L13: 0
... A43: 28 | B43: MARSEILLE | C43: 205 | D43: 122 | E43: 85 | F43: 90 | G43: 90 | H43: 90 | I43: 90 | J43: 90 | K43: 90 | L43: 90

Sheet synthése
A1: YEAR | B1: WEEK | C1: POL | D1: ALGER | E1: ORAN | F1: GHAZAOUET | G1: BEJAIA | H1: DJEN DJEN | I1: SKIKDA | J1: ANNABA | K1: ALGER C | L1: ORAN Sec | M1: Mosta | N1: TOTAL
A2: =IF(B2="","",YEAR(TODAY())) -> 2016 | B2: 22 | C2: =IF(RECAP!B2="","",RECAP!B2) -> BARCELONE | D2: {=SUMPRODUCT((RECAP!$A$2:$A$1000=synthése!$B2)*(RECAP!$B$2:$B$1000=synthése!$C2)*(RECAP!$C$1:$L$1=synthése!D$1)*(RECAP!$C$2:$L$1000))} -> 83 | E2: {=SUMPRODUCT((RECAP!$A$2:$A$7=synthése!$B2)*(RECAP!$B$2:$B$7=synthése!$C2)*(RECAP!$C$1:$L$1=synthése!E$1)*(RECAP!$C$2:$L$7))} -> 230 | F2: {=SUMPRODUCT((RECAP!$A$2:$A$7=synthése!$B2)*(RECAP!$B$2:$B$7=synthése!$C2)*(RECAP!$C$1:$L$1=synthése!F$1)*(RECAP!$C$2:$L$7))} -> 2 | G2: {=SUMPRODUCT((RECAP!$A$2:$A$7=synthése!$B2)*(RECAP!$B$2:$B$7=synthése!$C2)*(RECAP!$C$1:$L$1=synthése!G$1)*(RECAP!$C$2:$L$7))} -> 345 | H2: {=SUMPRODUCT((RECAP!$A$2:$A$7=synthése!$B2)*(RECAP!$B$2:$B$7=synthése!$C2)*(RECAP!$C$1:$L$1=synthése!H$1)*(RECAP!$C$2:$L$7))} -> 0 | I2: {=SUMPRODUCT((RECAP!$A$2:$A$7=synthése!$B2)*(RECAP!$B$2:$B$7=synthése!$C2)*(RECAP!$C$1:$L$1=synthése!I$1)*(RECAP!$C$2:$L$7))} -> 300 | J2: {=SUMPRODUCT((RECAP!$A$2:$A$7=synthése!$B2)*(RECAP!$B$2:$B$7=synthése!$C2)*(RECAP!$C$1:$L$1=synthése!J$1)*(RECAP!$C$2:$L$7))} -> 1 | K2: {=SUMPRODUCT((RECAP!$A$2:$A$7=synthése!$B2)*(RECAP!$B$2:$B$7=synthése!$C2)*(RECAP!$C$1:$L$1=synthése!K$1)*(RECAP!$C$2:$L$7))} -> 6 | L2: {=SUMPRODUCT((RECAP!$A$2:$A$7=synthése!$B2)*(RECAP!$B$2:$B$7=synthése!$C2)*(RECAP!$C$1:$L$1=synthése!L$1)*(RECAP!$C$2:$L$7))} -> 0 | M2: {=SUMPRODUCT((RECAP!$A$2:$A$7=synthése!$B2)*(RECAP!$B$2:$B$7=synthése!$C2)*(RECAP!$C$1:$L$1=synthése!M$1)*(RECAP!$C$2:$L$7))} -> 0 | N2: =SUM(D2:M2) -> 967
A3: =IF(B3="","",YEAR(TODAY())) -> 2016 | B3: 22 | C3: =IF(RECAP!B3="","",RECAP!B3) -> VALENCE | D3: {=SUMPRODUCT((RECAP!$A$2:$A$7=synthése!$B3)*(RECAP!$B$2:$B$7=synthése!$C3)*(RECAP!$C$1:$L$1=synthése!D$1)*(RECAP!$C$2:$L$7))} -> 84 | E3: {=SUMPRODUCT((RECAP!$A$2:$A$7=synthése!$B3)*(RECAP!$B$2:$B$7=synthése!$C3)*(RECAP!$C$1:$L$1=synthése!E$1)*(RECAP!$C$2:$L$7))} -> 70 | F3: {=SUMPRODUCT((RECAP!$A$2:$A$7=synthése!$B3)*(RECAP!$B$2:$B$7=synthése!$C3)*(RECAP!$C$1:$L$1=synthése!F$1)*(RECAP!$C$2:$L$7))} -> 18 | G3: {=SUMPRODUCT((RECAP!$A$2:$A$7=synthése!$B3)*(RECAP!$B$2:$B$7=synthése!$C3)*(RECAP!$C$1:$L$1=synthése!G$1)*(RECAP!$C$2:$L$7))} -> 121 | H3: {=SUMPRODUCT((RECAP!$A$2:$A$7=synthése!$B3)*(RECAP!$B$2:$B$7=synthése!$C3)*(RECAP!$C$1:$L$1=synthése!H$1)*(RECAP!$C$2:$L$7))} -> 1 | I3: {=SUMPRODUCT((RECAP!$A$2:$A$7=synthése!$B3)*(RECAP!$B$2:$B$7=synthése!$C3)*(RECAP!$C$1:$L$1=synthése!I$1)*(RECAP!$C$2:$L$7))} -> 75 | J3: {=SUMPRODUCT((RECAP!$A$2:$A$7=synthése!$B3)*(RECAP!$B$2:$B$7=synthése!$C3)*(RECAP!$C$1:$L$1=synthése!J$1)*(RECAP!$C$2:$L$7))} -> 14 | K3: {=SUMPRODUCT((RECAP!$A$2:$A$7=synthése!$B3)*(RECAP!$B$2:$B$7=synthése!$C3)*(RECAP!$C$1:$L$1=synthése!K$1)*(RECAP!$C$2:$L$7))} -> 3 | ... M3: {=SUMPRODUCT((RECAP!$A$2:$A$7=synthése!$B3)*(RECAP!$B$2:$B$7=synthése!$C3)*(RECAP!$C$1:$L$1=synthése!M$1)*(RECAP!$C$2:$L$7))} -> 0 | N3: =SUM(D3:M3) -> 386
A4: =IF(B4="","",YEAR(TODAY())) -> 2016 | B4: 22 | C4: =IF(RECAP!B4="","",RECAP!B4) -> GANDIA | D4: {=SUMPRODUCT((RECAP!$A$2:$A$7=synthése!$B4)*(RECAP!$B$2:$B$7=synthése!$C4)*(RECAP!$C$1:$L$1=synthése!D$1)*(RECAP!$C$2:$L$7))} -> 0 | E4: {=SUMPRODUCT((RECAP!$A$2:$A$7=synthése!$B4)*(RECAP!$B$2:$B$7=synthése!$C4)*(RECAP!$C$1:$L$1=synthése!E$1)*(RECAP!$C$2:$L$7))} -> 0 | F4: {=SUMPRODUCT((RECAP!$A$2:$A$7=synthése!$B4)*(RECAP!$B$2:$B$7=synthése!$C4)*(RECAP!$C$1:$L$1=synthése!F$1)*(RECAP!$C$2:$L$7))} -> 0 | G4: {=SUMPRODUCT((RECAP!$A$2:$A$7=synthése!$B4)*(RECAP!$B$2:$B$7=synthése!$C4)*(RECAP!$C$1:$L$1=synthése!G$1)*(RECAP!$C$2:$L$7))} -> 0 | H4: {=SUMPRODUCT((RECAP!$A$2:$A$7=synthése!$B4)*(RECAP!$B$2:$B$7=synthése!$C4)*(RECAP!$C$1:$L$1=synthése!H$1)*(RECAP!$C$2:$L$7))} -> 0 | I4: {=SUMPRODUCT((RECAP!$A$2:$A$7=synthése!$B4)*(RECAP!$B$2:$B$7=synthése!$C4)*(RECAP!$C$1:$L$1=synthése!I$1)*(RECAP!$C$2:$L$7))} -> 0 | J4: {=SUMPRODUCT((RECAP!$A$2:$A$7=synthése!$B4)*(RECAP!$B$2:$B$7=synthése!$C4)*(RECAP!$C$1:$L$1=synthése!J$1)*(RECAP!$C$2:$L$7))} -> 0 | K4: {=SUMPRODUCT((RECAP!$A$2:$A$7=synthése!$B4)*(RECAP!$B$2:$B$7=synthése!$C4)*(RECAP!$C$1:$L$1=synthése!K$1)*(RECAP!$C$2:$L$7))} -> 34 | ... M4: {=SUMPRODUCT((RECAP!$A$2:$A$7=synthése!$B4)*(RECAP!$B$2:$B$7=synthése!$C4)*(RECAP!$C$1:$L$1=synthése!M$1)*(RECAP!$C$2:$L$7))} -> 0 | N4: =SUM(D4:M4) -> 34
A5: =IF(B5="","",YEAR(TODAY())) -> 2016 | B5: 22 | C5: =IF(RECAP!B5="","",RECAP!B5) -> LA SPEZIA | D5: {=SUMPRODUCT((RECAP!$A$2:$A$7=synthése!$B5)*(RECAP!$B$2:$B$7=synthése!$C5)*(RECAP!$C$1:$L$1=synthése!D$1)*(RECAP!$C$2:$L$7))} -> 10 | E5: {=SUMPRODUCT((RECAP!$A$2:$A$7=synthése!$B5)*(RECAP!$B$2:$B$7=synthése!$C5)*(RECAP!$C$1:$L$1=synthése!E$1)*(RECAP!$C$2:$L$7))} -> 16 | F5: {=SUMPRODUCT((RECAP!$A$2:$A$7=synthése!$B5)*(RECAP!$B$2:$B$7=synthése!$C5)*(RECAP!$C$1:$L$1=synthése!F$1)*(RECAP!$C$2:$L$7))} -> 6 | G5: {=SUMPRODUCT((RECAP!$A$2:$A$7=synthése!$B5)*(RECAP!$B$2:$B$7=synthése!$C5)*(RECAP!$C$1:$L$1=synthése!G$1)*(RECAP!$C$2:$L$7))} -> 9 | H5: {=SUMPRODUCT((RECAP!$A$2:$A$7=synthése!$B5)*(RECAP!$B$2:$B$7=synthése!$C5)*(RECAP!$C$1:$L$1=synthése!H$1)*(RECAP!$C$2:$L$7))} -> 0 | I5: {=SUMPRODUCT((RECAP!$A$2:$A$7=synthése!$B5)*(RECAP!$B$2:$B$7=synthése!$C5)*(RECAP!$C$1:$L$1=synthése!I$1)*(RECAP!$C$2:$L$7))} -> 2 | J5: {=SUMPRODUCT((RECAP!$A$2:$A$7=synthése!$B5)*(RECAP!$B$2:$B$7=synthése!$C5)*(RECAP!$C$1:$L$1=synthése!J$1)*(RECAP!$C$2:$L$7))} -> 6 | K5: {=SUMPRODUCT((RECAP!$A$2:$A$7=synthése!$B5)*(RECAP!$B$2:$B$7=synthése!$C5)*(RECAP!$C$1:$L$1=synthése!K$1)*(RECAP!$C$2:$L$7))} -> 9 | ... M5: {=SUMPRODUCT((RECAP!$A$2:$A$7=synthése!$B5)*(RECAP!$B$2:$B$7=synthése!$C5)*(RECAP!$C$1:$L$1=synthése!M$1)*(RECAP!$C$2:$L$7))} -> 0 | N5: =SUM(D5:M5) -> 58
A6: =IF(B6="","",YEAR(TODAY())) -> 2016 | B6: 22 | C6: =IF(RECAP!B6="","",RECAP!B6) -> GENES | D6: {=SUMPRODUCT((RECAP!$A$2:$A$7=synthése!$B6)*(RECAP!$B$2:$B$7=synthése!$C6)*(RECAP!$C$1:$L$1=synthése!D$1)*(RECAP!$C$2:$L$7))} -> 82 | E6: {=SUMPRODUCT((RECAP!$A$2:$A$7=synthése!$B6)*(RECAP!$B$2:$B$7=synthése!$C6)*(RECAP!$C$1:$L$1=synthése!E$1)*(RECAP!$C$2:$L$7))} -> 41 | F6: {=SUMPRODUCT((RECAP!$A$2:$A$7=synthése!$B6)*(RECAP!$B$2:$B$7=synthése!$C6)*(RECAP!$C$1:$L$1=synthése!F$1)*(RECAP!$C$2:$L$7))} -> 123 | G6: {=SUMPRODUCT((RECAP!$A$2:$A$7=synthése!$B6)*(RECAP!$B$2:$B$7=synthése!$C6)*(RECAP!$C$1:$L$1=synthése!G$1)*(RECAP!$C$2:$L$7))} -> 83 | H6: {=SUMPRODUCT((RECAP!$A$2:$A$7=synthése!$B6)*(RECAP!$B$2:$B$7=synthése!$C6)*(RECAP!$C$1:$L$1=synthése!H$1)*(RECAP!$C$2:$L$7))} -> 17 | I6: {=SUMPRODUCT((RECAP!$A$2:$A$7=synthése!$B6)*(RECAP!$B$2:$B$7=synthése!$C6)*(RECAP!$C$1:$L$1=synthése!I$1)*(RECAP!$C$2:$L$7))} -> 22 | J6: {=SUMPRODUCT((RECAP!$A$2:$A$7=synthése!$B6)*(RECAP!$B$2:$B$7=synthése!$C6)*(RECAP!$C$1:$L$1=synthése!J$1)*(RECAP!$C$2:$L$7))} -> 1 | K6: {=SUMPRODUCT((RECAP!$A$2:$A$7=synthése!$B6)*(RECAP!$B$2:$B$7=synthése!$C6)*(RECAP!$C$1:$L$1=synthése!K$1)*(RECAP!$C$2:$L$7))} -> 5 | ... M6: {=SUMPRODUCT((RECAP!$A$2:$A$7=synthése!$B6)*(RECAP!$B$2:$B$7=synthése!$C6)*(RECAP!$C$1:$L$1=synthése!M$1)*(RECAP!$C$2:$L$7))} -> 0 | N6: =SUM(D6:M6) -> 374
A7: =IF(B7="","",YEAR(TODAY())) -> 2016 | B7: 22 | C7: =IF(RECAP!B7="","",RECAP!B7) -> MARSEILLE | D7: {=SUMPRODUCT((RECAP!$A$2:$A$7=synthése!$B7)*(RECAP!$B$2:$B$7=synthése!$C7)*(RECAP!$C$1:$L$1=synthése!D$1)*(RECAP!$C$2:$L$7))} -> 430 | E7: {=SUMPRODUCT((RECAP!$A$2:$A$7=synthése!$B7)*(RECAP!$B$2:$B$7=synthése!$C7)*(RECAP!$C$1:$L$1=synthése!E$1)*(RECAP!$C$2:$L$7))} -> 121 | F7: {=SUMPRODUCT((RECAP!$A$2:$A$7=synthése!$B7)*(RECAP!$B$2:$B$7=synthése!$C7)*(RECAP!$C$1:$L$1=synthése!F$1)*(RECAP!$C$2:$L$7))} -> 192 | G7: {=SUMPRODUCT((RECAP!$A$2:$A$7=synthése!$B7)*(RECAP!$B$2:$B$7=synthése!$C7)*(RECAP!$C$1:$L$1=synthése!G$1)*(RECAP!$C$2:$L$7))} -> 199 | H7: {=SUMPRODUCT((RECAP!$A$2:$A$7=synthése!$B7)*(RECAP!$B$2:$B$7=synthése!$C7)*(RECAP!$C$1:$L$1=synthése!H$1)*(RECAP!$C$2:$L$7))} -> 0 | I7: {=SUMPRODUCT((RECAP!$A$2:$A$7=synthése!$B7)*(RECAP!$B$2:$B$7=synthése!$C7)*(RECAP!$C$1:$L$1=synthése!I$1)*(RECAP!$C$2:$L$7))} -> 96 | J7: {=SUMPRODUCT((RECAP!$A$2:$A$7=synthése!$B7)*(RECAP!$B$2:$B$7=synthése!$C7)*(RECAP!$C$1:$L$1=synthése!J$1)*(RECAP!$C$2:$L$7))} -> 114 | K7: {=SUMPRODUCT((RECAP!$A$2:$A$7=synthése!$B7)*(RECAP!$B$2:$B$7=synthése!$C7)*(RECAP!$C$1:$L$1=synthése!K$1)*(RECAP!$C$2:$L$7))} -> 168 | ... M7: {=SUMPRODUCT((RECAP!$A$2:$A$7=synthése!$B7)*(RECAP!$B$2:$B$7=synthése!$C7)*(RECAP!$C$1:$L$1=synthése!M$1)*(RECAP!$C$2:$L$7))} -> 0 | N7: =SUM(D7:M7) -> 1320
A8: =IF(B8="","",YEAR(TODAY())) -> 2016 | B8: =IF(RECAP!A8="","",RECAP!A8) -> 23 | C8: =IF(RECAP!B8="","",RECAP!B8) -> BARCELONE | D8: {=SUMPRODUCT((RECAP!$A$2:$A$1000=synthése!$B8)*(RECAP!$B$2:$B$1000=synthése!$C8)*(RECAP!$C$1:$L$1=synthése!D$1)*(RECAP!$C$2:$L$1000))} -> 83 | E8: {=SUMPRODUCT((RECAP!$A$2:$A$1000=synthése!$B8)*(RECAP!$B$2:$B$1000=synthése!$C8)*(RECAP!$C$1:$L$1=synthése!E$1)*(RECAP!$C$2:$L$1000))} -> 230 | F8: {=SUMPRODUCT((RECAP!$A$2:$A$1000=synthése!$B8)*(RECAP!$B$2:$B$1000=synthése!$C8)*(RECAP!$C$1:$L$1=synthése!F$1)*(RECAP!$C$2:$L$1000))} -> 2 | G8: {=SUMPRODUCT((RECAP!$A$2:$A$1000=synthése!$B8)*(RECAP!$B$2:$B$1000=synthése!$C8)*(RECAP!$C$1:$L$1=synthése!G$1)*(RECAP!$C$2:$L$1000))} -> 345 | H8: {=SUMPRODUCT((RECAP!$A$2:$A$1000=synthése!$B8)*(RECAP!$B$2:$B$1000=synthése!$C8)*(RECAP!$C$1:$L$1=synthése!H$1)*(RECAP!$C$2:$L$1000))} -> 0 | I8: {=SUMPRODUCT((RECAP!$A$2:$A$1000=synthése!$B8)*(RECAP!$B$2:$B$1000=synthése!$C8)*(RECAP!$C$1:$L$1=synthése!I$1)*(RECAP!$C$2:$L$1000))} -> 300 | J8: {=SUMPRODUCT((RECAP!$A$2:$A$1000=synthése!$B8)*(RECAP!$B$2:$B$1000=synthése!$C8)*(RECAP!$C$1:$L$1=synthése!J$1)*(RECAP!$C$2:$L$1000))} -> 1 | K8: {=SUMPRODUCT((RECAP!$A$2:$A$1000=synthése!$B8)*(RECAP!$B$2:$B$1000=synthése!$C8)*(RECAP!$C$1:$L$1=synthése!K$1)*(RECAP!$C$2:$L$1000))} -> 6 | ... M8: {=SUMPRODUCT((RECAP!$A$2:$A$1000=synthése!$B8)*(RECAP!$B$2:$B$1000=synthése!$C8)*(RECAP!$C$1:$L$1=synthése!M$1)*(RECAP!$C$2:$L$1000))} -> 0 | N8: =SUM(D8:M8) -> 967
A9: =IF(B9="","",YEAR(TODAY())) -> 2016 | B9: =IF(RECAP!A9="","",RECAP!A9) -> 23 | C9: =IF(RECAP!B9="","",RECAP!B9) -> VALENCE | D9: {=SUMPRODUCT((RECAP!$A$2:$A$1000=synthése!$B9)*(RECAP!$B$2:$B$1000=synthése!$C9)*(RECAP!$C$1:$L$1=synthése!D$1)*(RECAP!$C$2:$L$1000))} -> 84 | E9: {=SUMPRODUCT((RECAP!$A$2:$A$1000=synthése!$B9)*(RECAP!$B$2:$B$1000=synthése!$C9)*(RECAP!$C$1:$L$1=synthése!E$1)*(RECAP!$C$2:$L$1000))} -> 70 | F9: {=SUMPRODUCT((RECAP!$A$2:$A$1000=synthése!$B9)*(RECAP!$B$2:$B$1000=synthése!$C9)*(RECAP!$C$1:$L$1=synthése!F$1)*(RECAP!$C$2:$L$1000))} -> 18 | G9: {=SUMPRODUCT((RECAP!$A$2:$A$1000=synthése!$B9)*(RECAP!$B$2:$B$1000=synthése!$C9)*(RECAP!$C$1:$L$1=synthése!G$1)*(RECAP!$C$2:$L$1000))} -> 121 | H9: {=SUMPRODUCT((RECAP!$A$2:$A$1000=synthése!$B9)*(RECAP!$B$2:$B$1000=synthése!$C9)*(RECAP!$C$1:$L$1=synthése!H$1)*(RECAP!$C$2:$L$1000))} -> 1 | I9: {=SUMPRODUCT((RECAP!$A$2:$A$1000=synthése!$B9)*(RECAP!$B$2:$B$1000=synthése!$C9)*(RECAP!$C$1:$L$1=synthése!I$1)*(RECAP!$C$2:$L$1000))} -> 75 | J9: {=SUMPRODUCT((RECAP!$A$2:$A$1000=synthése!$B9)*(RECAP!$B$2:$B$1000=synthése!$C9)*(RECAP!$C$1:$L$1=synthése!J$1)*(RECAP!$C$2:$L$1000))} -> 14 | K9: {=SUMPRODUCT((RECAP!$A$2:$A$1000=synthése!$B9)*(RECAP!$B$2:$B$1000=synthése!$C9)*(RECAP!$C$1:$L$1=synthése!K$1)*(RECAP!$C$2:$L$1000))} -> 3 | ... M9: {=SUMPRODUCT((RECAP!$A$2:$A$1000=synthése!$B9)*(RECAP!$B$2:$B$1000=synthése!$C9)*(RECAP!$C$1:$L$1=synthése!M$1)*(RECAP!$C$2:$L$1000))} -> 0 | N9: =SUM(D9:M9) -> 386
A10: =IF(B10="","",YEAR(TODAY())) -> 2016 | B10: =IF(RECAP!A10="","",RECAP!A10) -> 23 | C10: =IF(RECAP!B10="","",RECAP!B10) -> GANDIA | D10: {=SUMPRODUCT((RECAP!$A$2:$A$1000=synthése!$B10)*(RECAP!$B$2:$B$1000=synthése!$C10)*(RECAP!$C$1:$L$1=synthése!D$1)*(RECAP!$C$2:$L$1000))} -> 0 | E10: {=SUMPRODUCT((RECAP!$A$2:$A$1000=synthése!$B10)*(RECAP!$B$2:$B$1000=synthése!$C10)*(RECAP!$C$1:$L$1=synthése!E$1)*(RECAP!$C$2:$L$1000))} -> 0 | F10: {=SUMPRODUCT((RECAP!$A$2:$A$1000=synthése!$B10)*(RECAP!$B$2:$B$1000=synthése!$C10)*(RECAP!$C$1:$L$1=synthése!F$1)*(RECAP!$C$2:$L$1000))} -> 0 | G10: {=SUMPRODUCT((RECAP!$A$2:$A$1000=synthése!$B10)*(RECAP!$B$2:$B$1000=synthése!$C10)*(RECAP!$C$1:$L$1=synthése!G$1)*(RECAP!$C$2:$L$1000))} -> 0 | H10: {=SUMPRODUCT((RECAP!$A$2:$A$1000=synthése!$B10)*(RECAP!$B$2:$B$1000=synthése!$C10)*(RECAP!$C$1:$L$1=synthése!H$1)*(RECAP!$C$2:$L$1000))} -> 0 | I10: {=SUMPRODUCT((RECAP!$A$2:$A$1000=synthése!$B10)*(RECAP!$B$2:$B$1000=synthése!$C10)*(RECAP!$C$1:$L$1=synthése!I$1)*(RECAP!$C$2:$L$1000))} -> 0 | J10: {=SUMPRODUCT((RECAP!$A$2:$A$1000=synthése!$B10)*(RECAP!$B$2:$B$1000=synthése!$C10)*(RECAP!$C$1:$L$1=synthése!J$1)*(RECAP!$C$2:$L$1000))} -> 0 | K10: {=SUMPRODUCT((RECAP!$A$2:$A$1000=synthése!$B10)*(RECAP!$B$2:$B$1000=synthése!$C10)*(RECAP!$C$1:$L$1=synthése!K$1)*(RECAP!$C$2:$L$1000))} -> 34 | ... M10: {=SUMPRODUCT((RECAP!$A$2:$A$1000=synthése!$B10)*(RECAP!$B$2:$B$1000=synthése!$C10)*(RECAP!$C$1:$L$1=synthése!M$1)*(RECAP!$C$2:$L$1000))} -> 0 | N10: =SUM(D10:M10) -> 34
A11: =IF(B11="","",YEAR(TODAY())) -> 2016 | B11: =IF(RECAP!A11="","",RECAP!A11) -> 23 | C11: =IF(RECAP!B11="","",RECAP!B11) -> LA SPEZIA | D11: {=SUMPRODUCT((RECAP!$A$2:$A$1000=synthése!$B11)*(RECAP!$B$2:$B$1000=synthése!$C11)*(RECAP!$C$1:$L$1=synthése!D$1)*(RECAP!$C$2:$L$1000))} -> 10 | E11: {=SUMPRODUCT((RECAP!$A$2:$A$1000=synthése!$B11)*(RECAP!$B$2:$B$1000=synthése!$C11)*(RECAP!$C$1:$L$1=synthése!E$1)*(RECAP!$C$2:$L$1000))} -> 16 | F11: {=SUMPRODUCT((RECAP!$A$2:$A$1000=synthése!$B11)*(RECAP!$B$2:$B$1000=synthése!$C11)*(RECAP!$C$1:$L$1=synthése!F$1)*(RECAP!$C$2:$L$1000))} -> 6 | G11: {=SUMPRODUCT((RECAP!$A$2:$A$1000=synthése!$B11)*(RECAP!$B$2:$B$1000=synthése!$C11)*(RECAP!$C$1:$L$1=synthése!G$1)*(RECAP!$C$2:$L$1000))} -> 9 | H11: {=SUMPRODUCT((RECAP!$A$2:$A$1000=synthése!$B11)*(RECAP!$B$2:$B$1000=synthése!$C11)*(RECAP!$C$1:$L$1=synthése!H$1)*(RECAP!$C$2:$L$1000))} -> 0 | I11: {=SUMPRODUCT((RECAP!$A$2:$A$1000=synthése!$B11)*(RECAP!$B$2:$B$1000=synthése!$C11)*(RECAP!$C$1:$L$1=synthése!I$1)*(RECAP!$C$2:$L$1000))} -> 2 | J11: {=SUMPRODUCT((RECAP!$A$2:$A$1000=synthése!$B11)*(RECAP!$B$2:$B$1000=synthése!$C11)*(RECAP!$C$1:$L$1=synthése!J$1)*(RECAP!$C$2:$L$1000))} -> 6 | K11: {=SUMPRODUCT((RECAP!$A$2:$A$1000=synthése!$B11)*(RECAP!$B$2:$B$1000=synthése!$C11)*(RECAP!$C$1:$L$1=synthése!K$1)*(RECAP!$C$2:$L$1000))} -> 9 | ... M11: {=SUMPRODUCT((RECAP!$A$2:$A$1000=synthése!$B11)*(RECAP!$B$2:$B$1000=synthése!$C11)*(RECAP!$C$1:$L$1=synthése!M$1)*(RECAP!$C$2:$L$1000))} -> 0 | N11: =SUM(D11:M11) -> 58
A12: =IF(B12="","",YEAR(TODAY())) -> 2016 | B12: =IF(RECAP!A12="","",RECAP!A12) -> 23 | C12: =IF(RECAP!B12="","",RECAP!B12) -> GENES | D12: {=SUMPRODUCT((RECAP!$A$2:$A$1000=synthése!$B12)*(RECAP!$B$2:$B$1000=synthése!$C12)*(RECAP!$C$1:$L$1=synthése!D$1)*(RECAP!$C$2:$L$1000))} -> 82 | E12: {=SUMPRODUCT((RECAP!$A$2:$A$1000=synthése!$B12)*(RECAP!$B$2:$B$1000=synthése!$C12)*(RECAP!$C$1:$L$1=synthése!E$1)*(RECAP!$C$2:$L$1000))} -> 41 | F12: {=SUMPRODUCT((RECAP!$A$2:$A$1000=synthése!$B12)*(RECAP!$B$2:$B$1000=synthése!$C12)*(RECAP!$C$1:$L$1=synthése!F$1)*(RECAP!$C$2:$L$1000))} -> 123 | G12: {=SUMPRODUCT((RECAP!$A$2:$A$1000=synthése!$B12)*(RECAP!$B$2:$B$1000=synthése!$C12)*(RECAP!$C$1:$L$1=synthése!G$1)*(RECAP!$C$2:$L$1000))} -> 83 | H12: {=SUMPRODUCT((RECAP!$A$2:$A$1000=synthése!$B12)*(RECAP!$B$2:$B$1000=synthése!$C12)*(RECAP!$C$1:$L$1=synthése!H$1)*(RECAP!$C$2:$L$1000))} -> 17 | I12: {=SUMPRODUCT((RECAP!$A$2:$A$1000=synthése!$B12)*(RECAP!$B$2:$B$1000=synthése!$C12)*(RECAP!$C$1:$L$1=synthése!I$1)*(RECAP!$C$2:$L$1000))} -> 22 | J12: {=SUMPRODUCT((RECAP!$A$2:$A$1000=synthése!$B12)*(RECAP!$B$2:$B$1000=synthése!$C12)*(RECAP!$C$1:$L$1=synthése!J$1)*(RECAP!$C$2:$L$1000))} -> 1 | K12: {=SUMPRODUCT((RECAP!$A$2:$A$1000=synthése!$B12)*(RECAP!$B$2:$B$1000=synthése!$C12)*(RECAP!$C$1:$L$1=synthése!K$1)*(RECAP!$C$2:$L$1000))} -> 5 | ... M12: {=SUMPRODUCT((RECAP!$A$2:$A$1000=synthése!$B12)*(RECAP!$B$2:$B$1000=synthése!$C12)*(RECAP!$C$1:$L$1=synthése!M$1)*(RECAP!$C$2:$L$1000))} -> 0 | N12: =SUM(D12:M12) -> 374
A13: =IF(B13="","",YEAR(TODAY())) -> 2016 | B13: =IF(RECAP!A13="","",RECAP!A13) -> 23 | C13: =IF(RECAP!B13="","",RECAP!B13) -> MARSEILLE | D13: {=SUMPRODUCT((RECAP!$A$2:$A$1000=synthése!$B13)*(RECAP!$B$2:$B$1000=synthése!$C13)*(RECAP!$C$1:$L$1=synthése!D$1)*(RECAP!$C$2:$L$1000))} -> 430 | E13: {=SUMPRODUCT((RECAP!$A$2:$A$1000=synthése!$B13)*(RECAP!$B$2:$B$1000=synthése!$C13)*(RECAP!$C$1:$L$1=synthése!E$1)*(RECAP!$C$2:$L$1000))} -> 121 | F13: {=SUMPRODUCT((RECAP!$A$2:$A$1000=synthése!$B13)*(RECAP!$B$2:$B$1000=synthése!$C13)*(RECAP!$C$1:$L$1=synthése!F$1)*(RECAP!$C$2:$L$1000))} -> 192 | G13: {=SUMPRODUCT((RECAP!$A$2:$A$1000=synthése!$B13)*(RECAP!$B$2:$B$1000=synthése!$C13)*(RECAP!$C$1:$L$1=synthése!G$1)*(RECAP!$C$2:$L$1000))} -> 199 | H13: {=SUMPRODUCT((RECAP!$A$2:$A$1000=synthése!$B13)*(RECAP!$B$2:$B$1000=synthése!$C13)*(RECAP!$C$1:$L$1=synthése!H$1)*(RECAP!$C$2:$L$1000))} -> 0 | I13: {=SUMPRODUCT((RECAP!$A$2:$A$1000=synthése!$B13)*(RECAP!$B$2:$B$1000=synthése!$C13)*(RECAP!$C$1:$L$1=synthése!I$1)*(RECAP!$C$2:$L$1000))} -> 96 | J13: {=SUMPRODUCT((RECAP!$A$2:$A$1000=synthése!$B13)*(RECAP!$B$2:$B$1000=synthése!$C13)*(RECAP!$C$1:$L$1=synthése!J$1)*(RECAP!$C$2:$L$1000))} -> 114 | K13: {=SUMPRODUCT((RECAP!$A$2:$A$1000=synthése!$B13)*(RECAP!$B$2:$B$1000=synthése!$C13)*(RECAP!$C$1:$L$1=synthése!K$1)*(RECAP!$C$2:$L$1000))} -> 168 | ... M13: {=SUMPRODUCT((RECAP!$A$2:$A$1000=synthése!$B13)*(RECAP!$B$2:$B$1000=synthése!$C13)*(RECAP!$C$1:$L$1=synthése!M$1)*(RECAP!$C$2:$L$1000))} -> 0 | N13: =SUM(D13:M13) -> 1320
A14: =IF(B14="","",YEAR(TODAY())) -> 2016 | B14: =IF(RECAP!A14="","",RECAP!A14) -> 24 | C14: =IF(RECAP!B14="","",RECAP!B14) -> BARCELONE | D14: {=SUMPRODUCT((RECAP!$A$2:$A$1000=synthése!$B14)*(RECAP!$B$2:$B$1000=synthése!$C14)*(RECAP!$C$1:$L$1=synthése!D$1)*(RECAP!$C$2:$L$1000))} -> 83 | E14: {=SUMPRODUCT((RECAP!$A$2:$A$1000=synthése!$B14)*(RECAP!$B$2:$B$1000=synthése!$C14)*(RECAP!$C$1:$L$1=synthése!E$1)*(RECAP!$C$2:$L$1000))} -> 230 | F14: {=SUMPRODUCT((RECAP!$A$2:$A$1000=synthése!$B14)*(RECAP!$B$2:$B$1000=synthése!$C14)*(RECAP!$C$1:$L$1=synthése!F$1)*(RECAP!$C$2:$L$1000))} -> 2 | G14: {=SUMPRODUCT((RECAP!$A$2:$A$1000=synthése!$B14)*(RECAP!$B$2:$B$1000=synthése!$C14)*(RECAP!$C$1:$L$1=synthése!G$1)*(RECAP!$C$2:$L$1000))} -> 345 | H14: {=SUMPRODUCT((RECAP!$A$2:$A$1000=synthése!$B14)*(RECAP!$B$2:$B$1000=synthése!$C14)*(RECAP!$C$1:$L$1=synthése!H$1)*(RECAP!$C$2:$L$1000))} -> 0 | I14: {=SUMPRODUCT((RECAP!$A$2:$A$1000=synthése!$B14)*(RECAP!$B$2:$B$1000=synthése!$C14)*(RECAP!$C$1:$L$1=synthése!I$1)*(RECAP!$C$2:$L$1000))} -> 300 | J14: {=SUMPRODUCT((RECAP!$A$2:$A$1000=synthése!$B14)*(RECAP!$B$2:$B$1000=synthése!$C14)*(RECAP!$C$1:$L$1=synthése!J$1)*(RECAP!$C$2:$L$1000))} -> 1 | K14: {=SUMPRODUCT((RECAP!$A$2:$A$1000=synthése!$B14)*(RECAP!$B$2:$B$1000=synthése!$C14)*(RECAP!$C$1:$L$1=synthése!K$1)*(RECAP!$C$2:$L$1000))} -> 6 | ... M14: {=SUMPRODUCT((RECAP!$A$2:$A$1000=synthése!$B14)*(RECAP!$B$2:$B$1000=synthése!$C14)*(RECAP!$C$1:$L$1=synthése!M$1)*(RECAP!$C$2:$L$1000))} -> 0 | N14: =SUM(D14:M14) -> 967
A15: =IF(B15="","",YEAR(TODAY())) -> 2016 | B15: =IF(RECAP!A15="","",RECAP!A15) -> 24 | C15: =IF(RECAP!B15="","",RECAP!B15) -> VALENCE | D15: {=SUMPRODUCT((RECAP!$A$2:$A$1000=synthése!$B15)*(RECAP!$B$2:$B$1000=synthése!$C15)*(RECAP!$C$1:$L$1=synthése!D$1)*(RECAP!$C$2:$L$1000))} -> 84 | E15: {=SUMPRODUCT((RECAP!$A$2:$A$1000=synthése!$B15)*(RECAP!$B$2:$B$1000=synthése!$C15)*(RECAP!$C$1:$L$1=synthése!E$1)*(RECAP!$C$2:$L$1000))} -> 70 | F15: {=SUMPRODUCT((RECAP!$A$2:$A$1000=synthése!$B15)*(RECAP!$B$2:$B$1000=synthése!$C15)*(RECAP!$C$1:$L$1=synthése!F$1)*(RECAP!$C$2:$L$1000))} -> 18 | G15: {=SUMPRODUCT((RECAP!$A$2:$A$1000=synthése!$B15)*(RECAP!$B$2:$B$1000=synthése!$C15)*(RECAP!$C$1:$L$1=synthése!G$1)*(RECAP!$C$2:$L$1000))} -> 121 | H15: {=SUMPRODUCT((RECAP!$A$2:$A$1000=synthése!$B15)*(RECAP!$B$2:$B$1000=synthése!$C15)*(RECAP!$C$1:$L$1=synthése!H$1)*(RECAP!$C$2:$L$1000))} -> 1 | I15: {=SUMPRODUCT((RECAP!$A$2:$A$1000=synthése!$B15)*(RECAP!$B$2:$B$1000=synthése!$C15)*(RECAP!$C$1:$L$1=synthése!I$1)*(RECAP!$C$2:$L$1000))} -> 75 | J15: {=SUMPRODUCT((RECAP!$A$2:$A$1000=synthése!$B15)*(RECAP!$B$2:$B$1000=synthése!$C15)*(RECAP!$C$1:$L$1=synthése!J$1)*(RECAP!$C$2:$L$1000))} -> 14 | K15: {=SUMPRODUCT((RECAP!$A$2:$A$1000=synthése!$B15)*(RECAP!$B$2:$B$1000=synthése!$C15)*(RECAP!$C$1:$L$1=synthése!K$1)*(RECAP!$C$2:$L$1000))} -> 3 | ... M15: {=SUMPRODUCT((RECAP!$A$2:$A$1000=synthése!$B15)*(RECAP!$B$2:$B$1000=synthése!$C15)*(RECAP!$C$1:$L$1=synthése!M$1)*(RECAP!$C$2:$L$1000))} -> 0 | N15: =SUM(D15:M15) -> 386
A16: =IF(B16="","",YEAR(TODAY())) -> 2016 | B16: =IF(RECAP!A16="","",RECAP!A16) -> 24 | C16: =IF(RECAP!B16="","",RECAP!B16) -> GANDIA | D16: {=SUMPRODUCT((RECAP!$A$2:$A$1000=synthése!$B16)*(RECAP!$B$2:$B$1000=synthése!$C16)*(RECAP!$C$1:$L$1=synthése!D$1)*(RECAP!$C$2:$L$1000))} -> 0 | E16: {=SUMPRODUCT((RECAP!$A$2:$A$1000=synthése!$B16)*(RECAP!$B$2:$B$1000=synthése!$C16)*(RECAP!$C$1:$L$1=synthése!E$1)*(RECAP!$C$2:$L$1000))} -> 0 | F16: {=SUMPRODUCT((RECAP!$A$2:$A$1000=synthése!$B16)*(RECAP!$B$2:$B$1000=synthése!$C16)*(RECAP!$C$1:$L$1=synthése!F$1)*(RECAP!$C$2:$L$1000))} -> 0 | G16: {=SUMPRODUCT((RECAP!$A$2:$A$1000=synthése!$B16)*(RECAP!$B$2:$B$1000=synthése!$C16)*(RECAP!$C$1:$L$1=synthése!G$1)*(RECAP!$C$2:$L$1000))} -> 0 | H16: {=SUMPRODUCT((RECAP!$A$2:$A$1000=synthése!$B16)*(RECAP!$B$2:$B$1000=synthése!$C16)*(RECAP!$C$1:$L$1=synthése!H$1)*(RECAP!$C$2:$L$1000))} -> 0 | I16: {=SUMPRODUCT((RECAP!$A$2:$A$1000=synthése!$B16)*(RECAP!$B$2:$B$1000=synthése!$C16)*(RECAP!$C$1:$L$1=synthése!I$1)*(RECAP!$C$2:$L$1000))} -> 0 | J16: {=SUMPRODUCT((RECAP!$A$2:$A$1000=synthése!$B16)*(RECAP!$B$2:$B$1000=synthése!$C16)*(RECAP!$C$1:$L$1=synthése!J$1)*(RECAP!$C$2:$L$1000))} -> 0 | K16: {=SUMPRODUCT((RECAP!$A$2:$A$1000=synthése!$B16)*(RECAP!$B$2:$B$1000=synthése!$C16)*(RECAP!$C$1:$L$1=synthése!K$1)*(RECAP!$C$2:$L$1000))} -> 34 | ... M16: {=SUMPRODUCT((RECAP!$A$2:$A$1000=synthése!$B16)*(RECAP!$B$2:$B$1000=synthése!$C16)*(RECAP!$C$1:$L$1=synthése!M$1)*(RECAP!$C$2:$L$1000))} -> 0 | N16: =SUM(D16:M16) -> 34
A17: =IF(B17="","",YEAR(TODAY())) -> 2016 | B17: =IF(RECAP!A17="","",RECAP!A17) -> 24 | C17: =IF(RECAP!B17="","",RECAP!B17) -> LA SPEZIA | D17: {=SUMPRODUCT((RECAP!$A$2:$A$1000=synthése!$B17)*(RECAP!$B$2:$B$1000=synthése!$C17)*(RECAP!$C$1:$L$1=synthése!D$1)*(RECAP!$C$2:$L$1000))} -> 10 | E17: {=SUMPRODUCT((RECAP!$A$2:$A$1000=synthése!$B17)*(RECAP!$B$2:$B$1000=synthése!$C17)*(RECAP!$C$1:$L$1=synthése!E$1)*(RECAP!$C$2:$L$1000))} -> 16 | F17: {=SUMPRODUCT((RECAP!$A$2:$A$1000=synthése!$B17)*(RECAP!$B$2:$B$1000=synthése!$C17)*(RECAP!$C$1:$L$1=synthése!F$1)*(RECAP!$C$2:$L$1000))} -> 6 | G17: {=SUMPRODUCT((RECAP!$A$2:$A$1000=synthése!$B17)*(RECAP!$B$2:$B$1000=synthése!$C17)*(RECAP!$C$1:$L$1=synthése!G$1)*(RECAP!$C$2:$L$1000))} -> 9 | H17: {=SUMPRODUCT((RECAP!$A$2:$A$1000=synthése!$B17)*(RECAP!$B$2:$B$1000=synthése!$C17)*(RECAP!$C$1:$L$1=synthése!H$1)*(RECAP!$C$2:$L$1000))} -> 0 | I17: {=SUMPRODUCT((RECAP!$A$2:$A$1000=synthése!$B17)*(RECAP!$B$2:$B$1000=synthése!$C17)*(RECAP!$C$1:$L$1=synthése!I$1)*(RECAP!$C$2:$L$1000))} -> 2 | J17: {=SUMPRODUCT((RECAP!$A$2:$A$1000=synthése!$B17)*(RECAP!$B$2:$B$1000=synthése!$C17)*(RECAP!$C$1:$L$1=synthése!J$1)*(RECAP!$C$2:$L$1000))} -> 6 | K17: {=SUMPRODUCT((RECAP!$A$2:$A$1000=synthése!$B17)*(RECAP!$B$2:$B$1000=synthése!$C17)*(RECAP!$C$1:$L$1=synthése!K$1)*(RECAP!$C$2:$L$1000))} -> 9 | ... M17: {=SUMPRODUCT((RECAP!$A$2:$A$1000=synthése!$B17)*(RECAP!$B$2:$B$1000=synthése!$C17)*(RECAP!$C$1:$L$1=synthése!M$1)*(RECAP!$C$2:$L$1000))} -> 0 | N17: =SUM(D17:M17) -> 58
A18: =IF(B18="","",YEAR(TODAY())) -> 2016 | B18: =IF(RECAP!A18="","",RECAP!A18) -> 24 | C18: =IF(RECAP!B18="","",RECAP!B18) -> GENES | D18: {=SUMPRODUCT((RECAP!$A$2:$A$1000=synthése!$B18)*(RECAP!$B$2:$B$1000=synthése!$C18)*(RECAP!$C$1:$L$1=synthése!D$1)*(RECAP!$C$2:$L$1000))} -> 82 | E18: {=SUMPRODUCT((RECAP!$A$2:$A$1000=synthése!$B18)*(RECAP!$B$2:$B$1000=synthése!$C18)*(RECAP!$C$1:$L$1=synthése!E$1)*(RECAP!$C$2:$L$1000))} -> 41 | F18: {=SUMPRODUCT((RECAP!$A$2:$A$1000=synthése!$B18)*(RECAP!$B$2:$B$1000=synthése!$C18)*(RECAP!$C$1:$L$1=synthése!F$1)*(RECAP!$C$2:$L$1000))} -> 123 | G18: {=SUMPRODUCT((RECAP!$A$2:$A$1000=synthése!$B18)*(RECAP!$B$2:$B$1000=synthése!$C18)*(RECAP!$C$1:$L$1=synthése!G$1)*(RECAP!$C$2:$L$1000))} -> 83 | H18: {=SUMPRODUCT((RECAP!$A$2:$A$1000=synthése!$B18)*(RECAP!$B$2:$B$1000=synthése!$C18)*(RECAP!$C$1:$L$1=synthése!H$1)*(RECAP!$C$2:$L$1000))} -> 17 | I18: {=SUMPRODUCT((RECAP!$A$2:$A$1000=synthése!$B18)*(RECAP!$B$2:$B$1000=synthése!$C18)*(RECAP!$C$1:$L$1=synthése!I$1)*(RECAP!$C$2:$L$1000))} -> 22 | J18: {=SUMPRODUCT((RECAP!$A$2:$A$1000=synthése!$B18)*(RECAP!$B$2:$B$1000=synthése!$C18)*(RECAP!$C$1:$L$1=synthése!J$1)*(RECAP!$C$2:$L$1000))} -> 1 | K18: {=SUMPRODUCT((RECAP!$A$2:$A$1000=synthése!$B18)*(RECAP!$B$2:$B$1000=synthése!$C18)*(RECAP!$C$1:$L$1=synthése!K$1)*(RECAP!$C$2:$L$1000))} -> 5 | ... M18: {=SUMPRODUCT((RECAP!$A$2:$A$1000=synthése!$B18)*(RECAP!$B$2:$B$1000=synthése!$C18)*(RECAP!$C$1:$L$1=synthése!M$1)*(RECAP!$C$2:$L$1000))} -> 0 | N18: =SUM(D18:M18) -> 374
A19: =IF(B19="","",YEAR(TODAY())) -> 2016 | B19: =IF(RECAP!A19="","",RECAP!A19) -> 24 | C19: =IF(RECAP!B19="","",RECAP!B19) -> MARSEILLE | D19: {=SUMPRODUCT((RECAP!$A$2:$A$1000=synthése!$B19)*(RECAP!$B$2:$B$1000=synthése!$C19)*(RECAP!$C$1:$L$1=synthése!D$1)*(RECAP!$C$2:$L$1000))} -> 430 | E19: {=SUMPRODUCT((RECAP!$A$2:$A$1000=synthése!$B19)*(RECAP!$B$2:$B$1000=synthése!$C19)*(RECAP!$C$1:$L$1=synthése!E$1)*(RECAP!$C$2:$L$1000))} -> 121 | F19: {=SUMPRODUCT((RECAP!$A$2:$A$1000=synthése!$B19)*(RECAP!$B$2:$B$1000=synthése!$C19)*(RECAP!$C$1:$L$1=synthése!F$1)*(RECAP!$C$2:$L$1000))} -> 192 | G19: {=SUMPRODUCT((RECAP!$A$2:$A$1000=synthése!$B19)*(RECAP!$B$2:$B$1000=synthése!$C19)*(RECAP!$C$1:$L$1=synthése!G$1)*(RECAP!$C$2:$L$1000))} -> 199 | H19: {=SUMPRODUCT((RECAP!$A$2:$A$1000=synthése!$B19)*(RECAP!$B$2:$B$1000=synthése!$C19)*(RECAP!$C$1:$L$1=synthése!H$1)*(RECAP!$C$2:$L$1000))} -> 0 | I19: {=SUMPRODUCT((RECAP!$A$2:$A$1000=synthése!$B19)*(RECAP!$B$2:$B$1000=synthése!$C19)*(RECAP!$C$1:$L$1=synthése!I$1)*(RECAP!$C$2:$L$1000))} -> 96 | J19: {=SUMPRODUCT((RECAP!$A$2:$A$1000=synthése!$B19)*(RECAP!$B$2:$B$1000=synthése!$C19)*(RECAP!$C$1:$L$1=synthése!J$1)*(RECAP!$C$2:$L$1000))} -> 114 | K19: {=SUMPRODUCT((RECAP!$A$2:$A$1000=synthése!$B19)*(RECAP!$B$2:$B$1000=synthése!$C19)*(RECAP!$C$1:$L$1=synthése!K$1)*(RECAP!$C$2:$L$1000))} -> 168 | ... M19: {=SUMPRODUCT((RECAP!$A$2:$A$1000=synthése!$B19)*(RECAP!$B$2:$B$1000=synthése!$C19)*(RECAP!$C$1:$L$1=synthése!M$1)*(RECAP!$C$2:$L$1000))} -> 0 | N19: =SUM(D19:M19) -> 1320
... A403: =IF(B403="","",YEAR(TODAY())) | B403: =IF(RECAP!A403="","",RECAP!A403) | C403: =IF(RECAP!B403="","",RECAP!B403) | D403: {=SUMPRODUCT((RECAP!$A$2:$A$1000=synthése!$B403)*(RECAP!$B$2:$B$1000=synthése!$C403)*(RECAP!$C$1:$L$1=synthése!D$1)*(RECAP!$C$2:$L$1000))} -> 0 | E403: {=SUMPRODUCT((RECAP!$A$2:$A$1000=synthése!$B403)*(RECAP!$B$2:$B$1000=synthése!$C403)*(RECAP!$C$1:$L$1=synthése!E$1)*(RECAP!$C$2:$L$1000))} -> 0 | F403: {=SUMPRODUCT((RECAP!$A$2:$A$1000=synthése!$B403)*(RECAP!$B$2:$B$1000=synthése!$C403)*(RECAP!$C$1:$L$1=synthése!F$1)*(RECAP!$C$2:$L$1000))} -> 0 | G403: {=SUMPRODUCT((RECAP!$A$2:$A$1000=synthése!$B403)*(RECAP!$B$2:$B$1000=synthése!$C403)*(RECAP!$C$1:$L$1=synthése!G$1)*(RECAP!$C$2:$L$1000))} -> 0 | H403: {=SUMPRODUCT((RECAP!$A$2:$A$1000=synthése!$B403)*(RECAP!$B$2:$B$1000=synthése!$C403)*(RECAP!$C$1:$L$1=synthése!H$1)*(RECAP!$C$2:$L$1000))} -> 0 | I403: {=SUMPRODUCT((RECAP!$A$2:$A$1000=synthése!$B403)*(RECAP!$B$2:$B$1000=synthése!$C403)*(RECAP!$C$1:$L$1=synthése!I$1)*(RECAP!$C$2:$L$1000))} -> 0 | J403: {=SUMPRODUCT((RECAP!$A$2:$A$1000=synthése!$B403)*(RECAP!$B$2:$B$1000=synthése!$C403)*(RECAP!$C$1:$L$1=synthése!J$1)*(RECAP!$C$2:$L$1000))} -> 0 | K403: {=SUMPRODUCT((RECAP!$A$2:$A$1000=synthése!$B403)*(RECAP!$B$2:$B$1000=synthése!$C403)*(RECAP!$C$1:$L$1=synthése!K$1)*(RECAP!$C$2:$L$1000))} -> 0 | ... M403: {=SUMPRODUCT((RECAP!$A$2:$A$1000=synthése!$B403)*(RECAP!$B$2:$B$1000=synthése!$C403)*(RECAP!$C$1:$L$1=synthése!M$1)*(RECAP!$C$2:$L$1000))} -> 0 | N403: =SUM(D403:M403) -> 0

Sheet MARSEILLE
A1: YEAR | B1: WEEK | C1: POL | D1: ALGER | E1: ORAN | F1: GHAZAOUET | G1: BEJAIA | H1: DJEN DJEN | I1: SKIKDA | J1: ANNABA | K1: ALGER C | L1: ORAN Sec | M1: Mosta | N1: TOTAL | P1: Delta
A2: 2012 | B2: 1 | C2: MARSEILLE | D2: NC | E2: NC | F2: NC | G2: NC | H2: NC | I2: NC | J2: NC | K2: NC | L2: NC | M2: NC | N2: 0 | P2: -
A3: 2012 | B3: 2 | C3: MARSEILLE | D3: NC | E3: NC | F3: NC | G3: NC | H3: NC | I3: NC | J3: NC | K3: NC | L3: NC | M3: NC | N3: 0 | P3: -
A4: 2012 | B4: 3 | C4: MARSEILLE | D4: NC | E4: NC | F4: NC | G4: NC | H4: NC | I4: NC | J4: NC | K4: NC | L4: NC | M4: NC | N4: 0 | P4: -
A5: 2012 | B5: 4 | C5: MARSEILLE | D5: NC | E5: NC | F5: NC | G5: NC | H5: NC | I5: NC | J5: NC | K5: NC | L5: NC | M5: NC | N5: 0 | P5: -
A6: 2012 | B6: 5 | C6: MARSEILLE | D6: 283 | E6: 46 | F6: 149 | G6: 92 | H6: 0 | I6: 19 | J6: 68 | K6: 137 | L6: 0 | M6: 0 | N6: =SUM(D6:M6) -> 794 | P6: -
A7: 2012 | B7: 6 | C7: MARSEILLE | D7: 363 | E7: 91 | F7: 65 | G7: 70 | H7: 0 | I7: 33 | J7: 67 | K7: 49 | L7: 0 | M7: 0 | N7: =SUM(D7:M7) -> 738 | P7: -
A8: 2012 | B8: 7 | C8: MARSEILLE | D8: 238 | E8: 87 | F8: 72 | G8: 51 | H8: 0 | I8: 36 | J8: 54 | K8: 45 | L8: 0 | M8: 0 | N8: =SUM(D8:M8) -> 583 | P8: -
A9: 2012 | B9: 8 | C9: MARSEILLE | D9: 274 | E9: 85 | F9: 165 | G9: 85 | H9: 0 | I9: 48 | J9: 72 | K9: 61 | L9: 0 | M9: 0 | N9: =SUM(D9:M9) -> 790 | P9: -
A10: 2012 | B10: 9 | C10: MARSEILLE | D10: 274 | E10: 81 | F10: 99 | G10: 117 | H10: 0 | I10: 54 | J10: 72 | K10: 66 | L10: 0 | M10: 0 | N10: =SUM(D10:M10) -> 763 | P10: -
A11: 2012 | B11: 10 | C11: MARSEILLE | D11: 331 | E11: 107 | F11: 159 | G11: 69 | H11: 0 | I11: 63 | J11: 83 | K11: 87 | L11: 0 | M11: 0 | N11: =SUM(D11:M11) -> 899 | P11: -
A12: 2012 | B12: 11 | C12: MARSEILLE | D12: 349 | E12: 75 | F12: 117 | G12: 90 | H12: 0 | I12: 51 | J12: 53 | K12: 87 | L12: 0 | M12: 0 | N12: =SUM(D12:M12) -> 822 | P12: -
A13: 2012 | B13: 12 | C13: MARSEILLE | D13: 306 | E13: 145 | F13: 151 | G13: 105 | H13: 0 | I13: 27 | J13: 104 | K13: 102 | L13: 0 | M13: 0 | N13: =SUM(D13:M13) -> 940 | P13: -
A14: 2012 | B14: 13 | C14: MARSEILLE | D14: 368 | E14: 88 | F14: 169 | G14: 76 | H14: 0 | I14: 78 | J14: 124 | K14: 101 | L14: 0 | M14: 0 | N14: =SUM(D14:M14) -> 1004 | P14: -
A15: 2012 | B15: 14 | C15: MARSEILLE | D15: 364 | E15: 152 | F15: 118 | G15: 105 | H15: 0 | I15: 59 | J15: 108 | K15: 95 | L15: 0 | M15: 0 | N15: =SUM(D15:M15) -> 1001 | P15: -
A16: 2012 | B16: 15 | C16: MARSEILLE | D16: 284 | E16: 89 | F16: 156 | G16: 98 | H16: 0 | I16: 60 | J16: 77 | K16: 127 | L16: 0 | M16: 0 | N16: =SUM(D16:M16) -> 891 | P16: -
A17: 2012 | B17: 16 | C17: MARSEILLE | D17: 356 | E17: 76 | F17: 23 | G17: 138 | H17: 0 | I17: 50 | J17: 52 | K17: 80 | L17: 0 | M17: 0 | N17: =SUM(D17:M17) -> 775 | P17: -
... A53: 2012 | B53: 52 | C53: MARSEILLE | D53: 219 | E53: 126 | F53: 77 | G53: 75 | H53: 0 | I53: 41 | J53: 86 | K53: 130 | L53: 0 | M53: 0 | N53: =SUM(D53:M53) -> 754 | P53: -
A54: YEAR | B54: WEEK | C54: POL | D54: ALGER | E54: ORAN | F54: GHAZAOUET | G54: BEJAIA | H54: DJEN DJEN | I54: SKIKDA | J54: ANNABA | K54: ALGER C | L54: ORAN Sec | M54: Mosta | N54: TOTAL | P54: Delta
A55: 2013 | B55: 1 | C55: MARSEILLE | D55: 159 | E55: 104 | F55: 24 | G55: 70 | H55: 0 | I55: 4 | J55: 70 | K55: 67 | L55: 0 | M55: 0 | N55: =SUM(D55:M55) -> 498 | P55: -
A56: 2013 | B56: 2 | C56: MARSEILLE | D56: 127 | E56: 74 | F56: 120 | G56: 62 | H56: 0 | I56: 36 | J56: 35 | K56: 62 | L56: 0 | M56: 0 | N56: =SUM(D56:M56) -> 516 | P56: -
A57: 2013 | B57: 3 | C57: MARSEILLE | D57: 200 | E57: 61 | F57: 105 | G57: 70 | H57: 0 | I57: 46 | J57: 51 | K57: 100 | L57: 0 | M57: 0 | N57: =SUM(D57:M57) -> 633 | P57: -
A58: 2013 | B58: 4 | C58: MARSEILLE | D58: 225 | E58: 103 | F58: 168 | G58: 60 | H58: 0 | I58: 48 | J58: 72 | K58: 82 | L58: 0 | M58: 0 | N58: =SUM(D58:M58) -> 758 | P58: -
A59: 2013 | B59: 5 | C59: MARSEILLE | D59: 240 | E59: 104 | F59: 173 | G59: 105 | H59: 0 | I59: 105 | J59: 74 | K59: 103 | L59: 0 | M59: 0 | N59: =SUM(D59:M59) -> 904 | P59: =(N59-N6)/N6 -> 0.13853904
A60: 2013 | B60: 6 | C60: MARSEILLE | D60: 231 | E60: 91 | F60: 134 | G60: 98 | H60: 0 | I60: 45 | J60: 41 | K60: 109 | L60: 0 | M60: 0 | N60: =SUM(D60:M60) -> 749 | P60: =(N60-N7)/N7 -> 0.014905149
A61: 2013 | B61: 7 | C61: MARSEILLE | D61: 271 | E61: 67 | F61: 103 | G61: 84 | H61: 0 | I61: 81 | J61: 63 | K61: 136 | L61: 0 | M61: 0 | N61: =SUM(D61:M61) -> 805 | P61: =(N61-N8)/N8 -> 0.38078902
A62: 2013 | B62: 8 | C62: MARSEILLE | D62: 267 | E62: 88 | F62: 165 | G62: 61 | H62: 0 | I62: 72 | J62: 56 | K62: 135 | L62: 0 | M62: 0 | N62: =SUM(D62:M62) -> 844 | P62: =(N62-N9)/N9 -> 0.06835443
A63: 2013 | B63: 9 | C63: MARSEILLE | D63: 267 | E63: 97 | F63: 85 | G63: 55 | H63: 0 | I63: 26 | J63: 102 | K63: 124 | L63: 0 | M63: 0 | N63: =SUM(D63:M63) -> 756 | P63: =(N63-N10)/N10 -> -0.0091743119
A64: 2013 | B64: 10 | C64: MARSEILLE | D64: 313 | E64: 87 | F64: 156 | G64: 123 | H64: 0 | I64: 65 | J64: 46 | K64: 123 | L64: 0 | M64: 0 | N64: =SUM(D64:M64) -> 913 | P64: =(N64-N11)/N11 -> 0.015572859
A65: 2013 | B65: 11 | C65: MARSEILLE | D65: 279 | E65: 85 | F65: 135 | G65: 89 | H65: 0 | I65: 41 | J65: 76 | K65: 91 | L65: 0 | M65: 0 | N65: =SUM(D65:M65) -> 796 | P65: =(N65-N12)/N12 -> -0.03163017
A66: 2013 | B66: 12 | C66: MARSEILLE | D66: 226 | E66: 98 | F66: 163 | G66: 86 | H66: 0 | I66: 54 | J66: 68 | K66: 181 | L66: 0 | M66: 0 | N66: =SUM(D66:M66) -> 876 | P66: =(N66-N13)/N13 -> -0.068085106
A67: 2013 | B67: 13 | C67: MARSEILLE | D67: 354 | E67: 139 | F67: 222 | G67: 101 | H67: 0 | I67: 79 | J67: 84 | K67: 211 | L67: 0 | M67: 0 | N67: =SUM(D67:M67) -> 1190 | P67: =(N67-N14)/N14 -> 0.18525896
A68: 2013 | B68: 14 | C68: MARSEILLE | D68: 259 | E68: 132 | F68: 107 | G68: 101 | H68: 0 | I68: 48 | J68: 67 | K68: 150 | L68: 0 | M68: 0 | N68: =SUM(D68:M68) -> 864 | P68: =(N68-N15)/N15 -> -0.13686314
A69: 2013 | B69: 15 | C69: MARSEILLE | D69: 282 | E69: 91 | F69: 126 | G69: 82 | H69: 0 | I69: 86 | J69: 59 | K69: 131 | L69: 0 | M69: 0 | N69: =SUM(D69:M69) -> 857 | P69: =(N69-N16)/N16 -> -0.038159371
A70: 2013 | B70: 16 | C70: MARSEILLE | D70: 298 | E70: 66 | F70: 191 | G70: 81 | H70: 0 | I70: 82 | J70: 72 | K70: 132 | L70: 0 | M70: 0 | N70: =SUM(D70:M70) -> 922 | P70: =(N70-N17)/N17 -> 0.18967742
... A106: 2013 | B106: 52 | C106: MARSEILLE | D106: 259 | E106: 149 | F106: 106 | G106: 141 | H106: 0 | I106: 21 | J106: 69 | K106: 122 | L106: 0 | M106: 0 | N106: =SUM(D106:M106) -> 867 | P106: =(N106-N53)/N53 -> 0.14986737
A107: YEAR | B107: WEEK | C107: POL | D107: ALGER | E107: ORAN | F107: GHAZAOUET | G107: BEJAIA | H107: DJEN DJEN | I107: SKIKDA | J107: ANNABA | K107: ALGER C | L107: ORAN Sec | M107: Mosta | N107: TOTAL | P107: Delta
A108: 2014 | B108: 1 | C108: MARSEILLE | D108: 103 | E108: 40 | F108: 70 | G108: 0 | H108: 0 | I108: 40 | J108: 36 | K108: 144 | L108: 0 | M108: 4 | N108: =SUM(D108:M108) -> 437 | P108: =(N108-N55)/N55 -> -0.12248996
A109: 2014 | B109: 2 | C109: MARSEILLE | D109: 164 | E109: 70 | F109: 110 | G109: 139 | H109: 0 | I109: 34 | J109: 41 | K109: 58 | L109: 0 | M109: 2 | N109: =SUM(D109:M109) -> 618 | P109: =(N109-N56)/N56 -> 0.19767442
A110: 2014 | B110: 3 | C110: MARSEILLE | D110: 250 | E110: 92 | F110: 150 | G110: 127 | H110: 0 | I110: 74 | J110: 98 | K110: 128 | L110: 0 | M110: 0 | N110: =SUM(D110:M110) -> 919 | P110: =(N110-N57)/N57 -> 0.45181675
...

Sheet BARCELONE
A1: YEAR | B1: WEEK | C1: POL | D1: ALGER SEC | E1: ORAN | F1: GHAZAOUET | G1: BEJAIA | H1: DJEN DJEN | I1: SKIKDA | J1: ANNABA | K1: ALGER C | L1: ORAN Sec | M1: Mosta | N1: TOTAL | P1: Delta | R1: T/S BCN-ORAN | S1: TOTAL TRADE + T/S
A2: 2012 | B2: 1 | C2: BARCELONE | D2: NC | E2: NC | F2: NC | G2: NC | H2: NC | I2: NC | J2: NC | K2: NC | L2: NC | M2: NC | N2: - | P2: -
A3: 2012 | B3: 2 | C3: BARCELONE | D3: NC | E3: NC | F3: NC | G3: NC | H3: NC | I3: NC | J3: NC | K3: NC | L3: NC | M3: NC | N3: - | P3: -
A4: 2012 | B4: 3 | C4: BARCELONE | D4: NC | E4: NC | F4: NC | G4: NC | H4: NC | I4: NC | J4: NC | K4: NC | L4: NC | M4: NC | N4: - | P4: -
A5: 2012 | B5: 4 | C5: BARCELONE | D5: NC | E5: NC | F5: NC | G5: NC | H5: NC | I5: NC | J5: NC | K5: NC | L5: NC | M5: NC | N5: - | P5: -
A6: 2012 | B6: 5 | C6: BARCELONE | D6: 24 | E6: 13 | F6: 82 | G6: 40 | H6: 0 | I6: 9 | J6: 39 | K6: 25 | L6: 0 | M6: 0 | N6: =SUM(D6:M6) -> 232 | P6: -
A7: 2012 | B7: 6 | C7: BARCELONE | D7: 20 | E7: 16 | F7: 62 | G7: 12 | H7: 0 | I7: 4 | J7: 6 | K7: 29 | L7: 0 | M7: 0 | N7: =SUM(D7:M7) -> 149 | P7: -
A8: 2012 | B8: 7 | C8: BARCELONE | D8: 45 | E8: 13 | F8: 49 | G8: 5 | H8: 0 | I8: 86 | J8: 16 | K8: 14 | L8: 0 | M8: 0 | N8: =SUM(D8:M8) -> 228 | P8: -
A9: 2012 | B9: 8 | C9: BARCELONE | D9: 8 | E9: 5 | F9: 54 | G9: 15 | H9: 0 | I9: 4 | J9: 9 | K9: 24 | L9: 0 | M9: 0 | N9: =SUM(D9:M9) -> 119 | P9: -
A10: 2012 | B10: 9 | C10: BARCELONE | D10: 42 | E10: 27 | F10: 89 | G10: 11 | H10: 0 | I10: 86 | J10: 39 | K10: 3 | L10: 0 | M10: 0 | N10: =SUM(D10:M10) -> 297 | P10: -
A11: 2012 | B11: 10 | C11: BARCELONE | D11: 47 | E11: 23 | F11: 44 | G11: 13 | H11: 0 | I11: 0 | J11: 4 | K11: 7 | L11: 0 | M11: 0 | N11: =SUM(D11:M11) -> 138 | P11: -
A12: 2012 | B12: 11 | C12: BARCELONE | D12: 29 | E12: 14 | F12: 43 | G12: 54 | H12: 0 | I12: 0 | J12: 13 | K12: 9 | L12: 0 | M12: 0 | N12: =SUM(D12:M12) -> 162 | P12: -
A13: 2012 | B13: 12 | C13: BARCELONE | D13: 42 | E13: 0 | F13: 10 | G13: 10 | H13: 0 | I13: 1 | J13: 33 | K13: 4 | L13: 0 | M13: 0 | N13: =SUM(D13:M13) -> 100 | P13: -
A14: 2012 | B14: 13 | C14: BARCELONE | D14: 21 | E14: 24 | F14: 37 | G14: 5 | H14: 0 | I14: 1 | J14: 20 | K14: 6 | L14: 0 | M14: 0 | N14: =SUM(D14:M14) -> 114 | P14: -
A15: 2012 | B15: 14 | C15: BARCELONE | D15: 32 | E15: 6 | F15: 34 | G15: 0 | H15: 0 | I15: 1 | J15: 5 | K15: 60 | L15: 0 | M15: 0 | N15: =SUM(D15:M15) -> 138 | P15: -
A16: 2012 | B16: 15 | C16: BARCELONE | D16: 20 | E16: 23 | F16: 26 | G16: 4 | H16: 0 | I16: 2 | J16: 4 | K16: 25 | L16: 0 | M16: 0 | N16: =SUM(D16:M16) -> 104 | P16: -
A17: 2012 | B17: 16 | C17: BARCELONE | D17: 111 | E17: 1 | F17: 43 | G17: 9 | H17: 0 | I17: 7 | J17: 4 | K17: 0 | L17: 0 | M17: 0 | N17: =SUM(D17:M17) -> 175 | P17: -
... A53: 2012 | B53: 52 | C53: BARCELONE | D53: 10 | E53: 7 | F53: 36 | G53: 3 | H53: 0 | I53: 0 | J53: 2 | K53: 0 | L53: 0 | M53: 0 | N53: =SUM(D53:M53) -> 58 | P53: -
A54: YEAR | B54: WEEK | C54: POL | D54: ALGER | E54: ORAN | F54: GHAZAOUET | G54: BEJAIA | H54: DJEN DJEN | I54: SKIKDA | J54: ANNABA | K54: ALGER C | L54: ORAN Sec | M54: Mosta | N54: TOTAL | P54: Delta
A55: 2013 | B55: 1 | C55: BARCELONE | D55: 20 | E55: 8 | F55: 2 | G55: 8 | H55: 0 | I55: 4 | J55: 15 | K55: 16 | L55: 0 | M55: 0 | N55: =SUM(D55:M55) -> 73 | P55: -
A56: 2013 | B56: 2 | C56: BARCELONE | D56: 18 | E56: 34 | F56: 5 | G56: 0 | H56: 0 | I56: 2 | J56: 5 | K56: 2 | L56: 0 | M56: 0 | N56: =SUM(D56:M56) -> 66 | P56: -
A57: 2013 | B57: 3 | C57: BARCELONE | D57: 19 | E57: 32 | F57: 15 | G57: 2 | H57: 0 | I57: 7 | J57: 11 | K57: 2 | L57: 0 | M57: 0 | N57: =SUM(D57:M57) -> 88 | P57: -
A58: 2013 | B58: 4 | C58: BARCELONE | D58: 14 | E58: 14 | F58: 2 | G58: 2 | H58: 0 | I58: 9 | J58: 2 | K58: 7 | L58: 0 | M58: 0 | N58: =SUM(D58:M58) -> 50 | P58: -
A59: 2013 | B59: 5 | C59: BARCELONE | D59: 27 | E59: 4 | F59: 4 | G59: 4 | H59: 0 | I59: 0 | J59: 9 | K59: 0 | L59: 0 | M59: 0 | N59: =SUM(D59:M59) -> 48 | P59: =(N59-N6)/N6 -> -0.79310345
A60: 2013 | B60: 6 | C60: BARCELONE | D60: 23 | E60: 4 | F60: 6 | G60: 6 | H60: 0 | I60: 0 | J60: 5 | K60: 0 | L60: 0 | M60: 0 | N60: =SUM(D60:M60) -> 44 | P60: =(N60-N7)/N7 -> -0.70469799
A61: 2013 | B61: 7 | C61: BARCELONE | D61: 33 | E61: 19 | F61: 4 | G61: 19 | H61: 0 | I61: 28 | J61: 10 | K61: 0 | L61: 0 | M61: 0 | N61: =SUM(D61:M61) -> 113 | P61: =(N61-N8)/N8 -> -0.50438596
A62: 2013 | B62: 8 | C62: BARCELONE | D62: 22 | E62: 24 | F62: 3 | G62: 54 | H62: 0 | I62: 0 | J62: 59 | K62: 2 | L62: 0 | M62: 0 | N62: =SUM(D62:M62) -> 164 | P62: =(N62-N9)/N9 -> 0.37815126
A63: 2013 | B63: 9 | C63: BARCELONE | D63: 48 | E63: 18 | F63: 4 | G63: 4 | H63: 0 | I63: 0 | J63: 59 | K63: 17 | L63: 0 | M63: 0 | N63: =SUM(D63:M63) -> 150 | P63: =(N63-N10)/N10 -> -0.49494949
A64: 2013 | B64: 10 | C64: BARCELONE | D64: 47 | E64: 23 | F64: 0 | G64: 40 | H64: 0 | I64: 27 | J64: 18 | K64: 0 | L64: 0 | M64: 0 | N64: =SUM(D64:M64) -> 155 | P64: =(N64-N11)/N11 -> 0.12318841
A65: 2013 | B65: 11 | C65: BARCELONE | D65: 41 | E65: 25 | F65: 2 | G65: 64 | H65: 0 | I65: 0 | J65: 8 | K65: 16 | L65: 0 | M65: 0 | N65: =SUM(D65:M65) -> 156 | P65: =(N65-N12)/N12 -> -0.037037037
A66: 2013 | B66: 12 | C66: BARCELONE | D66: 35 | E66: 12 | F66: 10 | G66: 5 | H66: 0 | I66: 0 | J66: 16 | K66: 0 | L66: 0 | M66: 0 | N66: =SUM(D66:M66) -> 78 | P66: =(N66-N13)/N13 -> -0.22
A67: 2013 | B67: 13 | C67: BARCELONE | D67: 40 | E67: 51 | F67: 19 | G67: 9 | H67: 0 | I67: 0 | J67: 1 | K67: 0 | L67: 0 | M67: 0 | N67: =SUM(D67:M67) -> 120 | P67: =(N67-N14)/N14 -> 0.052631579
A68: 2013 | B68: 14 | C68: BARCELONE | D68: 26 | E68: 4 | F68: 1 | G68: 2 | H68: 0 | I68: 0 | J68: 24 | K68: 0 | L68: 0 | M68: 0 | N68: =SUM(D68:M68) -> 57 | P68: =(N68-N15)/N15 -> -0.58695652
A69: 2013 | B69: 15 | C69: BARCELONE | D69: 29 | E69: 10 | F69: 13 | G69: 13 | H69: 0 | I69: 19 | J69: 0 | K69: 0 | L69: 0 | M69: 0 | N69: =SUM(D69:M69) -> 84 | P69: =(N69-N16)/N16 -> -0.19230769
A70: 2013 | B70: 16 | C70: BARCELONE | D70: 44 | E70: 8 | F70: 5 | G70: 5 | H70: 0 | I70: 8 | J70: 10 | K70: 0 | L70: 0 | M70: 0 | N70: =SUM(D70:M70) -> 80 | P70: =(N70-N17)/N17 -> -0.54285714
... A106: 2013 | B106: 52 | C106: BARCELONE | D106: 33 | E106: 13 | F106: 16 | G106: 3 | H106: 0 | I106: 2 | J106: 1 | K106: 3 | L106: 0 | M106: 0 | N106: =SUM(D106:M106) -> 71 | P106: =(N106-N53)/N53 -> 0.22413793
A107: YEAR | B107: WEEK | C107: POL | D107: ALGER | E107: ORAN | F107: GHAZAOUET | G107: BEJAIA | H107: DJEN DJEN | I107: SKIKDA | J107: ANNABA | K107: ALGER C | L107: ORAN Sec | M107: Mosta | N107: TOTAL | P107: Delta | R107: T/S BCN-ORAN | S107: TOTAL TRADE + T/S
A108: 2014 | B108: 1 | C108: BARCELONE | D108: 8 | E108: 2 | F108: 0 | G108: 0 | H108: 0 | I108: 2 | J108: 0 | K108: 12 | L108: 0 | M108: 0 | N108: =SUM(D108:M108) -> 24 | P108: =(N108-N55)/N55 -> -0.67123288 | R108: 0 | S108: =N108+R108 -> 24
A109: 2014 | B109: 2 | C109: BARCELONE | D109: 7 | E109: 4 | F109: 0 | G109: 20 | H109: 0 | I109: 0 | J109: 3 | K109: 0 | L109: 0 | M109: 0 | N109: =SUM(D109:M109) -> 34 | P109: =(N109-N56)/N56 -> -0.48484848 | R109: 0 | S109: =N109+R109 -> 34
A110: 2014 | B110: 3 | C110: BARCELONE | D110: 18 | E110: 6 | F110: 18 | G110: 2 | H110: 0 | I110: 2 | J110: 0 | K110: 0 | L110: 0 | M110: 0 | N110: =SUM(D110:M110) -> 46 | P110: =(N110-N57)/N57 -> -0.47727273 | R110: 0 | S110: =N110+R110 -> 46
...

Sheet VALENCE
A1: YEAR | B1: WEEK | C1: POL | D1: ALGER SEC | E1: ORAN | F1: GHAZAOUET | G1: BEJAIA | H1: DJEN DJEN | I1: SKIKDA | J1: ANNABA | K1: ALGER C | L1: ORAN Sec | M1: Mosta | N1: TOTAL | P1: Delta | R1: Mex - VLC T/S | S1: TOTAL TRADE + T/S
A2: 2012 | B2: 1 | C2: VALENCE | D2: 0 | E2: 0 | F2: 0 | G2: 0 | H2: 0 | I2: 0 | J2: 0 | K2: 0 | L2: NC | M2: NC | N2: 0 | P2: -
A3: 2012 | B3: 2 | C3: VALENCE | D3: 0 | E3: 0 | F3: 0 | G3: 0 | H3: 0 | I3: 0 | J3: 0 | K3: 0 | L3: NC | M3: NC | N3: 0 | P3: -
A4: 2012 | B4: 3 | C4: VALENCE | D4: 0 | E4: 0 | F4: 0 | G4: 0 | H4: 0 | I4: 0 | J4: 0 | K4: 0 | L4: NC | M4: NC | N4: 0 | P4: -
A5: 2012 | B5: 4 | C5: VALENCE | D5: 0 | E5: 0 | F5: 0 | G5: 0 | H5: 0 | I5: 0 | J5: 0 | K5: 0 | L5: NC | M5: NC | N5: 0 | P5: -
A6: 2012 | B6: 5 | C6: VALENCE | D6: 0 | E6: 0 | F6: 0 | G6: 0 | H6: 0 | I6: 0 | J6: 0 | K6: 0 | L6: 0 | M6: 0 | N6: =SUM(D6:M6) -> 0 | P6: -
A7: 2012 | B7: 6 | C7: VALENCE | D7: 0 | E7: 0 | F7: 0 | G7: 0 | H7: 0 | I7: 0 | J7: 0 | K7: 0 | L7: 0 | M7: 0 | N7: =SUM(D7:M7) -> 0 | P7: -
A8: 2012 | B8: 7 | C8: VALENCE | D8: 0 | E8: 0 | F8: 0 | G8: 0 | H8: 0 | I8: 0 | J8: 0 | K8: 0 | L8: 0 | M8: 0 | N8: =SUM(D8:M8) -> 0 | P8: -
A9: 2012 | B9: 8 | C9: VALENCE | D9: 0 | E9: 0 | F9: 0 | G9: 0 | H9: 0 | I9: 0 | J9: 0 | K9: 0 | L9: 0 | M9: 0 | N9: =SUM(D9:M9) -> 0 | P9: -
A10: 2012 | B10: 9 | C10: VALENCE | D10: 0 | E10: 0 | F10: 0 | G10: 0 | H10: 0 | I10: 0 | J10: 0 | K10: 0 | L10: 0 | M10: 0 | N10: =SUM(D10:M10) -> 0 | P10: -
A11: 2012 | B11: 10 | C11: VALENCE | D11: 0 | E11: 0 | F11: 0 | G11: 0 | H11: 0 | I11: 0 | J11: 0 | K11: 0 | L11: 0 | M11: 0 | N11: =SUM(D11:M11) -> 0 | P11: -
A12: 2012 | B12: 11 | C12: VALENCE | D12: 0 | E12: 0 | F12: 0 | G12: 0 | H12: 0 | I12: 0 | J12: 0 | K12: 0 | L12: 0 | M12: 0 | N12: =SUM(D12:M12) -> 0 | P12: -
A13: 2012 | B13: 12 | C13: VALENCE | D13: 0 | E13: 0 | F13: 0 | G13: 0 | H13: 0 | I13: 0 | J13: 0 | K13: 0 | L13: 0 | M13: 0 | N13: =SUM(D13:M13) -> 0 | P13: -
A14: 2012 | B14: 13 | C14: VALENCE | D14: 0 | E14: 0 | F14: 0 | G14: 0 | H14: 0 | I14: 0 | J14: 0 | K14: 0 | L14: 0 | M14: 0 | N14: =SUM(D14:M14) -> 0 | P14: -
A15: 2012 | B15: 14 | C15: VALENCE | D15: 0 | E15: 0 | F15: 0 | G15: 0 | H15: 0 | I15: 0 | J15: 0 | K15: 0 | L15: 0 | M15: 0 | N15: =SUM(D15:M15) -> 0 | P15: -
A16: 2012 | B16: 15 | C16: VALENCE | D16: 0 | E16: 0 | F16: 0 | G16: 0 | H16: 0 | I16: 0 | J16: 0 | K16: 0 | L16: 0 | M16: 0 | N16: =SUM(D16:M16) -> 0 | P16: -
A17: 2012 | B17: 16 | C17: VALENCE | D17: 0 | E17: 0 | F17: 0 | G17: 0 | H17: 0 | I17: 0 | J17: 0 | K17: 0 | L17: 0 | M17: 0 | N17: =SUM(D17:M17) -> 0 | P17: -
... A53: 2012 | B53: 52 | C53: VALENCE | D53: 12 | E53: 0 | F53: 0 | G53: 27 | H53: 0 | I53: 0 | J53: 0 | K53: 0 | L53: 0 | M53: 0 | N53: =SUM(D53:M53) -> 39 | P53: -
A54: YEAR | B54: WEEK | C54: POL | D54: ALGER | E54: ORAN | F54: GHAZAOUET | G54: BEJAIA | H54: DJEN DJEN | I54: SKIKDA | J54: ANNABA | K54: ALGER C | L54: ORAN Sec | M54: Mosta | N54: TOTAL | P54: Delta | R54: Mex - VLC T/S | S54: TOTAL TRADE + T/S
A55: 2013 | B55: 1 | C55: VALENCE | D55: 51 | E55: 8 | F55: 1 | G55: 5 | H55: 0 | I55: 0 | J55: 0 | K55: 0 | L55: 0 | M55: 0 | N55: =SUM(D55:M55) -> 65 | P55: -
A56: 2013 | B56: 2 | C56: VALENCE | D56: 8 | E56: 0 | F56: 6 | G56: 7 | H56: 0 | I56: 2 | J56: 0 | K56: 0 | L56: 0 | M56: 0 | N56: =SUM(D56:M56) -> 23 | P56: -
A57: 2013 | B57: 3 | C57: VALENCE | D57: 17 | E57: 2 | F57: 5 | G57: 4 | H57: 0 | I57: 0 | J57: 0 | K57: 0 | L57: 0 | M57: 0 | N57: =SUM(D57:M57) -> 28 | P57: -
A58: 2013 | B58: 4 | C58: VALENCE | D58: 31 | E58: 40 | F58: 7 | G58: 12 | H58: 0 | I58: 0 | J58: 2 | K58: 0 | L58: 0 | M58: 0 | N58: =SUM(D58:M58) -> 92 | P58: -
A59: 2013 | B59: 5 | C59: VALENCE | D59: 46 | E59: 2 | F59: 3 | G59: 28 | H59: 0 | I59: 0 | J59: 12 | K59: 0 | L59: 0 | M59: 0 | N59: =SUM(D59:M59) -> 91 | P59: -
A60: 2013 | B60: 6 | C60: VALENCE | D60: 13 | E60: 13 | F60: 10 | G60: 1 | H60: 0 | I60: 0 | J60: 7 | K60: 0 | L60: 0 | M60: 0 | N60: =SUM(D60:M60) -> 44 | P60: -
A61: 2013 | B61: 7 | C61: VALENCE | D61: 16 | E61: 0 | F61: 4 | G61: 11 | H61: 0 | I61: 0 | J61: 9 | K61: 17 | L61: 0 | M61: 0 | N61: =SUM(D61:M61) -> 57 | P61: -
A62: 2013 | B62: 8 | C62: VALENCE | D62: 43 | E62: 2 | F62: 4 | G62: 3 | H62: 0 | I62: 0 | J62: 0 | K62: 0 | L62: 0 | M62: 0 | N62: =SUM(D62:M62) -> 52 | P62: -
A63: 2013 | B63: 9 | C63: VALENCE | D63: 36 | E63: 1 | F63: 16 | G63: 11 | H63: 0 | I63: 0 | J63: 12 | K63: 0 | L63: 0 | M63: 0 | N63: =SUM(D63:M63) -> 76 | P63: -
A64: 2013 | B64: 10 | C64: VALENCE | D64: 30 | E64: 4 | F64: 26 | G64: 6 | H64: 0 | I64: 0 | J64: 10 | K64: 23 | L64: 0 | M64: 0 | N64: =SUM(D64:M64) -> 99 | P64: -
A65: 2013 | B65: 11 | C65: VALENCE | D65: 26 | E65: 8 | F65: 13 | G65: 11 | H65: 0 | I65: 0 | J65: 0 | K65: 5 | L65: 0 | M65: 0 | N65: =SUM(D65:M65) -> 63 | P65: -
A66: 2013 | B66: 12 | C66: VALENCE | D66: 16 | E66: 2 | F66: 20 | G66: 2 | H66: 0 | I66: 13 | J66: 10 | K66: 0 | L66: 0 | M66: 0 | N66: =SUM(D66:M66) -> 63 | P66: -
... A99: 2013 | B99: 45 | C99: VALENCE | D99: 34 | E99: 8 | F99: 14 | G99: 4 | H99: 0 | I99: 0 | J99: 0 | K99: 71 | L99: 0 | M99: 0 | N99: =SUM(D99:M99) -> 131 | P99: -
A100: 2013 | B100: 46 | C100: VALENCE | D100: 20 | E100: 8 | F100: 38 | G100: 16 | H100: 0 | I100: 20 | J100: 0 | K100: 2 | L100: 0 | M100: 0 | N100: =SUM(D100:M100) -> 104 | P100: =(N100-N47)/N47 -> 7
A101: 2013 | B101: 47 | C101: VALENCE | D101: 31 | E101: 6 | F101: 4 | G101: 11 | H101: 0 | I101: 0 | J101: 1 | K101: 0 | L101: 0 | M101: 0 | N101: =SUM(D101:M101) -> 53 | P101: =(N101-N48)/N48 -> 0.06
A102: 2013 | B102: 48 | C102: VALENCE | D102: 54 | E102: 6 | F102: 34 | G102: 0 | H102: 0 | I102: 7 | J102: 3 | K102: 1 | L102: 0 | M102: 0 | N102: =SUM(D102:M102) -> 105 | P102: =(N102-N49)/N49 -> 1.3333333
A103: 2013 | B103: 49 | C103: VALENCE | D103: 33 | E103: 4 | F103: 8 | G103: 38 | H103: 0 | I103: 4 | J103: 30 | K103: 6 | L103: 0 | M103: 0 | N103: =SUM(D103:M103) -> 123 | P103: =(N103-N50)/N50 -> 1.05
A104: 2013 | B104: 50 | C104: VALENCE | D104: 42 | E104: 10 | F104: 12 | G104: 0 | H104: 0 | I104: 0 | J104: 14 | K104: 2 | L104: 0 | M104: 0 | N104: =SUM(D104:M104) -> 80 | P104: =(N104-N51)/N51 -> 1.5
A105: 2013 | B105: 51 | C105: VALENCE | D105: 55 | E105: 6 | F105: 23 | G105: 0 | H105: 0 | I105: 0 | J105: 33 | K105: 3 | L105: 0 | M105: 0 | N105: =SUM(D105:M105) -> 120 | P105: =(N105-N52)/N52 -> 1.7272727
A106: 2013 | B106: 52 | C106: VALENCE | D106: 80 | E106: 23 | F106: 15 | G106: 12 | H106: 0 | I106: 0 | J106: 0 | K106: 13 | L106: 0 | M106: 0 | N106: =SUM(D106:M106) -> 143 | P106: =(N106-N53)/N53 -> 2.6666667
A107: YEAR | B107: WEEK | C107: POL | D107: ALGER | E107: ORAN | F107: GHAZAOUET | G107: BEJAIA | H107: DJEN DJEN | I107: SKIKDA | J107: ANNABA | K107: ALGER C | L107: ORAN Sec | M107: Mosta | N107: TOTAL | P107: Delta | R107: Mex - VLC T/S | S107: TOTAL TRADE + T/S
...

Sheet GENES
A1: YEAR | B1: WEEK | C1: POL | D1: ALGER SEC | E1: ORAN | F1: GHAZAOUET | G1: BEJAIA | H1: DJEN DJEN | I1: SKIKDA | J1: ANNABA | K1: ALGER C | L1: ORAN Sec | M1: Mosta | N1: TOTAL | P1: Delta | R1: MGE - GOA T/S | S1: TOTAL TRADE + T/S
A2: 2012 | B2: 1 | C2: GENES | D2: NC | E2: NC | F2: NC | G2: NC | H2: NC | I2: NC | J2: NC | K2: NC | L2: NC | M2: NC | N2: 0 | P2: -
A3: 2012 | B3: 2 | C3: GENES | D3: NC | E3: NC | F3: NC | G3: NC | H3: NC | I3: NC | J3: NC | K3: NC | L3: NC | M3: NC | N3: 0 | P3: -
A4: 2012 | B4: 3 | C4: GENES | D4: NC | E4: NC | F4: NC | G4: NC | H4: NC | I4: NC | J4: NC | K4: NC | L4: NC | M4: NC | N4: 0 | P4: -
A5: 2012 | B5: 4 | C5: GENES | D5: NC | E5: NC | F5: NC | G5: NC | H5: NC | I5: NC | J5: NC | K5: NC | L5: NC | M5: NC | N5: 0 | P5: -
A6: 2012 | B6: 5 | C6: GENES | D6: 37 | E6: 25 | F6: 93 | G6: 22 | H6: 0 | I6: 13 | J6: 20 | K6: 0 | L6: 0 | M6: 0 | N6: =SUM(D6:M6) -> 210 | P6: -
A7: 2012 | B7: 6 | C7: GENES | D7: 52 | E7: 5 | F7: 36 | G7: 17 | H7: 0 | I7: 18 | J7: 4 | K7: 0 | L7: 0 | M7: 0 | N7: =SUM(D7:M7) -> 132 | P7: -
A8: 2012 | B8: 7 | C8: GENES | D8: 24 | E8: 10 | F8: 43 | G8: 29 | H8: 0 | I8: 8 | J8: 2 | K8: 0 | L8: 0 | M8: 0 | N8: =SUM(D8:M8) -> 116 | P8: -
A9: 2012 | B9: 8 | C9: GENES | D9: 33 | E9: 16 | F9: 103 | G9: 9 | H9: 0 | I9: 11 | J9: 10 | K9: 0 | L9: 0 | M9: 0 | N9: =SUM(D9:M9) -> 182 | P9: -
A10: 2012 | B10: 9 | C10: GENES | D10: 24 | E10: 32 | F10: 50 | G10: 39 | H10: 0 | I10: 1 | J10: 27 | K10: 0 | L10: 0 | M10: 0 | N10: =SUM(D10:M10) -> 173 | P10: -
A11: 2012 | B11: 10 | C11: GENES | D11: 53 | E11: 13 | F11: 111 | G11: 34 | H11: 0 | I11: 3 | J11: 13 | K11: 0 | L11: 0 | M11: 0 | N11: =SUM(D11:M11) -> 227 | P11: -
A12: 2012 | B12: 11 | C12: GENES | D12: 36 | E12: 18 | F12: 101 | G12: 18 | H12: 0 | I12: 23 | J12: 8 | K12: 0 | L12: 0 | M12: 0 | N12: =SUM(D12:M12) -> 204 | P12: -
A13: 2012 | B13: 12 | C13: GENES | D13: 51 | E13: 12 | F13: 102 | G13: 33 | H13: 0 | I13: 4 | J13: 10 | K13: 0 | L13: 0 | M13: 0 | N13: =SUM(D13:M13) -> 212 | P13: -
A14: 2012 | B14: 13 | C14: GENES | D14: 49 | E14: 16 | F14: 96 | G14: 19 | H14: 0 | I14: 5 | J14: 20 | K14: 0 | L14: 0 | M14: 0 | N14: =SUM(D14:M14) -> 205 | P14: -
A15: 2012 | B15: 14 | C15: GENES | D15: 50 | E15: 25 | F15: 124 | G15: 34 | H15: 0 | I15: 16 | J15: 14 | K15: 0 | L15: 0 | M15: 0 | N15: =SUM(D15:M15) -> 263 | P15: -
A16: 2012 | B16: 15 | C16: GENES | D16: 20 | E16: 17 | F16: 118 | G16: 11 | H16: 0 | I16: 12 | J16: 1 | K16: 0 | L16: 0 | M16: 0 | N16: =SUM(D16:M16) -> 179 | P16: -
A17: 2012 | B17: 16 | C17: GENES | D17: 38 | E17: 19 | F17: 160 | G17: 50 | H17: 0 | I17: 7 | J17: 16 | K17: 0 | L17: 0 | M17: 0 | N17: =SUM(D17:M17) -> 290 | P17: -
... A53: 2012 | B53: 52 | C53: GENES | D53: 8 | E53: 2 | F53: 22 | G53: 2 | H53: 0 | I53: 16 | J53: 6 | K53: 0 | L53: 0 | M53: 0 | N53: =SUM(D53:M53) -> 56 | P53: -
A54: YEAR | B54: WEEK | C54: POL | D54: ALGER | E54: ORAN | F54: GHAZAOUET | G54: BEJAIA | H54: DJEN DJEN | I54: SKIKDA | J54: ANNABA | K54: ALGER C | L54: ORAN Sec | M54: Mosta | N54: TOTAL | P54: Delta | R54: MGE - GOA T/S | S54: TOTAL TRADE + T/S
A55: 2013 | B55: 1 | C55: GENES | D55: 30 | E55: 37 | F55: 49 | G55: 13 | H55: 0 | I55: 28 | J55: 8 | K55: 0 | L55: 0 | M55: 0 | N55: =SUM(D55:M55) -> 165 | P55: -
A56: 2013 | B56: 2 | C56: GENES | D56: 17 | E56: 2 | F56: 36 | G56: 19 | H56: 0 | I56: 2 | J56: 3 | K56: 0 | L56: 0 | M56: 0 | N56: =SUM(D56:M56) -> 79 | P56: -
A57: 2013 | B57: 3 | C57: GENES | D57: 41 | E57: 9 | F57: 30 | G57: 1 | H57: 0 | I57: 3 | J57: 0 | K57: 0 | L57: 0 | M57: 0 | N57: =SUM(D57:M57) -> 84 | P57: -
A58: 2013 | B58: 4 | C58: GENES | D58: 43 | E58: 36 | F58: 100 | G58: 9 | H58: 0 | I58: 3 | J58: 15 | K58: 0 | L58: 0 | M58: 0 | N58: =SUM(D58:M58) -> 206 | P58: -
A59: 2013 | B59: 5 | C59: GENES | D59: 30 | E59: 23 | F59: 82 | G59: 31 | H59: 0 | I59: 2 | J59: 6 | K59: 0 | L59: 0 | M59: 0 | N59: =SUM(D59:M59) -> 174 | P59: =(N59-N6)/N6 -> -0.17142857
A60: 2013 | B60: 6 | C60: GENES | D60: 32 | E60: 17 | F60: 84 | G60: 10 | H60: 0 | I60: 3 | J60: 3 | K60: 0 | L60: 0 | M60: 0 | N60: =SUM(D60:M60) -> 149 | P60: =(N60-N7)/N7 -> 0.12878788
A61: 2013 | B61: 7 | C61: GENES | D61: 10 | E61: 6 | F61: 38 | G61: 3 | H61: 0 | I61: 6 | J61: 4 | K61: 5 | L61: 0 | M61: 0 | N61: =SUM(D61:M61) -> 72 | P61: =(N61-N8)/N8 -> -0.37931034
A62: 2013 | B62: 8 | C62: GENES | D62: 35 | E62: 27 | F62: 106 | G62: 22 | H62: 0 | I62: 23 | J62: 10 | K62: 1 | L62: 0 | M62: 0 | N62: =SUM(D62:M62) -> 224 | P62: =(N62-N9)/N9 -> 0.23076923
A63: 2013 | B63: 9 | C63: GENES | D63: 25 | E63: 19 | F63: 64 | G63: 32 | H63: 0 | I63: 5 | J63: 7 | K63: 0 | L63: 0 | M63: 0 | N63: =SUM(D63:M63) -> 152 | P63: =(N63-N10)/N10 -> -0.12138728
A64: 2013 | B64: 10 | C64: GENES | D64: 34 | E64: 8 | F64: 128 | G64: 31 | H64: 0 | I64: 7 | J64: 23 | K64: 1 | L64: 0 | M64: 0 | N64: =SUM(D64:M64) -> 232 | P64: =(N64-N11)/N11 -> 0.022026432
A65: 2013 | B65: 11 | C65: GENES | D65: 65 | E65: 10 | F65: 116 | G65: 58 | H65: 0 | I65: 1 | J65: 7 | K65: 0 | L65: 0 | M65: 0 | N65: =SUM(D65:M65) -> 257 | P65: =(N65-N12)/N12 -> 0.25980392
A66: 2013 | B66: 12 | C66: GENES | D66: 33 | E66: 35 | F66: 104 | G66: 22 | H66: 0 | I66: 3 | J66: 14 | K66: 0 | L66: 0 | M66: 0 | N66: =SUM(D66:M66) -> 211 | P66: =(N66-N13)/N13 -> -0.0047169811
A67: 2013 | B67: 13 | C67: GENES | D67: 65 | E67: 24 | F67: 116 | G67: 16 | H67: 0 | I67: 21 | J67: 26 | K67: 1 | L67: 0 | M67: 0 | N67: =SUM(D67:M67) -> 269 | P67: =(N67-N14)/N14 -> 0.31219512
A68: 2013 | B68: 14 | C68: GENES | D68: 22 | E68: 11 | F68: 64 | G68: 15 | H68: 0 | I68: 29 | J68: 12 | K68: 0 | L68: 0 | M68: 0 | N68: =SUM(D68:M68) -> 153 | P68: =(N68-N15)/N15 -> -0.41825095
A69: 2013 | B69: 15 | C69: GENES | D69: 40 | E69: 19 | F69: 138 | G69: 12 | H69: 0 | I69: 16 | J69: 6 | K69: 0 | L69: 0 | M69: 0 | N69: =SUM(D69:M69) -> 231 | P69: =(N69-N16)/N16 -> 0.29050279
A70: 2013 | B70: 16 | C70: GENES | D70: 41 | E70: 0 | F70: 165 | G70: 15 | H70: 0 | I70: 2 | J70: 22 | K70: 0 | L70: 0 | M70: 0 | N70: =SUM(D70:M70) -> 245 | P70: =(N70-N17)/N17 -> -0.15517241
... A106: 2013 | B106: 52 | C106: GENES | D106: 19 | E106: 5 | F106: 82 | G106: 0 | H106: 0 | I106: 19 | J106: 2 | K106: 6 | L106: 0 | M106: 0 | N106: =SUM(D106:M106) -> 133 | P106: =(N106-N53)/N53 -> 1.375
A107: YEAR | B107: WEEK | C107: POL | D107: ALGER | E107: ORAN | F107: GHAZAOUET | G107: BEJAIA | H107: DJEN DJEN | I107: SKIKDA | J107: ANNABA | K107: ALGER C | L107: ORAN Sec | M107: Mosta | N107: TOTAL | P107: Delta | R107: MGE - GOA T/S | S107: TOTAL TRADE + T/S
A108: 2014 | B108: 1 | C108: GENES | D108: 30 | E108: 1 | F108: 64 | G108: 0 | H108: 0 | I108: 14 | J108: 2 | K108: 6 | L108: 0 | M108: 0 | N108: =SUM(D108:M108) -> 117 | P108: =(N108-N55)/N55 -> -0.29090909 | S108: =N108+R108 -> 117
A109: 2014 | B109: 2 | C109: GENES | D109: 13 | E109: 5 | F109: 56 | G109: 7 | H109: 0 | I109: 0 | J109: 8 | K109: 3 | L109: 0 | M109: 0 | N109: =SUM(D109:M109) -> 92 | P109: =(N109-N56)/N56 -> 0.16455696 | S109: =N109+R109 -> 92
A110: 2014 | B110: 3 | C110: GENES | D110: 36 | E110: 15 | F110: 100 | G110: 6 | H110: 0 | I110: 6 | J110: 3 | K110: 6 | L110: 0 | M110: 0 | N110: =SUM(D110:M110) -> 172 | P110: =(N110-N57)/N57 -> 1.047619 | S110: =N110+R110 -> 172
...

Sheet LA SPEZIA
A1: YEAR | B1: WEEK | C1: POL | D1: ALGER SEC | E1: ORAN | F1: GHAZAOUET | G1: BEJAIA | H1: DJEN DJEN | I1: SKIKDA | J1: ANNABA | K1: ALGER C | L1: ORAN Sec | M1: Mosta | N1: TOTAL | P1: Delta
A2: 2012 | B2: 1 | C2: LA SPEZIA | D2: NC | E2: NC | F2: NC | G2: NC | H2: 0 | I2: NC | J2: NC | K2: NC | L2: NC | M2: NC | N2: 0 | P2: -
A3: 2012 | B3: 2 | C3: LA SPEZIA | D3: NC | E3: NC | F3: NC | G3: NC | H3: 0 | I3: NC | J3: NC | K3: NC | L3: NC | M3: NC | N3: 0 | P3: -
A4: 2012 | B4: 3 | C4: LA SPEZIA | D4: NC | E4: NC | F4: NC | G4: NC | H4: 0 | I4: NC | J4: NC | K4: NC | L4: NC | M4: NC | N4: 0 | P4: -
A5: 2012 | B5: 4 | C5: LA SPEZIA | D5: NC | E5: NC | F5: NC | G5: NC | H5: 0 | I5: NC | J5: NC | K5: NC | L5: NC | M5: NC | N5: 0 | P5: -
A6: 2012 | B6: 5 | C6: LA SPEZIA | D6: 8 | E6: 2 | F6: 0 | G6: 26 | H6: 0 | I6: 19 | J6: 0 | K6: 0 | L6: 0 | M6: 0 | N6: =SUM(D6:M6) -> 55 | P6: -
A7: 2012 | B7: 6 | C7: LA SPEZIA | D7: 9 | E7: 1 | F7: 0 | G7: 80 | H7: 0 | I7: 0 | J7: 0 | K7: 0 | L7: 0 | M7: 0 | N7: =SUM(D7:M7) -> 90 | P7: -
