Workbook
Name ALGER: RECAP!$C:$C
Name ALGER_C: RECAP!$J:$J
Name ANNABA: RECAP!$I:$I
Name BEJAIA: RECAP!$F:$F
Name DJEN_DJEN: RECAP!$G:$G
Name GHAZAOUET: RECAP!$E:$E
Name Mosta: RECAP!$L:$L
Name ORAN: RECAP!$D:$D
Name ORAN_Sec: RECAP!$K:$K
Name pol: RECAP!$B:$B
Name SKIKDA: RECAP!$H:$H
Name week: RECAP!$A:$A

Sheet RECAP
A1: week | B1: pol | C1: ALGER | D1: ORAN | E1: GHAZAOUET | F1: BEJAIA | G1: DJEN DJEN | H1: SKIKDA | I1: ANNABA | J1: ALGER C | K1: ORAN Sec | L1: Mosta
A2: 22 | B2: BARCELONE | C2: 83 | D2: 230 | E2: 2 | F2: 345 | G2: 0 | H2: 300 | I2: 1 | J2: 6 | K2: 0 | L2: 0
A3: 22 | B3: VALENCE | C3: 84 | D3: 70 | E3: 18 | F3: 121 | G3: 1 | H3: 75 | I3: 14 | J3: 3 | K3: 0 | L3: 0
A4: 22 | B4: GANDIA | C4: 0 | D4: 0 | E4: 0 | F4: 0 | G4: 0 | H4: 0 | I4: 0 | J4: 34 | K4: 0 | L4: 0
A5: 22 | B5: LA SPEZIA | C5: 10 | D5: 16 | E5: 6 | F5: 9 | G5: 0 | H5: 2 | I5: 6 | J5: 9 | K5: 0 | L5: 0
A6: 22 | B6: GENES | C6: 82 | D6: 41 | E6: 123 | F6: 83 | G6: 17 | H6: 22 | I6: 1 | J6: 5 | K6: 0 | L6: 0
A7: 22 | B7: MARSEILLE | C7: 430 | D7: 121 | E7: 192 | F7: 199 | G7: 0 | H7: 96 | I7: 114 | J7: 168 | K7: 0 | L7: 0
A8: 23 | B8: BARCELONE | C8: 83 | D8: 230 | E8: 2 | F8: 345 | G8: 0 | H8: 300 | I8: 1 | J8: 6 | K8: 0 | L8: 0
A9: 23 | B9: VALENCE | C9: 84 | D9: 70 | E9: 18 | F9: 121 | G9: 1 | H9: 75 | I9: 14 | J9: 3 | K9: 0 | L9: 0
A10: 23 | B10: GANDIA | C10: 0 | D10: 0 | E10: 0 | F10: 0 | G10: 0 | H10: 0 | I10: 0 | J10: 34 | K10: 0 | L10: 0
A11: 23 | B11: LA SPEZIA | C11: 10 | D11: 16 | E11: 6 | F11: 9 | G11: 0 | H11: 2 | I11: 6 | J11: 9 | K11: 0 | L11: 0
A12: 23 | B12: GENES | C12: 82 | D12: 41 | E12: 123 | F12: 83 | G12: 17 | H12: 22 | I12: 1 | J12: 5 | K12: 0 | L12: 0
A13: 23 | B13: MARSEILLE | C13: 430 | D13: 121 | E13: 192 | F13: 199 | G13: 0 | H13: 96 | I13: 114 | J13: 168 | K13: 0 | L13: 0
... A37: 27 | B37: MARSEILLE | C37: 100 | D37: 100 | E37: 100 | F37: 100 | G37: 100 | H37: 100 | I37: 100 | J37: 100 | K37: 100 | L37: 100

Sheet synthése
A1: YEAR | B1: WEEK | C1: POL | D1: ALGER | E1: ORAN | F1: GHAZAOUET | G1: BEJAIA | H1: DJEN DJEN | I1: SKIKDA | J1: ANNABA | K1: ALGER C | L1: ORAN Sec | M1: Mosta | N1: TOTAL
A2: =IF(B2="","",YEAR(TODAY())) -> 2016 | B2: 22 | C2: MARSEILLE | D2: =SUMPRODUCT((RECAP!$A$2:$A$1000=synthése!$B2)*(RECAP!$B$2:$B$1000=synthése!$C2)*(RECAP!$C$1:$L$1=synthése!D$1)*(RECAP!$C$2:$L$1000)) -> 430 | E2: =SUMPRODUCT((RECAP!$A$2:$A$1000=synthése!$B2)*(RECAP!$B$2:$B$1000=synthése!$C2)*(RECAP!$C$1:$L$1=synthése!E$1)*(RECAP!$C$2:$L$1000)) -> 121 | F2: =SUMPRODUCT((RECAP!$A$2:$A$1000=synthése!$B2)*(RECAP!$B$2:$B$1000=synthése!$C2)*(RECAP!$C$1:$L$1=synthése!F$1)*(RECAP!$C$2:$L$1000)) -> 192 | G2: =SUMPRODUCT((RECAP!$A$2:$A$1000=synthése!$B2)*(RECAP!$B$2:$B$1000=synthése!$C2)*(RECAP!$C$1:$L$1=synthése!G$1)*(RECAP!$C$2:$L$1000)) -> 199 | H2: =SUMPRODUCT((RECAP!$A$2:$A$1000=synthése!$B2)*(RECAP!$B$2:$B$1000=synthése!$C2)*(RECAP!$C$1:$L$1=synthése!H$1)*(RECAP!$C$2:$L$1000)) -> 0 | I2: =SUMPRODUCT((RECAP!$A$2:$A$1000=synthése!$B2)*(RECAP!$B$2:$B$1000=synthése!$C2)*(RECAP!$C$1:$L$1=synthése!I$1)*(RECAP!$C$2:$L$1000)) -> 96 | J2: =SUMPRODUCT((RECAP!$A$2:$A$1000=synthése!$B2)*(RECAP!$B$2:$B$1000=synthése!$C2)*(RECAP!$C$1:$L$1=synthése!J$1)*(RECAP!$C$2:$L$1000)) -> 114 | K2: =SUMPRODUCT((RECAP!$A$2:$A$1000=synthése!$B2)*(RECAP!$B$2:$B$1000=synthése!$C2)*(RECAP!$C$1:$L$1=synthése!K$1)*(RECAP!$C$2:$L$1000)) -> 168 | ... M2: =SUMPRODUCT((RECAP!$A$2:$A$1000=synthése!$B2)*(RECAP!$B$2:$B$1000=synthése!$C2)*(RECAP!$C$1:$L$1=synthése!M$1)*(RECAP!$C$2:$L$1000)) -> 0 | N2: =SUM(D2:M2) -> 1320
A3: =IF(B3="","",YEAR(TODAY())) -> 2016 | B3: 22 | C3: BARCELONE | D3: =SUMPRODUCT((RECAP!$A$2:$A$1000=synthése!$B3)*(RECAP!$B$2:$B$1000=synthése!$C3)*(RECAP!$C$1:$L$1=synthése!D$1)*(RECAP!$C$2:$L$1000)) -> 83 | E3: =SUMPRODUCT((RECAP!$A$2:$A$1000=synthése!$B3)*(RECAP!$B$2:$B$1000=synthése!$C3)*(RECAP!$C$1:$L$1=synthése!E$1)*(RECAP!$C$2:$L$1000)) -> 230 | F3: =SUMPRODUCT((RECAP!$A$2:$A$1000=synthése!$B3)*(RECAP!$B$2:$B$1000=synthése!$C3)*(RECAP!$C$1:$L$1=synthése!F$1)*(RECAP!$C$2:$L$1000)) -> 2 | G3: =SUMPRODUCT((RECAP!$A$2:$A$1000=synthése!$B3)*(RECAP!$B$2:$B$1000=synthése!$C3)*(RECAP!$C$1:$L$1=synthése!G$1)*(RECAP!$C$2:$L$1000)) -> 345 | H3: =SUMPRODUCT((RECAP!$A$2:$A$1000=synthése!$B3)*(RECAP!$B$2:$B$1000=synthése!$C3)*(RECAP!$C$1:$L$1=synthése!H$1)*(RECAP!$C$2:$L$1000)) -> 0 | I3: =SUMPRODUCT((RECAP!$A$2:$A$1000=synthése!$B3)*(RECAP!$B$2:$B$1000=synthése!$C3)*(RECAP!$C$1:$L$1=synthése!I$1)*(RECAP!$C$2:$L$1000)) -> 300 | J3: =SUMPRODUCT((RECAP!$A$2:$A$1000=synthése!$B3)*(RECAP!$B$2:$B$1000=synthése!$C3)*(RECAP!$C$1:$L$1=synthése!J$1)*(RECAP!$C$2:$L$1000)) -> 1 | K3: =SUMPRODUCT((RECAP!$A$2:$A$1000=synthése!$B3)*(RECAP!$B$2:$B$1000=synthése!$C3)*(RECAP!$C$1:$L$1=synthése!K$1)*(RECAP!$C$2:$L$1000)) -> 6 | ... M3: =SUMPRODUCT((RECAP!$A$2:$A$1000=synthése!$B3)*(RECAP!$B$2:$B$1000=synthése!$C3)*(RECAP!$C$1:$L$1=synthése!M$1)*(RECAP!$C$2:$L$1000)) -> 0 | N3: =SUM(D3:M3) -> 967
A4: =IF(B4="","",YEAR(TODAY())) -> 2016 | B4: 22 | C4: VALENCE | D4: =SUMPRODUCT((RECAP!$A$2:$A$1000=synthése!$B4)*(RECAP!$B$2:$B$1000=synthése!$C4)*(RECAP!$C$1:$L$1=synthése!D$1)*(RECAP!$C$2:$L$1000)) -> 84 | E4: =SUMPRODUCT((RECAP!$A$2:$A$1000=synthése!$B4)*(RECAP!$B$2:$B$1000=synthése!$C4)*(RECAP!$C$1:$L$1=synthése!E$1)*(RECAP!$C$2:$L$1000)) -> 70 | F4: =SUMPRODUCT((RECAP!$A$2:$A$1000=synthése!$B4)*(RECAP!$B$2:$B$1000=synthése!$C4)*(RECAP!$C$1:$L$1=synthése!F$1)*(RECAP!$C$2:$L$1000)) -> 18 | G4: =SUMPRODUCT((RECAP!$A$2:$A$1000=synthése!$B4)*(RECAP!$B$2:$B$1000=synthése!$C4)*(RECAP!$C$1:$L$1=synthése!G$1)*(RECAP!$C$2:$L$1000)) -> 121 | H4: =SUMPRODUCT((RECAP!$A$2:$A$1000=synthése!$B4)*(RECAP!$B$2:$B$1000=synthése!$C4)*(RECAP!$C$1:$L$1=synthése!H$1)*(RECAP!$C$2:$L$1000)) -> 1 | I4: =SUMPRODUCT((RECAP!$A$2:$A$1000=synthése!$B4)*(RECAP!$B$2:$B$1000=synthése!$C4)*(RECAP!$C$1:$L$1=synthése!I$1)*(RECAP!$C$2:$L$1000)) -> 75 | J4: =SUMPRODUCT((RECAP!$A$2:$A$1000=synthése!$B4)*(RECAP!$B$2:$B$1000=synthése!$C4)*(RECAP!$C$1:$L$1=synthése!J$1)*(RECAP!$C$2:$L$1000)) -> 14 | K4: =SUMPRODUCT((RECAP!$A$2:$A$1000=synthése!$B4)*(RECAP!$B$2:$B$1000=synthése!$C4)*(RECAP!$C$1:$L$1=synthése!K$1)*(RECAP!$C$2:$L$1000)) -> 3 | ... M4: =SUMPRODUCT((RECAP!$A$2:$A$1000=synthése!$B4)*(RECAP!$B$2:$B$1000=synthése!$C4)*(RECAP!$C$1:$L$1=synthése!M$1)*(RECAP!$C$2:$L$1000)) -> 0 | N4: =SUM(D4:M4) -> 386
A5: =IF(B5="","",YEAR(TODAY())) -> 2016 | B5: 22 | C5: GENES | D5: =SUMPRODUCT((RECAP!$A$2:$A$1000=synthése!$B5)*(RECAP!$B$2:$B$1000=synthése!$C5)*(RECAP!$C$1:$L$1=synthése!D$1)*(RECAP!$C$2:$L$1000)) -> 82 | E5: =SUMPRODUCT((RECAP!$A$2:$A$1000=synthése!$B5)*(RECAP!$B$2:$B$1000=synthése!$C5)*(RECAP!$C$1:$L$1=synthése!E$1)*(RECAP!$C$2:$L$1000)) -> 41 | F5: =SUMPRODUCT((RECAP!$A$2:$A$1000=synthése!$B5)*(RECAP!$B$2:$B$1000=synthése!$C5)*(RECAP!$C$1:$L$1=synthése!F$1)*(RECAP!$C$2:$L$1000)) -> 123 | G5: =SUMPRODUCT((RECAP!$A$2:$A$1000=synthése!$B5)*(RECAP!$B$2:$B$1000=synthése!$C5)*(RECAP!$C$1:$L$1=synthése!G$1)*(RECAP!$C$2:$L$1000)) -> 83 | H5: =SUMPRODUCT((RECAP!$A$2:$A$1000=synthése!$B5)*(RECAP!$B$2:$B$1000=synthése!$C5)*(RECAP!$C$1:$L$1=synthése!H$1)*(RECAP!$C$2:$L$1000)) -> 17 | I5: =SUMPRODUCT((RECAP!$A$2:$A$1000=synthése!$B5)*(RECAP!$B$2:$B$1000=synthése!$C5)*(RECAP!$C$1:$L$1=synthése!I$1)*(RECAP!$C$2:$L$1000)) -> 22 | J5: =SUMPRODUCT((RECAP!$A$2:$A$1000=synthése!$B5)*(RECAP!$B$2:$B$1000=synthése!$C5)*(RECAP!$C$1:$L$1=synthése!J$1)*(RECAP!$C$2:$L$1000)) -> 1 | K5: =SUMPRODUCT((RECAP!$A$2:$A$1000=synthése!$B5)*(RECAP!$B$2:$B$1000=synthése!$C5)*(RECAP!$C$1:$L$1=synthése!K$1)*(RECAP!$C$2:$L$1000)) -> 5 | ... M5: =SUMPRODUCT((RECAP!$A$2:$A$1000=synthése!$B5)*(RECAP!$B$2:$B$1000=synthése!$C5)*(RECAP!$C$1:$L$1=synthése!M$1)*(RECAP!$C$2:$L$1000)) -> 0 | N5: =SUM(D5:M5) -> 374
A6: =IF(B6="","",YEAR(TODAY())) -> 2016 | B6: 22 | C6: LA SPEZIA | D6: =SUMPRODUCT((RECAP!$A$2:$A$1000=synthése!$B6)*(RECAP!$B$2:$B$1000=synthése!$C6)*(RECAP!$C$1:$L$1=synthése!D$1)*(RECAP!$C$2:$L$1000)) -> 10 | E6: =SUMPRODUCT((RECAP!$A$2:$A$1000=synthése!$B6)*(RECAP!$B$2:$B$1000=synthése!$C6)*(RECAP!$C$1:$L$1=synthése!E$1)*(RECAP!$C$2:$L$1000)) -> 16 | F6: =SUMPRODUCT((RECAP!$A$2:$A$1000=synthése!$B6)*(RECAP!$B$2:$B$1000=synthése!$C6)*(RECAP!$C$1:$L$1=synthése!F$1)*(RECAP!$C$2:$L$1000)) -> 6 | G6: =SUMPRODUCT((RECAP!$A$2:$A$1000=synthése!$B6)*(RECAP!$B$2:$B$1000=synthése!$C6)*(RECAP!$C$1:$L$1=synthése!G$1)*(RECAP!$C$2:$L$1000)) -> 9 | H6: =SUMPRODUCT((RECAP!$A$2:$A$1000=synthése!$B6)*(RECAP!$B$2:$B$1000=synthése!$C6)*(RECAP!$C$1:$L$1=synthése!H$1)*(RECAP!$C$2:$L$1000)) -> 0 | I6: =SUMPRODUCT((RECAP!$A$2:$A$1000=synthése!$B6)*(RECAP!$B$2:$B$1000=synthése!$C6)*(RECAP!$C$1:$L$1=synthése!I$1)*(RECAP!$C$2:$L$1000)) -> 2 | J6: =SUMPRODUCT((RECAP!$A$2:$A$1000=synthése!$B6)*(RECAP!$B$2:$B$1000=synthése!$C6)*(RECAP!$C$1:$L$1=synthése!J$1)*(RECAP!$C$2:$L$1000)) -> 6 | K6: =SUMPRODUCT((RECAP!$A$2:$A$1000=synthése!$B6)*(RECAP!$B$2:$B$1000=synthése!$C6)*(RECAP!$C$1:$L$1=synthése!K$1)*(RECAP!$C$2:$L$1000)) -> 9 | ... M6: =SUMPRODUCT((RECAP!$A$2:$A$1000=synthése!$B6)*(RECAP!$B$2:$B$1000=synthése!$C6)*(RECAP!$C$1:$L$1=synthése!M$1)*(RECAP!$C$2:$L$1000)) -> 0 | N6: =SUM(D6:M6) -> 58
A7: =IF(B7="","",YEAR(TODAY())) -> 2016 | B7: 22 | C7: GANDIA | D7: =SUMPRODUCT((RECAP!$A$2:$A$1000=synthése!$B7)*(RECAP!$B$2:$B$1000=synthése!$C7)*(RECAP!$C$1:$L$1=synthése!D$1)*(RECAP!$C$2:$L$1000)) -> 0 | E7: =SUMPRODUCT((RECAP!$A$2:$A$1000=synthése!$B7)*(RECAP!$B$2:$B$1000=synthése!$C7)*(RECAP!$C$1:$L$1=synthése!E$1)*(RECAP!$C$2:$L$1000)) -> 0 | F7: =SUMPRODUCT((RECAP!$A$2:$A$1000=synthése!$B7)*(RECAP!$B$2:$B$1000=synthése!$C7)*(RECAP!$C$1:$L$1=synthése!F$1)*(RECAP!$C$2:$L$1000)) -> 0 | G7: =SUMPRODUCT((RECAP!$A$2:$A$1000=synthése!$B7)*(RECAP!$B$2:$B$1000=synthése!$C7)*(RECAP!$C$1:$L$1=synthése!G$1)*(RECAP!$C$2:$L$1000)) -> 0 | H7: =SUMPRODUCT((RECAP!$A$2:$A$1000=synthése!$B7)*(RECAP!$B$2:$B$1000=synthése!$C7)*(RECAP!$C$1:$L$1=synthése!H$1)*(RECAP!$C$2:$L$1000)) -> 0 | I7: =SUMPRODUCT((RECAP!$A$2:$A$1000=synthése!$B7)*(RECAP!$B$2:$B$1000=synthése!$C7)*(RECAP!$C$1:$L$1=synthése!I$1)*(RECAP!$C$2:$L$1000)) -> 0 | J7: =SUMPRODUCT((RECAP!$A$2:$A$1000=synthése!$B7)*(RECAP!$B$2:$B$1000=synthése!$C7)*(RECAP!$C$1:$L$1=synthése!J$1)*(RECAP!$C$2:$L$1000)) -> 0 | K7: =SUMPRODUCT((RECAP!$A$2:$A$1000=synthése!$B7)*(RECAP!$B$2:$B$1000=synthése!$C7)*(RECAP!$C$1:$L$1=synthése!K$1)*(RECAP!$C$2:$L$1000)) -> 34 | ... M7: =SUMPRODUCT((RECAP!$A$2:$A$1000=synthése!$B7)*(RECAP!$B$2:$B$1000=synthése!$C7)*(RECAP!$C$1:$L$1=synthése!M$1)*(RECAP!$C$2:$L$1000)) -> 0 | N7: =SUM(D7:M7) -> 34
A8: =IF(B8="","",YEAR(TODAY())) -> 2016 | B8: =IF([1]RECAP!A8="","",[1]RECAP!A8) -> 23 | C8: =IF([1]RECAP!B8="","",[1]RECAP!B8) -> BARCELONE | D8: =SUMPRODUCT((RECAP!$A$2:$A$1000=synthése!$B8)*(RECAP!$B$2:$B$1000=synthése!$C8)*(RECAP!$C$1:$L$1=synthése!D$1)*(RECAP!$C$2:$L$1000)) -> 83 | E8: =SUMPRODUCT((RECAP!$A$2:$A$1000=synthése!$B8)*(RECAP!$B$2:$B$1000=synthése!$C8)*(RECAP!$C$1:$L$1=synthése!E$1)*(RECAP!$C$2:$L$1000)) -> 230 | F8: =SUMPRODUCT((RECAP!$A$2:$A$1000=synthése!$B8)*(RECAP!$B$2:$B$1000=synthése!$C8)*(RECAP!$C$1:$L$1=synthése!F$1)*(RECAP!$C$2:$L$1000)) -> 2 | G8: =SUMPRODUCT((RECAP!$A$2:$A$1000=synthése!$B8)*(RECAP!$B$2:$B$1000=synthése!$C8)*(RECAP!$C$1:$L$1=synthése!G$1)*(RECAP!$C$2:$L$1000)) -> 345 | H8: =SUMPRODUCT((RECAP!$A$2:$A$1000=synthése!$B8)*(RECAP!$B$2:$B$1000=synthése!$C8)*(RECAP!$C$1:$L$1=synthése!H$1)*(RECAP!$C$2:$L$1000)) -> 0 | I8: =SUMPRODUCT((RECAP!$A$2:$A$1000=synthése!$B8)*(RECAP!$B$2:$B$1000=synthése!$C8)*(RECAP!$C$1:$L$1=synthése!I$1)*(RECAP!$C$2:$L$1000)) -> 300 | J8: =SUMPRODUCT((RECAP!$A$2:$A$1000=synthése!$B8)*(RECAP!$B$2:$B$1000=synthése!$C8)*(RECAP!$C$1:$L$1=synthése!J$1)*(RECAP!$C$2:$L$1000)) -> 1 | K8: =SUMPRODUCT((RECAP!$A$2:$A$1000=synthése!$B8)*(RECAP!$B$2:$B$1000=synthése!$C8)*(RECAP!$C$1:$L$1=synthése!K$1)*(RECAP!$C$2:$L$1000)) -> 6 | ... M8: =SUMPRODUCT((RECAP!$A$2:$A$1000=synthése!$B8)*(RECAP!$B$2:$B$1000=synthése!$C8)*(RECAP!$C$1:$L$1=synthése!M$1)*(RECAP!$C$2:$L$1000)) -> 0 | N8: =SUM(D8:M8) -> 967
A9: =IF(B9="","",YEAR(TODAY())) -> 2016 | B9: =IF([1]RECAP!A9="","",[1]RECAP!A9) -> 23 | C9: =IF([1]RECAP!B9="","",[1]RECAP!B9) -> VALENCE | D9: =SUMPRODUCT((RECAP!$A$2:$A$1000=synthése!$B9)*(RECAP!$B$2:$B$1000=synthése!$C9)*(RECAP!$C$1:$L$1=synthése!D$1)*(RECAP!$C$2:$L$1000)) -> 84 | E9: =SUMPRODUCT((RECAP!$A$2:$A$1000=synthése!$B9)*(RECAP!$B$2:$B$1000=synthése!$C9)*(RECAP!$C$1:$L$1=synthése!E$1)*(RECAP!$C$2:$L$1000)) -> 70 | F9: =SUMPRODUCT((RECAP!$A$2:$A$1000=synthése!$B9)*(RECAP!$B$2:$B$1000=synthése!$C9)*(RECAP!$C$1:$L$1=synthése!F$1)*(RECAP!$C$2:$L$1000)) -> 18 | G9: =SUMPRODUCT((RECAP!$A$2:$A$1000=synthése!$B9)*(RECAP!$B$2:$B$1000=synthése!$C9)*(RECAP!$C$1:$L$1=synthése!G$1)*(RECAP!$C$2:$L$1000)) -> 121 | H9: =SUMPRODUCT((RECAP!$A$2:$A$1000=synthése!$B9)*(RECAP!$B$2:$B$1000=synthése!$C9)*(RECAP!$C$1:$L$1=synthése!H$1)*(RECAP!$C$2:$L$1000)) -> 1 | I9: =SUMPRODUCT((RECAP!$A$2:$A$1000=synthése!$B9)*(RECAP!$B$2:$B$1000=synthése!$C9)*(RECAP!$C$1:$L$1=synthése!I$1)*(RECAP!$C$2:$L$1000)) -> 75 | J9: =SUMPRODUCT((RECAP!$A$2:$A$1000=synthése!$B9)*(RECAP!$B$2:$B$1000=synthése!$C9)*(RECAP!$C$1:$L$1=synthése!J$1)*(RECAP!$C$2:$L$1000)) -> 14 | K9: =SUMPRODUCT((RECAP!$A$2:$A$1000=synthése!$B9)*(RECAP!$B$2:$B$1000=synthése!$C9)*(RECAP!$C$1:$L$1=synthése!K$1)*(RECAP!$C$2:$L$1000)) -> 3 | ... M9: =SUMPRODUCT((RECAP!$A$2:$A$1000=synthése!$B9)*(RECAP!$B$2:$B$1000=synthése!$C9)*(RECAP!$C$1:$L$1=synthése!M$1)*(RECAP!$C$2:$L$1000)) -> 0 | N9: =SUM(D9:M9) -> 386
A10: =IF(B10="","",YEAR(TODAY())) -> 2016 | B10: =IF([1]RECAP!A10="","",[1]RECAP!A10) -> 23 | C10: =IF([1]RECAP!B10="","",[1]RECAP!B10) -> GANDIA | D10: =SUMPRODUCT((RECAP!$A$2:$A$1000=synthése!$B10)*(RECAP!$B$2:$B$1000=synthése!$C10)*(RECAP!$C$1:$L$1=synthése!D$1)*(RECAP!$C$2:$L$1000)) -> 0 | E10: =SUMPRODUCT((RECAP!$A$2:$A$1000=synthése!$B10)*(RECAP!$B$2:$B$1000=synthése!$C10)*(RECAP!$C$1:$L$1=synthése!E$1)*(RECAP!$C$2:$L$1000)) -> 0 | F10: =SUMPRODUCT((RECAP!$A$2:$A$1000=synthése!$B10)*(RECAP!$B$2:$B$1000=synthése!$C10)*(RECAP!$C$1:$L$1=synthése!F$1)*(RECAP!$C$2:$L$1000)) -> 0 | G10: =SUMPRODUCT((RECAP!$A$2:$A$1000=synthése!$B10)*(RECAP!$B$2:$B$1000=synthése!$C10)*(RECAP!$C$1:$L$1=synthése!G$1)*(RECAP!$C$2:$L$1000)) -> 0 | H10: =SUMPRODUCT((RECAP!$A$2:$A$1000=synthése!$B10)*(RECAP!$B$2:$B$1000=synthése!$C10)*(RECAP!$C$1:$L$1=synthése!H$1)*(RECAP!$C$2:$L$1000)) -> 0 | I10: =SUMPRODUCT((RECAP!$A$2:$A$1000=synthése!$B10)*(RECAP!$B$2:$B$1000=synthése!$C10)*(RECAP!$C$1:$L$1=synthése!I$1)*(RECAP!$C$2:$L$1000)) -> 0 | J10: =SUMPRODUCT((RECAP!$A$2:$A$1000=synthése!$B10)*(RECAP!$B$2:$B$1000=synthése!$C10)*(RECAP!$C$1:$L$1=synthése!J$1)*(RECAP!$C$2:$L$1000)) -> 0 | K10: =SUMPRODUCT((RECAP!$A$2:$A$1000=synthése!$B10)*(RECAP!$B$2:$B$1000=synthése!$C10)*(RECAP!$C$1:$L$1=synthése!K$1)*(RECAP!$C$2:$L$1000)) -> 34 | ... M10: =SUMPRODUCT((RECAP!$A$2:$A$1000=synthése!$B10)*(RECAP!$B$2:$B$1000=synthése!$C10)*(RECAP!$C$1:$L$1=synthése!M$1)*(RECAP!$C$2:$L$1000)) -> 0 | N10: =SUM(D10:M10) -> 34
A11: =IF(B11="","",YEAR(TODAY())) -> 2016 | B11: =IF([1]RECAP!A11="","",[1]RECAP!A11) -> 23 | C11: =IF([1]RECAP!B11="","",[1]RECAP!B11) -> LA SPEZIA | D11: =SUMPRODUCT((RECAP!$A$2:$A$1000=synthése!$B11)*(RECAP!$B$2:$B$1000=synthése!$C11)*(RECAP!$C$1:$L$1=synthése!D$1)*(RECAP!$C$2:$L$1000)) -> 10 | E11: =SUMPRODUCT((RECAP!$A$2:$A$1000=synthése!$B11)*(RECAP!$B$2:$B$1000=synthése!$C11)*(RECAP!$C$1:$L$1=synthése!E$1)*(RECAP!$C$2:$L$1000)) -> 16 | F11: =SUMPRODUCT((RECAP!$A$2:$A$1000=synthése!$B11)*(RECAP!$B$2:$B$1000=synthése!$C11)*(RECAP!$C$1:$L$1=synthése!F$1)*(RECAP!$C$2:$L$1000)) -> 6 | G11: =SUMPRODUCT((RECAP!$A$2:$A$1000=synthése!$B11)*(RECAP!$B$2:$B$1000=synthése!$C11)*(RECAP!$C$1:$L$1=synthése!G$1)*(RECAP!$C$2:$L$1000)) -> 9 | H11: =SUMPRODUCT((RECAP!$A$2:$A$1000=synthése!$B11)*(RECAP!$B$2:$B$1000=synthése!$C11)*(RECAP!$C$1:$L$1=synthése!H$1)*(RECAP!$C$2:$L$1000)) -> 0 | I11: =SUMPRODUCT((RECAP!$A$2:$A$1000=synthése!$B11)*(RECAP!$B$2:$B$1000=synthése!$C11)*(RECAP!$C$1:$L$1=synthése!I$1)*(RECAP!$C$2:$L$1000)) -> 2 | J11: =SUMPRODUCT((RECAP!$A$2:$A$1000=synthése!$B11)*(RECAP!$B$2:$B$1000=synthése!$C11)*(RECAP!$C$1:$L$1=synthése!J$1)*(RECAP!$C$2:$L$1000)) -> 6 | K11: =SUMPRODUCT((RECAP!$A$2:$A$1000=synthése!$B11)*(RECAP!$B$2:$B$1000=synthése!$C11)*(RECAP!$C$1:$L$1=synthése!K$1)*(RECAP!$C$2:$L$1000)) -> 9 | ... M11: =SUMPRODUCT((RECAP!$A$2:$A$1000=synthése!$B11)*(RECAP!$B$2:$B$1000=synthése!$C11)*(RECAP!$C$1:$L$1=synthése!M$1)*(RECAP!$C$2:$L$1000)) -> 0 | N11: =SUM(D11:M11) -> 58
A12: =IF(B12="","",YEAR(TODAY())) -> 2016 | B12: =IF([1]RECAP!A12="","",[1]RECAP!A12) -> 23 | C12: =IF([1]RECAP!B12="","",[1]RECAP!B12) -> GENES | D12: =SUMPRODUCT((RECAP!$A$2:$A$1000=synthése!$B12)*(RECAP!$B$2:$B$1000=synthése!$C12)*(RECAP!$C$1:$L$1=synthése!D$1)*(RECAP!$C$2:$L$1000)) -> 82 | E12: =SUMPRODUCT((RECAP!$A$2:$A$1000=synthése!$B12)*(RECAP!$B$2:$B$1000=synthése!$C12)*(RECAP!$C$1:$L$1=synthése!E$1)*(RECAP!$C$2:$L$1000)) -> 41 | F12: =SUMPRODUCT((RECAP!$A$2:$A$1000=synthése!$B12)*(RECAP!$B$2:$B$1000=synthése!$C12)*(RECAP!$C$1:$L$1=synthése!F$1)*(RECAP!$C$2:$L$1000)) -> 123 | G12: =SUMPRODUCT((RECAP!$A$2:$A$1000=synthése!$B12)*(RECAP!$B$2:$B$1000=synthése!$C12)*(RECAP!$C$1:$L$1=synthése!G$1)*(RECAP!$C$2:$L$1000)) -> 83 | H12: =SUMPRODUCT((RECAP!$A$2:$A$1000=synthése!$B12)*(RECAP!$B$2:$B$1000=synthése!$C12)*(RECAP!$C$1:$L$1=synthése!H$1)*(RECAP!$C$2:$L$1000)) -> 17 | I12: =SUMPRODUCT((RECAP!$A$2:$A$1000=synthése!$B12)*(RECAP!$B$2:$B$1000=synthése!$C12)*(RECAP!$C$1:$L$1=synthése!I$1)*(RECAP!$C$2:$L$1000)) -> 22 | J12: =SUMPRODUCT((RECAP!$A$2:$A$1000=synthése!$B12)*(RECAP!$B$2:$B$1000=synthése!$C12)*(RECAP!$C$1:$L$1=synthése!J$1)*(RECAP!$C$2:$L$1000)) -> 1 | K12: =SUMPRODUCT((RECAP!$A$2:$A$1000=synthése!$B12)*(RECAP!$B$2:$B$1000=synthése!$C12)*(RECAP!$C$1:$L$1=synthése!K$1)*(RECAP!$C$2:$L$1000)) -> 5 | ... M12: =SUMPRODUCT((RECAP!$A$2:$A$1000=synthése!$B12)*(RECAP!$B$2:$B$1000=synthése!$C12)*(RECAP!$C$1:$L$1=synthése!M$1)*(RECAP!$C$2:$L$1000)) -> 0 | N12: =SUM(D12:M12) -> 374
A13: =IF(B13="","",YEAR(TODAY())) -> 2016 | B13: =IF([1]RECAP!A13="","",[1]RECAP!A13) -> 23 | C13: =IF([1]RECAP!B13="","",[1]RECAP!B13) -> MARSEILLE | D13: =SUMPRODUCT((RECAP!$A$2:$A$1000=synthése!$B13)*(RECAP!$B$2:$B$1000=synthése!$C13)*(RECAP!$C$1:$L$1=synthése!D$1)*(RECAP!$C$2:$L$1000)) -> 430 | E13: =SUMPRODUCT((RECAP!$A$2:$A$1000=synthése!$B13)*(RECAP!$B$2:$B$1000=synthése!$C13)*(RECAP!$C$1:$L$1=synthése!E$1)*(RECAP!$C$2:$L$1000)) -> 121 | F13: =SUMPRODUCT((RECAP!$A$2:$A$1000=synthése!$B13)*(RECAP!$B$2:$B$1000=synthése!$C13)*(RECAP!$C$1:$L$1=synthése!F$1)*(RECAP!$C$2:$L$1000)) -> 192 | G13: =SUMPRODUCT((RECAP!$A$2:$A$1000=synthése!$B13)*(RECAP!$B$2:$B$1000=synthése!$C13)*(RECAP!$C$1:$L$1=synthése!G$1)*(RECAP!$C$2:$L$1000)) -> 199 | H13: =SUMPRODUCT((RECAP!$A$2:$A$1000=synthése!$B13)*(RECAP!$B$2:$B$1000=synthése!$C13)*(RECAP!$C$1:$L$1=synthése!H$1)*(RECAP!$C$2:$L$1000)) -> 0 | I13: =SUMPRODUCT((RECAP!$A$2:$A$1000=synthése!$B13)*(RECAP!$B$2:$B$1000=synthése!$C13)*(RECAP!$C$1:$L$1=synthése!I$1)*(RECAP!$C$2:$L$1000)) -> 96 | J13: =SUMPRODUCT((RECAP!$A$2:$A$1000=synthése!$B13)*(RECAP!$B$2:$B$1000=synthése!$C13)*(RECAP!$C$1:$L$1=synthése!J$1)*(RECAP!$C$2:$L$1000)) -> 114 | K13: =SUMPRODUCT((RECAP!$A$2:$A$1000=synthése!$B13)*(RECAP!$B$2:$B$1000=synthése!$C13)*(RECAP!$C$1:$L$1=synthése!K$1)*(RECAP!$C$2:$L$1000)) -> 168 | ... M13: =SUMPRODUCT((RECAP!$A$2:$A$1000=synthése!$B13)*(RECAP!$B$2:$B$1000=synthése!$C13)*(RECAP!$C$1:$L$1=synthése!M$1)*(RECAP!$C$2:$L$1000)) -> 0 | N13: =SUM(D13:M13) -> 1320
A14: =IF(B14="","",YEAR(TODAY())) -> 2016 | B14: =IF([1]RECAP!A14="","",[1]RECAP!A14) -> 24 | C14: =IF([1]RECAP!B14="","",[1]RECAP!B14) -> BARCELONE | D14: =SUMPRODUCT((RECAP!$A$2:$A$1000=synthése!$B14)*(RECAP!$B$2:$B$1000=synthése!$C14)*(RECAP!$C$1:$L$1=synthése!D$1)*(RECAP!$C$2:$L$1000)) -> 83 | E14: =SUMPRODUCT((RECAP!$A$2:$A$1000=synthése!$B14)*(RECAP!$B$2:$B$1000=synthése!$C14)*(RECAP!$C$1:$L$1=synthése!E$1)*(RECAP!$C$2:$L$1000)) -> 230 | F14: =SUMPRODUCT((RECAP!$A$2:$A$1000=synthése!$B14)*(RECAP!$B$2:$B$1000=synthése!$C14)*(RECAP!$C$1:$L$1=synthése!F$1)*(RECAP!$C$2:$L$1000)) -> 2 | G14: =SUMPRODUCT((RECAP!$A$2:$A$1000=synthése!$B14)*(RECAP!$B$2:$B$1000=synthése!$C14)*(RECAP!$C$1:$L$1=synthése!G$1)*(RECAP!$C$2:$L$1000)) -> 345 | H14: =SUMPRODUCT((RECAP!$A$2:$A$1000=synthése!$B14)*(RECAP!$B$2:$B$1000=synthése!$C14)*(RECAP!$C$1:$L$1=synthése!H$1)*(RECAP!$C$2:$L$1000)) -> 0 | I14: =SUMPRODUCT((RECAP!$A$2:$A$1000=synthése!$B14)*(RECAP!$B$2:$B$1000=synthése!$C14)*(RECAP!$C$1:$L$1=synthése!I$1)*(RECAP!$C$2:$L$1000)) -> 300 | J14: =SUMPRODUCT((RECAP!$A$2:$A$1000=synthése!$B14)*(RECAP!$B$2:$B$1000=synthése!$C14)*(RECAP!$C$1:$L$1=synthése!J$1)*(RECAP!$C$2:$L$1000)) -> 1 | K14: =SUMPRODUCT((RECAP!$A$2:$A$1000=synthése!$B14)*(RECAP!$B$2:$B$1000=synthése!$C14)*(RECAP!$C$1:$L$1=synthése!K$1)*(RECAP!$C$2:$L$1000)) -> 6 | ... M14: =SUMPRODUCT((RECAP!$A$2:$A$1000=synthése!$B14)*(RECAP!$B$2:$B$1000=synthése!$C14)*(RECAP!$C$1:$L$1=synthése!M$1)*(RECAP!$C$2:$L$1000)) -> 0 | N14: =SUM(D14:M14) -> 967
A15: =IF(B15="","",YEAR(TODAY())) -> 2016 | B15: =IF([1]RECAP!A15="","",[1]RECAP!A15) -> 24 | C15: =IF([1]RECAP!B15="","",[1]RECAP!B15) -> VALENCE | D15: =SUMPRODUCT((RECAP!$A$2:$A$1000=synthése!$B15)*(RECAP!$B$2:$B$1000=synthése!$C15)*(RECAP!$C$1:$L$1=synthése!D$1)*(RECAP!$C$2:$L$1000)) -> 84 | E15: =SUMPRODUCT((RECAP!$A$2:$A$1000=synthése!$B15)*(RECAP!$B$2:$B$1000=synthése!$C15)*(RECAP!$C$1:$L$1=synthése!E$1)*(RECAP!$C$2:$L$1000)) -> 70 | F15: =SUMPRODUCT((RECAP!$A$2:$A$1000=synthése!$B15)*(RECAP!$B$2:$B$1000=synthése!$C15)*(RECAP!$C$1:$L$1=synthése!F$1)*(RECAP!$C$2:$L$1000)) -> 18 | G15: =SUMPRODUCT((RECAP!$A$2:$A$1000=synthése!$B15)*(RECAP!$B$2:$B$1000=synthése!$C15)*(RECAP!$C$1:$L$1=synthése!G$1)*(RECAP!$C$2:$L$1000)) -> 121 | H15: =SUMPRODUCT((RECAP!$A$2:$A$1000=synthése!$B15)*(RECAP!$B$2:$B$1000=synthése!$C15)*(RECAP!$C$1:$L$1=synthése!H$1)*(RECAP!$C$2:$L$1000)) -> 1 | I15: =SUMPRODUCT((RECAP!$A$2:$A$1000=synthése!$B15)*(RECAP!$B$2:$B$1000=synthése!$C15)*(RECAP!$C$1:$L$1=synthése!I$1)*(RECAP!$C$2:$L$1000)) -> 75 | J15: =SUMPRODUCT((RECAP!$A$2:$A$1000=synthése!$B15)*(RECAP!$B$2:$B$1000=synthése!$C15)*(RECAP!$C$1:$L$1=synthése!J$1)*(RECAP!$C$2:$L$1000)) -> 14 | K15: =SUMPRODUCT((RECAP!$A$2:$A$1000=synthése!$B15)*(RECAP!$B$2:$B$1000=synthése!$C15)*(RECAP!$C$1:$L$1=synthése!K$1)*(RECAP!$C$2:$L$1000)) -> 3 | ... M15: =SUMPRODUCT((RECAP!$A$2:$A$1000=synthése!$B15)*(RECAP!$B$2:$B$1000=synthése!$C15)*(RECAP!$C$1:$L$1=synthése!M$1)*(RECAP!$C$2:$L$1000)) -> 0 | N15: =SUM(D15:M15) -> 386
A16: =IF(B16="","",YEAR(TODAY())) -> 2016 | B16: =IF([1]RECAP!A16="","",[1]RECAP!A16) -> 24 | C16: =IF([1]RECAP!B16="","",[1]RECAP!B16) -> GANDIA | D16: =SUMPRODUCT((RECAP!$A$2:$A$1000=synthése!$B16)*(RECAP!$B$2:$B$1000=synthése!$C16)*(RECAP!$C$1:$L$1=synthése!D$1)*(RECAP!$C$2:$L$1000)) -> 0 | E16: =SUMPRODUCT((RECAP!$A$2:$A$1000=synthése!$B16)*(RECAP!$B$2:$B$1000=synthése!$C16)*(RECAP!$C$1:$L$1=synthése!E$1)*(RECAP!$C$2:$L$1000)) -> 0 | F16: =SUMPRODUCT((RECAP!$A$2:$A$1000=synthése!$B16)*(RECAP!$B$2:$B$1000=synthése!$C16)*(RECAP!$C$1:$L$1=synthése!F$1)*(RECAP!$C$2:$L$1000)) -> 0 | G16: =SUMPRODUCT((RECAP!$A$2:$A$1000=synthése!$B16)*(RECAP!$B$2:$B$1000=synthése!$C16)*(RECAP!$C$1:$L$1=synthése!G$1)*(RECAP!$C$2:$L$1000)) -> 0 | H16: =SUMPRODUCT((RECAP!$A$2:$A$1000=synthése!$B16)*(RECAP!$B$2:$B$1000=synthése!$C16)*(RECAP!$C$1:$L$1=synthése!H$1)*(RECAP!$C$2:$L$1000)) -> 0 | I16: =SUMPRODUCT((RECAP!$A$2:$A$1000=synthése!$B16)*(RECAP!$B$2:$B$1000=synthése!$C16)*(RECAP!$C$1:$L$1=synthése!I$1)*(RECAP!$C$2:$L$1000)) -> 0 | J16: =SUMPRODUCT((RECAP!$A$2:$A$1000=synthése!$B16)*(RECAP!$B$2:$B$1000=synthése!$C16)*(RECAP!$C$1:$L$1=synthése!J$1)*(RECAP!$C$2:$L$1000)) -> 0 | K16: =SUMPRODUCT((RECAP!$A$2:$A$1000=synthése!$B16)*(RECAP!$B$2:$B$1000=synthése!$C16)*(RECAP!$C$1:$L$1=synthése!K$1)*(RECAP!$C$2:$L$1000)) -> 34 | ... M16: =SUMPRODUCT((RECAP!$A$2:$A$1000=synthése!$B16)*(RECAP!$B$2:$B$1000=synthése!$C16)*(RECAP!$C$1:$L$1=synthése!M$1)*(RECAP!$C$2:$L$1000)) -> 0 | N16: =SUM(D16:M16) -> 34
A17: =IF(B17="","",YEAR(TODAY())) -> 2016 | B17: =IF([1]RECAP!A17="","",[1]RECAP!A17) -> 24 | C17: =IF([1]RECAP!B17="","",[1]RECAP!B17) -> LA SPEZIA | D17: =SUMPRODUCT((RECAP!$A$2:$A$1000=synthése!$B17)*(RECAP!$B$2:$B$1000=synthése!$C17)*(RECAP!$C$1:$L$1=synthése!D$1)*(RECAP!$C$2:$L$1000)) -> 10 | E17: =SUMPRODUCT((RECAP!$A$2:$A$1000=synthése!$B17)*(RECAP!$B$2:$B$1000=synthése!$C17)*(RECAP!$C$1:$L$1=synthése!E$1)*(RECAP!$C$2:$L$1000)) -> 16 | F17: =SUMPRODUCT((RECAP!$A$2:$A$1000=synthése!$B17)*(RECAP!$B$2:$B$1000=synthése!$C17)*(RECAP!$C$1:$L$1=synthése!F$1)*(RECAP!$C$2:$L$1000)) -> 6 | G17: =SUMPRODUCT((RECAP!$A$2:$A$1000=synthése!$B17)*(RECAP!$B$2:$B$1000=synthése!$C17)*(RECAP!$C$1:$L$1=synthése!G$1)*(RECAP!$C$2:$L$1000)) -> 9 | H17: =SUMPRODUCT((RECAP!$A$2:$A$1000=synthése!$B17)*(RECAP!$B$2:$B$1000=synthése!$C17)*(RECAP!$C$1:$L$1=synthése!H$1)*(RECAP!$C$2:$L$1000)) -> 0 | I17: =SUMPRODUCT((RECAP!$A$2:$A$1000=synthése!$B17)*(RECAP!$B$2:$B$1000=synthése!$C17)*(RECAP!$C$1:$L$1=synthése!I$1)*(RECAP!$C$2:$L$1000)) -> 2 | J17: =SUMPRODUCT((RECAP!$A$2:$A$1000=synthése!$B17)*(RECAP!$B$2:$B$1000=synthése!$C17)*(RECAP!$C$1:$L$1=synthése!J$1)*(RECAP!$C$2:$L$1000)) -> 6 | K17: =SUMPRODUCT((RECAP!$A$2:$A$1000=synthése!$B17)*(RECAP!$B$2:$B$1000=synthése!$C17)*(RECAP!$C$1:$L$1=synthése!K$1)*(RECAP!$C$2:$L$1000)) -> 9 | ... M17: =SUMPRODUCT((RECAP!$A$2:$A$1000=synthése!$B17)*(RECAP!$B$2:$B$1000=synthése!$C17)*(RECAP!$C$1:$L$1=synthése!M$1)*(RECAP!$C$2:$L$1000)) -> 0 | N17: =SUM(D17:M17) -> 58
A18: =IF(B18="","",YEAR(TODAY())) -> 2016 | B18: =IF([1]RECAP!A18="","",[1]RECAP!A18) -> 24 | C18: =IF([1]RECAP!B18="","",[1]RECAP!B18) -> GENES | D18: =SUMPRODUCT((RECAP!$A$2:$A$1000=synthése!$B18)*(RECAP!$B$2:$B$1000=synthése!$C18)*(RECAP!$C$1:$L$1=synthése!D$1)*(RECAP!$C$2:$L$1000)) -> 82 | E18: =SUMPRODUCT((RECAP!$A$2:$A$1000=synthése!$B18)*(RECAP!$B$2:$B$1000=synthése!$C18)*(RECAP!$C$1:$L$1=synthése!E$1)*(RECAP!$C$2:$L$1000)) -> 41 | F18: =SUMPRODUCT((RECAP!$A$2:$A$1000=synthése!$B18)*(RECAP!$B$2:$B$1000=synthése!$C18)*(RECAP!$C$1:$L$1=synthése!F$1)*(RECAP!$C$2:$L$1000)) -> 123 | G18: =SUMPRODUCT((RECAP!$A$2:$A$1000=synthése!$B18)*(RECAP!$B$2:$B$1000=synthése!$C18)*(RECAP!$C$1:$L$1=synthése!G$1)*(RECAP!$C$2:$L$1000)) -> 83 | H18: =SUMPRODUCT((RECAP!$A$2:$A$1000=synthése!$B18)*(RECAP!$B$2:$B$1000=synthése!$C18)*(RECAP!$C$1:$L$1=synthése!H$1)*(RECAP!$C$2:$L$1000)) -> 17 | I18: =SUMPRODUCT((RECAP!$A$2:$A$1000=synthése!$B18)*(RECAP!$B$2:$B$1000=synthése!$C18)*(RECAP!$C$1:$L$1=synthése!I$1)*(RECAP!$C$2:$L$1000)) -> 22 | J18: =SUMPRODUCT((RECAP!$A$2:$A$1000=synthése!$B18)*(RECAP!$B$2:$B$1000=synthése!$C18)*(RECAP!$C$1:$L$1=synthése!J$1)*(RECAP!$C$2:$L$1000)) -> 1 | K18: =SUMPRODUCT((RECAP!$A$2:$A$1000=synthése!$B18)*(RECAP!$B$2:$B$1000=synthése!$C18)*(RECAP!$C$1:$L$1=synthése!K$1)*(RECAP!$C$2:$L$1000)) -> 5 | ... M18: =SUMPRODUCT((RECAP!$A$2:$A$1000=synthése!$B18)*(RECAP!$B$2:$B$1000=synthése!$C18)*(RECAP!$C$1:$L$1=synthése!M$1)*(RECAP!$C$2:$L$1000)) -> 0 | N18: =SUM(D18:M18) -> 374
A19: =IF(B19="","",YEAR(TODAY())) -> 2016 | B19: =IF([1]RECAP!A19="","",[1]RECAP!A19) -> 24 | C19: =IF([1]RECAP!B19="","",[1]RECAP!B19) -> MARSEILLE | D19: =SUMPRODUCT((RECAP!$A$2:$A$1000=synthése!$B19)*(RECAP!$B$2:$B$1000=synthése!$C19)*(RECAP!$C$1:$L$1=synthése!D$1)*(RECAP!$C$2:$L$1000)) -> 430 | E19: =SUMPRODUCT((RECAP!$A$2:$A$1000=synthése!$B19)*(RECAP!$B$2:$B$1000=synthése!$C19)*(RECAP!$C$1:$L$1=synthése!E$1)*(RECAP!$C$2:$L$1000)) -> 121 | F19: =SUMPRODUCT((RECAP!$A$2:$A$1000=synthése!$B19)*(RECAP!$B$2:$B$1000=synthése!$C19)*(RECAP!$C$1:$L$1=synthése!F$1)*(RECAP!$C$2:$L$1000)) -> 192 | G19: =SUMPRODUCT((RECAP!$A$2:$A$1000=synthése!$B19)*(RECAP!$B$2:$B$1000=synthése!$C19)*(RECAP!$C$1:$L$1=synthése!G$1)*(RECAP!$C$2:$L$1000)) -> 199 | H19: =SUMPRODUCT((RECAP!$A$2:$A$1000=synthése!$B19)*(RECAP!$B$2:$B$1000=synthése!$C19)*(RECAP!$C$1:$L$1=synthése!H$1)*(RECAP!$C$2:$L$1000)) -> 0 | I19: =SUMPRODUCT((RECAP!$A$2:$A$1000=synthése!$B19)*(RECAP!$B$2:$B$1000=synthése!$C19)*(RECAP!$C$1:$L$1=synthése!I$1)*(RECAP!$C$2:$L$1000)) -> 96 | J19: =SUMPRODUCT((RECAP!$A$2:$A$1000=synthése!$B19)*(RECAP!$B$2:$B$1000=synthése!$C19)*(RECAP!$C$1:$L$1=synthése!J$1)*(RECAP!$C$2:$L$1000)) -> 114 | K19: =SUMPRODUCT((RECAP!$A$2:$A$1000=synthése!$B19)*(RECAP!$B$2:$B$1000=synthése!$C19)*(RECAP!$C$1:$L$1=synthése!K$1)*(RECAP!$C$2:$L$1000)) -> 168 | ... M19: =SUMPRODUCT((RECAP!$A$2:$A$1000=synthése!$B19)*(RECAP!$B$2:$B$1000=synthése!$C19)*(RECAP!$C$1:$L$1=synthése!M$1)*(RECAP!$C$2:$L$1000)) -> 0 | N19: =SUM(D19:M19) -> 1320
... A403: =IF(B403="","",YEAR(TODAY())) | B403: =IF([1]RECAP!A403="","",[1]RECAP!A403) | C403: =IF([1]RECAP!B403="","",[1]RECAP!B403) | D403: =SUMPRODUCT((RECAP!$A$2:$A$1000=synthése!$B403)*(RECAP!$B$2:$B$1000=synthése!$C403)*(RECAP!$C$1:$L$1=synthése!D$1)*(RECAP!$C$2:$L$1000)) -> 0 | E403: =SUMPRODUCT((RECAP!$A$2:$A$1000=synthése!$B403)*(RECAP!$B$2:$B$1000=synthése!$C403)*(RECAP!$C$1:$L$1=synthése!E$1)*(RECAP!$C$2:$L$1000)) -> 0 | F403: =SUMPRODUCT((RECAP!$A$2:$A$1000=synthése!$B403)*(RECAP!$B$2:$B$1000=synthése!$C403)*(RECAP!$C$1:$L$1=synthése!F$1)*(RECAP!$C$2:$L$1000)) -> 0 | G403: =SUMPRODUCT((RECAP!$A$2:$A$1000=synthése!$B403)*(RECAP!$B$2:$B$1000=synthése!$C403)*(RECAP!$C$1:$L$1=synthése!G$1)*(RECAP!$C$2:$L$1000)) -> 0 | H403: =SUMPRODUCT((RECAP!$A$2:$A$1000=synthése!$B403)*(RECAP!$B$2:$B$1000=synthése!$C403)*(RECAP!$C$1:$L$1=synthése!H$1)*(RECAP!$C$2:$L$1000)) -> 0 | I403: =SUMPRODUCT((RECAP!$A$2:$A$1000=synthése!$B403)*(RECAP!$B$2:$B$1000=synthése!$C403)*(RECAP!$C$1:$L$1=synthése!I$1)*(RECAP!$C$2:$L$1000)) -> 0 | J403: =SUMPRODUCT((RECAP!$A$2:$A$1000=synthése!$B403)*(RECAP!$B$2:$B$1000=synthése!$C403)*(RECAP!$C$1:$L$1=synthése!J$1)*(RECAP!$C$2:$L$1000)) -> 0 | K403: =SUMPRODUCT((RECAP!$A$2:$A$1000=synthése!$B403)*(RECAP!$B$2:$B$1000=synthése!$C403)*(RECAP!$C$1:$L$1=synthése!K$1)*(RECAP!$C$2:$L$1000)) -> 0 | ... M403: =SUMPRODUCT((RECAP!$A$2:$A$1000=synthése!$B403)*(RECAP!$B$2:$B$1000=synthése!$C403)*(RECAP!$C$1:$L$1=synthése!M$1)*(RECAP!$C$2:$L$1000)) -> 0 | N403: =SUM(D403:M403) -> 0
