Workbook
Name AN: 'Plan de couv'!$A$2
Name capacollab: Capa!$V$5:$AP$5
Name capadates: Capa!$T$6:$T$371
Name Codes: Paramètres!$A$3:$A$10
Name couv: Capa!$V$6:$AP$371
Name JF: Paramètres!$J$5:$J$17
Name planning: 'Plan de couv'!$E$8:$Y$373

Sheet Recap
A3: Demande | G3: TTM / TTD souhaité par SFR | J3: TTM / TTD réel | AD3: Interlocuteurs | AG3: Commentaires pour le concepteur / réalisateur | AL3: Qualité inputs? Tous les interlocuteurs identifiés? (recette, spoc) Jalons identifiés et cohérents? Nécessité d'un COPRO? | AM3: Check exhaustivité des livrables | AO3: Incident en production suite au lancement d’une offre | AT3: Respect des jalons | AV3: Réactivité réponse Forrum
A4: N° Demande | B4: Urgence | C4: Demandeur | D4: Date réception demande de SFR | E4: Date réponse souhaitée | F4: Date réponse réelle | G4: TTM souhaité SFR | H4: Livraison Bios souhaitée SFR | I4: TTD souhaité SFR | J4: TTM réel | K4: Livraison Bios réel | L4: TTD réel | M4: STATUT | N4: Mois | O4: Semaine | P4: Segment | Q4: Peps S4 | R4: Peps Offre | S4: Libellé | T4: Périmètre | U4: UO | V4: Charge plannifiée (en jour) | W4: date début prise en charge | X4: date fin selon charge plannifiée | Y4: Concepteur | Z4: Nb jours dispo concepteur | AA4: Livraison Bios dans PEPS MEP | AB4: TTM | AC4: TTD | AD4: Equipe chargée de la recette | AE4: Spoc | AF4: MOA Lancement d'Offres | AG4: Commentaires par système | AH4: Commentaire global à l'offre | AI4: Charge réelle si alerte | AJ4: Charge planifiée | AK4: KPI | AL4: Commentaires / Alertes | AM4: Livrables exhaustifs? (Oui/Non) | AN4: Explication non exhaustivité livrable | AO4: Critique (seuil = 0) | AP4: Majeure (seuil = 2 hors cran / 1 cran) | AQ4: Mineure (seuil = 5 hors cran / 1 cran) | AR4: Indicateur Qualité Lancement | AS4: Commentaires / Plan d'actions | AT4: Respect TTD | AU4: Respect TTM | AV4: Délai de réponse en jours ouvrés | AW4: Réactivité réponse Forrum
A5: D000 | B5: Normale | C5: NB | D5: 42571 | F5: 42580 | G5: 42590 | I5: 42588 | N5: =IF(Rec[[#This Row],[TTM souhaité SFR]]="","",MONTH(Rec[[#This Row],[TTM souhaité SFR]])) -> 8 | O5: =IF(Rec[[#This Row],[TTM souhaité SFR]]="","",WEEKNUM(Rec[[#This Row],[TTM souhaité SFR]])) -> 33 | P5: LSA | S5: LSA - Test | X5: =IF(Rec[[#This Row],[date début prise en charge]]="","",IF(Rec[[#This Row],[Charge plannifiée (en jour)]]<1,WORKDAY(Rec[[#This Row],[date début prise en charge]],Rec[[#This Row],[Charge plannifiée (en jour)]],JF),WORKDAY(Rec[[#This Row],[date début prise en charge]],Rec[[#This Row],[Charge plannifiée (en jour)]]-1,JF))) | Z5: {=IF(Rec[[#This Row],[date début prise en charge]]="","",SUMPRODUCT((couv<>0)*(capadates>=Rec[[#This Row],[date début prise en charge]])*(capadates<=Rec[[#This Row],[date fin selon charge plannifiée]])*(capacollab=Rec[[#This Row],[Concepteur]])))}
G6: 42590 | I6: 42588 | N6: =IF(Rec[[#This Row],[TTM souhaité SFR]]="","",MONTH(Rec[[#This Row],[TTM souhaité SFR]])) -> 8 | O6: =IF(Rec[[#This Row],[TTM souhaité SFR]]="","",WEEKNUM(Rec[[#This Row],[TTM souhaité SFR]])) -> 33 | S6: LSA - Test | V6: 2 | W6: 42585 | X6: =IF(Rec[[#This Row],[date début prise en charge]]="","",IF(Rec[[#This Row],[Charge plannifiée (en jour)]]<1,WORKDAY(Rec[[#This Row],[date début prise en charge]],Rec[[#This Row],[Charge plannifiée (en jour)]],JF),WORKDAY(Rec[[#This Row],[date début prise en charge]],Rec[[#This Row],[Charge plannifiée (en jour)]]-1,JF))) -> 42586 | Y6: Collab 1 | Z6: {=IF(Rec[[#This Row],[date début prise en charge]]="","",SUMPRODUCT((couv<>0)*(capadates>=Rec[[#This Row],[date début prise en charge]])*(capadates<=Rec[[#This Row],[date fin selon charge plannifiée]])*(capacollab=Rec[[#This Row],[Concepteur]])))} -> 1
G7: 42590 | I7: 42588 | N7: =IF(Rec[[#This Row],[TTM souhaité SFR]]="","",MONTH(Rec[[#This Row],[TTM souhaité SFR]])) -> 8 | O7: =IF(Rec[[#This Row],[TTM souhaité SFR]]="","",WEEKNUM(Rec[[#This Row],[TTM souhaité SFR]])) -> 33 | S7: LSA - Test | V7: 1 | W7: 42586 | X7: =IF(Rec[[#This Row],[date début prise en charge]]="","",IF(Rec[[#This Row],[Charge plannifiée (en jour)]]<1,WORKDAY(Rec[[#This Row],[date début prise en charge]],Rec[[#This Row],[Charge plannifiée (en jour)]],JF),WORKDAY(Rec[[#This Row],[date début prise en charge]],Rec[[#This Row],[Charge plannifiée (en jour)]]-1,JF))) -> 42586 | Y7: Collab 1 | Z7: {=IF(Rec[[#This Row],[date début prise en charge]]="","",SUMPRODUCT((couv<>0)*(capadates>=Rec[[#This Row],[date début prise en charge]])*(capadates<=Rec[[#This Row],[date fin selon charge plannifiée]])*(capacollab=Rec[[#This Row],[Concepteur]])))} -> 0
G8: 42590 | I8: 42588 | N8: =IF(Rec[[#This Row],[TTM souhaité SFR]]="","",MONTH(Rec[[#This Row],[TTM souhaité SFR]])) -> 8 | O8: =IF(Rec[[#This Row],[TTM souhaité SFR]]="","",WEEKNUM(Rec[[#This Row],[TTM souhaité SFR]])) -> 33 | S8: LSA - Test | V8: 0.5 | W8: 42593 | X8: =IF(Rec[[#This Row],[date début prise en charge]]="","",IF(Rec[[#This Row],[Charge plannifiée (en jour)]]<1,WORKDAY(Rec[[#This Row],[date début prise en charge]],Rec[[#This Row],[Charge plannifiée (en jour)]],JF),WORKDAY(Rec[[#This Row],[date début prise en charge]],Rec[[#This Row],[Charge plannifiée (en jour)]]-1,JF))) -> 42593 | Y8: Collab 1 | Z8: {=IF(Rec[[#This Row],[date début prise en charge]]="","",SUMPRODUCT((couv<>0)*(capadates>=Rec[[#This Row],[date début prise en charge]])*(capadates<=Rec[[#This Row],[date fin selon charge plannifiée]])*(capacollab=Rec[[#This Row],[Concepteur]])))} -> 1
G9: 42590 | I9: 42588 | N9: =IF(Rec[[#This Row],[TTM souhaité SFR]]="","",MONTH(Rec[[#This Row],[TTM souhaité SFR]])) -> 8 | O9: =IF(Rec[[#This Row],[TTM souhaité SFR]]="","",WEEKNUM(Rec[[#This Row],[TTM souhaité SFR]])) -> 33 | S9: LSA - Test | V9: 1 | X9: =IF(Rec[[#This Row],[date début prise en charge]]="","",IF(Rec[[#This Row],[Charge plannifiée (en jour)]]<1,WORKDAY(Rec[[#This Row],[date début prise en charge]],Rec[[#This Row],[Charge plannifiée (en jour)]],JF),WORKDAY(Rec[[#This Row],[date début prise en charge]],Rec[[#This Row],[Charge plannifiée (en jour)]]-1,JF))) | Y9: Collab 1 | Z9: {=IF(Rec[[#This Row],[date début prise en charge]]="","",SUMPRODUCT((couv<>0)*(capadates>=Rec[[#This Row],[date début prise en charge]])*(capadates<=Rec[[#This Row],[date fin selon charge plannifiée]])*(capacollab=Rec[[#This Row],[Concepteur]])))}
A10: D001 | N10: =IF(Rec[[#This Row],[TTM souhaité SFR]]="","",MONTH(Rec[[#This Row],[TTM souhaité SFR]])) | O10: =IF(Rec[[#This Row],[TTM souhaité SFR]]="","",WEEKNUM(Rec[[#This Row],[TTM souhaité SFR]])) | X10: =IF(Rec[[#This Row],[date début prise en charge]]="","",IF(Rec[[#This Row],[Charge plannifiée (en jour)]]<1,WORKDAY(Rec[[#This Row],[date début prise en charge]],Rec[[#This Row],[Charge plannifiée (en jour)]],JF),WORKDAY(Rec[[#This Row],[date début prise en charge]],Rec[[#This Row],[Charge plannifiée (en jour)]]-1,JF))) | Z10: {=IF(Rec[[#This Row],[date début prise en charge]]="","",SUMPRODUCT((couv<>0)*(capadates>=Rec[[#This Row],[date début prise en charge]])*(capadates<=Rec[[#This Row],[date fin selon charge plannifiée]])*(capacollab=Rec[[#This Row],[Concepteur]])))}

Sheet Paramètres
A2: Plan de couv - codes | J2: JOURS FERIES
A3: P | B3: Présent
A4: C | B4: Congés
A5: Mal | B5: Maladie | J5: =DATE(AN,1,1) -> 42370 | K5: Nouvel An
A6: Abs | B6: Absence non planifiée | J6: =FLOOR(DATE(AN,5,DAY(MINUTE(AN/38)/2+56)),7)-34 -> 42456 | K6: Pâques
A7: R | B7: Repos journée | J7: =FLOOR(DATE(AN,5,DAY(MINUTE(AN/38)/2+56)),7)-33 -> 42457 | K7: Lundi de Pâques
A8: Ram | B8: Repos matin | J8: =DATE(AN,5,1) -> 42491 | K8: Fête du travail
A9: Rpm | B9: Repos après midi | J9: =DATE(AN,5,8) -> 42498 | K9: Victoire
J10: =FLOOR(DATE(AN,5,DAY(MINUTE(AN/38)/2+56)),7)+15 -> 42505 | K10: Pentecôte
J11: =FLOOR(DATE(AN,5,DAY(MINUTE(AN/38)/2+56)),7)+16 -> 42506 | K11: Lundi de pentecôte
J12: =DATE(AN,7,14) -> 42565 | K12: Fête nationale
J13: =DATE(AN,8,15) -> 42597 | K13: Assomption
J14: =DATE(AN,11,1) -> 42675 | K14: Toussaint
J15: =DATE(AN,11,11) -> 42685 | K15: Armistice
J16: =DATE(AN,12,25) -> 42729 | K16: Noël
J17: =IF(COUNTIF(J5:J16,FLOOR(DATE(AN,5,DAY(MINUTE(AN/38)/2+56)),7)+5),"0",FLOOR(DATE(AN,5,DAY(MINUTE(AN/38)/2+56)),7)+5) -> 42495 | K17: Ascension

Sheet Capa
R5: mois | S5: semaine | T5: date | U5: jour | V5: ='Plan de couv'!E7 -> Collab 1 | W5: ='Plan de couv'!F7 -> Collab 2 | X5: ='Plan de couv'!G7 -> Collab 3 | Y5: ='Plan de couv'!H7 -> Collab 4 | Z5: ='Plan de couv'!I7 -> Collab 5 | AA5: ='Plan de couv'!J7 -> Collab 6 | AB5: ='Plan de couv'!K7 -> Collab 7 | AC5: ='Plan de couv'!L7 -> Collab 8 | ... AP5: ='Plan de couv'!Y7 -> Collab 21
R6: =MONTH(T6) -> 1 | S6: =WEEKNUM(T6) -> 1 | T6: =DATE(AN,1,1) -> 42370 | U6: =WEEKDAY(T6) -> 6 | V6: =COUNTIFS('Plan de couv'!$C$8:$C$373,Capa!$T6,'Plan de couv'!E$8:E$373,Paramètres!$A$3)+COUNTIFS('Plan de couv'!$C$8:$C$373,Capa!$T6,'Plan de couv'!E$8:E$373,Paramètres!$A$8)/2+COUNTIFS('Plan de couv'!$C$8:$C$373,Capa!$T6,'Plan de couv'!E$8:E$373,Paramètres!$A$9)/2 -> 0 | W6: =COUNTIFS('Plan de couv'!$C$8:$C$373,Capa!$T6,'Plan de couv'!F$8:F$373,Paramètres!$A$3)+COUNTIFS('Plan de couv'!$C$8:$C$373,Capa!$T6,'Plan de couv'!F$8:F$373,Paramètres!$A$8)/2+COUNTIFS('Plan de couv'!$C$8:$C$373,Capa!$T6,'Plan de couv'!F$8:F$373,Paramètres!$A$9)/2 -> 0 | X6: =COUNTIFS('Plan de couv'!$C$8:$C$373,Capa!$T6,'Plan de couv'!G$8:G$373,Paramètres!$A$3)+COUNTIFS('Plan de couv'!$C$8:$C$373,Capa!$T6,'Plan de couv'!G$8:G$373,Paramètres!$A$8)/2+COUNTIFS('Plan de couv'!$C$8:$C$373,Capa!$T6,'Plan de couv'!G$8:G$373,Paramètres!$A$9)/2 -> 0 | Y6: =COUNTIFS('Plan de couv'!$C$8:$C$373,Capa!$T6,'Plan de couv'!H$8:H$373,Paramètres!$A$3)+COUNTIFS('Plan de couv'!$C$8:$C$373,Capa!$T6,'Plan de couv'!H$8:H$373,Paramètres!$A$8)/2+COUNTIFS('Plan de couv'!$C$8:$C$373,Capa!$T6,'Plan de couv'!H$8:H$373,Paramètres!$A$9)/2 -> 0 | Z6: =COUNTIFS('Plan de couv'!$C$8:$C$373,Capa!$T6,'Plan de couv'!I$8:I$373,Paramètres!$A$3)+COUNTIFS('Plan de couv'!$C$8:$C$373,Capa!$T6,'Plan de couv'!I$8:I$373,Paramètres!$A$8)/2+COUNTIFS('Plan de couv'!$C$8:$C$373,Capa!$T6,'Plan de couv'!I$8:I$373,Paramètres!$A$9)/2 -> 0 | AA6: =COUNTIFS('Plan de couv'!$C$8:$C$373,Capa!$T6,'Plan de couv'!J$8:J$373,Paramètres!$A$3)+COUNTIFS('Plan de couv'!$C$8:$C$373,Capa!$T6,'Plan de couv'!J$8:J$373,Paramètres!$A$8)/2+COUNTIFS('Plan de couv'!$C$8:$C$373,Capa!$T6,'Plan de couv'!J$8:J$373,Paramètres!$A$9)/2 -> 0 | AB6: =COUNTIFS('Plan de couv'!$C$8:$C$373,Capa!$T6,'Plan de couv'!K$8:K$373,Paramètres!$A$3)+COUNTIFS('Plan de couv'!$C$8:$C$373,Capa!$T6,'Plan de couv'!K$8:K$373,Paramètres!$A$8)/2+COUNTIFS('Plan de couv'!$C$8:$C$373,Capa!$T6,'Plan de couv'!K$8:K$373,Paramètres!$A$9)/2 -> 0 | AC6: =COUNTIFS('Plan de couv'!$C$8:$C$373,Capa!$T6,'Plan de couv'!L$8:L$373,Paramètres!$A$3)+COUNTIFS('Plan de couv'!$C$8:$C$373,Capa!$T6,'Plan de couv'!L$8:L$373,Paramètres!$A$8)/2+COUNTIFS('Plan de couv'!$C$8:$C$373,Capa!$T6,'Plan de couv'!L$8:L$373,Paramètres!$A$9)/2 -> 0 | ... AP6: =COUNTIFS('Plan de couv'!$C$8:$C$373,Capa!$T6,'Plan de couv'!Y$8:Y$373,Paramètres!$A$3)+COUNTIFS('Plan de couv'!$C$8:$C$373,Capa!$T6,'Plan de couv'!Y$8:Y$373,Paramètres!$A$8)/2+COUNTIFS('Plan de couv'!$C$8:$C$373,Capa!$T6,'Plan de couv'!Y$8:Y$373,Paramètres!$A$9)/2 -> 0
R7: =MONTH(T7) -> 1 | S7: =WEEKNUM(T7) -> 1 | T7: =T6+1 -> 42371 | U7: =WEEKDAY(T7) -> 7 | V7: =COUNTIFS('Plan de couv'!$C$8:$C$373,Capa!$T7,'Plan de couv'!E$8:E$373,Paramètres!$A$3)+COUNTIFS('Plan de couv'!$C$8:$C$373,Capa!$T7,'Plan de couv'!E$8:E$373,Paramètres!$A$8)/2+COUNTIFS('Plan de couv'!$C$8:$C$373,Capa!$T7,'Plan de couv'!E$8:E$373,Paramètres!$A$9)/2 -> 0 | W7: =COUNTIFS('Plan de couv'!$C$8:$C$373,Capa!$T7,'Plan de couv'!F$8:F$373,Paramètres!$A$3)+COUNTIFS('Plan de couv'!$C$8:$C$373,Capa!$T7,'Plan de couv'!F$8:F$373,Paramètres!$A$8)/2+COUNTIFS('Plan de couv'!$C$8:$C$373,Capa!$T7,'Plan de couv'!F$8:F$373,Paramètres!$A$9)/2 -> 0 | X7: =COUNTIFS('Plan de couv'!$C$8:$C$373,Capa!$T7,'Plan de couv'!G$8:G$373,Paramètres!$A$3)+COUNTIFS('Plan de couv'!$C$8:$C$373,Capa!$T7,'Plan de couv'!G$8:G$373,Paramètres!$A$8)/2+COUNTIFS('Plan de couv'!$C$8:$C$373,Capa!$T7,'Plan de couv'!G$8:G$373,Paramètres!$A$9)/2 -> 0 | Y7: =COUNTIFS('Plan de couv'!$C$8:$C$373,Capa!$T7,'Plan de couv'!H$8:H$373,Paramètres!$A$3)+COUNTIFS('Plan de couv'!$C$8:$C$373,Capa!$T7,'Plan de couv'!H$8:H$373,Paramètres!$A$8)/2+COUNTIFS('Plan de couv'!$C$8:$C$373,Capa!$T7,'Plan de couv'!H$8:H$373,Paramètres!$A$9)/2 -> 0 | Z7: =COUNTIFS('Plan de couv'!$C$8:$C$373,Capa!$T7,'Plan de couv'!I$8:I$373,Paramètres!$A$3)+COUNTIFS('Plan de couv'!$C$8:$C$373,Capa!$T7,'Plan de couv'!I$8:I$373,Paramètres!$A$8)/2+COUNTIFS('Plan de couv'!$C$8:$C$373,Capa!$T7,'Plan de couv'!I$8:I$373,Paramètres!$A$9)/2 -> 0 | AA7: =COUNTIFS('Plan de couv'!$C$8:$C$373,Capa!$T7,'Plan de couv'!J$8:J$373,Paramètres!$A$3)+COUNTIFS('Plan de couv'!$C$8:$C$373,Capa!$T7,'Plan de couv'!J$8:J$373,Paramètres!$A$8)/2+COUNTIFS('Plan de couv'!$C$8:$C$373,Capa!$T7,'Plan de couv'!J$8:J$373,Paramètres!$A$9)/2 -> 0 | AB7: =COUNTIFS('Plan de couv'!$C$8:$C$373,Capa!$T7,'Plan de couv'!K$8:K$373,Paramètres!$A$3)+COUNTIFS('Plan de couv'!$C$8:$C$373,Capa!$T7,'Plan de couv'!K$8:K$373,Paramètres!$A$8)/2+COUNTIFS('Plan de couv'!$C$8:$C$373,Capa!$T7,'Plan de couv'!K$8:K$373,Paramètres!$A$9)/2 -> 0 | AC7: =COUNTIFS('Plan de couv'!$C$8:$C$373,Capa!$T7,'Plan de couv'!L$8:L$373,Paramètres!$A$3)+COUNTIFS('Plan de couv'!$C$8:$C$373,Capa!$T7,'Plan de couv'!L$8:L$373,Paramètres!$A$8)/2+COUNTIFS('Plan de couv'!$C$8:$C$373,Capa!$T7,'Plan de couv'!L$8:L$373,Paramètres!$A$9)/2 -> 0 | ... AP7: =COUNTIFS('Plan de couv'!$C$8:$C$373,Capa!$T7,'Plan de couv'!Y$8:Y$373,Paramètres!$A$3)+COUNTIFS('Plan de couv'!$C$8:$C$373,Capa!$T7,'Plan de couv'!Y$8:Y$373,Paramètres!$A$8)/2+COUNTIFS('Plan de couv'!$C$8:$C$373,Capa!$T7,'Plan de couv'!Y$8:Y$373,Paramètres!$A$9)/2 -> 0
R8: =MONTH(T8) -> 1 | S8: =WEEKNUM(T8) -> 2 | T8: =T7+1 -> 42372 | U8: =WEEKDAY(T8) -> 1 | V8: =COUNTIFS('Plan de couv'!$C$8:$C$373,Capa!$T8,'Plan de couv'!E$8:E$373,Paramètres!$A$3)+COUNTIFS('Plan de couv'!$C$8:$C$373,Capa!$T8,'Plan de couv'!E$8:E$373,Paramètres!$A$8)/2+COUNTIFS('Plan de couv'!$C$8:$C$373,Capa!$T8,'Plan de couv'!E$8:E$373,Paramètres!$A$9)/2 -> 0 | W8: =COUNTIFS('Plan de couv'!$C$8:$C$373,Capa!$T8,'Plan de couv'!F$8:F$373,Paramètres!$A$3)+COUNTIFS('Plan de couv'!$C$8:$C$373,Capa!$T8,'Plan de couv'!F$8:F$373,Paramètres!$A$8)/2+COUNTIFS('Plan de couv'!$C$8:$C$373,Capa!$T8,'Plan de couv'!F$8:F$373,Paramètres!$A$9)/2 -> 0 | X8: =COUNTIFS('Plan de couv'!$C$8:$C$373,Capa!$T8,'Plan de couv'!G$8:G$373,Paramètres!$A$3)+COUNTIFS('Plan de couv'!$C$8:$C$373,Capa!$T8,'Plan de couv'!G$8:G$373,Paramètres!$A$8)/2+COUNTIFS('Plan de couv'!$C$8:$C$373,Capa!$T8,'Plan de couv'!G$8:G$373,Paramètres!$A$9)/2 -> 0 | Y8: =COUNTIFS('Plan de couv'!$C$8:$C$373,Capa!$T8,'Plan de couv'!H$8:H$373,Paramètres!$A$3)+COUNTIFS('Plan de couv'!$C$8:$C$373,Capa!$T8,'Plan de couv'!H$8:H$373,Paramètres!$A$8)/2+COUNTIFS('Plan de couv'!$C$8:$C$373,Capa!$T8,'Plan de couv'!H$8:H$373,Paramètres!$A$9)/2 -> 0 | Z8: =COUNTIFS('Plan de couv'!$C$8:$C$373,Capa!$T8,'Plan de couv'!I$8:I$373,Paramètres!$A$3)+COUNTIFS('Plan de couv'!$C$8:$C$373,Capa!$T8,'Plan de couv'!I$8:I$373,Paramètres!$A$8)/2+COUNTIFS('Plan de couv'!$C$8:$C$373,Capa!$T8,'Plan de couv'!I$8:I$373,Paramètres!$A$9)/2 -> 0 | AA8: =COUNTIFS('Plan de couv'!$C$8:$C$373,Capa!$T8,'Plan de couv'!J$8:J$373,Paramètres!$A$3)+COUNTIFS('Plan de couv'!$C$8:$C$373,Capa!$T8,'Plan de couv'!J$8:J$373,Paramètres!$A$8)/2+COUNTIFS('Plan de couv'!$C$8:$C$373,Capa!$T8,'Plan de couv'!J$8:J$373,Paramètres!$A$9)/2 -> 0 | AB8: =COUNTIFS('Plan de couv'!$C$8:$C$373,Capa!$T8,'Plan de couv'!K$8:K$373,Paramètres!$A$3)+COUNTIFS('Plan de couv'!$C$8:$C$373,Capa!$T8,'Plan de couv'!K$8:K$373,Paramètres!$A$8)/2+COUNTIFS('Plan de couv'!$C$8:$C$373,Capa!$T8,'Plan de couv'!K$8:K$373,Paramètres!$A$9)/2 -> 0 | AC8: =COUNTIFS('Plan de couv'!$C$8:$C$373,Capa!$T8,'Plan de couv'!L$8:L$373,Paramètres!$A$3)+COUNTIFS('Plan de couv'!$C$8:$C$373,Capa!$T8,'Plan de couv'!L$8:L$373,Paramètres!$A$8)/2+COUNTIFS('Plan de couv'!$C$8:$C$373,Capa!$T8,'Plan de couv'!L$8:L$373,Paramètres!$A$9)/2 -> 0 | ... AP8: =COUNTIFS('Plan de couv'!$C$8:$C$373,Capa!$T8,'Plan de couv'!Y$8:Y$373,Paramètres!$A$3)+COUNTIFS('Plan de couv'!$C$8:$C$373,Capa!$T8,'Plan de couv'!Y$8:Y$373,Paramètres!$A$8)/2+COUNTIFS('Plan de couv'!$C$8:$C$373,Capa!$T8,'Plan de couv'!Y$8:Y$373,Paramètres!$A$9)/2 -> 0
R9: =MONTH(T9) -> 1 | S9: =WEEKNUM(T9) -> 2 | T9: =T8+1 -> 42373 | U9: =WEEKDAY(T9) -> 2 | V9: =COUNTIFS('Plan de couv'!$C$8:$C$373,Capa!$T9,'Plan de couv'!E$8:E$373,Paramètres!$A$3)+COUNTIFS('Plan de couv'!$C$8:$C$373,Capa!$T9,'Plan de couv'!E$8:E$373,Paramètres!$A$8)/2+COUNTIFS('Plan de couv'!$C$8:$C$373,Capa!$T9,'Plan de couv'!E$8:E$373,Paramètres!$A$9)/2 -> 0 | W9: =COUNTIFS('Plan de couv'!$C$8:$C$373,Capa!$T9,'Plan de couv'!F$8:F$373,Paramètres!$A$3)+COUNTIFS('Plan de couv'!$C$8:$C$373,Capa!$T9,'Plan de couv'!F$8:F$373,Paramètres!$A$8)/2+COUNTIFS('Plan de couv'!$C$8:$C$373,Capa!$T9,'Plan de couv'!F$8:F$373,Paramètres!$A$9)/2 -> 0 | X9: =COUNTIFS('Plan de couv'!$C$8:$C$373,Capa!$T9,'Plan de couv'!G$8:G$373,Paramètres!$A$3)+COUNTIFS('Plan de couv'!$C$8:$C$373,Capa!$T9,'Plan de couv'!G$8:G$373,Paramètres!$A$8)/2+COUNTIFS('Plan de couv'!$C$8:$C$373,Capa!$T9,'Plan de couv'!G$8:G$373,Paramètres!$A$9)/2 -> 0 | Y9: =COUNTIFS('Plan de couv'!$C$8:$C$373,Capa!$T9,'Plan de couv'!H$8:H$373,Paramètres!$A$3)+COUNTIFS('Plan de couv'!$C$8:$C$373,Capa!$T9,'Plan de couv'!H$8:H$373,Paramètres!$A$8)/2+COUNTIFS('Plan de couv'!$C$8:$C$373,Capa!$T9,'Plan de couv'!H$8:H$373,Paramètres!$A$9)/2 -> 0 | Z9: =COUNTIFS('Plan de couv'!$C$8:$C$373,Capa!$T9,'Plan de couv'!I$8:I$373,Paramètres!$A$3)+COUNTIFS('Plan de couv'!$C$8:$C$373,Capa!$T9,'Plan de couv'!I$8:I$373,Paramètres!$A$8)/2+COUNTIFS('Plan de couv'!$C$8:$C$373,Capa!$T9,'Plan de couv'!I$8:I$373,Paramètres!$A$9)/2 -> 0 | AA9: =COUNTIFS('Plan de couv'!$C$8:$C$373,Capa!$T9,'Plan de couv'!J$8:J$373,Paramètres!$A$3)+COUNTIFS('Plan de couv'!$C$8:$C$373,Capa!$T9,'Plan de couv'!J$8:J$373,Paramètres!$A$8)/2+COUNTIFS('Plan de couv'!$C$8:$C$373,Capa!$T9,'Plan de couv'!J$8:J$373,Paramètres!$A$9)/2 -> 0 | AB9: =COUNTIFS('Plan de couv'!$C$8:$C$373,Capa!$T9,'Plan de couv'!K$8:K$373,Paramètres!$A$3)+COUNTIFS('Plan de couv'!$C$8:$C$373,Capa!$T9,'Plan de couv'!K$8:K$373,Paramètres!$A$8)/2+COUNTIFS('Plan de couv'!$C$8:$C$373,Capa!$T9,'Plan de couv'!K$8:K$373,Paramètres!$A$9)/2 -> 0 | AC9: =COUNTIFS('Plan de couv'!$C$8:$C$373,Capa!$T9,'Plan de couv'!L$8:L$373,Paramètres!$A$3)+COUNTIFS('Plan de couv'!$C$8:$C$373,Capa!$T9,'Plan de couv'!L$8:L$373,Paramètres!$A$8)/2+COUNTIFS('Plan de couv'!$C$8:$C$373,Capa!$T9,'Plan de couv'!L$8:L$373,Paramètres!$A$9)/2 -> 0 | ... AP9: =COUNTIFS('Plan de couv'!$C$8:$C$373,Capa!$T9,'Plan de couv'!Y$8:Y$373,Paramètres!$A$3)+COUNTIFS('Plan de couv'!$C$8:$C$373,Capa!$T9,'Plan de couv'!Y$8:Y$373,Paramètres!$A$8)/2+COUNTIFS('Plan de couv'!$C$8:$C$373,Capa!$T9,'Plan de couv'!Y$8:Y$373,Paramètres!$A$9)/2 -> 0
R10: =MONTH(T10) -> 1 | S10: =WEEKNUM(T10) -> 2 | T10: =T9+1 -> 42374 | U10: =WEEKDAY(T10) -> 3 | V10: =COUNTIFS('Plan de couv'!$C$8:$C$373,Capa!$T10,'Plan de couv'!E$8:E$373,Paramètres!$A$3)+COUNTIFS('Plan de couv'!$C$8:$C$373,Capa!$T10,'Plan de couv'!E$8:E$373,Paramètres!$A$8)/2+COUNTIFS('Plan de couv'!$C$8:$C$373,Capa!$T10,'Plan de couv'!E$8:E$373,Paramètres!$A$9)/2 -> 0 | W10: =COUNTIFS('Plan de couv'!$C$8:$C$373,Capa!$T10,'Plan de couv'!F$8:F$373,Paramètres!$A$3)+COUNTIFS('Plan de couv'!$C$8:$C$373,Capa!$T10,'Plan de couv'!F$8:F$373,Paramètres!$A$8)/2+COUNTIFS('Plan de couv'!$C$8:$C$373,Capa!$T10,'Plan de couv'!F$8:F$373,Paramètres!$A$9)/2 -> 0 | X10: =COUNTIFS('Plan de couv'!$C$8:$C$373,Capa!$T10,'Plan de couv'!G$8:G$373,Paramètres!$A$3)+COUNTIFS('Plan de couv'!$C$8:$C$373,Capa!$T10,'Plan de couv'!G$8:G$373,Paramètres!$A$8)/2+COUNTIFS('Plan de couv'!$C$8:$C$373,Capa!$T10,'Plan de couv'!G$8:G$373,Paramètres!$A$9)/2 -> 0 | Y10: =COUNTIFS('Plan de couv'!$C$8:$C$373,Capa!$T10,'Plan de couv'!H$8:H$373,Paramètres!$A$3)+COUNTIFS('Plan de couv'!$C$8:$C$373,Capa!$T10,'Plan de couv'!H$8:H$373,Paramètres!$A$8)/2+COUNTIFS('Plan de couv'!$C$8:$C$373,Capa!$T10,'Plan de couv'!H$8:H$373,Paramètres!$A$9)/2 -> 0 | Z10: =COUNTIFS('Plan de couv'!$C$8:$C$373,Capa!$T10,'Plan de couv'!I$8:I$373,Paramètres!$A$3)+COUNTIFS('Plan de couv'!$C$8:$C$373,Capa!$T10,'Plan de couv'!I$8:I$373,Paramètres!$A$8)/2+COUNTIFS('Plan de couv'!$C$8:$C$373,Capa!$T10,'Plan de couv'!I$8:I$373,Paramètres!$A$9)/2 -> 0 | AA10: =COUNTIFS('Plan de couv'!$C$8:$C$373,Capa!$T10,'Plan de couv'!J$8:J$373,Paramètres!$A$3)+COUNTIFS('Plan de couv'!$C$8:$C$373,Capa!$T10,'Plan de couv'!J$8:J$373,Paramètres!$A$8)/2+COUNTIFS('Plan de couv'!$C$8:$C$373,Capa!$T10,'Plan de couv'!J$8:J$373,Paramètres!$A$9)/2 -> 0 | AB10: =COUNTIFS('Plan de couv'!$C$8:$C$373,Capa!$T10,'Plan de couv'!K$8:K$373,Paramètres!$A$3)+COUNTIFS('Plan de couv'!$C$8:$C$373,Capa!$T10,'Plan de couv'!K$8:K$373,Paramètres!$A$8)/2+COUNTIFS('Plan de couv'!$C$8:$C$373,Capa!$T10,'Plan de couv'!K$8:K$373,Paramètres!$A$9)/2 -> 0 | AC10: =COUNTIFS('Plan de couv'!$C$8:$C$373,Capa!$T10,'Plan de couv'!L$8:L$373,Paramètres!$A$3)+COUNTIFS('Plan de couv'!$C$8:$C$373,Capa!$T10,'Plan de couv'!L$8:L$373,Paramètres!$A$8)/2+COUNTIFS('Plan de couv'!$C$8:$C$373,Capa!$T10,'Plan de couv'!L$8:L$373,Paramètres!$A$9)/2 -> 0 | ... AP10: =COUNTIFS('Plan de couv'!$C$8:$C$373,Capa!$T10,'Plan de couv'!Y$8:Y$373,Paramètres!$A$3)+COUNTIFS('Plan de couv'!$C$8:$C$373,Capa!$T10,'Plan de couv'!Y$8:Y$373,Paramètres!$A$8)/2+COUNTIFS('Plan de couv'!$C$8:$C$373,Capa!$T10,'Plan de couv'!Y$8:Y$373,Paramètres!$A$9)/2 -> 0
R11: =MONTH(T11) -> 1 | S11: =WEEKNUM(T11) -> 2 | T11: =T10+1 -> 42375 | U11: =WEEKDAY(T11) -> 4 | V11: =COUNTIFS('Plan de couv'!$C$8:$C$373,Capa!$T11,'Plan de couv'!E$8:E$373,Paramètres!$A$3)+COUNTIFS('Plan de couv'!$C$8:$C$373,Capa!$T11,'Plan de couv'!E$8:E$373,Paramètres!$A$8)/2+COUNTIFS('Plan de couv'!$C$8:$C$373,Capa!$T11,'Plan de couv'!E$8:E$373,Paramètres!$A$9)/2 -> 0 | W11: =COUNTIFS('Plan de couv'!$C$8:$C$373,Capa!$T11,'Plan de couv'!F$8:F$373,Paramètres!$A$3)+COUNTIFS('Plan de couv'!$C$8:$C$373,Capa!$T11,'Plan de couv'!F$8:F$373,Paramètres!$A$8)/2+COUNTIFS('Plan de couv'!$C$8:$C$373,Capa!$T11,'Plan de couv'!F$8:F$373,Paramètres!$A$9)/2 -> 0 | X11: =COUNTIFS('Plan de couv'!$C$8:$C$373,Capa!$T11,'Plan de couv'!G$8:G$373,Paramètres!$A$3)+COUNTIFS('Plan de couv'!$C$8:$C$373,Capa!$T11,'Plan de couv'!G$8:G$373,Paramètres!$A$8)/2+COUNTIFS('Plan de couv'!$C$8:$C$373,Capa!$T11,'Plan de couv'!G$8:G$373,Paramètres!$A$9)/2 -> 0 | Y11: =COUNTIFS('Plan de couv'!$C$8:$C$373,Capa!$T11,'Plan de couv'!H$8:H$373,Paramètres!$A$3)+COUNTIFS('Plan de couv'!$C$8:$C$373,Capa!$T11,'Plan de couv'!H$8:H$373,Paramètres!$A$8)/2+COUNTIFS('Plan de couv'!$C$8:$C$373,Capa!$T11,'Plan de couv'!H$8:H$373,Paramètres!$A$9)/2 -> 0 | Z11: =COUNTIFS('Plan de couv'!$C$8:$C$373,Capa!$T11,'Plan de couv'!I$8:I$373,Paramètres!$A$3)+COUNTIFS('Plan de couv'!$C$8:$C$373,Capa!$T11,'Plan de couv'!I$8:I$373,Paramètres!$A$8)/2+COUNTIFS('Plan de couv'!$C$8:$C$373,Capa!$T11,'Plan de couv'!I$8:I$373,Paramètres!$A$9)/2 -> 0 | AA11: =COUNTIFS('Plan de couv'!$C$8:$C$373,Capa!$T11,'Plan de couv'!J$8:J$373,Paramètres!$A$3)+COUNTIFS('Plan de couv'!$C$8:$C$373,Capa!$T11,'Plan de couv'!J$8:J$373,Paramètres!$A$8)/2+COUNTIFS('Plan de couv'!$C$8:$C$373,Capa!$T11,'Plan de couv'!J$8:J$373,Paramètres!$A$9)/2 -> 0 | AB11: =COUNTIFS('Plan de couv'!$C$8:$C$373,Capa!$T11,'Plan de couv'!K$8:K$373,Paramètres!$A$3)+COUNTIFS('Plan de couv'!$C$8:$C$373,Capa!$T11,'Plan de couv'!K$8:K$373,Paramètres!$A$8)/2+COUNTIFS('Plan de couv'!$C$8:$C$373,Capa!$T11,'Plan de couv'!K$8:K$373,Paramètres!$A$9)/2 -> 0 | AC11: =COUNTIFS('Plan de couv'!$C$8:$C$373,Capa!$T11,'Plan de couv'!L$8:L$373,Paramètres!$A$3)+COUNTIFS('Plan de couv'!$C$8:$C$373,Capa!$T11,'Plan de couv'!L$8:L$373,Paramètres!$A$8)/2+COUNTIFS('Plan de couv'!$C$8:$C$373,Capa!$T11,'Plan de couv'!L$8:L$373,Paramètres!$A$9)/2 -> 0 | ... AP11: =COUNTIFS('Plan de couv'!$C$8:$C$373,Capa!$T11,'Plan de couv'!Y$8:Y$373,Paramètres!$A$3)+COUNTIFS('Plan de couv'!$C$8:$C$373,Capa!$T11,'Plan de couv'!Y$8:Y$373,Paramètres!$A$8)/2+COUNTIFS('Plan de couv'!$C$8:$C$373,Capa!$T11,'Plan de couv'!Y$8:Y$373,Paramètres!$A$9)/2 -> 0
R12: =MONTH(T12) -> 1 | S12: =WEEKNUM(T12) -> 2 | T12: =T11+1 -> 42376 | U12: =WEEKDAY(T12) -> 5 | V12: =COUNTIFS('Plan de couv'!$C$8:$C$373,Capa!$T12,'Plan de couv'!E$8:E$373,Paramètres!$A$3)+COUNTIFS('Plan de couv'!$C$8:$C$373,Capa!$T12,'Plan de couv'!E$8:E$373,Paramètres!$A$8)/2+COUNTIFS('Plan de couv'!$C$8:$C$373,Capa!$T12,'Plan de couv'!E$8:E$373,Paramètres!$A$9)/2 -> 0 | W12: =COUNTIFS('Plan de couv'!$C$8:$C$373,Capa!$T12,'Plan de couv'!F$8:F$373,Paramètres!$A$3)+COUNTIFS('Plan de couv'!$C$8:$C$373,Capa!$T12,'Plan de couv'!F$8:F$373,Paramètres!$A$8)/2+COUNTIFS('Plan de couv'!$C$8:$C$373,Capa!$T12,'Plan de couv'!F$8:F$373,Paramètres!$A$9)/2 -> 0 | X12: =COUNTIFS('Plan de couv'!$C$8:$C$373,Capa!$T12,'Plan de couv'!G$8:G$373,Paramètres!$A$3)+COUNTIFS('Plan de couv'!$C$8:$C$373,Capa!$T12,'Plan de couv'!G$8:G$373,Paramètres!$A$8)/2+COUNTIFS('Plan de couv'!$C$8:$C$373,Capa!$T12,'Plan de couv'!G$8:G$373,Paramètres!$A$9)/2 -> 0 | Y12: =COUNTIFS('Plan de couv'!$C$8:$C$373,Capa!$T12,'Plan de couv'!H$8:H$373,Paramètres!$A$3)+COUNTIFS('Plan de couv'!$C$8:$C$373,Capa!$T12,'Plan de couv'!H$8:H$373,Paramètres!$A$8)/2+COUNTIFS('Plan de couv'!$C$8:$C$373,Capa!$T12,'Plan de couv'!H$8:H$373,Paramètres!$A$9)/2 -> 0 | Z12: =COUNTIFS('Plan de couv'!$C$8:$C$373,Capa!$T12,'Plan de couv'!I$8:I$373,Paramètres!$A$3)+COUNTIFS('Plan de couv'!$C$8:$C$373,Capa!$T12,'Plan de couv'!I$8:I$373,Paramètres!$A$8)/2+COUNTIFS('Plan de couv'!$C$8:$C$373,Capa!$T12,'Plan de couv'!I$8:I$373,Paramètres!$A$9)/2 -> 0 | AA12: =COUNTIFS('Plan de couv'!$C$8:$C$373,Capa!$T12,'Plan de couv'!J$8:J$373,Paramètres!$A$3)+COUNTIFS('Plan de couv'!$C$8:$C$373,Capa!$T12,'Plan de couv'!J$8:J$373,Paramètres!$A$8)/2+COUNTIFS('Plan de couv'!$C$8:$C$373,Capa!$T12,'Plan de couv'!J$8:J$373,Paramètres!$A$9)/2 -> 0 | AB12: =COUNTIFS('Plan de couv'!$C$8:$C$373,Capa!$T12,'Plan de couv'!K$8:K$373,Paramètres!$A$3)+COUNTIFS('Plan de couv'!$C$8:$C$373,Capa!$T12,'Plan de couv'!K$8:K$373,Paramètres!$A$8)/2+COUNTIFS('Plan de couv'!$C$8:$C$373,Capa!$T12,'Plan de couv'!K$8:K$373,Paramètres!$A$9)/2 -> 0 | AC12: =COUNTIFS('Plan de couv'!$C$8:$C$373,Capa!$T12,'Plan de couv'!L$8:L$373,Paramètres!$A$3)+COUNTIFS('Plan de couv'!$C$8:$C$373,Capa!$T12,'Plan de couv'!L$8:L$373,Paramètres!$A$8)/2+COUNTIFS('Plan de couv'!$C$8:$C$373,Capa!$T12,'Plan de couv'!L$8:L$373,Paramètres!$A$9)/2 -> 0 | ... AP12: =COUNTIFS('Plan de couv'!$C$8:$C$373,Capa!$T12,'Plan de couv'!Y$8:Y$373,Paramètres!$A$3)+COUNTIFS('Plan de couv'!$C$8:$C$373,Capa!$T12,'Plan de couv'!Y$8:Y$373,Paramètres!$A$8)/2+COUNTIFS('Plan de couv'!$C$8:$C$373,Capa!$T12,'Plan de couv'!Y$8:Y$373,Paramètres!$A$9)/2 -> 0
R13: =MONTH(T13) -> 1 | S13: =WEEKNUM(T13) -> 2 | T13: =T12+1 -> 42377 | U13: =WEEKDAY(T13) -> 6 | V13: =COUNTIFS('Plan de couv'!$C$8:$C$373,Capa!$T13,'Plan de couv'!E$8:E$373,Paramètres!$A$3)+COUNTIFS('Plan de couv'!$C$8:$C$373,Capa!$T13,'Plan de couv'!E$8:E$373,Paramètres!$A$8)/2+COUNTIFS('Plan de couv'!$C$8:$C$373,Capa!$T13,'Plan de couv'!E$8:E$373,Paramètres!$A$9)/2 -> 0 | W13: =COUNTIFS('Plan de couv'!$C$8:$C$373,Capa!$T13,'Plan de couv'!F$8:F$373,Paramètres!$A$3)+COUNTIFS('Plan de couv'!$C$8:$C$373,Capa!$T13,'Plan de couv'!F$8:F$373,Paramètres!$A$8)/2+COUNTIFS('Plan de couv'!$C$8:$C$373,Capa!$T13,'Plan de couv'!F$8:F$373,Paramètres!$A$9)/2 -> 0 | X13: =COUNTIFS('Plan de couv'!$C$8:$C$373,Capa!$T13,'Plan de couv'!G$8:G$373,Paramètres!$A$3)+COUNTIFS('Plan de couv'!$C$8:$C$373,Capa!$T13,'Plan de couv'!G$8:G$373,Paramètres!$A$8)/2+COUNTIFS('Plan de couv'!$C$8:$C$373,Capa!$T13,'Plan de couv'!G$8:G$373,Paramètres!$A$9)/2 -> 0 | Y13: =COUNTIFS('Plan de couv'!$C$8:$C$373,Capa!$T13,'Plan de couv'!H$8:H$373,Paramètres!$A$3)+COUNTIFS('Plan de couv'!$C$8:$C$373,Capa!$T13,'Plan de couv'!H$8:H$373,Paramètres!$A$8)/2+COUNTIFS('Plan de couv'!$C$8:$C$373,Capa!$T13,'Plan de couv'!H$8:H$373,Paramètres!$A$9)/2 -> 0 | Z13: =COUNTIFS('Plan de couv'!$C$8:$C$373,Capa!$T13,'Plan de couv'!I$8:I$373,Paramètres!$A$3)+COUNTIFS('Plan de couv'!$C$8:$C$373,Capa!$T13,'Plan de couv'!I$8:I$373,Paramètres!$A$8)/2+COUNTIFS('Plan de couv'!$C$8:$C$373,Capa!$T13,'Plan de couv'!I$8:I$373,Paramètres!$A$9)/2 -> 0 | AA13: =COUNTIFS('Plan de couv'!$C$8:$C$373,Capa!$T13,'Plan de couv'!J$8:J$373,Paramètres!$A$3)+COUNTIFS('Plan de couv'!$C$8:$C$373,Capa!$T13,'Plan de couv'!J$8:J$373,Paramètres!$A$8)/2+COUNTIFS('Plan de couv'!$C$8:$C$373,Capa!$T13,'Plan de couv'!J$8:J$373,Paramètres!$A$9)/2 -> 0 | AB13: =COUNTIFS('Plan de couv'!$C$8:$C$373,Capa!$T13,'Plan de couv'!K$8:K$373,Paramètres!$A$3)+COUNTIFS('Plan de couv'!$C$8:$C$373,Capa!$T13,'Plan de couv'!K$8:K$373,Paramètres!$A$8)/2+COUNTIFS('Plan de couv'!$C$8:$C$373,Capa!$T13,'Plan de couv'!K$8:K$373,Paramètres!$A$9)/2 -> 0 | AC13: =COUNTIFS('Plan de couv'!$C$8:$C$373,Capa!$T13,'Plan de couv'!L$8:L$373,Paramètres!$A$3)+COUNTIFS('Plan de couv'!$C$8:$C$373,Capa!$T13,'Plan de couv'!L$8:L$373,Paramètres!$A$8)/2+COUNTIFS('Plan de couv'!$C$8:$C$373,Capa!$T13,'Plan de couv'!L$8:L$373,Paramètres!$A$9)/2 -> 0 | ... AP13: =COUNTIFS('Plan de couv'!$C$8:$C$373,Capa!$T13,'Plan de couv'!Y$8:Y$373,Paramètres!$A$3)+COUNTIFS('Plan de couv'!$C$8:$C$373,Capa!$T13,'Plan de couv'!Y$8:Y$373,Paramètres!$A$8)/2+COUNTIFS('Plan de couv'!$C$8:$C$373,Capa!$T13,'Plan de couv'!Y$8:Y$373,Paramètres!$A$9)/2 -> 0
R14: =MONTH(T14) -> 1 | S14: =WEEKNUM(T14) -> 2 | T14: =T13+1 -> 42378 | U14: =WEEKDAY(T14) -> 7 | V14: =COUNTIFS('Plan de couv'!$C$8:$C$373,Capa!$T14,'Plan de couv'!E$8:E$373,Paramètres!$A$3)+COUNTIFS('Plan de couv'!$C$8:$C$373,Capa!$T14,'Plan de couv'!E$8:E$373,Paramètres!$A$8)/2+COUNTIFS('Plan de couv'!$C$8:$C$373,Capa!$T14,'Plan de couv'!E$8:E$373,Paramètres!$A$9)/2 -> 0 | W14: =COUNTIFS('Plan de couv'!$C$8:$C$373,Capa!$T14,'Plan de couv'!F$8:F$373,Paramètres!$A$3)+COUNTIFS('Plan de couv'!$C$8:$C$373,Capa!$T14,'Plan de couv'!F$8:F$373,Paramètres!$A$8)/2+COUNTIFS('Plan de couv'!$C$8:$C$373,Capa!$T14,'Plan de couv'!F$8:F$373,Paramètres!$A$9)/2 -> 0 | X14: =COUNTIFS('Plan de couv'!$C$8:$C$373,Capa!$T14,'Plan de couv'!G$8:G$373,Paramètres!$A$3)+COUNTIFS('Plan de couv'!$C$8:$C$373,Capa!$T14,'Plan de couv'!G$8:G$373,Paramètres!$A$8)/2+COUNTIFS('Plan de couv'!$C$8:$C$373,Capa!$T14,'Plan de couv'!G$8:G$373,Paramètres!$A$9)/2 -> 0 | Y14: =COUNTIFS('Plan de couv'!$C$8:$C$373,Capa!$T14,'Plan de couv'!H$8:H$373,Paramètres!$A$3)+COUNTIFS('Plan de couv'!$C$8:$C$373,Capa!$T14,'Plan de couv'!H$8:H$373,Paramètres!$A$8)/2+COUNTIFS('Plan de couv'!$C$8:$C$373,Capa!$T14,'Plan de couv'!H$8:H$373,Paramètres!$A$9)/2 -> 0 | Z14: =COUNTIFS('Plan de couv'!$C$8:$C$373,Capa!$T14,'Plan de couv'!I$8:I$373,Paramètres!$A$3)+COUNTIFS('Plan de couv'!$C$8:$C$373,Capa!$T14,'Plan de couv'!I$8:I$373,Paramètres!$A$8)/2+COUNTIFS('Plan de couv'!$C$8:$C$373,Capa!$T14,'Plan de couv'!I$8:I$373,Paramètres!$A$9)/2 -> 0 | AA14: =COUNTIFS('Plan de couv'!$C$8:$C$373,Capa!$T14,'Plan de couv'!J$8:J$373,Paramètres!$A$3)+COUNTIFS('Plan de couv'!$C$8:$C$373,Capa!$T14,'Plan de couv'!J$8:J$373,Paramètres!$A$8)/2+COUNTIFS('Plan de couv'!$C$8:$C$373,Capa!$T14,'Plan de couv'!J$8:J$373,Paramètres!$A$9)/2 -> 0 | AB14: =COUNTIFS('Plan de couv'!$C$8:$C$373,Capa!$T14,'Plan de couv'!K$8:K$373,Paramètres!$A$3)+COUNTIFS('Plan de couv'!$C$8:$C$373,Capa!$T14,'Plan de couv'!K$8:K$373,Paramètres!$A$8)/2+COUNTIFS('Plan de couv'!$C$8:$C$373,Capa!$T14,'Plan de couv'!K$8:K$373,Paramètres!$A$9)/2 -> 0 | AC14: =COUNTIFS('Plan de couv'!$C$8:$C$373,Capa!$T14,'Plan de couv'!L$8:L$373,Paramètres!$A$3)+COUNTIFS('Plan de couv'!$C$8:$C$373,Capa!$T14,'Plan de couv'!L$8:L$373,Paramètres!$A$8)/2+COUNTIFS('Plan de couv'!$C$8:$C$373,Capa!$T14,'Plan de couv'!L$8:L$373,Paramètres!$A$9)/2 -> 0 | ... AP14: =COUNTIFS('Plan de couv'!$C$8:$C$373,Capa!$T14,'Plan de couv'!Y$8:Y$373,Paramètres!$A$3)+COUNTIFS('Plan de couv'!$C$8:$C$373,Capa!$T14,'Plan de couv'!Y$8:Y$373,Paramètres!$A$8)/2+COUNTIFS('Plan de couv'!$C$8:$C$373,Capa!$T14,'Plan de couv'!Y$8:Y$373,Paramètres!$A$9)/2 -> 0
R15: =MONTH(T15) -> 1 | S15: =WEEKNUM(T15) -> 3 | T15: =T14+1 -> 42379 | U15: =WEEKDAY(T15) -> 1 | V15: =COUNTIFS('Plan de couv'!$C$8:$C$373,Capa!$T15,'Plan de couv'!E$8:E$373,Paramètres!$A$3)+COUNTIFS('Plan de couv'!$C$8:$C$373,Capa!$T15,'Plan de couv'!E$8:E$373,Paramètres!$A$8)/2+COUNTIFS('Plan de couv'!$C$8:$C$373,Capa!$T15,'Plan de couv'!E$8:E$373,Paramètres!$A$9)/2 -> 0 | W15: =COUNTIFS('Plan de couv'!$C$8:$C$373,Capa!$T15,'Plan de couv'!F$8:F$373,Paramètres!$A$3)+COUNTIFS('Plan de couv'!$C$8:$C$373,Capa!$T15,'Plan de couv'!F$8:F$373,Paramètres!$A$8)/2+COUNTIFS('Plan de couv'!$C$8:$C$373,Capa!$T15,'Plan de couv'!F$8:F$373,Paramètres!$A$9)/2 -> 0 | X15: =COUNTIFS('Plan de couv'!$C$8:$C$373,Capa!$T15,'Plan de couv'!G$8:G$373,Paramètres!$A$3)+COUNTIFS('Plan de couv'!$C$8:$C$373,Capa!$T15,'Plan de couv'!G$8:G$373,Paramètres!$A$8)/2+COUNTIFS('Plan de couv'!$C$8:$C$373,Capa!$T15,'Plan de couv'!G$8:G$373,Paramètres!$A$9)/2 -> 0 | Y15: =COUNTIFS('Plan de couv'!$C$8:$C$373,Capa!$T15,'Plan de couv'!H$8:H$373,Paramètres!$A$3)+COUNTIFS('Plan de couv'!$C$8:$C$373,Capa!$T15,'Plan de couv'!H$8:H$373,Paramètres!$A$8)/2+COUNTIFS('Plan de couv'!$C$8:$C$373,Capa!$T15,'Plan de couv'!H$8:H$373,Paramètres!$A$9)/2 -> 0 | Z15: =COUNTIFS('Plan de couv'!$C$8:$C$373,Capa!$T15,'Plan de couv'!I$8:I$373,Paramètres!$A$3)+COUNTIFS('Plan de couv'!$C$8:$C$373,Capa!$T15,'Plan de couv'!I$8:I$373,Paramètres!$A$8)/2+COUNTIFS('Plan de couv'!$C$8:$C$373,Capa!$T15,'Plan de couv'!I$8:I$373,Paramètres!$A$9)/2 -> 0 | AA15: =COUNTIFS('Plan de couv'!$C$8:$C$373,Capa!$T15,'Plan de couv'!J$8:J$373,Paramètres!$A$3)+COUNTIFS('Plan de couv'!$C$8:$C$373,Capa!$T15,'Plan de couv'!J$8:J$373,Paramètres!$A$8)/2+COUNTIFS('Plan de couv'!$C$8:$C$373,Capa!$T15,'Plan de couv'!J$8:J$373,Paramètres!$A$9)/2 -> 0 | AB15: =COUNTIFS('Plan de couv'!$C$8:$C$373,Capa!$T15,'Plan de couv'!K$8:K$373,Paramètres!$A$3)+COUNTIFS('Plan de couv'!$C$8:$C$373,Capa!$T15,'Plan de couv'!K$8:K$373,Paramètres!$A$8)/2+COUNTIFS('Plan de couv'!$C$8:$C$373,Capa!$T15,'Plan de couv'!K$8:K$373,Paramètres!$A$9)/2 -> 0 | AC15: =COUNTIFS('Plan de couv'!$C$8:$C$373,Capa!$T15,'Plan de couv'!L$8:L$373,Paramètres!$A$3)+COUNTIFS('Plan de couv'!$C$8:$C$373,Capa!$T15,'Plan de couv'!L$8:L$373,Paramètres!$A$8)/2+COUNTIFS('Plan de couv'!$C$8:$C$373,Capa!$T15,'Plan de couv'!L$8:L$373,Paramètres!$A$9)/2 -> 0 | ... AP15: =COUNTIFS('Plan de couv'!$C$8:$C$373,Capa!$T15,'Plan de couv'!Y$8:Y$373,Paramètres!$A$3)+COUNTIFS('Plan de couv'!$C$8:$C$373,Capa!$T15,'Plan de couv'!Y$8:Y$373,Paramètres!$A$8)/2+COUNTIFS('Plan de couv'!$C$8:$C$373,Capa!$T15,'Plan de couv'!Y$8:Y$373,Paramètres!$A$9)/2 -> 0
R16: =MONTH(T16) -> 1 | S16: =WEEKNUM(T16) -> 3 | T16: =T15+1 -> 42380 | U16: =WEEKDAY(T16) -> 2 | V16: =COUNTIFS('Plan de couv'!$C$8:$C$373,Capa!$T16,'Plan de couv'!E$8:E$373,Paramètres!$A$3)+COUNTIFS('Plan de couv'!$C$8:$C$373,Capa!$T16,'Plan de couv'!E$8:E$373,Paramètres!$A$8)/2+COUNTIFS('Plan de couv'!$C$8:$C$373,Capa!$T16,'Plan de couv'!E$8:E$373,Paramètres!$A$9)/2 -> 0 | W16: =COUNTIFS('Plan de couv'!$C$8:$C$373,Capa!$T16,'Plan de couv'!F$8:F$373,Paramètres!$A$3)+COUNTIFS('Plan de couv'!$C$8:$C$373,Capa!$T16,'Plan de couv'!F$8:F$373,Paramètres!$A$8)/2+COUNTIFS('Plan de couv'!$C$8:$C$373,Capa!$T16,'Plan de couv'!F$8:F$373,Paramètres!$A$9)/2 -> 0 | X16: =COUNTIFS('Plan de couv'!$C$8:$C$373,Capa!$T16,'Plan de couv'!G$8:G$373,Paramètres!$A$3)+COUNTIFS('Plan de couv'!$C$8:$C$373,Capa!$T16,'Plan de couv'!G$8:G$373,Paramètres!$A$8)/2+COUNTIFS('Plan de couv'!$C$8:$C$373,Capa!$T16,'Plan de couv'!G$8:G$373,Paramètres!$A$9)/2 -> 0 | Y16: =COUNTIFS('Plan de couv'!$C$8:$C$373,Capa!$T16,'Plan de couv'!H$8:H$373,Paramètres!$A$3)+COUNTIFS('Plan de couv'!$C$8:$C$373,Capa!$T16,'Plan de couv'!H$8:H$373,Paramètres!$A$8)/2+COUNTIFS('Plan de couv'!$C$8:$C$373,Capa!$T16,'Plan de couv'!H$8:H$373,Paramètres!$A$9)/2 -> 0 | Z16: =COUNTIFS('Plan de couv'!$C$8:$C$373,Capa!$T16,'Plan de couv'!I$8:I$373,Paramètres!$A$3)+COUNTIFS('Plan de couv'!$C$8:$C$373,Capa!$T16,'Plan de couv'!I$8:I$373,Paramètres!$A$8)/2+COUNTIFS('Plan de couv'!$C$8:$C$373,Capa!$T16,'Plan de couv'!I$8:I$373,Paramètres!$A$9)/2 -> 0 | AA16: =COUNTIFS('Plan de couv'!$C$8:$C$373,Capa!$T16,'Plan de couv'!J$8:J$373,Paramètres!$A$3)+COUNTIFS('Plan de couv'!$C$8:$C$373,Capa!$T16,'Plan de couv'!J$8:J$373,Paramètres!$A$8)/2+COUNTIFS('Plan de couv'!$C$8:$C$373,Capa!$T16,'Plan de couv'!J$8:J$373,Paramètres!$A$9)/2 -> 0 | AB16: =COUNTIFS('Plan de couv'!$C$8:$C$373,Capa!$T16,'Plan de couv'!K$8:K$373,Paramètres!$A$3)+COUNTIFS('Plan de couv'!$C$8:$C$373,Capa!$T16,'Plan de couv'!K$8:K$373,Paramètres!$A$8)/2+COUNTIFS('Plan de couv'!$C$8:$C$373,Capa!$T16,'Plan de couv'!K$8:K$373,Paramètres!$A$9)/2 -> 0 | AC16: =COUNTIFS('Plan de couv'!$C$8:$C$373,Capa!$T16,'Plan de couv'!L$8:L$373,Paramètres!$A$3)+COUNTIFS('Plan de couv'!$C$8:$C$373,Capa!$T16,'Plan de couv'!L$8:L$373,Paramètres!$A$8)/2+COUNTIFS('Plan de couv'!$C$8:$C$373,Capa!$T16,'Plan de couv'!L$8:L$373,Paramètres!$A$9)/2 -> 0 | ... AP16: =COUNTIFS('Plan de couv'!$C$8:$C$373,Capa!$T16,'Plan de couv'!Y$8:Y$373,Paramètres!$A$3)+COUNTIFS('Plan de couv'!$C$8:$C$373,Capa!$T16,'Plan de couv'!Y$8:Y$373,Paramètres!$A$8)/2+COUNTIFS('Plan de couv'!$C$8:$C$373,Capa!$T16,'Plan de couv'!Y$8:Y$373,Paramètres!$A$9)/2 -> 0
R17: =MONTH(T17) -> 1 | S17: =WEEKNUM(T17) -> 3 | T17: =T16+1 -> 42381 | U17: =WEEKDAY(T17) -> 3 | V17: =COUNTIFS('Plan de couv'!$C$8:$C$373,Capa!$T17,'Plan de couv'!E$8:E$373,Paramètres!$A$3)+COUNTIFS('Plan de couv'!$C$8:$C$373,Capa!$T17,'Plan de couv'!E$8:E$373,Paramètres!$A$8)/2+COUNTIFS('Plan de couv'!$C$8:$C$373,Capa!$T17,'Plan de couv'!E$8:E$373,Paramètres!$A$9)/2 -> 0 | W17: =COUNTIFS('Plan de couv'!$C$8:$C$373,Capa!$T17,'Plan de couv'!F$8:F$373,Paramètres!$A$3)+COUNTIFS('Plan de couv'!$C$8:$C$373,Capa!$T17,'Plan de couv'!F$8:F$373,Paramètres!$A$8)/2+COUNTIFS('Plan de couv'!$C$8:$C$373,Capa!$T17,'Plan de couv'!F$8:F$373,Paramètres!$A$9)/2 -> 0 | X17: =COUNTIFS('Plan de couv'!$C$8:$C$373,Capa!$T17,'Plan de couv'!G$8:G$373,Paramètres!$A$3)+COUNTIFS('Plan de couv'!$C$8:$C$373,Capa!$T17,'Plan de couv'!G$8:G$373,Paramètres!$A$8)/2+COUNTIFS('Plan de couv'!$C$8:$C$373,Capa!$T17,'Plan de couv'!G$8:G$373,Paramètres!$A$9)/2 -> 0 | Y17: =COUNTIFS('Plan de couv'!$C$8:$C$373,Capa!$T17,'Plan de couv'!H$8:H$373,Paramètres!$A$3)+COUNTIFS('Plan de couv'!$C$8:$C$373,Capa!$T17,'Plan de couv'!H$8:H$373,Paramètres!$A$8)/2+COUNTIFS('Plan de couv'!$C$8:$C$373,Capa!$T17,'Plan de couv'!H$8:H$373,Paramètres!$A$9)/2 -> 0 | Z17: =COUNTIFS('Plan de couv'!$C$8:$C$373,Capa!$T17,'Plan de couv'!I$8:I$373,Paramètres!$A$3)+COUNTIFS('Plan de couv'!$C$8:$C$373,Capa!$T17,'Plan de couv'!I$8:I$373,Paramètres!$A$8)/2+COUNTIFS('Plan de couv'!$C$8:$C$373,Capa!$T17,'Plan de couv'!I$8:I$373,Paramètres!$A$9)/2 -> 0 | AA17: =COUNTIFS('Plan de couv'!$C$8:$C$373,Capa!$T17,'Plan de couv'!J$8:J$373,Paramètres!$A$3)+COUNTIFS('Plan de couv'!$C$8:$C$373,Capa!$T17,'Plan de couv'!J$8:J$373,Paramètres!$A$8)/2+COUNTIFS('Plan de couv'!$C$8:$C$373,Capa!$T17,'Plan de couv'!J$8:J$373,Paramètres!$A$9)/2 -> 0 | AB17: =COUNTIFS('Plan de couv'!$C$8:$C$373,Capa!$T17,'Plan de couv'!K$8:K$373,Paramètres!$A$3)+COUNTIFS('Plan de couv'!$C$8:$C$373,Capa!$T17,'Plan de couv'!K$8:K$373,Paramètres!$A$8)/2+COUNTIFS('Plan de couv'!$C$8:$C$373,Capa!$T17,'Plan de couv'!K$8:K$373,Paramètres!$A$9)/2 -> 0 | AC17: =COUNTIFS('Plan de couv'!$C$8:$C$373,Capa!$T17,'Plan de couv'!L$8:L$373,Paramètres!$A$3)+COUNTIFS('Plan de couv'!$C$8:$C$373,Capa!$T17,'Plan de couv'!L$8:L$373,Paramètres!$A$8)/2+COUNTIFS('Plan de couv'!$C$8:$C$373,Capa!$T17,'Plan de couv'!L$8:L$373,Paramètres!$A$9)/2 -> 0 | ... AP17: =COUNTIFS('Plan de couv'!$C$8:$C$373,Capa!$T17,'Plan de couv'!Y$8:Y$373,Paramètres!$A$3)+COUNTIFS('Plan de couv'!$C$8:$C$373,Capa!$T17,'Plan de couv'!Y$8:Y$373,Paramètres!$A$8)/2+COUNTIFS('Plan de couv'!$C$8:$C$373,Capa!$T17,'Plan de couv'!Y$8:Y$373,Paramètres!$A$9)/2 -> 0
R18: =MONTH(T18) -> 1 | S18: =WEEKNUM(T18) -> 3 | T18: =T17+1 -> 42382 | U18: =WEEKDAY(T18) -> 4 | V18: =COUNTIFS('Plan de couv'!$C$8:$C$373,Capa!$T18,'Plan de couv'!E$8:E$373,Paramètres!$A$3)+COUNTIFS('Plan de couv'!$C$8:$C$373,Capa!$T18,'Plan de couv'!E$8:E$373,Paramètres!$A$8)/2+COUNTIFS('Plan de couv'!$C$8:$C$373,Capa!$T18,'Plan de couv'!E$8:E$373,Paramètres!$A$9)/2 -> 0 | W18: =COUNTIFS('Plan de couv'!$C$8:$C$373,Capa!$T18,'Plan de couv'!F$8:F$373,Paramètres!$A$3)+COUNTIFS('Plan de couv'!$C$8:$C$373,Capa!$T18,'Plan de couv'!F$8:F$373,Paramètres!$A$8)/2+COUNTIFS('Plan de couv'!$C$8:$C$373,Capa!$T18,'Plan de couv'!F$8:F$373,Paramètres!$A$9)/2 -> 0 | X18: =COUNTIFS('Plan de couv'!$C$8:$C$373,Capa!$T18,'Plan de couv'!G$8:G$373,Paramètres!$A$3)+COUNTIFS('Plan de couv'!$C$8:$C$373,Capa!$T18,'Plan de couv'!G$8:G$373,Paramètres!$A$8)/2+COUNTIFS('Plan de couv'!$C$8:$C$373,Capa!$T18,'Plan de couv'!G$8:G$373,Paramètres!$A$9)/2 -> 0 | Y18: =COUNTIFS('Plan de couv'!$C$8:$C$373,Capa!$T18,'Plan de couv'!H$8:H$373,Paramètres!$A$3)+COUNTIFS('Plan de couv'!$C$8:$C$373,Capa!$T18,'Plan de couv'!H$8:H$373,Paramètres!$A$8)/2+COUNTIFS('Plan de couv'!$C$8:$C$373,Capa!$T18,'Plan de couv'!H$8:H$373,Paramètres!$A$9)/2 -> 0 | Z18: =COUNTIFS('Plan de couv'!$C$8:$C$373,Capa!$T18,'Plan de couv'!I$8:I$373,Paramètres!$A$3)+COUNTIFS('Plan de couv'!$C$8:$C$373,Capa!$T18,'Plan de couv'!I$8:I$373,Paramètres!$A$8)/2+COUNTIFS('Plan de couv'!$C$8:$C$373,Capa!$T18,'Plan de couv'!I$8:I$373,Paramètres!$A$9)/2 -> 0 | AA18: =COUNTIFS('Plan de couv'!$C$8:$C$373,Capa!$T18,'Plan de couv'!J$8:J$373,Paramètres!$A$3)+COUNTIFS('Plan de couv'!$C$8:$C$373,Capa!$T18,'Plan de couv'!J$8:J$373,Paramètres!$A$8)/2+COUNTIFS('Plan de couv'!$C$8:$C$373,Capa!$T18,'Plan de couv'!J$8:J$373,Paramètres!$A$9)/2 -> 0 | AB18: =COUNTIFS('Plan de couv'!$C$8:$C$373,Capa!$T18,'Plan de couv'!K$8:K$373,Paramètres!$A$3)+COUNTIFS('Plan de couv'!$C$8:$C$373,Capa!$T18,'Plan de couv'!K$8:K$373,Paramètres!$A$8)/2+COUNTIFS('Plan de couv'!$C$8:$C$373,Capa!$T18,'Plan de couv'!K$8:K$373,Paramètres!$A$9)/2 -> 0 | AC18: =COUNTIFS('Plan de couv'!$C$8:$C$373,Capa!$T18,'Plan de couv'!L$8:L$373,Paramètres!$A$3)+COUNTIFS('Plan de couv'!$C$8:$C$373,Capa!$T18,'Plan de couv'!L$8:L$373,Paramètres!$A$8)/2+COUNTIFS('Plan de couv'!$C$8:$C$373,Capa!$T18,'Plan de couv'!L$8:L$373,Paramètres!$A$9)/2 -> 0 | ... AP18: =COUNTIFS('Plan de couv'!$C$8:$C$373,Capa!$T18,'Plan de couv'!Y$8:Y$373,Paramètres!$A$3)+COUNTIFS('Plan de couv'!$C$8:$C$373,Capa!$T18,'Plan de couv'!Y$8:Y$373,Paramètres!$A$8)/2+COUNTIFS('Plan de couv'!$C$8:$C$373,Capa!$T18,'Plan de couv'!Y$8:Y$373,Paramètres!$A$9)/2 -> 0
... R220: =MONTH(T220) -> 8 | S220: =WEEKNUM(T220) -> 32 | T220: =T219+1 -> 42584 | U220: =WEEKDAY(T220) -> 3 | V220: =COUNTIFS('Plan de couv'!$C$8:$C$373,Capa!$T220,'Plan de couv'!E$8:E$373,Paramètres!$A$3)+COUNTIFS('Plan de couv'!$C$8:$C$373,Capa!$T220,'Plan de couv'!E$8:E$373,Paramètres!$A$8)/2+COUNTIFS('Plan de couv'!$C$8:$C$373,Capa!$T220,'Plan de couv'!E$8:E$373,Paramètres!$A$9)/2 -> 1 | W220: =COUNTIFS('Plan de couv'!$C$8:$C$373,Capa!$T220,'Plan de couv'!F$8:F$373,Paramètres!$A$3)+COUNTIFS('Plan de couv'!$C$8:$C$373,Capa!$T220,'Plan de couv'!F$8:F$373,Paramètres!$A$8)/2+COUNTIFS('Plan de couv'!$C$8:$C$373,Capa!$T220,'Plan de couv'!F$8:F$373,Paramètres!$A$9)/2 -> 1 | X220: =COUNTIFS('Plan de couv'!$C$8:$C$373,Capa!$T220,'Plan de couv'!G$8:G$373,Paramètres!$A$3)+COUNTIFS('Plan de couv'!$C$8:$C$373,Capa!$T220,'Plan de couv'!G$8:G$373,Paramètres!$A$8)/2+COUNTIFS('Plan de couv'!$C$8:$C$373,Capa!$T220,'Plan de couv'!G$8:G$373,Paramètres!$A$9)/2 -> 1 | Y220: =COUNTIFS('Plan de couv'!$C$8:$C$373,Capa!$T220,'Plan de couv'!H$8:H$373,Paramètres!$A$3)+COUNTIFS('Plan de couv'!$C$8:$C$373,Capa!$T220,'Plan de couv'!H$8:H$373,Paramètres!$A$8)/2+COUNTIFS('Plan de couv'!$C$8:$C$373,Capa!$T220,'Plan de couv'!H$8:H$373,Paramètres!$A$9)/2 -> 1 | Z220: =COUNTIFS('Plan de couv'!$C$8:$C$373,Capa!$T220,'Plan de couv'!I$8:I$373,Paramètres!$A$3)+COUNTIFS('Plan de couv'!$C$8:$C$373,Capa!$T220,'Plan de couv'!I$8:I$373,Paramètres!$A$8)/2+COUNTIFS('Plan de couv'!$C$8:$C$373,Capa!$T220,'Plan de couv'!I$8:I$373,Paramètres!$A$9)/2 -> 1 | AA220: =COUNTIFS('Plan de couv'!$C$8:$C$373,Capa!$T220,'Plan de couv'!J$8:J$373,Paramètres!$A$3)+COUNTIFS('Plan de couv'!$C$8:$C$373,Capa!$T220,'Plan de couv'!J$8:J$373,Paramètres!$A$8)/2+COUNTIFS('Plan de couv'!$C$8:$C$373,Capa!$T220,'Plan de couv'!J$8:J$373,Paramètres!$A$9)/2 -> 1 | AB220: =COUNTIFS('Plan de couv'!$C$8:$C$373,Capa!$T220,'Plan de couv'!K$8:K$373,Paramètres!$A$3)+COUNTIFS('Plan de couv'!$C$8:$C$373,Capa!$T220,'Plan de couv'!K$8:K$373,Paramètres!$A$8)/2+COUNTIFS('Plan de couv'!$C$8:$C$373,Capa!$T220,'Plan de couv'!K$8:K$373,Paramètres!$A$9)/2 -> 1 | AC220: =COUNTIFS('Plan de couv'!$C$8:$C$373,Capa!$T220,'Plan de couv'!L$8:L$373,Paramètres!$A$3)+COUNTIFS('Plan de couv'!$C$8:$C$373,Capa!$T220,'Plan de couv'!L$8:L$373,Paramètres!$A$8)/2+COUNTIFS('Plan de couv'!$C$8:$C$373,Capa!$T220,'Plan de couv'!L$8:L$373,Paramètres!$A$9)/2 -> 1 | ... AP220: =COUNTIFS('Plan de couv'!$C$8:$C$373,Capa!$T220,'Plan de couv'!Y$8:Y$373,Paramètres!$A$3)+COUNTIFS('Plan de couv'!$C$8:$C$373,Capa!$T220,'Plan de couv'!Y$8:Y$373,Paramètres!$A$8)/2+COUNTIFS('Plan de couv'!$C$8:$C$373,Capa!$T220,'Plan de couv'!Y$8:Y$373,Paramètres!$A$9)/2 -> 1
R221: =MONTH(T221) -> 8 | S221: =WEEKNUM(T221) -> 32 | T221: =T220+1 -> 42585 | U221: =WEEKDAY(T221) -> 4 | V221: =(COUNTIFS('Plan de couv'!$C$8:$C$373,Capa!$T221,'Plan de couv'!E$8:E$373,Paramètres!$A$3)+COUNTIFS('Plan de couv'!$C$8:$C$373,Capa!$T221,'Plan de couv'!E$8:E$373,Paramètres!$A$8)/2+COUNTIFS('Plan de couv'!$C$8:$C$373,Capa!$T221,'Plan de couv'!E$8:E$373,Paramètres!$A$9)/2) -> 1 | W221: =COUNTIFS('Plan de couv'!$C$8:$C$373,Capa!$T221,'Plan de couv'!F$8:F$373,Paramètres!$A$3)+COUNTIFS('Plan de couv'!$C$8:$C$373,Capa!$T221,'Plan de couv'!F$8:F$373,Paramètres!$A$8)/2+COUNTIFS('Plan de couv'!$C$8:$C$373,Capa!$T221,'Plan de couv'!F$8:F$373,Paramètres!$A$9)/2 -> 1 | X221: =COUNTIFS('Plan de couv'!$C$8:$C$373,Capa!$T221,'Plan de couv'!G$8:G$373,Paramètres!$A$3)+COUNTIFS('Plan de couv'!$C$8:$C$373,Capa!$T221,'Plan de couv'!G$8:G$373,Paramètres!$A$8)/2+COUNTIFS('Plan de couv'!$C$8:$C$373,Capa!$T221,'Plan de couv'!G$8:G$373,Paramètres!$A$9)/2 -> 1 | Y221: =COUNTIFS('Plan de couv'!$C$8:$C$373,Capa!$T221,'Plan de couv'!H$8:H$373,Paramètres!$A$3)+COUNTIFS('Plan de couv'!$C$8:$C$373,Capa!$T221,'Plan de couv'!H$8:H$373,Paramètres!$A$8)/2+COUNTIFS('Plan de couv'!$C$8:$C$373,Capa!$T221,'Plan de couv'!H$8:H$373,Paramètres!$A$9)/2 -> 1 | Z221: =COUNTIFS('Plan de couv'!$C$8:$C$373,Capa!$T221,'Plan de couv'!I$8:I$373,Paramètres!$A$3)+COUNTIFS('Plan de couv'!$C$8:$C$373,Capa!$T221,'Plan de couv'!I$8:I$373,Paramètres!$A$8)/2+COUNTIFS('Plan de couv'!$C$8:$C$373,Capa!$T221,'Plan de couv'!I$8:I$373,Paramètres!$A$9)/2 -> 1 | AA221: =COUNTIFS('Plan de couv'!$C$8:$C$373,Capa!$T221,'Plan de couv'!J$8:J$373,Paramètres!$A$3)+COUNTIFS('Plan de couv'!$C$8:$C$373,Capa!$T221,'Plan de couv'!J$8:J$373,Paramètres!$A$8)/2+COUNTIFS('Plan de couv'!$C$8:$C$373,Capa!$T221,'Plan de couv'!J$8:J$373,Paramètres!$A$9)/2 -> 1 | AB221: =COUNTIFS('Plan de couv'!$C$8:$C$373,Capa!$T221,'Plan de couv'!K$8:K$373,Paramètres!$A$3)+COUNTIFS('Plan de couv'!$C$8:$C$373,Capa!$T221,'Plan de couv'!K$8:K$373,Paramètres!$A$8)/2+COUNTIFS('Plan de couv'!$C$8:$C$373,Capa!$T221,'Plan de couv'!K$8:K$373,Paramètres!$A$9)/2 -> 1 | AC221: =COUNTIFS('Plan de couv'!$C$8:$C$373,Capa!$T221,'Plan de couv'!L$8:L$373,Paramètres!$A$3)+COUNTIFS('Plan de couv'!$C$8:$C$373,Capa!$T221,'Plan de couv'!L$8:L$373,Paramètres!$A$8)/2+COUNTIFS('Plan de couv'!$C$8:$C$373,Capa!$T221,'Plan de couv'!L$8:L$373,Paramètres!$A$9)/2 -> 1 | AD221: =COUNTIFS('Plan de couv'!$C$8:$C$373,Capa!$T221,'Plan de couv'!M$8:M$373,Paramètres!$A$3)+COUNTIFS('Plan de couv'!$C$8:$C$373,Capa!$T221,'Plan de couv'!M$8:M$373,Paramètres!$A$8)/2+COUNTIFS('Plan de couv'!$C$8:$C$373,Capa!$T221,'Plan de couv'!M$8:M$373,Paramètres!$A$9)/2 -> 1 | ... AP221: =COUNTIFS('Plan de couv'!$C$8:$C$373,Capa!$T221,'Plan de couv'!Y$8:Y$373,Paramètres!$A$3)+COUNTIFS('Plan de couv'!$C$8:$C$373,Capa!$T221,'Plan de couv'!Y$8:Y$373,Paramètres!$A$8)/2+COUNTIFS('Plan de couv'!$C$8:$C$373,Capa!$T221,'Plan de couv'!Y$8:Y$373,Paramètres!$A$9)/2 -> 1
R222: =MONTH(T222) -> 8 | S222: =WEEKNUM(T222) -> 32 | T222: =T221+1 -> 42586 | U222: =WEEKDAY(T222) -> 5 | V222: =COUNTIFS('Plan de couv'!$C$8:$C$373,Capa!$T222,'Plan de couv'!E$8:E$373,Paramètres!$A$3)+COUNTIFS('Plan de couv'!$C$8:$C$373,Capa!$T222,'Plan de couv'!E$8:E$373,Paramètres!$A$8)/2+COUNTIFS('Plan de couv'!$C$8:$C$373,Capa!$T222,'Plan de couv'!E$8:E$373,Paramètres!$A$9)/2 -> 0 | W222: =COUNTIFS('Plan de couv'!$C$8:$C$373,Capa!$T222,'Plan de couv'!F$8:F$373,Paramètres!$A$3)+COUNTIFS('Plan de couv'!$C$8:$C$373,Capa!$T222,'Plan de couv'!F$8:F$373,Paramètres!$A$8)/2+COUNTIFS('Plan de couv'!$C$8:$C$373,Capa!$T222,'Plan de couv'!F$8:F$373,Paramètres!$A$9)/2 -> 1 | X222: =COUNTIFS('Plan de couv'!$C$8:$C$373,Capa!$T222,'Plan de couv'!G$8:G$373,Paramètres!$A$3)+COUNTIFS('Plan de couv'!$C$8:$C$373,Capa!$T222,'Plan de couv'!G$8:G$373,Paramètres!$A$8)/2+COUNTIFS('Plan de couv'!$C$8:$C$373,Capa!$T222,'Plan de couv'!G$8:G$373,Paramètres!$A$9)/2 -> 1 | Y222: =COUNTIFS('Plan de couv'!$C$8:$C$373,Capa!$T222,'Plan de couv'!H$8:H$373,Paramètres!$A$3)+COUNTIFS('Plan de couv'!$C$8:$C$373,Capa!$T222,'Plan de couv'!H$8:H$373,Paramètres!$A$8)/2+COUNTIFS('Plan de couv'!$C$8:$C$373,Capa!$T222,'Plan de couv'!H$8:H$373,Paramètres!$A$9)/2 -> 1 | Z222: =COUNTIFS('Plan de couv'!$C$8:$C$373,Capa!$T222,'Plan de couv'!I$8:I$373,Paramètres!$A$3)+COUNTIFS('Plan de couv'!$C$8:$C$373,Capa!$T222,'Plan de couv'!I$8:I$373,Paramètres!$A$8)/2+COUNTIFS('Plan de couv'!$C$8:$C$373,Capa!$T222,'Plan de couv'!I$8:I$373,Paramètres!$A$9)/2 -> 1 | AA222: =COUNTIFS('Plan de couv'!$C$8:$C$373,Capa!$T222,'Plan de couv'!J$8:J$373,Paramètres!$A$3)+COUNTIFS('Plan de couv'!$C$8:$C$373,Capa!$T222,'Plan de couv'!J$8:J$373,Paramètres!$A$8)/2+COUNTIFS('Plan de couv'!$C$8:$C$373,Capa!$T222,'Plan de couv'!J$8:J$373,Paramètres!$A$9)/2 -> 1 | AB222: =COUNTIFS('Plan de couv'!$C$8:$C$373,Capa!$T222,'Plan de couv'!K$8:K$373,Paramètres!$A$3)+COUNTIFS('Plan de couv'!$C$8:$C$373,Capa!$T222,'Plan de couv'!K$8:K$373,Paramètres!$A$8)/2+COUNTIFS('Plan de couv'!$C$8:$C$373,Capa!$T222,'Plan de couv'!K$8:K$373,Paramètres!$A$9)/2 -> 1 | AC222: =COUNTIFS('Plan de couv'!$C$8:$C$373,Capa!$T222,'Plan de couv'!L$8:L$373,Paramètres!$A$3)+COUNTIFS('Plan de couv'!$C$8:$C$373,Capa!$T222,'Plan de couv'!L$8:L$373,Paramètres!$A$8)/2+COUNTIFS('Plan de couv'!$C$8:$C$373,Capa!$T222,'Plan de couv'!L$8:L$373,Paramètres!$A$9)/2 -> 1 | ... AP222: =COUNTIFS('Plan de couv'!$C$8:$C$373,Capa!$T222,'Plan de couv'!Y$8:Y$373,Paramètres!$A$3)+COUNTIFS('Plan de couv'!$C$8:$C$373,Capa!$T222,'Plan de couv'!Y$8:Y$373,Paramètres!$A$8)/2+COUNTIFS('Plan de couv'!$C$8:$C$373,Capa!$T222,'Plan de couv'!Y$8:Y$373,Paramètres!$A$9)/2 -> 1
R223: =MONTH(T223) -> 8 | S223: =WEEKNUM(T223) -> 32 | T223: =T222+1 -> 42587 | U223: =WEEKDAY(T223) -> 6 | V223: =COUNTIFS('Plan de couv'!$C$8:$C$373,Capa!$T223,'Plan de couv'!E$8:E$373,Paramètres!$A$3)+COUNTIFS('Plan de couv'!$C$8:$C$373,Capa!$T223,'Plan de couv'!E$8:E$373,Paramètres!$A$8)/2+COUNTIFS('Plan de couv'!$C$8:$C$373,Capa!$T223,'Plan de couv'!E$8:E$373,Paramètres!$A$9)/2 -> 1 | W223: =COUNTIFS('Plan de couv'!$C$8:$C$373,Capa!$T223,'Plan de couv'!F$8:F$373,Paramètres!$A$3)+COUNTIFS('Plan de couv'!$C$8:$C$373,Capa!$T223,'Plan de couv'!F$8:F$373,Paramètres!$A$8)/2+COUNTIFS('Plan de couv'!$C$8:$C$373,Capa!$T223,'Plan de couv'!F$8:F$373,Paramètres!$A$9)/2 -> 1 | X223: =COUNTIFS('Plan de couv'!$C$8:$C$373,Capa!$T223,'Plan de couv'!G$8:G$373,Paramètres!$A$3)+COUNTIFS('Plan de couv'!$C$8:$C$373,Capa!$T223,'Plan de couv'!G$8:G$373,Paramètres!$A$8)/2+COUNTIFS('Plan de couv'!$C$8:$C$373,Capa!$T223,'Plan de couv'!G$8:G$373,Paramètres!$A$9)/2 -> 1 | Y223: =COUNTIFS('Plan de couv'!$C$8:$C$373,Capa!$T223,'Plan de couv'!H$8:H$373,Paramètres!$A$3)+COUNTIFS('Plan de couv'!$C$8:$C$373,Capa!$T223,'Plan de couv'!H$8:H$373,Paramètres!$A$8)/2+COUNTIFS('Plan de couv'!$C$8:$C$373,Capa!$T223,'Plan de couv'!H$8:H$373,Paramètres!$A$9)/2 -> 1 | Z223: =COUNTIFS('Plan de couv'!$C$8:$C$373,Capa!$T223,'Plan de couv'!I$8:I$373,Paramètres!$A$3)+COUNTIFS('Plan de couv'!$C$8:$C$373,Capa!$T223,'Plan de couv'!I$8:I$373,Paramètres!$A$8)/2+COUNTIFS('Plan de couv'!$C$8:$C$373,Capa!$T223,'Plan de couv'!I$8:I$373,Paramètres!$A$9)/2 -> 1 | AA223: =COUNTIFS('Plan de couv'!$C$8:$C$373,Capa!$T223,'Plan de couv'!J$8:J$373,Paramètres!$A$3)+COUNTIFS('Plan de couv'!$C$8:$C$373,Capa!$T223,'Plan de couv'!J$8:J$373,Paramètres!$A$8)/2+COUNTIFS('Plan de couv'!$C$8:$C$373,Capa!$T223,'Plan de couv'!J$8:J$373,Paramètres!$A$9)/2 -> 1 | AB223: =COUNTIFS('Plan de couv'!$C$8:$C$373,Capa!$T223,'Plan de couv'!K$8:K$373,Paramètres!$A$3)+COUNTIFS('Plan de couv'!$C$8:$C$373,Capa!$T223,'Plan de couv'!K$8:K$373,Paramètres!$A$8)/2+COUNTIFS('Plan de couv'!$C$8:$C$373,Capa!$T223,'Plan de couv'!K$8:K$373,Paramètres!$A$9)/2 -> 1 | AC223: =COUNTIFS('Plan de couv'!$C$8:$C$373,Capa!$T223,'Plan de couv'!L$8:L$373,Paramètres!$A$3)+COUNTIFS('Plan de couv'!$C$8:$C$373,Capa!$T223,'Plan de couv'!L$8:L$373,Paramètres!$A$8)/2+COUNTIFS('Plan de couv'!$C$8:$C$373,Capa!$T223,'Plan de couv'!L$8:L$373,Paramètres!$A$9)/2 -> 1 | ... AP223: =COUNTIFS('Plan de couv'!$C$8:$C$373,Capa!$T223,'Plan de couv'!Y$8:Y$373,Paramètres!$A$3)+COUNTIFS('Plan de couv'!$C$8:$C$373,Capa!$T223,'Plan de couv'!Y$8:Y$373,Paramètres!$A$8)/2+COUNTIFS('Plan de couv'!$C$8:$C$373,Capa!$T223,'Plan de couv'!Y$8:Y$373,Paramètres!$A$9)/2 -> 1
R224: =MONTH(T224) -> 8 | S224: =WEEKNUM(T224) -> 32 | T224: =T223+1 -> 42588 | U224: =WEEKDAY(T224) -> 7 | V224: =COUNTIFS('Plan de couv'!$C$8:$C$373,Capa!$T224,'Plan de couv'!E$8:E$373,Paramètres!$A$3)+COUNTIFS('Plan de couv'!$C$8:$C$373,Capa!$T224,'Plan de couv'!E$8:E$373,Paramètres!$A$8)/2+COUNTIFS('Plan de couv'!$C$8:$C$373,Capa!$T224,'Plan de couv'!E$8:E$373,Paramètres!$A$9)/2 -> 0 | W224: =COUNTIFS('Plan de couv'!$C$8:$C$373,Capa!$T224,'Plan de couv'!F$8:F$373,Paramètres!$A$3)+COUNTIFS('Plan de couv'!$C$8:$C$373,Capa!$T224,'Plan de couv'!F$8:F$373,Paramètres!$A$8)/2+COUNTIFS('Plan de couv'!$C$8:$C$373,Capa!$T224,'Plan de couv'!F$8:F$373,Paramètres!$A$9)/2 -> 0 | X224: =COUNTIFS('Plan de couv'!$C$8:$C$373,Capa!$T224,'Plan de couv'!G$8:G$373,Paramètres!$A$3)+COUNTIFS('Plan de couv'!$C$8:$C$373,Capa!$T224,'Plan de couv'!G$8:G$373,Paramètres!$A$8)/2+COUNTIFS('Plan de couv'!$C$8:$C$373,Capa!$T224,'Plan de couv'!G$8:G$373,Paramètres!$A$9)/2 -> 0 | Y224: =COUNTIFS('Plan de couv'!$C$8:$C$373,Capa!$T224,'Plan de couv'!H$8:H$373,Paramètres!$A$3)+COUNTIFS('Plan de couv'!$C$8:$C$373,Capa!$T224,'Plan de couv'!H$8:H$373,Paramètres!$A$8)/2+COUNTIFS('Plan de couv'!$C$8:$C$373,Capa!$T224,'Plan de couv'!H$8:H$373,Paramètres!$A$9)/2 -> 0 | Z224: =COUNTIFS('Plan de couv'!$C$8:$C$373,Capa!$T224,'Plan de couv'!I$8:I$373,Paramètres!$A$3)+COUNTIFS('Plan de couv'!$C$8:$C$373,Capa!$T224,'Plan de couv'!I$8:I$373,Paramètres!$A$8)/2+COUNTIFS('Plan de couv'!$C$8:$C$373,Capa!$T224,'Plan de couv'!I$8:I$373,Paramètres!$A$9)/2 -> 0 | AA224: =COUNTIFS('Plan de couv'!$C$8:$C$373,Capa!$T224,'Plan de couv'!J$8:J$373,Paramètres!$A$3)+COUNTIFS('Plan de couv'!$C$8:$C$373,Capa!$T224,'Plan de couv'!J$8:J$373,Paramètres!$A$8)/2+COUNTIFS('Plan de couv'!$C$8:$C$373,Capa!$T224,'Plan de couv'!J$8:J$373,Paramètres!$A$9)/2 -> 0 | AB224: =COUNTIFS('Plan de couv'!$C$8:$C$373,Capa!$T224,'Plan de couv'!K$8:K$373,Paramètres!$A$3)+COUNTIFS('Plan de couv'!$C$8:$C$373,Capa!$T224,'Plan de couv'!K$8:K$373,Paramètres!$A$8)/2+COUNTIFS('Plan de couv'!$C$8:$C$373,Capa!$T224,'Plan de couv'!K$8:K$373,Paramètres!$A$9)/2 -> 0 | AC224: =COUNTIFS('Plan de couv'!$C$8:$C$373,Capa!$T224,'Plan de couv'!L$8:L$373,Paramètres!$A$3)+COUNTIFS('Plan de couv'!$C$8:$C$373,Capa!$T224,'Plan de couv'!L$8:L$373,Paramètres!$A$8)/2+COUNTIFS('Plan de couv'!$C$8:$C$373,Capa!$T224,'Plan de couv'!L$8:L$373,Paramètres!$A$9)/2 -> 0 | ... AP224: =COUNTIFS('Plan de couv'!$C$8:$C$373,Capa!$T224,'Plan de couv'!Y$8:Y$373,Paramètres!$A$3)+COUNTIFS('Plan de couv'!$C$8:$C$373,Capa!$T224,'Plan de couv'!Y$8:Y$373,Paramètres!$A$8)/2+COUNTIFS('Plan de couv'!$C$8:$C$373,Capa!$T224,'Plan de couv'!Y$8:Y$373,Paramètres!$A$9)/2 -> 0
R225: =MONTH(T225) -> 8 | S225: =WEEKNUM(T225) -> 33 | T225: =T224+1 -> 42589 | U225: =WEEKDAY(T225) -> 1 | V225: =COUNTIFS('Plan de couv'!$C$8:$C$373,Capa!$T225,'Plan de couv'!E$8:E$373,Paramètres!$A$3)+COUNTIFS('Plan de couv'!$C$8:$C$373,Capa!$T225,'Plan de couv'!E$8:E$373,Paramètres!$A$8)/2+COUNTIFS('Plan de couv'!$C$8:$C$373,Capa!$T225,'Plan de couv'!E$8:E$373,Paramètres!$A$9)/2 -> 0 | W225: =COUNTIFS('Plan de couv'!$C$8:$C$373,Capa!$T225,'Plan de couv'!F$8:F$373,Paramètres!$A$3)+COUNTIFS('Plan de couv'!$C$8:$C$373,Capa!$T225,'Plan de couv'!F$8:F$373,Paramètres!$A$8)/2+COUNTIFS('Plan de couv'!$C$8:$C$373,Capa!$T225,'Plan de couv'!F$8:F$373,Paramètres!$A$9)/2 -> 0 | X225: =COUNTIFS('Plan de couv'!$C$8:$C$373,Capa!$T225,'Plan de couv'!G$8:G$373,Paramètres!$A$3)+COUNTIFS('Plan de couv'!$C$8:$C$373,Capa!$T225,'Plan de couv'!G$8:G$373,Paramètres!$A$8)/2+COUNTIFS('Plan de couv'!$C$8:$C$373,Capa!$T225,'Plan de couv'!G$8:G$373,Paramètres!$A$9)/2 -> 0 | Y225: =COUNTIFS('Plan de couv'!$C$8:$C$373,Capa!$T225,'Plan de couv'!H$8:H$373,Paramètres!$A$3)+COUNTIFS('Plan de couv'!$C$8:$C$373,Capa!$T225,'Plan de couv'!H$8:H$373,Paramètres!$A$8)/2+COUNTIFS('Plan de couv'!$C$8:$C$373,Capa!$T225,'Plan de couv'!H$8:H$373,Paramètres!$A$9)/2 -> 0 | Z225: =COUNTIFS('Plan de couv'!$C$8:$C$373,Capa!$T225,'Plan de couv'!I$8:I$373,Paramètres!$A$3)+COUNTIFS('Plan de couv'!$C$8:$C$373,Capa!$T225,'Plan de couv'!I$8:I$373,Paramètres!$A$8)/2+COUNTIFS('Plan de couv'!$C$8:$C$373,Capa!$T225,'Plan de couv'!I$8:I$373,Paramètres!$A$9)/2 -> 0 | AA225: =COUNTIFS('Plan de couv'!$C$8:$C$373,Capa!$T225,'Plan de couv'!J$8:J$373,Paramètres!$A$3)+COUNTIFS('Plan de couv'!$C$8:$C$373,Capa!$T225,'Plan de couv'!J$8:J$373,Paramètres!$A$8)/2+COUNTIFS('Plan de couv'!$C$8:$C$373,Capa!$T225,'Plan de couv'!J$8:J$373,Paramètres!$A$9)/2 -> 0 | AB225: =COUNTIFS('Plan de couv'!$C$8:$C$373,Capa!$T225,'Plan de couv'!K$8:K$373,Paramètres!$A$3)+COUNTIFS('Plan de couv'!$C$8:$C$373,Capa!$T225,'Plan de couv'!K$8:K$373,Paramètres!$A$8)/2+COUNTIFS('Plan de couv'!$C$8:$C$373,Capa!$T225,'Plan de couv'!K$8:K$373,Paramètres!$A$9)/2 -> 0 | AC225: =COUNTIFS('Plan de couv'!$C$8:$C$373,Capa!$T225,'Plan de couv'!L$8:L$373,Paramètres!$A$3)+COUNTIFS('Plan de couv'!$C$8:$C$373,Capa!$T225,'Plan de couv'!L$8:L$373,Paramètres!$A$8)/2+COUNTIFS('Plan de couv'!$C$8:$C$373,Capa!$T225,'Plan de couv'!L$8:L$373,Paramètres!$A$9)/2 -> 0 | ... AP225: =COUNTIFS('Plan de couv'!$C$8:$C$373,Capa!$T225,'Plan de couv'!Y$8:Y$373,Paramètres!$A$3)+COUNTIFS('Plan de couv'!$C$8:$C$373,Capa!$T225,'Plan de couv'!Y$8:Y$373,Paramètres!$A$8)/2+COUNTIFS('Plan de couv'!$C$8:$C$373,Capa!$T225,'Plan de couv'!Y$8:Y$373,Paramètres!$A$9)/2 -> 0
