Workbook
Name AN: 'Plan de couv'!$A$2
Name capacollab: Capa!$V$5:$AP$5
Name capadates: Capa!$T$6:$T$371
Name Codes: Paramètres!$A$3:$A$10
Name couv: Capa!$V$6:$AP$371
Name JF: Paramètres!$J$5:$J$17
Name planning: 'Plan de couv'!$E$8:$Y$373

Sheet Recap
A3: Demande | G3: TTM / TTD souhaité par SFR | J3: TTM / TTD réel | AD3: Interlocuteurs | AG3: Commentaires pour le concepteur / réalisateur | AL3: Qualité inputs? Tous les interlocuteurs identifiés? (recette, spoc) Jalons identifiés et cohérents? Nécessité d'un COPRO? | AM3: Check exhaustivité des livrables | AO3: Incident en production suite au lancement d’une offre | AT3: Respect des jalons | AV3: Réactivité réponse Forrum
A4: N° Demande | B4: Urgence | C4: Demandeur | D4: Date réception demande de SFR | E4: Date réponse souhaitée | F4: Date réponse réelle | G4: TTM souhaité SFR | H4: Livraison Bios souhaitée SFR | I4: TTD souhaité SFR | J4: TTM réel | K4: Livraison Bios réel | L4: TTD réel | M4: STATUT | N4: Mois | O4: Semaine | P4: Segment | Q4: Peps S4 | R4: Peps Offre | S4: Libellé | T4: Périmètre | U4: UO | V4: Charge plannifiée (en jour) | W4: date début prise en charge | X4: date fin selon charge plannifiée | Y4: Concepteur | Z4: Nb jours dispo concepteur | AA4: Livraison Bios dans PEPS MEP | AB4: TTM | AC4: TTD | AD4: Equipe chargée de la recette | AE4: Spoc | AF4: MOA Lancement d'Offres | AG4: Commentaires par système | AH4: Commentaire global à l'offre | AI4: Charge réelle si alerte | AJ4: Charge planifiée | AK4: KPI | AL4: Commentaires / Alertes | AM4: Livrables exhaustifs? (Oui/Non) | AN4: Explication non exhaustivité livrable | AO4: Critique (seuil = 0) | AP4: Majeure (seuil = 2 hors cran / 1 cran) | AQ4: Mineure (seuil = 5 hors cran / 1 cran) | AR4: Indicateur Qualité Lancement | AS4: Commentaires / Plan d'actions | AT4: Respect TTD | AU4: Respect TTM | AV4: Délai de réponse en jours ouvrés | AW4: Réactivité réponse Forrum
A5: D000 | B5: Normale | C5: NB | D5: 42571 | F5: 42580 | G5: 42590 | I5: 42588 | N5: =IF(Rec[[#This Row],[TTM souhaité SFR]]="","",MONTH(Rec[[#This Row],[TTM souhaité SFR]])) -> 8 | O5: =IF(Rec[[#This Row],[TTM souhaité SFR]]="","",WEEKNUM(Rec[[#This Row],[TTM souhaité SFR]])) -> 33 | P5: LSA | S5: LSA - Test | X5: =IF(Rec[[#This Row],[date début prise en charge]]="","",IF(Rec[[#This Row],[Charge plannifiée (en jour)]]<1,WORKDAY(Rec[[#This Row],[date début prise en charge]],Rec[[#This Row],[Charge plannifiée (en jour)]],JF),WORKDAY(Rec[[#This Row],[date début prise en charge]],Rec[[#This Row],[Charge plannifiée (en jour)]]-1,JF))) | Z5: {=IF(Rec[[#This Row],[date début prise en charge]]="","",SUMPRODUCT((couv<>0)*(capadates>=Rec[[#This Row],[date début prise en charge]])*(capadates<=Rec[[#This Row],[date fin selon charge plannifiée]])*(capacollab=Rec[[#This Row],[Concepteur]])))}
G6: 42590 | I6: 42588 | N6: =IF(Rec[[#This Row],[TTM souhaité SFR]]="","",MONTH(Rec[[#This Row],[TTM souhaité SFR]])) -> 8 | O6: =IF(Rec[[#This Row],[TTM souhaité SFR]]="","",WEEKNUM(Rec[[#This Row],[TTM souhaité SFR]])) -> 33 | S6: LSA - Test | V6: 2 | W6: 42585 | X6: =IF(Rec[[#This Row],[date début prise en charge]]="","",IF(Rec[[#This Row],[Charge plannifiée (en jour)]]<1,WORKDAY(Rec[[#This Row],[date début prise en charge]],Rec[[#This Row],[Charge plannifiée (en jour)]],JF),WORKDAY(Rec[[#This Row],[date début prise en charge]],Rec[[#This Row],[Charge plannifiée (en jour)]]-1,JF))) -> 42586 | Y6: Collab 1 | Z6: {=IF(Rec[[#This Row],[date début prise en charge]]="","",SUMPRODUCT((couv<>0)*(capadates>=Rec[[#This Row],[date début prise en charge]])*(capadates<=Rec[[#This Row],[date fin selon charge plannifiée]])*(capacollab=Rec[[#This Row],[Concepteur]])))} -> 1
G7: 42590 | I7: 42588 | N7: =IF(Rec[[#This Row],[TTM souhaité SFR]]="","",MONTH(Rec[[#This Row],[TTM souhaité SFR]])) -> 8 | O7: =IF(Rec[[#This Row],[TTM souhaité SFR]]="","",WEEKNUM(Rec[[#This Row],[TTM souhaité SFR]])) -> 33 | S7: LSA - Test | V7: 1 | W7: 42586 | X7: =IF(Rec[[#This Row],[date début prise en charge]]="","",IF(Rec[[#This Row],[Charge plannifiée (en jour)]]<1,WORKDAY(Rec[[#This Row],[date début prise en charge]],Rec[[#This Row],[Charge plannifiée (en jour)]],JF),WORKDAY(Rec[[#This Row],[date début prise en charge]],Rec[[#This Row],[Charge plannifiée (en jour)]]-1,JF))) -> 42586 | Y7: Collab 1 | Z7: {=IF(Rec[[#This Row],[date début prise en charge]]="","",SUMPRODUCT((couv<>0)*(capadates>=Rec[[#This Row],[date début prise en charge]])*(capadates<=Rec[[#This Row],[date fin selon charge plannifiée]])*(capacollab=Rec[[#This Row],[Concepteur]])))} -> 0
G8: 42590 | I8: 42588 | N8: =IF(Rec[[#This Row],[TTM souhaité SFR]]="","",MONTH(Rec[[#This Row],[TTM souhaité SFR]])) -> 8 | O8: =IF(Rec[[#This Row],[TTM souhaité SFR]]="","",WEEKNUM(Rec[[#This Row],[TTM souhaité SFR]])) -> 33 | S8: LSA - Test | V8: 0.5 | W8: 42593 | X8: =IF(Rec[[#This Row],[date début prise en charge]]="","",IF(Rec[[#This Row],[Charge plannifiée (en jour)]]<1,WORKDAY(Rec[[#This Row],[date début prise en charge]],Rec[[#This Row],[Charge plannifiée (en jour)]],JF),WORKDAY(Rec[[#This Row],[date début prise en charge]],Rec[[#This Row],[Charge plannifiée (en jour)]]-1,JF))) -> 42593 | Y8: Collab 1 | Z8: {=IF(Rec[[#This Row],[date début prise en charge]]="","",SUMPRODUCT((couv<>0)*(capadates>=Rec[[#This Row],[date début prise en charge]])*(capadates<=Rec[[#This Row],[date fin selon charge plannifiée]])*(capacollab=Rec[[#This Row],[Concepteur]])))} -> 1
G9: 42590 | I9: 42588 | N9: =IF(Rec[[#This Row],[TTM souhaité SFR]]="","",MONTH(Rec[[#This Row],[TTM souhaité SFR]])) -> 8 | O9: =IF(Rec[[#This Row],[TTM souhaité SFR]]="","",WEEKNUM(Rec[[#This Row],[TTM souhaité SFR]])) -> 33 | S9: LSA - Test | V9: 1 | X9: =IF(Rec[[#This Row],[date début prise en charge]]="","",IF(Rec[[#This Row],[Charge plannifiée (en jour)]]<1,WORKDAY(Rec[[#This Row],[date début prise en charge]],Rec[[#This Row],[Charge plannifiée (en jour)]],JF),WORKDAY(Rec[[#This Row],[date début prise en charge]],Rec[[#This Row],[Charge plannifiée (en jour)]]-1,JF))) | Y9: Collab 1 | Z9: {=IF(Rec[[#This Row],[date début prise en charge]]="","",SUMPRODUCT((couv<>0)*(capadates>=Rec[[#This Row],[date début prise en charge]])*(capadates<=Rec[[#This Row],[date fin selon charge plannifiée]])*(capacollab=Rec[[#This Row],[Concepteur]])))}
A10: D001 | N10: =IF(Rec[[#This Row],[TTM souhaité SFR]]="","",MONTH(Rec[[#This Row],[TTM souhaité SFR]])) | O10: =IF(Rec[[#This Row],[TTM souhaité SFR]]="","",WEEKNUM(Rec[[#This Row],[TTM souhaité SFR]])) | X10: =IF(Rec[[#This Row],[date début prise en charge]]="","",IF(Rec[[#This Row],[Charge plannifiée (en jour)]]<1,WORKDAY(Rec[[#This Row],[date début prise en charge]],Rec[[#This Row],[Charge plannifiée (en jour)]],JF),WORKDAY(Rec[[#This Row],[date début prise en charge]],Rec[[#This Row],[Charge plannifiée (en jour)]]-1,JF))) | Z10: {=IF(Rec[[#This Row],[date début prise en charge]]="","",SUMPRODUCT((couv<>0)*(capadates>=Rec[[#This Row],[date début prise en charge]])*(capadates<=Rec[[#This Row],[date fin selon charge plannifiée]])*(capacollab=Rec[[#This Row],[Concepteur]])))}

Sheet Paramètres
A2: Plan de couv - codes | J2: JOURS FERIES
A3: P | B3: Présent
A4: C | B4: Congés
A5: Mal | B5: Maladie | J5: =DATE(AN,1,1) -> 42370 | K5: Nouvel An
A6: Abs | B6: Absence non planifiée | J6: =FLOOR(DATE(AN,5,DAY(MINUTE(AN/38)/2+56)),7)-34 -> 42456 | K6: Pâques
A7: R | B7: Repos journée | J7: =FLOOR(DATE(AN,5,DAY(MINUTE(AN/38)/2+56)),7)-33 -> 42457 | K7: Lundi de Pâques
A8: Ram | B8: Repos matin | J8: =DATE(AN,5,1) -> 42491 | K8: Fête du travail
A9: Rpm | B9: Repos après midi | J9: =DATE(AN,5,8) -> 42498 | K9: Victoire
J10: =FLOOR(DATE(AN,5,DAY(MINUTE(AN/38)/2+56)),7)+15 -> 42505 | K10: Pentecôte
J11: =FLOOR(DATE(AN,5,DAY(MINUTE(AN/38)/2+56)),7)+16 -> 42506 | K11: Lundi de pentecôte
J12: =DATE(AN,7,14) -> 42565 | K12: Fête nationale
J13: =DATE(AN,8,15) -> 42597 | K13: Assomption
J14: =DATE(AN,11,1) -> 42675 | K14: Toussaint
J15: =DATE(AN,11,11) -> 42685 | K15: Armistice
J16: =DATE(AN,12,25) -> 42729 | K16: Noël
J17: =IF(COUNTIF(J5:J16,FLOOR(DATE(AN,5,DAY(MINUTE(AN/38)/2+56)),7)+5),"0",FLOOR(DATE(AN,5,DAY(MINUTE(AN/38)/2+56)),7)+5) -> 42495 | K17: Ascension

Sheet Capa
R5: mois | S5: semaine | T5: date | U5: jour | V5: ='Plan de couv'!E7 -> Collab 1 | W5: ='Plan de couv'!F7 -> Collab 2 | X5: ='Plan de couv'!G7 -> Collab 3 | Y5: ='Plan de couv'!H7 -> Collab 4 | Z5: ='Plan de couv'!I7 -> Collab 5 | AA5: ='Plan de couv'!J7 -> Collab 6 | AB5: ='Plan de couv'!K7 -> Collab 7 | AC5: ='Plan de couv'!L7 -> Collab 8 | ... AP5: ='Plan de couv'!Y7 -> Collab 21
R6: =MONTH(T6) -> 1 | S6: =WEEKNUM(T6) -> 1 | T6: =DATE(AN,1,1) -> 42370 | U6: =WEEKDAY(T6) -> 6 | V6: =COUNTIFS('Plan de couv'!$C$8:$C$373,Capa!$T6,'Plan de couv'!E$8:E$373,Paramètres!$A$3)+COUNTIFS('Plan de couv'!$C$8:$C$373,Capa!$T6,'Plan de couv'!E$8:E$373,Paramètres!$A$8)/2+COUNTIFS('Plan de couv'!$C$8:$C$373,Capa!$T6,'Plan de couv'!E$8:E$373,Paramètres!$A$9)/2 -> 0 | W6: =COUNTIFS('Plan de couv'!$C$8:$C$373,Capa!$T6,'Plan de couv'!F$8:F$373,Paramètres!$A$3)+COUNTIFS('Plan de couv'!$C$8:$C$373,Capa!$T6,'Plan de couv'!F$8:F$373,Paramètres!$A$8)/2+COUNTIFS('Plan de couv'!$C$8:$C$373,Capa!$T6,'Plan de couv'!F$8:F$373,Paramètres!$A$9)/2 -> 0 | X6: =COUNTIFS('Plan de couv'!$C$8:$C$373,Capa!$T6,'Plan de couv'!G$8:G$373,Paramètres!$A$3)+COUNTIFS('Plan de couv'!$C$8:$C$373,Capa!$T6,'Plan de couv'!G$8:G$373,Paramètres!$A$8)/2+COUNTIFS('Plan de couv'!$C$8:$C$373,Capa!$T6,'Plan de couv'!G$8:G$373,Paramètres!$A$9)/2 -> 0 | Y6: =COUNTIFS('Plan de couv'!$C$8:$C$373,Capa!$T6,'Plan de couv'!H$8:H$373,Paramètres!$A$3)+COUNTIFS('Plan de couv'!$C$8:$C$373,Capa!$T6,'Plan de couv'!H$8:H$373,Paramètres!$A$8)/2+COUNTIFS('Plan de couv'!$C$8:$C$373,Capa!$T6,'Plan de couv'!H$8:H$373,Paramètres!$A$9)/2 -> 0 | Z6: =COUNTIFS('Plan de couv'!$C$8:$C$373,Capa!$T6,'Plan de couv'!I$8:I$373,Paramètres!$A$3)+COUNTIFS('Plan de couv'!$C$8:$C$373,Capa!$T6,'Plan de couv'!I$8:I$373,Paramètres!$A$8)/2+COUNTIFS('Plan de couv'!$C$8:$C$373,Capa!$T6,'Plan de couv'!I$8:I$373,Paramètres!$A$9)/2 -> 0 | AA6: =COUNTIFS('Plan de couv'!$C$8:$C$373,Capa!$T6,'Plan de couv'!J$8:J$373,Paramètres!$A$3)+COUNTIFS('Plan de couv'!$C$8:$C$373,Capa!$T6,'Plan de couv'!J$8:J$373,Paramètres!$A$8)/2+COUNTIFS('Plan de couv'!$C$8:$C$373,Capa!$T6,'Plan de couv'!J$8:J$373,Paramètres!$A$9)/2 -> 0 | AB6: =COUNTIFS('Plan de couv'!$C$8:$C$373,Capa!$T6,'Plan de couv'!K$8:K$373,Paramètres!$A$3)+COUNTIFS('Plan de couv'!$C$8:$C$373,Capa!$T6,'Plan de couv'!K$8:K$373,Paramètres!$A$8)/2+COUNTIFS('Plan de couv'!$C$8:$C$373,Capa!$T6,'Plan de couv'!K$8:K$373,Paramètres!$A$9)/2 -> 0 | AC6: =COUNTIFS('Plan de couv'!$C$8:$C$373,Capa!$T6,'Plan de couv'!L$8:L$373,Paramètres!$A$3)+COUNTIFS('Plan de couv'!$C$8:$C$373,Capa!$T6,'Plan de couv'!L$8:L$373,Paramètres!$A$8)/2+COUNTIFS('Plan de couv'!$C$8:$C$373,Capa!$T6,'Plan de couv'!L$8:L$373,Paramètres!$A$9)/2 -> 0 | ... AP6: =COUNTIFS('Plan de couv'!$C$8:$C$373,Capa!$T6,'Plan de couv'!Y$8:Y$373,Paramètres!$A$3)+COUNTIFS('Plan de couv'!$C$8:$C$373,Capa!$T6,'Plan de couv'!Y$8:Y$373,Paramètres!$A$8)/2+COUNTIFS('Plan de couv'!$C$8:$C$373,Capa!$T6,'Plan de couv'!Y$8:Y$373,Paramètres!$A$9)/2 -> 0
R7: =MONTH(T7) -> 1 | S7: =WEEKNUM(T7) -> 1 | T7: =T6+1 -> 42371 | U7: =WEEKDAY(T7) -> 7 | V7: =COUNTIFS('Plan de couv'!$C$8:$C$373,Capa!$T7,'Plan de couv'!E$8:E$373,Paramètres!$A$3)+COUNTIFS('Plan de couv'!$C$8:$C$373,Capa!$T7,'Plan de couv'!E$8:E$373,Paramètres!$A$8)/2+COUNTIFS('Plan de couv'!$C$8:$C$373,Capa!$T7,'Plan de couv'!E$8:E$373,Paramètres!$A$9)/2 -> 0 | W7: =COUNTIFS('Plan de couv'!$C$8:$C$373,Capa!$T7,'Plan de couv'!F$8:F$373,Paramètres!$A$3)+COUNTIFS('Plan de couv'!$C$8:$C$373,Capa!$T7,'Plan de couv'!F$8:F$373,Paramètres!$A$8)/2+COUNTIFS('Plan de couv'!$C$8:$C$373,Capa!$T7,'Plan de couv'!F$8:F$373,Paramètres!$A$9)/2 -> 0 | X7: =COUNTIFS('Plan de couv'!$C$8:$C$373,Capa!$T7,'Plan de couv'!G$8:G$373,Paramètres!$A$3)+COUNTIFS('Plan de couv'!$C$8:$C$373,Capa!$T7,'Plan de couv'!G$8:G$373,Paramètres!$A$8)/2+COUNTIFS('Plan de couv'!$C$8:$C$373,Capa!$T7,'Plan de couv'!G$8:G$373,Paramètres!$A$9)/2 -> 0 | Y7: =COUNTIFS('Plan de couv'!$C$8:$C$373,Capa!$T7,'Plan de couv'!H$8:H$373,Paramètres!$A$3)+COUNTIFS('Plan de couv'!$C$8:$C$373,Capa!$T7,'Plan de couv'!H$8:H$373,Paramètres!$A$8)/2+COUNTIFS('Plan de couv'!$C$8:$C$373,Capa!$T7,'Plan de couv'!H$8:H$373,Paramètres!$A$9)/2 -> 0 | Z7: =COUNTIFS('Plan de couv'!$C$8:$C$373,Capa!$T7,'Plan de couv'!I$8:I$373,Paramètres!$A$3)+COUNTIFS('Plan de couv'!$C$8:$C$373,Capa!$T7,'Plan de couv'!I$8:I$373,Paramètres!$A$8)/2+COUNTIFS('Plan de couv'!$C$8:$C$373,Capa!$T7,'Plan de couv'!I$8:I$373,Paramètres!$A$9)/2 -> 0 | AA7: =COUNTIFS('Plan de couv'!$C$8:$C$373,Capa!$T7,'Plan de couv'!J$8:J$373,Paramètres!$A$3)+COUNTIFS('Plan de couv'!$C$8:$C$373,Capa!$T7,'Plan de couv'!J$8:J$373,Paramètres!$A$8)/2+COUNTIFS('Plan de couv'!$C$8:$C$373,Capa!$T7,'Plan de couv'!J$8:J$373,Paramètres!$A$9)/2 -> 0 | AB7: =COUNTIFS('Plan de couv'!$C$8:$C$373,Capa!$T7,'Plan de couv'!K$8:K$373,Paramètres!$A$3)+COUNTIFS('Plan de couv'!$C$8:$C$373,Capa!$T7,'Plan de couv'!K$8:K$373,Paramètres!$A$8)/2+COUNTIFS('Plan de couv'!$C$8:$C$373,Capa!$T7,'Plan de couv'!K$8:K$373,Paramètres!$A$9)/2 -> 0 | AC7: =COUNTIFS('Plan de couv'!$C$8:$C$373,Capa!$T7,'Plan de couv'!L$8:L$373,Paramètres!$A$3)+COUNTIFS('Plan de couv'!$C$8:$C$373,Capa!$T7,'Plan de couv'!L$8:L$373,Paramètres!$A$8)/2+COUNTIFS('Plan de couv'!$C$8:$C$373,Capa!$T7,'Plan de couv'!L$8:L$373,Paramètres!$A$9)/2 -> 0 | ... AP7: =COUNTIFS('Plan de couv'!$C$8:$C$373,Capa!$T7,'Plan de couv'!Y$8:Y$373,Paramètres!$A$3)+COUNTIFS('Plan de couv'!$C$8:$C$373,Capa!$T7,'Plan de couv'!Y$8:Y$373,Paramètres!$A$8)/2+COUNTIFS('Plan de couv'!$C$8:$C$373,Capa!$T7,'Plan de couv'!Y$8:Y$373,Paramètres!$A$9)/2 -> 0
R8: =MONTH(T8) -> 1 | S8: =WEEKNUM(T8) -> 2 | T8: =T7+1 -> 42372 | U8: =WEEKDAY(T8) -> 1 | V8: =COUNTIFS('Plan de couv'!$C$8:$C$373,Capa!$T8,'Plan de couv'!E$8:E$373,Paramètres!$A$3)+COUNTIFS('Plan de couv'!$C$8:$C$373,Capa!$T8,'Plan de couv'!E$8:E$373,Paramètres!$A$8)/2+COUNTIFS('Plan de couv'!$C$8:$C$373,Capa!$T8,'Plan de couv'!E$8:E$373,Paramètres!$A$9)/2 -> 0 | W8: =COUNTIFS('Plan de couv'!$C$8:$C$373,Capa!$T8,'Plan de couv'!F$8:F$373,Paramètres!$A$3)+COUNTIFS('Plan de couv'!$C$8:$C$373,Capa!$T8,'Plan de couv'!F$8:F$373,Paramètres!$A$8)/2+COUNTIFS('Plan de couv'!$C$8:$C$373,Capa!$T8,'Plan de couv'!F$8:F$373,Paramètres!$A$9)/2 -> 0 | X8: =COUNTIFS('Plan de couv'!$C$8:$C$373,Capa!$T8,'Plan de couv'!G$8:G$373,Paramètres!$A$3)+COUNTIFS('Plan de couv'!$C$8:$C$373,Capa!$T8,'Plan de couv'!G$8:G$373,Paramètres!$A$8)/2+COUNTIFS('Plan de couv'!$C$8:$C$373,Capa!$T8,'Plan de couv'!G$8:G$373,Paramètres!$A$9)/2 -> 0 | Y8: =COUNTIFS('Plan de couv'!$C$8:$C$373,Capa!$T8,'Plan de couv'!H$8:H$373,Paramètres!$A$3)+COUNTIFS('Plan de couv'!$C$8:$C$373,Capa!$T8,'Plan de couv'!H$8:H$373,Paramètres!$A$8)/2+COUNTIFS('Plan de couv'!$C$8:$C$373,Capa!$T8,'Plan de couv'!H$8:H$373,Paramètres!$A$9)/2 -> 0 | Z8: =COUNTIFS('Plan de couv'!$C$8:$C$373,Capa!$T8,'Plan de couv'!I$8:I$373,Paramètres!$A$3)+COUNTIFS('Plan de couv'!$C$8:$C$373,Capa!$T8,'Plan de couv'!I$8:I$373,Paramètres!$A$8)/2+COUNTIFS('Plan de couv'!$C$8:$C$373,Capa!$T8,'Plan de couv'!I$8:I$373,Paramètres!$A$9)/2 -> 0 | AA8: =COUNTIFS('Plan de couv'!$C$8:$C$373,Capa!$T8,'Plan de couv'!J$8:J$373,Paramètres!$A$3)+COUNTIFS('Plan de couv'!$C$8:$C$373,Capa!$T8,'Plan de couv'!J$8:J$373,Paramètres!$A$8)/2+COUNTIFS('Plan de couv'!$C$8:$C$373,Capa!$T8,'Plan de couv'!J$8:J$373,Paramètres!$A$9)/2 -> 0 | AB8: =COUNTIFS('Plan de couv'!$C$8:$C$373,Capa!$T8,'Plan de couv'!K$8:K$373,Paramètres!$A$3)+COUNTIFS('Plan de couv'!$C$8:$C$373,Capa!$T8,'Plan de couv'!K$8:K$373,Paramètres!$A$8)/2+COUNTIFS('Plan de couv'!$C$8:$C$373,Capa!$T8,'Plan de couv'!K$8:K$373,Paramètres!$A$9)/2 -> 0 | AC8: =COUNTIFS('Plan de couv'!$C$8:$C$373,Capa!$T8,'Plan de couv'!L$8:L$373,Paramètres!$A$3)+COUNTIFS('Plan de couv'!$C$8:$C$373,Capa!$T8,'Plan de couv'!L$8:L$373,Paramètres!$A$8)/2+COUNTIFS('Plan de couv'!$C$8:$C$373,Capa!$T8,'Plan de couv'!L$8:L$373,Paramètres!$A$9)/2 -> 0 | ... AP8: =COUNTIFS('Plan de couv'!$C$8:$C$373,Capa!$T8,'Plan de couv'!Y$8:Y$373,Paramètres!$A$3)+COUNTIFS('Plan de couv'!$C$8:$C$373,Capa!$T8,'Plan de couv'!Y$8:Y$373,Paramètres!$A$8)/2+COUNTIFS('Plan de couv'!$C$8:$C$373,Capa!$T8,'Plan de couv'!Y$8:Y$373,Paramètres!$A$9)/2 -> 0
R9: =MONTH(T9) -> 1 | S9: =WEEKNUM(T9) -> 2 | T9: =T8+1 -> 42373 | U9: =WEEKDAY(T9) -> 2 | V9: =COUNTIFS('Plan de couv'!$C$8:$C$373,Capa!$T9,'Plan de couv'!E$8:E$373,Paramètres!$A$3)+COUNTIFS('Plan de couv'!$C$8:$C$373,Capa!$T9,'Plan de couv'!E$8:E$373,Paramètres!$A$8)/2+COUNTIFS('Plan de couv'!$C$8:$C$373,Capa!$T9,'Plan de couv'!E$8:E$373,Paramètres!$A$9)/2 -> 0 | W9: =COUNTIFS('Plan de couv'!$C$8:$C$373,Capa!$T9,'Plan de couv'!F$8:F$373,Paramètres!$A$3)+COUNTIFS('Plan de couv'!$C$8:$C$373,Capa!$T9,'Plan de couv'!F$8:F$373,Paramètres!$A$8)/2+COUNTIFS('Plan de couv'!$C$8:$C$373,Capa!$T9,'Plan de couv'!F$8:F$373,Paramètres!$A$9)/2 -> 0 | X9: =COUNTIFS('Plan de couv'!$C$8:$C$373,Capa!$T9,'Plan de couv'!G$8:G$373,Paramètres!$A$3)+COUNTIFS('Plan de couv'!$C$8:$C$373,Capa!$T9,'Plan de couv'!G$8:G$373,Paramètres!$A$8)/2+COUNTIFS('Plan de couv'!$C$8:$C$373,Capa!$T9,'Plan de couv'!G$8:G$373,Paramètres!$A$9)/2 -> 0 | Y9: =COUNTIFS('Plan de couv'!$C$8:$C$373,Capa!$T9,'Plan de couv'!H$8:H$373,Paramètres!$A$3)+COUNTIFS('Plan de couv'!$C$8:$C$373,Capa!$T9,'Plan de couv'!H$8:H$373,Paramètres!$A$8)/2+COUNTIFS('Plan de couv'!$C$8:$C$373,Capa!$T9,'Plan de couv'!H$8:H$373,Paramètres!$A$9)/2 -> 0 | Z9: =COUNTIFS('Plan de couv'!$C$8:$C$373,Capa!$T9,'Plan de couv'!I$8:I$373,Paramètres!$A$3)+COUNTIFS('Plan de couv'!$C$8:$C$373,Capa!$T9,'Plan de couv'!I$8:I$373,Paramètres!$A$8)/2+COUNTIFS('Plan de couv'!$C$8:$C$373,Capa!$T9,'Plan de couv'!I$8:I$373,Paramètres!$A$9)/2 -> 0 | AA9: =COUNTIFS('Plan de couv'!$C$8:$C$373,Capa!$T9,'Plan de couv'!J$8:J$373,Paramètres!$A$3)+COUNTIFS('Plan de couv'!$C$8:$C$373,Capa!$T9,'Plan de couv'!J$8:J$373,Paramètres!$A$8)/2+COUNTIFS('Plan de couv'!$C$8:$C$373,Capa!$T9,'Plan de couv'!J$8:J$373,Paramètres!$A$9)/2 -> 0 | AB9: =COUNTIFS('Plan de couv'!$C$8:$C$373,Capa!$T9,'Plan de couv'!K$8:K$373,Paramètres!$A$3)+COUNTIFS('Plan de couv'!$C$8:$C$373,Capa!$T9,'Plan de couv'!K$8:K$373,Paramètres!$A$8)/2+COUNTIFS('Plan de couv'!$C$8:$C$373,Capa!$T9,'Plan de couv'!K$8:K$373,Paramètres!$A$9)/2 -> 0 | AC9: =COUNTIFS('Plan de couv'!$C$8:$C$373,Capa!$T9,'Plan de couv'!L$8:L$373,Paramètres!$A$3)+COUNTIFS('Plan de couv'!$C$8:$C$373,Capa!$T9,'Plan de couv'!L$8:L$373,Paramètres!$A$8)/2+COUNTIFS('Plan de couv'!$C$8:$C$373,Capa!$T9,'Plan de couv'!L$8:L$373,Paramètres!$A$9)/2 -> 0 | ... AP9: =COUNTIFS('Plan de couv'!$C$8:$C$373,Capa!$T9,'Plan de couv'!Y$8:Y$373,Paramètres!$A$3)+COUNTIFS('Plan de couv'!$C$8:$C$373,Capa!$T9,'Plan de couv'!Y$8:Y$373,Paramètres!$A$8)/2+COUNTIFS('Plan de couv'!$C$8:$C$373,Capa!$T9,'Plan de couv'!Y$8:Y$373,Paramètres!$A$9)/2 -> 0
R10: =MONTH(T10) -> 1 | S10: =WEEKNUM(T10) -> 2 | T10: =T9+1 -> 42374 | U10: =WEEKDAY(T10) -> 3 | V10: =COUNTIFS('Plan de couv'!$C$8:$C$373,Capa!$T10,'Plan de couv'!E$8:E$373,Paramètres!$A$3)+COUNTIFS('Plan de couv'!$C$8:$C$373,Capa!$T10,'Plan de couv'!E$8:E$373,Paramètres!$A$8)/2+COUNTIFS('Plan de couv'!$C$8:$C$373,Capa!$T10,'Plan de couv'!E$8:E$373,Paramètres!$A$9)/2 -> 0 | W10: =COUNTIFS('Plan de couv'!$C$8:$C$373,Capa!$T10,'Plan de couv'!F$8:F$373,Paramètres!$A$3)+COUNTIFS('Plan de couv'!$C$8:$C$373,Capa!$T10,'Plan de couv'!F$8:F$373,Paramètres!$A$8)/2+COUNTIFS('Plan de couv'!$C$8:$C$373,Capa!$T10,'Plan de couv'!F$8:F$373,Paramètres!$A$9)/2 -> 0 | X10: =COUNTIFS('Plan de couv'!$C$8:$C$373,Capa!$T10,'Plan de couv'!G$8:G$373,Paramètres!$A$3)+COUNTIFS('Plan de couv'!$C$8:$C$373,Capa!$T10,'Plan de couv'!G$8:G$373,Paramètres!$A$8)/2+COUNTIFS('Plan de couv'!$C$8:$C$373,Capa!$T10,'Plan de couv'!G$8:G$373,Paramètres!$A$9)/2 -> 0 | Y10: =COUNTIFS('Plan de couv'!$C$8:$C$373,Capa!$T10,'Plan de couv'!H$8:H$373,Paramètres!$A$3)+COUNTIFS('Plan de couv'!$C$8:$C$373,Capa!$T10,'Plan de couv'!H$8:H$373,Paramètres!$A$8)/2+COUNTIFS('Plan de couv'!$C$8:$C$373,Capa!$T10,'Plan de couv'!H$8:H$373,Paramètres!$A$9)/2 -> 0 | Z10: =COUNTIFS('Plan de couv'!$C$8:$C$373,Capa!$T10,'Plan de couv'!I$8:I$373,Paramètres!$A$3)+COUNTIFS('Plan de couv'!$C$8:$C$373,Capa!$T10,'Plan de couv'!I$8:I$373,Paramètres!$A$8)/2+COUNTIFS('Plan de couv'!$C$8:$C$373,Capa!$T10,'Plan de couv'!I$8:I$373,Paramètres!$A$9)/2 -> 0 | AA10: =COUNTIFS('Plan de couv'!$C$8:$C$373,Capa!$T10,'Plan de couv'!J$8:J$373,Paramètres!$A$3)+COUNTIFS('Plan de couv'!$C$8:$C$373,Capa!$T10,'Plan de couv'!J$8:J$373,Paramètres!$A$8)/2+COUNTIFS('Plan de couv'!$C$8:$C$373,Capa!$T10,'Plan de couv'!J$8:J$373,Paramètres!$A$9)/2 -> 0 | AB10: =COUNTIFS('Plan de couv'!$C$8:$C$373,Capa!$T10,'Plan de couv'!K$8:K$373,Paramètres!$A$3)+COUNTIFS('Plan de couv'!$C$8:$C$373,Capa!$T10,'Plan de couv'!K$8:K$373,Paramètres!$A$8)/2+COUNTIFS('Plan de couv'!$C$8:$C$373,Capa!$T10,'Plan de couv'!K$8:K$373,Paramètres!$A$9)/2 -> 0 | AC10: =COUNTIFS('Plan de couv'!$C$8:$C$373,Capa!$T10,'Plan de couv'!L$8:L$373,Paramètres!$A$3)+COUNTIFS('Plan de couv'!$C$8:$C$373,Capa!$T10,'Plan de couv'!L$8:L$373,Paramètres!$A$8)/2+COUNTIFS('Plan de couv'!$C$8:$C$373,Capa!$T10,'Plan de couv'!L$8:L$373,Paramètres!$A$9)/2 -> 0 | ... AP10: =COUNTIFS('Plan de couv'!$C$8:$C$373,Capa!$T10,'Plan de couv'!Y$8:Y$373,Paramètres!$A$3)+COUNTIFS('Plan de couv'!$C$8:$C$373,Capa!$T10,'Plan de couv'!Y$8:Y$373,Paramètres!$A$8)/2+COUNTIFS('Plan de couv'!$C$8:$C$373,Capa!$T10,'Plan de couv'!Y$8:Y$373,Paramètres!$A$9)/2 -> 0
R11: =MONTH(T11) -> 1 | S11: =WEEKNUM(T11) -> 2 | T11: =T10+1 -> 42375 | U11: =WEEKDAY(T11) -> 4 | V11: =COUNTIFS('Plan de couv'!$C$8:$C$373,Capa!$T11,'Plan de couv'!E$8:E$373,Paramètres!$A$3)+COUNTIFS('Plan de couv'!$C$8:$C$373,Capa!$T11,'Plan de couv'!E$8:E$373,Paramètres!$A$8)/2+COUNTIFS('Plan de couv'!$C$8:$C$373,Capa!$T11,'Plan de couv'!E$8:E$373,Paramètres!$A$9)/2 -> 0 | W11: =COUNTIFS('Plan de couv'!$C$8:$C$373,Capa!$T11,'Plan de couv'!F$8:F$373,Paramètres!$A$3)+COUNTIFS('Plan de couv'!$C$8:$C$373,Capa!$T11,'Plan de couv'!F$8:F$373,Paramètres!$A$8)/2+COUNTIFS('Plan de couv'!$C$8:$C$373,Capa!$T11,'Plan de couv'!F$8:F$373,Paramètres!$A$9)/2 -> 0 | X11: =COUNTIFS('Plan de couv'!$C$8:$C$373,Capa!$T11,'Plan de couv'!G$8:G$373,Paramètres!$A$3)+COUNTIFS('Plan de couv'!$C$8:$C$373,Capa!$T11,'Plan de couv'!G$8:G$373,Paramètres!$A$8)/2+COUNTIFS('Plan de couv'!$C$8:$C$373,Capa!$T11,'Plan de couv'!G$8:G$373,Paramètres!$A$9)/2 -> 0 | Y11: =COUNTIFS('Plan de couv'!$C$8:$C$373,Capa!$T11,'Plan de couv'!H$8:H$373,Paramètres!$A$3)+COUNTIFS('Plan de couv'!$C$8:$C$373,Capa!$T11,'Plan de couv'!H$8:H$373,Paramètres!$A$8)/2+COUNTIFS('Plan de couv'!$C$8:$C$373,Capa!$T11,'Plan de couv'!H$8:H$373,Paramètres!$A$9)/2 -> 0 | Z11: =COUNTIFS('Plan de couv'!$C$8:$C$373,Capa!$T11,'Plan de couv'!I$8:I$373,Paramètres!$A$3)+COUNTIFS('Plan de couv'!$C$8:$C$373,Capa!$T11,'Plan de couv'!I$8:I$373,Paramètres!$A$8)/2+COUNTIFS('Plan de couv'!$C$8:$C$373,Capa!$T11,'Plan de couv'!I$8:I$373,Paramètres!$A$9)/2 -> 0 | AA11: =COUNTIFS('Plan de couv'!$C$8:$C$373,Capa!$T11,'Plan de couv'!J$8:J$373,Paramètres!$A$3)+COUNTIFS('Plan de couv'!$C$8:$C$373,Capa!$T11,'Plan de couv'!J$8:J$373,Paramètres!$A$8)/2+COUNTIFS('Plan de couv'!$C$8:$C$373,Capa!$T11,'Plan de couv'!J$8:J$373,Paramètres!$A$9)/2 -> 0 | AB11: =COUNTIFS('Plan de couv'!$C$8:$C$373,Capa!$T11,'Plan de couv'!K$8:K$373,Paramètres!$A$3)+COUNTIFS('Plan de couv'!$C$8:$C$373,Capa!$T11,'Plan de couv'!K$8:K$373,Paramètres!$A$8)/2+COUNTIFS('Plan de couv'!$C$8:$C$373,Capa!$T11,'Plan de couv'!K$8:K$373,Paramètres!$A$9)/2 -> 0 | AC11: =COUNTIFS('Plan de couv'!$C$8:$C$373,Capa!$T11,'Plan de couv'!L$8:L$373,Paramètres!$A$3)+COUNTIFS('Plan de couv'!$C$8:$C$373,Capa!$T11,'Plan de couv'!L$8:L$373,Paramètres!$A$8)/2+COUNTIFS('Plan de couv'!$C$8:$C$373,Capa!$T11,'Plan de couv'!L$8:L$373,Paramètres!$A$9)/2 -> 0 | ... AP11: =COUNTIFS('Plan de couv'!$C$8:$C$373,Capa!$T11,'Plan de couv'!Y$8:Y$373,Paramètres!$A$3)+COUNTIFS('Plan de couv'!$C$8:$C$373,Capa!$T11,'Plan de couv'!Y$8:Y$373,Paramètres!$A$8)/2+COUNTIFS('Plan de couv'!$C$8:$C$373,Capa!$T11,'Plan de couv'!Y$8:Y$373,Paramètres!$A$9)/2 -> 0
R12: =MONTH(T12) -> 1 | S12: =WEEKNUM(T12) -> 2 | T12: =T11+1 -> 42376 | U12: =WEEKDAY(T12) -> 5 | V12: =COUNTIFS('Plan de couv'!$C$8:$C$373,Capa!$T12,'Plan de couv'!E$8:E$373,Paramètres!$A$3)+COUNTIFS('Plan de couv'!$C$8:$C$373,Capa!$T12,'Plan de couv'!E$8:E$373,Paramètres!$A$8)/2+COUNTIFS('Plan de couv'!$C$8:$C$373,Capa!$T12,'Plan de couv'!E$8:E$373,Paramètres!$A$9)/2 -> 0 | W12: =COUNTIFS('Plan de couv'!$C$8:$C$373,Capa!$T12,'Plan de couv'!F$8:F$373,Paramètres!$A$3)+COUNTIFS('Plan de couv'!$C$8:$C$373,Capa!$T12,'Plan de couv'!F$8:F$373,Paramètres!$A$8)/2+COUNTIFS('Plan de couv'!$C$8:$C$373,Capa!$T12,'Plan de couv'!F$8:F$373,Paramètres!$A$9)/2 -> 0 | X12: =COUNTIFS('Plan de couv'!$C$8:$C$373,Capa!$T12,'Plan de couv'!G$8:G$373,Paramètres!$A$3)+COUNTIFS('Plan de couv'!$C$8:$C$373,Capa!$T12,'Plan de couv'!G$8:G$373,Paramètres!$A$8)/2+COUNTIFS('Plan de couv'!$C$8:$C$373,Capa!$T12,'Plan de couv'!G$8:G$373,Paramètres!$A$9)/2 -> 0 | Y12: =COUNTIFS('Plan de couv'!$C$8:$C$373,Capa!$T12,'Plan de couv'!H$8:H$373,Paramètres!$A$3)+COUNTIFS('Plan de couv'!$C$8:$C$373,Capa!$T12,'Plan de couv'!H$8:H$373,Paramètres!$A$8)/2+COUNTIFS('Plan de couv'!$C$8:$C$373,Capa!$T12,'Plan de couv'!H$8:H$373,Paramètres!$A$9)/2 -> 0 | Z12: =COUNTIFS('Plan de couv'!$C$8:$C$373,Capa!$T12,'Plan de couv'!I$8:I$373,Paramètres!$A$3)+COUNTIFS('Plan de couv'!$C$8:$C$373,Capa!$T12,'Plan de couv'!I$8:I$373,Paramètres!$A$8)/2+COUNTIFS('Plan de couv'!$C$8:$C$373,Capa!$T12,'Plan de couv'!I$8:I$373,Paramètres!$A$9)/2 -> 0 | AA12: =COUNTIFS('Plan de couv'!$C$8:$C$373,Capa!$T12,'Plan de couv'!J$8:J$373,Paramètres!$A$3)+COUNTIFS('Plan de couv'!$C$8:$C$373,Capa!$T12,'Plan de couv'!J$8:J$373,Paramètres!$A$8)/2+COUNTIFS('Plan de couv'!$C$8:$C$373,Capa!$T12,'Plan de couv'!J$8:J$373,Paramètres!$A$9)/2 -> 0 | AB12: =COUNTIFS('Plan de couv'!$C$8:$C$373,Capa!$T12,'Plan de couv'!K$8:K$373,Paramètres!$A$3)+COUNTIFS('Plan de couv'!$C$8:$C$373,Capa!$T12,'Plan de couv'!K$8:K$373,Paramètres!$A$8)/2+COUNTIFS('Plan de couv'!$C$8:$C$373,Capa!$T12,'Plan de couv'!K$8:K$373,Paramètres!$A$9)/2 -> 0 | AC12: =COUNTIFS('Plan de couv'!$C$8:$C$373,Capa!$T12,'Plan de couv'!L$8:L$373,Paramètres!$A$3)+COUNTIFS('Plan de couv'!$C$8:$C$373,Capa!$T12,'Plan de couv'!L$8:L$373,Paramètres!$A$8)/2+COUNTIFS('Plan de couv'!$C$8:$C$373,Capa!$T12,'Plan de couv'!L$8:L$373,Paramètres!$A$9)/2 -> 0 | ... AP12: =COUNTIFS('Plan de couv'!$C$8:$C$373,Capa!$T12,'Plan de couv'!Y$8:Y$373,Paramètres!$A$3)+COUNTIFS('Plan de couv'!$C$8:$C$373,Capa!$T12,'Plan de couv'!Y$8:Y$373,Paramètres!$A$8)/2+COUNTIFS('Plan de couv'!$C$8:$C$373,Capa!$T12,'Plan de couv'!Y$8:Y$373,Paramètres!$A$9)/2 -> 0
R13: =MONTH(T13) -> 1 | S13: =WEEKNUM(T13) -> 2 | T13: =T12+1 -> 42377 | U13: =WEEKDAY(T13) -> 6 | V13: =COUNTIFS('Plan de couv'!$C$8:$C$373,Capa!$T13,'Plan de couv'!E$8:E$373,Paramètres!$A$3)+COUNTIFS('Plan de couv'!$C$8:$C$373,Capa!$T13,'Plan de couv'!E$8:E$373,Paramètres!$A$8)/2+COUNTIFS('Plan de couv'!$C$8:$C$373,Capa!$T13,'Plan de couv'!E$8:E$373,Paramètres!$A$9)/2 -> 0 | W13: =COUNTIFS('Plan de couv'!$C$8:$C$373,Capa!$T13,'Plan de couv'!F$8:F$373,Paramètres!$A$3)+COUNTIFS('Plan de couv'!$C$8:$C$373,Capa!$T13,'Plan de couv'!F$8:F$373,Paramètres!$A$8)/2+COUNTIFS('Plan de couv'!$C$8:$C$373,Capa!$T13,'Plan de couv'!F$8:F$373,Paramètres!$A$9)/2 -> 0 | X13: =COUNTIFS('Plan de couv'!$C$8:$C$373,Capa!$T13,'Plan de couv'!G$8:G$373,Paramètres!$A$3)+COUNTIFS('Plan de couv'!$C$8:$C$373,Capa!$T13,'Plan de couv'!G$8:G$373,Paramètres!$A$8)/2+COUNTIFS('Plan de couv'!$C$8:$C$373,Capa!$T13,'Plan de couv'!G$8:G$373,Paramètres!$A$9)/2 -> 0 | Y13: =COUNTIFS('Plan de couv'!$C$8:$C$373,Capa!$T13,'Plan de couv'!H$8:H$373,Paramètres!$A$3)+COUNTIFS('Plan de couv'!$C$8:$C$373,Capa!$T13,'Plan de couv'!H$8:H$373,Paramètres!$A$8)/2+COUNTIFS('Plan de couv'!$C$8:$C$373,Capa!$T13,'Plan de couv'!H$8:H$373,Paramètres!$A$9)/2 -> 0 | Z13: =COUNTIFS('Plan de couv'!$C$8:$C$373,Capa!$T13,'Plan de couv'!I$8:I$373,Paramètres!$A$3)+COUNTIFS('Plan de couv'!$C$8:$C$373,Capa!$T13,'Plan de couv'!I$8:I$373,Paramètres!$A$8)/2+COUNTIFS('Plan de couv'!$C$8:$C$373,Capa!$T13,'Plan de couv'!I$8:I$373,Paramètres!$A$9)/2 -> 0 | AA13: =COUNTIFS('Plan de couv'!$C$8:$C$373,Capa!$T13,'Plan de couv'!J$8:J$373,Paramètres!$A$3)+COUNTIFS('Plan de couv'!$C$8:$C$373,Capa!$T13,'Plan de couv'!J$8:J$373,Paramètres!$A$8)/2+COUNTIFS('Plan de couv'!$C$8:$C$373,Capa!$T13,'Plan de couv'!J$8:J$373,Paramètres!$A$9)/2 -> 0 | AB13: =COUNTIFS('Plan de couv'!$C$8:$C$373,Capa!$T13,'Plan de couv'!K$8:K$373,Paramètres!$A$3)+COUNTIFS('Plan de couv'!$C$8:$C$373,Capa!$T13,'Plan de couv'!K$8:K$373,Paramètres!$A$8)/2+COUNTIFS('Plan de couv'!$C$8:$C$373,Capa!$T13,'Plan de couv'!K$8:K$373,Paramètres!$A$9)/2 -> 0 | AC13: =COUNTIFS('Plan de couv'!$C$8:$C$373,Capa!$T13,'Plan de couv'!L$8:L$373,Paramètres!$A$3)+COUNTIFS('Plan de couv'!$C$8:$C$373,Capa!$T13,'Plan de couv'!L$8:L$373,Paramètres!$A$8)/2+COUNTIFS('Plan de couv'!$C$8:$C$373,Capa!$T13,'Plan de couv'!L$8:L$373,Paramètres!$A$9)/2 -> 0 | ... AP13: =COUNTIFS('Plan de couv'!$C$8:$C$373,Capa!$T13,'Plan de couv'!Y$8:Y$373,Paramètres!$A$3)+COUNTIFS('Plan de couv'!$C$8:$C$373,Capa!$T13,'Plan de couv'!Y$8:Y$373,Paramètres!$A$8)/2+COUNTIFS('Plan de couv'!$C$8:$C$373,Capa!$T13,'Plan de couv'!Y$8:Y$373,Paramètres!$A$9)/2 -> 0
R14: =MONTH(T14) -> 1 | S14: =WEEKNUM(T14) -> 2 | T14: =T13+1 -> 42378 | U14: =WEEKDAY(T14) -> 7 | V14: =COUNTIFS('Plan de couv'!$C$8:$C$373,Capa!$T14,'Plan de couv'!E$8:E$373,Paramètres!$A$3)+COUNTIFS('Plan de couv'!$C$8:$C$373,Capa!$T14,'Plan de couv'!E$8:E$373,Paramètres!$A$8)/2+COUNTIFS('Plan de couv'!$C$8:$C$373,Capa!$T14,'Plan de couv'!E$8:E$373,Paramètres!$A$9)/2 -> 0 | W14: =COUNTIFS('Plan de couv'!$C$8:$C$373,Capa!$T14,'Plan de couv'!F$8:F$373,Paramètres!$A$3)+COUNTIFS('Plan de couv'!$C$8:$C$373,Capa!$T14,'Plan de couv'!F$8:F$373,Paramètres!$A$8)/2+COUNTIFS('Plan de couv'!$C$8:$C$373,Capa!$T14,'Plan de couv'!F$8:F$373,Paramètres!$A$9)/2 -> 0 | X14: =COUNTIFS('Plan de couv'!$C$8:$C$373,Capa!$T14,'Plan de couv'!G$8:G$373,Paramètres!$A$3)+COUNTIFS('Plan de couv'!$C$8:$C$373,Capa!$T14,'Plan de couv'!G$8:G$373,Paramètres!$A$8)/2+COUNTIFS('Plan de couv'!$C$8:$C$373,Capa!$T14,'Plan de couv'!G$8:G$373,Paramètres!$A$9)/2 -> 0 | Y14: =COUNTIFS('Plan de couv'!$C$8:$C$373,Capa!$T14,'Plan de couv'!H$8:H$373,Paramètres!$A$3)+COUNTIFS('Plan de couv'!$C$8:$C$373,Capa!$T14,'Plan de couv'!H$8:H$373,Paramètres!$A$8)/2+COUNTIFS('Plan de couv'!$C$8:$C$373,Capa!$T14,'Plan de couv'!H$8:H$373,Paramètres!$A$9)/2 -> 0 | Z14: =COUNTIFS('Plan de couv'!$C$8:$C$373,Capa!$T14,'Plan de couv'!I$8:I$373,Paramètres!$A$3)+COUNTIFS('Plan de couv'!$C$8:$C$373,Capa!$T14,'Plan de couv'!I$8:I$373,Paramètres!$A$8)/2+COUNTIFS('Plan de couv'!$C$8:$C$373,Capa!$T14,'Plan de couv'!I$8:I$373,Paramètres!$A$9)/2 -> 0 | AA14: =COUNTIFS('Plan de couv'!$C$8:$C$373,Capa!$T14,'Plan de couv'!J$8:J$373,Paramètres!$A$3)+COUNTIFS('Plan de couv'!$C$8:$C$373,Capa!$T14,'Plan de couv'!J$8:J$373,Paramètres!$A$8)/2+COUNTIFS('Plan de couv'!$C$8:$C$373,Capa!$T14,'Plan de couv'!J$8:J$373,Paramètres!$A$9)/2 -> 0 | AB14: =COUNTIFS('Plan de couv'!$C$8:$C$373,Capa!$T14,'Plan de couv'!K$8:K$373,Paramètres!$A$3)+COUNTIFS('Plan de couv'!$C$8:$C$373,Capa!$T14,'Plan de couv'!K$8:K$373,Paramètres!$A$8)/2+COUNTIFS('Plan de couv'!$C$8:$C$373,Capa!$T14,'Plan de couv'!K$8:K$373,Paramètres!$A$9)/2 -> 0 | AC14: =COUNTIFS('Plan de couv'!$C$8:$C$373,Capa!$T14,'Plan de couv'!L$8:L$373,Paramètres!$A$3)+COUNTIFS('Plan de couv'!$C$8:$C$373,Capa!$T14,'Plan de couv'!L$8:L$373,Paramètres!$A$8)/2+COUNTIFS('Plan de couv'!$C$8:$C$373,Capa!$T14,'Plan de couv'!L$8:L$373,Paramètres!$A$9)/2 -> 0 | ... AP14: =COUNTIFS('Plan de couv'!$C$8:$C$373,Capa!$T14,'Plan de couv'!Y$8:Y$373,Paramètres!$A$3)+COUNTIFS('Plan de couv'!$C$8:$C$373,Capa!$T14,'Plan de couv'!Y$8:Y$373,Paramètres!$A$8)/2+COUNTIFS('Plan de couv'!$C$8:$C$373,Capa!$T14,'Plan de couv'!Y$8:Y$373,Paramètres!$A$9)/2 -> 0
R15: =MONTH(T15) -> 1 | S15: =WEEKNUM(T15) -> 3 | T15: =T14+1 -> 42379 | U15: =WEEKDAY(T15) -> 1 | V15: =COUNTIFS('Plan de couv'!$C$8:$C$373,Capa!$T15,'Plan de couv'!E$8:E$373,Paramètres!$A$3)+COUNTIFS('Plan de couv'!$C$8:$C$373,Capa!$T15,'Plan de couv'!E$8:E$373,Paramètres!$A$8)/2+COUNTIFS('Plan de couv'!$C$8:$C$373,Capa!$T15,'Plan de couv'!E$8:E$373,Paramètres!$A$9)/2 -> 0 | W15: =COUNTIFS('Plan de couv'!$C$8:$C$373,Capa!$T15,'Plan de couv'!F$8:F$373,Paramètres!$A$3)+COUNTIFS('Plan de couv'!$C$8:$C$373,Capa!$T15,'Plan de couv'!F$8:F$373,Paramètres!$A$8)/2+COUNTIFS('Plan de couv'!$C$8:$C$373,Capa!$T15,'Plan de couv'!F$8:F$373,Paramètres!$A$9)/2 -> 0 | X15: =COUNTIFS('Plan de couv'!$C$8:$C$373,Capa!$T15,'Plan de couv'!G$8:G$373,Paramètres!$A$3)+COUNTIFS('Plan de couv'!$C$8:$C$373,Capa!$T15,'Plan de couv'!G$8:G$373,Paramètres!$A$8)/2+COUNTIFS('Plan de couv'!$C$8:$C$373,Capa!$T15,'Plan de couv'!G$8:G$373,Paramètres!$A$9)/2 -> 0 | Y15: =COUNTIFS('Plan de couv'!$C$8:$C$373,Capa!$T15,'Plan de couv'!H$8:H$373,Paramètres!$A$3)+COUNTIFS('Plan de couv'!$C$8:$C$373,Capa!$T15,'Plan de couv'!H$8:H$373,Paramètres!$A$8)/2+COUNTIFS('Plan de couv'!$C$8:$C$373,Capa!$T15,'Plan de couv'!H$8:H$373,Paramètres!$A$9)/2 -> 0 | Z15: =COUNTIFS('Plan de couv'!$C$8:$C$373,Capa!$T15,'Plan de couv'!I$8:I$373,Paramètres!$A$3)+COUNTIFS('Plan de couv'!$C$8:$C$373,Capa!$T15,'Plan de couv'!I$8:I$373,Paramètres!$A$8)/2+COUNTIFS('Plan de couv'!$C$8:$C$373,Capa!$T15,'Plan de couv'!I$8:I$373,Paramètres!$A$9)/2 -> 0 | AA15: =COUNTIFS('Plan de couv'!$C$8:$C$373,Capa!$T15,'Plan de couv'!J$8:J$373,Paramètres!$A$3)+COUNTIFS('Plan de couv'!$C$8:$C$373,Capa!$T15,'Plan de couv'!J$8:J$373,Paramètres!$A$8)/2+COUNTIFS('Plan de couv'!$C$8:$C$373,Capa!$T15,'Plan de couv'!J$8:J$373,Paramètres!$A$9)/2 -> 0 | AB15: =COUNTIFS('Plan de couv'!$C$8:$C$373,Capa!$T15,'Plan de couv'!K$8:K$373,Paramètres!$A$3)+COUNTIFS('Plan de couv'!$C$8:$C$373,Capa!$T15,'Plan de couv'!K$8:K$373,Paramètres!$A$8)/2+COUNTIFS('Plan de couv'!$C$8:$C$373,Capa!$T15,'Plan de couv'!K$8:K$373,Paramètres!$A$9)/2 -> 0 | AC15: =COUNTIFS('Plan de couv'!$C$8:$C$373,Capa!$T15,'Plan de couv'!L$8:L$373,Paramètres!$A$3)+COUNTIFS('Plan de couv'!$C$8:$C$373,Capa!$T15,'Plan de couv'!L$8:L$373,Paramètres!$A$8)/2+COUNTIFS('Plan de couv'!$C$8:$C$373,Capa!$T15,'Plan de couv'!L$8:L$373,Paramètres!$A$9)/2 -> 0 | ... AP15: =COUNTIFS('Plan de couv'!$C$8:$C$373,Capa!$T15,'Plan de couv'!Y$8:Y$373,Paramètres!$A$3)+COUNTIFS('Plan de couv'!$C$8:$C$373,Capa!$T15,'Plan de couv'!Y$8:Y$373,Paramètres!$A$8)/2+COUNTIFS('Plan de couv'!$C$8:$C$373,Capa!$T15,'Plan de couv'!Y$8:Y$373,Paramètres!$A$9)/2 -> 0
R16: =MONTH(T16) -> 1 | S16: =WEEKNUM(T16) -> 3 | T16: =T15+1 -> 42380 | U16: =WEEKDAY(T16) -> 2 | V16: =COUNTIFS('Plan de couv'!$C$8:$C$373,Capa!$T16,'Plan de couv'!E$8:E$373,Paramètres!$A$3)+COUNTIFS('Plan de couv'!$C$8:$C$373,Capa!$T16,'Plan de couv'!E$8:E$373,Paramètres!$A$8)/2+COUNTIFS('Plan de couv'!$C$8:$C$373,Capa!$T16,'Plan de couv'!E$8:E$373,Paramètres!$A$9)/2 -> 0 | W16: =COUNTIFS('Plan de couv'!$C$8:$C$373,Capa!$T16,'Plan de couv'!F$8:F$373,Paramètres!$A$3)+COUNTIFS('Plan de couv'!$C$8:$C$373,Capa!$T16,'Plan de couv'!F$8:F$373,Paramètres!$A$8)/2+COUNTIFS('Plan de couv'!$C$8:$C$373,Capa!$T16,'Plan de couv'!F$8:F$373,Paramètres!$A$9)/2 -> 0 | X16: =COUNTIFS('Plan de couv'!$C$8:$C$373,Capa!$T16,'Plan de couv'!G$8:G$373,Paramètres!$A$3)+COUNTIFS('Plan de couv'!$C$8:$C$373,Capa!$T16,'Plan de couv'!G$8:G$373,Paramètres!$A$8)/2+COUNTIFS('Plan de couv'!$C$8:$C$373,Capa!$T16,'Plan de couv'!G$8:G$373,Paramètres!$A$9)/2 -> 0 | Y16: =COUNTIFS('Plan de couv'!$C$8:$C$373,Capa!$T16,'Plan de couv'!H$8:H$373,Paramètres!$A$3)+COUNTIFS('Plan de couv'!$C$8:$C$373,Capa!$T16,'Plan de couv'!H$8:H$373,Paramètres!$A$8)/2+COUNTIFS('Plan de couv'!$C$8:$C$373,Capa!$T16,'Plan de couv'!H$8:H$373,Paramètres!$A$9)/2 -> 0 | Z16: =COUNTIFS('Plan de couv'!$C$8:$C$373,Capa!$T16,'Plan de couv'!I$8:I$373,Paramètres!$A$3)+COUNTIFS('Plan de couv'!$C$8:$C$373,Capa!$T16,'Plan de couv'!I$8:I$373,Paramètres!$A$8)/2+COUNTIFS('Plan de couv'!$C$8:$C$373,Capa!$T16,'Plan de couv'!I$8:I$373,Paramètres!$A$9)/2 -> 0 | AA16: =COUNTIFS('Plan de couv'!$C$8:$C$373,Capa!$T16,'Plan de couv'!J$8:J$373,Paramètres!$A$3)+COUNTIFS('Plan de couv'!$C$8:$C$373,Capa!$T16,'Plan de couv'!J$8:J$373,Paramètres!$A$8)/2+COUNTIFS('Plan de couv'!$C$8:$C$373,Capa!$T16,'Plan de couv'!J$8:J$373,Paramètres!$A$9)/2 -> 0 | AB16: =COUNTIFS('Plan de couv'!$C$8:$C$373,Capa!$T16,'Plan de couv'!K$8:K$373,Paramètres!$A$3)+COUNTIFS('Plan de couv'!$C$8:$C$373,Capa!$T16,'Plan de couv'!K$8:K$373,Paramètres!$A$8)/2+COUNTIFS('Plan de couv'!$C$8:$C$373,Capa!$T16,'Plan de couv'!K$8:K$373,Paramètres!$A$9)/2 -> 0 | AC16: =COUNTIFS('Plan de couv'!$C$8:$C$373,Capa!$T16,'Plan de couv'!L$8:L$373,Paramètres!$A$3)+COUNTIFS('Plan de couv'!$C$8:$C$373,Capa!$T16,'Plan de couv'!L$8:L$373,Paramètres!$A$8)/2+COUNTIFS('Plan de couv'!$C$8:$C$373,Capa!$T16,'Plan de couv'!L$8:L$373,Paramètres!$A$9)/2 -> 0 | ... AP16: =COUNTIFS('Plan de couv'!$C$8:$C$373,Capa!$T16,'Plan de couv'!Y$8:Y$373,Paramètres!$A$3)+COUNTIFS('Plan de couv'!$C$8:$C$373,Capa!$T16,'Plan de couv'!Y$8:Y$373,Paramètres!$A$8)/2+COUNTIFS('Plan de couv'!$C$8:$C$373,Capa!$T16,'Plan de couv'!Y$8:Y$373,Paramètres!$A$9)/2 -> 0
R17: =MONTH(T17) -> 1 | S17: =WEEKNUM(T17) -> 3 | T17: =T16+1 -> 42381 | U17: =WEEKDAY(T17) -> 3 | V17: =COUNTIFS('Plan de couv'!$C$8:$C$373,Capa!$T17,'Plan de couv'!E$8:E$373,Paramètres!$A$3)+COUNTIFS('Plan de couv'!$C$8:$C$373,Capa!$T17,'Plan de couv'!E$8:E$373,Paramètres!$A$8)/2+COUNTIFS('Plan de couv'!$C$8:$C$373,Capa!$T17,'Plan de couv'!E$8:E$373,Paramètres!$A$9)/2 -> 0 | W17: =COUNTIFS('Plan de couv'!$C$8:$C$373,Capa!$T17,'Plan de couv'!F$8:F$373,Paramètres!$A$3)+COUNTIFS('Plan de couv'!$C$8:$C$373,Capa!$T17,'Plan de couv'!F$8:F$373,Paramètres!$A$8)/2+COUNTIFS('Plan de couv'!$C$8:$C$373,Capa!$T17,'Plan de couv'!F$8:F$373,Paramètres!$A$9)/2 -> 0 | X17: =COUNTIFS('Plan de couv'!$C$8:$C$373,Capa!$T17,'Plan de couv'!G$8:G$373,Paramètres!$A$3)+COUNTIFS('Plan de couv'!$C$8:$C$373,Capa!$T17,'Plan de couv'!G$8:G$373,Paramètres!$A$8)/2+COUNTIFS('Plan de couv'!$C$8:$C$373,Capa!$T17,'Plan de couv'!G$8:G$373,Paramètres!$A$9)/2 -> 0 | Y17: =COUNTIFS('Plan de couv'!$C$8:$C$373,Capa!$T17,'Plan de couv'!H$8:H$373,Paramètres!$A$3)+COUNTIFS('Plan de couv'!$C$8:$C$373,Capa!$T17,'Plan de couv'!H$8:H$373,Paramètres!$A$8)/2+COUNTIFS('Plan de couv'!$C$8:$C$373,Capa!$T17,'Plan de couv'!H$8:H$373,Paramètres!$A$9)/2 -> 0 | Z17: =COUNTIFS('Plan de couv'!$C$8:$C$373,Capa!$T17,'Plan de couv'!I$8:I$373,Paramètres!$A$3)+COUNTIFS('Plan de couv'!$C$8:$C$373,Capa!$T17,'Plan de couv'!I$8:I$373,Paramètres!$A$8)/2+COUNTIFS('Plan de couv'!$C$8:$C$373,Capa!$T17,'Plan de couv'!I$8:I$373,Paramètres!$A$9)/2 -> 0 | AA17: =COUNTIFS('Plan de couv'!$C$8:$C$373,Capa!$T17,'Plan de couv'!J$8:J$373,Paramètres!$A$3)+COUNTIFS('Plan de couv'!$C$8:$C$373,Capa!$T17,'Plan de couv'!J$8:J$373,Paramètres!$A$8)/2+COUNTIFS('Plan de couv'!$C$8:$C$373,Capa!$T17,'Plan de couv'!J$8:J$373,Paramètres!$A$9)/2 -> 0 | AB17: =COUNTIFS('Plan de couv'!$C$8:$C$373,Capa!$T17,'Plan de couv'!K$8:K$373,Paramètres!$A$3)+COUNTIFS('Plan de couv'!$C$8:$C$373,Capa!$T17,'Plan de couv'!K$8:K$373,Paramètres!$A$8)/2+COUNTIFS('Plan de couv'!$C$8:$C$373,Capa!$T17,'Plan de couv'!K$8:K$373,Paramètres!$A$9)/2 -> 0 | AC17: =COUNTIFS('Plan de couv'!$C$8:$C$373,Capa!$T17,'Plan de couv'!L$8:L$373,Paramètres!$A$3)+COUNTIFS('Plan de couv'!$C$8:$C$373,Capa!$T17,'Plan de couv'!L$8:L$373,Paramètres!$A$8)/2+COUNTIFS('Plan de couv'!$C$8:$C$373,Capa!$T17,'Plan de couv'!L$8:L$373,Paramètres!$A$9)/2 -> 0 | ... AP17: =COUNTIFS('Plan de couv'!$C$8:$C$373,Capa!$T17,'Plan de couv'!Y$8:Y$373,Paramètres!$A$3)+COUNTIFS('Plan de couv'!$C$8:$C$373,Capa!$T17,'Plan de couv'!Y$8:Y$373,Paramètres!$A$8)/2+COUNTIFS('Plan de couv'!$C$8:$C$373,Capa!$T17,'Plan de couv'!Y$8:Y$373,Paramètres!$A$9)/2 -> 0
R18: =MONTH(T18) -> 1 | S18: =WEEKNUM(T18) -> 3 | T18: =T17+1 -> 42382 | U18: =WEEKDAY(T18) -> 4 | V18: =COUNTIFS('Plan de couv'!$C$8:$C$373,Capa!$T18,'Plan de couv'!E$8:E$373,Paramètres!$A$3)+COUNTIFS('Plan de couv'!$C$8:$C$373,Capa!$T18,'Plan de couv'!E$8:E$373,Paramètres!$A$8)/2+COUNTIFS('Plan de couv'!$C$8:$C$373,Capa!$T18,'Plan de couv'!E$8:E$373,Paramètres!$A$9)/2 -> 0 | W18: =COUNTIFS('Plan de couv'!$C$8:$C$373,Capa!$T18,'Plan de couv'!F$8:F$373,Paramètres!$A$3)+COUNTIFS('Plan de couv'!$C$8:$C$373,Capa!$T18,'Plan de couv'!F$8:F$373,Paramètres!$A$8)/2+COUNTIFS('Plan de couv'!$C$8:$C$373,Capa!$T18,'Plan de couv'!F$8:F$373,Paramètres!$A$9)/2 -> 0 | X18: =COUNTIFS('Plan de couv'!$C$8:$C$373,Capa!$T18,'Plan de couv'!G$8:G$373,Paramètres!$A$3)+COUNTIFS('Plan de couv'!$C$8:$C$373,Capa!$T18,'Plan de couv'!G$8:G$373,Paramètres!$A$8)/2+COUNTIFS('Plan de couv'!$C$8:$C$373,Capa!$T18,'Plan de couv'!G$8:G$373,Paramètres!$A$9)/2 -> 0 | Y18: =COUNTIFS('Plan de couv'!$C$8:$C$373,Capa!$T18,'Plan de couv'!H$8:H$373,Paramètres!$A$3)+COUNTIFS('Plan de couv'!$C$8:$C$373,Capa!$T18,'Plan de couv'!H$8:H$373,Paramètres!$A$8)/2+COUNTIFS('Plan de couv'!$C$8:$C$373,Capa!$T18,'Plan de couv'!H$8:H$373,Paramètres!$A$9)/2 -> 0 | Z18: =COUNTIFS('Plan de couv'!$C$8:$C$373,Capa!$T18,'Plan de couv'!I$8:I$373,Paramètres!$A$3)+COUNTIFS('Plan de couv'!$C$8:$C$373,Capa!$T18,'Plan de couv'!I$8:I$373,Paramètres!$A$8)/2+COUNTIFS('Plan de couv'!$C$8:$C$373,Capa!$T18,'Plan de couv'!I$8:I$373,Paramètres!$A$9)/2 -> 0 | AA18: =COUNTIFS('Plan de couv'!$C$8:$C$373,Capa!$T18,'Plan de couv'!J$8:J$373,Paramètres!$A$3)+COUNTIFS('Plan de couv'!$C$8:$C$373,Capa!$T18,'Plan de couv'!J$8:J$373,Paramètres!$A$8)/2+COUNTIFS('Plan de couv'!$C$8:$C$373,Capa!$T18,'Plan de couv'!J$8:J$373,Paramètres!$A$9)/2 -> 0 | AB18: =COUNTIFS('Plan de couv'!$C$8:$C$373,Capa!$T18,'Plan de couv'!K$8:K$373,Paramètres!$A$3)+COUNTIFS('Plan de couv'!$C$8:$C$373,Capa!$T18,'Plan de couv'!K$8:K$373,Paramètres!$A$8)/2+COUNTIFS('Plan de couv'!$C$8:$C$373,Capa!$T18,'Plan de couv'!K$8:K$373,Paramètres!$A$9)/2 -> 0 | AC18: =COUNTIFS('Plan de couv'!$C$8:$C$373,Capa!$T18,'Plan de couv'!L$8:L$373,Paramètres!$A$3)+COUNTIFS('Plan de couv'!$C$8:$C$373,Capa!$T18,'Plan de couv'!L$8:L$373,Paramètres!$A$8)/2+COUNTIFS('Plan de couv'!$C$8:$C$373,Capa!$T18,'Plan de couv'!L$8:L$373,Paramètres!$A$9)/2 -> 0 | ... AP18: =COUNTIFS('Plan de couv'!$C$8:$C$373,Capa!$T18,'Plan de couv'!Y$8:Y$373,Paramètres!$A$3)+COUNTIFS('Plan de couv'!$C$8:$C$373,Capa!$T18,'Plan de couv'!Y$8:Y$373,Paramètres!$A$8)/2+COUNTIFS('Plan de couv'!$C$8:$C$373,Capa!$T18,'Plan de couv'!Y$8:Y$373,Paramètres!$A$9)/2 -> 0
... R220: =MONTH(T220) -> 8 | S220: =WEEKNUM(T220) -> 32 | T220: =T219+1 -> 42584 | U220: =WEEKDAY(T220) -> 3 | V220: =COUNTIFS('Plan de couv'!$C$8:$C$373,Capa!$T220,'Plan de couv'!E$8:E$373,Paramètres!$A$3)+COUNTIFS('Plan de couv'!$C$8:$C$373,Capa!$T220,'Plan de couv'!E$8:E$373,Paramètres!$A$8)/2+COUNTIFS('Plan de couv'!$C$8:$C$373,Capa!$T220,'Plan de couv'!E$8:E$373,Paramètres!$A$9)/2 -> 1 | W220: =COUNTIFS('Plan de couv'!$C$8:$C$373,Capa!$T220,'Plan de couv'!F$8:F$373,Paramètres!$A$3)+COUNTIFS('Plan de couv'!$C$8:$C$373,Capa!$T220,'Plan de couv'!F$8:F$373,Paramètres!$A$8)/2+COUNTIFS('Plan de couv'!$C$8:$C$373,Capa!$T220,'Plan de couv'!F$8:F$373,Paramètres!$A$9)/2 -> 1 | X220: =COUNTIFS('Plan de couv'!$C$8:$C$373,Capa!$T220,'Plan de couv'!G$8:G$373,Paramètres!$A$3)+COUNTIFS('Plan de couv'!$C$8:$C$373,Capa!$T220,'Plan de couv'!G$8:G$373,Paramètres!$A$8)/2+COUNTIFS('Plan de couv'!$C$8:$C$373,Capa!$T220,'Plan de couv'!G$8:G$373,Paramètres!$A$9)/2 -> 1 | Y220: =COUNTIFS('Plan de couv'!$C$8:$C$373,Capa!$T220,'Plan de couv'!H$8:H$373,Paramètres!$A$3)+COUNTIFS('Plan de couv'!$C$8:$C$373,Capa!$T220,'Plan de couv'!H$8:H$373,Paramètres!$A$8)/2+COUNTIFS('Plan de couv'!$C$8:$C$373,Capa!$T220,'Plan de couv'!H$8:H$373,Paramètres!$A$9)/2 -> 1 | Z220: =COUNTIFS('Plan de couv'!$C$8:$C$373,Capa!$T220,'Plan de couv'!I$8:I$373,Paramètres!$A$3)+COUNTIFS('Plan de couv'!$C$8:$C$373,Capa!$T220,'Plan de couv'!I$8:I$373,Paramètres!$A$8)/2+COUNTIFS('Plan de couv'!$C$8:$C$373,Capa!$T220,'Plan de couv'!I$8:I$373,Paramètres!$A$9)/2 -> 1 | AA220: =COUNTIFS('Plan de couv'!$C$8:$C$373,Capa!$T220,'Plan de couv'!J$8:J$373,Paramètres!$A$3)+COUNTIFS('Plan de couv'!$C$8:$C$373,Capa!$T220,'Plan de couv'!J$8:J$373,Paramètres!$A$8)/2+COUNTIFS('Plan de couv'!$C$8:$C$373,Capa!$T220,'Plan de couv'!J$8:J$373,Paramètres!$A$9)/2 -> 1 | AB220: =COUNTIFS('Plan de couv'!$C$8:$C$373,Capa!$T220,'Plan de couv'!K$8:K$373,Paramètres!$A$3)+COUNTIFS('Plan de couv'!$C$8:$C$373,Capa!$T220,'Plan de couv'!K$8:K$373,Paramètres!$A$8)/2+COUNTIFS('Plan de couv'!$C$8:$C$373,Capa!$T220,'Plan de couv'!K$8:K$373,Paramètres!$A$9)/2 -> 1 | AC220: =COUNTIFS('Plan de couv'!$C$8:$C$373,Capa!$T220,'Plan de couv'!L$8:L$373,Paramètres!$A$3)+COUNTIFS('Plan de couv'!$C$8:$C$373,Capa!$T220,'Plan de couv'!L$8:L$373,Paramètres!$A$8)/2+COUNTIFS('Plan de couv'!$C$8:$C$373,Capa!$T220,'Plan de couv'!L$8:L$373,Paramètres!$A$9)/2 -> 1 | ... AP220: =COUNTIFS('Plan de couv'!$C$8:$C$373,Capa!$T220,'Plan de couv'!Y$8:Y$373,Paramètres!$A$3)+COUNTIFS('Plan de couv'!$C$8:$C$373,Capa!$T220,'Plan de couv'!Y$8:Y$373,Paramètres!$A$8)/2+COUNTIFS('Plan de couv'!$C$8:$C$373,Capa!$T220,'Plan de couv'!Y$8:Y$373,Paramètres!$A$9)/2 -> 1
R221: =MONTH(T221) -> 8 | S221: =WEEKNUM(T221) -> 32 | T221: =T220+1 -> 42585 | U221: =WEEKDAY(T221) -> 4 | V221: =(COUNTIFS('Plan de couv'!$C$8:$C$373,Capa!$T221,'Plan de couv'!E$8:E$373,Paramètres!$A$3)+COUNTIFS('Plan de couv'!$C$8:$C$373,Capa!$T221,'Plan de couv'!E$8:E$373,Paramètres!$A$8)/2+COUNTIFS('Plan de couv'!$C$8:$C$373,Capa!$T221,'Plan de couv'!E$8:E$373,Paramètres!$A$9)/2) -> 1 | W221: =COUNTIFS('Plan de couv'!$C$8:$C$373,Capa!$T221,'Plan de couv'!F$8:F$373,Paramètres!$A$3)+COUNTIFS('Plan de couv'!$C$8:$C$373,Capa!$T221,'Plan de couv'!F$8:F$373,Paramètres!$A$8)/2+COUNTIFS('Plan de couv'!$C$8:$C$373,Capa!$T221,'Plan de couv'!F$8:F$373,Paramètres!$A$9)/2 -> 1 | X221: =COUNTIFS('Plan de couv'!$C$8:$C$373,Capa!$T221,'Plan de couv'!G$8:G$373,Paramètres!$A$3)+COUNTIFS('Plan de couv'!$C$8:$C$373,Capa!$T221,'Plan de couv'!G$8:G$373,Paramètres!$A$8)/2+COUNTIFS('Plan de couv'!$C$8:$C$373,Capa!$T221,'Plan de couv'!G$8:G$373,Paramètres!$A$9)/2 -> 1 | Y221: =COUNTIFS('Plan de couv'!$C$8:$C$373,Capa!$T221,'Plan de couv'!H$8:H$373,Paramètres!$A$3)+COUNTIFS('Plan de couv'!$C$8:$C$373,Capa!$T221,'Plan de couv'!H$8:H$373,Paramètres!$A$8)/2+COUNTIFS('Plan de couv'!$C$8:$C$373,Capa!$T221,'Plan de couv'!H$8:H$373,Paramètres!$A$9)/2 -> 1 | Z221: =COUNTIFS('Plan de couv'!$C$8:$C$373,Capa!$T221,'Plan de couv'!I$8:I$373,Paramètres!$A$3)+COUNTIFS('Plan de couv'!$C$8:$C$373,Capa!$T221,'Plan de couv'!I$8:I$373,Paramètres!$A$8)/2+COUNTIFS('Plan de couv'!$C$8:$C$373,Capa!$T221,'Plan de couv'!I$8:I$373,Paramètres!$A$9)/2 -> 1 | AA221: =COUNTIFS('Plan de couv'!$C$8:$C$373,Capa!$T221,'Plan de couv'!J$8:J$373,Paramètres!$A$3)+COUNTIFS('Plan de couv'!$C$8:$C$373,Capa!$T221,'Plan de couv'!J$8:J$373,Paramètres!$A$8)/2+COUNTIFS('Plan de couv'!$C$8:$C$373,Capa!$T221,'Plan de couv'!J$8:J$373,Paramètres!$A$9)/2 -> 1 | AB221: =COUNTIFS('Plan de couv'!$C$8:$C$373,Capa!$T221,'Plan de couv'!K$8:K$373,Paramètres!$A$3)+COUNTIFS('Plan de couv'!$C$8:$C$373,Capa!$T221,'Plan de couv'!K$8:K$373,Paramètres!$A$8)/2+COUNTIFS('Plan de couv'!$C$8:$C$373,Capa!$T221,'Plan de couv'!K$8:K$373,Paramètres!$A$9)/2 -> 1 | AC221: =COUNTIFS('Plan de couv'!$C$8:$C$373,Capa!$T221,'Plan de couv'!L$8:L$373,Paramètres!$A$3)+COUNTIFS('Plan de couv'!$C$8:$C$373,Capa!$T221,'Plan de couv'!L$8:L$373,Paramètres!$A$8)/2+COUNTIFS('Plan de couv'!$C$8:$C$373,Capa!$T221,'Plan de couv'!L$8:L$373,Paramètres!$A$9)/2 -> 1 | AD221: =COUNTIFS('Plan de couv'!$C$8:$C$373,Capa!$T221,'Plan de couv'!M$8:M$373,Paramètres!$A$3)+COUNTIFS('Plan de couv'!$C$8:$C$373,Capa!$T221,'Plan de couv'!M$8:M$373,Paramètres!$A$8)/2+COUNTIFS('Plan de couv'!$C$8:$C$373,Capa!$T221,'Plan de couv'!M$8:M$373,Paramètres!$A$9)/2 -> 1 | ... AP221: =COUNTIFS('Plan de couv'!$C$8:$C$373,Capa!$T221,'Plan de couv'!Y$8:Y$373,Paramètres!$A$3)+COUNTIFS('Plan de couv'!$C$8:$C$373,Capa!$T221,'Plan de couv'!Y$8:Y$373,Paramètres!$A$8)/2+COUNTIFS('Plan de couv'!$C$8:$C$373,Capa!$T221,'Plan de couv'!Y$8:Y$373,Paramètres!$A$9)/2 -> 1
R222: =MONTH(T222) -> 8 | S222: =WEEKNUM(T222) -> 32 | T222: =T221+1 -> 42586 | U222: =WEEKDAY(T222) -> 5 | V222: =COUNTIFS('Plan de couv'!$C$8:$C$373,Capa!$T222,'Plan de couv'!E$8:E$373,Paramètres!$A$3)+COUNTIFS('Plan de couv'!$C$8:$C$373,Capa!$T222,'Plan de couv'!E$8:E$373,Paramètres!$A$8)/2+COUNTIFS('Plan de couv'!$C$8:$C$373,Capa!$T222,'Plan de couv'!E$8:E$373,Paramètres!$A$9)/2 -> 0 | W222: =COUNTIFS('Plan de couv'!$C$8:$C$373,Capa!$T222,'Plan de couv'!F$8:F$373,Paramètres!$A$3)+COUNTIFS('Plan de couv'!$C$8:$C$373,Capa!$T222,'Plan de couv'!F$8:F$373,Paramètres!$A$8)/2+COUNTIFS('Plan de couv'!$C$8:$C$373,Capa!$T222,'Plan de couv'!F$8:F$373,Paramètres!$A$9)/2 -> 1 | X222: =COUNTIFS('Plan de couv'!$C$8:$C$373,Capa!$T222,'Plan de couv'!G$8:G$373,Paramètres!$A$3)+COUNTIFS('Plan de couv'!$C$8:$C$373,Capa!$T222,'Plan de couv'!G$8:G$373,Paramètres!$A$8)/2+COUNTIFS('Plan de couv'!$C$8:$C$373,Capa!$T222,'Plan de couv'!G$8:G$373,Paramètres!$A$9)/2 -> 1 | Y222: =COUNTIFS('Plan de couv'!$C$8:$C$373,Capa!$T222,'Plan de couv'!H$8:H$373,Paramètres!$A$3)+COUNTIFS('Plan de couv'!$C$8:$C$373,Capa!$T222,'Plan de couv'!H$8:H$373,Paramètres!$A$8)/2+COUNTIFS('Plan de couv'!$C$8:$C$373,Capa!$T222,'Plan de couv'!H$8:H$373,Paramètres!$A$9)/2 -> 1 | Z222: =COUNTIFS('Plan de couv'!$C$8:$C$373,Capa!$T222,'Plan de couv'!I$8:I$373,Paramètres!$A$3)+COUNTIFS('Plan de couv'!$C$8:$C$373,Capa!$T222,'Plan de couv'!I$8:I$373,Paramètres!$A$8)/2+COUNTIFS('Plan de couv'!$C$8:$C$373,Capa!$T222,'Plan de couv'!I$8:I$373,Paramètres!$A$9)/2 -> 1 | AA222: =COUNTIFS('Plan de couv'!$C$8:$C$373,Capa!$T222,'Plan de couv'!J$8:J$373,Paramètres!$A$3)+COUNTIFS('Plan de couv'!$C$8:$C$373,Capa!$T222,'Plan de couv'!J$8:J$373,Paramètres!$A$8)/2+COUNTIFS('Plan de couv'!$C$8:$C$373,Capa!$T222,'Plan de couv'!J$8:J$373,Paramètres!$A$9)/2 -> 1 | AB222: =COUNTIFS('Plan de couv'!$C$8:$C$373,Capa!$T222,'Plan de couv'!K$8:K$373,Paramètres!$A$3)+COUNTIFS('Plan de couv'!$C$8:$C$373,Capa!$T222,'Plan de couv'!K$8:K$373,Paramètres!$A$8)/2+COUNTIFS('Plan de couv'!$C$8:$C$373,Capa!$T222,'Plan de couv'!K$8:K$373,Paramètres!$A$9)/2 -> 1 | AC222: =COUNTIFS('Plan de couv'!$C$8:$C$373,Capa!$T222,'Plan de couv'!L$8:L$373,Paramètres!$A$3)+COUNTIFS('Plan de couv'!$C$8:$C$373,Capa!$T222,'Plan de couv'!L$8:L$373,Paramètres!$A$8)/2+COUNTIFS('Plan de couv'!$C$8:$C$373,Capa!$T222,'Plan de couv'!L$8:L$373,Paramètres!$A$9)/2 -> 1 | ... AP222: =COUNTIFS('Plan de couv'!$C$8:$C$373,Capa!$T222,'Plan de couv'!Y$8:Y$373,Paramètres!$A$3)+COUNTIFS('Plan de couv'!$C$8:$C$373,Capa!$T222,'Plan de couv'!Y$8:Y$373,Paramètres!$A$8)/2+COUNTIFS('Plan de couv'!$C$8:$C$373,Capa!$T222,'Plan de couv'!Y$8:Y$373,Paramètres!$A$9)/2 -> 1
R223: =MONTH(T223) -> 8 | S223: =WEEKNUM(T223) -> 32 | T223: =T222+1 -> 42587 | U223: =WEEKDAY(T223) -> 6 | V223: =COUNTIFS('Plan de couv'!$C$8:$C$373,Capa!$T223,'Plan de couv'!E$8:E$373,Paramètres!$A$3)+COUNTIFS('Plan de couv'!$C$8:$C$373,Capa!$T223,'Plan de couv'!E$8:E$373,Paramètres!$A$8)/2+COUNTIFS('Plan de couv'!$C$8:$C$373,Capa!$T223,'Plan de couv'!E$8:E$373,Paramètres!$A$9)/2 -> 1 | W223: =COUNTIFS('Plan de couv'!$C$8:$C$373,Capa!$T223,'Plan de couv'!F$8:F$373,Paramètres!$A$3)+COUNTIFS('Plan de couv'!$C$8:$C$373,Capa!$T223,'Plan de couv'!F$8:F$373,Paramètres!$A$8)/2+COUNTIFS('Plan de couv'!$C$8:$C$373,Capa!$T223,'Plan de couv'!F$8:F$373,Paramètres!$A$9)/2 -> 1 | X223: =COUNTIFS('Plan de couv'!$C$8:$C$373,Capa!$T223,'Plan de couv'!G$8:G$373,Paramètres!$A$3)+COUNTIFS('Plan de couv'!$C$8:$C$373,Capa!$T223,'Plan de couv'!G$8:G$373,Paramètres!$A$8)/2+COUNTIFS('Plan de couv'!$C$8:$C$373,Capa!$T223,'Plan de couv'!G$8:G$373,Paramètres!$A$9)/2 -> 1 | Y223: =COUNTIFS('Plan de couv'!$C$8:$C$373,Capa!$T223,'Plan de couv'!H$8:H$373,Paramètres!$A$3)+COUNTIFS('Plan de couv'!$C$8:$C$373,Capa!$T223,'Plan de couv'!H$8:H$373,Paramètres!$A$8)/2+COUNTIFS('Plan de couv'!$C$8:$C$373,Capa!$T223,'Plan de couv'!H$8:H$373,Paramètres!$A$9)/2 -> 1 | Z223: =COUNTIFS('Plan de couv'!$C$8:$C$373,Capa!$T223,'Plan de couv'!I$8:I$373,Paramètres!$A$3)+COUNTIFS('Plan de couv'!$C$8:$C$373,Capa!$T223,'Plan de couv'!I$8:I$373,Paramètres!$A$8)/2+COUNTIFS('Plan de couv'!$C$8:$C$373,Capa!$T223,'Plan de couv'!I$8:I$373,Paramètres!$A$9)/2 -> 1 | AA223: =COUNTIFS('Plan de couv'!$C$8:$C$373,Capa!$T223,'Plan de couv'!J$8:J$373,Paramètres!$A$3)+COUNTIFS('Plan de couv'!$C$8:$C$373,Capa!$T223,'Plan de couv'!J$8:J$373,Paramètres!$A$8)/2+COUNTIFS('Plan de couv'!$C$8:$C$373,Capa!$T223,'Plan de couv'!J$8:J$373,Paramètres!$A$9)/2 -> 1 | AB223: =COUNTIFS('Plan de couv'!$C$8:$C$373,Capa!$T223,'Plan de couv'!K$8:K$373,Paramètres!$A$3)+COUNTIFS('Plan de couv'!$C$8:$C$373,Capa!$T223,'Plan de couv'!K$8:K$373,Paramètres!$A$8)/2+COUNTIFS('Plan de couv'!$C$8:$C$373,Capa!$T223,'Plan de couv'!K$8:K$373,Paramètres!$A$9)/2 -> 1 | AC223: =COUNTIFS('Plan de couv'!$C$8:$C$373,Capa!$T223,'Plan de couv'!L$8:L$373,Paramètres!$A$3)+COUNTIFS('Plan de couv'!$C$8:$C$373,Capa!$T223,'Plan de couv'!L$8:L$373,Paramètres!$A$8)/2+COUNTIFS('Plan de couv'!$C$8:$C$373,Capa!$T223,'Plan de couv'!L$8:L$373,Paramètres!$A$9)/2 -> 1 | ... AP223: =COUNTIFS('Plan de couv'!$C$8:$C$373,Capa!$T223,'Plan de couv'!Y$8:Y$373,Paramètres!$A$3)+COUNTIFS('Plan de couv'!$C$8:$C$373,Capa!$T223,'Plan de couv'!Y$8:Y$373,Paramètres!$A$8)/2+COUNTIFS('Plan de couv'!$C$8:$C$373,Capa!$T223,'Plan de couv'!Y$8:Y$373,Paramètres!$A$9)/2 -> 1
R224: =MONTH(T224) -> 8 | S224: =WEEKNUM(T224) -> 32 | T224: =T223+1 -> 42588 | U224: =WEEKDAY(T224) -> 7 | V224: =COUNTIFS('Plan de couv'!$C$8:$C$373,Capa!$T224,'Plan de couv'!E$8:E$373,Paramètres!$A$3)+COUNTIFS('Plan de couv'!$C$8:$C$373,Capa!$T224,'Plan de couv'!E$8:E$373,Paramètres!$A$8)/2+COUNTIFS('Plan de couv'!$C$8:$C$373,Capa!$T224,'Plan de couv'!E$8:E$373,Paramètres!$A$9)/2 -> 0 | W224: =COUNTIFS('Plan de couv'!$C$8:$C$373,Capa!$T224,'Plan de couv'!F$8:F$373,Paramètres!$A$3)+COUNTIFS('Plan de couv'!$C$8:$C$373,Capa!$T224,'Plan de couv'!F$8:F$373,Paramètres!$A$8)/2+COUNTIFS('Plan de couv'!$C$8:$C$373,Capa!$T224,'Plan de couv'!F$8:F$373,Paramètres!$A$9)/2 -> 0 | X224: =COUNTIFS('Plan de couv'!$C$8:$C$373,Capa!$T224,'Plan de couv'!G$8:G$373,Paramètres!$A$3)+COUNTIFS('Plan de couv'!$C$8:$C$373,Capa!$T224,'Plan de couv'!G$8:G$373,Paramètres!$A$8)/2+COUNTIFS('Plan de couv'!$C$8:$C$373,Capa!$T224,'Plan de couv'!G$8:G$373,Paramètres!$A$9)/2 -> 0 | Y224: =COUNTIFS('Plan de couv'!$C$8:$C$373,Capa!$T224,'Plan de couv'!H$8:H$373,Paramètres!$A$3)+COUNTIFS('Plan de couv'!$C$8:$C$373,Capa!$T224,'Plan de couv'!H$8:H$373,Paramètres!$A$8)/2+COUNTIFS('Plan de couv'!$C$8:$C$373,Capa!$T224,'Plan de couv'!H$8:H$373,Paramètres!$A$9)/2 -> 0 | Z224: =COUNTIFS('Plan de couv'!$C$8:$C$373,Capa!$T224,'Plan de couv'!I$8:I$373,Paramètres!$A$3)+COUNTIFS('Plan de couv'!$C$8:$C$373,Capa!$T224,'Plan de couv'!I$8:I$373,Paramètres!$A$8)/2+COUNTIFS('Plan de couv'!$C$8:$C$373,Capa!$T224,'Plan de couv'!I$8:I$373,Paramètres!$A$9)/2 -> 0 | AA224: =COUNTIFS('Plan de couv'!$C$8:$C$373,Capa!$T224,'Plan de couv'!J$8:J$373,Paramètres!$A$3)+COUNTIFS('Plan de couv'!$C$8:$C$373,Capa!$T224,'Plan de couv'!J$8:J$373,Paramètres!$A$8)/2+COUNTIFS('Plan de couv'!$C$8:$C$373,Capa!$T224,'Plan de couv'!J$8:J$373,Paramètres!$A$9)/2 -> 0 | AB224: =COUNTIFS('Plan de couv'!$C$8:$C$373,Capa!$T224,'Plan de couv'!K$8:K$373,Paramètres!$A$3)+COUNTIFS('Plan de couv'!$C$8:$C$373,Capa!$T224,'Plan de couv'!K$8:K$373,Paramètres!$A$8)/2+COUNTIFS('Plan de couv'!$C$8:$C$373,Capa!$T224,'Plan de couv'!K$8:K$373,Paramètres!$A$9)/2 -> 0 | AC224: =COUNTIFS('Plan de couv'!$C$8:$C$373,Capa!$T224,'Plan de couv'!L$8:L$373,Paramètres!$A$3)+COUNTIFS('Plan de couv'!$C$8:$C$373,Capa!$T224,'Plan de couv'!L$8:L$373,Paramètres!$A$8)/2+COUNTIFS('Plan de couv'!$C$8:$C$373,Capa!$T224,'Plan de couv'!L$8:L$373,Paramètres!$A$9)/2 -> 0 | ... AP224: =COUNTIFS('Plan de couv'!$C$8:$C$373,Capa!$T224,'Plan de couv'!Y$8:Y$373,Paramètres!$A$3)+COUNTIFS('Plan de couv'!$C$8:$C$373,Capa!$T224,'Plan de couv'!Y$8:Y$373,Paramètres!$A$8)/2+COUNTIFS('Plan de couv'!$C$8:$C$373,Capa!$T224,'Plan de couv'!Y$8:Y$373,Paramètres!$A$9)/2 -> 0
R225: =MONTH(T225) -> 8 | S225: =WEEKNUM(T225) -> 33 | T225: =T224+1 -> 42589 | U225: =WEEKDAY(T225) -> 1 | V225: =COUNTIFS('Plan de couv'!$C$8:$C$373,Capa!$T225,'Plan de couv'!E$8:E$373,Paramètres!$A$3)+COUNTIFS('Plan de couv'!$C$8:$C$373,Capa!$T225,'Plan de couv'!E$8:E$373,Paramètres!$A$8)/2+COUNTIFS('Plan de couv'!$C$8:$C$373,Capa!$T225,'Plan de couv'!E$8:E$373,Paramètres!$A$9)/2 -> 0 | W225: =COUNTIFS('Plan de couv'!$C$8:$C$373,Capa!$T225,'Plan de couv'!F$8:F$373,Paramètres!$A$3)+COUNTIFS('Plan de couv'!$C$8:$C$373,Capa!$T225,'Plan de couv'!F$8:F$373,Paramètres!$A$8)/2+COUNTIFS('Plan de couv'!$C$8:$C$373,Capa!$T225,'Plan de couv'!F$8:F$373,Paramètres!$A$9)/2 -> 0 | X225: =COUNTIFS('Plan de couv'!$C$8:$C$373,Capa!$T225,'Plan de couv'!G$8:G$373,Paramètres!$A$3)+COUNTIFS('Plan de couv'!$C$8:$C$373,Capa!$T225,'Plan de couv'!G$8:G$373,Paramètres!$A$8)/2+COUNTIFS('Plan de couv'!$C$8:$C$373,Capa!$T225,'Plan de couv'!G$8:G$373,Paramètres!$A$9)/2 -> 0 | Y225: =COUNTIFS('Plan de couv'!$C$8:$C$373,Capa!$T225,'Plan de couv'!H$8:H$373,Paramètres!$A$3)+COUNTIFS('Plan de couv'!$C$8:$C$373,Capa!$T225,'Plan de couv'!H$8:H$373,Paramètres!$A$8)/2+COUNTIFS('Plan de couv'!$C$8:$C$373,Capa!$T225,'Plan de couv'!H$8:H$373,Paramètres!$A$9)/2 -> 0 | Z225: =COUNTIFS('Plan de couv'!$C$8:$C$373,Capa!$T225,'Plan de couv'!I$8:I$373,Paramètres!$A$3)+COUNTIFS('Plan de couv'!$C$8:$C$373,Capa!$T225,'Plan de couv'!I$8:I$373,Paramètres!$A$8)/2+COUNTIFS('Plan de couv'!$C$8:$C$373,Capa!$T225,'Plan de couv'!I$8:I$373,Paramètres!$A$9)/2 -> 0 | AA225: =COUNTIFS('Plan de couv'!$C$8:$C$373,Capa!$T225,'Plan de couv'!J$8:J$373,Paramètres!$A$3)+COUNTIFS('Plan de couv'!$C$8:$C$373,Capa!$T225,'Plan de couv'!J$8:J$373,Paramètres!$A$8)/2+COUNTIFS('Plan de couv'!$C$8:$C$373,Capa!$T225,'Plan de couv'!J$8:J$373,Paramètres!$A$9)/2 -> 0 | AB225: =COUNTIFS('Plan de couv'!$C$8:$C$373,Capa!$T225,'Plan de couv'!K$8:K$373,Paramètres!$A$3)+COUNTIFS('Plan de couv'!$C$8:$C$373,Capa!$T225,'Plan de couv'!K$8:K$373,Paramètres!$A$8)/2+COUNTIFS('Plan de couv'!$C$8:$C$373,Capa!$T225,'Plan de couv'!K$8:K$373,Paramètres!$A$9)/2 -> 0 | AC225: =COUNTIFS('Plan de couv'!$C$8:$C$373,Capa!$T225,'Plan de couv'!L$8:L$373,Paramètres!$A$3)+COUNTIFS('Plan de couv'!$C$8:$C$373,Capa!$T225,'Plan de couv'!L$8:L$373,Paramètres!$A$8)/2+COUNTIFS('Plan de couv'!$C$8:$C$373,Capa!$T225,'Plan de couv'!L$8:L$373,Paramètres!$A$9)/2 -> 0 | ... AP225: =COUNTIFS('Plan de couv'!$C$8:$C$373,Capa!$T225,'Plan de couv'!Y$8:Y$373,Paramètres!$A$3)+COUNTIFS('Plan de couv'!$C$8:$C$373,Capa!$T225,'Plan de couv'!Y$8:Y$373,Paramètres!$A$8)/2+COUNTIFS('Plan de couv'!$C$8:$C$373,Capa!$T225,'Plan de couv'!Y$8:Y$373,Paramètres!$A$9)/2 -> 0
R226: =MONTH(T226) -> 8 | S226: =WEEKNUM(T226) -> 33 | T226: =T225+1 -> 42590 | U226: =WEEKDAY(T226) -> 2 | V226: =COUNTIFS('Plan de couv'!$C$8:$C$373,Capa!$T226,'Plan de couv'!E$8:E$373,Paramètres!$A$3)+COUNTIFS('Plan de couv'!$C$8:$C$373,Capa!$T226,'Plan de couv'!E$8:E$373,Paramètres!$A$8)/2+COUNTIFS('Plan de couv'!$C$8:$C$373,Capa!$T226,'Plan de couv'!E$8:E$373,Paramètres!$A$9)/2 -> 1 | W226: =COUNTIFS('Plan de couv'!$C$8:$C$373,Capa!$T226,'Plan de couv'!F$8:F$373,Paramètres!$A$3)+COUNTIFS('Plan de couv'!$C$8:$C$373,Capa!$T226,'Plan de couv'!F$8:F$373,Paramètres!$A$8)/2+COUNTIFS('Plan de couv'!$C$8:$C$373,Capa!$T226,'Plan de couv'!F$8:F$373,Paramètres!$A$9)/2 -> 1 | X226: =COUNTIFS('Plan de couv'!$C$8:$C$373,Capa!$T226,'Plan de couv'!G$8:G$373,Paramètres!$A$3)+COUNTIFS('Plan de couv'!$C$8:$C$373,Capa!$T226,'Plan de couv'!G$8:G$373,Paramètres!$A$8)/2+COUNTIFS('Plan de couv'!$C$8:$C$373,Capa!$T226,'Plan de couv'!G$8:G$373,Paramètres!$A$9)/2 -> 1 | Y226: =COUNTIFS('Plan de couv'!$C$8:$C$373,Capa!$T226,'Plan de couv'!H$8:H$373,Paramètres!$A$3)+COUNTIFS('Plan de couv'!$C$8:$C$373,Capa!$T226,'Plan de couv'!H$8:H$373,Paramètres!$A$8)/2+COUNTIFS('Plan de couv'!$C$8:$C$373,Capa!$T226,'Plan de couv'!H$8:H$373,Paramètres!$A$9)/2 -> 1 | Z226: =COUNTIFS('Plan de couv'!$C$8:$C$373,Capa!$T226,'Plan de couv'!I$8:I$373,Paramètres!$A$3)+COUNTIFS('Plan de couv'!$C$8:$C$373,Capa!$T226,'Plan de couv'!I$8:I$373,Paramètres!$A$8)/2+COUNTIFS('Plan de couv'!$C$8:$C$373,Capa!$T226,'Plan de couv'!I$8:I$373,Paramètres!$A$9)/2 -> 1 | AA226: =COUNTIFS('Plan de couv'!$C$8:$C$373,Capa!$T226,'Plan de couv'!J$8:J$373,Paramètres!$A$3)+COUNTIFS('Plan de couv'!$C$8:$C$373,Capa!$T226,'Plan de couv'!J$8:J$373,Paramètres!$A$8)/2+COUNTIFS('Plan de couv'!$C$8:$C$373,Capa!$T226,'Plan de couv'!J$8:J$373,Paramètres!$A$9)/2 -> 1 | AB226: =COUNTIFS('Plan de couv'!$C$8:$C$373,Capa!$T226,'Plan de couv'!K$8:K$373,Paramètres!$A$3)+COUNTIFS('Plan de couv'!$C$8:$C$373,Capa!$T226,'Plan de couv'!K$8:K$373,Paramètres!$A$8)/2+COUNTIFS('Plan de couv'!$C$8:$C$373,Capa!$T226,'Plan de couv'!K$8:K$373,Paramètres!$A$9)/2 -> 1 | AC226: =COUNTIFS('Plan de couv'!$C$8:$C$373,Capa!$T226,'Plan de couv'!L$8:L$373,Paramètres!$A$3)+COUNTIFS('Plan de couv'!$C$8:$C$373,Capa!$T226,'Plan de couv'!L$8:L$373,Paramètres!$A$8)/2+COUNTIFS('Plan de couv'!$C$8:$C$373,Capa!$T226,'Plan de couv'!L$8:L$373,Paramètres!$A$9)/2 -> 1 | ... AP226: =COUNTIFS('Plan de couv'!$C$8:$C$373,Capa!$T226,'Plan de couv'!Y$8:Y$373,Paramètres!$A$3)+COUNTIFS('Plan de couv'!$C$8:$C$373,Capa!$T226,'Plan de couv'!Y$8:Y$373,Paramètres!$A$8)/2+COUNTIFS('Plan de couv'!$C$8:$C$373,Capa!$T226,'Plan de couv'!Y$8:Y$373,Paramètres!$A$9)/2 -> 1
R227: =MONTH(T227) -> 8 | S227: =WEEKNUM(T227) -> 33 | T227: =T226+1 -> 42591 | U227: =WEEKDAY(T227) -> 3 | V227: =COUNTIFS('Plan de couv'!$C$8:$C$373,Capa!$T227,'Plan de couv'!E$8:E$373,Paramètres!$A$3)+COUNTIFS('Plan de couv'!$C$8:$C$373,Capa!$T227,'Plan de couv'!E$8:E$373,Paramètres!$A$8)/2+COUNTIFS('Plan de couv'!$C$8:$C$373,Capa!$T227,'Plan de couv'!E$8:E$373,Paramètres!$A$9)/2 -> 1 | W227: =COUNTIFS('Plan de couv'!$C$8:$C$373,Capa!$T227,'Plan de couv'!F$8:F$373,Paramètres!$A$3)+COUNTIFS('Plan de couv'!$C$8:$C$373,Capa!$T227,'Plan de couv'!F$8:F$373,Paramètres!$A$8)/2+COUNTIFS('Plan de couv'!$C$8:$C$373,Capa!$T227,'Plan de couv'!F$8:F$373,Paramètres!$A$9)/2 -> 1 | X227: =COUNTIFS('Plan de couv'!$C$8:$C$373,Capa!$T227,'Plan de couv'!G$8:G$373,Paramètres!$A$3)+COUNTIFS('Plan de couv'!$C$8:$C$373,Capa!$T227,'Plan de couv'!G$8:G$373,Paramètres!$A$8)/2+COUNTIFS('Plan de couv'!$C$8:$C$373,Capa!$T227,'Plan de couv'!G$8:G$373,Paramètres!$A$9)/2 -> 1 | Y227: =COUNTIFS('Plan de couv'!$C$8:$C$373,Capa!$T227,'Plan de couv'!H$8:H$373,Paramètres!$A$3)+COUNTIFS('Plan de couv'!$C$8:$C$373,Capa!$T227,'Plan de couv'!H$8:H$373,Paramètres!$A$8)/2+COUNTIFS('Plan de couv'!$C$8:$C$373,Capa!$T227,'Plan de couv'!H$8:H$373,Paramètres!$A$9)/2 -> 1 | Z227: =COUNTIFS('Plan de couv'!$C$8:$C$373,Capa!$T227,'Plan de couv'!I$8:I$373,Paramètres!$A$3)+COUNTIFS('Plan de couv'!$C$8:$C$373,Capa!$T227,'Plan de couv'!I$8:I$373,Paramètres!$A$8)/2+COUNTIFS('Plan de couv'!$C$8:$C$373,Capa!$T227,'Plan de couv'!I$8:I$373,Paramètres!$A$9)/2 -> 1 | AA227: =COUNTIFS('Plan de couv'!$C$8:$C$373,Capa!$T227,'Plan de couv'!J$8:J$373,Paramètres!$A$3)+COUNTIFS('Plan de couv'!$C$8:$C$373,Capa!$T227,'Plan de couv'!J$8:J$373,Paramètres!$A$8)/2+COUNTIFS('Plan de couv'!$C$8:$C$373,Capa!$T227,'Plan de couv'!J$8:J$373,Paramètres!$A$9)/2 -> 1 | AB227: =COUNTIFS('Plan de couv'!$C$8:$C$373,Capa!$T227,'Plan de couv'!K$8:K$373,Paramètres!$A$3)+COUNTIFS('Plan de couv'!$C$8:$C$373,Capa!$T227,'Plan de couv'!K$8:K$373,Paramètres!$A$8)/2+COUNTIFS('Plan de couv'!$C$8:$C$373,Capa!$T227,'Plan de couv'!K$8:K$373,Paramètres!$A$9)/2 -> 1 | AC227: =COUNTIFS('Plan de couv'!$C$8:$C$373,Capa!$T227,'Plan de couv'!L$8:L$373,Paramètres!$A$3)+COUNTIFS('Plan de couv'!$C$8:$C$373,Capa!$T227,'Plan de couv'!L$8:L$373,Paramètres!$A$8)/2+COUNTIFS('Plan de couv'!$C$8:$C$373,Capa!$T227,'Plan de couv'!L$8:L$373,Paramètres!$A$9)/2 -> 1 | ... AP227: =COUNTIFS('Plan de couv'!$C$8:$C$373,Capa!$T227,'Plan de couv'!Y$8:Y$373,Paramètres!$A$3)+COUNTIFS('Plan de couv'!$C$8:$C$373,Capa!$T227,'Plan de couv'!Y$8:Y$373,Paramètres!$A$8)/2+COUNTIFS('Plan de couv'!$C$8:$C$373,Capa!$T227,'Plan de couv'!Y$8:Y$373,Paramètres!$A$9)/2 -> 1
R228: =MONTH(T228) -> 8 | S228: =WEEKNUM(T228) -> 33 | T228: =T227+1 -> 42592 | U228: =WEEKDAY(T228) -> 4 | V228: =COUNTIFS('Plan de couv'!$C$8:$C$373,Capa!$T228,'Plan de couv'!E$8:E$373,Paramètres!$A$3)+COUNTIFS('Plan de couv'!$C$8:$C$373,Capa!$T228,'Plan de couv'!E$8:E$373,Paramètres!$A$8)/2+COUNTIFS('Plan de couv'!$C$8:$C$373,Capa!$T228,'Plan de couv'!E$8:E$373,Paramètres!$A$9)/2 -> 1 | W228: =COUNTIFS('Plan de couv'!$C$8:$C$373,Capa!$T228,'Plan de couv'!F$8:F$373,Paramètres!$A$3)+COUNTIFS('Plan de couv'!$C$8:$C$373,Capa!$T228,'Plan de couv'!F$8:F$373,Paramètres!$A$8)/2+COUNTIFS('Plan de couv'!$C$8:$C$373,Capa!$T228,'Plan de couv'!F$8:F$373,Paramètres!$A$9)/2 -> 1 | X228: =COUNTIFS('Plan de couv'!$C$8:$C$373,Capa!$T228,'Plan de couv'!G$8:G$373,Paramètres!$A$3)+COUNTIFS('Plan de couv'!$C$8:$C$373,Capa!$T228,'Plan de couv'!G$8:G$373,Paramètres!$A$8)/2+COUNTIFS('Plan de couv'!$C$8:$C$373,Capa!$T228,'Plan de couv'!G$8:G$373,Paramètres!$A$9)/2 -> 1 | Y228: =COUNTIFS('Plan de couv'!$C$8:$C$373,Capa!$T228,'Plan de couv'!H$8:H$373,Paramètres!$A$3)+COUNTIFS('Plan de couv'!$C$8:$C$373,Capa!$T228,'Plan de couv'!H$8:H$373,Paramètres!$A$8)/2+COUNTIFS('Plan de couv'!$C$8:$C$373,Capa!$T228,'Plan de couv'!H$8:H$373,Paramètres!$A$9)/2 -> 1 | Z228: =COUNTIFS('Plan de couv'!$C$8:$C$373,Capa!$T228,'Plan de couv'!I$8:I$373,Paramètres!$A$3)+COUNTIFS('Plan de couv'!$C$8:$C$373,Capa!$T228,'Plan de couv'!I$8:I$373,Paramètres!$A$8)/2+COUNTIFS('Plan de couv'!$C$8:$C$373,Capa!$T228,'Plan de couv'!I$8:I$373,Paramètres!$A$9)/2 -> 1 | AA228: =COUNTIFS('Plan de couv'!$C$8:$C$373,Capa!$T228,'Plan de couv'!J$8:J$373,Paramètres!$A$3)+COUNTIFS('Plan de couv'!$C$8:$C$373,Capa!$T228,'Plan de couv'!J$8:J$373,Paramètres!$A$8)/2+COUNTIFS('Plan de couv'!$C$8:$C$373,Capa!$T228,'Plan de couv'!J$8:J$373,Paramètres!$A$9)/2 -> 1 | AB228: =COUNTIFS('Plan de couv'!$C$8:$C$373,Capa!$T228,'Plan de couv'!K$8:K$373,Paramètres!$A$3)+COUNTIFS('Plan de couv'!$C$8:$C$373,Capa!$T228,'Plan de couv'!K$8:K$373,Paramètres!$A$8)/2+COUNTIFS('Plan de couv'!$C$8:$C$373,Capa!$T228,'Plan de couv'!K$8:K$373,Paramètres!$A$9)/2 -> 1 | AC228: =COUNTIFS('Plan de couv'!$C$8:$C$373,Capa!$T228,'Plan de couv'!L$8:L$373,Paramètres!$A$3)+COUNTIFS('Plan de couv'!$C$8:$C$373,Capa!$T228,'Plan de couv'!L$8:L$373,Paramètres!$A$8)/2+COUNTIFS('Plan de couv'!$C$8:$C$373,Capa!$T228,'Plan de couv'!L$8:L$373,Paramètres!$A$9)/2 -> 1 | ... AP228: =COUNTIFS('Plan de couv'!$C$8:$C$373,Capa!$T228,'Plan de couv'!Y$8:Y$373,Paramètres!$A$3)+COUNTIFS('Plan de couv'!$C$8:$C$373,Capa!$T228,'Plan de couv'!Y$8:Y$373,Paramètres!$A$8)/2+COUNTIFS('Plan de couv'!$C$8:$C$373,Capa!$T228,'Plan de couv'!Y$8:Y$373,Paramètres!$A$9)/2 -> 1
R229: =MONTH(T229) -> 8 | S229: =WEEKNUM(T229) -> 33 | T229: =T228+1 -> 42593 | U229: =WEEKDAY(T229) -> 5 | V229: =COUNTIFS('Plan de couv'!$C$8:$C$373,Capa!$T229,'Plan de couv'!E$8:E$373,Paramètres!$A$3)+COUNTIFS('Plan de couv'!$C$8:$C$373,Capa!$T229,'Plan de couv'!E$8:E$373,Paramètres!$A$8)/2+COUNTIFS('Plan de couv'!$C$8:$C$373,Capa!$T229,'Plan de couv'!E$8:E$373,Paramètres!$A$9)/2 -> 0.5 | W229: =COUNTIFS('Plan de couv'!$C$8:$C$373,Capa!$T229,'Plan de couv'!F$8:F$373,Paramètres!$A$3)+COUNTIFS('Plan de couv'!$C$8:$C$373,Capa!$T229,'Plan de couv'!F$8:F$373,Paramètres!$A$8)/2+COUNTIFS('Plan de couv'!$C$8:$C$373,Capa!$T229,'Plan de couv'!F$8:F$373,Paramètres!$A$9)/2 -> 1 | X229: =COUNTIFS('Plan de couv'!$C$8:$C$373,Capa!$T229,'Plan de couv'!G$8:G$373,Paramètres!$A$3)+COUNTIFS('Plan de couv'!$C$8:$C$373,Capa!$T229,'Plan de couv'!G$8:G$373,Paramètres!$A$8)/2+COUNTIFS('Plan de couv'!$C$8:$C$373,Capa!$T229,'Plan de couv'!G$8:G$373,Paramètres!$A$9)/2 -> 1 | Y229: =COUNTIFS('Plan de couv'!$C$8:$C$373,Capa!$T229,'Plan de couv'!H$8:H$373,Paramètres!$A$3)+COUNTIFS('Plan de couv'!$C$8:$C$373,Capa!$T229,'Plan de couv'!H$8:H$373,Paramètres!$A$8)/2+COUNTIFS('Plan de couv'!$C$8:$C$373,Capa!$T229,'Plan de couv'!H$8:H$373,Paramètres!$A$9)/2 -> 1 | Z229: =COUNTIFS('Plan de couv'!$C$8:$C$373,Capa!$T229,'Plan de couv'!I$8:I$373,Paramètres!$A$3)+COUNTIFS('Plan de couv'!$C$8:$C$373,Capa!$T229,'Plan de couv'!I$8:I$373,Paramètres!$A$8)/2+COUNTIFS('Plan de couv'!$C$8:$C$373,Capa!$T229,'Plan de couv'!I$8:I$373,Paramètres!$A$9)/2 -> 1 | AA229: =COUNTIFS('Plan de couv'!$C$8:$C$373,Capa!$T229,'Plan de couv'!J$8:J$373,Paramètres!$A$3)+COUNTIFS('Plan de couv'!$C$8:$C$373,Capa!$T229,'Plan de couv'!J$8:J$373,Paramètres!$A$8)/2+COUNTIFS('Plan de couv'!$C$8:$C$373,Capa!$T229,'Plan de couv'!J$8:J$373,Paramètres!$A$9)/2 -> 1 | AB229: =COUNTIFS('Plan de couv'!$C$8:$C$373,Capa!$T229,'Plan de couv'!K$8:K$373,Paramètres!$A$3)+COUNTIFS('Plan de couv'!$C$8:$C$373,Capa!$T229,'Plan de couv'!K$8:K$373,Paramètres!$A$8)/2+COUNTIFS('Plan de couv'!$C$8:$C$373,Capa!$T229,'Plan de couv'!K$8:K$373,Paramètres!$A$9)/2 -> 1 | AC229: =COUNTIFS('Plan de couv'!$C$8:$C$373,Capa!$T229,'Plan de couv'!L$8:L$373,Paramètres!$A$3)+COUNTIFS('Plan de couv'!$C$8:$C$373,Capa!$T229,'Plan de couv'!L$8:L$373,Paramètres!$A$8)/2+COUNTIFS('Plan de couv'!$C$8:$C$373,Capa!$T229,'Plan de couv'!L$8:L$373,Paramètres!$A$9)/2 -> 1 | ... AP229: =COUNTIFS('Plan de couv'!$C$8:$C$373,Capa!$T229,'Plan de couv'!Y$8:Y$373,Paramètres!$A$3)+COUNTIFS('Plan de couv'!$C$8:$C$373,Capa!$T229,'Plan de couv'!Y$8:Y$373,Paramètres!$A$8)/2+COUNTIFS('Plan de couv'!$C$8:$C$373,Capa!$T229,'Plan de couv'!Y$8:Y$373,Paramètres!$A$9)/2 -> 1
R230: =MONTH(T230) -> 8 | S230: =WEEKNUM(T230) -> 33 | T230: =T229+1 -> 42594 | U230: =WEEKDAY(T230) -> 6 | V230: =COUNTIFS('Plan de couv'!$C$8:$C$373,Capa!$T230,'Plan de couv'!E$8:E$373,Paramètres!$A$3)+COUNTIFS('Plan de couv'!$C$8:$C$373,Capa!$T230,'Plan de couv'!E$8:E$373,Paramètres!$A$8)/2+COUNTIFS('Plan de couv'!$C$8:$C$373,Capa!$T230,'Plan de couv'!E$8:E$373,Paramètres!$A$9)/2 -> 1 | W230: =COUNTIFS('Plan de couv'!$C$8:$C$373,Capa!$T230,'Plan de couv'!F$8:F$373,Paramètres!$A$3)+COUNTIFS('Plan de couv'!$C$8:$C$373,Capa!$T230,'Plan de couv'!F$8:F$373,Paramètres!$A$8)/2+COUNTIFS('Plan de couv'!$C$8:$C$373,Capa!$T230,'Plan de couv'!F$8:F$373,Paramètres!$A$9)/2 -> 1 | X230: =COUNTIFS('Plan de couv'!$C$8:$C$373,Capa!$T230,'Plan de couv'!G$8:G$373,Paramètres!$A$3)+COUNTIFS('Plan de couv'!$C$8:$C$373,Capa!$T230,'Plan de couv'!G$8:G$373,Paramètres!$A$8)/2+COUNTIFS('Plan de couv'!$C$8:$C$373,Capa!$T230,'Plan de couv'!G$8:G$373,Paramètres!$A$9)/2 -> 1 | Y230: =COUNTIFS('Plan de couv'!$C$8:$C$373,Capa!$T230,'Plan de couv'!H$8:H$373,Paramètres!$A$3)+COUNTIFS('Plan de couv'!$C$8:$C$373,Capa!$T230,'Plan de couv'!H$8:H$373,Paramètres!$A$8)/2+COUNTIFS('Plan de couv'!$C$8:$C$373,Capa!$T230,'Plan de couv'!H$8:H$373,Paramètres!$A$9)/2 -> 1 | Z230: =COUNTIFS('Plan de couv'!$C$8:$C$373,Capa!$T230,'Plan de couv'!I$8:I$373,Paramètres!$A$3)+COUNTIFS('Plan de couv'!$C$8:$C$373,Capa!$T230,'Plan de couv'!I$8:I$373,Paramètres!$A$8)/2+COUNTIFS('Plan de couv'!$C$8:$C$373,Capa!$T230,'Plan de couv'!I$8:I$373,Paramètres!$A$9)/2 -> 1 | AA230: =COUNTIFS('Plan de couv'!$C$8:$C$373,Capa!$T230,'Plan de couv'!J$8:J$373,Paramètres!$A$3)+COUNTIFS('Plan de couv'!$C$8:$C$373,Capa!$T230,'Plan de couv'!J$8:J$373,Paramètres!$A$8)/2+COUNTIFS('Plan de couv'!$C$8:$C$373,Capa!$T230,'Plan de couv'!J$8:J$373,Paramètres!$A$9)/2 -> 1 | AB230: =COUNTIFS('Plan de couv'!$C$8:$C$373,Capa!$T230,'Plan de couv'!K$8:K$373,Paramètres!$A$3)+COUNTIFS('Plan de couv'!$C$8:$C$373,Capa!$T230,'Plan de couv'!K$8:K$373,Paramètres!$A$8)/2+COUNTIFS('Plan de couv'!$C$8:$C$373,Capa!$T230,'Plan de couv'!K$8:K$373,Paramètres!$A$9)/2 -> 1 | AC230: =COUNTIFS('Plan de couv'!$C$8:$C$373,Capa!$T230,'Plan de couv'!L$8:L$373,Paramètres!$A$3)+COUNTIFS('Plan de couv'!$C$8:$C$373,Capa!$T230,'Plan de couv'!L$8:L$373,Paramètres!$A$8)/2+COUNTIFS('Plan de couv'!$C$8:$C$373,Capa!$T230,'Plan de couv'!L$8:L$373,Paramètres!$A$9)/2 -> 1 | ... AP230: =COUNTIFS('Plan de couv'!$C$8:$C$373,Capa!$T230,'Plan de couv'!Y$8:Y$373,Paramètres!$A$3)+COUNTIFS('Plan de couv'!$C$8:$C$373,Capa!$T230,'Plan de couv'!Y$8:Y$373,Paramètres!$A$8)/2+COUNTIFS('Plan de couv'!$C$8:$C$373,Capa!$T230,'Plan de couv'!Y$8:Y$373,Paramètres!$A$9)/2 -> 1
R231: =MONTH(T231) -> 8 | S231: =WEEKNUM(T231) -> 33 | T231: =T230+1 -> 42595 | U231: =WEEKDAY(T231) -> 7 | V231: =COUNTIFS('Plan de couv'!$C$8:$C$373,Capa!$T231,'Plan de couv'!E$8:E$373,Paramètres!$A$3)+COUNTIFS('Plan de couv'!$C$8:$C$373,Capa!$T231,'Plan de couv'!E$8:E$373,Paramètres!$A$8)/2+COUNTIFS('Plan de couv'!$C$8:$C$373,Capa!$T231,'Plan de couv'!E$8:E$373,Paramètres!$A$9)/2 -> 0 | W231: =COUNTIFS('Plan de couv'!$C$8:$C$373,Capa!$T231,'Plan de couv'!F$8:F$373,Paramètres!$A$3)+COUNTIFS('Plan de couv'!$C$8:$C$373,Capa!$T231,'Plan de couv'!F$8:F$373,Paramètres!$A$8)/2+COUNTIFS('Plan de couv'!$C$8:$C$373,Capa!$T231,'Plan de couv'!F$8:F$373,Paramètres!$A$9)/2 -> 0 | X231: =COUNTIFS('Plan de couv'!$C$8:$C$373,Capa!$T231,'Plan de couv'!G$8:G$373,Paramètres!$A$3)+COUNTIFS('Plan de couv'!$C$8:$C$373,Capa!$T231,'Plan de couv'!G$8:G$373,Paramètres!$A$8)/2+COUNTIFS('Plan de couv'!$C$8:$C$373,Capa!$T231,'Plan de couv'!G$8:G$373,Paramètres!$A$9)/2 -> 0 | Y231: =COUNTIFS('Plan de couv'!$C$8:$C$373,Capa!$T231,'Plan de couv'!H$8:H$373,Paramètres!$A$3)+COUNTIFS('Plan de couv'!$C$8:$C$373,Capa!$T231,'Plan de couv'!H$8:H$373,Paramètres!$A$8)/2+COUNTIFS('Plan de couv'!$C$8:$C$373,Capa!$T231,'Plan de couv'!H$8:H$373,Paramètres!$A$9)/2 -> 0 | Z231: =COUNTIFS('Plan de couv'!$C$8:$C$373,Capa!$T231,'Plan de couv'!I$8:I$373,Paramètres!$A$3)+COUNTIFS('Plan de couv'!$C$8:$C$373,Capa!$T231,'Plan de couv'!I$8:I$373,Paramètres!$A$8)/2+COUNTIFS('Plan de couv'!$C$8:$C$373,Capa!$T231,'Plan de couv'!I$8:I$373,Paramètres!$A$9)/2 -> 0 | AA231: =COUNTIFS('Plan de couv'!$C$8:$C$373,Capa!$T231,'Plan de couv'!J$8:J$373,Paramètres!$A$3)+COUNTIFS('Plan de couv'!$C$8:$C$373,Capa!$T231,'Plan de couv'!J$8:J$373,Paramètres!$A$8)/2+COUNTIFS('Plan de couv'!$C$8:$C$373,Capa!$T231,'Plan de couv'!J$8:J$373,Paramètres!$A$9)/2 -> 0 | AB231: =COUNTIFS('Plan de couv'!$C$8:$C$373,Capa!$T231,'Plan de couv'!K$8:K$373,Paramètres!$A$3)+COUNTIFS('Plan de couv'!$C$8:$C$373,Capa!$T231,'Plan de couv'!K$8:K$373,Paramètres!$A$8)/2+COUNTIFS('Plan de couv'!$C$8:$C$373,Capa!$T231,'Plan de couv'!K$8:K$373,Paramètres!$A$9)/2 -> 0 | AC231: =COUNTIFS('Plan de couv'!$C$8:$C$373,Capa!$T231,'Plan de couv'!L$8:L$373,Paramètres!$A$3)+COUNTIFS('Plan de couv'!$C$8:$C$373,Capa!$T231,'Plan de couv'!L$8:L$373,Paramètres!$A$8)/2+COUNTIFS('Plan de couv'!$C$8:$C$373,Capa!$T231,'Plan de couv'!L$8:L$373,Paramètres!$A$9)/2 -> 0 | ... AP231: =COUNTIFS('Plan de couv'!$C$8:$C$373,Capa!$T231,'Plan de couv'!Y$8:Y$373,Paramètres!$A$3)+COUNTIFS('Plan de couv'!$C$8:$C$373,Capa!$T231,'Plan de couv'!Y$8:Y$373,Paramètres!$A$8)/2+COUNTIFS('Plan de couv'!$C$8:$C$373,Capa!$T231,'Plan de couv'!Y$8:Y$373,Paramètres!$A$9)/2 -> 0
R232: =MONTH(T232) -> 8 | S232: =WEEKNUM(T232) -> 34 | T232: =T231+1 -> 42596 | U232: =WEEKDAY(T232) -> 1 | V232: =COUNTIFS('Plan de couv'!$C$8:$C$373,Capa!$T232,'Plan de couv'!E$8:E$373,Paramètres!$A$3)+COUNTIFS('Plan de couv'!$C$8:$C$373,Capa!$T232,'Plan de couv'!E$8:E$373,Paramètres!$A$8)/2+COUNTIFS('Plan de couv'!$C$8:$C$373,Capa!$T232,'Plan de couv'!E$8:E$373,Paramètres!$A$9)/2 -> 0 | W232: =COUNTIFS('Plan de couv'!$C$8:$C$373,Capa!$T232,'Plan de couv'!F$8:F$373,Paramètres!$A$3)+COUNTIFS('Plan de couv'!$C$8:$C$373,Capa!$T232,'Plan de couv'!F$8:F$373,Paramètres!$A$8)/2+COUNTIFS('Plan de couv'!$C$8:$C$373,Capa!$T232,'Plan de couv'!F$8:F$373,Paramètres!$A$9)/2 -> 0 | X232: =COUNTIFS('Plan de couv'!$C$8:$C$373,Capa!$T232,'Plan de couv'!G$8:G$373,Paramètres!$A$3)+COUNTIFS('Plan de couv'!$C$8:$C$373,Capa!$T232,'Plan de couv'!G$8:G$373,Paramètres!$A$8)/2+COUNTIFS('Plan de couv'!$C$8:$C$373,Capa!$T232,'Plan de couv'!G$8:G$373,Paramètres!$A$9)/2 -> 0 | Y232: =COUNTIFS('Plan de couv'!$C$8:$C$373,Capa!$T232,'Plan de couv'!H$8:H$373,Paramètres!$A$3)+COUNTIFS('Plan de couv'!$C$8:$C$373,Capa!$T232,'Plan de couv'!H$8:H$373,Paramètres!$A$8)/2+COUNTIFS('Plan de couv'!$C$8:$C$373,Capa!$T232,'Plan de couv'!H$8:H$373,Paramètres!$A$9)/2 -> 0 | Z232: =COUNTIFS('Plan de couv'!$C$8:$C$373,Capa!$T232,'Plan de couv'!I$8:I$373,Paramètres!$A$3)+COUNTIFS('Plan de couv'!$C$8:$C$373,Capa!$T232,'Plan de couv'!I$8:I$373,Paramètres!$A$8)/2+COUNTIFS('Plan de couv'!$C$8:$C$373,Capa!$T232,'Plan de couv'!I$8:I$373,Paramètres!$A$9)/2 -> 0 | AA232: =COUNTIFS('Plan de couv'!$C$8:$C$373,Capa!$T232,'Plan de couv'!J$8:J$373,Paramètres!$A$3)+COUNTIFS('Plan de couv'!$C$8:$C$373,Capa!$T232,'Plan de couv'!J$8:J$373,Paramètres!$A$8)/2+COUNTIFS('Plan de couv'!$C$8:$C$373,Capa!$T232,'Plan de couv'!J$8:J$373,Paramètres!$A$9)/2 -> 0 | AB232: =COUNTIFS('Plan de couv'!$C$8:$C$373,Capa!$T232,'Plan de couv'!K$8:K$373,Paramètres!$A$3)+COUNTIFS('Plan de couv'!$C$8:$C$373,Capa!$T232,'Plan de couv'!K$8:K$373,Paramètres!$A$8)/2+COUNTIFS('Plan de couv'!$C$8:$C$373,Capa!$T232,'Plan de couv'!K$8:K$373,Paramètres!$A$9)/2 -> 0 | AC232: =COUNTIFS('Plan de couv'!$C$8:$C$373,Capa!$T232,'Plan de couv'!L$8:L$373,Paramètres!$A$3)+COUNTIFS('Plan de couv'!$C$8:$C$373,Capa!$T232,'Plan de couv'!L$8:L$373,Paramètres!$A$8)/2+COUNTIFS('Plan de couv'!$C$8:$C$373,Capa!$T232,'Plan de couv'!L$8:L$373,Paramètres!$A$9)/2 -> 0 | ... AP232: =COUNTIFS('Plan de couv'!$C$8:$C$373,Capa!$T232,'Plan de couv'!Y$8:Y$373,Paramètres!$A$3)+COUNTIFS('Plan de couv'!$C$8:$C$373,Capa!$T232,'Plan de couv'!Y$8:Y$373,Paramètres!$A$8)/2+COUNTIFS('Plan de couv'!$C$8:$C$373,Capa!$T232,'Plan de couv'!Y$8:Y$373,Paramètres!$A$9)/2 -> 0
R233: =MONTH(T233) -> 8 | S233: =WEEKNUM(T233) -> 34 | T233: =T232+1 -> 42597 | U233: =WEEKDAY(T233) -> 2 | V233: =COUNTIFS('Plan de couv'!$C$8:$C$373,Capa!$T233,'Plan de couv'!E$8:E$373,Paramètres!$A$3)+COUNTIFS('Plan de couv'!$C$8:$C$373,Capa!$T233,'Plan de couv'!E$8:E$373,Paramètres!$A$8)/2+COUNTIFS('Plan de couv'!$C$8:$C$373,Capa!$T233,'Plan de couv'!E$8:E$373,Paramètres!$A$9)/2 -> 0 | W233: =COUNTIFS('Plan de couv'!$C$8:$C$373,Capa!$T233,'Plan de couv'!F$8:F$373,Paramètres!$A$3)+COUNTIFS('Plan de couv'!$C$8:$C$373,Capa!$T233,'Plan de couv'!F$8:F$373,Paramètres!$A$8)/2+COUNTIFS('Plan de couv'!$C$8:$C$373,Capa!$T233,'Plan de couv'!F$8:F$373,Paramètres!$A$9)/2 -> 0 | X233: =COUNTIFS('Plan de couv'!$C$8:$C$373,Capa!$T233,'Plan de couv'!G$8:G$373,Paramètres!$A$3)+COUNTIFS('Plan de couv'!$C$8:$C$373,Capa!$T233,'Plan de couv'!G$8:G$373,Paramètres!$A$8)/2+COUNTIFS('Plan de couv'!$C$8:$C$373,Capa!$T233,'Plan de couv'!G$8:G$373,Paramètres!$A$9)/2 -> 0 | Y233: =COUNTIFS('Plan de couv'!$C$8:$C$373,Capa!$T233,'Plan de couv'!H$8:H$373,Paramètres!$A$3)+COUNTIFS('Plan de couv'!$C$8:$C$373,Capa!$T233,'Plan de couv'!H$8:H$373,Paramètres!$A$8)/2+COUNTIFS('Plan de couv'!$C$8:$C$373,Capa!$T233,'Plan de couv'!H$8:H$373,Paramètres!$A$9)/2 -> 0 | Z233: =COUNTIFS('Plan de couv'!$C$8:$C$373,Capa!$T233,'Plan de couv'!I$8:I$373,Paramètres!$A$3)+COUNTIFS('Plan de couv'!$C$8:$C$373,Capa!$T233,'Plan de couv'!I$8:I$373,Paramètres!$A$8)/2+COUNTIFS('Plan de couv'!$C$8:$C$373,Capa!$T233,'Plan de couv'!I$8:I$373,Paramètres!$A$9)/2 -> 0 | AA233: =COUNTIFS('Plan de couv'!$C$8:$C$373,Capa!$T233,'Plan de couv'!J$8:J$373,Paramètres!$A$3)+COUNTIFS('Plan de couv'!$C$8:$C$373,Capa!$T233,'Plan de couv'!J$8:J$373,Paramètres!$A$8)/2+COUNTIFS('Plan de couv'!$C$8:$C$373,Capa!$T233,'Plan de couv'!J$8:J$373,Paramètres!$A$9)/2 -> 0 | AB233: =COUNTIFS('Plan de couv'!$C$8:$C$373,Capa!$T233,'Plan de couv'!K$8:K$373,Paramètres!$A$3)+COUNTIFS('Plan de couv'!$C$8:$C$373,Capa!$T233,'Plan de couv'!K$8:K$373,Paramètres!$A$8)/2+COUNTIFS('Plan de couv'!$C$8:$C$373,Capa!$T233,'Plan de couv'!K$8:K$373,Paramètres!$A$9)/2 -> 0 | AC233: =COUNTIFS('Plan de couv'!$C$8:$C$373,Capa!$T233,'Plan de couv'!L$8:L$373,Paramètres!$A$3)+COUNTIFS('Plan de couv'!$C$8:$C$373,Capa!$T233,'Plan de couv'!L$8:L$373,Paramètres!$A$8)/2+COUNTIFS('Plan de couv'!$C$8:$C$373,Capa!$T233,'Plan de couv'!L$8:L$373,Paramètres!$A$9)/2 -> 0 | ... AP233: =COUNTIFS('Plan de couv'!$C$8:$C$373,Capa!$T233,'Plan de couv'!Y$8:Y$373,Paramètres!$A$3)+COUNTIFS('Plan de couv'!$C$8:$C$373,Capa!$T233,'Plan de couv'!Y$8:Y$373,Paramètres!$A$8)/2+COUNTIFS('Plan de couv'!$C$8:$C$373,Capa!$T233,'Plan de couv'!Y$8:Y$373,Paramètres!$A$9)/2 -> 0
... R371: =MONTH(T371) -> 12 | S371: =WEEKNUM(T371) -> 53 | T371: =T370+1 -> 42735 | U371: =WEEKDAY(T371) -> 7 | V371: =COUNTIFS('Plan de couv'!$C$8:$C$373,Capa!$T371,'Plan de couv'!E$8:E$373,Paramètres!$A$3)+COUNTIFS('Plan de couv'!$C$8:$C$373,Capa!$T371,'Plan de couv'!E$8:E$373,Paramètres!$A$8)/2+COUNTIFS('Plan de couv'!$C$8:$C$373,Capa!$T371,'Plan de couv'!E$8:E$373,Paramètres!$A$9)/2 -> 0 | W371: =COUNTIFS('Plan de couv'!$C$8:$C$373,Capa!$T371,'Plan de couv'!F$8:F$373,Paramètres!$A$3)+COUNTIFS('Plan de couv'!$C$8:$C$373,Capa!$T371,'Plan de couv'!F$8:F$373,Paramètres!$A$8)/2+COUNTIFS('Plan de couv'!$C$8:$C$373,Capa!$T371,'Plan de couv'!F$8:F$373,Paramètres!$A$9)/2 -> 0 | X371: =COUNTIFS('Plan de couv'!$C$8:$C$373,Capa!$T371,'Plan de couv'!G$8:G$373,Paramètres!$A$3)+COUNTIFS('Plan de couv'!$C$8:$C$373,Capa!$T371,'Plan de couv'!G$8:G$373,Paramètres!$A$8)/2+COUNTIFS('Plan de couv'!$C$8:$C$373,Capa!$T371,'Plan de couv'!G$8:G$373,Paramètres!$A$9)/2 -> 0 | Y371: =COUNTIFS('Plan de couv'!$C$8:$C$373,Capa!$T371,'Plan de couv'!H$8:H$373,Paramètres!$A$3)+COUNTIFS('Plan de couv'!$C$8:$C$373,Capa!$T371,'Plan de couv'!H$8:H$373,Paramètres!$A$8)/2+COUNTIFS('Plan de couv'!$C$8:$C$373,Capa!$T371,'Plan de couv'!H$8:H$373,Paramètres!$A$9)/2 -> 0 | Z371: =COUNTIFS('Plan de couv'!$C$8:$C$373,Capa!$T371,'Plan de couv'!I$8:I$373,Paramètres!$A$3)+COUNTIFS('Plan de couv'!$C$8:$C$373,Capa!$T371,'Plan de couv'!I$8:I$373,Paramètres!$A$8)/2+COUNTIFS('Plan de couv'!$C$8:$C$373,Capa!$T371,'Plan de couv'!I$8:I$373,Paramètres!$A$9)/2 -> 0 | AA371: =COUNTIFS('Plan de couv'!$C$8:$C$373,Capa!$T371,'Plan de couv'!J$8:J$373,Paramètres!$A$3)+COUNTIFS('Plan de couv'!$C$8:$C$373,Capa!$T371,'Plan de couv'!J$8:J$373,Paramètres!$A$8)/2+COUNTIFS('Plan de couv'!$C$8:$C$373,Capa!$T371,'Plan de couv'!J$8:J$373,Paramètres!$A$9)/2 -> 0 | AB371: =COUNTIFS('Plan de couv'!$C$8:$C$373,Capa!$T371,'Plan de couv'!K$8:K$373,Paramètres!$A$3)+COUNTIFS('Plan de couv'!$C$8:$C$373,Capa!$T371,'Plan de couv'!K$8:K$373,Paramètres!$A$8)/2+COUNTIFS('Plan de couv'!$C$8:$C$373,Capa!$T371,'Plan de couv'!K$8:K$373,Paramètres!$A$9)/2 -> 0 | AC371: =COUNTIFS('Plan de couv'!$C$8:$C$373,Capa!$T371,'Plan de couv'!L$8:L$373,Paramètres!$A$3)+COUNTIFS('Plan de couv'!$C$8:$C$373,Capa!$T371,'Plan de couv'!L$8:L$373,Paramètres!$A$8)/2+COUNTIFS('Plan de couv'!$C$8:$C$373,Capa!$T371,'Plan de couv'!L$8:L$373,Paramètres!$A$9)/2 -> 0 | ... AP371: =COUNTIFS('Plan de couv'!$C$8:$C$373,Capa!$T371,'Plan de couv'!Y$8:Y$373,Paramètres!$A$3)+COUNTIFS('Plan de couv'!$C$8:$C$373,Capa!$T371,'Plan de couv'!Y$8:Y$373,Paramètres!$A$8)/2+COUNTIFS('Plan de couv'!$C$8:$C$373,Capa!$T371,'Plan de couv'!Y$8:Y$373,Paramètres!$A$9)/2 -> 0
V372: =SUM(V6:V371) -> 57.5 | W372: =SUM(W6:W371) -> 59 | X372: =SUM(X6:X371) -> 59 | Y372: =SUM(Y6:Y371) -> 59 | Z372: =SUM(Z6:Z371) -> 59 | AA372: =SUM(AA6:AA371) -> 59 | AB372: =SUM(AB6:AB371) -> 59 | AC372: =SUM(AC6:AC371) -> 59 | ... AP372: =SUM(AP6:AP371) -> 59

Sheet Plan de couv
A2: 2016
A7: mois | B7: semaine | C7: date | D7: jour | E7: Collab 1 | F7: Collab 2 | G7: Collab 3 | H7: Collab 4 | I7: Collab 5 | J7: Collab 6 | K7: Collab 7 | L7: Collab 8 | M7: Collab 9 | N7: Collab 10 | O7: Collab 11 | P7: Collab 12 | Q7: Collab 13 | R7: Collab 14 | S7: Collab 15 | T7: Collab 16 | U7: Collab 17 | V7: Collab 18 | W7: Collab 19 | X7: Collab 20 | Y7: Collab 21
A8: =MONTH(C8) -> 1 | B8: =WEEKNUM(C8) -> 1 | C8: =DATE(AN,1,1) -> 42370 | D8: =WEEKDAY(C8) -> 6
A9: =MONTH(C9) -> 1 | B9: =WEEKNUM(C9) -> 1 | C9: =C8+1 -> 42371 | D9: =WEEKDAY(C9) -> 7
A10: =MONTH(C10) -> 1 | B10: =WEEKNUM(C10) -> 2 | C10: =C9+1 -> 42372 | D10: =WEEKDAY(C10) -> 1
A11: =MONTH(C11) -> 1 | B11: =WEEKNUM(C11) -> 2 | C11: =C10+1 -> 42373 | D11: =WEEKDAY(C11) -> 2
A12: =MONTH(C12) -> 1 | B12: =WEEKNUM(C12) -> 2 | C12: =C11+1 -> 42374 | D12: =WEEKDAY(C12) -> 3
A13: =MONTH(C13) -> 1 | B13: =WEEKNUM(C13) -> 2 | C13: =C12+1 -> 42375 | D13: =WEEKDAY(C13) -> 4
A14: =MONTH(C14) -> 1 | B14: =WEEKNUM(C14) -> 2 | C14: =C13+1 -> 42376 | D14: =WEEKDAY(C14) -> 5
A15: =MONTH(C15) -> 1 | B15: =WEEKNUM(C15) -> 2 | C15: =C14+1 -> 42377 | D15: =WEEKDAY(C15) -> 6
A16: =MONTH(C16) -> 1 | B16: =WEEKNUM(C16) -> 2 | C16: =C15+1 -> 42378 | D16: =WEEKDAY(C16) -> 7
A17: =MONTH(C17) -> 1 | B17: =WEEKNUM(C17) -> 3 | C17: =C16+1 -> 42379 | D17: =WEEKDAY(C17) -> 1
A18: =MONTH(C18) -> 1 | B18: =WEEKNUM(C18) -> 3 | C18: =C17+1 -> 42380 | D18: =WEEKDAY(C18) -> 2
A19: =MONTH(C19) -> 1 | B19: =WEEKNUM(C19) -> 3 | C19: =C18+1 -> 42381 | D19: =WEEKDAY(C19) -> 3
A20: =MONTH(C20) -> 1 | B20: =WEEKNUM(C20) -> 3 | C20: =C19+1 -> 42382 | D20: =WEEKDAY(C20) -> 4
... A220: =MONTH(C220) -> 7 | B220: =WEEKNUM(C220) -> 32 | C220: =C219+1 -> 42582 | D220: =WEEKDAY(C220) -> 1
A221: =MONTH(C221) -> 8 | B221: =WEEKNUM(C221) -> 32 | C221: =C220+1 -> 42583 | D221: =WEEKDAY(C221) -> 2 | E221: P | F221: P | G221: P | H221: P | I221: P | J221: P | K221: P | L221: P | M221: P | N221: P | O221: P | P221: P | Q221: P | R221: P | S221: P | T221: P | U221: P | V221: P | W221: P | X221: P | Y221: P
A222: =MONTH(C222) -> 8 | B222: =WEEKNUM(C222) -> 32 | C222: =C221+1 -> 42584 | D222: =WEEKDAY(C222) -> 3 | E222: P | F222: P | G222: P | H222: P | I222: P | J222: P | K222: P | L222: P | M222: P | N222: P | O222: P | P222: P | Q222: P | R222: P | S222: P | T222: P | U222: P | V222: P | W222: P | X222: P | Y222: P
A223: =MONTH(C223) -> 8 | B223: =WEEKNUM(C223) -> 32 | C223: =C222+1 -> 42585 | D223: =WEEKDAY(C223) -> 4 | E223: P | F223: P | G223: P | H223: P | I223: P | J223: P | K223: P | L223: P | M223: P | N223: P | O223: P | P223: P | Q223: P | R223: P | S223: P | T223: P | U223: P | V223: P | W223: P | X223: P | Y223: P
A224: =MONTH(C224) -> 8 | B224: =WEEKNUM(C224) -> 32 | C224: =C223+1 -> 42586 | D224: =WEEKDAY(C224) -> 5 | E224: C | F224: P | G224: P | H224: P | I224: P | J224: P | K224: P | L224: P | M224: P | N224: P | O224: P | P224: P | Q224: P | R224: P | S224: P | T224: P | U224: P | V224: P | W224: P | X224: P | Y224: P
A225: =MONTH(C225) -> 8 | B225: =WEEKNUM(C225) -> 32 | C225: =C224+1 -> 42587 | D225: =WEEKDAY(C225) -> 6 | E225: P | F225: P | G225: P | H225: P | I225: P | J225: P | K225: P | L225: P | M225: P | N225: P | O225: P | P225: P | Q225: P | R225: P | S225: P | T225: P | U225: P | V225: P | W225: P | X225: P | Y225: P
A226: =MONTH(C226) -> 8 | B226: =WEEKNUM(C226) -> 32 | C226: =C225+1 -> 42588 | D226: =WEEKDAY(C226) -> 7
A227: =MONTH(C227) -> 8 | B227: =WEEKNUM(C227) -> 33 | C227: =C226+1 -> 42589 | D227: =WEEKDAY(C227) -> 1
A228: =MONTH(C228) -> 8 | B228: =WEEKNUM(C228) -> 33 | C228: =C227+1 -> 42590 | D228: =WEEKDAY(C228) -> 2 | E228: P | F228: P | G228: P | H228: P | I228: P | J228: P | K228: P | L228: P | M228: P | N228: P | O228: P | P228: P | Q228: P | R228: P | S228: P | T228: P | U228: P | V228: P | W228: P | X228: P | Y228: P
A229: =MONTH(C229) -> 8 | B229: =WEEKNUM(C229) -> 33 | C229: =C228+1 -> 42591 | D229: =WEEKDAY(C229) -> 3 | E229: P | F229: P | G229: P | H229: P | I229: P | J229: P | K229: P | L229: P | M229: P | N229: P | O229: P | P229: P | Q229: P | R229: P | S229: P | T229: P | U229: P | V229: P | W229: P | X229: P | Y229: P
A230: =MONTH(C230) -> 8 | B230: =WEEKNUM(C230) -> 33 | C230: =C229+1 -> 42592 | D230: =WEEKDAY(C230) -> 4 | E230: P | F230: P | G230: P | H230: P | I230: P | J230: P | K230: P | L230: P | M230: P | N230: P | O230: P | P230: P | Q230: P | R230: P | S230: P | T230: P | U230: P | V230: P | W230: P | X230: P | Y230: P
A231: =MONTH(C231) -> 8 | B231: =WEEKNUM(C231) -> 33 | C231: =C230+1 -> 42593 | D231: =WEEKDAY(C231) -> 5 | E231: Ram | F231: P | G231: P | H231: P | I231: P | J231: P | K231: P | L231: P | M231: P | N231: P | O231: P | P231: P | Q231: P | R231: P | S231: P | T231: P | U231: P | V231: P | W231: P | X231: P | Y231: P
A232: =MONTH(C232) -> 8 | B232: =WEEKNUM(C232) -> 33 | C232: =C231+1 -> 42594 | D232: =WEEKDAY(C232) -> 6 | E232: P | F232: P | G232: P | H232: P | I232: P | J232: P | K232: P | L232: P | M232: P | N232: P | O232: P | P232: P | Q232: P | R232: P | S232: P | T232: P | U232: P | V232: P | W232: P | X232: P | Y232: P
A233: =MONTH(C233) -> 8 | B233: =WEEKNUM(C233) -> 33 | C233: =C232+1 -> 42595 | D233: =WEEKDAY(C233) -> 7
A234: =MONTH(C234) -> 8 | B234: =WEEKNUM(C234) -> 34 | C234: =C233+1 -> 42596 | D234: =WEEKDAY(C234) -> 1
A235: =MONTH(C235) -> 8 | B235: =WEEKNUM(C235) -> 34 | C235: =C234+1 -> 42597 | D235: =WEEKDAY(C235) -> 2
A236: =MONTH(C236) -> 8 | B236: =WEEKNUM(C236) -> 34 | C236: =C235+1 -> 42598 | D236: =WEEKDAY(C236) -> 3 | E236: P | F236: P | G236: P | H236: P | I236: P | J236: P | K236: P | L236: P | M236: P | N236: P | O236: P | P236: P | Q236: P | R236: P | S236: P | T236: P | U236: P | V236: P | W236: P | X236: P | Y236: P
A237: =MONTH(C237) -> 8 | B237: =WEEKNUM(C237) -> 34 | C237: =C236+1 -> 42599 | D237: =WEEKDAY(C237) -> 4 | E237: P | F237: P | G237: P | H237: P | I237: P | J237: P | K237: P | L237: P | M237: P | N237: P | O237: P | P237: P | Q237: P | R237: P | S237: P | T237: P | U237: P | V237: P | W237: P | X237: P | Y237: P
A238: =MONTH(C238) -> 8 | B238: =WEEKNUM(C238) -> 34 | C238: =C237+1 -> 42600 | D238: =WEEKDAY(C238) -> 5 | E238: P | F238: P | G238: P | H238: P | I238: P | J238: P | K238: P | L238: P | M238: P | N238: P | O238: P | P238: P | Q238: P | R238: P | S238: P | T238: P | U238: P | V238: P | W238: P | X238: P | Y238: P
A239: =MONTH(C239) -> 8 | B239: =WEEKNUM(C239) -> 34 | C239: =C238+1 -> 42601 | D239: =WEEKDAY(C239) -> 6 | E239: P | F239: P | G239: P | H239: P | I239: P | J239: P | K239: P | L239: P | M239: P | N239: P | O239: P | P239: P | Q239: P | R239: P | S239: P | T239: P | U239: P | V239: P | W239: P | X239: P | Y239: P
A240: =MONTH(C240) -> 8 | B240: =WEEKNUM(C240) -> 34 | C240: =C239+1 -> 42602 | D240: =WEEKDAY(C240) -> 7
A241: =MONTH(C241) -> 8 | B241: =WEEKNUM(C241) -> 35 | C241: =C240+1 -> 42603 | D241: =WEEKDAY(C241) -> 1
A242: =MONTH(C242) -> 8 | B242: =WEEKNUM(C242) -> 35 | C242: =C241+1 -> 42604 | D242: =WEEKDAY(C242) -> 2 | E242: P | F242: P | G242: P | H242: P | I242: P | J242: P | K242: P | L242: P | M242: P | N242: P | O242: P | P242: P | Q242: P | R242: P | S242: P | T242: P | U242: P | V242: P | W242: P | X242: P | Y242: P
A243: =MONTH(C243) -> 8 | B243: =WEEKNUM(C243) -> 35 | C243: =C242+1 -> 42605 | D243: =WEEKDAY(C243) -> 3 | E243: P | F243: P | G243: P | H243: P | I243: P | J243: P | K243: P | L243: P | M243: P | N243: P | O243: P | P243: P | Q243: P | R243: P | S243: P | T243: P | U243: P | V243: P | W243: P | X243: P | Y243: P
A244: =MONTH(C244) -> 8 | B244: =WEEKNUM(C244) -> 35 | C244: =C243+1 -> 42606 | D244: =WEEKDAY(C244) -> 4 | E244: P | F244: P | G244: P | H244: P | I244: P | J244: P | K244: P | L244: P | M244: P | N244: P | O244: P | P244: P | Q244: P | R244: P | S244: P | T244: P | U244: P | V244: P | W244: P | X244: P | Y244: P
A245: =MONTH(C245) -> 8 | B245: =WEEKNUM(C245) -> 35 | C245: =C244+1 -> 42607 | D245: =WEEKDAY(C245) -> 5 | E245: P | F245: P | G245: P | H245: P | I245: P | J245: P | K245: P | L245: P | M245: P | N245: P | O245: P | P245: P | Q245: P | R245: P | S245: P | T245: P | U245: P | V245: P | W245: P | X245: P | Y245: P
A246: =MONTH(C246) -> 8 | B246: =WEEKNUM(C246) -> 35 | C246: =C245+1 -> 42608 | D246: =WEEKDAY(C246) -> 6 | E246: P | F246: P | G246: P | H246: P | I246: P | J246: P | K246: P | L246: P | M246: P | N246: P | O246: P | P246: P | Q246: P | R246: P | S246: P | T246: P | U246: P | V246: P | W246: P | X246: P | Y246: P
A247: =MONTH(C247) -> 8 | B247: =WEEKNUM(C247) -> 35 | C247: =C246+1 -> 42609 | D247: =WEEKDAY(C247) -> 7
A248: =MONTH(C248) -> 8 | B248: =WEEKNUM(C248) -> 36 | C248: =C247+1 -> 42610 | D248: =WEEKDAY(C248) -> 1
A249: =MONTH(C249) -> 8 | B249: =WEEKNUM(C249) -> 36 | C249: =C248+1 -> 42611 | D249: =WEEKDAY(C249) -> 2 | E249: P | F249: P | G249: P | H249: P | I249: P | J249: P | K249: P | L249: P | M249: P | N249: P | O249: P | P249: P | Q249: P | R249: P | S249: P | T249: P | U249: P | V249: P | W249: P | X249: P | Y249: P
A250: =MONTH(C250) -> 8 | B250: =WEEKNUM(C250) -> 36 | C250: =C249+1 -> 42612 | D250: =WEEKDAY(C250) -> 3 | E250: P | F250: P | G250: P | H250: P | I250: P | J250: P | K250: P | L250: P | M250: P | N250: P | O250: P | P250: P | Q250: P | R250: P | S250: P | T250: P | U250: P | V250: P | W250: P | X250: P | Y250: P
A251: =MONTH(C251) -> 8 | B251: =WEEKNUM(C251) -> 36 | C251: =C250+1 -> 42613 | D251: =WEEKDAY(C251) -> 4 | E251: P | F251: P | G251: P | H251: P | I251: P | J251: P | K251: P | L251: P | M251: P | N251: P | O251: P | P251: P | Q251: P | R251: P | S251: P | T251: P | U251: P | V251: P | W251: P | X251: P | Y251: P
A252: =MONTH(C252) -> 9 | B252: =WEEKNUM(C252) -> 36 | C252: =C251+1 -> 42614 | D252: =WEEKDAY(C252) -> 5 | E252: P | F252: P | G252: P | H252: P | I252: P | J252: P | K252: P | L252: P | M252: P | N252: P | O252: P | P252: P | Q252: P | R252: P | S252: P | T252: P | U252: P | V252: P | W252: P | X252: P | Y252: P
A253: =MONTH(C253) -> 9 | B253: =WEEKNUM(C253) -> 36 | C253: =C252+1 -> 42615 | D253: =WEEKDAY(C253) -> 6 | E253: P | F253: P | G253: P | H253: P | I253: P | J253: P | K253: P | L253: P | M253: P | N253: P | O253: P | P253: P | Q253: P | R253: P | S253: P | T253: P | U253: P | V253: P | W253: P | X253: P | Y253: P
A254: =MONTH(C254) -> 9 | B254: =WEEKNUM(C254) -> 36 | C254: =C253+1 -> 42616 | D254: =WEEKDAY(C254) -> 7
A255: =MONTH(C255) -> 9 | B255: =WEEKNUM(C255) -> 37 | C255: =C254+1 -> 42617 | D255: =WEEKDAY(C255) -> 1
A256: =MONTH(C256) -> 9 | B256: =WEEKNUM(C256) -> 37 | C256: =C255+1 -> 42618 | D256: =WEEKDAY(C256) -> 2 | E256: P | F256: P | G256: P | H256: P | I256: P | J256: P | K256: P | L256: P | M256: P | N256: P | O256: P | P256: P | Q256: P | R256: P | S256: P | T256: P | U256: P | V256: P | W256: P | X256: P | Y256: P
A257: =MONTH(C257) -> 9 | B257: =WEEKNUM(C257) -> 37 | C257: =C256+1 -> 42619 | D257: =WEEKDAY(C257) -> 3 | E257: P | F257: P | G257: P | H257: P | I257: P | J257: P | K257: P | L257: P | M257: P | N257: P | O257: P | P257: P | Q257: P | R257: P | S257: P | T257: P | U257: P | V257: P | W257: P | X257: P | Y257: P
A258: =MONTH(C258) -> 9 | B258: =WEEKNUM(C258) -> 37 | C258: =C257+1 -> 42620 | D258: =WEEKDAY(C258) -> 4 | E258: P | F258: P | G258: P | H258: P | I258: P | J258: P | K258: P | L258: P | M258: P | N258: P | O258: P | P258: P | Q258: P | R258: P | S258: P | T258: P | U258: P | V258: P | W258: P | X258: P | Y258: P
A259: =MONTH(C259) -> 9 | B259: =WEEKNUM(C259) -> 37 | C259: =C258+1 -> 42621 | D259: =WEEKDAY(C259) -> 5 | E259: P | F259: P | G259: P | H259: P | I259: P | J259: P | K259: P | L259: P | M259: P | N259: P | O259: P | P259: P | Q259: P | R259: P | S259: P | T259: P | U259: P | V259: P | W259: P | X259: P | Y259: P
A260: =MONTH(C260) -> 9 | B260: =WEEKNUM(C260) -> 37 | C260: =C259+1 -> 42622 | D260: =WEEKDAY(C260) -> 6 | E260: P | F260: P | G260: P | H260: P | I260: P | J260: P | K260: P | L260: P | M260: P | N260: P | O260: P | P260: P | Q260: P | R260: P | S260: P | T260: P | U260: P | V260: P | W260: P | X260: P | Y260: P
A261: =MONTH(C261) -> 9 | B261: =WEEKNUM(C261) -> 37 | C261: =C260+1 -> 42623 | D261: =WEEKDAY(C261) -> 7
A262: =MONTH(C262) -> 9 | B262: =WEEKNUM(C262) -> 38 | C262: =C261+1 -> 42624 | D262: =WEEKDAY(C262) -> 1
A263: =MONTH(C263) -> 9 | B263: =WEEKNUM(C263) -> 38 | C263: =C262+1 -> 42625 | D263: =WEEKDAY(C263) -> 2 | E263: P | F263: P | G263: P | H263: P | I263: P | J263: P | K263: P | L263: P | M263: P | N263: P | O263: P | P263: P | Q263: P | R263: P | S263: P | T263: P | U263: P | V263: P | W263: P | X263: P | Y263: P
A264: =MONTH(C264) -> 9 | B264: =WEEKNUM(C264) -> 38 | C264: =C263+1 -> 42626 | D264: =WEEKDAY(C264) -> 3 | E264: P | F264: P | G264: P | H264: P | I264: P | J264: P | K264: P | L264: P | M264: P | N264: P | O264: P | P264: P | Q264: P | R264: P | S264: P | T264: P | U264: P | V264: P | W264: P | X264: P | Y264: P
A265: =MONTH(C265) -> 9 | B265: =WEEKNUM(C265) -> 38 | C265: =C264+1 -> 42627 | D265: =WEEKDAY(C265) -> 4 | E265: P | F265: P | G265: P | H265: P | I265: P | J265: P | K265: P | L265: P | M265: P | N265: P | O265: P | P265: P | Q265: P | R265: P | S265: P | T265: P | U265: P | V265: P | W265: P | X265: P | Y265: P
A266: =MONTH(C266) -> 9 | B266: =WEEKNUM(C266) -> 38 | C266: =C265+1 -> 42628 | D266: =WEEKDAY(C266) -> 5 | E266: P | F266: P | G266: P | H266: P | I266: P | J266: P | K266: P | L266: P | M266: P | N266: P | O266: P | P266: P | Q266: P | R266: P | S266: P | T266: P | U266: P | V266: P | W266: P | X266: P | Y266: P
A267: =MONTH(C267) -> 9 | B267: =WEEKNUM(C267) -> 38 | C267: =C266+1 -> 42629 | D267: =WEEKDAY(C267) -> 6 | E267: P | F267: P | G267: P | H267: P | I267: P | J267: P | K267: P | L267: P | M267: P | N267: P | O267: P | P267: P | Q267: P | R267: P | S267: P | T267: P | U267: P | V267: P | W267: P | X267: P | Y267: P
A268: =MONTH(C268) -> 9 | B268: =WEEKNUM(C268) -> 38 | C268: =C267+1 -> 42630 | D268: =WEEKDAY(C268) -> 7
A269: =MONTH(C269) -> 9 | B269: =WEEKNUM(C269) -> 39 | C269: =C268+1 -> 42631 | D269: =WEEKDAY(C269) -> 1
A270: =MONTH(C270) -> 9 | B270: =WEEKNUM(C270) -> 39 | C270: =C269+1 -> 42632 | D270: =WEEKDAY(C270) -> 2 | E270: P | F270: P | G270: P | H270: P | I270: P | J270: P | K270: P | L270: P | M270: P | N270: P | O270: P | P270: P | Q270: P | R270: P | S270: P | T270: P | U270: P | V270: P | W270: P | X270: P | Y270: P
A271: =MONTH(C271) -> 9 | B271: =WEEKNUM(C271) -> 39 | C271: =C270+1 -> 42633 | D271: =WEEKDAY(C271) -> 3 | E271: P | F271: P | G271: P | H271: P | I271: P | J271: P | K271: P | L271: P | M271: P | N271: P | O271: P | P271: P | Q271: P | R271: P | S271: P | T271: P | U271: P | V271: P | W271: P | X271: P | Y271: P
A272: =MONTH(C272) -> 9 | B272: =WEEKNUM(C272) -> 39 | C272: =C271+1 -> 42634 | D272: =WEEKDAY(C272) -> 4 | E272: P | F272: P | G272: P | H272: P | I272: P | J272: P | K272: P | L272: P | M272: P | N272: P | O272: P | P272: P | Q272: P | R272: P | S272: P | T272: P | U272: P | V272: P | W272: P | X272: P | Y272: P
A273: =MONTH(C273) -> 9 | B273: =WEEKNUM(C273) -> 39 | C273: =C272+1 -> 42635 | D273: =WEEKDAY(C273) -> 5 | E273: P | F273: P | G273: P | H273: P | I273: P | J273: P | K273: P | L273: P | M273: P | N273: P | O273: P | P273: P | Q273: P | R273: P | S273: P | T273: P | U273: P | V273: P | W273: P | X273: P | Y273: P
A274: =MONTH(C274) -> 9 | B274: =WEEKNUM(C274) -> 39 | C274: =C273+1 -> 42636 | D274: =WEEKDAY(C274) -> 6 | E274: P | F274: P | G274: P | H274: P | I274: P | J274: P | K274: P | L274: P | M274: P | N274: P | O274: P | P274: P | Q274: P | R274: P | S274: P | T274: P | U274: P | V274: P | W274: P | X274: P | Y274: P
A275: =MONTH(C275) -> 9 | B275: =WEEKNUM(C275) -> 39 | C275: =C274+1 -> 42637 | D275: =WEEKDAY(C275) -> 7
A276: =MONTH(C276) -> 9 | B276: =WEEKNUM(C276) -> 40 | C276: =C275+1 -> 42638 | D276: =WEEKDAY(C276) -> 1
A277: =MONTH(C277) -> 9 | B277: =WEEKNUM(C277) -> 40 | C277: =C276+1 -> 42639 | D277: =WEEKDAY(C277) -> 2 | E277: P | F277: P | G277: P | H277: P | I277: P | J277: P | K277: P | L277: P | M277: P | N277: P | O277: P | P277: P | Q277: P | R277: P | S277: P | T277: P | U277: P | V277: P | W277: P | X277: P | Y277: P
A278: =MONTH(C278) -> 9 | B278: =WEEKNUM(C278) -> 40 | C278: =C277+1 -> 42640 | D278: =WEEKDAY(C278) -> 3 | E278: P | F278: P | G278: P | H278: P | I278: P | J278: P | K278: P | L278: P | M278: P | N278: P | O278: P | P278: P | Q278: P | R278: P | S278: P | T278: P | U278: P | V278: P | W278: P | X278: P | Y278: P
A279: =MONTH(C279) -> 9 | B279: =WEEKNUM(C279) -> 40 | C279: =C278+1 -> 42641 | D279: =WEEKDAY(C279) -> 4 | E279: P | F279: P | G279: P | H279: P | I279: P | J279: P | K279: P | L279: P | M279: P | N279: P | O279: P | P279: P | Q279: P | R279: P | S279: P | T279: P | U279: P | V279: P | W279: P | X279: P | Y279: P
A280: =MONTH(C280) -> 9 | B280: =WEEKNUM(C280) -> 40 | C280: =C279+1 -> 42642 | D280: =WEEKDAY(C280) -> 5 | E280: P | F280: P | G280: P | H280: P | I280: P | J280: P | K280: P | L280: P | M280: P | N280: P | O280: P | P280: P | Q280: P | R280: P | S280: P | T280: P | U280: P | V280: P | W280: P | X280: P | Y280: P
A281: =MONTH(C281) -> 9 | B281: =WEEKNUM(C281) -> 40 | C281: =C280+1 -> 42643 | D281: =WEEKDAY(C281) -> 6 | E281: P | F281: P | G281: P | H281: P | I281: P | J281: P | K281: P | L281: P | M281: P | N281: P | O281: P | P281: P | Q281: P | R281: P | S281: P | T281: P | U281: P | V281: P | W281: P | X281: P | Y281: P
A282: =MONTH(C282) -> 10 | B282: =WEEKNUM(C282) -> 40 | C282: =C281+1 -> 42644 | D282: =WEEKDAY(C282) -> 7
A283: =MONTH(C283) -> 10 | B283: =WEEKNUM(C283) -> 41 | C283: =C282+1 -> 42645 | D283: =WEEKDAY(C283) -> 1
A284: =MONTH(C284) -> 10 | B284: =WEEKNUM(C284) -> 41 | C284: =C283+1 -> 42646 | D284: =WEEKDAY(C284) -> 2 | E284: P | F284: P | G284: P | H284: P | I284: P | J284: P | K284: P | L284: P | M284: P | N284: P | O284: P | P284: P | Q284: P | R284: P | S284: P | T284: P | U284: P | V284: P | W284: P | X284: P | Y284: P
A285: =MONTH(C285) -> 10 | B285: =WEEKNUM(C285) -> 41 | C285: =C284+1 -> 42647 | D285: =WEEKDAY(C285) -> 3 | E285: P | F285: P | G285: P | H285: P | I285: P | J285: P | K285: P | L285: P | M285: P | N285: P | O285: P | P285: P | Q285: P | R285: P | S285: P | T285: P | U285: P | V285: P | W285: P | X285: P | Y285: P
A286: =MONTH(C286) -> 10 | B286: =WEEKNUM(C286) -> 41 | C286: =C285+1 -> 42648 | D286: =WEEKDAY(C286) -> 4 | E286: P | F286: P | G286: P | H286: P | I286: P | J286: P | K286: P | L286: P | M286: P | N286: P | O286: P | P286: P | Q286: P | R286: P | S286: P | T286: P | U286: P | V286: P | W286: P | X286: P | Y286: P
A287: =MONTH(C287) -> 10 | B287: =WEEKNUM(C287) -> 41 | C287: =C286+1 -> 42649 | D287: =WEEKDAY(C287) -> 5 | E287: P | F287: P | G287: P | H287: P | I287: P | J287: P | K287: P | L287: P | M287: P | N287: P | O287: P | P287: P | Q287: P | R287: P | S287: P | T287: P | U287: P | V287: P | W287: P | X287: P | Y287: P
A288: =MONTH(C288) -> 10 | B288: =WEEKNUM(C288) -> 41 | C288: =C287+1 -> 42650 | D288: =WEEKDAY(C288) -> 6 | E288: P | F288: P | G288: P | H288: P | I288: P | J288: P | K288: P | L288: P | M288: P | N288: P | O288: P | P288: P | Q288: P | R288: P | S288: P | T288: P | U288: P | V288: P | W288: P | X288: P | Y288: P
A289: =MONTH(C289) -> 10 | B289: =WEEKNUM(C289) -> 41 | C289: =C288+1 -> 42651 | D289: =WEEKDAY(C289) -> 7
A290: =MONTH(C290) -> 10 | B290: =WEEKNUM(C290) -> 42 | C290: =C289+1 -> 42652 | D290: =WEEKDAY(C290) -> 1
A291: =MONTH(C291) -> 10 | B291: =WEEKNUM(C291) -> 42 | C291: =C290+1 -> 42653 | D291: =WEEKDAY(C291) -> 2 | E291: P | F291: P | G291: P | H291: P | I291: P | J291: P | K291: P | L291: P | M291: P | N291: P | O291: P | P291: P | Q291: P | R291: P | S291: P | T291: P | U291: P | V291: P | W291: P | X291: P | Y291: P
A292: =MONTH(C292) -> 10 | B292: =WEEKNUM(C292) -> 42 | C292: =C291+1 -> 42654 | D292: =WEEKDAY(C292) -> 3 | E292: P | F292: P | G292: P | H292: P | I292: P | J292: P | K292: P | L292: P | M292: P | N292: P | O292: P | P292: P | Q292: P | R292: P | S292: P | T292: P | U292: P | V292: P | W292: P | X292: P | Y292: P
A293: =MONTH(C293) -> 10 | B293: =WEEKNUM(C293) -> 42 | C293: =C292+1 -> 42655 | D293: =WEEKDAY(C293) -> 4 | E293: P | F293: P | G293: P | H293: P | I293: P | J293: P | K293: P | L293: P | M293: P | N293: P | O293: P | P293: P | Q293: P | R293: P | S293: P | T293: P | U293: P | V293: P | W293: P | X293: P | Y293: P
A294: =MONTH(C294) -> 10 | B294: =WEEKNUM(C294) -> 42 | C294: =C293+1 -> 42656 | D294: =WEEKDAY(C294) -> 5 | E294: P | F294: P | G294: P | H294: P | I294: P | J294: P | K294: P | L294: P | M294: P | N294: P | O294: P | P294: P | Q294: P | R294: P | S294: P | T294: P | U294: P | V294: P | W294: P | X294: P | Y294: P
A295: =MONTH(C295) -> 10 | B295: =WEEKNUM(C295) -> 42 | C295: =C294+1 -> 42657 | D295: =WEEKDAY(C295) -> 6 | E295: P | F295: P | G295: P | H295: P | I295: P | J295: P | K295: P | L295: P | M295: P | N295: P | O295: P | P295: P | Q295: P | R295: P | S295: P | T295: P | U295: P | V295: P | W295: P | X295: P | Y295: P
A296: =MONTH(C296) -> 10 | B296: =WEEKNUM(C296) -> 42 | C296: =C295+1 -> 42658 | D296: =WEEKDAY(C296) -> 7
A297: =MONTH(C297) -> 10 | B297: =WEEKNUM(C297) -> 43 | C297: =C296+1 -> 42659 | D297: =WEEKDAY(C297) -> 1
A298: =MONTH(C298) -> 10 | B298: =WEEKNUM(C298) -> 43 | C298: =C297+1 -> 42660 | D298: =WEEKDAY(C298) -> 2 | E298: P | F298: P | G298: P | H298: P | I298: P | J298: P | K298: P | L298: P | M298: P | N298: P | O298: P | P298: P | Q298: P | R298: P | S298: P | T298: P | U298: P | V298: P | W298: P | X298: P | Y298: P
A299: =MONTH(C299) -> 10 | B299: =WEEKNUM(C299) -> 43 | C299: =C298+1 -> 42661 | D299: =WEEKDAY(C299) -> 3 | E299: P | F299: P | G299: P | H299: P | I299: P | J299: P | K299: P | L299: P | M299: P | N299: P | O299: P | P299: P | Q299: P | R299: P | S299: P | T299: P | U299: P | V299: P | W299: P | X299: P | Y299: P
A300: =MONTH(C300) -> 10 | B300: =WEEKNUM(C300) -> 43 | C300: =C299+1 -> 42662 | D300: =WEEKDAY(C300) -> 4 | E300: P | F300: P | G300: P | H300: P | I300: P | J300: P | K300: P | L300: P | M300: P | N300: P | O300: P | P300: P | Q300: P | R300: P | S300: P | T300: P | U300: P | V300: P | W300: P | X300: P | Y300: P
A301: =MONTH(C301) -> 10 | B301: =WEEKNUM(C301) -> 43 | C301: =C300+1 -> 42663 | D301: =WEEKDAY(C301) -> 5 | E301: P | F301: P | G301: P | H301: P | I301: P | J301: P | K301: P | L301: P | M301: P | N301: P | O301: P | P301: P | Q301: P | R301: P | S301: P | T301: P | U301: P | V301: P | W301: P | X301: P | Y301: P
A302: =MONTH(C302) -> 10 | B302: =WEEKNUM(C302) -> 43 | C302: =C301+1 -> 42664 | D302: =WEEKDAY(C302) -> 6 | E302: P | F302: P | G302: P | H302: P | I302: P | J302: P | K302: P | L302: P | M302: P | N302: P | O302: P | P302: P | Q302: P | R302: P | S302: P | T302: P | U302: P | V302: P | W302: P | X302: P | Y302: P
A303: =MONTH(C303) -> 10 | B303: =WEEKNUM(C303) -> 43 | C303: =C302+1 -> 42665 | D303: =WEEKDAY(C303) -> 7
A304: =MONTH(C304) -> 10 | B304: =WEEKNUM(C304) -> 44 | C304: =C303+1 -> 42666 | D304: =WEEKDAY(C304) -> 1
...
