Workbook
Name DESIGNATION: 'RÉFÉRENCE + DÉSIGNATION'!$B$1:$B$6
Name REFERENCE: 'RÉFÉRENCE + DÉSIGNATION'!$A$1:$A$6

Sheet ÉTAT DES STOCKS
A1: RÉFÉRENCE | B1: DÉSIGNATION | C1: STOCKS ENTRÉE | D1: STOCK RÉEL | E1: ÉTAT
A2: K10 | B2: Colle UHU | C2: =SUM(ENTRÉE!C2,ENTRÉE!D2) -> 15 | D2: =C2-SORTIE!C2 -> 9 | E2: =IF(D2<=10,"COMMANDE","") -> COMMANDE
C3: =SUM(ENTRÉE!C3,ENTRÉE!D3) -> 0 | D3: =C3-SORTIE!C3 -> 0 | E3: =IF(D3<=10,"COMMANDE","") -> COMMANDE
C4: =SUM(ENTRÉE!C4,ENTRÉE!D4) -> 0 | D4: =C4-SORTIE!C4 -> 0 | E4: =IF(D4<=10,"COMMANDE","") -> COMMANDE
C5: =SUM(ENTRÉE!C5,ENTRÉE!D5) -> 0 | D5: =C5-SORTIE!C5 -> 0 | E5: =IF(D5<=10,"COMMANDE","") -> COMMANDE
C6: =SUM(ENTRÉE!C6,ENTRÉE!D6) -> 0 | D6: =C6-SORTIE!C6 -> 0 | E6: =IF(D6<=10,"COMMANDE","") -> COMMANDE
C7: =SUM(ENTRÉE!C7,ENTRÉE!D7) -> 0 | D7: =C7-SORTIE!C7 -> 0 | E7: =IF(D7<=10,"COMMANDE","") -> COMMANDE
C8: =SUM(ENTRÉE!C8,ENTRÉE!D8) -> 0 | D8: =C8-SORTIE!C8 -> 0 | E8: =IF(D8<=10,"COMMANDE","") -> COMMANDE
C9: =SUM(ENTRÉE!C9,ENTRÉE!D9) -> 0 | D9: =C9-SORTIE!C9 -> 0 | E9: =IF(D9<=10,"COMMANDE","") -> COMMANDE
C10: =SUM(ENTRÉE!C10,ENTRÉE!D10) -> 0 | D10: =C10-SORTIE!C10 -> 0 | E10: =IF(D10<=10,"COMMANDE","") -> COMMANDE
C11: =SUM(ENTRÉE!C11,ENTRÉE!D11) -> 0 | D11: =C11-SORTIE!C11 -> 0 | E11: =IF(D11<=10,"COMMANDE","") -> COMMANDE
C12: =SUM(ENTRÉE!C12,ENTRÉE!D12) -> 0 | D12: =C12-SORTIE!C12 -> 0 | E12: =IF(D12<=10,"COMMANDE","") -> COMMANDE
C13: =SUM(ENTRÉE!C13,ENTRÉE!D13) -> 0 | D13: =C13-SORTIE!C13 -> 0 | E13: =IF(D13<=10,"COMMANDE","") -> COMMANDE
C14: =SUM(ENTRÉE!C14,ENTRÉE!D14) -> 0 | D14: =C14-SORTIE!C14 -> 0 | E14: =IF(D14<=10,"COMMANDE","") -> COMMANDE
... C18: =SUM(ENTRÉE!C18,ENTRÉE!D18) -> 0 | D18: =C18-SORTIE!C18 -> 0 | E18: =IF(D18<=10,"COMMANDE","") -> COMMANDE

Sheet ENTRÉE
A1: RÉFÉRENCE | B1: DÉSIGNATION | C1: STOCK EN COURS | D1: ENTRÉE
A2: k10 | B2: Colle UHU | C2: 10 | D2: 5

Sheet SORTIE
A1: RÉFÉRENCE | B1: DÉSIGNATION | C1: SORTIES
A2: K10 | B2: Colle UHU | C2: 6
A80: RÉFÉRENCE | B80: DÉSIGNATION | C80: SORTIE

Sheet RÉFÉRENCE + DÉSIGNATION
A1: REFERENCE | B1: DESIGNATION
A2: k10 | B2: Colle UHU
