Workbook

Sheet EX
A1: Total invoice | B1: 79972.97
A2: Total gross weight | B2: 13172 | E2: "=" to fill
A3: Total net weight | B3: 10987
A4: Freight charges | B4: 2000
A5: AWB NUMBER
A6: Currency
A7: total colis
B11: hs | C11: country | D11: Nb of pc | E11: amount | F11: Freight charges | G11: Gross weight | H11: Net weight
B12: 74130000 | C12: UE | D12: 1000 | E12: 2980 | F12: =Table4[[#This Row],[amount]]/$B$1*$B$4 -> 74.52518 | G12: =E12/$B$1*$B$2 -> 490.82284 | H12: =E12/$B$1*$B$3 -> 409.40408
B13: 74071000 | C13: France | D13: 6 | E13: 521.52 | F13: =Table4[[#This Row],[amount]]/$B$1*$B$4 -> 13.042407 | G13: =E13/$B$1*$B$2 -> 85.897291 | H13: =E13/$B$1*$B$3 -> 71.648461
B14: 85389091 | C14: UE | D14: 20 | E14: 163 | F14: =Table4[[#This Row],[amount]]/$B$1*$B$4 -> 4.0763773 | G14: =E14/$B$1*$B$2 -> 26.847021 | H14: =E14/$B$1*$B$3 -> 22.393579
B15: 39269097 | C15: UE | D15: 20 | E15: 10.6 | F15: =Table4[[#This Row],[amount]]/$B$1*$B$4 -> 0.26508957 | G15: =E15/$B$1*$B$2 -> 1.7458799 | H15: =E15/$B$1*$B$3 -> 1.4562695
B16: 85369010 | C16: UE | D16: 10 | E16: 757.9 | F16: =Table4[[#This Row],[amount]]/$B$1*$B$4 -> 18.953904 | G16: =E16/$B$1*$B$2 -> 124.83041 | H16: =E16/$B$1*$B$3 -> 104.12327
B17: 85369010 | C17: UE | D17: 10 | E17: 174.3 | F17: =Table4[[#This Row],[amount]]/$B$1*$B$4 -> 4.3589728 | G17: =E17/$B$1*$B$2 -> 28.708195 | H17: =E17/$B$1*$B$3 -> 23.946017
B18: 39259010 | C18: France | D18: 150 | E18: 76.5 | F18: =Table4[[#This Row],[amount]]/$B$1*$B$4 -> 1.9131464 | G18: =E18/$B$1*$B$2 -> 12.599982 | H18: =E18/$B$1*$B$3 -> 10.50987
B19: 73089059 | C19: France | D19: 201 | E19: 4673.25 | F19: =Table4[[#This Row],[amount]]/$B$1*$B$4 -> 116.87074 | G19: =E19/$B$1*$B$2 -> 769.71068 | H19: =E19/$B$1*$B$3 -> 642.0294
B20: 73089059 | C20: France | D20: 100 | E20: 187 | F20: =Table4[[#This Row],[amount]]/$B$1*$B$4 -> 4.6765801 | G20: =E20/$B$1*$B$2 -> 30.799957 | H20: =E20/$B$1*$B$3 -> 25.690793
B21: 73181900 | C21: France | D21: 2000 | E21: 580 | F21: =Table4[[#This Row],[amount]]/$B$1*$B$4 -> 14.504901 | G21: =E21/$B$1*$B$2 -> 95.529277 | H21: =E21/$B$1*$B$3 -> 79.682673
B22: 73181900 | C22: France | D22: 500 | E22: 285 | F22: =Table4[[#This Row],[amount]]/$B$1*$B$4 -> 7.1274082 | G22: =E22/$B$1*$B$2 -> 46.94111 | H22: =E22/$B$1*$B$3 -> 39.154417
B23: 73089059 | C23: France | D23: 102 | E23: 1869.66 | F23: =Table4[[#This Row],[amount]]/$B$1*$B$4 -> 46.757298 | G23: =E23/$B$1*$B$2 -> 307.94357 | H23: =E23/$B$1*$B$3 -> 256.86122
... B166: 86090090 | C166: CN | D166: 1 | E166: 2297.75 | F166: =Table4[[#This Row],[amount]]/$B$1*$B$4 -> 57.463165 | G166: =E166/$B$1*$B$2 -> 378.45241 | H166: =E166/$B$1*$B$3 -> 315.6739
D167: =SUBTOTAL(109,Table4[Nb of pc]) -> 35210 | E167: =SUBTOTAL(109,Table4[amount]) -> 79972.974 | F167: =SUBTOTAL(109,Table4[Freight charges]) -> 2000.0001 | G167: =SUBTOTAL(109,Table4[Gross weight]) -> 13172.001 | H167: =SUBTOTAL(109,Table4[Net weight]) -> 10987.001

Sheet INSTRUCTIONS RESUME
A2: afin de créer un tableau qui résume les données brutes inscrites dans le 1e onglet, suivre ce qui suit :
A4: 1) Sélectionner toutes les données brutes en incluant les têtes de colonnes mais pas les cellules vides en bas de tableau, ni la somme
A6: 2) cliquer sur insert (à côté de Home) et Pivot table
A8: 3) Sélectionner l'endroit où le tableau sera créé, par exemple cellule A1 de l'onglet résumé de ce document :
A29: 4) Tiquer tous les champs
A49: 5) Déplacer le champs sum of HS vers la colonne rows, à mettre au dessus de country
A68: 6) Et voilà, il n'y a plus qu'à encoder …....
A70: 7) une fois imprimé et copié dans scope, merci de supprimer le tableau de l'onglet Résumé en sélectionnant toutes les lignes et clique droit -> delete

Sheet Résumé
A1: Row Labels | B1: Sum of Nb of pc | C1: Sum of amount | D1: Sum of Freight charges | E1: Sum of Gross weight | F1: Sum of Net weight
A2: 35061000 | B2: 10 | C2: 299 | D2: 7.4775265 | E2: 49.246989 | F2: 41.077792
A3: UE | B3: 10 | C3: 299 | D3: 7.4775265 | E3: 49.246989 | F3: 41.077792
A4: 39173200 | B4: 67 | C4: 565.29 | D4: 14.137027 | E4: 93.106457 | F4: 77.661755
A5: Allemagne | B5: 67 | C5: 565.29 | D5: 14.137027 | E5: 93.106457 | F5: 77.661755
A6: 39174000 | B6: 200 | C6: 438 | D6: 10.953701 | E6: 72.141075 | F6: 60.174156
A7: UE | B7: 200 | C7: 438 | D7: 10.953701 | E7: 72.141075 | F7: 60.174156
A8: 39191080 | B8: 200 | C8: 22 | D8: 0.55018589 | E8: 3.6235243 | F8: 3.0224462
A9: France | B9: 200 | C9: 22 | D9: 0.55018589 | E9: 3.6235243 | F9: 3.0224462
A10: 39259010 | B10: 160 | C10: 334.6 | D10: 8.3678273 | E10: 55.11051 | F10: 45.968659
A11: France | B11: 160 | C11: 334.6 | D11: 8.3678273 | E11: 55.11051 | F11: 45.968659
A12: 39269097 | B12: 10064 | C12: 169.88 | D12: 4.2484354 | E12: 27.980196 | F12: 23.33878
A13: France | B13: 10000 | C13: 100 | D13: 2.500845 | E13: 16.470565 | F13: 13.738392
A14: Royaume uni | B14: 44 | C14: 59.28 | D14: 1.4825009 | E14: 9.7637509 | F14: 8.1441187
A15: UE | B15: 20 | C15: 10.6 | D15: 0.26508957 | E15: 1.7458799 | F15: 1.4562695
A16: 40169300 | B16: 178 | C16: 2863.7 | D16: 71.616697 | E16: 471.66757 | F16: 393.42633
A17: Suéde | B17: 178 | C17: 2863.7 | D17: 71.616697 | E17: 471.66757 | F17: 393.42633
A18: 68069000 | B18: 3 | C18: 91.77 | D18: 2.2950254 | E18: 15.115037 | F18: 12.607722
A19: France | B19: 3 | C19: 91.77 | D19: 2.2950254 | E19: 15.115037 | F19: 12.607722
A20: 68151010 | B20: 4 | C20: 398.36 | D20: 9.962366 | E20: 65.612143 | F20: 54.728258
A21: France | B21: 4 | C21: 398.36 | D21: 9.962366 | E21: 65.612143 | F21: 54.728258
A22: 69031000 | B22: 1 | C22: 555.05 | D22: 13.88094 | E22: 91.419871 | F22: 76.254944
A23: France | B23: 1 | C23: 555.05 | D23: 13.88094 | E23: 91.419871 | F23: 76.254944
A24: 72125040 | B24: 25 | C24: 364 | D24: 9.1030757 | E24: 59.952857 | F24: 50.007746
A25: France | B25: 25 | C25: 364 | D25: 9.1030757 | E25: 59.952857 | F25: 50.007746
A26: 72202021 | B26: 18 | C26: 124.86 | D26: 3.122555 | E26: 20.565147 | F26: 17.153756
A27: France | B27: 18 | C27: 124.86 | D27: 3.122555 | E27: 20.565147 | F27: 17.153756
A28: 73044100 | B28: 84 | C28: 616.2 | D28: 15.410207 | E28: 101.49162 | F28: 84.655971
A29: UE | B29: 84 | C29: 616.2 | D29: 15.410207 | E29: 101.49162 | F29: 84.655971
A30: 73064020 | B30: 2 | C30: 151.12 | D30: 3.7792769 | E30: 24.890318 | F30: 20.761458
A31: France | B31: 2 | C31: 151.12 | D31: 3.7792769 | E31: 24.890318 | F31: 20.761458
A32: 73079910 | B32: 89 | C32: 1360.98 | D32: 34.036 | E32: 224.1611 | F32: 186.97677
A33: USA | B33: 50 | C33: 527.55 | D33: 13.193208 | E33: 86.890466 | F33: 72.476886
A34: USA | B34: 39 | C34: 833.43 | D34: 20.842792 | E34: 137.27063 | F34: 114.49988
A35: 73089051 | B35: 212 | C35: 440.6 | D35: 11.018723 | E35: 72.569309 | F35: 60.531355
A36: France | B36: 212 | C36: 440.6 | D36: 11.018723 | E36: 72.569309 | F36: 60.531355
A37: 73089059 | B37: 506 | C37: 8293.58 | D37: 207.40958 | E37: 1365.9995 | F37: 1139.4045
A38: France | B38: 506 | C38: 8293.58 | D38: 207.40958 | E38: 1365.9995 | F38: 1139.4045
A39: 73181520 | B39: 1214 | C39: 171.32 | D39: 4.2844476 | E39: 28.217372 | F39: 23.536613
A40: France | B40: 14 | C40: 19.32 | D40: 0.48316325 | E40: 3.1821132 | F40: 2.6542573
A41: UE | B41: 1200 | C41: 152 | D41: 3.8012844 | E41: 25.035259 | F41: 20.882356
A42: 73181639 | B42: 8 | C42: 151.28 | D42: 3.7832783 | E42: 24.916671 | F42: 20.783439
A43: France | B43: 8 | C43: 151.28 | D43: 3.7832783 | E43: 24.916671 | F43: 20.783439
A44: 73181900 | B44: 2540 | C44: 2044.6 | D44: 51.132276 | E44: 336.75717 | F44: 280.89516
A45: France | B45: 2540 | C45: 2044.6 | D45: 51.132276 | E45: 336.75717 | F45: 280.89516
A46: 73269040 | B46: 300 | C46: 21 | D46: 0.52517744 | E46: 3.4588186 | F46: 2.8850623
A47: France | B47: 300 | C47: 21 | D47: 0.52517744 | E47: 3.4588186 | F47: 2.8850623
A48: 73269050 | B48: 32 | C48: 539.52 | D48: 13.492559 | E48: 88.861992 | F48: 74.121372
A49: France | B49: 32 | C49: 539.52 | D49: 13.492559 | E49: 88.861992 | F49: 74.121372
A50: 73269092 | B50: 8 | C50: 495.6 | D50: 12.394188 | E50: 81.62812 | F50: 68.08747
A51: Poland | B51: 4 | C51: 245.68 | D51: 6.1440759 | E51: 40.464884 | F51: 33.752481
A52: Suéde | B52: 4 | C52: 249.92 | D52: 6.2501118 | E52: 41.163236 | F52: 34.334989
A53: 74071000 | B53: 27 | C53: 1475.97 | D53: 36.911722 | E53: 243.1006 | F53: 202.77454
A54: France | B54: 27 | C54: 1475.97 | D54: 36.911722 | E54: 243.1006 | F54: 202.77454
A55: 74091100 | B55: 150 | C55: 720 | D55: 18.006084 | E55: 118.58807 | F55: 98.916421
A56: France | B56: 150 | C56: 720 | D56: 18.006084 | E56: 118.58807 | F56: 98.916421
A57: 74122000 | B57: 48 | C57: 1657 | D57: 41.439001 | E57: 272.91726 | F57: 227.64515
A58: Royaume uni | B58: 48 | C58: 1657 | D58: 41.439001 | E58: 272.91726 | F58: 227.64515
A59: 74130000 | B59: 1288 | C59: 4717.36 | D59: 117.97386 | E59: 776.97584 | F59: 648.0894
A60: France | B60: 288 | C60: 1737.36 | D60: 43.44868 | E60: 286.15301 | F60: 238.68532
A61: UE | B61: 1000 | C61: 2980 | D61: 74.52518 | E61: 490.82284 | F61: 409.40408
A62: 74152900 | B62: 8 | C62: 62.8 | D62: 1.5705306 | E62: 10.343515 | F62: 8.6277101
A63: Royaume uni | B63: 8 | C63: 62.8 | D63: 1.5705306 | E63: 10.343515 | F63: 8.6277101
A64: 82031000 | B64: 3 | C64: 24.66 | D64: 0.61670837 | E64: 4.0616413 | F64: 3.3878874
A65: France | B65: 3 | C65: 24.66 | D65: 0.61670837 | E65: 4.0616413 | F65: 3.3878874
A66: 82034000 | B66: 3 | C66: 136.35 | D66: 3.4099021 | E66: 22.457615 | F66: 18.732297
A67: UE | B67: 3 | C67: 136.35 | D67: 3.4099021 | E67: 22.457615 | F67: 18.732297
A68: 82057000 | B68: 4 | C68: 222.28 | D68: 5.5588782 | E68: 36.610772 | F68: 30.537697
A69: France | B69: 4 | C69: 222.28 | D69: 5.5588782 | E69: 36.610772 | F69: 30.537697
A70: 85043121 | B70: 2 | C70: 104.7 | D70: 2.6183847 | E70: 17.244682 | F70: 14.384096
A71: France | B71: 2 | C71: 104.7 | D71: 2.6183847 | E71: 17.244682 | F71: 14.384096
A72: 85308000 | B72: 6 | C72: 927.72 | D72: 23.200839 | E72: 152.80073 | F72: 127.45381
A73: France | B73: 6 | C73: 927.72 | D73: 23.200839 | E73: 152.80073 | F73: 127.45381
A74: 85362010 | B74: 3 | C74: 470.46 | D74: 11.765475 | E74: 77.48742 | F74: 64.633638
A75: France | B75: 2 | C75: 42.51 | D75: 1.0631092 | E75: 7.0016372 | F75: 5.8401904
A76: Poland | B76: 1 | C76: 427.95 | D76: 10.702366 | E76: 70.485783 | F76: 58.793448
A77: 85363010 | B77: 1 | C77: 53.43 | D77: 1.3362015 | E77: 8.8002229 | F77: 7.3404228
A78: France | B78: 1 | C78: 53.43 | D78: 1.3362015 | E78: 8.8002229 | F78: 7.3404228
A79: 85364110 | B79: 2 | C79: 59.98 | D79: 1.5000068 | E79: 9.8790449 | F79: 8.2402874
A80: France | B80: 2 | C80: 59.98 | D80: 1.5000068 | E80: 9.8790449 | F80: 8.2402874
A81: 85364900 | B81: 3 | C81: 283.18 | D81: 7.0818928 | E81: 46.641346 | F81: 38.904378
A82: France | B82: 3 | C82: 283.18 | D82: 7.0818928 | E82: 46.641346 | F82: 38.904378
A83: 85365003 | B83: 2 | C83: 26.784 | D83: 0.66982632 | E83: 4.4114761 | F83: 3.6796909
A84: India | B84: 2 | C84: 26.784 | D84: 0.66982632 | E84: 4.4114761 | F84: 3.6796909
A85: 85366910 | B85: 2 | C85: 82.96 | D85: 2.074701 | E85: 13.663981 | F85: 11.39737
A86: France | B86: 2 | C86: 82.96 | D86: 2.074701 | E86: 13.663981 | F86: 11.39737
A87: 85369010 | B87: 2812 | C87: 5294.76 | D87: 132.41374 | E87: 872.07689 | F87: 727.41488
A88: Allemagne | B88: 650 | C88: 1547.5 | D88: 38.700576 | E88: 254.88199 | F88: 212.60161
A89: Chine | B89: 100 | C89: 97 | D89: 2.4258196 | E89: 15.976448 | F89: 13.32624
A90: France | B90: 2035 | C90: 1659.58 | D90: 41.503523 | E90: 273.3422 | F90: 227.9996
A91: UE | B91: 27 | C91: 1990.68 | D91: 49.783821 | E91: 327.87624 | F91: 273.48742
A92: 85369095 | B92: 2 | C92: 0.38 | D92: 0.0095032109 | E92: 0.062588147 | F92: 0.052205889
A93: France | B93: 2 | C93: 0.38 | D93: 0.0095032109 | E93: 0.062588147 | F93: 0.052205889
A94: 85389091 | B94: 220 | C94: 220 | D94: 5.5018589 | E94: 36.235243 | F94: 30.224462
A95: Allemagne | B95: 200 | C95: 57 | D95: 1.4254816 | E95: 9.388222 | F95: 7.8308834
A96: UE | B96: 20 | C96: 163 | D96: 4.0763773 | E96: 26.847021 | F96: 22.393579
A97: 85437002 | B97: 1 | C97: 157.68 | D97: 3.9433324 | E97: 25.970787 | F97: 21.662696
A98: France | B98: 1 | C98: 157.68 | D98: 3.9433324 | E98: 25.970787 | F98: 21.662696
A99: 85444920 | B99: 300 | C99: 557.4 | D99: 13.93971 | E99: 91.806929 | F99: 76.577796
A100: France | B100: 300 | C100: 557.4 | D100: 13.93971 | E100: 91.806929 | F100: 76.577796
...

Sheet Résumé brut
A1: 35061000 | B1: UE | C1: 10 | D1: 299 | E1: 7.4775265 | F1: 49.246989 | G1: 41.077792
A2: 39173200 | B2: Allemagne | C2: 67 | D2: 565.29 | E2: 14.137027 | F2: 93.106457 | G2: 77.661755
A3: 39174000 | B3: UE | C3: 200 | D3: 438 | E3: 10.953701 | F3: 72.141075 | G3: 60.174156
A4: 39191080 | B4: France | C4: 200 | D4: 22 | E4: 0.55018589 | F4: 3.6235243 | G4: 3.0224462
A5: 39259010 | B5: France | C5: 160 | D5: 334.6 | E5: 8.3678273 | F5: 55.11051 | G5: 45.968659
A6: 39269097 | B6: France | C6: 10000 | D6: 100 | E6: 2.500845 | F6: 16.470565 | G6: 13.738392
A7: 39269097 | B7: Royaume uni | C7: 44 | D7: 59.28 | E7: 1.4825009 | F7: 9.7637509 | G7: 8.1441187
A8: 39269097 | B8: UE | C8: 20 | D8: 10.6 | E8: 0.26508957 | F8: 1.7458799 | G8: 1.4562695
A9: 40169300 | B9: Suéde | C9: 178 | D9: 2863.7 | E9: 71.616697 | F9: 471.66757 | G9: 393.42633
A10: 68069000 | B10: France | C10: 3 | D10: 91.77 | E10: 2.2950254 | F10: 15.115037 | G10: 12.607722
A11: 68151010 | B11: France | C11: 4 | D11: 398.36 | E11: 9.962366 | F11: 65.612143 | G11: 54.728258
A12: 69031000 | B12: France | C12: 1 | D12: 555.05 | E12: 13.88094 | F12: 91.419871 | G12: 76.254944
... A28: 73269092 | B28: Suéde | C28: 4 | D28: 249.92 | E28: 6.2501118 | F28: 41.163236 | G28: 34.334989
A30: ETC ;)

Sheet RESUME WINDSAD EXPORT
A1: code marchandises | B1: description des marchandises | C1: type colli (PK,CT,…) | D1: number of colli | E1: marks & numbers | F1: net weight | G1: brut weight | H1: value | I1: additional code (NAR) | J1: number for additional code | K1: country of origin | L1: currency
A2: =Résumé!A2 -> 35061000 | C2: CT | D2: =EX!B7 -> 0 | E2: =EX!$B$5 -> 0 | L2: =EX!$B$6 -> 0
C3: CT | D3: 0 | E3: =EX!$B$5 -> 0 | L3: =EX!$B$6 -> 0
C4: CT | D4: 0 | E4: =EX!$B$5 -> 0 | L4: =EX!$B$6 -> 0
C5: CT | D5: 0 | E5: =EX!$B$5 -> 0 | L5: =EX!$B$6 -> 0
C6: CT | D6: 0 | E6: =EX!$B$5 -> 0 | L6: =EX!$B$6 -> 0
C7: CT | D7: 0 | E7: =EX!$B$5 -> 0 | L7: =EX!$B$6 -> 0
C8: CT | D8: 0 | E8: =EX!$B$5 -> 0 | L8: =EX!$B$6 -> 0
C9: CT | D9: 0 | E9: =EX!$B$5 -> 0 | L9: =EX!$B$6 -> 0
C10: CT | D10: 0 | E10: =EX!$B$5 -> 0 | L10: =EX!$B$6 -> 0
C11: CT | D11: 0 | E11: =EX!$B$5 -> 0 | L11: =EX!$B$6 -> 0
C12: CT | D12: 0 | E12: =EX!$B$5 -> 0 | L12: =EX!$B$6 -> 0
C13: CT | D13: 0 | E13: =EX!$B$5 -> 0 | L13: =EX!$B$6 -> 0
C14: CT | D14: 0 | E14: =EX!$B$5 -> 0 | L14: =EX!$B$6 -> 0
... C61: CT | D61: 0 | E61: =EX!$B$5 -> 0 | L61: =EX!$B$6 -> 0
