Workbook

Sheet EX
A1: Total invoice | B1: 79972.97
A2: Total gross weight | B2: 13172 | E2: "=" to fill
A3: Total net weight | B3: 10987
A4: Freight charges | B4: 2000
A5: AWB NUMBER
A6: Currency
A7: total colis
B11: hs | C11: country | D11: Nb of pc | E11: amount | F11: Freight charges | G11: Gross weight | H11: Net weight
B12: 74130000 | C12: UE | D12: 1000 | E12: 2980 | F12: =Table4[[#This Row],[amount]]/$B$1*$B$4 -> 74.52518 | G12: =E12/$B$1*$B$2 -> 490.82284 | H12: =E12/$B$1*$B$3 -> 409.40408
B13: 74071000 | C13: France | D13: 6 | E13: 521.52 | F13: =Table4[[#This Row],[amount]]/$B$1*$B$4 -> 13.042407 | G13: =E13/$B$1*$B$2 -> 85.897291 | H13: =E13/$B$1*$B$3 -> 71.648461
B14: 85389091 | C14: UE | D14: 20 | E14: 163 | F14: =Table4[[#This Row],[amount]]/$B$1*$B$4 -> 4.0763773 | G14: =E14/$B$1*$B$2 -> 26.847021 | H14: =E14/$B$1*$B$3 -> 22.393579
B15: 39269097 | C15: UE | D15: 20 | E15: 10.6 | F15: =Table4[[#This Row],[amount]]/$B$1*$B$4 -> 0.26508957 | G15: =E15/$B$1*$B$2 -> 1.7458799 | H15: =E15/$B$1*$B$3 -> 1.4562695
B16: 85369010 | C16: UE | D16: 10 | E16: 757.9 | F16: =Table4[[#This Row],[amount]]/$B$1*$B$4 -> 18.953904 | G16: =E16/$B$1*$B$2 -> 124.83041 | H16: =E16/$B$1*$B$3 -> 104.12327
B17: 85369010 | C17: UE | D17: 10 | E17: 174.3 | F17: =Table4[[#This Row],[amount]]/$B$1*$B$4 -> 4.3589728 | G17: =E17/$B$1*$B$2 -> 28.708195 | H17: =E17/$B$1*$B$3 -> 23.946017
B18: 39259010 | C18: France | D18: 150 | E18: 76.5 | F18: =Table4[[#This Row],[amount]]/$B$1*$B$4 -> 1.9131464 | G18: =E18/$B$1*$B$2 -> 12.599982 | H18: =E18/$B$1*$B$3 -> 10.50987
B19: 73089059 | C19: France | D19: 201 | E19: 4673.25 | F19: =Table4[[#This Row],[amount]]/$B$1*$B$4 -> 116.87074 | G19: =E19/$B$1*$B$2 -> 769.71068 | H19: =E19/$B$1*$B$3 -> 642.0294
B20: 73089059 | C20: France | D20: 100 | E20: 187 | F20: =Table4[[#This Row],[amount]]/$B$1*$B$4 -> 4.6765801 | G20: =E20/$B$1*$B$2 -> 30.799957 | H20: =E20/$B$1*$B$3 -> 25.690793
B21: 73181900 | C21: France | D21: 2000 | E21: 580 | F21: =Table4[[#This Row],[amount]]/$B$1*$B$4 -> 14.504901 | G21: =E21/$B$1*$B$2 -> 95.529277 | H21: =E21/$B$1*$B$3 -> 79.682673
B22: 73181900 | C22: France | D22: 500 | E22: 285 | F22: =Table4[[#This Row],[amount]]/$B$1*$B$4 -> 7.1274082 | G22: =E22/$B$1*$B$2 -> 46.94111 | H22: =E22/$B$1*$B$3 -> 39.154417
B23: 73089059 | C23: France | D23: 102 | E23: 1869.66 | F23: =Table4[[#This Row],[amount]]/$B$1*$B$4 -> 46.757298 | G23: =E23/$B$1*$B$2 -> 307.94357 | H23: =E23/$B$1*$B$3 -> 256.86122
... B166: 86090090 | C166: CN | D166: 1 | E166: 2297.75 | F166: =Table4[[#This Row],[amount]]/$B$1*$B$4 -> 57.463165 | G166: =E166/$B$1*$B$2 -> 378.45241 | H166: =E166/$B$1*$B$3 -> 315.6739
D167: =SUBTOTAL(109,Table4[Nb of pc]) -> 35210 | E167: =SUBTOTAL(109,Table4[amount]) -> 79972.974 | F167: =SUBTOTAL(109,Table4[Freight charges]) -> 2000.0001 | G167: =SUBTOTAL(109,Table4[Gross weight]) -> 13172.001 | H167: =SUBTOTAL(109,Table4[Net weight]) -> 10987.001

Sheet INSTRUCTIONS RESUME
A2: afin de créer un tableau qui résume les données brutes inscrites dans le 1e onglet, suivre ce qui suit :
A4: 1) Sélectionner toutes les données brutes en incluant les têtes de colonnes mais pas les cellules vides en bas de tableau, ni la somme
A6: 2) cliquer sur insert (à côté de Home) et Pivot table
A8: 3) Sélectionner l'endroit où le tableau sera créé, par exemple cellule A1 de l'onglet résumé de ce document :
A29: 4) Tiquer tous les champs
A49: 5) Déplacer le champs sum of HS vers la colonne rows, à mettre au dessus de country
A68: 6) Et voilà, il n'y a plus qu'à encoder …....
A70: 7) une fois imprimé et copié dans scope, merci de supprimer le tableau de l'onglet Résumé en sélectionnant toutes les lignes et clique droit -> delete

Sheet Résumé
A1: Row Labels | B1: Sum of Nb of pc | C1: Sum of amount | D1: Sum of Freight charges | E1: Sum of Gross weight | F1: Sum of Net weight
A2: 35061000 | B2: 10 | C2: 299 | D2: 7.4775265 | E2: 49.246989 | F2: 41.077792
A3: UE | B3: 10 | C3: 299 | D3: 7.4775265 | E3: 49.246989 | F3: 41.077792
A4: 39173200 | B4: 67 | C4: 565.29 | D4: 14.137027 | E4: 93.106457 | F4: 77.661755
A5: Allemagne | B5: 67 | C5: 565.29 | D5: 14.137027 | E5: 93.106457 | F5: 77.661755
A6: 39174000 | B6: 200 | C6: 438 | D6: 10.953701 | E6: 72.141075 | F6: 60.174156
A7: UE | B7: 200 | C7: 438 | D7: 10.953701 | E7: 72.141075 | F7: 60.174156
A8: 39191080 | B8: 200 | C8: 22 | D8: 0.55018589 | E8: 3.6235243 | F8: 3.0224462
A9: France | B9: 200 | C9: 22 | D9: 0.55018589 | E9: 3.6235243 | F9: 3.0224462
A10: 39259010 | B10: 160 | C10: 334.6 | D10: 8.3678273 | E10: 55.11051 | F10: 45.968659
A11: France | B11: 160 | C11: 334.6 | D11: 8.3678273 | E11: 55.11051 | F11: 45.968659
A12: 39269097 | B12: 10064 | C12: 169.88 | D12: 4.2484354 | E12: 27.980196 | F12: 23.33878
A13: France | B13: 10000 | C13: 100 | D13: 2.500845 | E13: 16.470565 | F13: 13.738392
A14: Royaume uni | B14: 44 | C14: 59.28 | D14: 1.4825009 | E14: 9.7637509 | F14: 8.1441187
A15: UE | B15: 20 | C15: 10.6 | D15: 0.26508957 | E15: 1.7458799 | F15: 1.4562695
A16: 40169300 | B16: 178 | C16: 2863.7 | D16: 71.616697 | E16: 471.66757 | F16: 393.42633
A17: Suéde | B17: 178 | C17: 2863.7 | D17: 71.616697 | E17: 471.66757 | F17: 393.42633
A18: 68069000 | B18: 3 | C18: 91.77 | D18: 2.2950254 | E18: 15.115037 | F18: 12.607722
A19: France | B19: 3 | C19: 91.77 | D19: 2.2950254 | E19: 15.115037 | F19: 12.607722
A20: 68151010 | B20: 4 | C20: 398.36 | D20: 9.962366 | E20: 65.612143 | F20: 54.728258
A21: France | B21: 4 | C21: 398.36 | D21: 9.962366 | E21: 65.612143 | F21: 54.728258
A22: 69031000 | B22: 1 | C22: 555.05 | D22: 13.88094 | E22: 91.419871 | F22: 76.254944
A23: France | B23: 1 | C23: 555.05 | D23: 13.88094 | E23: 91.419871 | F23: 76.254944
A24: 72125040 | B24: 25 | C24: 364 | D24: 9.1030757 | E24: 59.952857 | F24: 50.007746
A25: France | B25: 25 | C25: 364 | D25: 9.1030757 | E25: 59.952857 | F25: 50.007746
A26: 72202021 | B26: 18 | C26: 124.86 | D26: 3.122555 | E26: 20.565147 | F26: 17.153756
A27: France | B27: 18 | C27: 124.86 | D27: 3.122555 | E27: 20.565147 | F27: 17.153756
A28: 73044100 | B28: 84 | C28: 616.2 | D28: 15.410207 | E28: 101.49162 | F28: 84.655971
A29: UE | B29: 84 | C29: 616.2 | D29: 15.410207 | E29: 101.49162 | F29: 84.655971
A30: 73064020 | B30: 2 | C30: 151.12 | D30: 3.7792769 | E30: 24.890318 | F30: 20.761458
A31: France | B31: 2 | C31: 151.12 | D31: 3.7792769 | E31: 24.890318 | F31: 20.761458
A32: 73079910 | B32: 89 | C32: 1360.98 | D32: 34.036 | E32: 224.1611 | F32: 186.97677
A33: USA | B33: 50 | C33: 527.55 | D33: 13.193208 | E33: 86.890466 | F33: 72.476886
A34: USA | B34: 39 | C34: 833.43 | D34: 20.842792 | E34: 137.27063 | F34: 114.49988
A35: 73089051 | B35: 212 | C35: 440.6 | D35: 11.018723 | E35: 72.569309 | F35: 60.531355
A36: France | B36: 212 | C36: 440.6 | D36: 11.018723 | E36: 72.569309 | F36: 60.531355
A37: 73089059 | B37: 506 | C37: 8293.58 | D37: 207.40958 | E37: 1365.9995 | F37: 1139.4045
A38: France | B38: 506 | C38: 8293.58 | D38: 207.40958 | E38: 1365.9995 | F38: 1139.4045
A39: 73181520 | B39: 1214 | C39: 171.32 | D39: 4.2844476 | E39: 28.217372 | F39: 23.536613
A40: France | B40: 14 | C40: 19.32 | D40: 0.48316325 | E40: 3.1821132 | F40: 2.6542573
...

Sheet Résumé brut
A1: 35061000 | B1: UE | C1: 10 | D1: 299 | E1: 7.4775265 | F1: 49.246989 | G1: 41.077792
A2: 39173200 | B2: Allemagne | C2: 67 | D2: 565.29 | E2: 14.137027 | F2: 93.106457 | G2: 77.661755
A3: 39174000 | B3: UE | C3: 200 | D3: 438 | E3: 10.953701 | F3: 72.141075 | G3: 60.174156
A4: 39191080 | B4: France | C4: 200 | D4: 22 | E4: 0.55018589 | F4: 3.6235243 | G4: 3.0224462
A5: 39259010 | B5: France | C5: 160 | D5: 334.6 | E5: 8.3678273 | F5: 55.11051 | G5: 45.968659
A6: 39269097 | B6: France | C6: 10000 | D6: 100 | E6: 2.500845 | F6: 16.470565 | G6: 13.738392
A7: 39269097 | B7: Royaume uni | C7: 44 | D7: 59.28 | E7: 1.4825009 | F7: 9.7637509 | G7: 8.1441187
A8: 39269097 | B8: UE | C8: 20 | D8: 10.6 | E8: 0.26508957 | F8: 1.7458799 | G8: 1.4562695
A9: 40169300 | B9: Suéde | C9: 178 | D9: 2863.7 | E9: 71.616697 | F9: 471.66757 | G9: 393.42633
A10: 68069000 | B10: France | C10: 3 | D10: 91.77 | E10: 2.2950254 | F10: 15.115037 | G10: 12.607722
A11: 68151010 | B11: France | C11: 4 | D11: 398.36 | E11: 9.962366 | F11: 65.612143 | G11: 54.728258
A12: 69031000 | B12: France | C12: 1 | D12: 555.05 | E12: 13.88094 | F12: 91.419871 | G12: 76.254944
... A28: 73269092 | B28: Suéde | C28: 4 | D28: 249.92 | E28: 6.2501118 | F28: 41.163236 | G28: 34.334989
A30: ETC ;)

Sheet RESUME WINDSAD EXPORT
A1: code marchandises | B1: description des marchandises | C1: type colli (PK,CT,…) | D1: number of colli | E1: marks & numbers | F1: net weight | G1: brut weight | H1: value | I1: additional code (NAR) | J1: number for additional code | K1: country of origin | L1: currency
A2: =Résumé!A2 -> 35061000 | C2: CT | D2: =EX!B7 -> 0 | E2: =EX!$B$5 -> 0 | L2: =EX!$B$6 -> 0
C3: CT | D3: 0 | E3: =EX!$B$5 -> 0 | L3: =EX!$B$6 -> 0
C4: CT | D4: 0 | E4: =EX!$B$5 -> 0 | L4: =EX!$B$6 -> 0
C5: CT | D5: 0 | E5: =EX!$B$5 -> 0 | L5: =EX!$B$6 -> 0
C6: CT | D6: 0 | E6: =EX!$B$5 -> 0 | L6: =EX!$B$6 -> 0
C7: CT | D7: 0 | E7: =EX!$B$5 -> 0 | L7: =EX!$B$6 -> 0
C8: CT | D8: 0 | E8: =EX!$B$5 -> 0 | L8: =EX!$B$6 -> 0
C9: CT | D9: 0 | E9: =EX!$B$5 -> 0 | L9: =EX!$B$6 -> 0
C10: CT | D10: 0 | E10: =EX!$B$5 -> 0 | L10: =EX!$B$6 -> 0
C11: CT | D11: 0 | E11: =EX!$B$5 -> 0 | L11: =EX!$B$6 -> 0
C12: CT | D12: 0 | E12: =EX!$B$5 -> 0 | L12: =EX!$B$6 -> 0
C13: CT | D13: 0 | E13: =EX!$B$5 -> 0 | L13: =EX!$B$6 -> 0
C14: CT | D14: 0 | E14: =EX!$B$5 -> 0 | L14: =EX!$B$6 -> 0
... C61: CT | D61: 0 | E61: =EX!$B$5 -> 0 | L61: =EX!$B$6 -> 0
