Workbook

Sheet VENDEURS
A2: Vendeurs :
B3: JEAN-PIERRE
B4: CORINNE
B5: STEPHANE
B6: LYDIA
B7: BENJAMIN
B8: MARIE CLAIRE
B9: RENE
B10: CATHERINE
B11: ALEXANDRE
B12: PRISCILLIA
B13: BERTRAND
B14: MARYSE
... B16: LOUISE

Sheet JANVIER
C1: JANVIER
A3: Vendeur | C3: =VENDEURS!B3 -> JEAN-PIERRE
C5: POLICES | D5: PLACEMENT DE PRODUIT DURANT L'ENTRETIEN COMMERCIAL
B6: Date : | D6: COCO | E6: ANANAS | F6: MANGUE
A7: SEM 2 | B7: 42380 | C7: 221359 | F7: 1
B8: 42380 | C8: 227704 | E8: 1 | F8: 1
B9: 42380 | C9: 294968 | E9: 1 | F9: 1
B10: 42380 | C10: 292469 | F10: 1
B11: 42380 | C11: 211803 | D11: 1
B12: 42380 | C12: 296006 | E12: 1
B13: 42380 | C13: 468782 | E13: 1
B14: 42380 | C14: 1000232 | D14: 1 | E14: 1
B15: 42380 | C15: 474971 | D15: 1
B16: 42380 | C16: 296173 | D16: 1 | E16: 1
B17: 42380 | C17: 293861 | E17: 1
B18: 42380 | C18: 3333 | D18: 1
B19: 42380 | C19: 470245 | D19: 1
B20: 42380 | C20: 564856 | F20: 1
B21: 42380 | C21: 1000541 | D21: 1
B22: 42380 | C22: 3333 | D22: 1 | E22: 1
B23: 42381 | C23: 295091 | E23: 1
B24: 42381 | C24: 268593 | D24: 1
B25: 42381 | C25: 164592 | E25: 1
B26: 42381 | C26: 30357 | D26: 1
B27: 42381 | C27: 284471 | D27: 1 | E27: 1 | F27: 1
B28: 42381 | C28: 253541 | D28: 1 | F28: 1
B29: 42381 | C29: 289359 | F29: 1
B30: 42381 | C30: 197823 | D30: 1
B31: 42381 | C31: 270638 | D31: 1
B32: 42381 | C32: 296501 | D32: 1 | E32: 1
B33: 42381 | C33: 185977 | E33: 1
B34: 42381 | C34: 260582 | D34: 1
B35: 42381 | C35: 296107 | D35: 1 | E35: 1
B36: 42381 | C36: 236300 | E36: 1
B37: 42381 | C37: 291366 | F37: 1
B38: 42382 | C38: 278343 | F38: 1
B39: 42382 | C39: 295193 | F39: 1
B40: 42383 | C40: 198199 | D40: 1
B41: 42383 | C41: 148281 | D41: 1 | E41: 1
B42: 42383 | C42: 287816 | D42: 1
B43: 42383 | C43: 271926 | D43: 1 | E43: 1
B44: 42383 | C44: 294985 | E44: 1
B45: 42383 | C45: 273851 | D45: 1 | E45: 1
B46: 42383 | C46: 560961 | D46: 1 | E46: 1
B47: 42383 | C47: 560961 | D47: 1
B48: 42383 | C48: 295352 | E48: 1 | F48: 1
B49: 42383 | C49: 241971 | D49: 1 | E49: 1 | F49: 1
B50: 42383 | C50: 275089 | D50: 1 | E50: 1
B51: 42384 | C51: 33908 | D51: 1 | E51: 1
B52: 42384 | C52: 116956 | D52: 1
B53: 42384 | C53: 563271 | D53: 2
B54: 42384 | C54: 288340 | D54: 1 | E54: 1
B55: 42384 | C55: 157502 | D55: 1
B56: 42384 | C56: 280796 | E56: 1
B57: 42384 | C57: 295780 | D57: 1 | E57: 2 | F57: 2
B58: 42384 | C58: 295782 | D58: 1 | E58: 2 | F58: 2
B59: 42384 | C59: 1001178 | D59: 1
B60: 42384 | C60: 23035 | D60: 1 | E60: 1
B61: 42384 | C61: 272567 | E61: 1
B62: 42384 | C62: 18837 | F62: 1
B63: 42384 | C63: 231567 | D63: 1 | E63: 1
B64: 42384 | C64: 242937 | E64: 1 | F64: 1
B65: 42384 | C65: 225198 | D65: 1
A66: SEM 4 | B66: 42394 | C66: 249767 | D66: 1
B67: 42394 | C67: 290114 | E67: 1
B68: 42394 | C68: 295047 | E68: 1
B69: 42394 | C69: 225353 | E69: 1
B70: 42394 | C70: 131687 | D70: 1
B71: 42394 | C71: 293297 | E71: 1
B72: 42394 | C72: 246962 | D72: 1 | E72: 1
B73: 42394 | C73: 247743 | D73: 1 | E73: 1
B74: 42394 | C74: 136445 | D74: 1
B75: 42394 | C75: 295850 | F75: 1
B76: 42394 | C76: 295645 | D76: 1
B77: 42394 | C77: 295529 | F77: 1
B78: 42395 | C78: 240767 | D78: 1
B79: 42395 | C79: 293435 | F79: 1
B80: 42395 | C80: 289368 | E80: 1 | F80: 1
B81: 42395 | C81: 233866 | D81: 1 | F81: 1
B82: 42395 | C82: 162674 | D82: 1 | E82: 1
B83: 42395 | C83: 253695 | D83: 1
B84: 42395 | C84: 463482 | D84: 1 | E84: 1
B85: 42395 | C85: 280615 | D85: 2
B86: 42395 | C86: 125787 | D86: 1 | E86: 1
B87: 42395 | C87: 561480 | D87: 1
B88: 42395 | C88: 227469 | D88: 1 | F88: 1
B89: 42395 | C89: 45474 | D89: 1
B90: 42395 | C90: 195828 | D90: 1
B91: 42395 | C91: 275649 | D91: 1
B92: 42395 | C92: 40424 | D92: 1
B93: 42395 | C93: 18016 | D93: 1 | F93: 1
B94: 42395 | C94: 280978 | E94: 1
B95: 42395 | C95: 459945 | E95: 1
B96: 42395 | C96: 267635 | D96: 1 | E96: 1
B97: 42395 | C97: 272316 | D97: 1
B98: 42395 | C98: 472758 | F98: 1
B99: 42396 | C99: 211709 | D99: 1 | E99: 1
B100: 42396 | C100: 473048 | D100: 1 | E100: 1
B101: 42396 | C101: 23974 | D101: 2 | F101: 2
B102: 42396 | C102: 208402 | D102: 1 | F102: 1
...

Sheet FEVRIER
C1: FEVRIER
A3: Vendeur | C3: =VENDEURS!B3 -> JEAN-PIERRE
C5: POLICES | D5: PLACEMENT DE PRODUIT DURANT L'ENTRETIEN COMMERCIAL
B6: Date : | D6: COCO | E6: ANANAS | F6: MANGUE
A7: SEM 5 | B7: 42401 | C7: 229410 | D7: 1 | E7: 1
B8: 42401 | C8: 294580 | E8: 1
B9: 42401 | C9: 212640 | E9: 1
B10: 42401 | C10: 455403 | D10: 1
B11: 42401 | C11: 787061 | D11: 1
B12: 42401 | C12: 257511 | D12: 1
B13: 42401 | C13: 460897 | D13: 1
B14: 42401 | C14: 149803 | D14: 1 | E14: 1
B15: 42401 | C15: 786679 | D15: 1 | E15: 1
B16: 42401 | C16: 997355 | D16: 1
B17: 42401 | C17: 254059 | D17: 1
B18: 42401 | C18: 287758 | D18: 1 | E18: 1
B19: 42401 | C19: 268244 | D19: 1
B20: 42401 | C20: 996656 | D20: 1
B21: 42401 | C21: 285692 | D21: 1 | E21: 1
B22: 42401 | C22: 258826 | E22: 1
B23: 42401 | C23: 2400 | D23: 1
B24: 42401 | C24: 290588 | E24: 1
B25: 42401 | C25: 278579 | D25: 1 | E25: 1
B26: 42401 | C26: 892537 | D26: 1 | E26: 1
B27: 42401 | C27: 287506 | D27: 1 | E27: 1
B28: 42401 | C28: 296136 | D28: 1 | E28: 1
B29: 42401 | C29: 290005 | D29: 1 | E29: 1
B30: 42401 | C30: 296888 | D30: 1 | E30: 1
B31: 42401 | C31: 279727 | D31: 1 | E31: 1
B32: 42401 | C32: 255837 | D32: 1 | E32: 1
B33: 42401 | C33: 288499 | E33: 1
B34: 42402 | C34: 12529 | E34: 1
B35: 42402 | C35: 296355 | D35: 1
B36: 42402 | C36: 279524 | D36: 1
B37: 42402 | C37: 281582 | D37: 1 | E37: 1 | F37: 1
B38: 42402 | C38: 205325 | D38: 1
B39: 42402 | C39: 119118 | D39: 1
B40: 42402 | C40: 474716 | D40: 1
B41: 42402 | C41: 239990 | D41: 1
B42: 42402 | C42: 187383 | E42: 1
B43: 42402 | C43: 297236 | D43: 1 | E43: 1
B44: 42402 | C44: 222691 | E44: 1
B45: 42402 | C45: 28913 | E45: 1 | F45: 1
B46: 42402 | C46: 294467 | D46: 1
B47: 42403 | C47: 296810 | D47: 1 | E47: 1
B48: 42403 | C48: 787331 | D48: 1
B49: 42403 | C49: 281362 | D49: 1 | E49: 1
B50: 42403 | C50: 297125 | D50: 1
B51: 42403 | C51: 273222 | D51: 1 | E51: 1
B52: 42403 | C52: 201551 | D52: 1
B53: 42403 | C53: 472101 | D53: 1 | E53: 1
B54: 42403 | C54: 294419 | F54: 1
B55: 42403 | C55: 296240 | D55: 1 | E55: 1
B56: 42403 | C56: 205918 | D56: 1
B57: 42403 | C57: 130027 | D57: 1
B58: 42403 | C58: 291772 | F58: 1
B59: 42403 | C59: 296201 | D59: 1
B60: 42403 | C60: 266981 | D60: 1
B61: 42403 | C61: 296646 | D61: 1
B62: 42403 | C62: 297235 | E62: 1
B63: 42403 | C63: 270272 | E63: 1
B64: 42403 | C64: 288086 | D64: 1 | E64: 1
B65: 42403 | C65: 292470 | D65: 1 | E65: 1
B66: 42403 | C66: 475112 | E66: 1
B67: 42403 | C67: 102325 | D67: 1
B68: 42403 | C68: 208217 | D68: 1
B69: 42403 | C69: 260083 | D69: 1 | E69: 1
B70: 42403 | C70: 41141 | E70: 1 | F70: 1
B71: 42404 | C71: 1000145 | D71: 1
B72: 42404 | C72: 286326 | D72: 1 | E72: 1
B73: 42404 | C73: 109905 | D73: 1 | F73: 1
B74: 42404 | C74: 293102 | E74: 1
B75: 42404 | C75: 12688 | E75: 1
B76: 42404 | C76: 462818 | F76: 1
B77: 42404 | C77: 274845 | E77: 1
B78: 42404 | C78: 228683 | D78: 1 | E78: 1
B79: 42404 | C79: 994974 | E79: 1
B80: 42404 | C80: 221924 | D80: 1 | E80: 1
B81: 42404 | C81: 246724 | D81: 1 | E81: 1
B82: 42404 | C82: 469713 | E82: 1
B83: 42404 | C83: 252760 | E83: 1
B84: 42404 | C84: 473254 | E84: 1
B85: 42404 | C85: 272331 | D85: 1 | E85: 1 | F85: 1
B86: 42404 | C86: 287407 | D86: 1 | E86: 1
B87: 42404 | C87: 563559 | E87: 1
B88: 42404 | C88: 464000 | D88: 1
B89: 42404 | C89: 472728 | D89: 1 | E89: 1 | F89: 1
B90: 42404 | C90: 278559 | D90: 1
B91: 42404 | C91: 297118 | E91: 1
B92: 42404 | C92: 563816 | D92: 1
B93: 42404 | C93: 295832 | E93: 1
B94: 42404 | C94: 470096 | E94: 1
B95: 42404 | C95: 472275 | D95: 1 | E95: 1
B96: 42404 | C96: 262402 | D96: 1
B97: 42404 | C97: 462461 | E97: 1
B98: 42404 | C98: 294106 | E98: 1
B99: 42404 | C99: 268206 | E99: 1
B100: 42404 | C100: 294513 | E100: 1
B101: 42404 | C101: 286042 | E101: 1
B102: 42404 | C102: 290187 | E102: 1
...

Sheet RECAP JANVIER
B1: TABLEAU RECAPITULATIF JANVIER 2016
B3: =JANVIER!C3 -> JEAN-PIERRE
C5: =JANVIER!D6 -> COCO | D5: =JANVIER!E6 -> ANANAS | E5: =JANVIER!F6 -> MANGUE
B6: Objectifs mensuels | C6: 100 | D6: 100 | E6: 100
B7: Total actuel | C7: =SUM(C9:C37) -> 84 | D7: =SUM(D9:D37) -> 60 | E7: =SUM(E9:E37) -> 30
B8: Atteinte des objectifs (en %) | C8: =C7/C6 -> 0.84 | D8: =D7/D6 -> 0.6 | E8: =E7/E6 -> 0.3
B9: 42370 | C9: =SUMIF(JANVIER!$B$7:$B$1158,DATE(2016,1,1),JANVIER!D$7:D$1158) -> 0 | D9: =SUMIF(JANVIER!$B$7:$B$1158,DATE(2016,1,1),JANVIER!E$7:E$1158) -> 0 | E9: =SUMIF(JANVIER!$B$7:$B$1158,DATE(2016,1,1),JANVIER!F$7:F$1158) -> 0
B10: 42371 | C10: =SUMIF(JANVIER!$B$7:$B$1158,DATE(2016,1,2),JANVIER!D$7:D$1158) -> 0 | D10: =SUMIF(JANVIER!$B$7:$B$1158,DATE(2016,1,2),JANVIER!E$7:E$1158) -> 0 | E10: =SUMIF(JANVIER!$B$7:$B$1158,DATE(2016,1,2),JANVIER!F$7:F$1158) -> 0
B11: 42372 | C11: =SUMIF(JANVIER!$B$7:$B$1158,DATE(2016,1,3),JANVIER!D$7:D$1158) -> 0 | D11: =SUMIF(JANVIER!$B$7:$B$1158,DATE(2016,1,3),JANVIER!E$7:E$1158) -> 0 | E11: =SUMIF(JANVIER!$B$7:$B$1158,DATE(2016,1,3),JANVIER!F$7:F$1158) -> 0
B12: 42373 | C12: =SUMIF(JANVIER!$B$7:$B$1158,DATE(2016,1,4),JANVIER!D$7:D$1158) -> 0 | D12: =SUMIF(JANVIER!$B$7:$B$1158,DATE(2016,1,4),JANVIER!E$7:E$1158) -> 0 | E12: =SUMIF(JANVIER!$B$7:$B$1158,DATE(2016,1,4),JANVIER!F$7:F$1158) -> 0
B13: 42374 | C13: =SUMIF(JANVIER!$B$7:$B$1158,DATE(2016,1,5),JANVIER!D$7:D$1158) -> 0 | D13: =SUMIF(JANVIER!$B$7:$B$1158,DATE(2016,1,5),JANVIER!E$7:E$1158) -> 0 | E13: =SUMIF(JANVIER!$B$7:$B$1158,DATE(2016,1,5),JANVIER!F$7:F$1158) -> 0
B14: 42375 | C14: =SUMIF(JANVIER!$B$7:$B$1158,DATE(2016,1,6),JANVIER!D$7:D$1158) -> 0 | D14: =SUMIF(JANVIER!$B$7:$B$1158,DATE(2016,1,6),JANVIER!E$7:E$1158) -> 0 | E14: =SUMIF(JANVIER!$B$7:$B$1158,DATE(2016,1,6),JANVIER!F$7:F$1158) -> 0
B15: 42376 | C15: =SUMIF(JANVIER!$B$7:$B$1158,DATE(2016,1,7),JANVIER!D$7:D$1158) -> 0 | D15: =SUMIF(JANVIER!$B$7:$B$1158,DATE(2016,1,7),JANVIER!E$7:E$1158) -> 0 | E15: =SUMIF(JANVIER!$B$7:$B$1158,DATE(2016,1,7),JANVIER!F$7:F$1158) -> 0
B16: 42377 | C16: =SUMIF(JANVIER!$B$7:$B$1158,DATE(2016,1,8),JANVIER!D$7:D$1158) -> 0 | D16: =SUMIF(JANVIER!$B$7:$B$1158,DATE(2016,1,8),JANVIER!E$7:E$1158) -> 0 | E16: =SUMIF(JANVIER!$B$7:$B$1158,DATE(2016,1,8),JANVIER!F$7:F$1158) -> 0
B17: 42378 | C17: =SUMIF(JANVIER!$B$7:$B$1158,DATE(2016,1,9),JANVIER!D$7:D$1158) -> 0 | D17: =SUMIF(JANVIER!$B$7:$B$1158,DATE(2016,1,9),JANVIER!E$7:E$1158) -> 0 | E17: =SUMIF(JANVIER!$B$7:$B$1158,DATE(2016,1,9),JANVIER!F$7:F$1158) -> 0
B18: 42379 | C18: =SUMIF(JANVIER!$B$7:$B$1158,DATE(2016,1,10),JANVIER!D$7:D$1158) -> 0 | D18: =SUMIF(JANVIER!$B$7:$B$1158,DATE(2016,1,10),JANVIER!E$7:E$1158) -> 0 | E18: =SUMIF(JANVIER!$B$7:$B$1158,DATE(2016,1,10),JANVIER!F$7:F$1158) -> 0
B19: 42380 | C19: =SUMIF(JANVIER!$B$7:$B$1158,DATE(2016,1,11),JANVIER!D$7:D$1158) -> 8 | D19: =SUMIF(JANVIER!$B$7:$B$1158,DATE(2016,1,11),JANVIER!E$7:E$1158) -> 8 | E19: =SUMIF(JANVIER!$B$7:$B$1158,DATE(2016,1,11),JANVIER!F$7:F$1158) -> 5
B20: 42381 | C20: =SUMIF(JANVIER!$B$7:$B$1158,DATE(2016,1,12),JANVIER!D$7:D$1158) -> 9 | D20: =SUMIF(JANVIER!$B$7:$B$1158,DATE(2016,1,12),JANVIER!E$7:E$1158) -> 7 | E20: =SUMIF(JANVIER!$B$7:$B$1158,DATE(2016,1,12),JANVIER!F$7:F$1158) -> 4
B21: 42382 | C21: =SUMIF(JANVIER!$B$7:$B$1158,DATE(2016,1,13),JANVIER!D$7:D$1158) -> 0 | D21: =SUMIF(JANVIER!$B$7:$B$1158,DATE(2016,1,13),JANVIER!E$7:E$1158) -> 0 | E21: =SUMIF(JANVIER!$B$7:$B$1158,DATE(2016,1,13),JANVIER!F$7:F$1158) -> 2
B22: 42383 | C22: =SUMIF(JANVIER!$B$7:$B$1158,DATE(2016,1,14),JANVIER!D$7:D$1158) -> 9 | D22: =SUMIF(JANVIER!$B$7:$B$1158,DATE(2016,1,14),JANVIER!E$7:E$1158) -> 8 | E22: =SUMIF(JANVIER!$B$7:$B$1158,DATE(2016,1,14),JANVIER!F$7:F$1158) -> 2
B23: 42384 | C23: =SUMIF(JANVIER!$B$7:$B$1158,DATE(2016,1,15),JANVIER!D$7:D$1158) -> 12 | D23: =SUMIF(JANVIER!$B$7:$B$1158,DATE(2016,1,15),JANVIER!E$7:E$1158) -> 11 | E23: =SUMIF(JANVIER!$B$7:$B$1158,DATE(2016,1,15),JANVIER!F$7:F$1158) -> 6
B24: 42385 | C24: =SUMIF(JANVIER!$B$7:$B$1158,DATE(2016,1,16),JANVIER!D$7:D$1158) -> 0 | D24: =SUMIF(JANVIER!$B$7:$B$1158,DATE(2016,1,16),JANVIER!E$7:E$1158) -> 0 | E24: =SUMIF(JANVIER!$B$7:$B$1158,DATE(2016,1,16),JANVIER!F$7:F$1158) -> 0
B25: 42386 | C25: =SUMIF(JANVIER!$B$7:$B$1158,DATE(2016,1,17),JANVIER!D$7:D$1158) -> 0 | D25: =SUMIF(JANVIER!$B$7:$B$1158,DATE(2016,1,17),JANVIER!E$7:E$1158) -> 0 | E25: =SUMIF(JANVIER!$B$7:$B$1158,DATE(2016,1,17),JANVIER!F$7:F$1158) -> 0
B26: 42387 | C26: =SUMIF(JANVIER!$B$7:$B$1158,DATE(2016,1,18),JANVIER!D$7:D$1158) -> 0 | D26: =SUMIF(JANVIER!$B$7:$B$1158,DATE(2016,1,18),JANVIER!E$7:E$1158) -> 0 | E26: =SUMIF(JANVIER!$B$7:$B$1158,DATE(2016,1,18),JANVIER!F$7:F$1158) -> 0
B27: 42388 | C27: =SUMIF(JANVIER!$B$7:$B$1158,DATE(2016,1,19),JANVIER!D$7:D$1158) -> 0 | D27: =SUMIF(JANVIER!$B$7:$B$1158,DATE(2016,1,19),JANVIER!E$7:E$1158) -> 0 | E27: =SUMIF(JANVIER!$B$7:$B$1158,DATE(2016,1,19),JANVIER!F$7:F$1158) -> 0
B28: 42389 | C28: =SUMIF(JANVIER!$B$7:$B$1158,DATE(2016,1,20),JANVIER!D$7:D$1158) -> 0 | D28: =SUMIF(JANVIER!$B$7:$B$1158,DATE(2016,1,20),JANVIER!E$7:E$1158) -> 0 | E28: =SUMIF(JANVIER!$B$7:$B$1158,DATE(2016,1,20),JANVIER!F$7:F$1158) -> 0
B29: 42390 | C29: =SUMIF(JANVIER!$B$7:$B$1158,DATE(2016,1,21),JANVIER!D$7:D$1158) -> 0 | D29: =SUMIF(JANVIER!$B$7:$B$1158,DATE(2016,1,21),JANVIER!E$7:E$1158) -> 0 | E29: =SUMIF(JANVIER!$B$7:$B$1158,DATE(2016,1,21),JANVIER!F$7:F$1158) -> 0
B30: 42391 | C30: =SUMIF(JANVIER!$B$7:$B$1158,DATE(2016,1,22),JANVIER!D$7:D$1158) -> 0 | D30: =SUMIF(JANVIER!$B$7:$B$1158,DATE(2016,1,22),JANVIER!E$7:E$1158) -> 0 | E30: =SUMIF(JANVIER!$B$7:$B$1158,DATE(2016,1,22),JANVIER!F$7:F$1158) -> 0
B31: 42392 | C31: =SUMIF(JANVIER!$B$7:$B$1158,DATE(2016,1,23),JANVIER!D$7:D$1158) -> 0 | D31: =SUMIF(JANVIER!$B$7:$B$1158,DATE(2016,1,23),JANVIER!E$7:E$1158) -> 0 | E31: =SUMIF(JANVIER!$B$7:$B$1158,DATE(2016,1,23),JANVIER!F$7:F$1158) -> 0
B32: 42393 | C32: =SUMIF(JANVIER!$B$7:$B$1158,DATE(2016,1,24),JANVIER!D$7:D$1158) -> 0 | D32: =SUMIF(JANVIER!$B$7:$B$1158,DATE(2016,1,24),JANVIER!E$7:E$1158) -> 0 | E32: =SUMIF(JANVIER!$B$7:$B$1158,DATE(2016,1,24),JANVIER!F$7:F$1158) -> 0
B33: 42394 | C33: =SUMIF(JANVIER!$B$7:$B$1158,DATE(2016,1,25),JANVIER!D$7:D$1158) -> 6 | D33: =SUMIF(JANVIER!$B$7:$B$1158,DATE(2016,1,25),JANVIER!E$7:E$1158) -> 6 | E33: =SUMIF(JANVIER!$B$7:$B$1158,DATE(2016,1,25),JANVIER!F$7:F$1158) -> 2
B34: 42395 | C34: =SUMIF(JANVIER!$B$7:$B$1158,DATE(2016,1,26),JANVIER!D$7:D$1158) -> 17 | D34: =SUMIF(JANVIER!$B$7:$B$1158,DATE(2016,1,26),JANVIER!E$7:E$1158) -> 7 | E34: =SUMIF(JANVIER!$B$7:$B$1158,DATE(2016,1,26),JANVIER!F$7:F$1158) -> 6
B35: 42396 | C35: =SUMIF(JANVIER!$B$7:$B$1158,DATE(2016,1,27),JANVIER!D$7:D$1158) -> 10 | D35: =SUMIF(JANVIER!$B$7:$B$1158,DATE(2016,1,27),JANVIER!E$7:E$1158) -> 6 | E35: =SUMIF(JANVIER!$B$7:$B$1158,DATE(2016,1,27),JANVIER!F$7:F$1158) -> 3
B36: 42397 | C36: =SUMIF(JANVIER!$B$7:$B$1158,DATE(2016,1,28),JANVIER!D$7:D$1158) -> 13 | D36: =SUMIF(JANVIER!$B$7:$B$1158,DATE(2016,1,28),JANVIER!E$7:E$1158) -> 7 | E36: =SUMIF(JANVIER!$B$7:$B$1158,DATE(2016,1,28),JANVIER!F$7:F$1158) -> 0
B37: 42398 | C37: =SUMIF(JANVIER!$B$7:$B$1158,DATE(2016,1,29),JANVIER!D$7:D$1158) -> 0 | D37: =SUMIF(JANVIER!$B$7:$B$1158,DATE(2016,1,29),JANVIER!E$7:E$1158) -> 0 | E37: =SUMIF(JANVIER!$B$7:$B$1158,DATE(2016,1,29),JANVIER!F$7:F$1158) -> 0
B38: 42399 | C38: =SUMIF(JANVIER!$B$7:$B$1158,DATE(2016,1,30),JANVIER!D$7:D$1158) -> 0 | D38: =SUMIF(JANVIER!$B$7:$B$1158,DATE(2016,1,30),JANVIER!E$7:E$1158) -> 0 | E38: =SUMIF(JANVIER!$B$7:$B$1158,DATE(2016,1,30),JANVIER!F$7:F$1158) -> 0
B39: 42400 | C39: =SUMIF(JANVIER!$B$7:$B$1158,DATE(2016,1,31),JANVIER!D$7:D$1158) -> 0 | D39: =SUMIF(JANVIER!$B$7:$B$1158,DATE(2016,1,31),JANVIER!E$7:E$1158) -> 0 | E39: =SUMIF(JANVIER!$B$7:$B$1158,DATE(2016,1,31),JANVIER!F$7:F$1158) -> 0

Sheet RECAP FEVRIER
B1: TABLEAU RECAPITULATIF FEVRIER 2016
B3: =FEVRIER!C3 -> JEAN-PIERRE
C5: =FEVRIER!D6 -> COCO | D5: =FEVRIER!E6 -> ANANAS | E5: =FEVRIER!F6 -> MANGUE
B6: Objectifs mensuels | C6: 100 | D6: 100 | E6: 100
B7: Total actuel | C7: =SUM(C9:C37) -> 74 | D7: =SUM(D9:D37) -> 73 | E7: =SUM(E9:E37) -> 9
B8: Atteinte des objectifs (en %) | C8: =C7/C6 -> 0.74 | D8: =D7/D6 -> 0.73 | E8: =E7/E6 -> 0.09
B9: 42401 | C9: =SUMIF(FEVRIER!$B$7:$B$1040,DATE(2016,2,1),FEVRIER!D$7:D$1040) -> 22 | D9: =SUMIF(FEVRIER!$B$7:$B$1040,DATE(2016,2,1),FEVRIER!E$7:E$1040) -> 18 | E9: =SUMIF(FEVRIER!$B$7:$B$1040,DATE(2016,2,1),FEVRIER!F$7:F$1040) -> 0
B10: 42402 | C10: =SUMIF(FEVRIER!$B$7:$B$1040,DATE(2016,2,2),FEVRIER!D$7:D$1040) -> 9 | D10: =SUMIF(FEVRIER!$B$7:$B$1040,DATE(2016,2,2),FEVRIER!E$7:E$1040) -> 6 | E10: =SUMIF(FEVRIER!$B$7:$B$1040,DATE(2016,2,2),FEVRIER!F$7:F$1040) -> 2
B11: 42403 | C11: =SUMIF(FEVRIER!$B$7:$B$1040,DATE(2016,2,3),FEVRIER!D$7:D$1040) -> 18 | D11: =SUMIF(FEVRIER!$B$7:$B$1040,DATE(2016,2,3),FEVRIER!E$7:E$1040) -> 12 | E11: =SUMIF(FEVRIER!$B$7:$B$1040,DATE(2016,2,3),FEVRIER!F$7:F$1040) -> 3
B12: 42404 | C12: =SUMIF(FEVRIER!$B$7:$B$1040,DATE(2016,2,4),FEVRIER!D$7:D$1040) -> 14 | D12: =SUMIF(FEVRIER!$B$7:$B$1040,DATE(2016,2,4),FEVRIER!E$7:E$1040) -> 27 | E12: =SUMIF(FEVRIER!$B$7:$B$1040,DATE(2016,2,4),FEVRIER!F$7:F$1040) -> 4
B13: 42405 | C13: =SUMIF(FEVRIER!$B$7:$B$1028,DATE(2016,2,5),FEVRIER!D$7:D$1028) -> 11 | D13: =SUMIF(FEVRIER!$B$7:$B$1028,DATE(2016,2,5),FEVRIER!E$7:E$1028) -> 10 | E13: =SUMIF(FEVRIER!$B$7:$B$1028,DATE(2016,2,5),FEVRIER!F$7:F$1028) -> 0
B14: 42406 | C14: =SUMIF(FEVRIER!$B$7:$B$1028,DATE(2016,2,6),FEVRIER!D$7:D$1028) -> 0 | D14: =SUMIF(FEVRIER!$B$7:$B$1028,DATE(2016,2,6),FEVRIER!E$7:E$1028) -> 0 | E14: =SUMIF(FEVRIER!$B$7:$B$1028,DATE(2016,2,6),FEVRIER!F$7:F$1028) -> 0
B15: 42407 | C15: =SUMIF(FEVRIER!$B$7:$B$1028,DATE(2016,2,7),FEVRIER!D$7:D$1028) -> 0 | D15: =SUMIF(FEVRIER!$B$7:$B$1028,DATE(2016,2,7),FEVRIER!E$7:E$1028) -> 0 | E15: =SUMIF(FEVRIER!$B$7:$B$1028,DATE(2016,2,7),FEVRIER!F$7:F$1028) -> 0
B16: 42408 | C16: =SUMIF(FEVRIER!$B$7:$B$1028,DATE(2016,2,8),FEVRIER!D$7:D$1028) -> 0 | D16: =SUMIF(FEVRIER!$B$7:$B$1028,DATE(2016,2,8),FEVRIER!E$7:E$1028) -> 0 | E16: =SUMIF(FEVRIER!$B$7:$B$1028,DATE(2016,2,8),FEVRIER!F$7:F$1028) -> 0
B17: 42409 | C17: =SUMIF(FEVRIER!$B$7:$B$1028,DATE(2016,2,9),FEVRIER!D$7:D$1028) -> 0 | D17: =SUMIF(FEVRIER!$B$7:$B$1028,DATE(2016,2,9),FEVRIER!E$7:E$1028) -> 0 | E17: =SUMIF(FEVRIER!$B$7:$B$1028,DATE(2016,2,9),FEVRIER!F$7:F$1028) -> 0
B18: 42410 | C18: =SUMIF(FEVRIER!$B$7:$B$1028,DATE(2016,2,10),FEVRIER!D$7:D$1028) -> 0 | D18: =SUMIF(FEVRIER!$B$7:$B$1028,DATE(2016,2,10),FEVRIER!E$7:E$1028) -> 0 | E18: =SUMIF(FEVRIER!$B$7:$B$1028,DATE(2016,2,10),FEVRIER!F$7:F$1028) -> 0
B19: 42411 | C19: =SUMIF(FEVRIER!$B$7:$B$1028,DATE(2016,2,11),FEVRIER!D$7:D$1028) -> 0 | D19: =SUMIF(FEVRIER!$B$7:$B$1028,DATE(2016,2,11),FEVRIER!E$7:E$1028) -> 0 | E19: =SUMIF(FEVRIER!$B$7:$B$1028,DATE(2016,2,11),FEVRIER!F$7:F$1028) -> 0
B20: 42412 | C20: =SUMIF(FEVRIER!$B$7:$B$1028,DATE(2016,2,12),FEVRIER!D$7:D$1028) -> 0 | D20: =SUMIF(FEVRIER!$B$7:$B$1028,DATE(2016,2,12),FEVRIER!E$7:E$1028) -> 0 | E20: =SUMIF(FEVRIER!$B$7:$B$1028,DATE(2016,2,12),FEVRIER!F$7:F$1028) -> 0
B21: 42413 | C21: =SUMIF(FEVRIER!$B$7:$B$1028,DATE(2016,2,13),FEVRIER!D$7:D$1028) -> 0 | D21: =SUMIF(FEVRIER!$B$7:$B$1028,DATE(2016,2,13),FEVRIER!E$7:E$1028) -> 0 | E21: =SUMIF(FEVRIER!$B$7:$B$1028,DATE(2016,2,13),FEVRIER!F$7:F$1028) -> 0
B22: 42414 | C22: =SUMIF(FEVRIER!$B$7:$B$1028,DATE(2016,2,14),FEVRIER!D$7:D$1028) -> 0 | D22: =SUMIF(FEVRIER!$B$7:$B$1028,DATE(2016,2,14),FEVRIER!E$7:E$1028) -> 0 | E22: =SUMIF(FEVRIER!$B$7:$B$1028,DATE(2016,2,14),FEVRIER!F$7:F$1028) -> 0
B23: 42415 | C23: =SUMIF(FEVRIER!$B$7:$B$1028,DATE(2016,2,15),FEVRIER!D$7:D$1028) -> 0 | D23: =SUMIF(FEVRIER!$B$7:$B$1028,DATE(2016,2,15),FEVRIER!E$7:E$1028) -> 0 | E23: =SUMIF(FEVRIER!$B$7:$B$1028,DATE(2016,2,15),FEVRIER!F$7:F$1028) -> 0
B24: 42416 | C24: =SUMIF(FEVRIER!$B$7:$B$1028,DATE(2016,2,16),FEVRIER!D$7:D$1028) -> 0 | D24: =SUMIF(FEVRIER!$B$7:$B$1028,DATE(2016,2,16),FEVRIER!E$7:E$1028) -> 0 | E24: =SUMIF(FEVRIER!$B$7:$B$1028,DATE(2016,2,16),FEVRIER!F$7:F$1028) -> 0
B25: 42417 | C25: =SUMIF(FEVRIER!$B$7:$B$1028,DATE(2016,2,17),FEVRIER!D$7:D$1028) -> 0 | D25: =SUMIF(FEVRIER!$B$7:$B$1028,DATE(2016,2,17),FEVRIER!E$7:E$1028) -> 0 | E25: =SUMIF(FEVRIER!$B$7:$B$1028,DATE(2016,2,17),FEVRIER!F$7:F$1028) -> 0
B26: 42418 | C26: =SUMIF(FEVRIER!$B$7:$B$1028,DATE(2016,2,18),FEVRIER!D$7:D$1028) -> 0 | D26: =SUMIF(FEVRIER!$B$7:$B$1028,DATE(2016,2,18),FEVRIER!E$7:E$1028) -> 0 | E26: =SUMIF(FEVRIER!$B$7:$B$1028,DATE(2016,2,18),FEVRIER!F$7:F$1028) -> 0
B27: 42419 | C27: =SUMIF(FEVRIER!$B$7:$B$1028,DATE(2016,2,19),FEVRIER!D$7:D$1028) -> 0 | D27: =SUMIF(FEVRIER!$B$7:$B$1028,DATE(2016,2,19),FEVRIER!E$7:E$1028) -> 0 | E27: =SUMIF(FEVRIER!$B$7:$B$1028,DATE(2016,2,19),FEVRIER!F$7:F$1028) -> 0
B28: 42420 | C28: =SUMIF(FEVRIER!$B$7:$B$1028,DATE(2016,2,20),FEVRIER!D$7:D$1028) -> 0 | D28: =SUMIF(FEVRIER!$B$7:$B$1028,DATE(2016,2,20),FEVRIER!E$7:E$1028) -> 0 | E28: =SUMIF(FEVRIER!$B$7:$B$1028,DATE(2016,2,20),FEVRIER!F$7:F$1028) -> 0
B29: 42421 | C29: =SUMIF(FEVRIER!$B$7:$B$1028,DATE(2016,2,21),FEVRIER!D$7:D$1028) -> 0 | D29: =SUMIF(FEVRIER!$B$7:$B$1028,DATE(2016,2,21),FEVRIER!E$7:E$1028) -> 0 | E29: =SUMIF(FEVRIER!$B$7:$B$1028,DATE(2016,2,21),FEVRIER!F$7:F$1028) -> 0
B30: 42422 | C30: =SUMIF(FEVRIER!$B$7:$B$1028,DATE(2016,2,22),FEVRIER!D$7:D$1028) -> 0 | D30: =SUMIF(FEVRIER!$B$7:$B$1028,DATE(2016,2,22),FEVRIER!E$7:E$1028) -> 0 | E30: =SUMIF(FEVRIER!$B$7:$B$1028,DATE(2016,2,22),FEVRIER!F$7:F$1028) -> 0
B31: 42423 | C31: =SUMIF(FEVRIER!$B$7:$B$1028,DATE(2016,2,23),FEVRIER!D$7:D$1028) -> 0 | D31: =SUMIF(FEVRIER!$B$7:$B$1028,DATE(2016,2,23),FEVRIER!E$7:E$1028) -> 0 | E31: =SUMIF(FEVRIER!$B$7:$B$1028,DATE(2016,2,23),FEVRIER!F$7:F$1028) -> 0
B32: 42424 | C32: =SUMIF(FEVRIER!$B$7:$B$1028,DATE(2016,2,24),FEVRIER!D$7:D$1028) -> 0 | D32: =SUMIF(FEVRIER!$B$7:$B$1028,DATE(2016,2,24),FEVRIER!E$7:E$1028) -> 0 | E32: =SUMIF(FEVRIER!$B$7:$B$1028,DATE(2016,2,24),FEVRIER!F$7:F$1028) -> 0
B33: 42425 | C33: =SUMIF(FEVRIER!$B$7:$B$1028,DATE(2016,2,25),FEVRIER!D$7:D$1028) -> 0 | D33: =SUMIF(FEVRIER!$B$7:$B$1028,DATE(2016,2,25),FEVRIER!E$7:E$1028) -> 0 | E33: =SUMIF(FEVRIER!$B$7:$B$1028,DATE(2016,2,25),FEVRIER!F$7:F$1028) -> 0
B34: 42426 | C34: =SUMIF(FEVRIER!$B$7:$B$1028,DATE(2016,2,26),FEVRIER!D$7:D$1028) -> 0 | D34: =SUMIF(FEVRIER!$B$7:$B$1028,DATE(2016,2,26),FEVRIER!E$7:E$1028) -> 0 | E34: =SUMIF(FEVRIER!$B$7:$B$1028,DATE(2016,2,26),FEVRIER!F$7:F$1028) -> 0
B35: 42427 | C35: =SUMIF(FEVRIER!$B$7:$B$1028,DATE(2016,2,27),FEVRIER!D$7:D$1028) -> 0 | D35: =SUMIF(FEVRIER!$B$7:$B$1028,DATE(2016,2,27),FEVRIER!E$7:E$1028) -> 0 | E35: =SUMIF(FEVRIER!$B$7:$B$1028,DATE(2016,2,27),FEVRIER!F$7:F$1028) -> 0
B36: 42428 | C36: =SUMIF(FEVRIER!$B$7:$B$1028,DATE(2016,2,28),FEVRIER!D$7:D$1028) -> 0 | D36: =SUMIF(FEVRIER!$B$7:$B$1028,DATE(2016,2,28),FEVRIER!E$7:E$1028) -> 0 | E36: =SUMIF(FEVRIER!$B$7:$B$1028,DATE(2016,2,28),FEVRIER!F$7:F$1028) -> 0
B37: 42429 | C37: =SUMIF(FEVRIER!$B$7:$B$1028,DATE(2016,2,29),FEVRIER!D$7:D$1028) -> 0 | D37: =SUMIF(FEVRIER!$B$7:$B$1028,DATE(2016,2,29),FEVRIER!E$7:E$1028) -> 0 | E37: =SUMIF(FEVRIER!$B$7:$B$1028,DATE(2016,2,29),FEVRIER!F$7:F$1028) -> 0
