Workbook

Sheet Feuil1
A1: Evènements | B1: CA | G1: CV | L1: Evenement 1 | M1: Evenement 2 | N1: Evenement 3 | O1: Evenement 4 | P1: TOTAL
A2: Nombre de jetons | B2: 5 | G2: 2 | L2: 1 | M2: 2 | N2: 1 | O2: 2
A3: Date Participant | B3: Date 1 | C3: Date 2 | D3: Date 3 | E3: Date 4 | F3: Date 5 | G3: Date 1 | H3: Date 2 | I3: Date 3 | J3: Date 4 | K3: Date 5 | L3: Date 1 | M3: Date 1 | N3: Date 1 | O3: Date 1
A4: Personne 1 | P4: =IF(Feuil2!B4=TRUE,Feuil1!$B$2*Feuil2!$B$1,0)+IF(Feuil2!C4=TRUE,Feuil1!$B$2*Feuil2!$B$1,0)+IF(Feuil2!G4=TRUE,Feuil1!$G$2*Feuil2!$B$1,0)+IF(Feuil2!H4=TRUE,Feuil1!$G$2*Feuil2!$B$1,0)+IF(Feuil2!L4=TRUE,Feuil1!$L$2*Feuil2!$B$1,0)+IF(Feuil2!M4=TRUE,Feuil1!$M$2*Feuil2!$B$1,0)+IF(Feuil2!N4=TRUE,Feuil1!$N$2*Feuil2!$B$1,0)+IF(Feuil2!O4=TRUE,Feuil1!$O$2*Feuil2!$B$1,0) -> 55
A5: Personne 2 | P5: =IF(Feuil2!B5=TRUE,Feuil1!$B$2*Feuil2!$B$1,0)+IF(Feuil2!C5=TRUE,Feuil1!$B$2*Feuil2!$B$1,0)+IF(Feuil2!G5=TRUE,Feuil1!$G$2*Feuil2!$B$1,0)+IF(Feuil2!H5=TRUE,Feuil1!$G$2*Feuil2!$B$1,0)+IF(Feuil2!L5=TRUE,Feuil1!$L$2*Feuil2!$B$1,0)+IF(Feuil2!M5=TRUE,Feuil1!$M$2*Feuil2!$B$1,0)+IF(Feuil2!N5=TRUE,Feuil1!$N$2*Feuil2!$B$1,0)+IF(Feuil2!O5=TRUE,Feuil1!$O$2*Feuil2!$B$1,0) -> 65
A6: Personne 3 | P6: =IF(Feuil2!B6=TRUE,Feuil1!$B$2*Feuil2!$B$1,0)+IF(Feuil2!C6=TRUE,Feuil1!$B$2*Feuil2!$B$1,0)+IF(Feuil2!G6=TRUE,Feuil1!$G$2*Feuil2!$B$1,0)+IF(Feuil2!H6=TRUE,Feuil1!$G$2*Feuil2!$B$1,0)+IF(Feuil2!L6=TRUE,Feuil1!$L$2*Feuil2!$B$1,0)+IF(Feuil2!M6=TRUE,Feuil1!$M$2*Feuil2!$B$1,0)+IF(Feuil2!N6=TRUE,Feuil1!$N$2*Feuil2!$B$1,0)+IF(Feuil2!O6=TRUE,Feuil1!$O$2*Feuil2!$B$1,0) -> 25
A7: Personne 4 | P7: =IF(Feuil2!B7=TRUE,Feuil1!$B$2*Feuil2!$B$1,0)+IF(Feuil2!C7=TRUE,Feuil1!$B$2*Feuil2!$B$1,0)+IF(Feuil2!G7=TRUE,Feuil1!$G$2*Feuil2!$B$1,0)+IF(Feuil2!H7=TRUE,Feuil1!$G$2*Feuil2!$B$1,0)+IF(Feuil2!L7=TRUE,Feuil1!$L$2*Feuil2!$B$1,0)+IF(Feuil2!M7=TRUE,Feuil1!$M$2*Feuil2!$B$1,0)+IF(Feuil2!N7=TRUE,Feuil1!$N$2*Feuil2!$B$1,0)+IF(Feuil2!O7=TRUE,Feuil1!$O$2*Feuil2!$B$1,0) -> 55

Sheet Feuil2
A1: Prix jeton | B1: 5
B4: FALSE | C4: TRUE | G4: TRUE | H4: TRUE | L4: TRUE | M4: FALSE | N4: TRUE | O4: FALSE
B5: TRUE | C5: TRUE | G5: FALSE | H5: FALSE | L5: FALSE | M5: TRUE | N5: TRUE | O5: FALSE
B6: FALSE | C6: FALSE | G6: TRUE | H6: FALSE | L6: TRUE | M6: FALSE | N6: FALSE | O6: TRUE
B7: TRUE | C7: FALSE | G7: FALSE | H7: TRUE | L7: TRUE | M7: TRUE | N7: TRUE | O7: FALSE

Sheet Feuil3
B4: =IF(Feuil2!B4="VRAI",5,0) -> 0 | C4: =IF(Feuil2!C4="VRAI",5,0) -> 0 | D4: =IF(Feuil2!D4="VRAI",5,0) -> 0 | E4: =IF(Feuil2!E4="VRAI",5,0) -> 0 | F4: =IF(Feuil2!F4="VRAI",5,0) -> 0
B5: =IF(Feuil2!B5="VRAI",5,0) -> 0 | C5: =IF(Feuil2!C5="VRAI",5,0) -> 0 | D5: =IF(Feuil2!D5="VRAI",5,0) -> 0 | E5: =IF(Feuil2!E5="VRAI",5,0) -> 0 | F5: =IF(Feuil2!F5="VRAI",5,0) -> 0
B6: =IF(Feuil2!B6="VRAI",5,0) -> 0 | C6: =IF(Feuil2!C6="VRAI",5,0) -> 0 | D6: =IF(Feuil2!D6="VRAI",5,0) -> 0 | E6: =IF(Feuil2!E6="VRAI",5,0) -> 0 | F6: =IF(Feuil2!F6="VRAI",5,0) -> 0
B7: =IF(Feuil2!B7="VRAI",5,0) -> 0 | C7: =IF(Feuil2!C7="VRAI",5,0) -> 0 | D7: =IF(Feuil2!D7="VRAI",5,0) -> 0 | E7: =IF(Feuil2!E7="VRAI",5,0) -> 0 | F7: =IF(Feuil2!F7="VRAI",5,0) -> 0
