Workbook
Name lol: INDIRECT(VLOOKUP(Feuil1!$B$14,Feuil1!$A$34:$C$45,3,0))
Name noms: #REF!
Name voiture: INDIRECT(VLOOKUP(Feuil1!$B$14,#REF!,3,0))

Sheet Feuil1
A9: CARACTERISTIQUES DE NOS VEHICULES
B13: SELECTIONNER UN VEHICULE
B14: CARAVELLE 9P
A18: MARQUES : | B18: =IFERROR(VLOOKUP($B$14,liste!A:G,2,FALSE),"") -> VOLKSWAGEN
A22: CO2 : | B22: =IFERROR(VLOOKUP($B$14,liste!A:G,3,FALSE),"") -> 159 | C22: conso mixte : | D22: =IFERROR(VLOOKUP($B$14,liste!A:Z,10,FALSE),"") -> 6,1 L
A24: carburant: | B24: =IFERROR(VLOOKUP($B$14,liste!A:M,11,FALSE),"") -> DIESEL | C24: puissance fiscale : | D24: =IFERROR(VLOOKUP($B$14,liste!A:Z,12,FALSE),"") -> 9
A26: Nombre de places : | B26: =IFERROR(VLOOKUP($B$14,liste!A:G,7,FALSE),"") -> 9 | C26: PREVU pour : | D26: =IFERROR(VLOOKUP($B$14,liste!A:G,5,FALSE),"") -> 8 passagers
A28: volume coffre ; | B28: =IFERROR(VLOOKUP($B$14,liste!A:G,6,FALSE),"") -> non significatif | C28: Longueur | D28: =IFERROR(VLOOKUP($B$14,liste!A:Z,8,FALSE),"1") -> 5,01 m
B32: =IFERROR(VLOOKUP($B$14,liste!A:M,9,FALSE),"") -> AGE : MOINS DE 1 AN
A34: FABIA | C34: =CELL("adresse",B34) -> $B$34
A35: YARIS hybrid | C35: =CELL("adresse",B35) -> $B$35
A36: BERLINGO | C36: =CELL("adresse",B36) -> $B$36
A37: TRAFIC | C37: =CELL("adresse",B37) -> $B$37
A38: 208 | C38: =CELL("adresse",B38) -> $B$38
A39: VIVARO | C39: =CELL("adresse",B39) -> $B$39
A40: C3 PICASSO | C40: =CELL("adresse",B40) -> $B$40
A41: CAPTUR | C41: =CELL("adresse",B41) -> $B$41
A42: CLIO 4 | C42: =CELL("adresse",B42) -> $B$42
A43: caravelle 8p | C43: =CELL("adresse",B43) -> $B$43
A44: caravelle 9p | C44: =CELL("adresse",B44) -> $B$44
A45: jumpy | C45: =CELL("adresse",B45) -> $B$45

Sheet liste
A1: model | B1: marque | C1: c02 | D1: longeur | E1: prévus pour | F1: volume coffre | G1: nombre de place | H1: longuer | I1: age | J1: conso | K1: carburant | L1: puii fis
A2: 208 | B2: PEUGEOT | C2: 79g | E2: 2 passagers | F2: 285 L | G2: 5 | H2: 3,97 m | I2: AGE : MOINS DE 1 AN | J2: 3,0 L | K2: DIESEL | L2: 3
A3: BERLINGO | B3: CITROEN | C3: 113g | E3: 4 passagers | F3: 620 L | G3: 5 | H3: 4,38 m | J3: 4,3 L | K3: DIESEL | L3: 5
A4: C3 PICASSO | B4: CITROEN | C4: 101g | E4: 3 passagers | F4: 500 L | G4: 5 | H4: 4,078 m | I4: AGE : MOINS DE 1 AN | J4: 3,9 L | K4: DIESEL | L4: 5
A5: CAPTUR | B5: RENAULT | C5: 95 g | E5: 3 passagers | F5: 377 l | G5: 5 | H5: 4,12 m | I5: AGE : MOINS DE 1 AN | J5: 3,4 L | K5: DIESEL | L5: 4
A6: CARAVELLE 8P | B6: VOLKSWAGEN | C6: 159 | E6: 7 passagers | F6: non significatif | G6: 8 | H6: 5,01 m | I6: AGE : MOINS DE 1 AN | J6: 6,1 L | K6: DIESEL | L6: 9
A7: CARAVELLE 9P | B7: VOLKSWAGEN | C7: 159 | E7: 8 passagers | F7: non significatif | G7: 9 | H7: 5,01 m | I7: AGE : MOINS DE 1 AN | J7: 6,1 L | K7: DIESEL | L7: 9
A8: CLIO 4 | B8: RENAULT | C8: 90g | E8: 2 passagers | F8: 300 L | G8: 5 | H8: 4,063m | I8: AGE : MOINS DE 1 AN | J8: 3,4 L | K8: DIESEL | L8: 4
A9: FABIA | B9: SKODA | C9: 93g | E9: 2 passagers | F9: 330 L | G9: 5 | H9: 3,99 m | I9: AGE : MOINS DE 1 AN | J9: 3,6 L | K9: DIESEL | L9: 4
A10: JUMPY | B10: CITROEN | C10: 172 | E10: 8 passagers | F10: non significatif | G10: 9 | H10: 4,80 m | I10: AGE : MOINS DE 3 ANS | J10: 6,6 L | K10: DIESEL | L10: 8
A11: TRAFIC | B11: RENAULT | C11: 149 | E11: 8 passagers | F11: non significatif | G11: 9 | H11: 5,00 m et 5,40 m | I11: AGE : MOINS DE 3 ANS | J11: 5,7 L | K11: DIESEL | L11: 7
A12: VIVARO | B12: OPEL | C12: 149 | E12: 8 passagers | F12: non significatif | G12: 9 | H12: 5,00 m et 5,40 m | I12: AGE : MOINS DE 3 ANS | J12: 5,7 L | K12: DIESEL | L12: 7
A13: YARIS HYBRID | B13: TOYOTA | C13: 75g | E13: 2 passagers | F13: 285 L | G13: 5 | H13: 3,90 m | I13: AGE : MOINS DE 1 AN | J13: 3,5 L | K13: ESSENCE/ELECTRIC | L13: 3
