Workbook
Name __Anonymous_Sheet_DB__1: #REF!
Name __Anonymous_Sheet_DB__1: #REF!
Name __Anonymous_Sheet_DB__2: #REF!
Name __Anonymous_Sheet_DB__2: #REF!
Name __Anonymous_Sheet_DB__3: #REF!
Name __Anonymous_Sheet_DB__3: #REF!
Name __Anonymous_Sheet_DB__4: #REF!
Name __Anonymous_Sheet_DB__4: #REF!
Name __Anonymous_Sheet_DB__5: #REF!
Name __Anonymous_Sheet_DB__5: #REF!
Name Aideref: Informations_personnelles!$T$189:$T$194
Name ancienneté: Informations_personnelles!$T$170:$T$175
Name CC3F: Informations_personnelles!$T$148:$T$169
Name CCCatt: Informations_personnelles!$T$251:$T$271
Name CCVA: Informations_personnelles!$T$238:$T$245
Name originedemande: Informations_personnelles!$T$310:$T$318
Name portedefrance: Informations_personnelles!$T$291:$T$304
Name Ressources: Informations_personnelles!$T$198:$T$205
Name SeulementX: Informations_personnelles!$T$141:$T$142
Name Situationfamiliale: Informations_personnelles!$T$136:$T$139
Name Soutienref: Informations_personnelles!$T$179:$T$186
Name ValdeFensch: Informations_personnelles!#REF!
Name Valfensch: Informations_personnelles!$T$277:$T$286
Name X: Informations_personnelles!$T$141:$T$142

Sheet Informations_personnelles
A2: Début du suivi le | B2: N° Entrée | C2: Nom | D2: Age | E2: Nationalié | F2: Situation Familiale | G2: Ressources (début suivi) | H2: Enfants à charge | I2: Colonne1
I3: =IF(A3<>"",MONTH(A3),"")
A4: 42373 | B4: 1 | C4: anonyme | D4: 31 | E4: turque | F4: Mariage non reconnu | G4: RSA | H4: 3 | I4: =IF(A4<>"",MONTH(A4),"") -> 1
A5: 42373 | B5: 2 | C5: anonyme | D5: 36 | E5: française | F5: Mariée | G5: Salaire | H5: 3 | I5: =IF(A5<>"",MONTH(A5),"") -> 1
A6: 42373 | B6: 3 | C6: anonyme | D6: 36 | E6: française | F6: Concubinage | G6: Salaire | H6: 2 | I6: =IF(A6<>"",MONTH(A6),"") -> 1
A7: 42377 | B7: 4 | C7: anonyme | D7: 37 | E7: française | F7: Mariée | G7: Salaire | H7: 3 | I7: =IF(A7<>"",MONTH(A7),"") -> 1
A8: 42402 | B8: 5 | C8: anonyme | I8: =IF(A8<>"",MONTH(A8),"") -> 2
B9: 6 | I9: =IF(A9<>"",MONTH(A9),"")
B10: 7 | I10: =IF(A10<>"",MONTH(A10),"")
B11: 8 | I11: =IF(A11<>"",MONTH(A11),"")
B12: 9 | I12: =IF(A12<>"",MONTH(A12),"")
B13: 10 | I13: =IF(A13<>"",MONTH(A13),"")
B14: 11 | I14: =IF(A14<>"",MONTH(A14),"")
B15: 12 | I15: =IF(A15<>"",MONTH(A15),"")
I16: =IF(A16<>"",MONTH(A16),"")
I17: =IF(A17<>"",MONTH(A17),"")
I18: =IF(A18<>"",MONTH(A18),"")
I19: =IF(A19<>"",MONTH(A19),"")
I20: =IF(A20<>"",MONTH(A20),"")
I21: =IF(A21<>"",MONTH(A21),"")
I22: =IF(A22<>"",MONTH(A22),"")
I23: =IF(A23<>"",MONTH(A23),"")
I24: =IF(A24<>"",MONTH(A24),"")
I25: =IF(A25<>"",MONTH(A25),"")
I26: =IF(A26<>"",MONTH(A26),"")
I27: =IF(A27<>"",MONTH(A27),"")
... I37: =IF(A37<>"",MONTH(A37),"")
A38: =COUNTIFS(I4:I37,1) -> 4 | B38: total mois 1 | H38: =SUM(H4:H36) -> 11 | I38: =IF(A38<>"",MONTH(A38),"") -> 1
A39: =COUNTIFS(I4:I37,2) -> 1 | B39: total mois 2 | I39: =IF(A39<>"",MONTH(A39),"") -> 1
A40: =COUNTIFS(I4:I37,3) -> 0 | B40: total mois 3 | I40: =IF(A40<>"",MONTH(A40),"") -> 1
A41: =COUNTA(A4:A37) -> 5 | B41: total 1er trim | I41: =IF(A41<>"",MONTH(A41),"") -> 1
I42: =IF(A42<>"",MONTH(A42),"")
I43: =IF(A43<>"",MONTH(A43),"")
I44: =IF(A44<>"",MONTH(A44),"")
B45: 2e trim 2016 | I45: =IF(A45<>"",MONTH(A45),"")
I46: =IF(A46<>"",MONTH(A46),"")
I47: =IF(A47<>"",MONTH(A47),"")
I48: =IF(A48<>"",MONTH(A48),"")
I49: =IF(A49<>"",MONTH(A49),"")
I50: =IF(A50<>"",MONTH(A50),"")
I51: =IF(A51<>"",MONTH(A51),"")
I52: =IF(A52<>"",MONTH(A52),"")
I53: =IF(A53<>"",MONTH(A53),"")
I54: =IF(A54<>"",MONTH(A54),"")
I55: =IF(A55<>"",MONTH(A55),"")
I56: =IF(A56<>"",MONTH(A56),"")
I57: =IF(A57<>"",MONTH(A57),"")
... I79: =IF(A79<>"",MONTH(A79),"")
A80: =COUNTA(A46:A79) -> 0 | B80: Total 2e trim | G80: =COUNTA(G79:G79) -> 0 | H80: =COUNTIF(H46:H79, "X") -> 0 | I80: =IF(A80<>"",MONTH(A80),"") -> 1
I81: =IF(A81<>"",MONTH(A81),"")
I82: =IF(A82<>"",MONTH(A82),"")
I83: =IF(A83<>"",MONTH(A83),"")
B84: 3e trim 2016 | I84: =IF(A84<>"",MONTH(A84),"")
I85: =IF(A85<>"",MONTH(A85),"")
I86: =IF(A86<>"",MONTH(A86),"")
I87: =IF(A87<>"",MONTH(A87),"")
I88: =IF(A88<>"",MONTH(A88),"")
I89: =IF(A89<>"",MONTH(A89),"")
I90: =IF(A90<>"",MONTH(A90),"")
I91: =IF(A91<>"",MONTH(A91),"")
I92: =IF(A92<>"",MONTH(A92),"")
I93: =IF(A93<>"",MONTH(A93),"")
I94: =IF(A94<>"",MONTH(A94),"")
I95: =IF(A95<>"",MONTH(A95),"")
I96: =IF(A96<>"",MONTH(A96),"")
... I118: =IF(A118<>"",MONTH(A118),"")
A119: =COUNTA(A85:A118) -> 0 | B119: Total 3e trim | G119: =COUNTA(G85:G118) -> 0 | H119: =COUNTA(H85:H118) -> 0 | I119: =IF(A119<>"",MONTH(A119),"") -> 1
I120: =IF(A120<>"",MONTH(A120),"")
I121: =IF(A121<>"",MONTH(A121),"")
I122: =IF(A122<>"",MONTH(A122),"")
I123: =IF(A123<>"",MONTH(A123),"")
B124: 4e trim 2016 | I124: =IF(A124<>"",MONTH(A124),"")
I125: =IF(A125<>"",MONTH(A125),"")
I126: =IF(A126<>"",MONTH(A126),"")
I127: =IF(A127<>"",MONTH(A127),"")
I128: =IF(A128<>"",MONTH(A128),"")
I129: =IF(A129<>"",MONTH(A129),"")
I130: =IF(A130<>"",MONTH(A130),"")
I131: =IF(A131<>"",MONTH(A131),"")
I132: =IF(A132<>"",MONTH(A132),"")
I133: =IF(A133<>"",MONTH(A133),"")
I134: =IF(A134<>"",MONTH(A134),"")
I135: =IF(A135<>"",MONTH(A135),"") | T135: Situation Familiale
I136: =IF(A136<>"",MONTH(A136),"") | T136: Mariée
I137: =IF(A137<>"",MONTH(A137),"") | T137: Séparée
I138: =IF(A138<>"",MONTH(A138),"") | T138: Union libre
I139: =IF(A139<>"",MONTH(A139),"") | T139: Divorcée
I140: =IF(A140<>"",MONTH(A140),"") | T140: Concubinage
I141: =IF(A141<>"",MONTH(A141),"") | T141: Célibataire
I142: =IF(A142<>"",MONTH(A142),"") | T142: Mariage non reconnu
I143: =IF(A143<>"",MONTH(A143),"")
I144: =IF(A144<>"",MONTH(A144),"")
I145: =IF(A145<>"",MONTH(A145),"")
I146: =IF(A146<>"",MONTH(A146),"")
I147: =IF(A147<>"",MONTH(A147),"") | T147: CC3F
I148: =IF(A148<>"",MONTH(A148),"") | T148: Apach
I149: =IF(A149<>"",MONTH(A149),"") | T149: Halstroff
I150: =IF(A150<>"",MONTH(A150),"") | T150: Kirshnaumen
I151: =IF(A151<>"",MONTH(A151),"") | T151: Manderen
I152: =IF(A152<>"",MONTH(A152),"") | T152: Rettel
...

Sheet Accompagnement
E1: Accès aux droits
A2: N° Entrée | B2: Nom | C2: Nombre d'entretiens victimes | D2: Nombre d'entretiens partenaires | E2: Info Procedures pénales | F2: Info dt civil sur situation
E3: (X) | F3: (X)
A4: =Informations_personnelles!B4 -> 1 | B4: anonyme | C4: 5
A5: =Informations_personnelles!B5 -> 2 | B5: anonyme | C5: 4 | E5: x | F5: x
A6: =Informations_personnelles!B6 -> 3 | B6: anonyme | C6: 6 | E6: x | F6: x
A7: =Informations_personnelles!B7 -> 4 | B7: anonyme | C7: 4 | E7: x | F7: x
A8: =Informations_personnelles!B8 -> 5 | B8: =Informations_personnelles!C8 -> anonyme
A9: =Informations_personnelles!B9 -> 6 | B9: =Informations_personnelles!C9 -> 0
A10: =Informations_personnelles!B10 -> 7 | B10: =Informations_personnelles!C10 -> 0
A11: =Informations_personnelles!B11 -> 8 | B11: =Informations_personnelles!C11 -> 0
A12: =Informations_personnelles!B12 -> 9 | B12: =Informations_personnelles!C12 -> 0
A13: =Informations_personnelles!B13 -> 10 | B13: =Informations_personnelles!C13 -> 0
A14: =Informations_personnelles!B14 -> 11 | B14: =Informations_personnelles!C14 -> 0
A15: =Informations_personnelles!B15 -> 12 | B15: =Informations_personnelles!C15 -> 0
A16: =Informations_personnelles!B16 | B16: =Informations_personnelles!C16 -> 0
A17: =Informations_personnelles!B17 | B17: =Informations_personnelles!C17 -> 0
A18: =Informations_personnelles!B18 | B18: =Informations_personnelles!C18 -> 0
A19: =Informations_personnelles!B19 | B19: =Informations_personnelles!C19 -> 0
... A30: =Informations_personnelles!B30 | B30: =Informations_personnelles!C30 -> 0
B31: =Informations_personnelles!C31 -> 0
B32: =Informations_personnelles!C32 -> 0
A33: =Informations_personnelles!B33 | B33: =Informations_personnelles!C33 -> 0
B34: =Informations_personnelles!C34 -> 0
A35: =Informations_personnelles!B35 | B35: =Informations_personnelles!C35 -> 0
B36: =Informations_personnelles!C36 -> 0
A37: total 1er trim | C37: =SUM(C4:C36) -> 19 | D37: =SUM(D4:D36) -> 0 | E37: =COUNTIF(E3:E36,"X") -> 3 | F37: =COUNTIF(F3:F36,"X") -> 3
A41: 2e trim 2016
A42: =Informations_personnelles!B46 | B42: =Informations_personnelles!C46 -> 0
A43: =Informations_personnelles!B47 | B43: =Informations_personnelles!C47 -> 0
A44: =Informations_personnelles!B48 | B44: =Informations_personnelles!C48 -> 0
A45: =Informations_personnelles!B49 | B45: =Informations_personnelles!C49 -> 0
A46: =Informations_personnelles!B50 | B46: =Informations_personnelles!C50 -> 0
A47: =Informations_personnelles!B51 | B47: =Informations_personnelles!C51 -> 0
A48: =Informations_personnelles!B52 | B48: =Informations_personnelles!C52 -> 0
A49: =Informations_personnelles!B53 | B49: =Informations_personnelles!C53 -> 0
A50: =Informations_personnelles!B54 | B50: =Informations_personnelles!C54 -> 0
A51: =Informations_personnelles!B55 | B51: =Informations_personnelles!C55 -> 0
A52: =Informations_personnelles!B56 | B52: =Informations_personnelles!C56 -> 0
A53: =Informations_personnelles!B57 | B53: =Informations_personnelles!C57 -> 0
... A75: =Informations_personnelles!B79 -> 0 | B75: =Informations_personnelles!C79 -> 0
A76: Total 2e trim | C76: =COUNTA(C42:C75) -> 0 | D76: =COUNTA(D42:D75) -> 0 | E76: =COUNTIF(E42:E75,"X") -> 0 | F76: =COUNTIF(F42:F75,"X") -> 0
A80: 3e trim 2016
A81: =Informations_personnelles!B85 | B81: =Informations_personnelles!C85 -> 0
A82: =Informations_personnelles!B86 | B82: =Informations_personnelles!C86 -> 0
A83: =Informations_personnelles!B87 | B83: =Informations_personnelles!C87 -> 0
A84: =Informations_personnelles!B88 | B84: =Informations_personnelles!C88 -> 0
A85: =Informations_personnelles!B89 | B85: =Informations_personnelles!C89 -> 0
A86: =Informations_personnelles!B90 | B86: =Informations_personnelles!C90 -> 0
A87: =Informations_personnelles!B91 | B87: =Informations_personnelles!C91 -> 0
A88: =Informations_personnelles!B92 | B88: =Informations_personnelles!C92 -> 0
A89: =Informations_personnelles!B93 | B89: =Informations_personnelles!C93 -> 0
A90: =Informations_personnelles!B94 | B90: =Informations_personnelles!C94 -> 0
A91: =Informations_personnelles!B95 | B91: =Informations_personnelles!C95 -> 0
A92: =Informations_personnelles!B96 | B92: =Informations_personnelles!C96 -> 0
... A114: =Informations_personnelles!B118 -> 0 | B114: =Informations_personnelles!C118 -> 0
A115: Total 3e trim | C115: =SUM(C81:C114) -> 0 | D115: =SUM(D81:D114) -> 0 | E115: =COUNTIF(E81:E114,"X") -> 0 | F115: =COUNTIF(F81:F114,"X") -> 0
A120: 4e trim 2016
A121: =Informations_personnelles!B125 | B121: =Informations_personnelles!C125 -> 0
A122: =Informations_personnelles!B126 | B122: =Informations_personnelles!C126 -> 0
A123: =Informations_personnelles!B127 | B123: =Informations_personnelles!C127 -> 0
A124: =Informations_personnelles!B128 | B124: =Informations_personnelles!C128 -> 0
A125: =Informations_personnelles!B129 | B125: =Informations_personnelles!C129 -> 0
A126: =Informations_personnelles!B130 | B126: =Informations_personnelles!C130 -> 0
A127: =Informations_personnelles!B131 | B127: =Informations_personnelles!C131 -> 0
A128: =Informations_personnelles!B132 | B128: =Informations_personnelles!C132 -> 0
A129: =Informations_personnelles!B133 | B129: =Informations_personnelles!C133 -> 0
A130: =Informations_personnelles!B134 | B130: =Informations_personnelles!C134 -> 0
A131: =Informations_personnelles!B135 | B131: =Informations_personnelles!C135 -> 0
A132: =Informations_personnelles!B136 | B132: =Informations_personnelles!C136 -> 0
... A154: =Informations_personnelles!B158 -> 0 | B154: =Informations_personnelles!C158 -> 0
A155: Total 4e trim | C155: =SUM(C121:C154) -> 0 | D155: =SUM(D121:D154) -> 0 | E155: =COUNTIF(E121:E154,"X") -> 0 | F155: =COUNTIF(F121:F154,"X") -> 0
A158: ANNUEL | C158: =SUM(C155+C115+C76+C37) -> 19 | D158: =SUM(D155+D115+D76+D37) -> 0 | E158: =SUM(E155+E115+E76+E37) -> 3 | F158: =SUM(F155+F115+F76+F37) -> 3
A160: =Informations_personnelles!$B$164 -> mot de passe : test
A166: 2015
A167: =Informations_personnelles!B171 -> 0 | B167: =Informations_personnelles!C171 -> 0
A168: =Informations_personnelles!B172 | B168: =Informations_personnelles!C172 -> 0
A169: =Informations_personnelles!B173 | B169: =Informations_personnelles!C173 -> 0
A170: =Informations_personnelles!B174 | B170: =Informations_personnelles!C174 -> 0
A171: =Informations_personnelles!B175 | B171: =Informations_personnelles!C175 -> 0
A172: =Informations_personnelles!B176 | B172: =Informations_personnelles!C176 -> 0
A173: =Informations_personnelles!B177 | B173: =Informations_personnelles!C177 -> 0
A174: =Informations_personnelles!B178 | B174: =Informations_personnelles!C178 -> 0
A175: =Informations_personnelles!B179 | B175: =Informations_personnelles!C179 -> 0
A176: =Informations_personnelles!B180 | B176: =Informations_personnelles!C180 -> 0
A177: =Informations_personnelles!B181 | B177: =Informations_personnelles!C181 -> 0
A178: =Informations_personnelles!B182 | B178: =Informations_personnelles!C182 -> 0
... A200: =Informations_personnelles!B204 -> 0 | B200: =Informations_personnelles!C204 -> 0
A201: 2015 | C201: =SUM(C167:C200) -> 0 | D201: =SUM(D167:D200) -> 0 | E201: =COUNTIF(E167:E200,"X") -> 0 | F201: =COUNTIF(F167:F200,"X") -> 0
A205: 2014
A206: =Informations_personnelles!B210 -> 45 | B206: =Informations_personnelles!C210 -> test
A207: =Informations_personnelles!B211 | B207: =Informations_personnelles!C211 -> 0
A208: =Informations_personnelles!B212 | B208: =Informations_personnelles!C212 -> 0
A209: =Informations_personnelles!B213 | B209: =Informations_personnelles!C213 -> 0
A210: =Informations_personnelles!B214 | B210: =Informations_personnelles!C214 -> 0
A211: =Informations_personnelles!B215 | B211: =Informations_personnelles!C215 -> 0
A212: =Informations_personnelles!B216 | B212: =Informations_personnelles!C216 -> 0
A213: =Informations_personnelles!B217 | B213: =Informations_personnelles!C217 -> 0
A214: =Informations_personnelles!B218 | B214: =Informations_personnelles!C218 -> 0
A215: =Informations_personnelles!B219 | B215: =Informations_personnelles!C219 -> 0
...

Sheet Freins
C1: Freins personnels | L1: Freins dans le parcours
A2: N° Entrée | B2: Nom | C2: Sentiment d’insécurité, peur des représailles | D2: Problèmes de santé, fatigue physique ou psy | E2: Dépendance financière, éloignement de l’emploi | F2: Mauvaise estime/image de soi | G2: Absence de soutien familial/amical-désocialisation | H2: Deuil relation conjugale ou unité familiale | I2: Peur de décision judiciaire défavorable | J2: Méconnaissance des droits et réseaux d’aide | K2: Pression entourage | L2: Refus plainte | M2: Délivrance informations erronées | N2: Orientation tardive vers référent | O2: Refus ordonnance protection | P2: Pas de mise en sécurité disponible | Q2: Refus soutien force de l'ordre(effets perso) | R2: Commentaires | S2: Colonne19
A4: =Informations_personnelles!B4 -> 1 | B4: =Informations_personnelles!C4 -> anonyme | G4: x | I4: x | J4: x | K4: x
A5: =Informations_personnelles!B5 -> 2 | B5: =Informations_personnelles!C5 -> anonyme | C5: x | D5: x | F5: x | H5: x | I5: x | J5: x | K5: x
A6: =Informations_personnelles!B6 -> 3 | B6: =Informations_personnelles!C6 -> anonyme | C6: x | D6: x | I6: x | J6: x | M6: x | R6: avocat Metz
A7: =Informations_personnelles!B7 -> 4 | B7: =Informations_personnelles!C7 -> anonyme | D7: x | I7: x | J7: x
A8: =Informations_personnelles!B8 -> 5 | B8: =Informations_personnelles!C8 -> anonyme
A9: =Informations_personnelles!B9 -> 6 | B9: =Informations_personnelles!C9 -> 0
A10: =Informations_personnelles!B10 -> 7 | B10: =Informations_personnelles!C10 -> 0
A11: =Informations_personnelles!B11 -> 8 | B11: =Informations_personnelles!C11 -> 0
A12: =Informations_personnelles!B12 -> 9 | B12: =Informations_personnelles!C12 -> 0
A13: =Informations_personnelles!B13 -> 10 | B13: =Informations_personnelles!C13 -> 0
A14: =Informations_personnelles!B14 -> 11 | B14: =Informations_personnelles!C14 -> 0
A15: =Informations_personnelles!B15 -> 12 | B15: =Informations_personnelles!C15 -> 0
A16: =Informations_personnelles!B16 | B16: =Informations_personnelles!C16 -> 0
A17: =Informations_personnelles!B17 | B17: =Informations_personnelles!C17 -> 0
A18: =Informations_personnelles!B18 | B18: =Informations_personnelles!C18 -> 0
A19: =Informations_personnelles!B19 | B19: =Informations_personnelles!C19 -> 0
... A36: =Informations_personnelles!B36 -> 0 | B36: =Informations_personnelles!C36 -> 0
A37: total 1er trim | C37: =COUNTIF(C4:C36,"X") -> 2 | D37: =COUNTIF(D4:D36,"X") -> 3 | E37: =COUNTIF(E4:E36,"X") -> 0 | F37: =COUNTIF(F4:F36,"X") -> 1 | G37: =COUNTIF(G4:G36,"X") -> 1 | H37: =COUNTIF(H4:H36,"X") -> 1 | I37: =COUNTIF(I4:I36,"X") -> 4 | J37: =COUNTIF(J4:J36,"X") -> 4 | ... S37: =COUNTIF(S4:S36,"X") -> 0
A41: 2e trim 2016
A42: =Informations_personnelles!B46 | B42: =Informations_personnelles!C46 -> 0
A43: =Informations_personnelles!B47 | B43: =Informations_personnelles!C47 -> 0
A44: =Informations_personnelles!B48 | B44: =Informations_personnelles!C48 -> 0
A45: =Informations_personnelles!B49 | B45: =Informations_personnelles!C49 -> 0
A46: =Informations_personnelles!B50 | B46: =Informations_personnelles!C50 -> 0
A47: =Informations_personnelles!B51 | B47: =Informations_personnelles!C51 -> 0
A48: =Informations_personnelles!B52 | B48: =Informations_personnelles!C52 -> 0
A49: =Informations_personnelles!B53 | B49: =Informations_personnelles!C53 -> 0
A50: =Informations_personnelles!B54 | B50: =Informations_personnelles!C54 -> 0
A51: =Informations_personnelles!B55 | B51: =Informations_personnelles!C55 -> 0
A52: =Informations_personnelles!B56 | B52: =Informations_personnelles!C56 -> 0
A53: =Informations_personnelles!B57 | B53: =Informations_personnelles!C57 -> 0
... A75: =Informations_personnelles!B79 -> 0 | B75: =Informations_personnelles!C79 -> 0
A76: Total 2e trim | C76: =COUNTIF(C42:C75,"X") -> 0 | D76: =COUNTIF(D42:D75,"X") -> 0 | E76: =COUNTIF(E42:E75,"X") -> 0 | F76: =COUNTIF(F42:F75,"X") -> 0 | G76: =COUNTIF(G42:G75,"X") -> 0 | H76: =COUNTIF(H42:H75,"X") -> 0 | I76: =COUNTIF(I42:I75,"X") -> 0 | J76: =COUNTIF(J42:J75,"X") -> 0 | ... S76: =COUNTIF(S42:S75,"X") -> 0
A80: 3e trim 2016
A81: =Informations_personnelles!B85 | B81: =Informations_personnelles!C85 -> 0
A82: =Informations_personnelles!B86 | B82: =Informations_personnelles!C86 -> 0
A83: =Informations_personnelles!B87 | B83: =Informations_personnelles!C87 -> 0
A84: =Informations_personnelles!B88 | B84: =Informations_personnelles!C88 -> 0
A85: =Informations_personnelles!B89 | B85: =Informations_personnelles!C89 -> 0
A86: =Informations_personnelles!B90 | B86: =Informations_personnelles!C90 -> 0
A87: =Informations_personnelles!B91 | B87: =Informations_personnelles!C91 -> 0
A88: =Informations_personnelles!B92 | B88: =Informations_personnelles!C92 -> 0
A89: =Informations_personnelles!B93 | B89: =Informations_personnelles!C93 -> 0
A90: =Informations_personnelles!B94 | B90: =Informations_personnelles!C94 -> 0
A91: =Informations_personnelles!B95 | B91: =Informations_personnelles!C95 -> 0
A92: =Informations_personnelles!B96 | B92: =Informations_personnelles!C96 -> 0
... A114: =Informations_personnelles!B118 -> 0 | B114: =Informations_personnelles!C118 -> 0
A115: Total 3e trim | C115: =COUNTIF(C81:C114,"X") -> 0 | D115: =COUNTIF(D81:D114,"X") -> 0 | E115: =COUNTIF(E81:E114,"X") -> 0 | F115: =COUNTIF(F81:F114,"X") -> 0 | G115: =COUNTIF(G81:G114,"X") -> 0 | H115: =COUNTIF(H81:H114,"X") -> 0 | I115: =COUNTIF(I81:I114,"X") -> 0 | J115: =COUNTIF(J81:J114,"X") -> 0 | ... S115: =COUNTIF(S81:S114,"X") -> 0
A120: 4e trim 2016
A121: =Informations_personnelles!B125 | B121: =Informations_personnelles!C125 -> 0
A122: =Informations_personnelles!B126 | B122: =Informations_personnelles!C126 -> 0
A123: =Informations_personnelles!B127 | B123: =Informations_personnelles!C127 -> 0
A124: =Informations_personnelles!B128 | B124: =Informations_personnelles!C128 -> 0
A125: =Informations_personnelles!B129 | B125: =Informations_personnelles!C129 -> 0
A126: =Informations_personnelles!B130 | B126: =Informations_personnelles!C130 -> 0
A127: =Informations_personnelles!B131 | B127: =Informations_personnelles!C131 -> 0
A128: =Informations_personnelles!B132 | B128: =Informations_personnelles!C132 -> 0
A129: =Informations_personnelles!B133 | B129: =Informations_personnelles!C133 -> 0
A130: =Informations_personnelles!B134 | B130: =Informations_personnelles!C134 -> 0
A131: =Informations_personnelles!B135 | B131: =Informations_personnelles!C135 -> 0
A132: =Informations_personnelles!B136 | B132: =Informations_personnelles!C136 -> 0
... A154: =Informations_personnelles!B158 -> 0 | B154: =Informations_personnelles!C158 -> 0
A155: Total 4e trim | C155: =COUNTIF(C121:C154,"X") -> 0 | D155: =COUNTIF(D121:D154,"X") -> 0 | E155: =COUNTIF(E121:E154,"X") -> 0 | F155: =COUNTIF(F121:F154,"X") -> 0 | G155: =COUNTIF(G121:G154,"X") -> 0 | H155: =COUNTIF(H121:H154,"X") -> 0 | I155: =COUNTIF(I121:I154,"X") -> 0 | J155: =COUNTIF(J121:J154,"X") -> 0 | ... S155: =COUNTIF(S121:S154,"X") -> 0
A158: ANNUEL | C158: =SUM(C155+C115+C76+C37) -> 2 | D158: =SUM(D155+D115+D76+D37) -> 3 | E158: =SUM(E155+E115+E76+E37) -> 0 | F158: =SUM(F155+F115+F76+F37) -> 1 | G158: =SUM(G155+G115+G76+G37) -> 1 | H158: =SUM(H155+H115+H76+H37) -> 1 | I158: =SUM(I155+I115+I76+I37) -> 4 | J158: =SUM(J155+J115+J76+J37) -> 4 | ... S158: =SUM(S155+S115+S76+S37) -> 0
A160: mot de passe : TEST
A166: 2015
A167: =Informations_personnelles!B171 -> 0 | B167: =Informations_personnelles!C171 -> 0
A168: =Informations_personnelles!B172 | B168: =Informations_personnelles!C172 -> 0
A169: =Informations_personnelles!B173 | B169: =Informations_personnelles!C173 -> 0
A170: =Informations_personnelles!B174 | B170: =Informations_personnelles!C174 -> 0
A171: =Informations_personnelles!B175 | B171: =Informations_personnelles!C175 -> 0
A172: =Informations_personnelles!B176 | B172: =Informations_personnelles!C176 -> 0
A173: =Informations_personnelles!B177 | B173: =Informations_personnelles!C177 -> 0
A174: =Informations_personnelles!B178 | B174: =Informations_personnelles!C178 -> 0
A175: =Informations_personnelles!B179 | B175: =Informations_personnelles!C179 -> 0
A176: =Informations_personnelles!B180 | B176: =Informations_personnelles!C180 -> 0
A177: =Informations_personnelles!B181 | B177: =Informations_personnelles!C181 -> 0
A178: =Informations_personnelles!B182 | B178: =Informations_personnelles!C182 -> 0
... A200: =Informations_personnelles!B204 -> 0 | B200: =Informations_personnelles!C204 -> 0
A201: 2015 | C201: =COUNTIF(C167:C200,"X") -> 0 | D201: =COUNTIF(D167:D200,"X") -> 0 | E201: =COUNTIF(E167:E200,"X") -> 0 | F201: =COUNTIF(F167:F200,"X") -> 0 | G201: =COUNTIF(G167:G200,"X") -> 0 | H201: =COUNTIF(H167:H200,"X") -> 0 | I201: =COUNTIF(I167:I200,"X") -> 0 | J201: =COUNTIF(J167:J200,"X") -> 0 | ... S201: =COUNTIF(S167:S200,"X") -> 0
A205: 2014
A206: =Informations_personnelles!B210 -> 45 | B206: =Informations_personnelles!C210 -> test
A207: =Informations_personnelles!B211 | B207: =Informations_personnelles!C211 -> 0
A208: =Informations_personnelles!B212 | B208: =Informations_personnelles!C212 -> 0
A209: =Informations_personnelles!B213 | B209: =Informations_personnelles!C213 -> 0
A210: =Informations_personnelles!B214 | B210: =Informations_personnelles!C214 -> 0
A211: =Informations_personnelles!B215 | B211: =Informations_personnelles!C215 -> 0
A212: =Informations_personnelles!B216 | B212: =Informations_personnelles!C216 -> 0
A213: =Informations_personnelles!B217 | B213: =Informations_personnelles!C217 -> 0
A214: =Informations_personnelles!B218 | B214: =Informations_personnelles!C218 -> 0
A215: =Informations_personnelles!B219 | B215: =Informations_personnelles!C219 -> 0
A216: =Informations_personnelles!B220 | B216: =Informations_personnelles!C220 -> 0
A217: =Informations_personnelles!B221 | B217: =Informations_personnelles!C221 -> 0
... A239: =Informations_personnelles!B243 -> 0 | B239: =Informations_personnelles!C243 -> 0
A240: 2015 | C240: =COUNTIF(C206:C239,"X") -> 0 | D240: =COUNTIF(D206:D239,"X") -> 0 | E240: =COUNTIF(E206:E239,"X") -> 0 | F240: =COUNTIF(F206:F239,"X") -> 0 | G240: =COUNTIF(G206:G239,"X") -> 0 | H240: =COUNTIF(H206:H239,"X") -> 0 | I240: =COUNTIF(I206:I239,"X") -> 0 | J240: =COUNTIF(J206:J239,"X") -> 0 | ... S240: =COUNTIF(S206:S239,"X") -> 0

Sheet Victimes_repérées
A2: Nom | B2: Nombre de contacts | C2: Colonne1 | D2: Colonne2 | E2: Colonne3 | F2: Colonne4 | G2: Colonne5 | H2: Colonne6
A4: xx | B4: 1
A5: xx | B5: 1
A6: xx
Z28: CCVA
Z29: Audun le Tiche
Z30: Aumetz
Z31: Boulange
Z32: Ottange
Z33: Redange
Z34: Russange
Z35: Villerupt
Z36: Thil
A37: =SUM(A4:A36) -> 0 | B37: total 1er trim
B41: 2e trim 2016 | Z41: CC3F
Z42: Apach
Z43: Halstroff
Z44: Kirshnaumen
Z45: Manderen
Z46: Rettel
Z47: Waldweistroff
Z48: Contz les Bains
Z49: Haute-Kontz
Z50: Kirsch les Sierck
Z51: Merschweiller
Z52: Ritzing
Z53: Waldwisse
... Z63: Hunting
A76: =SUM(A43:A75) -> 0 | B76: Total 2e trim
B80: 3e t rim 2016
A115: =SUM(A82:A114) -> 0 | B115: Total 3e trim
B120: 4e trim 2016
A155: =SUM(A122:A154) -> 0 | B155: Total 4e trim
B158: ANNUEL

Sheet Mise à dispo
A2: Nom | B2: Nombre de contacts | C2: Colonne1 | D2: Colonne2 | E2: Colonne3 | F2: Colonne4 | G2: Colonne5 | H2: Colonne6
A4: non renseigné | B4: 1
A5: xx | B5: 1
A6: xx | B6: 2
Z28: CCVA
Z29: Audun le Tiche
Z30: Aumetz
Z31: Boulange
Z32: Ottange
Z33: Redange
Z34: Russange
Z35: Villerupt
Z36: Thil
A37: =COUNTA(A3:A36) -> 3 | B37: total 1er trim
B41: 2e trim 2016 | Z41: CC3F
Z42: Apach
Z43: Halstroff
Z44: Kirshnaumen
Z45: Manderen
Z46: Rettel
Z47: Waldweistroff
Z48: Contz les Bains
Z49: Haute-Kontz
Z50: Kirsch les Sierck
Z51: Merschweiller
Z52: Ritzing
Z53: Waldwisse
... Z63: Hunting
A76: =COUNTA(A42:A75) -> 0 | B76: Total 2e trim
B80: 3e t rim 2016
A115: =COUNTA(A81:A114) -> 0 | B115: Total 3e trim
B120: 4e trim 2016
A155: =COUNTA(A121:A154) -> 0 | B155: Total 4e trim
B158: ANNUEL

Sheet Feuil1
