Workbook
Name __Anonymous_Sheet_DB__1: #REF!
Name __Anonymous_Sheet_DB__1: #REF!
Name __Anonymous_Sheet_DB__2: #REF!
Name __Anonymous_Sheet_DB__2: #REF!
Name __Anonymous_Sheet_DB__3: #REF!
Name __Anonymous_Sheet_DB__3: #REF!
Name __Anonymous_Sheet_DB__4: #REF!
Name __Anonymous_Sheet_DB__4: #REF!
Name __Anonymous_Sheet_DB__5: #REF!
Name __Anonymous_Sheet_DB__5: #REF!
Name Aideref: Informations_personnelles!$T$189:$T$194
Name ancienneté: Informations_personnelles!$T$170:$T$175
Name CC3F: Informations_personnelles!$T$148:$T$169
Name CCCatt: Informations_personnelles!$T$251:$T$271
Name CCVA: Informations_personnelles!$T$238:$T$245
Name originedemande: Informations_personnelles!$T$310:$T$318
Name portedefrance: Informations_personnelles!$T$291:$T$304
Name Ressources: Informations_personnelles!$T$198:$T$205
Name SeulementX: Informations_personnelles!$T$141:$T$142
Name Situationfamiliale: Informations_personnelles!$T$136:$T$139
Name Soutienref: Informations_personnelles!$T$179:$T$186
Name ValdeFensch: Informations_personnelles!#REF!
Name Valfensch: Informations_personnelles!$T$277:$T$286
Name X: Informations_personnelles!$T$141:$T$142

Sheet Informations_personnelles
A2: Début du suivi le | B2: N° Entrée | C2: Nom | D2: Age | E2: Nationalié | F2: Situation Familiale | G2: Ressources (début suivi) | H2: Enfants à charge | I2: Colonne1
I3: =IF(A3<>"",MONTH(A3),"")
A4: 42373 | B4: 1 | C4: anonyme | D4: 31 | E4: turque | F4: Mariage non reconnu | G4: RSA | H4: 3 | I4: =IF(A4<>"",MONTH(A4),"") -> 1
A5: 42373 | B5: 2 | C5: anonyme | D5: 36 | E5: française | F5: Mariée | G5: Salaire | H5: 3 | I5: =IF(A5<>"",MONTH(A5),"") -> 1
A6: 42373 | B6: 3 | C6: anonyme | D6: 36 | E6: française | F6: Concubinage | G6: Salaire | H6: 2 | I6: =IF(A6<>"",MONTH(A6),"") -> 1
A7: 42377 | B7: 4 | C7: anonyme | D7: 37 | E7: française | F7: Mariée | G7: Salaire | H7: 3 | I7: =IF(A7<>"",MONTH(A7),"") -> 1
A8: 42402 | B8: 5 | C8: anonyme | I8: =IF(A8<>"",MONTH(A8),"") -> 2
B9: 6 | I9: =IF(A9<>"",MONTH(A9),"")
B10: 7 | I10: =IF(A10<>"",MONTH(A10),"")
B11: 8 | I11: =IF(A11<>"",MONTH(A11),"")
B12: 9 | I12: =IF(A12<>"",MONTH(A12),"")
B13: 10 | I13: =IF(A13<>"",MONTH(A13),"")
B14: 11 | I14: =IF(A14<>"",MONTH(A14),"")
B15: 12 | I15: =IF(A15<>"",MONTH(A15),"")
I16: =IF(A16<>"",MONTH(A16),"")
I17: =IF(A17<>"",MONTH(A17),"")
I18: =IF(A18<>"",MONTH(A18),"")
I19: =IF(A19<>"",MONTH(A19),"")
I20: =IF(A20<>"",MONTH(A20),"")
I21: =IF(A21<>"",MONTH(A21),"")
I22: =IF(A22<>"",MONTH(A22),"")
I23: =IF(A23<>"",MONTH(A23),"")
I24: =IF(A24<>"",MONTH(A24),"")
I25: =IF(A25<>"",MONTH(A25),"")
I26: =IF(A26<>"",MONTH(A26),"")
I27: =IF(A27<>"",MONTH(A27),"")
... I37: =IF(A37<>"",MONTH(A37),"")
A38: =COUNTIFS(I4:I37,1) -> 4 | B38: total mois 1 | H38: =SUM(H4:H36) -> 11 | I38: =IF(A38<>"",MONTH(A38),"") -> 1
A39: =COUNTIFS(I4:I37,2) -> 1 | B39: total mois 2 | I39: =IF(A39<>"",MONTH(A39),"") -> 1
A40: =COUNTIFS(I4:I37,3) -> 0 | B40: total mois 3 | I40: =IF(A40<>"",MONTH(A40),"") -> 1
A41: =COUNTA(A4:A37) -> 5 | B41: total 1er trim | I41: =IF(A41<>"",MONTH(A41),"") -> 1
I42: =IF(A42<>"",MONTH(A42),"")
I43: =IF(A43<>"",MONTH(A43),"")
I44: =IF(A44<>"",MONTH(A44),"")
B45: 2e trim 2016 | I45: =IF(A45<>"",MONTH(A45),"")
I46: =IF(A46<>"",MONTH(A46),"")
I47: =IF(A47<>"",MONTH(A47),"")
I48: =IF(A48<>"",MONTH(A48),"")
I49: =IF(A49<>"",MONTH(A49),"")
I50: =IF(A50<>"",MONTH(A50),"")
...

Sheet Accompagnement
E1: Accès aux droits
A2: N° Entrée | B2: Nom | C2: Nombre d'entretiens victimes | D2: Nombre d'entretiens partenaires | E2: Info Procedures pénales | F2: Info dt civil sur situation
E3: (X) | F3: (X)
A4: =Informations_personnelles!B4 -> 1 | B4: anonyme | C4: 5
A5: =Informations_personnelles!B5 -> 2 | B5: anonyme | C5: 4 | E5: x | F5: x
A6: =Informations_personnelles!B6 -> 3 | B6: anonyme | C6: 6 | E6: x | F6: x
A7: =Informations_personnelles!B7 -> 4 | B7: anonyme | C7: 4 | E7: x | F7: x
A8: =Informations_personnelles!B8 -> 5 | B8: =Informations_personnelles!C8 -> anonyme
A9: =Informations_personnelles!B9 -> 6 | B9: =Informations_personnelles!C9 -> 0
A10: =Informations_personnelles!B10 -> 7 | B10: =Informations_personnelles!C10 -> 0
A11: =Informations_personnelles!B11 -> 8 | B11: =Informations_personnelles!C11 -> 0
A12: =Informations_personnelles!B12 -> 9 | B12: =Informations_personnelles!C12 -> 0
A13: =Informations_personnelles!B13 -> 10 | B13: =Informations_personnelles!C13 -> 0
A14: =Informations_personnelles!B14 -> 11 | B14: =Informations_personnelles!C14 -> 0
A15: =Informations_personnelles!B15 -> 12 | B15: =Informations_personnelles!C15 -> 0
A16: =Informations_personnelles!B16 | B16: =Informations_personnelles!C16 -> 0
A17: =Informations_personnelles!B17 | B17: =Informations_personnelles!C17 -> 0
A18: =Informations_personnelles!B18 | B18: =Informations_personnelles!C18 -> 0
A19: =Informations_personnelles!B19 | B19: =Informations_personnelles!C19 -> 0
... A30: =Informations_personnelles!B30 | B30: =Informations_personnelles!C30 -> 0
B31: =Informations_personnelles!C31 -> 0
B32: =Informations_personnelles!C32 -> 0
A33: =Informations_personnelles!B33 | B33: =Informations_personnelles!C33 -> 0
B34: =Informations_personnelles!C34 -> 0
A35: =Informations_personnelles!B35 | B35: =Informations_personnelles!C35 -> 0
B36: =Informations_personnelles!C36 -> 0
A37: total 1er trim | C37: =SUM(C4:C36) -> 19 | D37: =SUM(D4:D36) -> 0 | E37: =COUNTIF(E3:E36,"X") -> 3 | F37: =COUNTIF(F3:F36,"X") -> 3
A41: 2e trim 2016
A42: =Informations_personnelles!B46 | B42: =Informations_personnelles!C46 -> 0
A43: =Informations_personnelles!B47 | B43: =Informations_personnelles!C47 -> 0
A44: =Informations_personnelles!B48 | B44: =Informations_personnelles!C48 -> 0
A45: =Informations_personnelles!B49 | B45: =Informations_personnelles!C49 -> 0
A46: =Informations_personnelles!B50 | B46: =Informations_personnelles!C50 -> 0
A47: =Informations_personnelles!B51 | B47: =Informations_personnelles!C51 -> 0
A48: =Informations_personnelles!B52 | B48: =Informations_personnelles!C52 -> 0
A49: =Informations_personnelles!B53 | B49: =Informations_personnelles!C53 -> 0
A50: =Informations_personnelles!B54 | B50: =Informations_personnelles!C54 -> 0
A51: =Informations_personnelles!B55 | B51: =Informations_personnelles!C55 -> 0
A52: =Informations_personnelles!B56 | B52: =Informations_personnelles!C56 -> 0
A53: =Informations_personnelles!B57 | B53: =Informations_personnelles!C57 -> 0
...

Sheet Freins
C1: Freins personnels | L1: Freins dans le parcours
A2: N° Entrée | B2: Nom | C2: Sentiment d’insécurité, peur des représailles | D2: Problèmes de santé, fatigue physique ou psy | E2: Dépendance financière, éloignement de l’emploi | F2: Mauvaise estime/image de soi | G2: Absence de soutien familial/amical-désocialisation | H2: Deuil relation conjugale ou unité familiale | I2: Peur de décision judiciaire défavorable | J2: Méconnaissance des droits et réseaux d’aide | K2: Pression entourage | L2: Refus plainte | M2: Délivrance informations erronées | N2: Orientation tardive vers référent | O2: Refus ordonnance protection | P2: Pas de mise en sécurité disponible | Q2: Refus soutien force de l'ordre(effets perso) | R2: Commentaires | S2: Colonne19
A4: =Informations_personnelles!B4 -> 1 | B4: =Informations_personnelles!C4 -> anonyme | G4: x | I4: x | J4: x | K4: x
A5: =Informations_personnelles!B5 -> 2 | B5: =Informations_personnelles!C5 -> anonyme | C5: x | D5: x | F5: x | H5: x | I5: x | J5: x | K5: x
A6: =Informations_personnelles!B6 -> 3 | B6: =Informations_personnelles!C6 -> anonyme | C6: x | D6: x | I6: x | J6: x | M6: x | R6: avocat Metz
A7: =Informations_personnelles!B7 -> 4 | B7: =Informations_personnelles!C7 -> anonyme | D7: x | I7: x | J7: x
A8: =Informations_personnelles!B8 -> 5 | B8: =Informations_personnelles!C8 -> anonyme
A9: =Informations_personnelles!B9 -> 6 | B9: =Informations_personnelles!C9 -> 0
A10: =Informations_personnelles!B10 -> 7 | B10: =Informations_personnelles!C10 -> 0
A11: =Informations_personnelles!B11 -> 8 | B11: =Informations_personnelles!C11 -> 0
A12: =Informations_personnelles!B12 -> 9 | B12: =Informations_personnelles!C12 -> 0
A13: =Informations_personnelles!B13 -> 10 | B13: =Informations_personnelles!C13 -> 0
A14: =Informations_personnelles!B14 -> 11 | B14: =Informations_personnelles!C14 -> 0
A15: =Informations_personnelles!B15 -> 12 | B15: =Informations_personnelles!C15 -> 0
A16: =Informations_personnelles!B16 | B16: =Informations_personnelles!C16 -> 0
A17: =Informations_personnelles!B17 | B17: =Informations_personnelles!C17 -> 0
A18: =Informations_personnelles!B18 | B18: =Informations_personnelles!C18 -> 0
A19: =Informations_personnelles!B19 | B19: =Informations_personnelles!C19 -> 0
... A36: =Informations_personnelles!B36 -> 0 | B36: =Informations_personnelles!C36 -> 0
A37: total 1er trim | C37: =COUNTIF(C4:C36,"X") -> 2 | D37: =COUNTIF(D4:D36,"X") -> 3 | E37: =COUNTIF(E4:E36,"X") -> 0 | F37: =COUNTIF(F4:F36,"X") -> 1 | G37: =COUNTIF(G4:G36,"X") -> 1 | H37: =COUNTIF(H4:H36,"X") -> 1 | I37: =COUNTIF(I4:I36,"X") -> 4 | J37: =COUNTIF(J4:J36,"X") -> 4 | ... S37: =COUNTIF(S4:S36,"X") -> 0
A41: 2e trim 2016
A42: =Informations_personnelles!B46 | B42: =Informations_personnelles!C46 -> 0
A43: =Informations_personnelles!B47 | B43: =Informations_personnelles!C47 -> 0
A44: =Informations_personnelles!B48 | B44: =Informations_personnelles!C48 -> 0
A45: =Informations_personnelles!B49 | B45: =Informations_personnelles!C49 -> 0
A46: =Informations_personnelles!B50 | B46: =Informations_personnelles!C50 -> 0
A47: =Informations_personnelles!B51 | B47: =Informations_personnelles!C51 -> 0
A48: =Informations_personnelles!B52 | B48: =Informations_personnelles!C52 -> 0
A49: =Informations_personnelles!B53 | B49: =Informations_personnelles!C53 -> 0
A50: =Informations_personnelles!B54 | B50: =Informations_personnelles!C54 -> 0
A51: =Informations_personnelles!B55 | B51: =Informations_personnelles!C55 -> 0
A52: =Informations_personnelles!B56 | B52: =Informations_personnelles!C56 -> 0
A53: =Informations_personnelles!B57 | B53: =Informations_personnelles!C57 -> 0
... A75: =Informations_personnelles!B79 -> 0 | B75: =Informations_personnelles!C79 -> 0
A76: Total 2e trim | C76: =COUNTIF(C42:C75,"X") -> 0 | D76: =COUNTIF(D42:D75,"X") -> 0 | E76: =COUNTIF(E42:E75,"X") -> 0 | F76: =COUNTIF(F42:F75,"X") -> 0 | G76: =COUNTIF(G42:G75,"X") -> 0 | H76: =COUNTIF(H42:H75,"X") -> 0 | I76: =COUNTIF(I42:I75,"X") -> 0 | J76: =COUNTIF(J42:J75,"X") -> 0 | ... S76: =COUNTIF(S42:S75,"X") -> 0
A80: 3e trim 2016
A81: =Informations_personnelles!B85 | B81: =Informations_personnelles!C85 -> 0
A82: =Informations_personnelles!B86 | B82: =Informations_personnelles!C86 -> 0
A83: =Informations_personnelles!B87 | B83: =Informations_personnelles!C87 -> 0
A84: =Informations_personnelles!B88 | B84: =Informations_personnelles!C88 -> 0
...

Sheet Victimes_repérées
A2: Nom | B2: Nombre de contacts | C2: Colonne1 | D2: Colonne2 | E2: Colonne3 | F2: Colonne4 | G2: Colonne5 | H2: Colonne6
A4: xx | B4: 1
A5: xx | B5: 1
A6: xx
Z28: CCVA
Z29: Audun le Tiche
Z30: Aumetz
Z31: Boulange
Z32: Ottange
Z33: Redange
Z34: Russange
Z35: Villerupt
Z36: Thil
A37: =SUM(A4:A36) -> 0 | B37: total 1er trim
B41: 2e trim 2016 | Z41: CC3F
Z42: Apach
Z43: Halstroff
Z44: Kirshnaumen
Z45: Manderen
Z46: Rettel
Z47: Waldweistroff
Z48: Contz les Bains
Z49: Haute-Kontz
Z50: Kirsch les Sierck
Z51: Merschweiller
Z52: Ritzing
Z53: Waldwisse
... Z63: Hunting
A76: =SUM(A43:A75) -> 0 | B76: Total 2e trim
B80: 3e t rim 2016
A115: =SUM(A82:A114) -> 0 | B115: Total 3e trim
B120: 4e trim 2016
A155: =SUM(A122:A154) -> 0 | B155: Total 4e trim
B158: ANNUEL

Sheet Mise à dispo
A2: Nom | B2: Nombre de contacts | C2: Colonne1 | D2: Colonne2 | E2: Colonne3 | F2: Colonne4 | G2: Colonne5 | H2: Colonne6
A4: non renseigné | B4: 1
A5: xx | B5: 1
A6: xx | B6: 2
Z28: CCVA
Z29: Audun le Tiche
Z30: Aumetz
Z31: Boulange
Z32: Ottange
Z33: Redange
Z34: Russange
Z35: Villerupt
Z36: Thil
A37: =COUNTA(A3:A36) -> 3 | B37: total 1er trim
B41: 2e trim 2016 | Z41: CC3F
Z42: Apach
Z43: Halstroff
Z44: Kirshnaumen
Z45: Manderen
Z46: Rettel
Z47: Waldweistroff
Z48: Contz les Bains
Z49: Haute-Kontz
Z50: Kirsch les Sierck
Z51: Merschweiller
Z52: Ritzing
Z53: Waldwisse
... Z63: Hunting
A76: =COUNTA(A42:A75) -> 0 | B76: Total 2e trim
B80: 3e t rim 2016
A115: =COUNTA(A81:A114) -> 0 | B115: Total 3e trim
B120: 4e trim 2016
A155: =COUNTA(A121:A154) -> 0 | B155: Total 4e trim
B158: ANNUEL

Sheet Feuil1
