Workbook
Name Note: TAB!$B$4:$B$16

Sheet TAB
B2: EQUIVALENCE GPA
B4: A+ | C4: 4 | D4: =C4*5 -> 20
B5: A | C5: 4 | D5: =C5*5 -> 20
B6: A- | C6: 3.7 | D6: =C6*5 -> 18.5
B7: B+ | C7: 3.3 | D7: =C7*5 -> 16.5
B8: B | C8: 3 | D8: =C8*5 -> 15
B9: B- | C9: 2.7 | D9: =C9*5 -> 13.5
B10: C+ | C10: 2.3 | D10: =C10*5 -> 11.5
B11: C | C11: 2 | D11: =C11*5 -> 10
B12: C- | C12: 1.7 | D12: =C12*5 -> 8.5
B13: D+ | C13: 1.3 | D13: =C13*5 -> 6.5
B14: D | C14: 1 | D14: =C14*5 -> 5
B15: D- | C15: 0.7 | D15: =C15*5 -> 3.5
B16: F | C16: 0 | D16: =C16*5 -> 0
B19: 0 | C19: F
B20: 0.7 | C20: D-
B21: 1 | C21: D
B22: 1.3 | C22: D+
B23: 1.7 | C23: C-
B24: 2 | C24: C
B25: 2.3 | C25: C+
B26: 2.7 | C26: B-
B27: 3 | C27: B
B28: 3.3 | C28: B+
B29: 3.7 | C29: A-
B30: 4 | C30: A+
B31: 4 | C31: A

Sheet NOTES
C4: Matière | E4: Note
B5: 1 | C5: Anglais | D5: A+ | E5: =VLOOKUP(D5,TAB!B:C,2,FALSE) -> 4
B6: 2 | C6: Russe | D6: B+ | E6: =VLOOKUP(D6,TAB!B:C,2,FALSE) -> 3.3
B7: 3 | C7: Histoire | D7: B- | E7: =VLOOKUP(D7,TAB!B:C,2,FALSE) -> 2.7
B8: 4 | C8: Maths | D8: B+ | E8: =VLOOKUP(D8,TAB!B:C,2,FALSE) -> 3.3
B9: 5
B10: 6
B11: 7
B12: 8
C18: TOTAL
C19: =SUM(E5:E17) -> 13.3
C21: MOYENNE
C22: =C19/COUNTIF(E5:E17,">0") -> 3.325 | E22: Delta
C23: =VLOOKUP(C22,TAB!$B$19:$C$31,2,TRUE) -> B+ | E23: =VLOOKUP(C22,TAB!$B$19:$C$31,1,TRUE)-C22 -> -0.025
