Workbook
Name Blessures_type: [1]Logo!$F$1:$F$4
Name Équipes: [1]Logo!$C$1:$C$32
Name Logo24: OFFSET([1]Logo!$D$1,MATCH('[1]Séries XXXX'!$C$6:$E$7,[1]Logo!$C$1:$C$35,0)-1,)
Name Logo25: OFFSET([1]Logo!$D$1,MATCH('[1]Séries XXXX'!$C$10:$E$11,[1]Logo!$C$1:$C$35,0)-1,)
Name Logo26: OFFSET([1]Logo!$D$1,MATCH('[1]Séries XXXX'!$C$14:$E$15,[1]Logo!$C$1:$C$35,0)-1,)
Name Logo27: OFFSET([1]Logo!$D$1,MATCH('[1]Séries XXXX'!$C$18:$E$19,[1]Logo!$C$1:$C$35,0)-1,)
Name Logo28: OFFSET([1]Logo!$D$1,MATCH('[1]Séries XXXX'!$C$22:$E$23,[1]Logo!$C$1:$C$35,0)-1,)
Name Logo29: OFFSET([1]Logo!$D$1,MATCH('[1]Séries XXXX'!$C$26:$E$27,[1]Logo!$C$1:$C$35,0)-1,)
Name Logo30: OFFSET([1]Logo!$D$1,MATCH('[1]Séries XXXX'!$C$30:$E$31,[1]Logo!$C$1:$C$35,0)-1,)
Name Logo31: OFFSET([1]Logo!$D$1,MATCH('[1]Séries XXXX'!$C$34:$E$35,[1]Logo!$C$1:$C$35,0)-1,)
Name Logo32: OFFSET([1]Logo!$D$1,MATCH('[1]Séries XXXX'!$C$38:$E$39,[1]Logo!$C$1:$C$35,0)-1,)
Name Logo33: OFFSET([1]Logo!$D$1,MATCH('[1]Séries XXXX'!$C$42:$E$43,[1]Logo!$C$1:$C$35,0)-1,)
Name Logo34: OFFSET([1]Logo!$D$1,MATCH('[1]Séries XXXX'!$C$46:$E$47,[1]Logo!$C$1:$C$35,0)-1,)
Name Logo35: OFFSET([1]Logo!$D$1,MATCH('[1]Séries XXXX'!$C$50:$E$51,[1]Logo!$C$1:$C$35,0)-1,)
Name Logo36: OFFSET([1]Logo!$D$1,MATCH('[1]Séries XXXX'!$C$54:$E$55,[1]Logo!$C$1:$C$35,0)-1,)
Name Logo37: OFFSET([1]Logo!$D$1,MATCH('[1]Séries XXXX'!$C$58:$E$59,[1]Logo!$C$1:$C$35,0)-1,)
Name Logo38: OFFSET([1]Logo!$D$1,MATCH('[1]Séries XXXX'!$C$62:$E$63,[1]Logo!$C$1:$C$35,0)-1,)
Name Logo39: OFFSET([1]Logo!$D$1,MATCH('[1]Séries XXXX'!$G$4:$I$5,[1]Logo!$C$1:$C$35,0)-1,)
Name Logo40: OFFSET([1]Logo!$D$1,MATCH('[1]Séries XXXX'!$G$12:$I$13,[1]Logo!$C$1:$C$35,0)-1,)
Name Logo41: OFFSET([1]Logo!$D$1,MATCH('[1]Séries XXXX'!$G$20:$I$21,[1]Logo!$C$1:$C$35,0)-1,)
Name Logo42: OFFSET([1]Logo!$D$1,MATCH('[1]Séries XXXX'!$G$28:$I$29,[1]Logo!$C$1:$C$35,0)-1,)
Name Logo43: OFFSET([1]Logo!$D$1,MATCH('[1]Séries XXXX'!$G$36:$I$37,[1]Logo!$C$1:$C$35,0)-1,)
Name Logo44: OFFSET([1]Logo!$D$1,MATCH('[1]Séries XXXX'!$G$44:$I$45,[1]Logo!$C$1:$C$35,0)-1,)
Name Logo45: OFFSET([1]Logo!$D$1,MATCH('[1]Séries XXXX'!$G$52:$I$53,[1]Logo!$C$1:$C$35,0)-1,)
Name Logo46: OFFSET([1]Logo!$D$1,MATCH('[1]Séries XXXX'!$G$60:$I$61,[1]Logo!$C$1:$C$35,0)-1,)
Name Logo47: OFFSET([1]Logo!$D$1,MATCH('[1]Séries XXXX'!$K$8:$M$9,[1]Logo!$C$1:$C$35,0)-1,)
Name Logo48: OFFSET([1]Logo!$D$1,MATCH('[1]Séries XXXX'!$K$24:$M$25,[1]Logo!$C$1:$C$35,0)-1,)
Name Logo49: OFFSET([1]Logo!$D$1,MATCH('[1]Séries XXXX'!$K$40:$M$41,[1]Logo!$C$1:$C$35,0)-1,)
Name Logo50: OFFSET([1]Logo!$D$1,MATCH('[1]Séries XXXX'!$K$56:$M$57,[1]Logo!$C$1:$C$35,0)-1,)
Name Logo51: OFFSET([1]Logo!$D$1,MATCH('[1]Séries XXXX'!$O$16:$Q$17,[1]Logo!$C$1:$C$35,0)-1,)
Name Logo52: OFFSET([1]Logo!$D$1,MATCH('[1]Séries XXXX'!$O$48:$Q$49,[1]Logo!$C$1:$C$35,0)-1,)
Name Logo53: OFFSET([1]Logo!$D$1,MATCH('[1]Séries XXXX'!$S$32:$U$33,[1]Logo!$C$1:$C$35,0)-1,)
Name Poolers: [1]Logo!$I$1:$I$26

Sheet Statistiques
B1: Nom | C1: Participations | D1: 1 er | E1: 2 ème | F1: 3 ème | G1: Loto Max | H1: % 1-2-3 | I1: Gagnant + points | J1: Nom | K1: Année | L1: Participants total
A2: 1 | B2: Adam | C2: =COUNTIF('2017'!$H$3:$H$15,$B2)+COUNTIF('2018'!$H$3:$H$17,$B2)+COUNTIF('2019'!$H$3:$H$15,$B2) -> 1 | D2: =COUNTIF('2017'!$H$3,$B2)+COUNTIF('2018'!$H$3,$B2)+COUNTIF('2019'!$H$3,$B2) -> 0 | E2: =COUNTIF('2017'!$H$4,$B2)+COUNTIF('2018'!$H$4,$B2)+COUNTIF('2019'!$H$4,$B2) -> 0 | F2: =COUNTIF('2017'!$H$5,$B2)+COUNTIF('2018'!$H$5,$B2)+COUNTIF('2019'!$H$5,$B2) -> 0 | G2: =COUNTIF('2017'!$H$15,$B2)+COUNTIF('2018'!$H$17,$B2)+COUNTIF('2019'!$H$15,$B2) -> 0 | H2: =SUM(D2:F2)/C2 -> 0 | I2: =MAX('2017'!$G$3,'2018'!$G$3,'2019'!$G$3) -> 132 | J2: =MAX('2017'!$G$3,'2018'!$G$3,'2019'!$G$3) -> 132 | K2: =MAX('2017'!$G$3,'2018'!$G$3,'2019'!$G$3) -> 132 | L2: =COUNTA(B2:B27) -> 25
A3: =SUM(A2,1) -> 2 | B3: Alex | C3: =COUNTIF('2017'!$H$3:$H$15,$B3)+COUNTIF('2018'!$H$3:$H$17,$B3)+COUNTIF('2019'!$H$3:$H$15,$B3) -> 3 | D3: =COUNTIF('2017'!$H$3,$B3)+COUNTIF('2018'!$H$3,$B3)+COUNTIF('2019'!$H$3,$B3) -> 0 | E3: =COUNTIF('2017'!$H$4,$B3)+COUNTIF('2018'!$H$4,$B3)+COUNTIF('2019'!$H$4,$B3) -> 1 | F3: =COUNTIF('2017'!$H$5,$B3)+COUNTIF('2018'!$H$5,$B3)+COUNTIF('2019'!$H$5,$B3) -> 0 | G3: =COUNTIF('2017'!$H$15,$B3)+COUNTIF('2018'!$H$17,$B3)+COUNTIF('2019'!$H$15,$B3) -> 0 | H3: =SUM(D3:F3)/C3 -> 0.33333333 | J3: =MAX('2017'!$G$3,'2018'!$G$3,'2019'!$G$3) -> 132 | K3: =MAX('2017'!$G$3,'2018'!$G$3,'2019'!$G$3) -> 132
A4: =SUM(A3,1) -> 3 | B4: Cardo | C4: =COUNTIF('2017'!$H$3:$H$15,$B4)+COUNTIF('2018'!$H$3:$H$17,$B4)+COUNTIF('2019'!$H$3:$H$15,$B4) -> 0 | D4: =COUNTIF('2017'!$H$3,$B4)+COUNTIF('2018'!$H$3,$B4)+COUNTIF('2019'!$H$3,$B4) -> 0 | E4: =COUNTIF('2017'!$H$4,$B4)+COUNTIF('2018'!$H$4,$B4)+COUNTIF('2019'!$H$4,$B4) -> 0 | F4: =COUNTIF('2017'!$H$5,$B4)+COUNTIF('2018'!$H$5,$B4)+COUNTIF('2019'!$H$5,$B4) -> 0 | G4: =COUNTIF('2017'!$H$15,$B4)+COUNTIF('2018'!$H$17,$B4)+COUNTIF('2019'!$H$15,$B4) -> 0 | H4: =SUM(D4:F4)/C4 -> #DIV/0! | J4: =MAX('2017'!$G$3,'2018'!$G$3,'2019'!$G$3) -> 132 | K4: =MAX('2017'!$G$3,'2018'!$G$3,'2019'!$G$3) -> 132
A5: =SUM(A4,1) -> 4 | B5: Carl | C5: =COUNTIF('2017'!$H$3:$H$15,$B5)+COUNTIF('2018'!$H$3:$H$17,$B5)+COUNTIF('2019'!$H$3:$H$15,$B5) -> 3 | D5: =COUNTIF('2017'!$H$3,$B5)+COUNTIF('2018'!$H$3,$B5)+COUNTIF('2019'!$H$3,$B5) -> 1 | E5: =COUNTIF('2017'!$H$4,$B5)+COUNTIF('2018'!$H$4,$B5)+COUNTIF('2019'!$H$4,$B5) -> 0 | F5: =COUNTIF('2017'!$H$5,$B5)+COUNTIF('2018'!$H$5,$B5)+COUNTIF('2019'!$H$5,$B5) -> 0 | G5: =COUNTIF('2017'!$H$15,$B5)+COUNTIF('2018'!$H$17,$B5)+COUNTIF('2019'!$H$15,$B5) -> 0 | H5: =SUM(D5:F5)/C5 -> 0.33333333 | I5: Perdant + points | J5: Nom | K5: Année | L5: 2017 | M5: 2019
A6: =SUM(A5,1) -> 5 | B6: Christelle | C6: =COUNTIF('2017'!$H$3:$H$15,$B6)+COUNTIF('2018'!$H$3:$H$17,$B6)+COUNTIF('2019'!$H$3:$H$15,$B6) -> 3 | D6: =COUNTIF('2017'!$H$3,$B6)+COUNTIF('2018'!$H$3,$B6)+COUNTIF('2019'!$H$3,$B6) -> 1 | E6: =COUNTIF('2017'!$H$4,$B6)+COUNTIF('2018'!$H$4,$B6)+COUNTIF('2019'!$H$4,$B6) -> 1 | F6: =COUNTIF('2017'!$H$5,$B6)+COUNTIF('2018'!$H$5,$B6)+COUNTIF('2019'!$H$5,$B6) -> 0 | G6: =COUNTIF('2017'!$H$15,$B6)+COUNTIF('2018'!$H$17,$B6)+COUNTIF('2019'!$H$15,$B6) -> 0 | H6: =SUM(D6:F6)/C6 -> 0.66666667 | I6: =MAX('2017'!$G$15,'2018'!$G$17,'2019'!$G$15) -> 41 | J6: =MAX('2017'!$G$15,'2018'!$G$17,'2019'!$G$15) -> 41 | K6: =MAX('2017'!$G$15,'2018'!$G$17,'2019'!$G$15) -> 41 | L6: =VLOOKUP(MIN('2017'!G3:G15),'2017'!G3:H15,2,0) -> Marie-Anne | M6: =VLOOKUP(MIN('2019'!G3:G15),'2019'!G3:H15,2,0) -> Tonio
A7: =SUM(A6,1) -> 6 | B7: Dan | C7: =COUNTIF('2017'!$H$3:$H$15,$B7)+COUNTIF('2018'!$H$3:$H$17,$B7)+COUNTIF('2019'!$H$3:$H$15,$B7) -> 3 | D7: =COUNTIF('2017'!$H$3,$B7)+COUNTIF('2018'!$H$3,$B7)+COUNTIF('2019'!$H$3,$B7) -> 0 | E7: =COUNTIF('2017'!$H$4,$B7)+COUNTIF('2018'!$H$4,$B7)+COUNTIF('2019'!$H$4,$B7) -> 0 | F7: =COUNTIF('2017'!$H$5,$B7)+COUNTIF('2018'!$H$5,$B7)+COUNTIF('2019'!$H$5,$B7) -> 0 | G7: =COUNTIF('2017'!$H$15,$B7)+COUNTIF('2018'!$H$17,$B7)+COUNTIF('2019'!$H$15,$B7) -> 0 | H7: =SUM(D7:F7)/C7 -> 0 | J7: =MAX('2017'!$G$15,'2018'!$G$17,'2019'!$G$15) -> 41 | K7: =MAX('2017'!$G$15,'2018'!$G$17,'2019'!$G$15) -> 41
A8: =SUM(A7,1) -> 7 | B8: Denis | C8: =COUNTIF('2017'!$H$3:$H$15,$B8)+COUNTIF('2018'!$H$3:$H$17,$B8)+COUNTIF('2019'!$H$3:$H$15,$B8) -> 3 | D8: =COUNTIF('2017'!$H$3,$B8)+COUNTIF('2018'!$H$3,$B8)+COUNTIF('2019'!$H$3,$B8) -> 1 | E8: =COUNTIF('2017'!$H$4,$B8)+COUNTIF('2018'!$H$4,$B8)+COUNTIF('2019'!$H$4,$B8) -> 0 | F8: =COUNTIF('2017'!$H$5,$B8)+COUNTIF('2018'!$H$5,$B8)+COUNTIF('2019'!$H$5,$B8) -> 0 | G8: =COUNTIF('2017'!$H$15,$B8)+COUNTIF('2018'!$H$17,$B8)+COUNTIF('2019'!$H$15,$B8) -> 0 | H8: =SUM(D8:F8)/C8 -> 0.33333333 | J8: =MAX('2017'!$G$15,'2018'!$G$17,'2019'!$G$15) -> 41 | K8: =MAX('2017'!$G$15,'2018'!$G$17,'2019'!$G$15) -> 41
A9: =SUM(A8,1) -> 8 | B9: Dominic | C9: =COUNTIF('2017'!$H$3:$H$15,$B9)+COUNTIF('2018'!$H$3:$H$17,$B9)+COUNTIF('2019'!$H$3:$H$15,$B9) -> 3 | D9: =COUNTIF('2017'!$H$3,$B9)+COUNTIF('2018'!$H$3,$B9)+COUNTIF('2019'!$H$3,$B9) -> 0 | E9: =COUNTIF('2017'!$H$4,$B9)+COUNTIF('2018'!$H$4,$B9)+COUNTIF('2019'!$H$4,$B9) -> 0 | F9: =COUNTIF('2017'!$H$5,$B9)+COUNTIF('2018'!$H$5,$B9)+COUNTIF('2019'!$H$5,$B9) -> 0 | G9: =COUNTIF('2017'!$H$15,$B9)+COUNTIF('2018'!$H$17,$B9)+COUNTIF('2019'!$H$15,$B9) -> 1 | H9: =SUM(D9:F9)/C9 -> 0 | I9: Perdant + points | J9: Nom | K9: Année
A10: =SUM(A9,1) -> 9 | B10: Éric | C10: =COUNTIF('2017'!$H$3:$H$15,$B10)+COUNTIF('2018'!$H$3:$H$17,$B10)+COUNTIF('2019'!$H$3:$H$15,$B10) -> 2 | D10: =COUNTIF('2017'!$H$3,$B10)+COUNTIF('2018'!$H$3,$B10)+COUNTIF('2019'!$H$3,$B10) -> 0 | E10: =COUNTIF('2017'!$H$4,$B10)+COUNTIF('2018'!$H$4,$B10)+COUNTIF('2019'!$H$4,$B10) -> 0 | F10: =COUNTIF('2017'!$H$5,$B10)+COUNTIF('2018'!$H$5,$B10)+COUNTIF('2019'!$H$5,$B10) -> 0 | G10: =COUNTIF('2017'!$H$15,$B10)+COUNTIF('2018'!$H$17,$B10)+COUNTIF('2019'!$H$15,$B10) -> 0 | H10: =SUM(D10:F10)/C10 -> 0 | I10: =MAX('2017'!$G$15,'2018'!$G$17,'2019'!$G$15) -> 41 | J10: =MAX('2017'!$G$15,'2018'!$G$17,'2019'!$G$15) -> 41 | K10: =MAX('2017'!$G$15,'2018'!$G$17,'2019'!$G$15) -> 41
A11: =SUM(A10,1) -> 10 | B11: Frank | C11: =COUNTIF('2017'!$H$3:$H$15,$B11)+COUNTIF('2018'!$H$3:$H$17,$B11)+COUNTIF('2019'!$H$3:$H$15,$B11) -> 0 | D11: =COUNTIF('2017'!$H$3,$B11)+COUNTIF('2018'!$H$3,$B11)+COUNTIF('2019'!$H$3,$B11) -> 0 | E11: =COUNTIF('2017'!$H$4,$B11)+COUNTIF('2018'!$H$4,$B11)+COUNTIF('2019'!$H$4,$B11) -> 0 | F11: =COUNTIF('2017'!$H$5,$B11)+COUNTIF('2018'!$H$5,$B11)+COUNTIF('2019'!$H$5,$B11) -> 0 | G11: =COUNTIF('2017'!$H$15,$B11)+COUNTIF('2018'!$H$17,$B11)+COUNTIF('2019'!$H$15,$B11) -> 0 | H11: =SUM(D11:F11)/C11 -> #DIV/0! | J11: =MAX('2017'!$G$15,'2018'!$G$17,'2019'!$G$15) -> 41 | K11: =MAX('2017'!$G$15,'2018'!$G$17,'2019'!$G$15) -> 41
A12: =SUM(A11,1) -> 11 | B12: J-F | C12: =COUNTIF('2017'!$H$3:$H$15,$B12)+COUNTIF('2018'!$H$3:$H$17,$B12)+COUNTIF('2019'!$H$3:$H$15,$B12) -> 3 | D12: =COUNTIF('2017'!$H$3,$B12)+COUNTIF('2018'!$H$3,$B12)+COUNTIF('2019'!$H$3,$B12) -> 0 | E12: =COUNTIF('2017'!$H$4,$B12)+COUNTIF('2018'!$H$4,$B12)+COUNTIF('2019'!$H$4,$B12) -> 0 | F12: =COUNTIF('2017'!$H$5,$B12)+COUNTIF('2018'!$H$5,$B12)+COUNTIF('2019'!$H$5,$B12) -> 2 | G12: =COUNTIF('2017'!$H$15,$B12)+COUNTIF('2018'!$H$17,$B12)+COUNTIF('2019'!$H$15,$B12) -> 0 | H12: =SUM(D12:F12)/C12 -> 0.66666667 | J12: =MAX('2017'!$G$15,'2018'!$G$17,'2019'!$G$15) -> 41 | K12: =MAX('2017'!$G$15,'2018'!$G$17,'2019'!$G$15) -> 41
A13: =SUM(A12,1) -> 12 | B13: J-P | C13: =COUNTIF('2017'!$H$3:$H$15,$B13)+COUNTIF('2018'!$H$3:$H$17,$B13)+COUNTIF('2019'!$H$3:$H$15,$B13) -> 0 | D13: =COUNTIF('2017'!$H$3,$B13)+COUNTIF('2018'!$H$3,$B13)+COUNTIF('2019'!$H$3,$B13) -> 0 | E13: =COUNTIF('2017'!$H$4,$B13)+COUNTIF('2018'!$H$4,$B13)+COUNTIF('2019'!$H$4,$B13) -> 0 | F13: =COUNTIF('2017'!$H$5,$B13)+COUNTIF('2018'!$H$5,$B13)+COUNTIF('2019'!$H$5,$B13) -> 0 | G13: =COUNTIF('2017'!$H$15,$B13)+COUNTIF('2018'!$H$17,$B13)+COUNTIF('2019'!$H$15,$B13) -> 0 | H13: =SUM(D13:F13)/C13 -> #DIV/0! | I13: Perdant - points | J13: Nom | K13: Année
A14: =SUM(A13,1) -> 13 | B14: Julie | C14: =COUNTIF('2017'!$H$3:$H$15,$B14)+COUNTIF('2018'!$H$3:$H$17,$B14)+COUNTIF('2019'!$H$3:$H$15,$B14) -> 1 | D14: =COUNTIF('2017'!$H$3,$B14)+COUNTIF('2018'!$H$3,$B14)+COUNTIF('2019'!$H$3,$B14) -> 0 | E14: =COUNTIF('2017'!$H$4,$B14)+COUNTIF('2018'!$H$4,$B14)+COUNTIF('2019'!$H$4,$B14) -> 0 | F14: =COUNTIF('2017'!$H$5,$B14)+COUNTIF('2018'!$H$5,$B14)+COUNTIF('2019'!$H$5,$B14) -> 0 | G14: =COUNTIF('2017'!$H$15,$B14)+COUNTIF('2018'!$H$17,$B14)+COUNTIF('2019'!$H$15,$B14) -> 0 | H14: =SUM(D14:F14)/C14 -> 0 | I14: =MIN('2017'!$G$15,'2018'!$G$17,'2019'!$G$15) -> 12 | J14: =MIN('2017'!$G$15,'2018'!$G$17,'2019'!$G$15) -> 12 | K14: =MIN('2017'!$G$15,'2018'!$G$17,'2019'!$G$15) -> 12
A15: =SUM(A14,1) -> 14 | B15: Julie S-P | C15: =COUNTIF('2017'!$H$3:$H$15,$B15)+COUNTIF('2018'!$H$3:$H$17,$B15)+COUNTIF('2019'!$H$3:$H$15,$B15) -> 0 | D15: =COUNTIF('2017'!$H$3,$B15)+COUNTIF('2018'!$H$3,$B15)+COUNTIF('2019'!$H$3,$B15) -> 0 | E15: =COUNTIF('2017'!$H$4,$B15)+COUNTIF('2018'!$H$4,$B15)+COUNTIF('2019'!$H$4,$B15) -> 0 | F15: =COUNTIF('2017'!$H$5,$B15)+COUNTIF('2018'!$H$5,$B15)+COUNTIF('2019'!$H$5,$B15) -> 0 | G15: =COUNTIF('2017'!$H$15,$B15)+COUNTIF('2018'!$H$17,$B15)+COUNTIF('2019'!$H$15,$B15) -> 0 | H15: =SUM(D15:F15)/C15 -> #DIV/0! | J15: =MIN('2017'!$G$15,'2018'!$G$17,'2019'!$G$15) -> 12 | K15: =MIN('2017'!$G$15,'2018'!$G$17,'2019'!$G$15) -> 12
A16: =SUM(A15,1) -> 15 | B16: Kathleen | C16: =COUNTIF('2017'!$H$3:$H$15,$B16)+COUNTIF('2018'!$H$3:$H$17,$B16)+COUNTIF('2019'!$H$3:$H$15,$B16) -> 2 | D16: =COUNTIF('2017'!$H$3,$B16)+COUNTIF('2018'!$H$3,$B16)+COUNTIF('2019'!$H$3,$B16) -> 0 | E16: =COUNTIF('2017'!$H$4,$B16)+COUNTIF('2018'!$H$4,$B16)+COUNTIF('2019'!$H$4,$B16) -> 0 | F16: =COUNTIF('2017'!$H$5,$B16)+COUNTIF('2018'!$H$5,$B16)+COUNTIF('2019'!$H$5,$B16) -> 0 | G16: =COUNTIF('2017'!$H$15,$B16)+COUNTIF('2018'!$H$17,$B16)+COUNTIF('2019'!$H$15,$B16) -> 0 | H16: =SUM(D16:F16)/C16 -> 0 | J16: =MIN('2017'!$G$15,'2018'!$G$17,'2019'!$G$15) -> 12 | K16: =MIN('2017'!$G$15,'2018'!$G$17,'2019'!$G$15) -> 12
A17: =SUM(A16,1) -> 16 | B17: Karine | C17: =COUNTIF('2017'!$H$3:$H$15,$B17)+COUNTIF('2018'!$H$3:$H$17,$B17)+COUNTIF('2019'!$H$3:$H$15,$B17) -> 0 | D17: =COUNTIF('2017'!$H$3,$B17)+COUNTIF('2018'!$H$3,$B17)+COUNTIF('2019'!$H$3,$B17) -> 0 | E17: =COUNTIF('2017'!$H$4,$B17)+COUNTIF('2018'!$H$4,$B17)+COUNTIF('2019'!$H$4,$B17) -> 0 | F17: =COUNTIF('2017'!$H$5,$B17)+COUNTIF('2018'!$H$5,$B17)+COUNTIF('2019'!$H$5,$B17) -> 0 | G17: =COUNTIF('2017'!$H$15,$B17)+COUNTIF('2018'!$H$17,$B17)+COUNTIF('2019'!$H$15,$B17) -> 0 | H17: =SUM(D17:F17)/C17 -> #DIV/0!
A18: =SUM(A17,1) -> 17 | B18: Marie-Anne | C18: =COUNTIF('2017'!$H$3:$H$15,$B18)+COUNTIF('2018'!$H$3:$H$17,$B18)+COUNTIF('2019'!$H$3:$H$15,$B18) -> 2 | D18: =COUNTIF('2017'!$H$3,$B18)+COUNTIF('2018'!$H$3,$B18)+COUNTIF('2019'!$H$3,$B18) -> 0 | E18: =COUNTIF('2017'!$H$4,$B18)+COUNTIF('2018'!$H$4,$B18)+COUNTIF('2019'!$H$4,$B18) -> 0 | F18: =COUNTIF('2017'!$H$5,$B18)+COUNTIF('2018'!$H$5,$B18)+COUNTIF('2019'!$H$5,$B18) -> 0 | G18: =COUNTIF('2017'!$H$15,$B18)+COUNTIF('2018'!$H$17,$B18)+COUNTIF('2019'!$H$15,$B18) -> 1 | H18: =SUM(D18:F18)/C18 -> 0
A19: =SUM(A18,1) -> 18 | B19: Marois | C19: =COUNTIF('2017'!$H$3:$H$15,$B19)+COUNTIF('2018'!$H$3:$H$17,$B19)+COUNTIF('2019'!$H$3:$H$15,$B19) -> 2 | D19: =COUNTIF('2017'!$H$3,$B19)+COUNTIF('2018'!$H$3,$B19)+COUNTIF('2019'!$H$3,$B19) -> 0 | E19: =COUNTIF('2017'!$H$4,$B19)+COUNTIF('2018'!$H$4,$B19)+COUNTIF('2019'!$H$4,$B19) -> 0 | F19: =COUNTIF('2017'!$H$5,$B19)+COUNTIF('2018'!$H$5,$B19)+COUNTIF('2019'!$H$5,$B19) -> 1 | G19: =COUNTIF('2017'!$H$15,$B19)+COUNTIF('2018'!$H$17,$B19)+COUNTIF('2019'!$H$15,$B19) -> 0 | H19: =SUM(D19:F19)/C19 -> 0.5
A20: =SUM(A19,1) -> 19 | B20: Martin | C20: =COUNTIF('2017'!$H$3:$H$15,$B20)+COUNTIF('2018'!$H$3:$H$17,$B20)+COUNTIF('2019'!$H$3:$H$15,$B20) -> 3 | D20: =COUNTIF('2017'!$H$3,$B20)+COUNTIF('2018'!$H$3,$B20)+COUNTIF('2019'!$H$3,$B20) -> 0 | E20: =COUNTIF('2017'!$H$4,$B20)+COUNTIF('2018'!$H$4,$B20)+COUNTIF('2019'!$H$4,$B20) -> 0 | F20: =COUNTIF('2017'!$H$5,$B20)+COUNTIF('2018'!$H$5,$B20)+COUNTIF('2019'!$H$5,$B20) -> 0 | G20: =COUNTIF('2017'!$H$15,$B20)+COUNTIF('2018'!$H$17,$B20)+COUNTIF('2019'!$H$15,$B20) -> 0 | H20: =SUM(D20:F20)/C20 -> 0
A21: =SUM(A20,1) -> 20 | B21: Mike | C21: =COUNTIF('2017'!$H$3:$H$15,$B21)+COUNTIF('2018'!$H$3:$H$17,$B21)+COUNTIF('2019'!$H$3:$H$15,$B21) -> 0 | D21: =COUNTIF('2017'!$H$3,$B21)+COUNTIF('2018'!$H$3,$B21)+COUNTIF('2019'!$H$3,$B21) -> 0 | E21: =COUNTIF('2017'!$H$4,$B21)+COUNTIF('2018'!$H$4,$B21)+COUNTIF('2019'!$H$4,$B21) -> 0 | F21: =COUNTIF('2017'!$H$5,$B21)+COUNTIF('2018'!$H$5,$B21)+COUNTIF('2019'!$H$5,$B21) -> 0 | G21: =COUNTIF('2017'!$H$15,$B21)+COUNTIF('2018'!$H$17,$B21)+COUNTIF('2019'!$H$15,$B21) -> 0 | H21: =SUM(D21:F21)/C21 -> #DIV/0!
A22: =SUM(A21,1) -> 21 | B22: Nadia | C22: =COUNTIF('2017'!$H$3:$H$15,$B22)+COUNTIF('2018'!$H$3:$H$17,$B22)+COUNTIF('2019'!$H$3:$H$15,$B22) -> 3 | D22: =COUNTIF('2017'!$H$3,$B22)+COUNTIF('2018'!$H$3,$B22)+COUNTIF('2019'!$H$3,$B22) -> 0 | E22: =COUNTIF('2017'!$H$4,$B22)+COUNTIF('2018'!$H$4,$B22)+COUNTIF('2019'!$H$4,$B22) -> 1 | F22: =COUNTIF('2017'!$H$5,$B22)+COUNTIF('2018'!$H$5,$B22)+COUNTIF('2019'!$H$5,$B22) -> 0 | G22: =COUNTIF('2017'!$H$15,$B22)+COUNTIF('2018'!$H$17,$B22)+COUNTIF('2019'!$H$15,$B22) -> 0 | H22: =SUM(D22:F22)/C22 -> 0.33333333
A23: =SUM(A22,1) -> 22 | B23: Nathan | C23: =COUNTIF('2017'!$H$3:$H$15,$B23)+COUNTIF('2018'!$H$3:$H$17,$B23)+COUNTIF('2019'!$H$3:$H$15,$B23) -> 0 | D23: =COUNTIF('2017'!$H$3,$B23)+COUNTIF('2018'!$H$3,$B23)+COUNTIF('2019'!$H$3,$B23) -> 0 | E23: =COUNTIF('2017'!$H$4,$B23)+COUNTIF('2018'!$H$4,$B23)+COUNTIF('2019'!$H$4,$B23) -> 0 | F23: =COUNTIF('2017'!$H$5,$B23)+COUNTIF('2018'!$H$5,$B23)+COUNTIF('2019'!$H$5,$B23) -> 0 | G23: =COUNTIF('2017'!$H$15,$B23)+COUNTIF('2018'!$H$17,$B23)+COUNTIF('2019'!$H$15,$B23) -> 0 | H23: =SUM(D23:F23)/C23 -> #DIV/0!
A24: =SUM(A23,1) -> 23 | B24: Pat | C24: =COUNTIF('2017'!$H$3:$H$15,$B24)+COUNTIF('2018'!$H$3:$H$17,$B24)+COUNTIF('2019'!$H$3:$H$15,$B24) -> 1 | D24: =COUNTIF('2017'!$H$3,$B24)+COUNTIF('2018'!$H$3,$B24)+COUNTIF('2019'!$H$3,$B24) -> 0 | E24: =COUNTIF('2017'!$H$4,$B24)+COUNTIF('2018'!$H$4,$B24)+COUNTIF('2019'!$H$4,$B24) -> 0 | F24: =COUNTIF('2017'!$H$5,$B24)+COUNTIF('2018'!$H$5,$B24)+COUNTIF('2019'!$H$5,$B24) -> 0 | G24: =COUNTIF('2017'!$H$15,$B24)+COUNTIF('2018'!$H$17,$B24)+COUNTIF('2019'!$H$15,$B24) -> 0 | H24: =SUM(D24:F24)/C24 -> 0
A25: =SUM(A24,1) -> 24 | B25: Réjean | C25: =COUNTIF('2017'!$H$3:$H$15,$B25)+COUNTIF('2018'!$H$3:$H$17,$B25)+COUNTIF('2019'!$H$3:$H$15,$B25) -> 0 | D25: =COUNTIF('2017'!$H$3,$B25)+COUNTIF('2018'!$H$3,$B25)+COUNTIF('2019'!$H$3,$B25) -> 0 | E25: =COUNTIF('2017'!$H$4,$B25)+COUNTIF('2018'!$H$4,$B25)+COUNTIF('2019'!$H$4,$B25) -> 0 | F25: =COUNTIF('2017'!$H$5,$B25)+COUNTIF('2018'!$H$5,$B25)+COUNTIF('2019'!$H$5,$B25) -> 0 | G25: =COUNTIF('2017'!$H$15,$B25)+COUNTIF('2018'!$H$17,$B25)+COUNTIF('2019'!$H$15,$B25) -> 0 | H25: =SUM(D25:F25)/C25 -> #DIV/0!
A26: =SUM(A25,1) -> 25 | B26: Tonio | C26: =COUNTIF('2017'!$H$3:$H$15,$B26)+COUNTIF('2018'!$H$3:$H$17,$B26)+COUNTIF('2019'!$H$3:$H$15,$B26) -> 3 | D26: =COUNTIF('2017'!$H$3,$B26)+COUNTIF('2018'!$H$3,$B26)+COUNTIF('2019'!$H$3,$B26) -> 0 | E26: =COUNTIF('2017'!$H$4,$B26)+COUNTIF('2018'!$H$4,$B26)+COUNTIF('2019'!$H$4,$B26) -> 0 | F26: =COUNTIF('2017'!$H$5,$B26)+COUNTIF('2018'!$H$5,$B26)+COUNTIF('2019'!$H$5,$B26) -> 0 | G26: =COUNTIF('2017'!$H$15,$B26)+COUNTIF('2018'!$H$17,$B26)+COUNTIF('2019'!$H$15,$B26) -> 1 | H26: =SUM(D26:F26)/C26 -> 0

Sheet 2017
B1: Classement poolers | H1: 2017
B2: Nom (surnom) | C2: But | D2: Passe | E2: Point | F2: Équipe | G2: Ppts | H2: Nom
A3: 1 | B3: christelle vive guy cormier | C3: 56 | D3: 76 | E3: =SUM(C3,D3) -> 132 | F3: CHICAGO | G3: =SUM(E3,IF(ISERROR(SEARCH(F3,$F$16&$F$48)),0,3)+($H$32=F3)*2) -> 132 | H3: Christelle
A4: =SUM(A3,1) -> 2 | B4: alex arnaquer par son propre père | C4: 40 | D4: 63 | E4: =SUM(C4,D4) -> 103 | F4: WASHINGTON | G4: =SUM(E4,IF(ISERROR(SEARCH(F4,$F$16&$F$48)),0,3)+($H$32=F4)*2) -> 103 | H4: Alex
A5: =SUM(A4,1) -> 3 | B5: jf thibo moose hunter | C5: 35 | D5: 50 | E5: =SUM(C5,D5) -> 85 | F5: WASHINGTON | G5: =SUM(E5,IF(ISERROR(SEARCH(F5,$F$16&$F$48)),0,3)+($H$32=F5)*2) -> 85 | H5: J-F
A6: =SUM(A5,1) -> 4 | B6: dominic goal au hockey avec ma bédaine | C6: 29 | D6: 44 | E6: =SUM(C6,D6) -> 73 | F6: SAN JOSE | G6: =SUM(E6,IF(ISERROR(SEARCH(F6,$F$16&$F$48)),0,3)+($H$32=F6)*2) -> 73 | H6: Dominic
A7: =SUM(A6,1) -> 5 | B7: desjardins goal au dard avec ma face | C7: 25 | D7: 40 | E7: =SUM(C7,D7) -> 65 | F7: WASHINGTON | G7: =SUM(E7,IF(ISERROR(SEARCH(F7,$F$16&$F$48)),0,3)+($H$32=F7)*2) -> 65 | H7: Éric
A8: =SUM(A7,1) -> 6 | B8: martin j'aime la compote de pomme | C8: 21 | D8: 28 | E8: =SUM(C8,D8) -> 49 | F8: CHICAGO | G8: =SUM(E8,IF(ISERROR(SEARCH(F8,$F$16&$F$48)),0,3)+($H$32=F8)*2) -> 49 | H8: Martin
A9: =SUM(A8,1) -> 7 | B9: carlos le gros stagière | C9: 15 | D9: 25 | E9: =SUM(C9,D9) -> 40 | F9: CHICAGO | G9: =SUM(E9,IF(ISERROR(SEARCH(F9,$F$16&$F$48)),0,3)+($H$32=F9)*2) -> 40 | H9: Carl
A10: =SUM(A9,1) -> 8 | B10: pat pat'patrouille | C10: 12 | D10: 25 | E10: =SUM(C10,D10) -> 37 | F10: MONTREAL | G10: =SUM(E10,IF(ISERROR(SEARCH(F10,$F$16&$F$48)),0,3)+($H$32=F10)*2) -> 37 | H10: Pat
A11: =SUM(A10,1) -> 9 | B11: denis futur retraitée | C11: 10 | D11: 17 | E11: =SUM(C11,D11) -> 27 | F11: MONTREAL | G11: =SUM(E11,IF(ISERROR(SEARCH(F11,$F$16&$F$48)),0,3)+($H$32=F11)*2) -> 27 | H11: Denis
A12: =SUM(A11,1) -> 10 | B12: dan excel master | C12: 9 | D12: 18 | E12: =SUM(C12,D12) -> 27 | F12: WASHINGTON | G12: =SUM(E12,IF(ISERROR(SEARCH(F12,$F$16&$F$48)),0,3)+($H$32=F12)*2) -> 27 | H12: Dan
A13: =SUM(A12,1) -> 11 | B13: nadia la manace | C13: 7 | D13: 17 | E13: =SUM(C13,D13) -> 24 | F13: MINNESOTA | G13: =SUM(E13,IF(ISERROR(SEARCH(F13,$F$16&$F$48)),0,3)+($H$32=F13)*2) -> 24 | H13: Nadia
A14: =SUM(A13,1) -> 12 | B14: tonio pintendre je taime | C14: 4 | D14: 10 | E14: =SUM(C14,D14) -> 14 | F14: CHICAGO | G14: =SUM(E14,IF(ISERROR(SEARCH(F14,$F$16&$F$48)),0,3)+($H$32=F14)*2) -> 14 | H14: Tonio
A15: =SUM(A14,1) -> 13 | B15: marie anne retraitée | C15: 7 | D15: 5 | E15: =SUM(C15,D15) -> 12 | F15: MONTREAL | G15: =SUM(E15,IF(ISERROR(SEARCH(F15,$F$16&$F$48)),0,3)+($H$32=F15)*2) -> 12 | H15: Marie-Anne

Sheet 2018
B1: Classement poolers | H1: 2018
B2: Nom (surnom) | C2: But | D2: Passe | E2: Point | F2: Équipe | G2: Ppts | H2: Nom
A3: 1 | B3: Carl alias louffy continue | C3: 38 | D3: 69 | E3: =SUM(C3,D3) -> 107 | F3: PITTSBURG | G3: =SUM(E3,IF(ISERROR(SEARCH(F3,#REF!&#REF!)),0,3)+($I$32=F3)*2) -> 107 | H3: Carl
A4: =SUM(A3,1) -> 2 | B4: Christelle alias futur conductrice de coupé sport | C4: 31 | D4: 68 | E4: =SUM(C4,D4) -> 99 | F4: PITTSBURG | G4: =SUM(E4,IF(ISERROR(SEARCH(F4,#REF!&#REF!)),0,3)+($I$32=F4)*2) -> 99 | H4: Christelle
A5: =SUM(A4,1) -> 3 | B5: Jeff alias coupé sport | C5: 39 | D5: 53 | E5: =SUM(C5,D5) -> 92 | F5: WASHINGTON | G5: =SUM(E5,IF(ISERROR(SEARCH(F5,#REF!&#REF!)),0,3)+($I$32=F5)*2) -> 92 | H5: J-F
A6: =SUM(A5,1) -> 4 | B6: Marie Anne alias tisserane | C6: 31 | D6: 52 | E6: =SUM(C6,D6) -> 83 | F6: BOSTON | G6: =SUM(E6,IF(ISERROR(SEARCH(F6,#REF!&#REF!)),0,3)+($I$32=F6)*2) -> 83 | H6: Marie-Anne
A7: =SUM(A6,1) -> 5 | B7: Dan alias tentera un coup fumant | C7: 32 | D7: 50 | E7: =SUM(C7,D7) -> 82 | F7: TAMPA BAY | G7: =SUM(E7,IF(ISERROR(SEARCH(F7,#REF!&#REF!)),0,3)+($I$32=F7)*2) -> 82 | H7: Dan
A8: =SUM(A7,1) -> 6 | B8: tonio alias el tonio | C8: 30 | D8: 49 | E8: =SUM(C8,D8) -> 79 | F8: NASHVILLE | G8: =SUM(E8,IF(ISERROR(SEARCH(F8,#REF!&#REF!)),0,3)+($I$32=F8)*2) -> 79 | H8: Tonio
A9: =SUM(A8,1) -> 7 | B9: julie alias loto max | C9: 20 | D9: 45 | E9: =SUM(C9,D9) -> 65 | F9: WASHINGTON | G9: =SUM(E9,IF(ISERROR(SEARCH(F9,#REF!&#REF!)),0,3)+($I$32=F9)*2) -> 65 | H9: Julie
A10: =SUM(A9,1) -> 8 | B10: kathleen alias le béluga | C10: 31 | D10: 38 | E10: =SUM(C10,D10) -> 69 | F10: TAMPA BAY | G10: =SUM(E10,IF(ISERROR(SEARCH(F10,#REF!&#REF!)),0,3)+($I$32=F10)*2) -> 69 | H10: Kathleen
A11: =SUM(A10,1) -> 9 | B11: Desjardins alias homme cherche homme avec ou sans cheveux | C11: 20 | D11: 47 | E11: =SUM(C11,D11) -> 67 | F11: PITTSBURG | G11: =SUM(E11,IF(ISERROR(SEARCH(F11,#REF!&#REF!)),0,3)+($I$32=F11)*2) -> 67 | H11: Éric
A12: =SUM(A11,1) -> 10 | B12: Nadia alias la vieille trentenaire | C12: 22 | D12: 38 | E12: =SUM(C12,D12) -> 60 | F12: TAMPA BAY | G12: =SUM(E12,IF(ISERROR(SEARCH(F12,#REF!&#REF!)),0,3)+($I$32=F12)*2) -> 60 | H12: Nadia
A13: =SUM(A12,1) -> 11 | B13: Denis alias retraite 2.0 | C13: 22 | D13: 37 | E13: =SUM(C13,D13) -> 59 | F13: PITTSBURG | G13: =SUM(E13,IF(ISERROR(SEARCH(F13,#REF!&#REF!)),0,3)+($I$32=F13)*2) -> 59 | H13: Denis
A14: =SUM(A13,1) -> 12 | B14: Alex alias Road trip | C14: 20 | D14: 39 | E14: =SUM(C14,D14) -> 59 | F14: NASHVILLE | G14: =SUM(E14,IF(ISERROR(SEARCH(F14,#REF!&#REF!)),0,3)+($I$32=F14)*2) -> 59 | H14: Alex
A15: =SUM(A14,1) -> 13 | B15: marois alias Dieu | C15: 23 | D15: 22 | E15: =SUM(C15,D15) -> 45 | F15: NASHVILLE | G15: =SUM(E15,IF(ISERROR(SEARCH(F15,#REF!&#REF!)),0,3)+($I$32=F15)*2) -> 45 | H15: Marois
... A17: =SUM(A16,1) -> 15 | B17: Dominic alias the last pick | C17: 15 | D17: 26 | E17: =SUM(C17,D17) -> 41 | F17: NASHVILLE | G17: =SUM(E17,IF(ISERROR(SEARCH(F17,#REF!&#REF!)),0,3)+($I$32=F17)*2) -> 41 | H17: Dominic

Sheet 2019
B1: Classement poolers | H1: 2019
B2: Nom (surnom) | C2: But | D2: Passe | E2: Point | F2: Équipe | G2: Ppts | H2: Nom
A3: 1 | B3: Denis Snow fish | C3: 45 | D3: 74 | E3: =SUM(C3,D3) -> 119 | F3: BOSTON | G3: =SUM(E3,IF(ISERROR(SEARCH(F3,#REF!&#REF!)),0,3)+($J$32=F3)*2) -> 119 | H3: Denis
A4: =SUM(A3,1) -> 2 | B4: Nadia pti-jo | C4: 49 | D4: 47 | E4: =SUM(C4,D4) -> 96 | F4: CALGARY | G4: =SUM(E4,IF(ISERROR(SEARCH(F4,#REF!&#REF!)),0,3)+($J$32=F4)*2) -> 96 | H4: Nadia
A5: =SUM(A4,1) -> 3 | B5: Marois Dieu Grecque | C5: 37 | D5: 51 | E5: =SUM(C5,D5) -> 88 | F5: SAINT-LOUIS | G5: =SUM(E5,IF(ISERROR(SEARCH(F5,#REF!&#REF!)),0,3)+($J$32=F5)*2) -> 88 | H5: Marois
A6: =SUM(A5,1) -> 4 | B6: Adam/Nathan les recrues | C6: 41 | D6: 42 | E6: =SUM(C6,D6) -> 83 | F6: TAMPA BAY | G6: =SUM(E6,IF(ISERROR(SEARCH(F6,#REF!&#REF!)),0,3)+($J$32=F6)*2) -> 83 | H6: Adam
A7: =SUM(A6,1) -> 5 | B7: Alex tu est pas game papa | C7: 24 | D7: 45 | E7: =SUM(C7,D7) -> 69 | F7: TAMPA BAY | G7: =SUM(E7,IF(ISERROR(SEARCH(F7,#REF!&#REF!)),0,3)+($J$32=F7)*2) -> 69 | H7: Alex
A8: =SUM(A7,1) -> 6 | B8: Christelle All in | C8: 24 | D8: 29 | E8: =SUM(C8,D8) -> 53 | F8: TAMPA BAY | G8: =SUM(E8,IF(ISERROR(SEARCH(F8,#REF!&#REF!)),0,3)+($J$32=F8)*2) -> 53 | H8: Christelle
A9: =SUM(A8,1) -> 7 | B9: Dan Marco au Cosco | C9: 14 | D9: 34 | E9: =SUM(C9,D9) -> 48 | F9: TAMPA BAY | G9: =SUM(E9,IF(ISERROR(SEARCH(F9,#REF!&#REF!)),0,3)+($J$32=F9)*2) -> 48 | H9: Dan
A10: =SUM(A9,1) -> 8 | B10: Martin Martine a la plage | C10: 10 | D10: 37 | E10: =SUM(C10,D10) -> 47 | F10: PITTSBURG | G10: =SUM(E10,IF(ISERROR(SEARCH(F10,#REF!&#REF!)),0,3)+($J$32=F10)*2) -> 47 | H10: Martin
A11: =SUM(A10,1) -> 9 | B11: Dominic faut que ça coule | C11: 20 | D11: 25 | E11: =SUM(C11,D11) -> 45 | F11: TAMPA BAY | G11: =SUM(E11,IF(ISERROR(SEARCH(F11,#REF!&#REF!)),0,3)+($J$32=F11)*2) -> 45 | H11: Dominic
A12: =SUM(A11,1) -> 10 | B12: JFT station méteo | C12: 17 | D12: 26 | E12: =SUM(C12,D12) -> 43 | F12: CALGARY | G12: =SUM(E12,IF(ISERROR(SEARCH(F12,#REF!&#REF!)),0,3)+($J$32=F12)*2) -> 43 | H12: J-F
A13: =SUM(A12,1) -> 11 | B13: Kathleen Andie connait plus ça que moi | C13: 21 | D13: 21 | E13: =SUM(C13,D13) -> 42 | F13: TAMPA BAY | G13: =SUM(E13,IF(ISERROR(SEARCH(F13,#REF!&#REF!)),0,3)+($J$32=F13)*2) -> 42 | H13: Kathleen
A14: =SUM(A13,1) -> 12 | B14: Carl faut pas que ça coule | C14: 8 | D14: 29 | E14: =SUM(C14,D14) -> 37 | F14: TAMPA BAY | G14: =SUM(E14,IF(ISERROR(SEARCH(F14,#REF!&#REF!)),0,3)+($J$32=F14)*2) -> 37 | H14: Carl
A15: =SUM(A14,1) -> 13 | B15: Tonio El taxi | C15: 6 | D15: 6 | E15: =SUM(C15,D15) -> 12 | F15: TAMPA BAY | G15: =SUM(E15,IF(ISERROR(SEARCH(F15,#REF!&#REF!)),0,3)+($J$32=F15)*2) -> 12 | H15: Tonio
H16: Nathan
