Workbook

Sheet Inscriptions
B1: N° licence | C1: SIMPLE | D1: DOUBLE | G1: MIXTE | J1: Avez-vous vérifié ?
C2: Tableau Demandé | D2: Partenaire | E2: Club | F2: Tableau Demandé | G2: Partenaire | H2: Club | I2: Tableau Demandé | L2: Exemple mot de passe
A3: Bibi | B3: 6542521 | C3: R6 | D3: test1 | E3: Paris | F3: D9 | G3: test | H3: test | I3: P10 | J3: Oui | L3: ka2018
A4: Toto | B4: 267246 | C4: R6 | F4: R6 | I4: P11 | J4: Non | L4: ar2018
A5: Lulu | B5: 236911 | C5: R6 | D5: test2 | E5: Marseille | F5: R6 | G5: mixte2 | H5: mixte2 | I5: R6 | J5: Non | L5: vd2018
A6: Lili | B6: 6825843 | C6: N3 | E6: Lille | F6: N3 | I6: N3 | J6: Non | L6: pk2018
A7: JP | B7: 6132 | C7: N3 | E7: Nantes | F7: N3 | I7: N3 | J7: Non | L7: pk2018
A8: JC | B8: 388055 | C8: R4 | F8: R4 | I8: D9 | J8: Oui | L8: al2018
A9: Albert | C9: R6 | F9: R6 | I9: R6 | J9: Non | L9: hl2018
A10: Pingoo | C10: R6 | F10: R6 | I10: R6 | J10: Non | L10: jm2018
A11: Xav | B11: 320611 | C11: R6 | F11: R6 | I11: P10 | J11: Oui | L11: cr2018
A12: Kev | C12: P10 | F12: P10 | I12: D7 | J12: Oui | L12: cs2018
A16: Exemple : | B16: test formule
B17: =IF(J3="Oui",A3:I3,"") -> 6542521 | D17: =SI(J3="Oui";A3:I3;"")
B19: Je cherche a copier les lignes où les données sont vérifiés ("Oui") sur la feuille 2 de ce classeur excel

Sheet Feuille2
A1: =IF(Inscriptions!J3="Oui",Inscriptions!A3,"") -> Bibi | B1: =IF(Inscriptions!J3="Oui",Inscriptions!B3,"") -> 6542521 | C1: =IF(Inscriptions!J3="Oui",Inscriptions!C3,"") -> R6 | D1: =IF(Inscriptions!J3="Oui",Inscriptions!D3,"") -> test1 | E1: =IF(Inscriptions!J3="Oui",Inscriptions!E3,"") -> Paris | F1: =IF(Inscriptions!J3="Oui",Inscriptions!F3,"") -> D9 | G1: =IF(Inscriptions!J3="Oui",Inscriptions!G3,"") -> test | H1: =IF(Inscriptions!J3="Oui",Inscriptions!H3,"") -> test | I1: =IF(Inscriptions!J3="Oui",Inscriptions!I3,"") -> P10
A2: =IF(Inscriptions!J4="Oui",Inscriptions!A4,"") | B2: =IF(Inscriptions!J4="Oui",Inscriptions!B4,"") | C2: =IF(Inscriptions!J4="Oui",Inscriptions!C4,"") | D2: =IF(Inscriptions!J4="Oui",Inscriptions!D4,"") | E2: =IF(Inscriptions!J4="Oui",Inscriptions!E4,"") | F2: =IF(Inscriptions!J4="Oui",Inscriptions!F4,"") | G2: =IF(Inscriptions!J4="Oui",Inscriptions!G4,"") | H2: =IF(Inscriptions!J4="Oui",Inscriptions!H4,"") | I2: =IF(Inscriptions!J4="Oui",Inscriptions!I4,"") | J2: =IF(A2="","oui","non") -> oui
A3: =IF(Inscriptions!J5="Oui",Inscriptions!A5,"") | B3: =IF(Inscriptions!J5="Oui",Inscriptions!B5,"") | C3: =IF(Inscriptions!J5="Oui",Inscriptions!C5,"") | D3: =IF(Inscriptions!J5="Oui",Inscriptions!D5,"") | E3: =IF(Inscriptions!J5="Oui",Inscriptions!E5,"") | F3: =IF(Inscriptions!J5="Oui",Inscriptions!F5,"") | G3: =IF(Inscriptions!J5="Oui",Inscriptions!G5,"") | H3: =IF(Inscriptions!J5="Oui",Inscriptions!H5,"") | I3: =IF(Inscriptions!J5="Oui",Inscriptions!I5,"")
A4: =IF(Inscriptions!J6="Oui",Inscriptions!A6,"") | B4: =IF(Inscriptions!J6="Oui",Inscriptions!B6,"") | C4: =IF(Inscriptions!J6="Oui",Inscriptions!C6,"") | D4: =IF(Inscriptions!J6="Oui",Inscriptions!D6,"") | E4: =IF(Inscriptions!J6="Oui",Inscriptions!E6,"") | F4: =IF(Inscriptions!J6="Oui",Inscriptions!F6,"") | G4: =IF(Inscriptions!J6="Oui",Inscriptions!G6,"") | H4: =IF(Inscriptions!J6="Oui",Inscriptions!H6,"") | I4: =IF(Inscriptions!J6="Oui",Inscriptions!I6,"")
A5: =IF(Inscriptions!J7="Oui",Inscriptions!A7,"") | B5: =IF(Inscriptions!J7="Oui",Inscriptions!B7,"") | C5: =IF(Inscriptions!J7="Oui",Inscriptions!C7,"") | D5: =IF(Inscriptions!J7="Oui",Inscriptions!D7,"") | E5: =IF(Inscriptions!J7="Oui",Inscriptions!E7,"") | F5: =IF(Inscriptions!J7="Oui",Inscriptions!F7,"") | G5: =IF(Inscriptions!J7="Oui",Inscriptions!G7,"") | H5: =IF(Inscriptions!J7="Oui",Inscriptions!H7,"") | I5: =IF(Inscriptions!J7="Oui",Inscriptions!I7,"")
A6: =IF(Inscriptions!J8="Oui",Inscriptions!A8,"") -> JC | B6: =IF(Inscriptions!J8="Oui",Inscriptions!B8,"") -> 388055 | C6: =IF(Inscriptions!J8="Oui",Inscriptions!C8,"") -> R4 | D6: =IF(Inscriptions!J8="Oui",Inscriptions!D8,"") -> 0 | E6: =IF(Inscriptions!J8="Oui",Inscriptions!E8,"") -> 0 | F6: =IF(Inscriptions!J8="Oui",Inscriptions!F8,"") -> R4 | G6: =IF(Inscriptions!J8="Oui",Inscriptions!G8,"") -> 0 | H6: =IF(Inscriptions!J8="Oui",Inscriptions!H8,"") -> 0 | I6: =IF(Inscriptions!J8="Oui",Inscriptions!I8,"") -> D9
D17: =IF(J3="Oui",A3:I3,"")

Sheet Inscriptions a envoyer
A3: NOM/Prénom | B3: N° de Licence | C3: Sexe | D3: Classement | E3: Série Simple | F3: Double avec (Nom/Club) | G3: Classement | H3: Série | I3: Mixte avec (Nom/Club) | J3: Classement | K3: Série Mixte | L3: Total
H4: Double
A7: SI(A1="ABC";"ABC";SI(A1=123;123;""))
A8: =SI(GAUCHE(C1;5)="Email";C1;"")
A10: =IF(ROWS($1:1)<=COUNTIF([1]BD!$A$2:$A$37,$B$1),INDEX([1]BD!B$2:B$37,SMALL(IF([1]BD!$A$2:$A$37=$B$1,ROW(INDIRECT("1:"&ROWS([1]BD!$A$2:$A$37)))),ROWS($1:1))),"") -> #VALUE!

Sheet Base données (verrouillée)
A1: Série / Classement | C1: Vérification
A2: Elite | C2: Oui
A3: N1 | C3: Non
A4: N2
A5: N3
A6: R4
A7: R5
A8: R6
A9: D7
A10: D8
A11: D9
A12: P10
A13: P11
A14: P12
A15: NC
