Workbook

Sheet EQUiPE
A1: PLANNING ???? SERVICE ?????
B2: S1 | C2: S2 | D2: S3 | E2: S4
A3: prénom | B3: 06/06 au 10/06 | C3: 5/03 au 11/04 | D3: 12/03 au 18/05 | E3: 19/03 au 25/06 | F3: TOTAL | G3: moyenne Semaine
A4: staf 1 | B4: ='S1'!F35 -> 1.125 | C4: ='S2'!F35 -> 0 | D4: ='S3'!F35 -> 0 | E4: ='S4'!F35 -> 0 | F4: =B4+C4+D4+E4 -> 1.125 | G4: =(F4/4) -> 0.28125
A5: staf 2 | B5: ='S1'!I35 -> 0.25 | C5: ='S2'!I35 -> 0 | D5: ='S3'!I35 -> 0 | E5: ='S4'!I35 -> 0 | F5: =B5+C5+D5+E5 -> 0.25 | G5: =(F5/4) -> 0.0625
A6: staf 3 | B6: ='S1'!L35 -> 0 | C6: ='S2'!L35 -> 0 | D6: ='S3'!L35 -> 0 | E6: ='S4'!L35 -> 0 | F6: =B6+C6+D6+E6 -> 0 | G6: =(F6/4) -> 0
A7: pierre | B7: ='S1'!O35 -> 0 | C7: ='S2'!O35 -> 0 | D7: ='S3'!O35 -> 0 | E7: ='S4'!O35 -> 0 | F7: =B7+C7+D7+E7 -> 0 | G7: =(F7/4) -> 0
A8: staf 5 | B8: ='S1'!R35 -> 0 | C8: ='S2'!R35 -> 0 | D8: ='S3'!R35 -> 0 | E8: ='S4'!R35 -> 0 | F8: =B8+C8+D8+E8 -> 0 | G8: =(F8/4) -> 0
A9: staf 6 | B9: ='S1'!U35 -> 0 | C9: ='S2'!U35 -> 0 | D9: ='S3'!U35 -> 0 | E9: ='S4'!U35 -> 0 | F9: =B9+C9+D9+E9 -> 0 | G9: =(F9/4) -> 0
A10: staf 7 | B10: ='S1'!X35 -> 0 | C10: ='S2'!X35 -> 0 | D10: ='S3'!X35 -> 0 | E10: ='S4'!X35 -> 0 | F10: =B10+C10+D10+E10 -> 0 | G10: =(F10/4) -> 0
A11: staf 8 | B11: ='S1'!AA35 -> 0 | C11: ='S2'!AA35 -> 0 | D11: ='S3'!AA35 -> 0 | E11: ='S4'!AA35 -> 0 | F11: =B11+C11+D11+E11 -> 0 | G11: =(F11/4) -> 0
A12: staf 9 | B12: ='S1'!AD35 -> 0 | C12: ='S2'!AD35 -> 0 | D12: ='S3'!AD35 -> 0 | E12: ='S4'!AD35 -> 0 | F12: =B12+C12+D12+E12 -> 0 | G12: =(F12/4) -> 0
A13: staf 10 | B13: ='S1'!AG35 -> 0 | C13: ='S2'!AG35 -> 0 | D13: ='S3'!AG35 -> 0 | E13: ='S4'!AG35 -> 0 | F13: =B13+C13+D13+E13 -> 0 | G13: =(F13/4) -> 0

Sheet général v2
B1: =EQUiPE!A1 -> PLANNING ???? SERVICE ????? | AN1: =EQUiPE!B3 -> 06/06 au 10/06
D5: 7 | F5: 30 | H5: 8 | J5: 30 | L5: 9 | N5: 30 | P5: 10 | R5: 30 | T5: 11 | V5: 30 | X5: 12 | Z5: 30 | AB5: 13 | AD5: 30 | AF5: 14 | AH5: 30 | AJ5: 15 | AL5: 30 | AN5: 16 | AP5: 30 | AR5: 17 | AT5: 30 | AV5: 18 | AX5: 30 | AZ5: 19 | BB5: 30 | BD5: 20 | BF5: 30 | BH5: 21 | BJ5: 30 | BL5: 22 | BN5: 30 | BP5: 23 | BR5: 30 | BT5: 24 | BV5: 30
E6: 15 | G6: 45 | I6: 15 | K6: 45 | M6: 15 | O6: 45 | Q6: 15 | S6: 45 | U6: 15 | W6: 45 | Y6: 15 | AA6: 45 | AC6: 15 | AE6: 45 | AG6: 15 | AI6: 45 | AK6: 15 | AM6: 45 | AO6: 15 | AQ6: 45 | AS6: 15 | AU6: 45 | AW6: 15 | AY6: 45 | BA6: 15 | BC6: 45 | BE6: 15 | BG6: 45 | BI6: 15 | BK6: 45 | BM6: 15 | BO6: 45 | BQ6: 15 | BS6: 45 | BU6: 15
D7: 0.29166667 | E7: 0.30208333 | F7: 0.3125 | G7: 0.32291667 | H7: 0.33333333 | I7: 0.34375 | J7: 0.35416667 | K7: 0.36458333 | L7: 0.375 | M7: 0.38541667 | N7: 0.39583333 | O7: 0.40625 | P7: 0.41666667 | Q7: 0.42708333 | R7: 0.4375 | S7: 0.44791667 | T7: 0.45833333 | U7: 0.46875 | V7: 0.47916667 | W7: 0.48958333 | X7: 0.5 | Y7: 0.51041667 | Z7: 0.52083333 | AA7: 0.53125 | AB7: 0.54166667 | AC7: 0.55208333 | AD7: 0.5625 | AE7: 0.57291667 | AF7: 0.58333333 | AG7: 0.59375 | AH7: 0.60416667 | AI7: 0.61458333 | AJ7: 0.625 | AK7: 0.63541667 | AL7: 0.64583333 | AM7: 0.65625 | AN7: 0.66666667 | AO7: 0.67708333 | AP7: 0.6875 | AQ7: 0.69791667 | AR7: 0.70833333 | AS7: 0.71875 | AT7: 0.72916667 | AU7: 0.73958333 | AV7: 0.75 | AW7: 0.76041667 | AX7: 0.77083333 | AY7: 0.78125 | AZ7: 0.79166667 | BA7: 0.80208333 | BB7: 0.8125 | BC7: 0.82291667 | BD7: 0.83333333 | BE7: 0.84375 | BF7: 0.85416667 | BG7: 0.86458333 | BH7: 0.875 | BI7: 0.88541667 | BJ7: 0.89583333 | BK7: 0.90625 | BL7: 0.91666667 | BM7: 0.92708333 | BN7: 0.9375 | BO7: 0.94791667 | BP7: 0.95833333 | BQ7: 0.96875 | BR7: 0.97916667 | BS7: 0.98958333 | BT7: 1 | BU7: 1.0104167 | BV7: 1.0208333 | BW7: 1.03125
B8: SAMEDI | C8: =EQUiPE!A4 -> staf 1 | BX8: ='S1'!F35 -> 1.125
C9: =EQUiPE!A5 -> staf 2 | BX9: =SUM(D9:BW9)/4 -> 0
C10: =EQUiPE!A6 -> staf 3 | BX10: =SUM(D10:BW10)/4 -> 0
C11: =EQUiPE!A7 -> pierre | BX11: =SUM(D11:BW11)/4 -> 0
C12: =EQUiPE!A8 -> staf 5 | BX12: =SUM(D12:BW12)/4 -> 0
C13: =EQUiPE!A9 -> staf 6 | BX13: =SUM(D13:BW13)/4 -> 0
C14: =EQUiPE!A10 -> staf 7 | BX14: =SUM(D14:BW14)/4 -> 0
C15: =EQUiPE!A11 -> staf 8 | BX15: =SUM(D15:BW15)/4 -> 0
C16: =EQUiPE!A12 -> staf 9 | BX16: =SUM(D16:BW16)/4 -> 0
C17: =EQUiPE!A13 -> staf 10 | BX17: =SUM(D17:BW17)/4 -> 0
B18: DIMANCHE | C18: =EQUiPE!A4 -> staf 1 | BX18: =SUM(D18:BW18)/4 -> 0
C19: =EQUiPE!A5 -> staf 2 | BX19: =SUM(D19:BW19)/4 -> 0
C20: =EQUiPE!A6 -> staf 3 | BX20: =SUM(D20:BW20)/4 -> 0
C21: =EQUiPE!A7 -> pierre | BX21: =SUM(D21:BW21)/4 -> 0
C22: =EQUiPE!A8 -> staf 5 | BX22: =SUM(D22:BW22)/4 -> 0
C23: =EQUiPE!A9 -> staf 6 | BX23: =SUM(D23:BW23)/4 -> 0
C24: =EQUiPE!A10 -> staf 7 | BX24: =SUM(D24:BW24)/4 -> 0
C25: =EQUiPE!A11 -> staf 8 | BX25: =SUM(D25:BW25)/4 -> 0
C26: =EQUiPE!A12 -> staf 9 | BX26: =SUM(D26:BW26)/4 -> 0
C27: =EQUiPE!A13 -> staf 10 | BX27: =SUM(D27:BW27)/4 -> 0
B28: LUNDI | C28: =EQUiPE!A4 -> staf 1 | BX28: =SUM(D28:BW28)/4 -> 0
C29: =EQUiPE!A5 -> staf 2 | BX29: =SUM(D29:BW29)/4 -> 0
C30: =EQUiPE!A6 -> staf 3 | BX30: =SUM(D30:BW30)/4 -> 0
C31: =EQUiPE!A7 -> pierre | BX31: =SUM(D31:BW31)/4 -> 0
C32: =EQUiPE!A8 -> staf 5 | BX32: =SUM(D32:BW32)/4 -> 0
C33: =EQUiPE!A9 -> staf 6 | BX33: =SUM(D33:BW33)/4 -> 0
C34: =EQUiPE!A10 -> staf 7 | BX34: =SUM(D34:BW34)/4 -> 0
C35: =EQUiPE!A11 -> staf 8 | BX35: =SUM(D35:BW35)/4 -> 0
C36: =EQUiPE!A12 -> staf 9 | BX36: =SUM(D36:BW36)/4 -> 0
C37: =EQUiPE!A13 -> staf 10 | BX37: =SUM(D37:BW37)/4 -> 0
B38: MARDI | C38: =EQUiPE!A4 -> staf 1 | BX38: =SUM(D38:BW38)/4 -> 0
C39: =EQUiPE!A5 -> staf 2 | BX39: =SUM(D39:BW39)/4 -> 0
C40: =EQUiPE!A6 -> staf 3 | BX40: =SUM(D40:BW40)/4 -> 0
C41: =EQUiPE!A7 -> pierre | BX41: =SUM(D41:BW41)/4 -> 0
C42: =EQUiPE!A8 -> staf 5 | BX42: =SUM(D42:BW42)/4 -> 0
C43: =EQUiPE!A9 -> staf 6 | BX43: =SUM(D43:BW43)/4 -> 0
...

Sheet S1
A1: =EQUiPE!A1 -> PLANNING ???? SERVICE ????? | Q1: =EQUiPE!B3 -> 06/06 au 10/06
C5: EF | D5: =EQUiPE!$A4 -> staf 1 | G5: =EQUiPE!A5 -> staf 2 | J5: =EQUiPE!A6 -> staf 3 | M5: =EQUiPE!A7 -> pierre | P5: =EQUiPE!A8 -> staf 5 | S5: =EQUiPE!A9 -> staf 6 | V5: =EQUiPE!A10 -> staf 7 | Y5: =EQUiPE!A11 -> staf 8 | AB5: =EQUiPE!A12 -> staf 9 | AE5: =EQUiPE!A13 -> staf 10
A6: samedi | B6: matin | F6: =SUM(E6-D6) -> 0 | G6: 0.29166667 | H6: 0.33333333 | I6: =SUM(H6-G6) -> 0.041666667 | L6: =SUM(K6-J6) -> 0 | O6: =SUM(N6-M6) -> 0 | R6: =SUM(Q6-P6) -> 0 | U6: =SUM(T6-S6) -> 0 | X6: =SUM(W6-V6) -> 0 | AA6: =SUM(Z6-Y6) -> 0 | AD6: =SUM(AC6-AB6) -> 0 | AG6: =SUM(AF6-AE6) -> 0
A7: 42525 | B7: aprem | F7: =SUM(E7-D7) -> 0 | G7: 0.375 | H7: 0.41666667 | I7: =SUM(H7-G7) -> 0.041666667 | L7: =SUM(K7-J7) -> 0 | O7: =SUM(N7-M7) -> 0 | R7: =SUM(Q7-P7) -> 0 | U7: =SUM(T7-S7) -> 0 | X7: =SUM(W7-V7) -> 0 | AA7: =SUM(Z7-Y7) -> 0 | AD7: =SUM(AC7-AB7) -> 0 | AG7: =SUM(AF7-AE7) -> 0
B8: soirée | D8: 0.5 | E8: 0.95833333 | F8: =SUM(E8-D8) -> 0.45833333 | G8: 0.5 | H8: 0.58333333 | I8: =SUM(H8-G8) -> 0.083333333 | L8: =SUM(K8-J8) -> 0 | O8: =SUM(N8-M8) -> 0 | R8: =SUM(Q8-P8) -> 0 | U8: =SUM(T8-S8) -> 0 | X8: =SUM(W8-V8) -> 0 | AA8: =SUM(Z8-Y8) -> 0 | AD8: =SUM(AC8-AB8) -> 0 | AG8: =SUM(AF8-AE8) -> 0
F9: =SUM(F6)+(F7)+(F8)+(E9-D9) -> 0.45833333 | G9: 0.625 | H9: 0.70833333 | I9: =SUM(I6)+(I7)+(I8)+(H9-G9) -> 0.25 | L9: =SUM(L6)+(L7)+(L8)+(K9-J9) -> 0 | O9: =SUM(O6)+(O7)+(O8)+(N9-M9) -> 0 | R9: =SUM(R6)+(R7)+(R8)+(Q9-P9) -> 0 | U9: =SUM(U6)+(U7)+(U8)+(T9-S9) -> 0 | X9: =SUM(X6)+(X7)+(X8)+(W9-V9) -> 0 | AA9: =SUM(AA6)+(AA7)+(AA8)+(Z9-Y9) -> 0 | AD9: =SUM(AD6)+(AD7)+(AD8)+(AC9-AB9) -> 0 | AG9: =SUM(AG6)+(AG7)+(AG8)+(AF9-AE9) -> 0
A10: dimanche | B10: matin | F10: =SUM(E10-D10) -> 0 | I10: =SUM(H10-G10) -> 0 | L10: =SUM(K10-J10) -> 0 | O10: =SUM(N10-M10) -> 0 | R10: =SUM(Q10-P10) -> 0 | U10: =SUM(T10-S10) -> 0 | X10: =SUM(W10-V10) -> 0 | AA10: =SUM(Z10-Y10) -> 0 | AD10: =SUM(AC10-AB10) -> 0 | AG10: =SUM(AF10-AE10) -> 0
A11: 42526 | B11: aprem | D11: 0.25 | E11: 0.91666667 | F11: =SUM(E11-D11) -> 0.66666667 | I11: =SUM(H11-G11) -> 0 | L11: =SUM(K11-J11) -> 0 | O11: =SUM(N11-M11) -> 0 | R11: =SUM(Q11-P11) -> 0 | U11: =SUM(T11-S11) -> 0 | X11: =SUM(W11-V11) -> 0 | AA11: =SUM(Z11-Y11) -> 0 | AD11: =SUM(AC11-AB11) -> 0 | AG11: =SUM(AF11-AE11) -> 0
B12: soirée | F12: =SUM(E12-D12) -> 0 | I12: =SUM(H12-G12) -> 0 | L12: =SUM(K12-J12) -> 0 | O12: =SUM(N12-M12) -> 0 | R12: =SUM(Q12-P12) -> 0 | U12: =SUM(T12-S12) -> 0 | X12: =SUM(W12-V12) -> 0 | AA12: =SUM(Z12-Y12) -> 0 | AD12: =SUM(AC12-AB12) -> 0 | AG12: =SUM(AF12-AE12) -> 0
F13: =SUM(F10)+(F11)+(F12)+(E13-D13) -> 0.66666667 | I13: =SUM(I10)+(I11)+(I12)+(H13-G13) -> 0 | L13: =SUM(L10)+(L11)+(L12)+(K13-J13) -> 0 | O13: =SUM(O10)+(O11)+(O12)+(N13-M13) -> 0 | R13: =SUM(R10)+(R11)+(R12)+(Q13-P13) -> 0 | U13: =SUM(U10)+(U11)+(U12)+(T13-S13) -> 0 | X13: =SUM(X10)+(X11)+(X12)+(W13-V13) -> 0 | AA13: =SUM(AA10)+(AA11)+(AA12)+(Z13-Y13) -> 0 | AD13: =SUM(AD10)+(AD11)+(AD12)+(AC13-AB13) -> 0 | AG13: =SUM(AG10)+(AG11)+(AG12)+(AF13-AE13) -> 0
A14: lundi | B14: matin | F14: =SUM(E14-D14) -> 0 | I14: =SUM(H14-G14) -> 0 | L14: =SUM(K14-J14) -> 0 | O14: =SUM(N14-M14) -> 0 | R14: =SUM(Q14-P14) -> 0 | U14: =SUM(T14-S14) -> 0 | X14: =SUM(W14-V14) -> 0 | AA14: =SUM(Z14-Y14) -> 0 | AD14: =SUM(AC14-AB14) -> 0 | AG14: =SUM(AF14-AE14) -> 0
A15: 42527 | B15: aprem | F15: =SUM(E15-D15) -> 0 | I15: =SUM(H15-G15) -> 0 | L15: =SUM(K15-J15) -> 0 | O15: =SUM(N15-M15) -> 0 | R15: =SUM(Q15-P15) -> 0 | U15: =SUM(T15-S15) -> 0 | X15: =SUM(W15-V15) -> 0 | AA15: =SUM(Z15-Y15) -> 0 | AD15: =SUM(AC15-AB15) -> 0 | AG15: =SUM(AF15-AE15) -> 0
B16: soirée | F16: =SUM(E16-D16) -> 0 | I16: =SUM(H16-G16) -> 0 | L16: =SUM(K16-J16) -> 0 | O16: =SUM(N16-M16) -> 0 | R16: =SUM(Q16-P16) -> 0 | U16: =SUM(T16-S16) -> 0 | X16: =SUM(W16-V16) -> 0 | AA16: =SUM(Z16-Y16) -> 0 | AD16: =SUM(AC16-AB16) -> 0 | AG16: =SUM(AF16-AE16) -> 0
F17: =SUM(F14)+(F15)+(F16)+(E17-D17) -> 0 | I17: =SUM(I14)+(I15)+(I16)+(H17-G17) -> 0 | L17: =SUM(L14)+(L15)+(L16)+(K17-J17) -> 0 | O17: =SUM(O14)+(O15)+(O16)+(N17-M17) -> 0 | R17: =SUM(R14)+(R15)+(R16)+(Q17-P17) -> 0 | U17: =SUM(U14)+(U15)+(U16)+(T17-S17) -> 0 | X17: =SUM(X14)+(X15)+(X16)+(W17-V17) -> 0 | AA17: =SUM(AA14)+(AA15)+(AA16)+(Z17-Y17) -> 0 | AD17: =SUM(AD14)+(AD15)+(AD16)+(AC17-AB17) -> 0 | AG17: =SUM(AG14)+(AG15)+(AG16)+(AF17-AE17) -> 0
A18: mardi | B18: matin | F18: =SUM(E18-D18) -> 0 | I18: =SUM(H18-G18) -> 0 | L18: =SUM(K18-J18) -> 0 | O18: =SUM(N18-M18) -> 0 | R18: =SUM(Q18-P18) -> 0 | U18: =SUM(T18-S18) -> 0 | X18: =SUM(W18-V18) -> 0 | AA18: =SUM(Z18-Y18) -> 0 | AD18: =SUM(AC18-AB18) -> 0 | AG18: =SUM(AF18-AE18) -> 0
A19: 42528 | B19: aprem | F19: =SUM(E19-D19) -> 0 | I19: =SUM(H19-G19) -> 0 | L19: =SUM(K19-J19) -> 0 | O19: =SUM(N19-M19) -> 0 | R19: =SUM(Q19-P19) -> 0 | U19: =SUM(T19-S19) -> 0 | X19: =SUM(W19-V19) -> 0 | AA19: =SUM(Z19-Y19) -> 0 | AD19: =SUM(AC19-AB19) -> 0 | AG19: =SUM(AF19-AE19) -> 0
B20: soirée | F20: =SUM(E20-D20) -> 0 | I20: =SUM(H20-G20) -> 0 | L20: =SUM(K20-J20) -> 0 | O20: =SUM(N20-M20) -> 0 | R20: =SUM(Q20-P20) -> 0 | U20: =SUM(T20-S20) -> 0 | X20: =SUM(W20-V20) -> 0 | AA20: =SUM(Z20-Y20) -> 0 | AD20: =SUM(AC20-AB20) -> 0 | AG20: =SUM(AF20-AE20) -> 0
F21: =SUM(F18)+(F19)+(F20)+(E21-D21) -> 0 | I21: =SUM(I18)+(I19)+(I20)+(H21-G21) -> 0 | L21: =SUM(L18)+(L19)+(L20)+(K21-J21) -> 0 | O21: =SUM(O18)+(O19)+(O20)+(N21-M21) -> 0 | R21: =SUM(R18)+(R19)+(R20)+(Q21-P21) -> 0 | U21: =SUM(U18)+(U19)+(U20)+(T21-S21) -> 0 | X21: =SUM(X18)+(X19)+(X20)+(W21-V21) -> 0 | AA21: =SUM(AA18)+(AA19)+(AA20)+(Z21-Y21) -> 0 | AD21: =SUM(AD18)+(AD19)+(AD20)+(AC21-AB21) -> 0 | AG21: =SUM(AG18)+(AG19)+(AG20)+(AF21-AE21) -> 0
A22: mercredi | B22: matin | F22: =SUM(E22-D22) -> 0 | I22: =SUM(H22-G22) -> 0 | L22: =SUM(K22-J22) -> 0 | O22: =SUM(N22-M22) -> 0 | R22: =SUM(Q22-P22) -> 0 | U22: =SUM(T22-S22) -> 0 | X22: =SUM(W22-V22) -> 0 | AA22: =SUM(Z22-Y22) -> 0 | AD22: =SUM(AC22-AB22) -> 0 | AG22: =SUM(AF22-AE22) -> 0
A23: 42529 | B23: aprem | F23: =SUM(E23-D23) -> 0 | I23: =SUM(H23-G23) -> 0 | L23: =SUM(K23-J23) -> 0 | O23: =SUM(N23-M23) -> 0 | R23: =SUM(Q23-P23) -> 0 | U23: =SUM(T23-S23) -> 0 | X23: =SUM(W23-V23) -> 0 | AA23: =SUM(Z23-Y23) -> 0 | AD23: =SUM(AC23-AB23) -> 0 | AG23: =SUM(AF23-AE23) -> 0
B24: soirée | F24: =SUM(E24-D24) -> 0 | I24: =SUM(H24-G24) -> 0 | L24: =SUM(K24-J24) -> 0 | O24: =SUM(N24-M24) -> 0 | R24: =SUM(Q24-P24) -> 0 | U24: =SUM(T24-S24) -> 0 | X24: =SUM(W24-V24) -> 0 | AA24: =SUM(Z24-Y24) -> 0 | AD24: =SUM(AC24-AB24) -> 0 | AG24: =SUM(AF24-AE24) -> 0
F25: =SUM(F22)+(F23)+(F24)+(E25-D25) -> 0 | I25: =SUM(I22)+(I23)+(I24)+(H25-G25) -> 0 | L25: =SUM(L22)+(L23)+(L24)+(K25-J25) -> 0 | O25: =SUM(O22)+(O23)+(O24)+(N25-M25) -> 0 | R25: =SUM(R22)+(R23)+(R24)+(Q25-P25) -> 0 | U25: =SUM(U22)+(U23)+(U24)+(T25-S25) -> 0 | X25: =SUM(X22)+(X23)+(X24)+(W25-V25) -> 0 | AA25: =SUM(AA22)+(AA23)+(AA24)+(Z25-Y25) -> 0 | AD25: =SUM(AD22)+(AD23)+(AD24)+(AC25-AB25) -> 0 | AG25: =SUM(AG22)+(AG23)+(AG24)+(AF25-AE25) -> 0
A26: jeudi | B26: matin | F26: =SUM(E26-D26) -> 0 | I26: =SUM(H26-G26) -> 0 | L26: =SUM(K26-J26) -> 0 | O26: =SUM(N26-M26) -> 0 | R26: =SUM(Q26-P26) -> 0 | U26: =SUM(T26-S26) -> 0 | X26: =SUM(W26-V26) -> 0 | AA26: =SUM(Z26-Y26) -> 0 | AD26: =SUM(AC26-AB26) -> 0 | AG26: =SUM(AF26-AE26) -> 0
A27: 42530 | B27: aprem | F27: =SUM(E27-D27) -> 0 | I27: =SUM(H27-G27) -> 0 | L27: =SUM(K27-J27) -> 0 | O27: =SUM(N27-M27) -> 0 | R27: =SUM(Q27-P27) -> 0 | U27: =SUM(T27-S27) -> 0 | X27: =SUM(W27-V27) -> 0 | AA27: =SUM(Z27-Y27) -> 0 | AD27: =SUM(AC27-AB27) -> 0 | AG27: =SUM(AF27-AE27) -> 0
B28: soirée | F28: =SUM(E28-D28) -> 0 | I28: =SUM(H28-G28) -> 0 | L28: =SUM(K28-J28) -> 0 | O28: =SUM(N28-M28) -> 0 | R28: =SUM(Q28-P28) -> 0 | U28: =SUM(T28-S28) -> 0 | X28: =SUM(W28-V28) -> 0 | AA28: =SUM(Z28-Y28) -> 0 | AD28: =SUM(AC28-AB28) -> 0 | AG28: =SUM(AF28-AE28) -> 0
F29: =SUM(F26)+(F27)+(F28)+(E29-D29) -> 0 | I29: =SUM(I26)+(I27)+(I28)+(H29-G29) -> 0 | L29: =SUM(L26)+(L27)+(L28)+(K29-J29) -> 0 | O29: =SUM(O26)+(O27)+(O28)+(N29-M29) -> 0 | R29: =SUM(R26)+(R27)+(R28)+(Q29-P29) -> 0 | U29: =SUM(U26)+(U27)+(U28)+(T29-S29) -> 0 | X29: =SUM(X26)+(X27)+(X28)+(W29-V29) -> 0 | AA29: =SUM(AA26)+(AA27)+(AA28)+(Z29-Y29) -> 0 | AD29: =SUM(AD26)+(AD27)+(AD28)+(AC29-AB29) -> 0 | AG29: =SUM(AG26)+(AG27)+(AG28)+(AF29-AE29) -> 0
A30: vendredi | B30: matin | F30: =SUM(E30-D30) -> 0 | I30: =SUM(H30-G30) -> 0 | L30: =SUM(K30-J30) -> 0 | O30: =SUM(N30-M30) -> 0 | R30: =SUM(Q30-P30) -> 0 | U30: =SUM(T30-S30) -> 0 | X30: =SUM(W30-V30) -> 0 | AA30: =SUM(Z30-Y30) -> 0 | AD30: =SUM(AC30-AB30) -> 0 | AG30: =SUM(AF30-AE30) -> 0
A31: 42531 | B31: aprem | F31: =SUM(E31-D31) -> 0 | I31: =SUM(H31-G31) -> 0 | L31: =SUM(K31-J31) -> 0 | O31: =SUM(N31-M31) -> 0 | R31: =SUM(Q31-P31) -> 0 | U31: =SUM(T31-S31) -> 0 | X31: =SUM(W31-V31) -> 0 | AA31: =SUM(Z31-Y31) -> 0 | AD31: =SUM(AC31-AB31) -> 0 | AG31: =SUM(AF31-AE31) -> 0
B32: soirée | F32: =SUM(E32-D32) -> 0 | I32: =SUM(H32-G32) -> 0 | L32: =SUM(K32-J32) -> 0 | O32: =SUM(N32-M32) -> 0 | R32: =SUM(Q32-P32) -> 0 | U32: =SUM(T32-S32) -> 0 | X32: =SUM(W32-V32) -> 0 | AA32: =SUM(Z32-Y32) -> 0 | AD32: =SUM(AC32-AB32) -> 0 | AG32: =SUM(AF32-AE32) -> 0
F33: =SUM(F30)+(F31)+(F32)+(E33-D33) -> 0 | I33: =SUM(I30)+(I31)+(I32)+(H33-G33) -> 0 | L33: =SUM(L30)+(L31)+(L32)+(K33-J33) -> 0 | O33: =SUM(O30)+(O31)+(O32)+(N33-M33) -> 0 | R33: =SUM(R30)+(R31)+(R32)+(Q33-P33) -> 0 | U33: =SUM(U30)+(U31)+(U32)+(T33-S33) -> 0 | X33: =SUM(X30)+(X31)+(X32)+(W33-V33) -> 0 | AA33: =SUM(AA30)+(AA31)+(AA32)+(Z33-Y33) -> 0 | AD33: =SUM(AD30)+(AD31)+(AD32)+(AC33-AB33) -> 0 | AG33: =SUM(AG30)+(AG31)+(AG32)+(AF33-AE33) -> 0
D34: =SUM(D6:D33) -> 0.75 | E34: =SUM(E6:E33) -> 1.875 | G34: =SUM(G6:G33) -> 1.7916667 | H34: =SUM(H6:H33) -> 2.0416667 | J34: =SUM(J6:J33) -> 0 | K34: =SUM(K6:K33) -> 0 | M34: =SUM(M6:M33) -> 0 | N34: =SUM(N6:N33) -> 0 | P34: =SUM(P6:P33) -> 0 | Q34: =SUM(Q6:Q33) -> 0 | S34: =SUM(S6:S33) -> 0 | T34: =SUM(T6:T33) -> 0 | V34: =SUM(V6:V33) -> 0 | W34: =SUM(W6:W33) -> 0 | Y34: =SUM(Y6:Y33) -> 0 | Z34: =SUM(Z6:Z33) -> 0 | AB34: =SUM(AB6:AB33) -> 0 | AC34: =SUM(AC6:AC33) -> 0 | AE34: =SUM(AE6:AE33) -> 0 | AF34: =SUM(AF6:AF33) -> 0
D35: =+E34-D34 -> 1.125 | F35: =SUM(F9+F13+F17+F21+F25+F29+F33) -> 1.125 | G35: =+H34-G34 -> 0.25 | I35: =SUM(I9+I13+I17+I21+I25+I29+I33) -> 0.25 | J35: =+K34-J34 -> 0 | L35: =SUM(L9+L13+L17+L21+L25+L29+L33) -> 0 | M35: =+N34-M34 -> 0 | O35: =SUM(O9+O13+O17+O21+O25+O29+O33) -> 0 | P35: =+Q34-P34 -> 0 | R35: =SUM(R9+R13+R17+R21+R25+R29+R33) -> 0 | S35: =+T34-S34 -> 0 | U35: =SUM(U9+U13+U17+U21+U25+U29+U33) -> 0 | V35: =+W34-V34 -> 0 | X35: =SUM(X9+X13+X17+X21+X25+X29+X33) -> 0 | Y35: =+Z34-Y34 -> 0 | AA35: =SUM(AA9+AA13+AA17+AA21+AA25+AA29+AA33) -> 0 | AB35: =+AC34-AB34 -> 0 | AD35: =SUM(AD9+AD13+AD17+AD21+AD25+AD29+AD33) -> 0 | AE35: =+AF34-AE34 -> 0 | AG35: =SUM(AG9+AG13+AG17+AG21+AG25+AG29+AG33) -> 0

Sheet S2
A1: =EQUiPE!A1 -> PLANNING ???? SERVICE ????? | Q1: =EQUiPE!C3 -> 5/03 au 11/04
C5: EF | D5: =EQUiPE!A4 -> staf 1 | G5: =EQUiPE!A5 -> staf 2 | J5: =EQUiPE!A6 -> staf 3 | M5: =EQUiPE!A7 -> pierre | P5: =EQUiPE!A8 -> staf 5 | S5: =EQUiPE!A9 -> staf 6 | V5: =EQUiPE!A10 -> staf 7 | Y5: =EQUiPE!A11 -> staf 8 | AB5: =EQUiPE!A12 -> staf 9 | AE5: =EQUiPE!A13 -> staf 10
A6: samedi | B6: matin | F6: =SUM(E6-D6) -> 0 | I6: =SUM(H6-G6) -> 0 | L6: =SUM(K6-J6) -> 0 | O6: =SUM(N6-M6) -> 0 | R6: =SUM(Q6-P6) -> 0 | U6: =SUM(T6-S6) -> 0 | X6: =SUM(W6-V6) -> 0 | AA6: =SUM(Z6-Y6) -> 0 | AD6: =SUM(AC6-AB6) -> 0 | AG6: =SUM(AF6-AE6) -> 0
A7: 42434 | B7: aprem | F7: =SUM(E7-D7) -> 0 | I7: =SUM(H7-G7) -> 0 | L7: =SUM(K7-J7) -> 0 | O7: =SUM(N7-M7) -> 0 | R7: =SUM(Q7-P7) -> 0 | U7: =SUM(T7-S7) -> 0 | X7: =SUM(W7-V7) -> 0 | AA7: =SUM(Z7-Y7) -> 0 | AD7: =SUM(AC7-AB7) -> 0 | AG7: =SUM(AF7-AE7) -> 0
B8: soirée | F8: =SUM(E8-D8) -> 0 | I8: =SUM(H8-G8) -> 0 | L8: =SUM(K8-J8) -> 0 | O8: =SUM(N8-M8) -> 0 | R8: =SUM(Q8-P8) -> 0 | U8: =SUM(T8-S8) -> 0 | X8: =SUM(W8-V8) -> 0 | AA8: =SUM(Z8-Y8) -> 0 | AD8: =SUM(AC8-AB8) -> 0 | AG8: =SUM(AF8-AE8) -> 0
F9: =SUM(F6)+(F7)+(F8)+(E9-D9) -> 0 | I9: =SUM(I6)+(I7)+(I8)+(H9-G9) -> 0 | L9: =SUM(L6)+(L7)+(L8)+(K9-J9) -> 0 | O9: =SUM(O6)+(O7)+(O8)+(N9-M9) -> 0 | R9: =SUM(R6)+(R7)+(R8)+(Q9-P9) -> 0 | U9: =SUM(U6)+(U7)+(U8)+(T9-S9) -> 0 | X9: =SUM(X6)+(X7)+(X8)+(W9-V9) -> 0 | AA9: =SUM(AA6)+(AA7)+(AA8)+(Z9-Y9) -> 0 | AD9: =SUM(AD6)+(AD7)+(AD8)+(AC9-AB9) -> 0 | AG9: =SUM(AG6)+(AG7)+(AG8)+(AF9-AE9) -> 0
A10: dimanche | B10: matin | F10: =SUM(E10-D10) -> 0 | I10: =SUM(H10-G10) -> 0 | L10: =SUM(K10-J10) -> 0 | O10: =SUM(N10-M10) -> 0 | R10: =SUM(Q10-P10) -> 0 | U10: =SUM(T10-S10) -> 0 | X10: =SUM(W10-V10) -> 0 | AA10: =SUM(Z10-Y10) -> 0 | AD10: =SUM(AC10-AB10) -> 0 | AG10: =SUM(AF10-AE10) -> 0
A11: 42435 | B11: aprem | F11: =SUM(E11-D11) -> 0 | I11: =SUM(H11-G11) -> 0 | L11: =SUM(K11-J11) -> 0 | O11: =SUM(N11-M11) -> 0 | R11: =SUM(Q11-P11) -> 0 | U11: =SUM(T11-S11) -> 0 | X11: =SUM(W11-V11) -> 0 | AA11: =SUM(Z11-Y11) -> 0 | AD11: =SUM(AC11-AB11) -> 0 | AG11: =SUM(AF11-AE11) -> 0
B12: soirée | F12: =SUM(E12-D12) -> 0 | I12: =SUM(H12-G12) -> 0 | L12: =SUM(K12-J12) -> 0 | O12: =SUM(N12-M12) -> 0 | R12: =SUM(Q12-P12) -> 0 | U12: =SUM(T12-S12) -> 0 | X12: =SUM(W12-V12) -> 0 | AA12: =SUM(Z12-Y12) -> 0 | AD12: =SUM(AC12-AB12) -> 0 | AG12: =SUM(AF12-AE12) -> 0
F13: =SUM(F10)+(F11)+(F12)+(E13-D13) -> 0 | I13: =SUM(I10)+(I11)+(I12)+(H13-G13) -> 0 | L13: =SUM(L10)+(L11)+(L12)+(K13-J13) -> 0 | O13: =SUM(O10)+(O11)+(O12)+(N13-M13) -> 0 | R13: =SUM(R10)+(R11)+(R12)+(Q13-P13) -> 0 | U13: =SUM(U10)+(U11)+(U12)+(T13-S13) -> 0 | X13: =SUM(X10)+(X11)+(X12)+(W13-V13) -> 0 | AA13: =SUM(AA10)+(AA11)+(AA12)+(Z13-Y13) -> 0 | AD13: =SUM(AD10)+(AD11)+(AD12)+(AC13-AB13) -> 0 | AG13: =SUM(AG10)+(AG11)+(AG12)+(AF13-AE13) -> 0
A14: lundi | B14: matin | F14: =SUM(E14-D14) -> 0 | I14: =SUM(H14-G14) -> 0 | L14: =SUM(K14-J14) -> 0 | O14: =SUM(N14-M14) -> 0 | R14: =SUM(Q14-P14) -> 0 | U14: =SUM(T14-S14) -> 0 | X14: =SUM(W14-V14) -> 0 | AA14: =SUM(Z14-Y14) -> 0 | AD14: =SUM(AC14-AB14) -> 0 | AG14: =SUM(AF14-AE14) -> 0
A15: 42436 | B15: aprem | F15: =SUM(E15-D15) -> 0 | I15: =SUM(H15-G15) -> 0 | L15: =SUM(K15-J15) -> 0 | O15: =SUM(N15-M15) -> 0 | R15: =SUM(Q15-P15) -> 0 | U15: =SUM(T15-S15) -> 0 | X15: =SUM(W15-V15) -> 0 | AA15: =SUM(Z15-Y15) -> 0 | AD15: =SUM(AC15-AB15) -> 0 | AG15: =SUM(AF15-AE15) -> 0
B16: soirée | F16: =SUM(E16-D16) -> 0 | I16: =SUM(H16-G16) -> 0 | L16: =SUM(K16-J16) -> 0 | O16: =SUM(N16-M16) -> 0 | R16: =SUM(Q16-P16) -> 0 | U16: =SUM(T16-S16) -> 0 | X16: =SUM(W16-V16) -> 0 | AA16: =SUM(Z16-Y16) -> 0 | AD16: =SUM(AC16-AB16) -> 0 | AG16: =SUM(AF16-AE16) -> 0
F17: =SUM(F14)+(F15)+(F16)+(E17-D17) -> 0 | I17: =SUM(I14)+(I15)+(I16)+(H17-G17) -> 0 | L17: =SUM(L14)+(L15)+(L16)+(K17-J17) -> 0 | O17: =SUM(O14)+(O15)+(O16)+(N17-M17) -> 0 | R17: =SUM(R14)+(R15)+(R16)+(Q17-P17) -> 0 | U17: =SUM(U14)+(U15)+(U16)+(T17-S17) -> 0 | X17: =SUM(X14)+(X15)+(X16)+(W17-V17) -> 0 | AA17: =SUM(AA14)+(AA15)+(AA16)+(Z17-Y17) -> 0 | AD17: =SUM(AD14)+(AD15)+(AD16)+(AC17-AB17) -> 0 | AG17: =SUM(AG14)+(AG15)+(AG16)+(AF17-AE17) -> 0
A18: mardi | B18: matin | F18: =SUM(E18-D18) -> 0 | I18: =SUM(H18-G18) -> 0 | L18: =SUM(K18-J18) -> 0 | O18: =SUM(N18-M18) -> 0 | R18: =SUM(Q18-P18) -> 0 | U18: =SUM(T18-S18) -> 0 | X18: =SUM(W18-V18) -> 0 | AA18: =SUM(Z18-Y18) -> 0 | AD18: =SUM(AC18-AB18) -> 0 | AG18: =SUM(AF18-AE18) -> 0
A19: 42437 | B19: aprem | F19: =SUM(E19-D19) -> 0 | I19: =SUM(H19-G19) -> 0 | L19: =SUM(K19-J19) -> 0 | O19: =SUM(N19-M19) -> 0 | R19: =SUM(Q19-P19) -> 0 | U19: =SUM(T19-S19) -> 0 | X19: =SUM(W19-V19) -> 0 | AA19: =SUM(Z19-Y19) -> 0 | AD19: =SUM(AC19-AB19) -> 0 | AG19: =SUM(AF19-AE19) -> 0
B20: soirée | F20: =SUM(E20-D20) -> 0 | I20: =SUM(H20-G20) -> 0 | L20: =SUM(K20-J20) -> 0 | O20: =SUM(N20-M20) -> 0 | R20: =SUM(Q20-P20) -> 0 | U20: =SUM(T20-S20) -> 0 | X20: =SUM(W20-V20) -> 0 | AA20: =SUM(Z20-Y20) -> 0 | AD20: =SUM(AC20-AB20) -> 0 | AG20: =SUM(AF20-AE20) -> 0
F21: =SUM(F18)+(F19)+(F20)+(E21-D21) -> 0 | I21: =SUM(I18)+(I19)+(I20)+(H21-G21) -> 0 | L21: =SUM(L18)+(L19)+(L20)+(K21-J21) -> 0 | O21: =SUM(O18)+(O19)+(O20)+(N21-M21) -> 0 | R21: =SUM(R18)+(R19)+(R20)+(Q21-P21) -> 0 | U21: =SUM(U18)+(U19)+(U20)+(T21-S21) -> 0 | X21: =SUM(X18)+(X19)+(X20)+(W21-V21) -> 0 | AA21: =SUM(AA18)+(AA19)+(AA20)+(Z21-Y21) -> 0 | AD21: =SUM(AD18)+(AD19)+(AD20)+(AC21-AB21) -> 0 | AG21: =SUM(AG18)+(AG19)+(AG20)+(AF21-AE21) -> 0
A22: mercredi | B22: matin | F22: =SUM(E22-D22) -> 0 | I22: =SUM(H22-G22) -> 0 | L22: =SUM(K22-J22) -> 0 | O22: =SUM(N22-M22) -> 0 | R22: =SUM(Q22-P22) -> 0 | U22: =SUM(T22-S22) -> 0 | X22: =SUM(W22-V22) -> 0 | AA22: =SUM(Z22-Y22) -> 0 | AD22: =SUM(AC22-AB22) -> 0 | AG22: =SUM(AF22-AE22) -> 0
A23: 42438 | B23: aprem | F23: =SUM(E23-D23) -> 0 | I23: =SUM(H23-G23) -> 0 | L23: =SUM(K23-J23) -> 0 | O23: =SUM(N23-M23) -> 0 | R23: =SUM(Q23-P23) -> 0 | U23: =SUM(T23-S23) -> 0 | X23: =SUM(W23-V23) -> 0 | AA23: =SUM(Z23-Y23) -> 0 | AD23: =SUM(AC23-AB23) -> 0 | AG23: =SUM(AF23-AE23) -> 0
B24: soirée | F24: =SUM(E24-D24) -> 0 | I24: =SUM(H24-G24) -> 0 | L24: =SUM(K24-J24) -> 0 | O24: =SUM(N24-M24) -> 0 | R24: =SUM(Q24-P24) -> 0 | U24: =SUM(T24-S24) -> 0 | X24: =SUM(W24-V24) -> 0 | AA24: =SUM(Z24-Y24) -> 0 | AD24: =SUM(AC24-AB24) -> 0 | AG24: =SUM(AF24-AE24) -> 0
F25: =SUM(F22)+(F23)+(F24)+(E25-D25) -> 0 | I25: =SUM(I22)+(I23)+(I24)+(H25-G25) -> 0 | L25: =SUM(L22)+(L23)+(L24)+(K25-J25) -> 0 | O25: =SUM(O22)+(O23)+(O24)+(N25-M25) -> 0 | R25: =SUM(R22)+(R23)+(R24)+(Q25-P25) -> 0 | U25: =SUM(U22)+(U23)+(U24)+(T25-S25) -> 0 | X25: =SUM(X22)+(X23)+(X24)+(W25-V25) -> 0 | AA25: =SUM(AA22)+(AA23)+(AA24)+(Z25-Y25) -> 0 | AD25: =SUM(AD22)+(AD23)+(AD24)+(AC25-AB25) -> 0 | AG25: =SUM(AG22)+(AG23)+(AG24)+(AF25-AE25) -> 0
A26: jeudi | B26: matin | F26: =SUM(E26-D26) -> 0 | I26: =SUM(H26-G26) -> 0 | L26: =SUM(K26-J26) -> 0 | O26: =SUM(N26-M26) -> 0 | R26: =SUM(Q26-P26) -> 0 | U26: =SUM(T26-S26) -> 0 | X26: =SUM(W26-V26) -> 0 | AA26: =SUM(Z26-Y26) -> 0 | AD26: =SUM(AC26-AB26) -> 0 | AG26: =SUM(AF26-AE26) -> 0
A27: 42439 | B27: aprem | F27: =SUM(E27-D27) -> 0 | I27: =SUM(H27-G27) -> 0 | L27: =SUM(K27-J27) -> 0 | O27: =SUM(N27-M27) -> 0 | R27: =SUM(Q27-P27) -> 0 | U27: =SUM(T27-S27) -> 0 | X27: =SUM(W27-V27) -> 0 | AA27: =SUM(Z27-Y27) -> 0 | AD27: =SUM(AC27-AB27) -> 0 | AG27: =SUM(AF27-AE27) -> 0
B28: soirée | F28: =SUM(E28-D28) -> 0 | I28: =SUM(H28-G28) -> 0 | L28: =SUM(K28-J28) -> 0 | O28: =SUM(N28-M28) -> 0 | R28: =SUM(Q28-P28) -> 0 | U28: =SUM(T28-S28) -> 0 | X28: =SUM(W28-V28) -> 0 | AA28: =SUM(Z28-Y28) -> 0 | AD28: =SUM(AC28-AB28) -> 0 | AG28: =SUM(AF28-AE28) -> 0
F29: =SUM(F26)+(F27)+(F28)+(E29-D29) -> 0 | I29: =SUM(I26)+(I27)+(I28)+(H29-G29) -> 0 | L29: =SUM(L26)+(L27)+(L28)+(K29-J29) -> 0 | O29: =SUM(O26)+(O27)+(O28)+(N29-M29) -> 0 | R29: =SUM(R26)+(R27)+(R28)+(Q29-P29) -> 0 | U29: =SUM(U26)+(U27)+(U28)+(T29-S29) -> 0 | X29: =SUM(X26)+(X27)+(X28)+(W29-V29) -> 0 | AA29: =SUM(AA26)+(AA27)+(AA28)+(Z29-Y29) -> 0 | AD29: =SUM(AD26)+(AD27)+(AD28)+(AC29-AB29) -> 0 | AG29: =SUM(AG26)+(AG27)+(AG28)+(AF29-AE29) -> 0
A30: vendredi | B30: matin | F30: =SUM(E30-D30) -> 0 | I30: =SUM(H30-G30) -> 0 | L30: =SUM(K30-J30) -> 0 | O30: =SUM(N30-M30) -> 0 | R30: =SUM(Q30-P30) -> 0 | U30: =SUM(T30-S30) -> 0 | X30: =SUM(W30-V30) -> 0 | AA30: =SUM(Z30-Y30) -> 0 | AD30: =SUM(AC30-AB30) -> 0 | AG30: =SUM(AF30-AE30) -> 0
A31: 42440 | B31: aprem | F31: =SUM(E31-D31) -> 0 | I31: =SUM(H31-G31) -> 0 | L31: =SUM(K31-J31) -> 0 | O31: =SUM(N31-M31) -> 0 | R31: =SUM(Q31-P31) -> 0 | U31: =SUM(T31-S31) -> 0 | X31: =SUM(W31-V31) -> 0 | AA31: =SUM(Z31-Y31) -> 0 | AD31: =SUM(AC31-AB31) -> 0 | AG31: =SUM(AF31-AE31) -> 0
B32: soirée | F32: =SUM(E32-D32) -> 0 | I32: =SUM(H32-G32) -> 0 | L32: =SUM(K32-J32) -> 0 | O32: =SUM(N32-M32) -> 0 | R32: =SUM(Q32-P32) -> 0 | U32: =SUM(T32-S32) -> 0 | X32: =SUM(W32-V32) -> 0 | AA32: =SUM(Z32-Y32) -> 0 | AD32: =SUM(AC32-AB32) -> 0 | AG32: =SUM(AF32-AE32) -> 0
F33: =SUM(F30)+(F31)+(F32)+(E33-D33) -> 0 | I33: =SUM(I30)+(I31)+(I32)+(H33-G33) -> 0 | L33: =SUM(L30)+(L31)+(L32)+(K33-J33) -> 0 | O33: =SUM(O30)+(O31)+(O32)+(N33-M33) -> 0 | R33: =SUM(R30)+(R31)+(R32)+(Q33-P33) -> 0 | U33: =SUM(U30)+(U31)+(U32)+(T33-S33) -> 0 | X33: =SUM(X30)+(X31)+(X32)+(W33-V33) -> 0 | AA33: =SUM(AA30)+(AA31)+(AA32)+(Z33-Y33) -> 0 | AD33: =SUM(AD30)+(AD31)+(AD32)+(AC33-AB33) -> 0 | AG33: =SUM(AG30)+(AG31)+(AG32)+(AF33-AE33) -> 0
D34: =SUM(D6:D33) -> 0 | E34: =SUM(E6:E33) -> 0 | G34: =SUM(G6:G33) -> 0 | H34: =SUM(H6:H33) -> 0 | J34: =SUM(J6:J33) -> 0 | K34: =SUM(K6:K33) -> 0 | M34: =SUM(M6:M33) -> 0 | N34: =SUM(N6:N33) -> 0 | P34: =SUM(P6:P33) -> 0 | Q34: =SUM(Q6:Q33) -> 0 | S34: =SUM(S6:S33) -> 0 | T34: =SUM(T6:T33) -> 0 | V34: =SUM(V6:V33) -> 0 | W34: =SUM(W6:W33) -> 0 | Y34: =SUM(Y6:Y33) -> 0 | Z34: =SUM(Z6:Z33) -> 0 | AB34: =SUM(AB6:AB33) -> 0 | AC34: =SUM(AC6:AC33) -> 0 | AE34: =SUM(AE6:AE33) -> 0 | AF34: =SUM(AF6:AF33) -> 0
D35: =+E34-D34 -> 0 | F35: =SUM(F9+F13+F17+F21+F25+F29+F33) -> 0 | G35: =+H34-G34 -> 0 | I35: =SUM(I9+I13+I17+I21+I25+I29+I33) -> 0 | J35: =+K34-J34 -> 0 | L35: =SUM(L9+L13+L17+L21+L25+L29+L33) -> 0 | M35: =+N34-M34 -> 0 | O35: =SUM(O9+O13+O17+O21+O25+O29+O33) -> 0 | P35: =+Q34-P34 -> 0 | R35: =SUM(R9+R13+R17+R21+R25+R29+R33) -> 0 | S35: =+T34-S34 -> 0 | U35: =SUM(U9+U13+U17+U21+U25+U29+U33) -> 0 | V35: =+W34-V34 -> 0 | X35: =SUM(X9+X13+X17+X21+X25+X29+X33) -> 0 | Y35: =+Z34-Y34 -> 0 | AA35: =SUM(AA9+AA13+AA17+AA21+AA25+AA29+AA33) -> 0 | AB35: =+AC34-AB34 -> 0 | AD35: =SUM(AD9+AD13+AD17+AD21+AD25+AD29+AD33) -> 0 | AE35: =+AF34-AE34 -> 0 | AG35: =SUM(AG9+AG13+AG17+AG21+AG25+AG29+AG33) -> 0

Sheet S3
A1: =EQUiPE!A1 -> PLANNING ???? SERVICE ????? | Q1: =EQUiPE!D3 -> 12/03 au 18/05
C5: EF | D5: =EQUiPE!A4 -> staf 1 | G5: =EQUiPE!A5 -> staf 2 | J5: =EQUiPE!A6 -> staf 3 | M5: =EQUiPE!A7 -> pierre | P5: =EQUiPE!A8 -> staf 5 | S5: =EQUiPE!A9 -> staf 6 | V5: =EQUiPE!A10 -> staf 7 | Y5: =EQUiPE!A11 -> staf 8 | AB5: =EQUiPE!A12 -> staf 9 | AE5: =EQUiPE!A13 -> staf 10
A6: samedi | B6: matin | F6: =SUM(E6-D6) -> 0 | I6: =SUM(H6-G6) -> 0 | L6: =SUM(K6-J6) -> 0 | O6: =SUM(N6-M6) -> 0 | R6: =SUM(Q6-P6) -> 0 | U6: =SUM(T6-S6) -> 0 | X6: =SUM(W6-V6) -> 0 | AA6: =SUM(Z6-Y6) -> 0 | AD6: =SUM(AC6-AB6) -> 0 | AG6: =SUM(AF6-AE6) -> 0
A7: 42441 | B7: aprem | F7: =SUM(E7-D7) -> 0 | I7: =SUM(H7-G7) -> 0 | L7: =SUM(K7-J7) -> 0 | O7: =SUM(N7-M7) -> 0 | R7: =SUM(Q7-P7) -> 0 | U7: =SUM(T7-S7) -> 0 | X7: =SUM(W7-V7) -> 0 | AA7: =SUM(Z7-Y7) -> 0 | AD7: =SUM(AC7-AB7) -> 0 | AG7: =SUM(AF7-AE7) -> 0
B8: soirée | F8: =SUM(E8-D8) -> 0 | I8: =SUM(H8-G8) -> 0 | L8: =SUM(K8-J8) -> 0 | O8: =SUM(N8-M8) -> 0 | R8: =SUM(Q8-P8) -> 0 | U8: =SUM(T8-S8) -> 0 | X8: =SUM(W8-V8) -> 0 | AA8: =SUM(Z8-Y8) -> 0 | AD8: =SUM(AC8-AB8) -> 0 | AG8: =SUM(AF8-AE8) -> 0
F9: =SUM(F6)+(F7)+(F8)+(E9-D9) -> 0 | I9: =SUM(I6)+(I7)+(I8)+(H9-G9) -> 0 | L9: =SUM(L6)+(L7)+(L8)+(K9-J9) -> 0 | O9: =SUM(O6)+(O7)+(O8)+(N9-M9) -> 0 | R9: =SUM(R6)+(R7)+(R8)+(Q9-P9) -> 0 | U9: =SUM(U6)+(U7)+(U8)+(T9-S9) -> 0 | X9: =SUM(X6)+(X7)+(X8)+(W9-V9) -> 0 | AA9: =SUM(AA6)+(AA7)+(AA8)+(Z9-Y9) -> 0 | AD9: =SUM(AD6)+(AD7)+(AD8)+(AC9-AB9) -> 0 | AG9: =SUM(AG6)+(AG7)+(AG8)+(AF9-AE9) -> 0
A10: dimanche | B10: matin | F10: =SUM(E10-D10) -> 0 | I10: =SUM(H10-G10) -> 0 | L10: =SUM(K10-J10) -> 0 | O10: =SUM(N10-M10) -> 0 | R10: =SUM(Q10-P10) -> 0 | U10: =SUM(T10-S10) -> 0 | X10: =SUM(W10-V10) -> 0 | AA10: =SUM(Z10-Y10) -> 0 | AD10: =SUM(AC10-AB10) -> 0 | AG10: =SUM(AF10-AE10) -> 0
A11: 42442 | B11: aprem | F11: =SUM(E11-D11) -> 0 | I11: =SUM(H11-G11) -> 0 | L11: =SUM(K11-J11) -> 0 | O11: =SUM(N11-M11) -> 0 | R11: =SUM(Q11-P11) -> 0 | U11: =SUM(T11-S11) -> 0 | X11: =SUM(W11-V11) -> 0 | AA11: =SUM(Z11-Y11) -> 0 | AD11: =SUM(AC11-AB11) -> 0 | AG11: =SUM(AF11-AE11) -> 0
B12: soirée | F12: =SUM(E12-D12) -> 0 | I12: =SUM(H12-G12) -> 0 | L12: =SUM(K12-J12) -> 0 | O12: =SUM(N12-M12) -> 0 | R12: =SUM(Q12-P12) -> 0 | U12: =SUM(T12-S12) -> 0 | X12: =SUM(W12-V12) -> 0 | AA12: =SUM(Z12-Y12) -> 0 | AD12: =SUM(AC12-AB12) -> 0 | AG12: =SUM(AF12-AE12) -> 0
F13: =SUM(F10)+(F11)+(F12)+(E13-D13) -> 0 | I13: =SUM(I10)+(I11)+(I12)+(H13-G13) -> 0 | L13: =SUM(L10)+(L11)+(L12)+(K13-J13) -> 0 | O13: =SUM(O10)+(O11)+(O12)+(N13-M13) -> 0 | R13: =SUM(R10)+(R11)+(R12)+(Q13-P13) -> 0 | U13: =SUM(U10)+(U11)+(U12)+(T13-S13) -> 0 | X13: =SUM(X10)+(X11)+(X12)+(W13-V13) -> 0 | AA13: =SUM(AA10)+(AA11)+(AA12)+(Z13-Y13) -> 0 | AD13: =SUM(AD10)+(AD11)+(AD12)+(AC13-AB13) -> 0 | AG13: =SUM(AG10)+(AG11)+(AG12)+(AF13-AE13) -> 0
A14: lundi | B14: matin | F14: =SUM(E14-D14) -> 0 | I14: =SUM(H14-G14) -> 0 | L14: =SUM(K14-J14) -> 0 | O14: =SUM(N14-M14) -> 0 | R14: =SUM(Q14-P14) -> 0 | U14: =SUM(T14-S14) -> 0 | X14: =SUM(W14-V14) -> 0 | AA14: =SUM(Z14-Y14) -> 0 | AD14: =SUM(AC14-AB14) -> 0 | AG14: =SUM(AF14-AE14) -> 0
A15: 42443 | B15: aprem | F15: =SUM(E15-D15) -> 0 | I15: =SUM(H15-G15) -> 0 | L15: =SUM(K15-J15) -> 0 | O15: =SUM(N15-M15) -> 0 | R15: =SUM(Q15-P15) -> 0 | U15: =SUM(T15-S15) -> 0 | X15: =SUM(W15-V15) -> 0 | AA15: =SUM(Z15-Y15) -> 0 | AD15: =SUM(AC15-AB15) -> 0 | AG15: =SUM(AF15-AE15) -> 0
B16: soirée | F16: =SUM(E16-D16) -> 0 | I16: =SUM(H16-G16) -> 0 | L16: =SUM(K16-J16) -> 0 | O16: =SUM(N16-M16) -> 0 | R16: =SUM(Q16-P16) -> 0 | U16: =SUM(T16-S16) -> 0 | X16: =SUM(W16-V16) -> 0 | AA16: =SUM(Z16-Y16) -> 0 | AD16: =SUM(AC16-AB16) -> 0 | AG16: =SUM(AF16-AE16) -> 0
F17: =SUM(F14)+(F15)+(F16)+(E17-D17) -> 0 | I17: =SUM(I14)+(I15)+(I16)+(H17-G17) -> 0 | L17: =SUM(L14)+(L15)+(L16)+(K17-J17) -> 0 | O17: =SUM(O14)+(O15)+(O16)+(N17-M17) -> 0 | R17: =SUM(R14)+(R15)+(R16)+(Q17-P17) -> 0 | U17: =SUM(U14)+(U15)+(U16)+(T17-S17) -> 0 | X17: =SUM(X14)+(X15)+(X16)+(W17-V17) -> 0 | AA17: =SUM(AA14)+(AA15)+(AA16)+(Z17-Y17) -> 0 | AD17: =SUM(AD14)+(AD15)+(AD16)+(AC17-AB17) -> 0 | AG17: =SUM(AG14)+(AG15)+(AG16)+(AF17-AE17) -> 0
A18: mardi | B18: matin | F18: =SUM(E18-D18) -> 0 | I18: =SUM(H18-G18) -> 0 | L18: =SUM(K18-J18) -> 0 | O18: =SUM(N18-M18) -> 0 | R18: =SUM(Q18-P18) -> 0 | U18: =SUM(T18-S18) -> 0 | X18: =SUM(W18-V18) -> 0 | AA18: =SUM(Z18-Y18) -> 0 | AD18: =SUM(AC18-AB18) -> 0 | AG18: =SUM(AF18-AE18) -> 0
A19: 42444 | B19: aprem | F19: =SUM(E19-D19) -> 0 | I19: =SUM(H19-G19) -> 0 | L19: =SUM(K19-J19) -> 0 | O19: =SUM(N19-M19) -> 0 | R19: =SUM(Q19-P19) -> 0 | U19: =SUM(T19-S19) -> 0 | X19: =SUM(W19-V19) -> 0 | AA19: =SUM(Z19-Y19) -> 0 | AD19: =SUM(AC19-AB19) -> 0 | AG19: =SUM(AF19-AE19) -> 0
B20: soirée | F20: =SUM(E20-D20) -> 0 | I20: =SUM(H20-G20) -> 0 | L20: =SUM(K20-J20) -> 0 | O20: =SUM(N20-M20) -> 0 | R20: =SUM(Q20-P20) -> 0 | U20: =SUM(T20-S20) -> 0 | X20: =SUM(W20-V20) -> 0 | AA20: =SUM(Z20-Y20) -> 0 | AD20: =SUM(AC20-AB20) -> 0 | AG20: =SUM(AF20-AE20) -> 0
F21: =SUM(F18)+(F19)+(F20)+(E21-D21) -> 0 | I21: =SUM(I18)+(I19)+(I20)+(H21-G21) -> 0 | L21: =SUM(L18)+(L19)+(L20)+(K21-J21) -> 0 | O21: =SUM(O18)+(O19)+(O20)+(N21-M21) -> 0 | R21: =SUM(R18)+(R19)+(R20)+(Q21-P21) -> 0 | U21: =SUM(U18)+(U19)+(U20)+(T21-S21) -> 0 | X21: =SUM(X18)+(X19)+(X20)+(W21-V21) -> 0 | AA21: =SUM(AA18)+(AA19)+(AA20)+(Z21-Y21) -> 0 | AD21: =SUM(AD18)+(AD19)+(AD20)+(AC21-AB21) -> 0 | AG21: =SUM(AG18)+(AG19)+(AG20)+(AF21-AE21) -> 0
A22: mercredi | B22: matin | F22: =SUM(E22-D22) -> 0 | I22: =SUM(H22-G22) -> 0 | L22: =SUM(K22-J22) -> 0 | O22: =SUM(N22-M22) -> 0 | R22: =SUM(Q22-P22) -> 0 | U22: =SUM(T22-S22) -> 0 | X22: =SUM(W22-V22) -> 0 | AA22: =SUM(Z22-Y22) -> 0 | AD22: =SUM(AC22-AB22) -> 0 | AG22: =SUM(AF22-AE22) -> 0
A23: 42445 | B23: aprem | F23: =SUM(E23-D23) -> 0 | I23: =SUM(H23-G23) -> 0 | L23: =SUM(K23-J23) -> 0 | O23: =SUM(N23-M23) -> 0 | R23: =SUM(Q23-P23) -> 0 | U23: =SUM(T23-S23) -> 0 | X23: =SUM(W23-V23) -> 0 | AA23: =SUM(Z23-Y23) -> 0 | AD23: =SUM(AC23-AB23) -> 0 | AG23: =SUM(AF23-AE23) -> 0
B24: soirée | F24: =SUM(E24-D24) -> 0 | I24: =SUM(H24-G24) -> 0 | L24: =SUM(K24-J24) -> 0 | O24: =SUM(N24-M24) -> 0 | R24: =SUM(Q24-P24) -> 0 | U24: =SUM(T24-S24) -> 0 | X24: =SUM(W24-V24) -> 0 | AA24: =SUM(Z24-Y24) -> 0 | AD24: =SUM(AC24-AB24) -> 0 | AG24: =SUM(AF24-AE24) -> 0
F25: =SUM(F22)+(F23)+(F24)+(E25-D25) -> 0 | I25: =SUM(I22)+(I23)+(I24)+(H25-G25) -> 0 | L25: =SUM(L22)+(L23)+(L24)+(K25-J25) -> 0 | O25: =SUM(O22)+(O23)+(O24)+(N25-M25) -> 0 | R25: =SUM(R22)+(R23)+(R24)+(Q25-P25) -> 0 | U25: =SUM(U22)+(U23)+(U24)+(T25-S25) -> 0 | X25: =SUM(X22)+(X23)+(X24)+(W25-V25) -> 0 | AA25: =SUM(AA22)+(AA23)+(AA24)+(Z25-Y25) -> 0 | AD25: =SUM(AD22)+(AD23)+(AD24)+(AC25-AB25) -> 0 | AG25: =SUM(AG22)+(AG23)+(AG24)+(AF25-AE25) -> 0
A26: jeudi | B26: matin | F26: =SUM(E26-D26) -> 0 | I26: =SUM(H26-G26) -> 0 | L26: =SUM(K26-J26) -> 0 | O26: =SUM(N26-M26) -> 0 | R26: =SUM(Q26-P26) -> 0 | U26: =SUM(T26-S26) -> 0 | X26: =SUM(W26-V26) -> 0 | AA26: =SUM(Z26-Y26) -> 0 | AD26: =SUM(AC26-AB26) -> 0 | AG26: =SUM(AF26-AE26) -> 0
A27: 42446 | B27: aprem | F27: =SUM(E27-D27) -> 0 | I27: =SUM(H27-G27) -> 0 | L27: =SUM(K27-J27) -> 0 | O27: =SUM(N27-M27) -> 0 | R27: =SUM(Q27-P27) -> 0 | U27: =SUM(T27-S27) -> 0 | X27: =SUM(W27-V27) -> 0 | AA27: =SUM(Z27-Y27) -> 0 | AD27: =SUM(AC27-AB27) -> 0 | AG27: =SUM(AF27-AE27) -> 0
B28: soirée | F28: =SUM(E28-D28) -> 0 | I28: =SUM(H28-G28) -> 0 | L28: =SUM(K28-J28) -> 0 | O28: =SUM(N28-M28) -> 0 | R28: =SUM(Q28-P28) -> 0 | U28: =SUM(T28-S28) -> 0 | X28: =SUM(W28-V28) -> 0 | AA28: =SUM(Z28-Y28) -> 0 | AD28: =SUM(AC28-AB28) -> 0 | AG28: =SUM(AF28-AE28) -> 0
F29: =SUM(F26)+(F27)+(F28)+(E29-D29) -> 0 | I29: =SUM(I26)+(I27)+(I28)+(H29-G29) -> 0 | L29: =SUM(L26)+(L27)+(L28)+(K29-J29) -> 0 | O29: =SUM(O26)+(O27)+(O28)+(N29-M29) -> 0 | R29: =SUM(R26)+(R27)+(R28)+(Q29-P29) -> 0 | U29: =SUM(U26)+(U27)+(U28)+(T29-S29) -> 0 | X29: =SUM(X26)+(X27)+(X28)+(W29-V29) -> 0 | AA29: =SUM(AA26)+(AA27)+(AA28)+(Z29-Y29) -> 0 | AD29: =SUM(AD26)+(AD27)+(AD28)+(AC29-AB29) -> 0 | AG29: =SUM(AG26)+(AG27)+(AG28)+(AF29-AE29) -> 0
A30: vendredi | B30: matin | F30: =SUM(E30-D30) -> 0 | I30: =SUM(H30-G30) -> 0 | L30: =SUM(K30-J30) -> 0 | O30: =SUM(N30-M30) -> 0 | R30: =SUM(Q30-P30) -> 0 | U30: =SUM(T30-S30) -> 0 | X30: =SUM(W30-V30) -> 0 | AA30: =SUM(Z30-Y30) -> 0 | AD30: =SUM(AC30-AB30) -> 0 | AG30: =SUM(AF30-AE30) -> 0
A31: 42447 | B31: aprem | F31: =SUM(E31-D31) -> 0 | I31: =SUM(H31-G31) -> 0 | L31: =SUM(K31-J31) -> 0 | O31: =SUM(N31-M31) -> 0 | R31: =SUM(Q31-P31) -> 0 | U31: =SUM(T31-S31) -> 0 | X31: =SUM(W31-V31) -> 0 | AA31: =SUM(Z31-Y31) -> 0 | AD31: =SUM(AC31-AB31) -> 0 | AG31: =SUM(AF31-AE31) -> 0
B32: soirée | F32: =SUM(E32-D32) -> 0 | I32: =SUM(H32-G32) -> 0 | L32: =SUM(K32-J32) -> 0 | O32: =SUM(N32-M32) -> 0 | R32: =SUM(Q32-P32) -> 0 | U32: =SUM(T32-S32) -> 0 | X32: =SUM(W32-V32) -> 0 | AA32: =SUM(Z32-Y32) -> 0 | AD32: =SUM(AC32-AB32) -> 0 | AG32: =SUM(AF32-AE32) -> 0
F33: =SUM(F30)+(F31)+(F32)+(E33-D33) -> 0 | I33: =SUM(I30)+(I31)+(I32)+(H33-G33) -> 0 | L33: =SUM(L30)+(L31)+(L32)+(K33-J33) -> 0 | O33: =SUM(O30)+(O31)+(O32)+(N33-M33) -> 0 | R33: =SUM(R30)+(R31)+(R32)+(Q33-P33) -> 0 | U33: =SUM(U30)+(U31)+(U32)+(T33-S33) -> 0 | X33: =SUM(X30)+(X31)+(X32)+(W33-V33) -> 0 | AA33: =SUM(AA30)+(AA31)+(AA32)+(Z33-Y33) -> 0 | AD33: =SUM(AD30)+(AD31)+(AD32)+(AC33-AB33) -> 0 | AG33: =SUM(AG30)+(AG31)+(AG32)+(AF33-AE33) -> 0
D34: =SUM(D6:D33) -> 0 | E34: =SUM(E6:E33) -> 0 | G34: =SUM(G6:G33) -> 0 | H34: =SUM(H6:H33) -> 0 | J34: =SUM(J6:J33) -> 0 | K34: =SUM(K6:K33) -> 0 | M34: =SUM(M6:M33) -> 0 | N34: =SUM(N6:N33) -> 0 | P34: =SUM(P6:P33) -> 0 | Q34: =SUM(Q6:Q33) -> 0 | S34: =SUM(S6:S33) -> 0 | T34: =SUM(T6:T33) -> 0 | V34: =SUM(V6:V33) -> 0 | W34: =SUM(W6:W33) -> 0 | Y34: =SUM(Y6:Y33) -> 0 | Z34: =SUM(Z6:Z33) -> 0 | AB34: =SUM(AB6:AB33) -> 0 | AC34: =SUM(AC6:AC33) -> 0 | AE34: =SUM(AE6:AE33) -> 0 | AF34: =SUM(AF6:AF33) -> 0
D35: =+E34-D34 -> 0 | F35: =SUM(F9+F13+F17+F21+F25+F29+F33) -> 0 | G35: =+H34-G34 -> 0 | I35: =SUM(I9+I13+I17+I21+I25+I29+I33) -> 0 | J35: =+K34-J34 -> 0 | L35: =SUM(L9+L13+L17+L21+L25+L29+L33) -> 0 | M35: =+N34-M34 -> 0 | O35: =SUM(O9+O13+O17+O21+O25+O29+O33) -> 0 | P35: =+Q34-P34 -> 0 | R35: =SUM(R9+R13+R17+R21+R25+R29+R33) -> 0 | S35: =+T34-S34 -> 0 | U35: =SUM(U9+U13+U17+U21+U25+U29+U33) -> 0 | V35: =+W34-V34 -> 0 | X35: =SUM(X9+X13+X17+X21+X25+X29+X33) -> 0 | Y35: =+Z34-Y34 -> 0 | AA35: =SUM(AA9+AA13+AA17+AA21+AA25+AA29+AA33) -> 0 | AB35: =+AC34-AB34 -> 0 | AD35: =SUM(AD9+AD13+AD17+AD21+AD25+AD29+AD33) -> 0 | AE35: =+AF34-AE34 -> 0 | AG35: =SUM(AG33+AG29+AG25+AG17+AG21+AG13+AG9) -> 0

Sheet S4
A1: =EQUiPE!A1 -> PLANNING ???? SERVICE ????? | Q1: =EQUiPE!E3 -> 19/03 au 25/06
C5: EF | D5: =EQUiPE!A4 -> staf 1 | G5: =EQUiPE!A5 -> staf 2 | J5: =EQUiPE!A6 -> staf 3 | M5: =EQUiPE!A7 -> pierre | P5: =EQUiPE!A8 -> staf 5 | S5: =EQUiPE!A9 -> staf 6 | V5: =EQUiPE!A10 -> staf 7 | Y5: =EQUiPE!A11 -> staf 8 | AB5: =EQUiPE!A12 -> staf 9 | AE5: =EQUiPE!A13 -> staf 10
A6: samedi | B6: matin | F6: =SUM(E6-D6) -> 0 | I6: =SUM(H6-G6) -> 0 | L6: =SUM(K6-J6) -> 0 | O6: =SUM(N6-M6) -> 0 | R6: =SUM(Q6-P6) -> 0 | U6: =SUM(T6-S6) -> 0 | X6: =SUM(W6-V6) -> 0 | AA6: =SUM(Z6-Y6) -> 0 | AD6: =SUM(AC6-AB6) -> 0 | AG6: =SUM(AF6-AE6) -> 0
A7: 42448 | B7: aprem | F7: =SUM(E7-D7) -> 0 | I7: =SUM(H7-G7) -> 0 | L7: =SUM(K7-J7) -> 0 | O7: =SUM(N7-M7) -> 0 | R7: =SUM(Q7-P7) -> 0 | U7: =SUM(T7-S7) -> 0 | X7: =SUM(W7-V7) -> 0 | AA7: =SUM(Z7-Y7) -> 0 | AD7: =SUM(AC7-AB7) -> 0 | AG7: =SUM(AF7-AE7) -> 0
B8: soirée | F8: =SUM(E8-D8) -> 0 | I8: =SUM(H8-G8) -> 0 | L8: =SUM(K8-J8) -> 0 | O8: =SUM(N8-M8) -> 0 | R8: =SUM(Q8-P8) -> 0 | U8: =SUM(T8-S8) -> 0 | X8: =SUM(W8-V8) -> 0 | AA8: =SUM(Z8-Y8) -> 0 | AD8: =SUM(AC8-AB8) -> 0 | AG8: =SUM(AF8-AE8) -> 0
F9: =SUM(F6)+(F7)+(F8)+(E9-D9) -> 0 | I9: =SUM(I6)+(I7)+(I8)+(H9-G9) -> 0 | L9: =SUM(L6)+(L7)+(L8)+(K9-J9) -> 0 | O9: =SUM(O6)+(O7)+(O8)+(N9-M9) -> 0 | R9: =SUM(R6)+(R7)+(R8)+(Q9-P9) -> 0 | U9: =SUM(U6)+(U7)+(U8)+(T9-S9) -> 0 | X9: =SUM(X6)+(X7)+(X8)+(W9-V9) -> 0 | AA9: =SUM(AA6)+(AA7)+(AA8)+(Z9-Y9) -> 0 | AD9: =SUM(AD6)+(AD7)+(AD8)+(AC9-AB9) -> 0 | AG9: =SUM(AG6)+(AG7)+(AG8)+(AF9-AE9) -> 0
A10: dimanche | B10: matin | F10: =SUM(E10-D10) -> 0 | I10: =SUM(H10-G10) -> 0 | L10: =SUM(K10-J10) -> 0 | O10: =SUM(N10-M10) -> 0 | R10: =SUM(Q10-P10) -> 0 | U10: =SUM(T10-S10) -> 0 | X10: =SUM(W10-V10) -> 0 | AA10: =SUM(Z10-Y10) -> 0 | AD10: =SUM(AC10-AB10) -> 0 | AG10: =SUM(AF10-AE10) -> 0
A11: 42449 | B11: aprem | F11: =SUM(E11-D11) -> 0 | I11: =SUM(H11-G11) -> 0 | L11: =SUM(K11-J11) -> 0 | O11: =SUM(N11-M11) -> 0 | R11: =SUM(Q11-P11) -> 0 | U11: =SUM(T11-S11) -> 0 | X11: =SUM(W11-V11) -> 0 | AA11: =SUM(Z11-Y11) -> 0 | AD11: =SUM(AC11-AB11) -> 0 | AG11: =SUM(AF11-AE11) -> 0
B12: soirée | F12: =SUM(E12-D12) -> 0 | I12: =SUM(H12-G12) -> 0 | L12: =SUM(K12-J12) -> 0 | O12: =SUM(N12-M12) -> 0 | R12: =SUM(Q12-P12) -> 0 | U12: =SUM(T12-S12) -> 0 | X12: =SUM(W12-V12) -> 0 | AA12: =SUM(Z12-Y12) -> 0 | AD12: =SUM(AC12-AB12) -> 0 | AG12: =SUM(AF12-AE12) -> 0
F13: =SUM(F10)+(F11)+(F12)+(E13-D13) -> 0 | I13: =SUM(I10)+(I11)+(I12)+(H13-G13) -> 0 | L13: =SUM(L10)+(L11)+(L12)+(K13-J13) -> 0 | O13: =SUM(O10)+(O11)+(O12)+(N13-M13) -> 0 | R13: =SUM(R10)+(R11)+(R12)+(Q13-P13) -> 0 | U13: =SUM(U10)+(U11)+(U12)+(T13-S13) -> 0 | X13: =SUM(X10)+(X11)+(X12)+(W13-V13) -> 0 | AA13: =SUM(AA10)+(AA11)+(AA12)+(Z13-Y13) -> 0 | AD13: =SUM(AD10)+(AD11)+(AD12)+(AC13-AB13) -> 0 | AG13: =SUM(AG10)+(AG11)+(AG12)+(AF13-AE13) -> 0
A14: lundi | B14: matin | F14: =SUM(E14-D14) -> 0 | I14: =SUM(H14-G14) -> 0 | L14: =SUM(K14-J14) -> 0 | O14: =SUM(N14-M14) -> 0 | R14: =SUM(Q14-P14) -> 0 | U14: =SUM(T14-S14) -> 0 | X14: =SUM(W14-V14) -> 0 | AA14: =SUM(Z14-Y14) -> 0 | AD14: =SUM(AC14-AB14) -> 0 | AG14: =SUM(AF14-AE14) -> 0
A15: 42450 | B15: aprem | F15: =SUM(E15-D15) -> 0 | I15: =SUM(H15-G15) -> 0 | L15: =SUM(K15-J15) -> 0 | O15: =SUM(N15-M15) -> 0 | R15: =SUM(Q15-P15) -> 0 | U15: =SUM(T15-S15) -> 0 | X15: =SUM(W15-V15) -> 0 | AA15: =SUM(Z15-Y15) -> 0 | AD15: =SUM(AC15-AB15) -> 0 | AG15: =SUM(AF15-AE15) -> 0
B16: soirée | F16: =SUM(E16-D16) -> 0 | I16: =SUM(H16-G16) -> 0 | L16: =SUM(K16-J16) -> 0 | O16: =SUM(N16-M16) -> 0 | R16: =SUM(Q16-P16) -> 0 | U16: =SUM(T16-S16) -> 0 | X16: =SUM(W16-V16) -> 0 | AA16: =SUM(Z16-Y16) -> 0 | AD16: =SUM(AC16-AB16) -> 0 | AG16: =SUM(AF16-AE16) -> 0
F17: =SUM(F14)+(F15)+(F16)+(E17-D17) -> 0 | I17: =SUM(I14)+(I15)+(I16)+(H17-G17) -> 0 | L17: =SUM(L14)+(L15)+(L16)+(K17-J17) -> 0 | O17: =SUM(O14)+(O15)+(O16)+(N17-M17) -> 0 | R17: =SUM(R14)+(R15)+(R16)+(Q17-P17) -> 0 | U17: =SUM(U14)+(U15)+(U16)+(T17-S17) -> 0 | X17: =SUM(X14)+(X15)+(X16)+(W17-V17) -> 0 | AA17: =SUM(AA14)+(AA15)+(AA16)+(Z17-Y17) -> 0 | AD17: =SUM(AD14)+(AD15)+(AD16)+(AC17-AB17) -> 0 | AG17: =SUM(AG14)+(AG15)+(AG16)+(AF17-AE17) -> 0
A18: mardi | B18: matin | F18: =SUM(E18-D18) -> 0 | I18: =SUM(H18-G18) -> 0 | L18: =SUM(K18-J18) -> 0 | O18: =SUM(N18-M18) -> 0 | R18: =SUM(Q18-P18) -> 0 | U18: =SUM(T18-S18) -> 0 | X18: =SUM(W18-V18) -> 0 | AA18: =SUM(Z18-Y18) -> 0 | AD18: =SUM(AC18-AB18) -> 0 | AG18: =SUM(AF18-AE18) -> 0
A19: 42451 | B19: aprem | F19: =SUM(E19-D19) -> 0 | I19: =SUM(H19-G19) -> 0 | L19: =SUM(K19-J19) -> 0 | O19: =SUM(N19-M19) -> 0 | R19: =SUM(Q19-P19) -> 0 | U19: =SUM(T19-S19) -> 0 | X19: =SUM(W19-V19) -> 0 | AA19: =SUM(Z19-Y19) -> 0 | AD19: =SUM(AC19-AB19) -> 0 | AG19: =SUM(AF19-AE19) -> 0
B20: soirée | F20: =SUM(E20-D20) -> 0 | I20: =SUM(H20-G20) -> 0 | L20: =SUM(K20-J20) -> 0 | O20: =SUM(N20-M20) -> 0 | R20: =SUM(Q20-P20) -> 0 | U20: =SUM(T20-S20) -> 0 | X20: =SUM(W20-V20) -> 0 | AA20: =SUM(Z20-Y20) -> 0 | AD20: =SUM(AC20-AB20) -> 0 | AG20: =SUM(AF20-AE20) -> 0
F21: =SUM(F18)+(F19)+(F20)+(E21-D21) -> 0 | I21: =SUM(I18)+(I19)+(I20)+(H21-G21) -> 0 | L21: =SUM(L18)+(L19)+(L20)+(K21-J21) -> 0 | O21: =SUM(O18)+(O19)+(O20)+(N21-M21) -> 0 | R21: =SUM(R18)+(R19)+(R20)+(Q21-P21) -> 0 | U21: =SUM(U18)+(U19)+(U20)+(T21-S21) -> 0 | X21: =SUM(X18)+(X19)+(X20)+(W21-V21) -> 0 | AA21: =SUM(AA18)+(AA19)+(AA20)+(Z21-Y21) -> 0 | AD21: =SUM(AD18)+(AD19)+(AD20)+(AC21-AB21) -> 0 | AG21: =SUM(AG18)+(AG19)+(AG20)+(AF21-AE21) -> 0
A22: mercredi | B22: matin | F22: =SUM(E22-D22) -> 0 | I22: =SUM(H22-G22) -> 0 | L22: =SUM(K22-J22) -> 0 | O22: =SUM(N22-M22) -> 0 | R22: =SUM(Q22-P22) -> 0 | U22: =SUM(T22-S22) -> 0 | X22: =SUM(W22-V22) -> 0 | AA22: =SUM(Z22-Y22) -> 0 | AD22: =SUM(AC22-AB22) -> 0 | AG22: =SUM(AF22-AE22) -> 0
A23: 42452 | B23: aprem | F23: =SUM(E23-D23) -> 0 | I23: =SUM(H23-G23) -> 0 | L23: =SUM(K23-J23) -> 0 | O23: =SUM(N23-M23) -> 0 | R23: =SUM(Q23-P23) -> 0 | U23: =SUM(T23-S23) -> 0 | X23: =SUM(W23-V23) -> 0 | AA23: =SUM(Z23-Y23) -> 0 | AD23: =SUM(AC23-AB23) -> 0 | AG23: =SUM(AF23-AE23) -> 0
B24: soirée | F24: =SUM(E24-D24) -> 0 | I24: =SUM(H24-G24) -> 0 | L24: =SUM(K24-J24) -> 0 | O24: =SUM(N24-M24) -> 0 | R24: =SUM(Q24-P24) -> 0 | U24: =SUM(T24-S24) -> 0 | X24: =SUM(W24-V24) -> 0 | AA24: =SUM(Z24-Y24) -> 0 | AD24: =SUM(AC24-AB24) -> 0 | AG24: =SUM(AF24-AE24) -> 0
F25: =SUM(F22)+(F23)+(F24)+(E25-D25) -> 0 | I25: =SUM(I22)+(I23)+(I24)+(H25-G25) -> 0 | L25: =SUM(L22)+(L23)+(L24)+(K25-J25) -> 0 | O25: =SUM(O22)+(O23)+(O24)+(N25-M25) -> 0 | R25: =SUM(R22)+(R23)+(R24)+(Q25-P25) -> 0 | U25: =SUM(U22)+(U23)+(U24)+(T25-S25) -> 0 | X25: =SUM(X22)+(X23)+(X24)+(W25-V25) -> 0 | AA25: =SUM(AA22)+(AA23)+(AA24)+(Z25-Y25) -> 0 | AD25: =SUM(AD22)+(AD23)+(AD24)+(AC25-AB25) -> 0 | AG25: =SUM(AG22)+(AG23)+(AG24)+(AF25-AE25) -> 0
A26: jeudi | B26: matin | F26: =SUM(E26-D26) -> 0 | I26: =SUM(H26-G26) -> 0 | L26: =SUM(K26-J26) -> 0 | O26: =SUM(N26-M26) -> 0 | R26: =SUM(Q26-P26) -> 0 | U26: =SUM(T26-S26) -> 0 | X26: =SUM(W26-V26) -> 0 | AA26: =SUM(Z26-Y26) -> 0 | AD26: =SUM(AC26-AB26) -> 0 | AG26: =SUM(AF26-AE26) -> 0
A27: 42453 | B27: aprem | F27: =SUM(E27-D27) -> 0 | I27: =SUM(H27-G27) -> 0 | L27: =SUM(K27-J27) -> 0 | O27: =SUM(N27-M27) -> 0 | R27: =SUM(Q27-P27) -> 0 | U27: =SUM(T27-S27) -> 0 | X27: =SUM(W27-V27) -> 0 | AA27: =SUM(Z27-Y27) -> 0 | AD27: =SUM(AC27-AB27) -> 0 | AG27: =SUM(AF27-AE27) -> 0
B28: soirée | F28: =SUM(E28-D28) -> 0 | I28: =SUM(H28-G28) -> 0 | L28: =SUM(K28-J28) -> 0 | O28: =SUM(N28-M28) -> 0 | R28: =SUM(Q28-P28) -> 0 | U28: =SUM(T28-S28) -> 0 | X28: =SUM(W28-V28) -> 0 | AA28: =SUM(Z28-Y28) -> 0 | AD28: =SUM(AC28-AB28) -> 0 | AG28: =SUM(AF28-AE28) -> 0
F29: =SUM(F26)+(F27)+(F28)+(E29-D29) -> 0 | I29: =SUM(I26)+(I27)+(I28)+(H29-G29) -> 0 | L29: =SUM(L26)+(L27)+(L28)+(K29-J29) -> 0 | O29: =SUM(O26)+(O27)+(O28)+(N29-M29) -> 0 | R29: =SUM(R26)+(R27)+(R28)+(Q29-P29) -> 0 | U29: =SUM(U26)+(U27)+(U28)+(T29-S29) -> 0 | X29: =SUM(X26)+(X27)+(X28)+(W29-V29) -> 0 | AA29: =SUM(AA26)+(AA27)+(AA28)+(Z29-Y29) -> 0 | AD29: =SUM(AD26)+(AD27)+(AD28)+(AC29-AB29) -> 0 | AG29: =SUM(AG26)+(AG27)+(AG28)+(AF29-AE29) -> 0
A30: vendredi | B30: matin | F30: =SUM(E30-D30) -> 0 | I30: =SUM(H30-G30) -> 0 | L30: =SUM(K30-J30) -> 0 | O30: =SUM(N30-M30) -> 0 | R30: =SUM(Q30-P30) -> 0 | U30: =SUM(T30-S30) -> 0 | X30: =SUM(W30-V30) -> 0 | AA30: =SUM(Z30-Y30) -> 0 | AD30: =SUM(AC30-AB30) -> 0 | AG30: =SUM(AF30-AE30) -> 0
A31: 42454 | B31: aprem | F31: =SUM(E31-D31) -> 0 | I31: =SUM(H31-G31) -> 0 | L31: =SUM(K31-J31) -> 0 | O31: =SUM(N31-M31) -> 0 | R31: =SUM(Q31-P31) -> 0 | U31: =SUM(T31-S31) -> 0 | X31: =SUM(W31-V31) -> 0 | AA31: =SUM(Z31-Y31) -> 0 | AD31: =SUM(AC31-AB31) -> 0 | AG31: =SUM(AF31-AE31) -> 0
B32: soirée | F32: =SUM(E32-D32) -> 0 | I32: =SUM(H32-G32) -> 0 | L32: =SUM(K32-J32) -> 0 | O32: =SUM(N32-M32) -> 0 | R32: =SUM(Q32-P32) -> 0 | U32: =SUM(T32-S32) -> 0 | X32: =SUM(W32-V32) -> 0 | AA32: =SUM(Z32-Y32) -> 0 | AD32: =SUM(AC32-AB32) -> 0 | AG32: =SUM(AF32-AE32) -> 0
F33: =SUM(F30)+(F31)+(F32)+(E33-D33) -> 0 | I33: =SUM(I30)+(I31)+(I32)+(H33-G33) -> 0 | L33: =SUM(L30)+(L31)+(L32)+(K33-J33) -> 0 | O33: =SUM(O30)+(O31)+(O32)+(N33-M33) -> 0 | R33: =SUM(R30)+(R31)+(R32)+(Q33-P33) -> 0 | U33: =SUM(U30)+(U31)+(U32)+(T33-S33) -> 0 | X33: =SUM(X30)+(X31)+(X32)+(W33-V33) -> 0 | AA33: =SUM(AA30)+(AA31)+(AA32)+(Z33-Y33) -> 0 | AD33: =SUM(AD30)+(AD31)+(AD32)+(AC33-AB33) -> 0 | AG33: =SUM(AG30)+(AG31)+(AG32)+(AF33-AE33) -> 0
D34: =SUM(D6:D33) -> 0 | E34: =SUM(E6:E33) -> 0 | G34: =SUM(G6:G33) -> 0 | H34: =SUM(H6:H33) -> 0 | J34: =SUM(J6:J33) -> 0 | K34: =SUM(K6:K33) -> 0 | M34: =SUM(M6:M33) -> 0 | N34: =SUM(N6:N33) -> 0 | P34: =SUM(P6:P33) -> 0 | Q34: =SUM(Q6:Q33) -> 0 | S34: =SUM(S6:S33) -> 0 | T34: =SUM(T6:T33) -> 0 | V34: =SUM(V6:V33) -> 0 | W34: =SUM(W6:W33) -> 0 | Y34: =SUM(Y6:Y33) -> 0 | Z34: =SUM(Z6:Z33) -> 0 | AB34: =SUM(AB6:AB33) -> 0 | AC34: =SUM(AC6:AC33) -> 0 | AE34: =SUM(AE6:AE33) -> 0 | AF34: =SUM(AF6:AF33) -> 0
D35: =+E34-D34 -> 0 | F35: =SUM(F9+F13+F17+F21+F25+F29+F33) -> 0 | G35: =+H34-G34 -> 0 | I35: =SUM(I9+I13+I17+I21+I25+I29+I33) -> 0 | J35: =+K34-J34 -> 0 | L35: =SUM(L9+L13+L17+L21+L25+L29+L33) -> 0 | M35: =+N34-M34 -> 0 | O35: =SUM(O9+O13+O17+O21+O25+O29+O33) -> 0 | P35: =+Q34-P34 -> 0 | R35: =SUM(R9+R13+R17+R21+R25+R29+R33) -> 0 | S35: =+T34-S34 -> 0 | U35: =SUM(U9+U13+U17+U21+U25+U29+U33) -> 0 | V35: =+W34-V34 -> 0 | X35: =SUM(X9+X13+X17+X21+X25+X29+X33) -> 0 | Y35: =+Z34-Y34 -> 0 | AA35: =SUM(AA9+AA13+AA17+AA21+AA25+AA29+AA33) -> 0 | AB35: =+AC34-AB34 -> 0 | AD35: =SUM(AD9+AD13+AD17+AD21+AD25+AD29+AD33) -> 0 | AE35: =+AF34-AE34 -> 0 | AG35: =SUM(AG9+AG13+AG17+AG21+AG25+AG29+AG33) -> 0
