Workbook

Sheet oct nov 2024
C1: OCTOBRE | AH1: NOVEMBRE
A2: jour | B2: 30 | C2: 1 | D2: =C2+1 -> 2 | E2: =D2+1 -> 3 | F2: =E2+1 -> 4 | G2: =F2+1 -> 5 | H2: =G2+1 -> 6 | I2: =H2+1 -> 7 | J2: =I2+1 -> 8 | K2: =J2+1 -> 9 | ... Z2: =Y2+1 -> 24 | AA2: 25 | AB2: =AA2+1 -> 26 | AC2: =AB2+1 -> 27 | AD2: 28 | AE2: =AD2+1 -> 29 | AF2: =AE2+1 -> 30 | AG2: =AF2+1 -> 31 | AH2: 1 | AI2: =AH2+1 -> 2 | AJ2: =AI2+1 -> 3 | AK2: =AJ2+1 -> 4 | AL2: =AK2+1 -> 5 | AM2: =AL2+1 -> 6 | AN2: =AM2+1 -> 7 | AO2: =AN2+1 -> 8 | AP2: =AO2+1 -> 9 | ... BK2: =BJ2+1 -> 30 | BL2: 1
B3: 45565 | C3: 45566 | D3: 45567 | E3: 45568 | F3: 45569 | G3: 45570 | H3: 45571 | I3: 45572 | J3: 45573 | K3: 45574 | L3: 45575 | M3: 45576 | N3: 45577 | O3: 45578 | P3: 45579 | Q3: 45580 | R3: 45581 | S3: 45582 | T3: 45583 | U3: 45584 | V3: 45585 | W3: 45586 | X3: 45587 | Y3: 45588 | Z3: 45589 | AA3: 45590 | AB3: 45591 | AC3: 45592 | AD3: 45593 | AE3: 45594 | AF3: 45595 | AG3: 45596 | AH3: 45597 | AI3: 45598 | AJ3: 45599 | AK3: 45600 | AL3: 45601 | AM3: 45602 | AN3: 45603 | AO3: 45604 | AP3: 45605 | AQ3: 45606 | AR3: 45607 | AS3: 45608 | AT3: 45609 | AU3: 45610 | AV3: 45611 | AW3: 45612 | AX3: 45613 | AY3: 45614 | AZ3: 45615 | BA3: 45616 | BB3: 45617 | BC3: 45618 | BD3: 45619 | BE3: 45620 | BF3: 45621 | BG3: 45622 | BH3: 45623 | BI3: 45624 | BJ3: 45625 | BK3: 45626 | BL3: 45627
A4: 1 | B4: 2 | C4: 3 | D4: 4 | E4: 5 | F4: 6 | G4: 7 | H4: 8 | I4: 9 | J4: 10 | K4: 11 | L4: 12 | M4: 13 | N4: 14 | O4: 15 | P4: 16 | Q4: 17 | R4: 18 | S4: 19 | T4: 20 | U4: 21 | V4: 22 | W4: 23 | X4: 24 | Y4: 25 | Z4: 26 | AA4: 27 | AB4: 28 | AC4: 29 | AD4: 30 | AE4: 31 | AF4: 32 | AG4: 33 | AH4: 34 | AI4: 35 | AJ4: 36 | AK4: 37 | AL4: 38 | AM4: 39 | AN4: 40 | AO4: 41 | AP4: 42 | AQ4: 43 | AR4: 44 | AS4: 45 | AT4: 46 | AU4: 47 | AV4: 48 | AW4: 49 | AX4: 50 | AY4: 51 | AZ4: 52 | BA4: 53 | BB4: 54 | BC4: 55 | BD4: 56 | BE4: 57 | BF4: 58 | BG4: 59 | BH4: 60 | BI4: 61 | BJ4: 62 | BK4: 63 | BL4: 64
B5: l | C5: m | D5: m | E5: j | F5: v | G5: s | H5: d | I5: l | J5: m | K5: m | L5: j | M5: v | N5: s | O5: d | P5: l | Q5: m | R5: m | S5: j | T5: v | U5: s | V5: d | W5: l | X5: m | Y5: m | Z5: j | AA5: v | AB5: s | AC5: d | AD5: l | AE5: m | AF5: m | AG5: j | AH5: v | AI5: s | AJ5: d | AK5: l | AL5: m | AM5: m | AN5: j | AO5: v | AP5: s | AQ5: d | AR5: l | AS5: m | AT5: m | AU5: j | AV5: v | AW5: s | AX5: d | AY5: l | AZ5: m | BA5: m | BB5: j | BC5: v | BD5: s | BE5: d | BF5: l | BG5: m | BH5: m | BI5: j | BJ5: v | BK5: s | BL5: d
A6: Dominique | C6: cp | D6: cp | E6: cp | F6: cp | G6: cp | J6: 1 | K6: 1 | L6: 1 | M6: 1 | N6: 1 | Q6: 1 | R6: 1 | S6: 1 | T6: 1 | U6: 1 | X6: 1 | Y6: 1 | Z6: 1 | AA6: 1 | AB6: 1 | AE6: 1 | AF6: 1 | AG6: 1 | AI6: 1 | AL6: 1 | AM6: 1 | AN6: 1 | AO6: 1 | AP6: 1 | AS6: 1 | AT6: 1 | AU6: 1 | AV6: 1 | AW6: 1 | AZ6: 1 | BA6: 1 | BB6: 1 | BC6: 1 | BD6: 1 | BG6: 1 | BH6: 1 | BI6: 1 | BJ6: 1 | BK6: 1
A7: Léonie | C7: 1 | D7: 1 | E7: 1 | F7: 1 | G7: 1 | J7: 1 | K7: 1 | L7: 1 | M7: 1 | N7: 1 | Q7: 1 | R7: 1 | S7: 1 | T7: 1 | U7: 1 | X7: 1 | Y7: 1 | Z7: 1 | AA7: 1 | AB7: 1 | AE7: 1 | AF7: 1 | AG7: 1
A8: Gérard | C8: mal | D8: mal | E8: mal | F8: mal | G8: mal | J8: mal | K8: mal | L8: mal | M8: mal | N8: mal | Q8: mal | R8: mal | S8: mal | T8: mal | U8: mal | X8: mal | Y8: mal | Z8: mal | AA8: mal | AB8: mal | AE8: mal | AF8: mal | AG8: mal | AH8: mal | AI8: mal | AL8: mal | AM8: mal | AN8: mal | AO8: mal | AP8: mal | AS8: mal | AT8: mal | AU8: mal | AV8: mal | AW8: mal | AZ8: mal | BA8: mal | BB8: mal | BC8: mal | BD8: mal | BG8: mal | BH8: mal | BI8: mal | BJ8: mal | BK8: mal
A9: Eric | Q9: 1 | R9: 1 | S9: 1 | T9: 1 | U9: 1 | X9: 1 | Y9: 1 | Z9: 1 | AA9: 1 | AB9: 1 | AE9: 1 | AF9: 1 | AG9: 1 | AI9: 1
A10: Fabrice | C10: 1 | D10: 1 | E10: 1 | F10: cp | G10: cp | J10: 1 | K10: 1 | L10: 1 | M10: 1 | N10: 1 | Q10: 1 | R10: 1 | S10: 1 | T10: 1 | U10: 1 | X10: 1 | Y10: 1 | Z10: 1 | AA10: 1 | AB10: 1 | AE10: 1 | AF10: 1 | AG10: 1 | AI10: 1 | AL10: 1 | AM10: 1 | AN10: 1 | AO10: 1 | AP10: 1 | AS10: 1 | AT10: 1 | AU10: 1 | AV10: 1 | AW10: 1 | AZ10: 1 | BA10: 1 | BB10: 1 | BC10: 1 | BD10: 1 | BG10: 1 | BH10: 1 | BI10: 1 | BJ10: 1 | BK10: 1
A11: Rezki | B11: nr | C11: PM | D11: TY | E11: nr | F11: PM | I11: TY | J11: nr | K11: PM | L11: TY | M11: nr | P11: PM | Q11: TY | R11: nr | S11: PM | T11: TY | W11: nr | X11: PM | Y11: TY | Z11: nr | AA11: PM | AD11: TY | AE11: nr | AF11: PM | AG11: TY
A12: Adel | B12: TY | C12: nr | D12: PM | E12: TY | F12: nr | I12: PM | J12: TY | K12: nr | L12: PM | M12: q | P12: nr | Q12: PM | R12: TY | S12: nr | T12: PM | W12: TY | X12: nr | Y12: PM | Z12: TY | AA12: nr | AD12: PM | AE12: TY | AF12: nr | AG12: PM
A13: Stephen | B13: PM | C13: TY | D13: nr | E13: PM | F13: TY | I13: nr | J13: PM | K13: TY | L13: nr | M13: PM | P13: TY | Q13: nr | R13: PM | S13: TY | T13: nr | W13: PM | X13: TY | Y13: nr | Z13: PM | AA13: TY | AD13: nr | AE13: PM | AF13: TY | AG13: nr
A15: Ousman | C15: 1 | D15: 1 | E15: 1 | F15: 1 | G15: 1 | J15: 1 | K15: 1 | L15: 1 | M15: 1 | N15: 1 | Q15: 1 | R15: 1 | S15: 1 | T15: 1 | U15: 1 | X15: 1 | Y15: 1 | Z15: 1 | AA15: 1 | AB15: 1 | AE15: 1 | AF15: 1 | AG15: 1 | AI15: 1 | AL15: 1 | AM15: 1 | AN15: 1 | AO15: 1 | AP15: 1 | AS15: 1 | AT15: 1 | AU15: 1 | AV15: 1 | AW15: 1 | AZ15: 1 | BA15: 1 | BB15: 1 | BC15: 1 | BD15: 1 | BG15: 1 | BH15: 1 | BI15: 1 | BJ15: 1 | BK15: 1
A16: Sébastien | C16: 1 | D16: 1 | E16: 1 | F16: 1 | G16: 1 | J16: 1 | K16: 1 | L16: 1 | M16: 1 | N16: 1 | Q16: 1 | R16: 1 | S16: 1 | T16: 1 | U16: 1 | X16: 1 | Y16: 1 | Z16: 1 | AA16: 1 | AB16: 1 | AE16: 1 | AF16: 1 | AG16: 1 | AI16: cp | AL16: 1 | AM16: 1 | AN16: 1 | AO16: 1 | AP16: 1 | AS16: 1 | AT16: 1 | AU16: 1 | AV16: 1 | AW16: 1 | AZ16: 1 | BA16: 1 | BB16: 1 | BC16: 1 | BD16: 1 | BG16: 1 | BH16: 1 | BI16: 1 | BJ16: 1 | BK16: 1
A17: David | C17: 1 | D17: 1 | E17: 1 | F17: 1 | G17: 1 | J17: 1 | K17: 1 | L17: 1 | M17: 1 | N17: 1 | Q17: 1 | R17: 1 | S17: 1 | T17: 1 | U17: 1 | X17: 1 | Y17: 1 | Z17: 1 | AA17: 1 | AB17: 1 | AE17: 1 | AF17: 1 | AG17: 1 | AI17: 1 | AL17: 1 | AM17: 1 | AN17: 1 | AO17: 1 | AP17: 1 | AS17: 1 | AT17: 1 | AU17: 1 | AV17: 1 | AW17: 1 | AZ17: 1 | BA17: 1 | BB17: 1 | BC17: 1 | BD17: 1 | BG17: 1 | BH17: 1 | BI17: 1 | BJ17: 1 | BK17: 1
A18: Quentin | C18: 1 | D18: 1 | E18: 1 | F18: 1 | G18: 1 | J18: 1 | K18: 1 | L18: 1 | M18: Nav | N18: 0 | Q18: 1 | R18: 1 | S18: 1 | T18: 1 | U18: 1 | X18: 1 | Y18: 1 | Z18: 1 | AA18: 1 | AB18: 1 | AE18: 1 | AF18: 1 | AG18: 1 | AI18: 1 | AL18: 1 | AM18: 1 | AN18: 1 | AO18: 1 | AP18: 1 | AS18: 1 | AT18: 1 | AU18: 1 | AV18: 1 | AW18: 1 | AZ18: 1 | BA18: 1 | BB18: 1 | BC18: 1 | BD18: 1 | BG18: 1 | BH18: 1 | BI18: 1 | BJ18: 1 | BK18: 1
A19: Philippe | C19: 1 | D19: 1 | E19: 1 | F19: 1 | G19: 1 | J19: 1 | K19: 1 | L19: 1 | M19: 1 | N19: 1 | Q19: 1 | R19: 1 | S19: 1 | T19: 1 | U19: 1 | X19: 1 | Y19: 1 | Z19: 1 | AA19: 1 | AB19: 1 | AE19: 1 | AF19: 1 | AG19: 1 | AI19: 1 | AL19: 1 | AM19: 1 | AN19: 1 | AO19: 1 | AP19: 1 | AS19: 1 | AT19: 1 | AU19: 1 | AV19: 1 | AW19: 1 | AZ19: 1 | BA19: 1 | BB19: 1 | BC19: 1 | BD19: 1 | BG19: 1 | BH19: 1 | BI19: 1 | BJ19: 1 | BK19: 1
A20: Eric | C20: 1 | D20: 1 | E20: 1 | F20: 1 | G20: cp | J20: 1 | K20: 1 | L20: 1 | M20: 1 | N20: 1 | Q20: 1 | R20: 1 | S20: 1 | T20: 1 | U20: 1 | X20: 1 | Y20: 1 | Z20: 1 | AA20: 1 | AB20: 1 | AE20: 1 | AF20: 1 | AG20: 1 | AI20: 1 | AL20: 1 | AM20: 1 | AN20: 1 | AO20: 1 | AP20: 1 | AS20: 1 | AT20: 1 | AU20: 1 | AV20: 1 | AW20: 1 | AZ20: 1 | BA20: 1 | BB20: 1 | BC20: 1 | BD20: 1 | BG20: 1 | BH20: 1 | BI20: 1 | BJ20: 1 | BK20: 1
A21: J.P M | C21: 1 | D21: 1 | E21: 1 | F21: 1 | G21: 1 | J21: 1 | K21: 1 | L21: 1 | M21: 1 | N21: 1 | Q21: 1 | R21: 1 | S21: 1 | T21: 1 | U21: 1 | X21: 1 | Y21: 1 | Z21: 1 | AA21: 1 | AB21: 1 | AE21: 1 | AF21: 1 | AG21: 1 | AI21: 1 | AL21: 1 | AM21: 1 | AN21: 1 | AO21: 1 | AP21: cp | AS21: cp | AT21: 1 | AU21: 1 | AV21: 1 | AW21: 1 | AZ21: 1 | BA21: 1 | BB21: 1 | BC21: 1 | BD21: 1 | BG21: 1 | BH21: 1 | BI21: 1 | BJ21: 1 | BK21: 1
A22: Florian | C22: mal | D22: mal | E22: mal | F22: mal | G22: mal | J22: mal | K22: mal | L22: mal | M22: mal | N22: mal | Q22: mal | R22: mal | S22: mal | T22: mal | U22: mal | X22: mal | Y22: mal | Z22: mal | AA22: mal | AB22: mal | AE22: 1 | AF22: 1 | AG22: 1 | AI22: 1 | AL22: 1 | AM22: 1 | AN22: 1 | AO22: 1 | AP22: 1 | AS22: 1 | AT22: 1 | AU22: 1 | AV22: 1 | AW22: 1 | AZ22: 1 | BA22: 1 | BB22: 1 | BC22: 1 | BD22: 1 | BG22: 1 | BH22: 1 | BI22: 1 | BJ22: 1 | BK22: 1
A23: Hervé | C23: sup | D23: sup | E23: sup | F23: sup | G23: sup | J23: cse | K23: sup | L23: sup | M23: sup | N23: sup | Q23: sup | R23: sup | S23: sup | T23: ce | U23: cp | X23: sup | Y23: sup | Z23: sup | AA23: sup | AB23: sup | AE23: sup | AF23: sup | AG23: sup | AI23: sup | AL23: sup | AM23: sup | AN23: sup | AO23: sup | AP23: sup | AS23: sup | AT23: sup | AU23: sup | AV23: sup | AW23: sup | AZ23: sup | BA23: sup | BB23: sup | BC23: sup | BD23: sup | BG23: sup | BH23: sup | BI23: sup | BJ23: sup | BK23: sup
A24: JPG | C24: R1 | D24: R1 | E24: R1 | F24: R1 | G24: R1 | J24: 1 | K24: 1 | L24: 1 | M24: 1 | N24: 1 | Q24: 1 | R24: 1 | S24: 1 | T24: 1 | U24: 1 | X24: 1 | Y24: 1 | Z24: 1 | AA24: 1 | AB24: 1 | AE24: 1 | AF24: 1 | AG24: 1 | AI24: 1 | AL24: 1 | AM24: 1 | AN24: 1 | AO24: 1 | AP24: 1 | AS24: 1 | AT24: 1 | AU24: 1 | AV24: 1 | AW24: 1 | AZ24: 1 | BA24: 1 | BB24: 1 | BC24: 1 | BD24: 1 | BG24: 1 | BH24: 1 | BI24: 1 | BJ24: 1 | BK24: 1
A25: Camille | C25: 1 | D25: 1 | E25: 1 | F25: 1 | G25: cp | J25: 1 | K25: 1 | L25: 1 | M25: 1 | N25: 1 | Q25: 1 | R25: 1 | S25: 1 | T25: 1 | U25: 1 | X25: 1 | Y25: 1 | Z25: 1 | AA25: 1 | AB25: 1 | AE25: 1 | AF25: 1 | AG25: 1 | AI25: 1 | AL25: 1 | AM25: 1 | AN25: 1 | AO25: 1 | AP25: 1 | AS25: 1 | AT25: 1 | AU25: 1 | AV25: 1 | AW25: 1 | AZ25: 1 | BA25: 1 | BB25: 1 | BC25: 1 | BD25: 1 | BG25: 1 | BH25: 1 | BI25: 1 | BJ25: 1 | BK25: 1
A26: Karim | C26: 1 | D26: 1 | E26: 1 | F26: 1 | G26: 1 | J26: 1 | K26: 1 | L26: 1 | M26: 1 | N26: 1 | Q26: 1 | R26: 1 | S26: 1 | T26: 1 | U26: 1 | X26: 1 | Y26: 1 | Z26: 1 | AA26: 1 | AB26: 1 | AE26: 1 | AF26: 1 | AG26: 1 | AI26: 1 | AL26: 1 | AM26: 1 | AN26: 1 | AO26: 1 | AP26: 1 | AS26: 1 | AT26: 1 | AU26: 1 | AV26: 1 | AW26: 1 | AZ26: 1 | BA26: 1 | BB26: 1 | BC26: 1 | BD26: 1 | BG26: 1 | BH26: 1 | BI26: 1 | BJ26: 1 | BK26: 1
A27: Pascal | C27: 1 | D27: 1 | E27: 1 | F27: 1 | G27: 1 | J27: 1 | K27: 1 | L27: 1 | M27: 1 | N27: 1 | Q27: 1 | R27: 1 | S27: 1 | T27: 1 | U27: 1 | X27: 1 | Y27: 1 | Z27: 1 | AA27: 1 | AB27: 1 | AE27: 1 | AF27: 1 | AG27: 1 | AI27: 1 | AL27: 1 | AM27: 1 | AN27: 1 | AO27: 1 | AP27: 1 | AS27: 1 | AT27: 1 | AU27: 1 | AV27: 1 | AW27: 1 | AZ27: 1 | BA27: 1 | BB27: 1 | BC27: 1 | BD27: 1 | BG27: 1 | BH27: 1 | BI27: 1 | BJ27: 1 | BK27: 1
A28: Fernand | B28: q | C28: q | D28: q | E28: q | F28: q | I28: 1 | J28: 1 | K28: 1 | L28: 1 | M28: 1 | P28: 1 | Q28: 1 | R28: 1 | S28: 1 | T28: 1 | W28: cp | X28: cp | Y28: cp | Z28: cp | AA28: cp | AD28: cp | AE28: cp | AF28: cp | AG28: cp | AH28: cp | AK28: 1 | AL28: 1 | AM28: 1 | AN28: 1 | AO28: 1 | AS28: 1 | AT28: 1 | AU28: 1 | AV28: 1 | AY28: 1 | AZ28: 1 | BA28: 1 | BB28: 1 | BC28: 1 | BF28: 1 | BG28: 1 | BH28: 1 | BI28: 1 | BJ28: 1
A29: Cyril | B29: 1 | C29: 1 | D29: cp | E29: cp | F29: cp | I29: q | J29: 1 | K29: 1 | L29: 1 | M29: 1 | P29: 1 | Q29: 1 | R29: 1 | S29: 1 | T29: 1 | W29: 1 | X29: 1 | Y29: 1 | Z29: 1 | AA29: 1 | AD29: 1 | AE29: 1 | AF29: 1 | AG29: 1 | AK29: 1 | AL29: 1 | AM29: 1 | AN29: 1 | AO29: 1 | AS29: 1 | AT29: 1 | AU29: 1 | AV29: 1 | AY29: 1 | AZ29: 1 | BA29: 1 | BB29: 1 | BC29: 1 | BF29: 1 | BG29: 1 | BH29: 1 | BI29: 1 | BJ29: 1
A30: Sebastien | B30: 1 | C30: 1 | D30: 1 | E30: q | F30: 1 | I30: 1 | J30: 1 | K30: 1 | L30: 1 | M30: 1 | P30: 1 | Q30: 1 | R30: 1 | S30: 1 | T30: 1 | W30: 1 | X30: 1 | Y30: 1 | Z30: 1 | AA30: 1 | AD30: 1 | AE30: 1 | AF30: 1 | AG30: 1
A31: Alexandre G | B31: 1 | C31: 1 | D31: 1 | E31: mal | F31: mal | I31: 1 | J31: 1 | K31: 1 | L31: 1 | M31: 1 | P31: 1 | Q31: 1 | R31: 1 | S31: 1 | T31: 1 | W31: 1 | X31: 1 | Y31: 1 | Z31: 1 | AA31: 1 | AD31: 1 | AE31: 1 | AF31: 1 | AG31: 1
A32: Cédric | B32: cp | C32: 1 | D32: 1 | E32: 1 | F32: 1 | I32: 1 | J32: 1 | K32: 1 | L32: 1 | M32: 1 | P32: 1 | Q32: 1 | R32: 1 | S32: 1 | T32: 1 | W32: 1 | X32: 1 | Y32: cp | Z32: cp | AA32: cp | AD32: 1 | AE32: 1 | AF32: 1 | AG32: 1 | AK32: 1 | AL32: 1 | AM32: 1 | AN32: 1 | AO32: 1 | AS32: 1 | AT32: 1 | AU32: 1 | AV32: 1 | AY32: 1 | AZ32: 1 | BA32: 1 | BB32: 1 | BC32: 1 | BF32: 1 | BG32: 1 | BH32: 1 | BI32: 1 | BJ32: 1
A33: Mickael | B33: 1 | C33: 1 | D33: 1 | E33: 1 | F33: 1 | I33: 1 | J33: 1 | K33: 1 | L33: 1 | M33: 1 | P33: 1 | Q33: 1 | R33: 1 | S33: 1 | T33: 1 | W33: cp | X33: cp | Y33: cp | Z33: cp | AA33: cp | AD33: cp | AE33: cp | AF33: cp | AG33: cp | AK33: 1 | AL33: 1 | AM33: 1 | AN33: 1 | AO33: 1 | AS33: 1 | AT33: 1 | AU33: 1 | AV33: 1 | AY33: 1 | AZ33: 1 | BA33: 1 | BB33: 1 | BC33: 1 | BF33: 1 | BG33: 1 | BH33: 1 | BI33: 1 | BJ33: 1
A34: Manon | B34: cfa | C34: cfa | D34: cfa | E34: cfa | F34: cfa | I34: 1 | J34: 1 | K34: 1 | L34: 1 | M34: 1 | P34: cfa | Q34: cfa | R34: cfa | S34: cfa | T34: cfa | W34: cfa | X34: cfa | Y34: cfa | Z34: cfa | AA34: cfa | AD34: cfa | AE34: cfa | AF34: cfa | AG34: cfa | AK34: 1 | AL34: 1 | AM34: 1 | AN34: 1 | AO34: 1 | AR34: cfa | AS34: cfa | AT34: cfa | AU34: cfa | AV34: cfa | AY34: 1 | AZ34: 1 | BA34: 1 | BB34: 1 | BC34: 1 | BF34: cfa | BG34: cfa | BH34: cfa | BI34: cfa | BJ34: cfa
A35: Clement | B35: cfa | C35: cfa | D35: cfa | E35: cfa | F35: cfa | I35: 1 | J35: 1 | K35: 1 | L35: 1 | M35: 1 | P35: cfa | Q35: cfa | R35: cfa | S35: cfa | T35: cfa | W35: cfa | X35: cfa | Y35: cfa | Z35: cfa | AA35: cfa | AD35: cfa | AE35: cfa | AF35: cfa | AG35: cfa | AK35: 1 | AL35: 1 | AM35: 1 | AN35: 1 | AO35: 1 | AR35: cfa | AS35: cfa | AT35: cfa | AU35: cfa | AV35: cfa | AY35: 1 | AZ35: 1 | BA35: 1 | BB35: 1 | BC35: 1 | BF35: cfa | BG35: cfa | BH35: cfa | BI35: cfa | BJ35: cfa
A36: Sohel | B36: cfa | C36: cfa | D36: cfa | E36: cfa | F36: cfa | I36: 1 | J36: 1 | K36: 1 | L36: 1 | M36: 1 | P36: cfa | Q36: cfa | R36: cfa | S36: cfa | T36: cfa | W36: cfa | X36: cfa | Y36: cfa | Z36: cfa | AA36: cfa | AD36: cfa | AE36: cfa | AF36: cfa | AG36: cfa | AK36: 1 | AL36: 1 | AM36: 1 | AN36: 1 | AO36: 1 | AR36: cfa | AS36: cfa | AT36: cfa | AU36: cfa | AV36: cfa | AY36: 1 | AZ36: 1 | BA36: 1 | BB36: 1 | BC36: 1 | BF36: cfa | BG36: cfa | BH36: cfa | BI36: cfa | BJ36: cfa
A37: Amaury | B37: cfa | C37: cfa | D37: cfa | E37: cfa | F37: cfa | I37: 1 | J37: 1 | K37: 1 | L37: 1 | M37: 1 | P37: cfa | Q37: cfa | R37: cfa | S37: cfa | T37: cfa | W37: cfa | X37: cfa | Y37: cfa | Z37: cfa | AA37: cfa | AD37: cfa | AE37: cfa | AF37: cfa | AG37: cfa | AK37: 1 | AL37: 1 | AM37: 1 | AN37: 1 | AO37: 1 | AR37: cfa | AS37: cfa | AT37: cfa | AU37: cfa | AV37: cfa | AY37: 1 | AZ37: 1 | BA37: 1 | BB37: 1 | BC37: 1 | BF37: cfa | BG37: cfa | BH37: cfa | BI37: cfa | BJ37: cfa
A38: Quentin | E38: cp | R38: cp | W38: cp | X38: cp
A39: Féliciano | E39: spl | F39: spl | I39: spl
B40: =SUM(B21:B39) -> 4 | C40: =SUM(C21:C39) -> 9 | D40: =SUM(D21:D39) -> 8 | E40: =SUM(E21:E39) -> 6 | F40: =SUM(F21:F39) -> 7 | G40: =SUM(G21:G39) -> 3 | I40: =SUM(I21:I39) -> 9 | J40: =SUM(J21:J39) -> 15 | K40: =SUM(K21:K39) -> 15 | L40: =SUM(L21:L39) -> 15 | M40: =SUM(M21:M39) -> 15 | N40: =SUM(N21:N39) -> 5 | P40: =SUM(P21:P39) -> 6 | Q40: =SUM(Q21:Q39) -> 11 | R40: =SUM(R21:R39) -> 11 | S40: =SUM(S21:S39) -> 11 | T40: =SUM(T21:T39) -> 11 | U40: =SUM(U21:U39) -> 5 | W40: =SUM(W21:W39) -> 4 | X40: =SUM(X21:X39) -> 9 | Y40: =SUM(Y21:Y39) -> 8 | Z40: =SUM(Z21:Z39) -> 8 | AA40: =SUM(AA21:AA39) -> 8 | AB40: =SUM(AB21:AB39) -> 5 | AD40: =SUM(AD21:AD39) -> 4 | AE40: =SUM(AE21:AE39) -> 10 | AF40: =SUM(AF21:AF39) -> 10 | AG40: =SUM(AG21:AG39) -> 10 | AH40: =SUM(AH21:AH39) -> 0 | AI40: =SUM(AI21:AI39) -> 6 | AK40: =SUM(AK21:AK39) -> 8 | AL40: =SUM(AL21:AL39) -> 14 | AM40: =SUM(AM21:AM39) -> 14 | AN40: =SUM(AN21:AN39) -> 14 | AO40: =SUM(AO21:AO39) -> 14 | AP40: =SUM(AP21:AP39) -> 5 | AR40: =SUM(AR21:AR39) -> 0 | AS40: =SUM(AS21:AS39) -> 9 | AT40: =SUM(AT21:AT39) -> 10 | AU40: =SUM(AU21:AU39) -> 10 | AV40: =SUM(AV21:AV39) -> 10 | AW40: =SUM(AW21:AW39) -> 6 | AY40: =SUM(AY21:AY39) -> 8 | AZ40: =SUM(AZ21:AZ39) -> 14 | BA40: =SUM(BA21:BA39) -> 14 | BB40: =SUM(BB21:BB39) -> 14 | BC40: =SUM(BC21:BC39) -> 14 | BD40: =SUM(BD21:BD39) -> 6 | BE40: =SUM(BE21:BE39) -> 0 | BF40: =SUM(BF21:BF39) -> 4 | ... BK40: =SUM(BK21:BK39) -> 6

Sheet global formule
A1: Chauffeur | B1: 45446 | C1: 45447 | D1: 45448 | E1: 45449 | F1: 45450 | G1: 45451 | H1: 45452 | I1: 45453 | J1: 45454 | K1: 45455 | L1: 45456 | M1: 45457 | N1: 45458 | O1: 45459 | P1: 45460 | Q1: 45461 | R1: 45462 | S1: 45463 | T1: 45464 | U1: 45465 | V1: 45466 | W1: 45467 | X1: 45468 | Y1: 45469 | Z1: 45470 | AA1: 45471 | AB1: 45472 | AC1: 45473 | AD1: 45474 | AE1: 45475 | AF1: 45476 | AG1: 45477 | AH1: 45478 | AI1: 45479 | AJ1: 45480 | AK1: 45481 | AL1: 45482 | AM1: 45483 | AN1: 45484 | AO1: 45485 | AP1: 45486 | AQ1: 45487 | AR1: 45488 | AS1: 45489 | AT1: 45490 | AU1: 45491 | AV1: 45492 | AW1: 45493 | AX1: 45494 | AY1: 45495 | AZ1: 45496 | BA1: 45497 | BB1: 45498 | BC1: 45499 | BD1: 45500 | BE1: 45501 | BF1: 45502 | BG1: 45503 | BH1: 45504 | BI1: 45505 | BJ1: 45506 | BK1: 45507 | BL1: 45508 | BM1: 45509 | BN1: 45510 | BO1: 45511 | BP1: 45512 | BQ1: 45513 | BR1: 45514 | BS1: 45515 | BT1: 45516 | BU1: 45517 | BV1: 45518 | BW1: 45519 | BX1: 45520 | BY1: 45521 | BZ1: 45522 | CA1: 45523 | CB1: 45524 | CC1: 45525 | CD1: 45526 | CE1: 45527 | CF1: 45528 | CG1: 45529 | CH1: 45530 | CI1: 45531 | CJ1: 45532 | CK1: 45533 | CL1: 45534 | CM1: 45535 | CN1: 45536 | CO1: 45537 | CP1: 45538 | CQ1: 45539 | CR1: 45540 | CS1: 45541 | CT1: 45542 | CU1: 45543 | CV1: 45544 | CW1: 45545 | CX1: 45546 | CY1: 45547 | CZ1: 45548 | DA1: 45549 | DB1: 45550 | DC1: 45551 | DD1: 45552 | DE1: 45553 | DF1: 45554 | DG1: 45555 | DH1: 45556 | DI1: 45557 | DJ1: 45558 | DK1: 45559 | DL1: 45560 | DM1: 45561 | DN1: 45562 | DO1: 45563 | DP1: 45564 | DQ1: 45565 | DR1: 45566 | DS1: 45567 | DT1: 45568 | DU1: 45569 | DV1: 45570 | DW1: 45571 | DX1: 45572 | DY1: 45573 | DZ1: 45574 | EA1: 45575 | EB1: 45576 | EC1: 45577 | ED1: 45578 | EE1: 45579 | EF1: 45580 | EG1: 45581 | EH1: 45582 | EI1: 45583 | EJ1: 45584 | EK1: 45585 | EL1: 45586 | EM1: 45587 | EN1: 45588 | EO1: 45589 | EP1: 45590 | EQ1: 45591 | ER1: 45592 | ES1: 45593 | ET1: 45594 | EU1: 45595 | EV1: 45596 | EW1: 45597 | EX1: 45598 | EY1: 45599 | EZ1: 45600 | FA1: 45601 | FB1: 45602 | FC1: 45603 | FD1: 45604 | FE1: 45605 | FF1: 45606 | FG1: 45607 | FH1: 45608 | FI1: 45609 | FJ1: 45610 | FK1: 45611 | FL1: 45612 | FM1: 45613 | FN1: 45614 | FO1: 45615 | FP1: 45616 | FQ1: 45617 | FR1: 45618 | FS1: 45619 | FT1: 45620 | FU1: 45621 | FV1: 45622 | FW1: 45623 | FX1: 45624 | FY1: 45625 | FZ1: 45626 | GA1: 45627 | GB1: 45628 | GC1: 45629 | GD1: 45630 | GE1: 45631 | GF1: 45632 | GG1: 45633 | GH1: 45634 | GI1: 45635 | GJ1: 45636 | GK1: 45637 | GL1: 45638 | GM1: 45639 | GN1: 45640 | GO1: 45641 | GP1: 45642 | GQ1: 45643 | GR1: 45644 | GS1: 45645 | GT1: 45646 | GU1: 45647 | GV1: 45648 | GW1: 45649 | GX1: 45650 | GY1: 45651 | GZ1: 45652 | HA1: 45653 | HB1: 45654 | HC1: 45655 | HD1: 45656 | HE1: 45657
A2: 1 | B2: 2 | C2: 3 | D2: 4 | E2: 5 | F2: 6 | G2: 7 | H2: 8 | I2: 9 | J2: 10 | K2: 11 | L2: 12 | M2: 13 | N2: 14 | O2: 15 | P2: 16 | Q2: 17 | R2: 18 | S2: 19 | T2: 20 | U2: 21 | V2: 22 | W2: 23 | X2: 24 | Y2: 25 | Z2: 26 | AA2: 27 | AB2: 28 | AC2: 29 | AD2: 30 | AE2: 31 | AF2: 32 | AG2: 33 | AH2: 34 | AI2: 35 | AJ2: 36 | AK2: 37 | AL2: 38 | AM2: 39 | AN2: 40 | AO2: 41 | AP2: 42 | AQ2: 43 | AR2: 44 | AS2: 45 | AT2: 46 | AU2: 47 | AV2: 48 | AW2: 49 | AX2: 50 | AY2: 51 | AZ2: 52 | BA2: 53 | BB2: 54 | BC2: 55 | BD2: 56 | BE2: 57 | BF2: 58 | BG2: 59 | BH2: 60 | BI2: 61 | BJ2: 62 | BK2: 63 | BL2: 64 | BM2: 65 | BN2: 66 | BO2: 67 | BP2: 68 | BQ2: 69 | BR2: 70 | BS2: 71 | BT2: 72 | BU2: 73 | BV2: 74 | BW2: 75 | BX2: 76 | BY2: 77 | BZ2: 78 | CA2: 79 | CB2: 80 | CC2: 81 | CD2: 82 | CE2: 83 | CF2: 84 | CG2: 85 | CH2: 86 | CI2: 87 | CJ2: 88 | CK2: 89 | CL2: 90 | CM2: 91 | CN2: 92 | CO2: 93 | CP2: 94 | CQ2: 95 | CR2: 96 | CS2: 97 | CT2: 98 | CU2: 99 | CV2: 100 | CW2: 101 | CX2: 102 | CY2: 103 | CZ2: 104 | DA2: 105 | DB2: 106 | DC2: 107 | DD2: 108 | DE2: 109 | DF2: 110 | DG2: 111 | DH2: 112 | DI2: 113 | DJ2: 114 | DK2: 115 | DL2: 116 | DM2: 117 | DN2: 118 | DO2: 119 | DP2: 120 | DQ2: 121 | DR2: 122 | DS2: 123 | DT2: 124 | DU2: 125 | DV2: 126 | DW2: 127 | DX2: 128 | DY2: 129 | DZ2: 130 | EA2: 131 | EB2: 132 | EC2: 133 | ED2: 134 | EE2: 135 | EF2: 136 | EG2: 137 | EH2: 138 | EI2: 139 | EJ2: 140 | EK2: 141 | EL2: 142 | EM2: 143 | EN2: 144 | EO2: 145 | EP2: 146 | EQ2: 147 | ER2: 148 | ES2: 149 | ET2: 150 | EU2: 151 | EV2: 152 | EW2: 153 | EX2: 154 | EY2: 155 | EZ2: 156 | FA2: 157 | FB2: 158 | FC2: 159 | FD2: 160 | FE2: 161 | FF2: 162 | FG2: 163 | FH2: 164 | FI2: 165 | FJ2: 166 | FK2: 167 | FL2: 168 | FM2: 169 | FN2: 170 | FO2: 171 | FP2: 172 | FQ2: 173 | FR2: 174 | FS2: 175 | FT2: 176 | FU2: 177 | FV2: 178 | FW2: 179 | FX2: 180 | FY2: 181 | FZ2: 182 | GA2: 183 | GB2: 184 | GC2: 185 | GD2: 186 | GE2: 187 | GF2: 188 | GG2: 189 | GH2: 190 | GI2: 191 | GJ2: 192 | GK2: 193 | GL2: 194 | GM2: 195 | GN2: 196 | GO2: 197 | GP2: 198 | GQ2: 199 | GR2: 200 | GS2: 201 | GT2: 202 | GU2: 203 | GV2: 204 | GW2: 205 | GX2: 206 | GY2: 207 | GZ2: 208 | HA2: 209 | HB2: 210 | HC2: 211 | HD2: 212 | HE2: 213
A3: J.P M | B3: =VLOOKUP(A3,#REF!,HLOOKUP('global formule'!$B$1,#REF!,2,FALSE),FALSE) -> #REF! | C3: =VLOOKUP($A$3,#REF!,HLOOKUP('global formule'!C1,#REF!,2,FALSE),FALSE) -> #REF! | D3: =VLOOKUP($A$3,#REF!,HLOOKUP('global formule'!D1,#REF!,2,FALSE),FALSE) -> #REF! | E3: =VLOOKUP($A$3,#REF!,HLOOKUP('global formule'!E1,#REF!,2,FALSE),FALSE) -> #REF! | F3: =VLOOKUP($A$3,#REF!,HLOOKUP('global formule'!F1,#REF!,2,FALSE),FALSE) -> #REF! | G3: =VLOOKUP($A$3,#REF!,HLOOKUP('global formule'!G1,#REF!,2,FALSE),FALSE) -> #REF! | H3: =VLOOKUP($A$3,#REF!,HLOOKUP('global formule'!H1,#REF!,2,FALSE),FALSE) -> #REF! | I3: =VLOOKUP($A$3,#REF!,HLOOKUP('global formule'!I1,#REF!,2,FALSE),FALSE) -> #REF! | J3: =VLOOKUP($A$3,#REF!,HLOOKUP('global formule'!J1,#REF!,2,FALSE),FALSE) -> #REF! | ... DP3: =VLOOKUP($A$3,#REF!,HLOOKUP('global formule'!DP1,#REF!,2,FALSE),FALSE) -> #REF! | DQ3: =IFERROR(VLOOKUP($A$3,'oct nov 2024'!$A$5:$BL$44,HLOOKUP('global formule'!DQ1,'oct nov 2024'!$A$3:$BL$4,2,FALSE),FALSE),"") -> 0 | DR3: =IFERROR(VLOOKUP($A$3,'oct nov 2024'!$A$5:$BL$44,HLOOKUP('global formule'!DR1,'oct nov 2024'!$A$3:$BL$4,2,FALSE),FALSE),"") -> 1 | DS3: =IFERROR(VLOOKUP($A$3,'oct nov 2024'!$A$5:$BL$44,HLOOKUP('global formule'!DS1,'oct nov 2024'!$A$3:$BL$4,2,FALSE),FALSE),"") -> 1 | DT3: =IFERROR(VLOOKUP($A$3,'oct nov 2024'!$A$5:$BL$44,HLOOKUP('global formule'!DT1,'oct nov 2024'!$A$3:$BL$4,2,FALSE),FALSE),"") -> 1 | DU3: =IFERROR(VLOOKUP($A$3,'oct nov 2024'!$A$5:$BL$44,HLOOKUP('global formule'!DU1,'oct nov 2024'!$A$3:$BL$4,2,FALSE),FALSE),"") -> 1 | DV3: =IFERROR(VLOOKUP($A$3,'oct nov 2024'!$A$5:$BL$44,HLOOKUP('global formule'!DV1,'oct nov 2024'!$A$3:$BL$4,2,FALSE),FALSE),"") -> 1 | DW3: =IFERROR(VLOOKUP($A$3,'oct nov 2024'!$A$5:$BL$44,HLOOKUP('global formule'!DW1,'oct nov 2024'!$A$3:$BL$4,2,FALSE),FALSE),"") -> 0 | DX3: =IFERROR(VLOOKUP($A$3,'oct nov 2024'!$A$5:$BL$44,HLOOKUP('global formule'!DX1,'oct nov 2024'!$A$3:$BL$4,2,FALSE),FALSE),"") -> 0 | ... GA3: =IFERROR(VLOOKUP($A$3,'oct nov 2024'!$A$5:$BL$44,HLOOKUP('global formule'!GA1,'oct nov 2024'!$A$3:$BL$4,2,FALSE),FALSE),"") -> 0 | GB3: =IFERROR(VLOOKUP($A$3,#REF!,HLOOKUP('global formule'!GB1,#REF!,2,FALSE),FALSE),"") | GC3: =IFERROR(VLOOKUP($A$3,#REF!,HLOOKUP('global formule'!GC1,#REF!,2,FALSE),FALSE),"") | GD3: =IFERROR(VLOOKUP($A$3,#REF!,HLOOKUP('global formule'!GD1,#REF!,2,FALSE),FALSE),"") | GE3: =IFERROR(VLOOKUP($A$3,#REF!,HLOOKUP('global formule'!GE1,#REF!,2,FALSE),FALSE),"") | GF3: =IFERROR(VLOOKUP($A$3,#REF!,HLOOKUP('global formule'!GF1,#REF!,2,FALSE),FALSE),"") | GG3: =IFERROR(VLOOKUP($A$3,#REF!,HLOOKUP('global formule'!GG1,#REF!,2,FALSE),FALSE),"") | GH3: =IFERROR(VLOOKUP($A$3,#REF!,HLOOKUP('global formule'!GH1,#REF!,2,FALSE),FALSE),"") | GI3: =IFERROR(VLOOKUP($A$3,#REF!,HLOOKUP('global formule'!GI1,#REF!,2,FALSE),FALSE),"") | ... HE3: =IFERROR(VLOOKUP($A$3,#REF!,HLOOKUP('global formule'!HE1,#REF!,2,FALSE),FALSE),"")
A4: Florian | B4: =VLOOKUP($A$4,#REF!,HLOOKUP('global formule'!B1,#REF!,2,FALSE),FALSE) -> #REF! | C4: =VLOOKUP($A$4,#REF!,HLOOKUP('global formule'!C1,#REF!,2,FALSE),FALSE) -> #REF! | D4: =VLOOKUP($A$4,#REF!,HLOOKUP('global formule'!D1,#REF!,2,FALSE),FALSE) -> #REF! | E4: =VLOOKUP($A$4,#REF!,HLOOKUP('global formule'!E1,#REF!,2,FALSE),FALSE) -> #REF! | F4: =VLOOKUP($A$4,#REF!,HLOOKUP('global formule'!F1,#REF!,2,FALSE),FALSE) -> #REF! | G4: =VLOOKUP($A$4,#REF!,HLOOKUP('global formule'!G1,#REF!,2,FALSE),FALSE) -> #REF! | H4: =VLOOKUP($A$4,#REF!,HLOOKUP('global formule'!H1,#REF!,2,FALSE),FALSE) -> #REF! | I4: =VLOOKUP($A$4,#REF!,HLOOKUP('global formule'!I1,#REF!,2,FALSE),FALSE) -> #REF! | ... DP4: =VLOOKUP($A$4,#REF!,HLOOKUP('global formule'!DP1,#REF!,2,FALSE),FALSE) -> #REF! | DQ4: =IFERROR(VLOOKUP($A$4,'oct nov 2024'!$A$5:$BL$44,HLOOKUP('global formule'!DQ1,'oct nov 2024'!$A$3:$BL$4,2,FALSE),FALSE),"") -> 0 | DR4: =IFERROR(VLOOKUP($A$4,'oct nov 2024'!$A$5:$BL$44,HLOOKUP('global formule'!DR1,'oct nov 2024'!$A$3:$BL$4,2,FALSE),FALSE),"") -> mal | DS4: =IFERROR(VLOOKUP($A$4,'oct nov 2024'!$A$5:$BL$44,HLOOKUP('global formule'!DS1,'oct nov 2024'!$A$3:$BL$4,2,FALSE),FALSE),"") -> mal | DT4: =IFERROR(VLOOKUP($A$4,'oct nov 2024'!$A$5:$BL$44,HLOOKUP('global formule'!DT1,'oct nov 2024'!$A$3:$BL$4,2,FALSE),FALSE),"") -> mal | DU4: =IFERROR(VLOOKUP($A$4,'oct nov 2024'!$A$5:$BL$44,HLOOKUP('global formule'!DU1,'oct nov 2024'!$A$3:$BL$4,2,FALSE),FALSE),"") -> mal | DV4: =IFERROR(VLOOKUP($A$4,'oct nov 2024'!$A$5:$BL$44,HLOOKUP('global formule'!DV1,'oct nov 2024'!$A$3:$BL$4,2,FALSE),FALSE),"") -> mal | DW4: =IFERROR(VLOOKUP($A$4,'oct nov 2024'!$A$5:$BL$44,HLOOKUP('global formule'!DW1,'oct nov 2024'!$A$3:$BL$4,2,FALSE),FALSE),"") -> 0 | DX4: =IFERROR(VLOOKUP($A$4,'oct nov 2024'!$A$5:$BL$44,HLOOKUP('global formule'!DX1,'oct nov 2024'!$A$3:$BL$4,2,FALSE),FALSE),"") -> 0 | ... GA4: =IFERROR(VLOOKUP($A$4,'oct nov 2024'!$A$5:$BL$44,HLOOKUP('global formule'!GA1,'oct nov 2024'!$A$3:$BL$4,2,FALSE),FALSE),"") -> 0 | GB4: =IFERROR(VLOOKUP($A$4,#REF!,HLOOKUP('global formule'!GB1,#REF!,2,FALSE),FALSE),"") | GC4: =IFERROR(VLOOKUP($A$4,#REF!,HLOOKUP('global formule'!GC1,#REF!,2,FALSE),FALSE),"") | GD4: =IFERROR(VLOOKUP($A$4,#REF!,HLOOKUP('global formule'!GD1,#REF!,2,FALSE),FALSE),"") | GE4: =IFERROR(VLOOKUP($A$4,#REF!,HLOOKUP('global formule'!GE1,#REF!,2,FALSE),FALSE),"") | GF4: =IFERROR(VLOOKUP($A$4,#REF!,HLOOKUP('global formule'!GF1,#REF!,2,FALSE),FALSE),"") | GG4: =IFERROR(VLOOKUP($A$4,#REF!,HLOOKUP('global formule'!GG1,#REF!,2,FALSE),FALSE),"") | GH4: =IFERROR(VLOOKUP($A$4,#REF!,HLOOKUP('global formule'!GH1,#REF!,2,FALSE),FALSE),"") | GI4: =IFERROR(VLOOKUP($A$4,#REF!,HLOOKUP('global formule'!GI1,#REF!,2,FALSE),FALSE),"") | ... HE4: =IFERROR(VLOOKUP($A$4,#REF!,HLOOKUP('global formule'!HE1,#REF!,2,FALSE),FALSE),"")
A5: Hervé | B5: =VLOOKUP($A$5,#REF!,HLOOKUP('global formule'!B1,#REF!,2,FALSE),FALSE) -> #REF! | C5: =VLOOKUP($A$5,#REF!,HLOOKUP('global formule'!C1,#REF!,2,FALSE),FALSE) -> #REF! | D5: =VLOOKUP($A$5,#REF!,HLOOKUP('global formule'!D1,#REF!,2,FALSE),FALSE) -> #REF! | E5: =VLOOKUP($A$5,#REF!,HLOOKUP('global formule'!E1,#REF!,2,FALSE),FALSE) -> #REF! | F5: =VLOOKUP($A$5,#REF!,HLOOKUP('global formule'!F1,#REF!,2,FALSE),FALSE) -> #REF! | G5: =VLOOKUP($A$5,#REF!,HLOOKUP('global formule'!G1,#REF!,2,FALSE),FALSE) -> #REF! | H5: =VLOOKUP($A$5,#REF!,HLOOKUP('global formule'!H1,#REF!,2,FALSE),FALSE) -> #REF! | I5: =VLOOKUP($A$5,#REF!,HLOOKUP('global formule'!I1,#REF!,2,FALSE),FALSE) -> #REF! | ... DP5: =VLOOKUP($A$5,#REF!,HLOOKUP('global formule'!DP1,#REF!,2,FALSE),FALSE) -> #REF! | DQ5: =IFERROR(VLOOKUP($A$5,'oct nov 2024'!$A$5:$BL$44,HLOOKUP('global formule'!DQ1,'oct nov 2024'!$A$3:$BL$4,2,FALSE),FALSE),"") -> 0 | DR5: =IFERROR(VLOOKUP($A$5,'oct nov 2024'!$A$5:$BL$44,HLOOKUP('global formule'!DR1,'oct nov 2024'!$A$3:$BL$4,2,FALSE),FALSE),"") -> sup | DS5: =IFERROR(VLOOKUP($A$5,'oct nov 2024'!$A$5:$BL$44,HLOOKUP('global formule'!DS1,'oct nov 2024'!$A$3:$BL$4,2,FALSE),FALSE),"") -> sup | DT5: =IFERROR(VLOOKUP($A$5,'oct nov 2024'!$A$5:$BL$44,HLOOKUP('global formule'!DT1,'oct nov 2024'!$A$3:$BL$4,2,FALSE),FALSE),"") -> sup | DU5: =IFERROR(VLOOKUP($A$5,'oct nov 2024'!$A$5:$BL$44,HLOOKUP('global formule'!DU1,'oct nov 2024'!$A$3:$BL$4,2,FALSE),FALSE),"") -> sup | DV5: =IFERROR(VLOOKUP($A$5,'oct nov 2024'!$A$5:$BL$44,HLOOKUP('global formule'!DV1,'oct nov 2024'!$A$3:$BL$4,2,FALSE),FALSE),"") -> sup | DW5: =IFERROR(VLOOKUP($A$5,'oct nov 2024'!$A$5:$BL$44,HLOOKUP('global formule'!DW1,'oct nov 2024'!$A$3:$BL$4,2,FALSE),FALSE),"") -> 0 | DX5: =IFERROR(VLOOKUP($A$5,'oct nov 2024'!$A$5:$BL$44,HLOOKUP('global formule'!DX1,'oct nov 2024'!$A$3:$BL$4,2,FALSE),FALSE),"") -> 0 | ... GA5: =IFERROR(VLOOKUP($A$5,'oct nov 2024'!$A$5:$BL$44,HLOOKUP('global formule'!GA1,'oct nov 2024'!$A$3:$BL$4,2,FALSE),FALSE),"") -> 0 | GB5: =IFERROR(VLOOKUP($A$5,#REF!,HLOOKUP('global formule'!GB1,#REF!,2,FALSE),FALSE),"") | GC5: =IFERROR(VLOOKUP($A$5,#REF!,HLOOKUP('global formule'!GC1,#REF!,2,FALSE),FALSE),"") | GD5: =IFERROR(VLOOKUP($A$5,#REF!,HLOOKUP('global formule'!GD1,#REF!,2,FALSE),FALSE),"") | GE5: =IFERROR(VLOOKUP($A$5,#REF!,HLOOKUP('global formule'!GE1,#REF!,2,FALSE),FALSE),"") | GF5: =IFERROR(VLOOKUP($A$5,#REF!,HLOOKUP('global formule'!GF1,#REF!,2,FALSE),FALSE),"") | GG5: =IFERROR(VLOOKUP($A$5,#REF!,HLOOKUP('global formule'!GG1,#REF!,2,FALSE),FALSE),"") | GH5: =IFERROR(VLOOKUP($A$5,#REF!,HLOOKUP('global formule'!GH1,#REF!,2,FALSE),FALSE),"") | GI5: =IFERROR(VLOOKUP($A$5,#REF!,HLOOKUP('global formule'!GI1,#REF!,2,FALSE),FALSE),"") | ... HE5: =IFERROR(VLOOKUP($A$5,#REF!,HLOOKUP('global formule'!HE1,#REF!,2,FALSE),FALSE),"")
A6: Camille | B6: =VLOOKUP($A$6,#REF!,HLOOKUP('global formule'!B1,#REF!,2,FALSE),FALSE) -> #REF! | C6: =VLOOKUP($A$6,#REF!,HLOOKUP('global formule'!C1,#REF!,2,FALSE),FALSE) -> #REF! | D6: =VLOOKUP($A$6,#REF!,HLOOKUP('global formule'!D1,#REF!,2,FALSE),FALSE) -> #REF! | E6: =VLOOKUP($A$6,#REF!,HLOOKUP('global formule'!E1,#REF!,2,FALSE),FALSE) -> #REF! | F6: =VLOOKUP($A$6,#REF!,HLOOKUP('global formule'!F1,#REF!,2,FALSE),FALSE) -> #REF! | G6: =VLOOKUP($A$6,#REF!,HLOOKUP('global formule'!G1,#REF!,2,FALSE),FALSE) -> #REF! | H6: =VLOOKUP($A$6,#REF!,HLOOKUP('global formule'!H1,#REF!,2,FALSE),FALSE) -> #REF! | I6: =VLOOKUP($A$6,#REF!,HLOOKUP('global formule'!I1,#REF!,2,FALSE),FALSE) -> #REF! | ... DP6: =VLOOKUP($A$6,#REF!,HLOOKUP('global formule'!DP1,#REF!,2,FALSE),FALSE) -> #REF! | DQ6: =IFERROR(VLOOKUP($A$6,'oct nov 2024'!$A$5:$BL$44,HLOOKUP('global formule'!DQ1,'oct nov 2024'!$A$3:$BL$4,2,FALSE),FALSE),"") -> 0 | DR6: =IFERROR(VLOOKUP($A$6,'oct nov 2024'!$A$5:$BL$44,HLOOKUP('global formule'!DR1,'oct nov 2024'!$A$3:$BL$4,2,FALSE),FALSE),"") -> 1 | DS6: =IFERROR(VLOOKUP($A$6,'oct nov 2024'!$A$5:$BL$44,HLOOKUP('global formule'!DS1,'oct nov 2024'!$A$3:$BL$4,2,FALSE),FALSE),"") -> 1 | DT6: =IFERROR(VLOOKUP($A$6,'oct nov 2024'!$A$5:$BL$44,HLOOKUP('global formule'!DT1,'oct nov 2024'!$A$3:$BL$4,2,FALSE),FALSE),"") -> 1 | DU6: =IFERROR(VLOOKUP($A$6,'oct nov 2024'!$A$5:$BL$44,HLOOKUP('global formule'!DU1,'oct nov 2024'!$A$3:$BL$4,2,FALSE),FALSE),"") -> 1 | DV6: =IFERROR(VLOOKUP($A$6,'oct nov 2024'!$A$5:$BL$44,HLOOKUP('global formule'!DV1,'oct nov 2024'!$A$3:$BL$4,2,FALSE),FALSE),"") -> cp | DW6: =IFERROR(VLOOKUP($A$6,'oct nov 2024'!$A$5:$BL$44,HLOOKUP('global formule'!DW1,'oct nov 2024'!$A$3:$BL$4,2,FALSE),FALSE),"") -> 0 | DX6: =IFERROR(VLOOKUP($A$6,'oct nov 2024'!$A$5:$BL$44,HLOOKUP('global formule'!DX1,'oct nov 2024'!$A$3:$BL$4,2,FALSE),FALSE),"") -> 0 | ... GA6: =IFERROR(VLOOKUP($A$6,'oct nov 2024'!$A$5:$BL$44,HLOOKUP('global formule'!GA1,'oct nov 2024'!$A$3:$BL$4,2,FALSE),FALSE),"") -> 0 | GB6: =IFERROR(VLOOKUP($A$6,#REF!,HLOOKUP('global formule'!GB1,#REF!,2,FALSE),FALSE),"") | GC6: =IFERROR(VLOOKUP($A$6,#REF!,HLOOKUP('global formule'!GC1,#REF!,2,FALSE),FALSE),"") | GD6: =IFERROR(VLOOKUP($A$6,#REF!,HLOOKUP('global formule'!GD1,#REF!,2,FALSE),FALSE),"") | GE6: =IFERROR(VLOOKUP($A$6,#REF!,HLOOKUP('global formule'!GE1,#REF!,2,FALSE),FALSE),"") | GF6: =IFERROR(VLOOKUP($A$6,#REF!,HLOOKUP('global formule'!GF1,#REF!,2,FALSE),FALSE),"") | GG6: =IFERROR(VLOOKUP($A$6,#REF!,HLOOKUP('global formule'!GG1,#REF!,2,FALSE),FALSE),"") | GH6: =IFERROR(VLOOKUP($A$6,#REF!,HLOOKUP('global formule'!GH1,#REF!,2,FALSE),FALSE),"") | GI6: =IFERROR(VLOOKUP($A$6,#REF!,HLOOKUP('global formule'!GI1,#REF!,2,FALSE),FALSE),"") | ... HE6: =IFERROR(VLOOKUP($A$6,#REF!,HLOOKUP('global formule'!HE1,#REF!,2,FALSE),FALSE),"")
A7: Enzo | B7: =VLOOKUP($A$7,#REF!,HLOOKUP('global formule'!B1,#REF!,2,FALSE),FALSE) -> #REF! | C7: =VLOOKUP($A$7,#REF!,HLOOKUP('global formule'!C1,#REF!,2,FALSE),FALSE) -> #REF! | D7: =VLOOKUP($A$7,#REF!,HLOOKUP('global formule'!D1,#REF!,2,FALSE),FALSE) -> #REF! | E7: =VLOOKUP($A$7,#REF!,HLOOKUP('global formule'!E1,#REF!,2,FALSE),FALSE) -> #REF! | F7: =VLOOKUP($A$7,#REF!,HLOOKUP('global formule'!F1,#REF!,2,FALSE),FALSE) -> #REF! | G7: =VLOOKUP($A$7,#REF!,HLOOKUP('global formule'!G1,#REF!,2,FALSE),FALSE) -> #REF! | H7: =VLOOKUP($A$7,#REF!,HLOOKUP('global formule'!H1,#REF!,2,FALSE),FALSE) -> #REF! | I7: =VLOOKUP($A$7,#REF!,HLOOKUP('global formule'!I1,#REF!,2,FALSE),FALSE) -> #REF! | ... DP7: =VLOOKUP($A$7,#REF!,HLOOKUP('global formule'!DP1,#REF!,2,FALSE),FALSE) -> #REF! | DQ7: =IFERROR(VLOOKUP($A$7,'oct nov 2024'!$A$5:$BL$44,HLOOKUP('global formule'!DQ1,'oct nov 2024'!$A$3:$BL$4,2,FALSE),FALSE),"") | DR7: =IFERROR(VLOOKUP($A$7,'oct nov 2024'!$A$5:$BL$44,HLOOKUP('global formule'!DR1,'oct nov 2024'!$A$3:$BL$4,2,FALSE),FALSE),"") | DS7: =IFERROR(VLOOKUP($A$7,'oct nov 2024'!$A$5:$BL$44,HLOOKUP('global formule'!DS1,'oct nov 2024'!$A$3:$BL$4,2,FALSE),FALSE),"") | DT7: =IFERROR(VLOOKUP($A$7,'oct nov 2024'!$A$5:$BL$44,HLOOKUP('global formule'!DT1,'oct nov 2024'!$A$3:$BL$4,2,FALSE),FALSE),"") | DU7: =IFERROR(VLOOKUP($A$7,'oct nov 2024'!$A$5:$BL$44,HLOOKUP('global formule'!DU1,'oct nov 2024'!$A$3:$BL$4,2,FALSE),FALSE),"") | DV7: =IFERROR(VLOOKUP($A$7,'oct nov 2024'!$A$5:$BL$44,HLOOKUP('global formule'!DV1,'oct nov 2024'!$A$3:$BL$4,2,FALSE),FALSE),"") | DW7: =IFERROR(VLOOKUP($A$7,'oct nov 2024'!$A$5:$BL$44,HLOOKUP('global formule'!DW1,'oct nov 2024'!$A$3:$BL$4,2,FALSE),FALSE),"") | DX7: =IFERROR(VLOOKUP($A$7,'oct nov 2024'!$A$5:$BL$44,HLOOKUP('global formule'!DX1,'oct nov 2024'!$A$3:$BL$4,2,FALSE),FALSE),"") | ... GA7: =IFERROR(VLOOKUP($A$7,'oct nov 2024'!$A$5:$BL$44,HLOOKUP('global formule'!GA1,'oct nov 2024'!$A$3:$BL$4,2,FALSE),FALSE),"") | GB7: =IFERROR(VLOOKUP($A$7,#REF!,HLOOKUP('global formule'!GB1,#REF!,2,FALSE),FALSE),"") | GC7: =IFERROR(VLOOKUP($A$7,#REF!,HLOOKUP('global formule'!GC1,#REF!,2,FALSE),FALSE),"") | GD7: =IFERROR(VLOOKUP($A$7,#REF!,HLOOKUP('global formule'!GD1,#REF!,2,FALSE),FALSE),"") | GE7: =IFERROR(VLOOKUP($A$7,#REF!,HLOOKUP('global formule'!GE1,#REF!,2,FALSE),FALSE),"") | GF7: =IFERROR(VLOOKUP($A$7,#REF!,HLOOKUP('global formule'!GF1,#REF!,2,FALSE),FALSE),"") | GG7: =IFERROR(VLOOKUP($A$7,#REF!,HLOOKUP('global formule'!GG1,#REF!,2,FALSE),FALSE),"") | GH7: =IFERROR(VLOOKUP($A$7,#REF!,HLOOKUP('global formule'!GH1,#REF!,2,FALSE),FALSE),"") | GI7: =IFERROR(VLOOKUP($A$7,#REF!,HLOOKUP('global formule'!GI1,#REF!,2,FALSE),FALSE),"") | ... HE7: =IFERROR(VLOOKUP($A$7,#REF!,HLOOKUP('global formule'!HE1,#REF!,2,FALSE),FALSE),"")
A8: Kevin | B8: =VLOOKUP($A$8,#REF!,HLOOKUP('global formule'!B1,#REF!,2,FALSE),FALSE) -> #REF! | C8: =VLOOKUP($A$8,#REF!,HLOOKUP('global formule'!C1,#REF!,2,FALSE),FALSE) -> #REF! | D8: =VLOOKUP($A$8,#REF!,HLOOKUP('global formule'!D1,#REF!,2,FALSE),FALSE) -> #REF! | E8: =VLOOKUP($A$8,#REF!,HLOOKUP('global formule'!E1,#REF!,2,FALSE),FALSE) -> #REF! | F8: =VLOOKUP($A$8,#REF!,HLOOKUP('global formule'!F1,#REF!,2,FALSE),FALSE) -> #REF! | G8: =VLOOKUP($A$8,#REF!,HLOOKUP('global formule'!G1,#REF!,2,FALSE),FALSE) -> #REF! | H8: =VLOOKUP($A$8,#REF!,HLOOKUP('global formule'!H1,#REF!,2,FALSE),FALSE) -> #REF! | I8: =VLOOKUP($A$8,#REF!,HLOOKUP('global formule'!I1,#REF!,2,FALSE),FALSE) -> #REF! | ... DP8: =VLOOKUP($A$8,#REF!,HLOOKUP('global formule'!DP1,#REF!,2,FALSE),FALSE) -> #REF! | DQ8: =IFERROR(VLOOKUP($A$8,'oct nov 2024'!$A$5:$BL$44,HLOOKUP('global formule'!DQ1,'oct nov 2024'!$A$3:$BL$4,2,FALSE),FALSE),"") | DR8: =IFERROR(VLOOKUP($A$8,'oct nov 2024'!$A$5:$BL$44,HLOOKUP('global formule'!DR1,'oct nov 2024'!$A$3:$BL$4,2,FALSE),FALSE),"") | DS8: =IFERROR(VLOOKUP($A$8,'oct nov 2024'!$A$5:$BL$44,HLOOKUP('global formule'!DS1,'oct nov 2024'!$A$3:$BL$4,2,FALSE),FALSE),"") | DT8: =IFERROR(VLOOKUP($A$8,'oct nov 2024'!$A$5:$BL$44,HLOOKUP('global formule'!DT1,'oct nov 2024'!$A$3:$BL$4,2,FALSE),FALSE),"") | DU8: =IFERROR(VLOOKUP($A$8,'oct nov 2024'!$A$5:$BL$44,HLOOKUP('global formule'!DU1,'oct nov 2024'!$A$3:$BL$4,2,FALSE),FALSE),"") | DV8: =IFERROR(VLOOKUP($A$8,'oct nov 2024'!$A$5:$BL$44,HLOOKUP('global formule'!DV1,'oct nov 2024'!$A$3:$BL$4,2,FALSE),FALSE),"") | DW8: =IFERROR(VLOOKUP($A$8,'oct nov 2024'!$A$5:$BL$44,HLOOKUP('global formule'!DW1,'oct nov 2024'!$A$3:$BL$4,2,FALSE),FALSE),"") | DX8: =IFERROR(VLOOKUP($A$8,'oct nov 2024'!$A$5:$BL$44,HLOOKUP('global formule'!DX1,'oct nov 2024'!$A$3:$BL$4,2,FALSE),FALSE),"") | ... GA8: =IFERROR(VLOOKUP($A$8,'oct nov 2024'!$A$5:$BL$44,HLOOKUP('global formule'!GA1,'oct nov 2024'!$A$3:$BL$4,2,FALSE),FALSE),"") | GB8: =IFERROR(VLOOKUP($A$8,#REF!,HLOOKUP('global formule'!GB1,#REF!,2,FALSE),FALSE),"") | GC8: =IFERROR(VLOOKUP($A$8,#REF!,HLOOKUP('global formule'!GC1,#REF!,2,FALSE),FALSE),"") | GD8: =IFERROR(VLOOKUP($A$8,#REF!,HLOOKUP('global formule'!GD1,#REF!,2,FALSE),FALSE),"") | GE8: =IFERROR(VLOOKUP($A$8,#REF!,HLOOKUP('global formule'!GE1,#REF!,2,FALSE),FALSE),"") | GF8: =IFERROR(VLOOKUP($A$8,#REF!,HLOOKUP('global formule'!GF1,#REF!,2,FALSE),FALSE),"") | GG8: =IFERROR(VLOOKUP($A$8,#REF!,HLOOKUP('global formule'!GG1,#REF!,2,FALSE),FALSE),"") | GH8: =IFERROR(VLOOKUP($A$8,#REF!,HLOOKUP('global formule'!GH1,#REF!,2,FALSE),FALSE),"") | GI8: =IFERROR(VLOOKUP($A$8,#REF!,HLOOKUP('global formule'!GI1,#REF!,2,FALSE),FALSE),"") | ... HE8: =IFERROR(VLOOKUP($A$8,#REF!,HLOOKUP('global formule'!HE1,#REF!,2,FALSE),FALSE),"")
A9: JPG | B9: =IFERROR(VLOOKUP($A$9,#REF!,HLOOKUP('global formule'!B1,#REF!,2,FALSE),FALSE),"") | C9: =IFERROR(VLOOKUP($A$9,#REF!,HLOOKUP('global formule'!C1,#REF!,2,FALSE),FALSE),"") | D9: =IFERROR(VLOOKUP($A$9,#REF!,HLOOKUP('global formule'!D1,#REF!,2,FALSE),FALSE),"") | E9: =IFERROR(VLOOKUP($A$9,#REF!,HLOOKUP('global formule'!E1,#REF!,2,FALSE),FALSE),"") | F9: =IFERROR(VLOOKUP($A$9,#REF!,HLOOKUP('global formule'!F1,#REF!,2,FALSE),FALSE),"") | G9: =IFERROR(VLOOKUP($A$9,#REF!,HLOOKUP('global formule'!G1,#REF!,2,FALSE),FALSE),"") | H9: =IFERROR(VLOOKUP($A$9,#REF!,HLOOKUP('global formule'!H1,#REF!,2,FALSE),FALSE),"") | I9: =IFERROR(VLOOKUP($A$9,#REF!,HLOOKUP('global formule'!I1,#REF!,2,FALSE),FALSE),"") | ... DB9: =IFERROR(VLOOKUP($A$9,#REF!,HLOOKUP('global formule'!DB1,#REF!,2,FALSE),FALSE),"") | DC9: =VLOOKUP($A$9,#REF!,HLOOKUP('global formule'!DC1,#REF!,2,FALSE),FALSE) -> #REF! | DD9: =VLOOKUP($A$9,#REF!,HLOOKUP('global formule'!DD1,#REF!,2,FALSE),FALSE) -> #REF! | DE9: =VLOOKUP($A$9,#REF!,HLOOKUP('global formule'!DE1,#REF!,2,FALSE),FALSE) -> #REF! | DF9: =VLOOKUP($A$9,#REF!,HLOOKUP('global formule'!DF1,#REF!,2,FALSE),FALSE) -> #REF! | DG9: =VLOOKUP($A$9,#REF!,HLOOKUP('global formule'!DG1,#REF!,2,FALSE),FALSE) -> #REF! | DH9: =VLOOKUP($A$9,#REF!,HLOOKUP('global formule'!DH1,#REF!,2,FALSE),FALSE) -> #REF! | DI9: =VLOOKUP($A$9,#REF!,HLOOKUP('global formule'!DI1,#REF!,2,FALSE),FALSE) -> #REF! | DJ9: =VLOOKUP($A$9,#REF!,HLOOKUP('global formule'!DJ1,#REF!,2,FALSE),FALSE) -> #REF! | ... DP9: =VLOOKUP($A$9,#REF!,HLOOKUP('global formule'!DP1,#REF!,2,FALSE),FALSE) -> #REF! | DQ9: =IFERROR(VLOOKUP($A$9,'oct nov 2024'!$A$5:$BL$44,HLOOKUP('global formule'!DQ1,'oct nov 2024'!$A$3:$BL$4,2,FALSE),FALSE),"") -> 0 | DR9: =IFERROR(VLOOKUP($A$9,'oct nov 2024'!$A$5:$BL$44,HLOOKUP('global formule'!DR1,'oct nov 2024'!$A$3:$BL$4,2,FALSE),FALSE),"") -> R1 | DS9: =IFERROR(VLOOKUP($A$9,'oct nov 2024'!$A$5:$BL$44,HLOOKUP('global formule'!DS1,'oct nov 2024'!$A$3:$BL$4,2,FALSE),FALSE),"") -> R1 | DT9: =IFERROR(VLOOKUP($A$9,'oct nov 2024'!$A$5:$BL$44,HLOOKUP('global formule'!DT1,'oct nov 2024'!$A$3:$BL$4,2,FALSE),FALSE),"") -> R1 | DU9: =IFERROR(VLOOKUP($A$9,'oct nov 2024'!$A$5:$BL$44,HLOOKUP('global formule'!DU1,'oct nov 2024'!$A$3:$BL$4,2,FALSE),FALSE),"") -> R1 | DV9: =IFERROR(VLOOKUP($A$9,'oct nov 2024'!$A$5:$BL$44,HLOOKUP('global formule'!DV1,'oct nov 2024'!$A$3:$BL$4,2,FALSE),FALSE),"") -> R1 | DW9: =IFERROR(VLOOKUP($A$9,'oct nov 2024'!$A$5:$BL$44,HLOOKUP('global formule'!DW1,'oct nov 2024'!$A$3:$BL$4,2,FALSE),FALSE),"") -> 0 | DX9: =IFERROR(VLOOKUP($A$9,'oct nov 2024'!$A$5:$BL$44,HLOOKUP('global formule'!DX1,'oct nov 2024'!$A$3:$BL$4,2,FALSE),FALSE),"") -> 0 | ... GA9: =IFERROR(VLOOKUP($A$9,'oct nov 2024'!$A$5:$BL$44,HLOOKUP('global formule'!GA1,'oct nov 2024'!$A$3:$BL$4,2,FALSE),FALSE),"") -> 0 | GB9: =IFERROR(VLOOKUP($A$9,#REF!,HLOOKUP('global formule'!GB1,#REF!,2,FALSE),FALSE),"") | GC9: =IFERROR(VLOOKUP($A$9,#REF!,HLOOKUP('global formule'!GC1,#REF!,2,FALSE),FALSE),"") | GD9: =IFERROR(VLOOKUP($A$9,#REF!,HLOOKUP('global formule'!GD1,#REF!,2,FALSE),FALSE),"") | GE9: =IFERROR(VLOOKUP($A$9,#REF!,HLOOKUP('global formule'!GE1,#REF!,2,FALSE),FALSE),"") | GF9: =IFERROR(VLOOKUP($A$9,#REF!,HLOOKUP('global formule'!GF1,#REF!,2,FALSE),FALSE),"") | GG9: =IFERROR(VLOOKUP($A$9,#REF!,HLOOKUP('global formule'!GG1,#REF!,2,FALSE),FALSE),"") | GH9: =IFERROR(VLOOKUP($A$9,#REF!,HLOOKUP('global formule'!GH1,#REF!,2,FALSE),FALSE),"") | GI9: =IFERROR(VLOOKUP($A$9,#REF!,HLOOKUP('global formule'!GI1,#REF!,2,FALSE),FALSE),"") | ... HE9: =IFERROR(VLOOKUP($A$9,#REF!,HLOOKUP('global formule'!HE1,#REF!,2,FALSE),FALSE),"")
A10: Karim | B10: =VLOOKUP($A$10,#REF!,HLOOKUP('global formule'!B1,#REF!,2,FALSE),FALSE) -> #REF! | C10: =VLOOKUP($A$10,#REF!,HLOOKUP('global formule'!C1,#REF!,2,FALSE),FALSE) -> #REF! | D10: =VLOOKUP($A$10,#REF!,HLOOKUP('global formule'!D1,#REF!,2,FALSE),FALSE) -> #REF! | E10: =VLOOKUP($A$10,#REF!,HLOOKUP('global formule'!E1,#REF!,2,FALSE),FALSE) -> #REF! | F10: =VLOOKUP($A$10,#REF!,HLOOKUP('global formule'!F1,#REF!,2,FALSE),FALSE) -> #REF! | G10: =VLOOKUP($A$10,#REF!,HLOOKUP('global formule'!G1,#REF!,2,FALSE),FALSE) -> #REF! | H10: =VLOOKUP($A$10,#REF!,HLOOKUP('global formule'!H1,#REF!,2,FALSE),FALSE) -> #REF! | I10: =VLOOKUP($A$10,#REF!,HLOOKUP('global formule'!I1,#REF!,2,FALSE),FALSE) -> #REF! | ... DP10: =VLOOKUP($A$10,#REF!,HLOOKUP('global formule'!DP1,#REF!,2,FALSE),FALSE) -> #REF! | DQ10: =IFERROR(VLOOKUP($A$10,'oct nov 2024'!$A$5:$BL$44,HLOOKUP('global formule'!DQ1,'oct nov 2024'!$A$3:$BL$4,2,FALSE),FALSE),"") -> 0 | DR10: =IFERROR(VLOOKUP($A$10,'oct nov 2024'!$A$5:$BL$44,HLOOKUP('global formule'!DR1,'oct nov 2024'!$A$3:$BL$4,2,FALSE),FALSE),"") -> 1 | DS10: =IFERROR(VLOOKUP($A$10,'oct nov 2024'!$A$5:$BL$44,HLOOKUP('global formule'!DS1,'oct nov 2024'!$A$3:$BL$4,2,FALSE),FALSE),"") -> 1 | DT10: =IFERROR(VLOOKUP($A$10,'oct nov 2024'!$A$5:$BL$44,HLOOKUP('global formule'!DT1,'oct nov 2024'!$A$3:$BL$4,2,FALSE),FALSE),"") -> 1 | DU10: =IFERROR(VLOOKUP($A$10,'oct nov 2024'!$A$5:$BL$44,HLOOKUP('global formule'!DU1,'oct nov 2024'!$A$3:$BL$4,2,FALSE),FALSE),"") -> 1 | DV10: =IFERROR(VLOOKUP($A$10,'oct nov 2024'!$A$5:$BL$44,HLOOKUP('global formule'!DV1,'oct nov 2024'!$A$3:$BL$4,2,FALSE),FALSE),"") -> 1 | DW10: =IFERROR(VLOOKUP($A$10,'oct nov 2024'!$A$5:$BL$44,HLOOKUP('global formule'!DW1,'oct nov 2024'!$A$3:$BL$4,2,FALSE),FALSE),"") -> 0 | DX10: =IFERROR(VLOOKUP($A$10,'oct nov 2024'!$A$5:$BL$44,HLOOKUP('global formule'!DX1,'oct nov 2024'!$A$3:$BL$4,2,FALSE),FALSE),"") -> 0 | ... GA10: =IFERROR(VLOOKUP($A$10,'oct nov 2024'!$A$5:$BL$44,HLOOKUP('global formule'!GA1,'oct nov 2024'!$A$3:$BL$4,2,FALSE),FALSE),"") -> 0 | GB10: =IFERROR(VLOOKUP($A$10,#REF!,HLOOKUP('global formule'!GB1,#REF!,2,FALSE),FALSE),"") | GC10: =IFERROR(VLOOKUP($A$10,#REF!,HLOOKUP('global formule'!GC1,#REF!,2,FALSE),FALSE),"") | GD10: =IFERROR(VLOOKUP($A$10,#REF!,HLOOKUP('global formule'!GD1,#REF!,2,FALSE),FALSE),"") | GE10: =IFERROR(VLOOKUP($A$10,#REF!,HLOOKUP('global formule'!GE1,#REF!,2,FALSE),FALSE),"") | GF10: =IFERROR(VLOOKUP($A$10,#REF!,HLOOKUP('global formule'!GF1,#REF!,2,FALSE),FALSE),"") | GG10: =IFERROR(VLOOKUP($A$10,#REF!,HLOOKUP('global formule'!GG1,#REF!,2,FALSE),FALSE),"") | GH10: =IFERROR(VLOOKUP($A$10,#REF!,HLOOKUP('global formule'!GH1,#REF!,2,FALSE),FALSE),"") | GI10: =IFERROR(VLOOKUP($A$10,#REF!,HLOOKUP('global formule'!GI1,#REF!,2,FALSE),FALSE),"") | ... HE10: =IFERROR(VLOOKUP($A$10,#REF!,HLOOKUP('global formule'!HE1,#REF!,2,FALSE),FALSE),"")
A11: Cyril | B11: =VLOOKUP($A$11,#REF!,HLOOKUP('global formule'!B1,#REF!,2,FALSE),FALSE) -> #REF! | C11: =VLOOKUP($A$11,#REF!,HLOOKUP('global formule'!C1,#REF!,2,FALSE),FALSE) -> #REF! | D11: =VLOOKUP($A$11,#REF!,HLOOKUP('global formule'!D1,#REF!,2,FALSE),FALSE) -> #REF! | E11: =VLOOKUP($A$11,#REF!,HLOOKUP('global formule'!E1,#REF!,2,FALSE),FALSE) -> #REF! | F11: =VLOOKUP($A$11,#REF!,HLOOKUP('global formule'!F1,#REF!,2,FALSE),FALSE) -> #REF! | G11: =VLOOKUP($A$11,#REF!,HLOOKUP('global formule'!G1,#REF!,2,FALSE),FALSE) -> #REF! | H11: =VLOOKUP($A$11,#REF!,HLOOKUP('global formule'!H1,#REF!,2,FALSE),FALSE) -> #REF! | I11: =VLOOKUP($A$11,#REF!,HLOOKUP('global formule'!I1,#REF!,2,FALSE),FALSE) -> #REF! | ... DP11: =VLOOKUP($A$11,#REF!,HLOOKUP('global formule'!DP1,#REF!,2,FALSE),FALSE) -> #REF! | DQ11: =IFERROR(VLOOKUP($A$11,'oct nov 2024'!$A$5:$BL$44,HLOOKUP('global formule'!DQ1,'oct nov 2024'!$A$3:$BL$4,2,FALSE),FALSE),"") -> 1 | DR11: =IFERROR(VLOOKUP($A$11,'oct nov 2024'!$A$5:$BL$44,HLOOKUP('global formule'!DR1,'oct nov 2024'!$A$3:$BL$4,2,FALSE),FALSE),"") -> 1 | DS11: =IFERROR(VLOOKUP($A$11,'oct nov 2024'!$A$5:$BL$44,HLOOKUP('global formule'!DS1,'oct nov 2024'!$A$3:$BL$4,2,FALSE),FALSE),"") -> cp | DT11: =IFERROR(VLOOKUP($A$11,'oct nov 2024'!$A$5:$BL$44,HLOOKUP('global formule'!DT1,'oct nov 2024'!$A$3:$BL$4,2,FALSE),FALSE),"") -> cp | DU11: =IFERROR(VLOOKUP($A$11,'oct nov 2024'!$A$5:$BL$44,HLOOKUP('global formule'!DU1,'oct nov 2024'!$A$3:$BL$4,2,FALSE),FALSE),"") -> cp | DV11: =IFERROR(VLOOKUP($A$11,'oct nov 2024'!$A$5:$BL$44,HLOOKUP('global formule'!DV1,'oct nov 2024'!$A$3:$BL$4,2,FALSE),FALSE),"") -> 0 | DW11: =IFERROR(VLOOKUP($A$11,'oct nov 2024'!$A$5:$BL$44,HLOOKUP('global formule'!DW1,'oct nov 2024'!$A$3:$BL$4,2,FALSE),FALSE),"") -> 0 | DX11: =IFERROR(VLOOKUP($A$11,'oct nov 2024'!$A$5:$BL$44,HLOOKUP('global formule'!DX1,'oct nov 2024'!$A$3:$BL$4,2,FALSE),FALSE),"") -> q | ... GA11: =IFERROR(VLOOKUP($A$11,'oct nov 2024'!$A$5:$BL$44,HLOOKUP('global formule'!GA1,'oct nov 2024'!$A$3:$BL$4,2,FALSE),FALSE),"") -> 0 | GB11: =IFERROR(VLOOKUP($A$11,#REF!,HLOOKUP('global formule'!GB1,#REF!,2,FALSE),FALSE),"") | GC11: =IFERROR(VLOOKUP($A$11,#REF!,HLOOKUP('global formule'!GC1,#REF!,2,FALSE),FALSE),"") | GD11: =IFERROR(VLOOKUP($A$11,#REF!,HLOOKUP('global formule'!GD1,#REF!,2,FALSE),FALSE),"") | GE11: =IFERROR(VLOOKUP($A$11,#REF!,HLOOKUP('global formule'!GE1,#REF!,2,FALSE),FALSE),"") | GF11: =IFERROR(VLOOKUP($A$11,#REF!,HLOOKUP('global formule'!GF1,#REF!,2,FALSE),FALSE),"") | GG11: =IFERROR(VLOOKUP($A$11,#REF!,HLOOKUP('global formule'!GG1,#REF!,2,FALSE),FALSE),"") | GH11: =IFERROR(VLOOKUP($A$11,#REF!,HLOOKUP('global formule'!GH1,#REF!,2,FALSE),FALSE),"") | GI11: =IFERROR(VLOOKUP($A$11,#REF!,HLOOKUP('global formule'!GI1,#REF!,2,FALSE),FALSE),"") | ... HE11: =IFERROR(VLOOKUP($A$11,#REF!,HLOOKUP('global formule'!HE1,#REF!,2,FALSE),FALSE),"")
A12: Cédric | B12: =VLOOKUP($A$12,#REF!,HLOOKUP('global formule'!B1,#REF!,2,FALSE),FALSE) -> #REF! | C12: =VLOOKUP($A$12,#REF!,HLOOKUP('global formule'!C1,#REF!,2,FALSE),FALSE) -> #REF! | D12: =VLOOKUP($A$12,#REF!,HLOOKUP('global formule'!D1,#REF!,2,FALSE),FALSE) -> #REF! | E12: =VLOOKUP($A$12,#REF!,HLOOKUP('global formule'!E1,#REF!,2,FALSE),FALSE) -> #REF! | F12: =VLOOKUP($A$12,#REF!,HLOOKUP('global formule'!F1,#REF!,2,FALSE),FALSE) -> #REF! | G12: =VLOOKUP($A$12,#REF!,HLOOKUP('global formule'!G1,#REF!,2,FALSE),FALSE) -> #REF! | H12: =VLOOKUP($A$12,#REF!,HLOOKUP('global formule'!H1,#REF!,2,FALSE),FALSE) -> #REF! | I12: =VLOOKUP($A$12,#REF!,HLOOKUP('global formule'!I1,#REF!,2,FALSE),FALSE) -> #REF! | ... DP12: =VLOOKUP($A$12,#REF!,HLOOKUP('global formule'!DP1,#REF!,2,FALSE),FALSE) -> #REF! | DQ12: =IFERROR(VLOOKUP($A$12,'oct nov 2024'!$A$5:$BL$44,HLOOKUP('global formule'!DQ1,'oct nov 2024'!$A$3:$BL$4,2,FALSE),FALSE),"") -> cp | DR12: =IFERROR(VLOOKUP($A$12,'oct nov 2024'!$A$5:$BL$44,HLOOKUP('global formule'!DR1,'oct nov 2024'!$A$3:$BL$4,2,FALSE),FALSE),"") -> 1 | DS12: =IFERROR(VLOOKUP($A$12,'oct nov 2024'!$A$5:$BL$44,HLOOKUP('global formule'!DS1,'oct nov 2024'!$A$3:$BL$4,2,FALSE),FALSE),"") -> 1 | DT12: =IFERROR(VLOOKUP($A$12,'oct nov 2024'!$A$5:$BL$44,HLOOKUP('global formule'!DT1,'oct nov 2024'!$A$3:$BL$4,2,FALSE),FALSE),"") -> 1 | DU12: =IFERROR(VLOOKUP($A$12,'oct nov 2024'!$A$5:$BL$44,HLOOKUP('global formule'!DU1,'oct nov 2024'!$A$3:$BL$4,2,FALSE),FALSE),"") -> 1 | DV12: =IFERROR(VLOOKUP($A$12,'oct nov 2024'!$A$5:$BL$44,HLOOKUP('global formule'!DV1,'oct nov 2024'!$A$3:$BL$4,2,FALSE),FALSE),"") -> 0 | DW12: =IFERROR(VLOOKUP($A$12,'oct nov 2024'!$A$5:$BL$44,HLOOKUP('global formule'!DW1,'oct nov 2024'!$A$3:$BL$4,2,FALSE),FALSE),"") -> 0 | DX12: =IFERROR(VLOOKUP($A$12,'oct nov 2024'!$A$5:$BL$44,HLOOKUP('global formule'!DX1,'oct nov 2024'!$A$3:$BL$4,2,FALSE),FALSE),"") -> 1 | ... GA12: =IFERROR(VLOOKUP($A$12,'oct nov 2024'!$A$5:$BL$44,HLOOKUP('global formule'!GA1,'oct nov 2024'!$A$3:$BL$4,2,FALSE),FALSE),"") -> 0 | GB12: =IFERROR(VLOOKUP($A$12,#REF!,HLOOKUP('global formule'!GB1,#REF!,2,FALSE),FALSE),"") | GC12: =IFERROR(VLOOKUP($A$12,#REF!,HLOOKUP('global formule'!GC1,#REF!,2,FALSE),FALSE),"") | GD12: =IFERROR(VLOOKUP($A$12,#REF!,HLOOKUP('global formule'!GD1,#REF!,2,FALSE),FALSE),"") | GE12: =IFERROR(VLOOKUP($A$12,#REF!,HLOOKUP('global formule'!GE1,#REF!,2,FALSE),FALSE),"") | GF12: =IFERROR(VLOOKUP($A$12,#REF!,HLOOKUP('global formule'!GF1,#REF!,2,FALSE),FALSE),"") | GG12: =IFERROR(VLOOKUP($A$12,#REF!,HLOOKUP('global formule'!GG1,#REF!,2,FALSE),FALSE),"") | GH12: =IFERROR(VLOOKUP($A$12,#REF!,HLOOKUP('global formule'!GH1,#REF!,2,FALSE),FALSE),"") | GI12: =IFERROR(VLOOKUP($A$12,#REF!,HLOOKUP('global formule'!GI1,#REF!,2,FALSE),FALSE),"") | ... HE12: =IFERROR(VLOOKUP($A$12,#REF!,HLOOKUP('global formule'!HE1,#REF!,2,FALSE),FALSE),"")
A13: Mickael | B13: =VLOOKUP($A$13,#REF!,HLOOKUP('global formule'!B1,#REF!,2,FALSE),FALSE) -> #REF! | C13: =VLOOKUP($A$13,#REF!,HLOOKUP('global formule'!C1,#REF!,2,FALSE),FALSE) -> #REF! | D13: =VLOOKUP($A$13,#REF!,HLOOKUP('global formule'!D1,#REF!,2,FALSE),FALSE) -> #REF! | E13: =VLOOKUP($A$13,#REF!,HLOOKUP('global formule'!E1,#REF!,2,FALSE),FALSE) -> #REF! | F13: =VLOOKUP($A$13,#REF!,HLOOKUP('global formule'!F1,#REF!,2,FALSE),FALSE) -> #REF! | G13: =VLOOKUP($A$13,#REF!,HLOOKUP('global formule'!G1,#REF!,2,FALSE),FALSE) -> #REF! | H13: =VLOOKUP($A$13,#REF!,HLOOKUP('global formule'!H1,#REF!,2,FALSE),FALSE) -> #REF! | I13: =VLOOKUP($A$13,#REF!,HLOOKUP('global formule'!I1,#REF!,2,FALSE),FALSE) -> #REF! | ... DP13: =VLOOKUP($A$13,#REF!,HLOOKUP('global formule'!DP1,#REF!,2,FALSE),FALSE) -> #REF! | DQ13: =IFERROR(VLOOKUP($A$13,'oct nov 2024'!$A$5:$BL$44,HLOOKUP('global formule'!DQ1,'oct nov 2024'!$A$3:$BL$4,2,FALSE),FALSE),"") -> 1 | DR13: =IFERROR(VLOOKUP($A$13,'oct nov 2024'!$A$5:$BL$44,HLOOKUP('global formule'!DR1,'oct nov 2024'!$A$3:$BL$4,2,FALSE),FALSE),"") -> 1 | DS13: =IFERROR(VLOOKUP($A$13,'oct nov 2024'!$A$5:$BL$44,HLOOKUP('global formule'!DS1,'oct nov 2024'!$A$3:$BL$4,2,FALSE),FALSE),"") -> 1 | DT13: =IFERROR(VLOOKUP($A$13,'oct nov 2024'!$A$5:$BL$44,HLOOKUP('global formule'!DT1,'oct nov 2024'!$A$3:$BL$4,2,FALSE),FALSE),"") -> 1 | DU13: =IFERROR(VLOOKUP($A$13,'oct nov 2024'!$A$5:$BL$44,HLOOKUP('global formule'!DU1,'oct nov 2024'!$A$3:$BL$4,2,FALSE),FALSE),"") -> 1 | DV13: =IFERROR(VLOOKUP($A$13,'oct nov 2024'!$A$5:$BL$44,HLOOKUP('global formule'!DV1,'oct nov 2024'!$A$3:$BL$4,2,FALSE),FALSE),"") -> 0 | DW13: =IFERROR(VLOOKUP($A$13,'oct nov 2024'!$A$5:$BL$44,HLOOKUP('global formule'!DW1,'oct nov 2024'!$A$3:$BL$4,2,FALSE),FALSE),"") -> 0 | DX13: =IFERROR(VLOOKUP($A$13,'oct nov 2024'!$A$5:$BL$44,HLOOKUP('global formule'!DX1,'oct nov 2024'!$A$3:$BL$4,2,FALSE),FALSE),"") -> 1 | ... GA13: =IFERROR(VLOOKUP($A$13,'oct nov 2024'!$A$5:$BL$44,HLOOKUP('global formule'!GA1,'oct nov 2024'!$A$3:$BL$4,2,FALSE),FALSE),"") -> 0 | GB13: =IFERROR(VLOOKUP($A$13,#REF!,HLOOKUP('global formule'!GB1,#REF!,2,FALSE),FALSE),"") | GC13: =IFERROR(VLOOKUP($A$13,#REF!,HLOOKUP('global formule'!GC1,#REF!,2,FALSE),FALSE),"") | GD13: =IFERROR(VLOOKUP($A$13,#REF!,HLOOKUP('global formule'!GD1,#REF!,2,FALSE),FALSE),"") | GE13: =IFERROR(VLOOKUP($A$13,#REF!,HLOOKUP('global formule'!GE1,#REF!,2,FALSE),FALSE),"") | GF13: =IFERROR(VLOOKUP($A$13,#REF!,HLOOKUP('global formule'!GF1,#REF!,2,FALSE),FALSE),"") | GG13: =IFERROR(VLOOKUP($A$13,#REF!,HLOOKUP('global formule'!GG1,#REF!,2,FALSE),FALSE),"") | GH13: =IFERROR(VLOOKUP($A$13,#REF!,HLOOKUP('global formule'!GH1,#REF!,2,FALSE),FALSE),"") | GI13: =IFERROR(VLOOKUP($A$13,#REF!,HLOOKUP('global formule'!GI1,#REF!,2,FALSE),FALSE),"") | ... HE13: =IFERROR(VLOOKUP($A$13,#REF!,HLOOKUP('global formule'!HE1,#REF!,2,FALSE),FALSE),"")
A14: Fernand | B14: =VLOOKUP($A$14,#REF!,HLOOKUP('global formule'!B1,#REF!,2,FALSE),FALSE) -> #REF! | C14: =VLOOKUP($A$14,#REF!,HLOOKUP('global formule'!C1,#REF!,2,FALSE),FALSE) -> #REF! | D14: =VLOOKUP($A$14,#REF!,HLOOKUP('global formule'!D1,#REF!,2,FALSE),FALSE) -> #REF! | E14: =VLOOKUP($A$14,#REF!,HLOOKUP('global formule'!E1,#REF!,2,FALSE),FALSE) -> #REF! | F14: =VLOOKUP($A$14,#REF!,HLOOKUP('global formule'!F1,#REF!,2,FALSE),FALSE) -> #REF! | G14: =VLOOKUP($A$14,#REF!,HLOOKUP('global formule'!G1,#REF!,2,FALSE),FALSE) -> #REF! | H14: =VLOOKUP($A$14,#REF!,HLOOKUP('global formule'!H1,#REF!,2,FALSE),FALSE) -> #REF! | I14: =VLOOKUP($A$14,#REF!,HLOOKUP('global formule'!I1,#REF!,2,FALSE),FALSE) -> #REF! | ... DP14: =VLOOKUP($A$14,#REF!,HLOOKUP('global formule'!DP1,#REF!,2,FALSE),FALSE) -> #REF! | DQ14: =IFERROR(VLOOKUP($A$14,'oct nov 2024'!$A$5:$BL$44,HLOOKUP('global formule'!DQ1,'oct nov 2024'!$A$3:$BL$4,2,FALSE),FALSE),"") -> q | DR14: =IFERROR(VLOOKUP($A$14,'oct nov 2024'!$A$5:$BL$44,HLOOKUP('global formule'!DR1,'oct nov 2024'!$A$3:$BL$4,2,FALSE),FALSE),"") -> q | DS14: =IFERROR(VLOOKUP($A$14,'oct nov 2024'!$A$5:$BL$44,HLOOKUP('global formule'!DS1,'oct nov 2024'!$A$3:$BL$4,2,FALSE),FALSE),"") -> q | DT14: =IFERROR(VLOOKUP($A$14,'oct nov 2024'!$A$5:$BL$44,HLOOKUP('global formule'!DT1,'oct nov 2024'!$A$3:$BL$4,2,FALSE),FALSE),"") -> q | DU14: =IFERROR(VLOOKUP($A$14,'oct nov 2024'!$A$5:$BL$44,HLOOKUP('global formule'!DU1,'oct nov 2024'!$A$3:$BL$4,2,FALSE),FALSE),"") -> q | DV14: =IFERROR(VLOOKUP($A$14,'oct nov 2024'!$A$5:$BL$44,HLOOKUP('global formule'!DV1,'oct nov 2024'!$A$3:$BL$4,2,FALSE),FALSE),"") -> 0 | DW14: =IFERROR(VLOOKUP($A$14,'oct nov 2024'!$A$5:$BL$44,HLOOKUP('global formule'!DW1,'oct nov 2024'!$A$3:$BL$4,2,FALSE),FALSE),"") -> 0 | DX14: =IFERROR(VLOOKUP($A$14,'oct nov 2024'!$A$5:$BL$44,HLOOKUP('global formule'!DX1,'oct nov 2024'!$A$3:$BL$4,2,FALSE),FALSE),"") -> 1 | ... GA14: =IFERROR(VLOOKUP($A$14,'oct nov 2024'!$A$5:$BL$44,HLOOKUP('global formule'!GA1,'oct nov 2024'!$A$3:$BL$4,2,FALSE),FALSE),"") -> 0 | GB14: =IFERROR(VLOOKUP($A$14,#REF!,HLOOKUP('global formule'!GB1,#REF!,2,FALSE),FALSE),"") | GC14: =IFERROR(VLOOKUP($A$14,#REF!,HLOOKUP('global formule'!GC1,#REF!,2,FALSE),FALSE),"") | GD14: =IFERROR(VLOOKUP($A$14,#REF!,HLOOKUP('global formule'!GD1,#REF!,2,FALSE),FALSE),"") | GE14: =IFERROR(VLOOKUP($A$14,#REF!,HLOOKUP('global formule'!GE1,#REF!,2,FALSE),FALSE),"") | GF14: =IFERROR(VLOOKUP($A$14,#REF!,HLOOKUP('global formule'!GF1,#REF!,2,FALSE),FALSE),"") | GG14: =IFERROR(VLOOKUP($A$14,#REF!,HLOOKUP('global formule'!GG1,#REF!,2,FALSE),FALSE),"") | GH14: =IFERROR(VLOOKUP($A$14,#REF!,HLOOKUP('global formule'!GH1,#REF!,2,FALSE),FALSE),"") | GI14: =IFERROR(VLOOKUP($A$14,#REF!,HLOOKUP('global formule'!GI1,#REF!,2,FALSE),FALSE),"") | ... HE14: =IFERROR(VLOOKUP($A$14,#REF!,HLOOKUP('global formule'!HE1,#REF!,2,FALSE),FALSE),"")
A15: James | B15: =VLOOKUP($A$15,#REF!,HLOOKUP('global formule'!B1,#REF!,2,FALSE),FALSE) -> #REF! | C15: =VLOOKUP($A$15,#REF!,HLOOKUP('global formule'!C1,#REF!,2,FALSE),FALSE) -> #REF! | D15: =VLOOKUP($A$15,#REF!,HLOOKUP('global formule'!D1,#REF!,2,FALSE),FALSE) -> #REF! | E15: =VLOOKUP($A$15,#REF!,HLOOKUP('global formule'!E1,#REF!,2,FALSE),FALSE) -> #REF! | F15: =VLOOKUP($A$15,#REF!,HLOOKUP('global formule'!F1,#REF!,2,FALSE),FALSE) -> #REF! | G15: =VLOOKUP($A$15,#REF!,HLOOKUP('global formule'!G1,#REF!,2,FALSE),FALSE) -> #REF! | H15: =VLOOKUP($A$15,#REF!,HLOOKUP('global formule'!H1,#REF!,2,FALSE),FALSE) -> #REF! | I15: =VLOOKUP($A$15,#REF!,HLOOKUP('global formule'!I1,#REF!,2,FALSE),FALSE) -> #REF! | ... DP15: =VLOOKUP($A$15,#REF!,HLOOKUP('global formule'!DP1,#REF!,2,FALSE),FALSE) -> #REF! | DR15: =IFERROR(VLOOKUP($A$15,'oct nov 2024'!$A$5:$BL$44,HLOOKUP('global formule'!DR1,'oct nov 2024'!$A$3:$BL$4,2,FALSE),FALSE),"") | DS15: =IFERROR(VLOOKUP($A$15,'oct nov 2024'!$A$5:$BL$44,HLOOKUP('global formule'!DS1,'oct nov 2024'!$A$3:$BL$4,2,FALSE),FALSE),"") | DT15: =IFERROR(VLOOKUP($A$15,'oct nov 2024'!$A$5:$BL$44,HLOOKUP('global formule'!DT1,'oct nov 2024'!$A$3:$BL$4,2,FALSE),FALSE),"") | DU15: =IFERROR(VLOOKUP($A$15,'oct nov 2024'!$A$5:$BL$44,HLOOKUP('global formule'!DU1,'oct nov 2024'!$A$3:$BL$4,2,FALSE),FALSE),"") | DV15: =IFERROR(VLOOKUP($A$15,'oct nov 2024'!$A$5:$BL$44,HLOOKUP('global formule'!DV1,'oct nov 2024'!$A$3:$BL$4,2,FALSE),FALSE),"") | DW15: =IFERROR(VLOOKUP($A$15,'oct nov 2024'!$A$5:$BL$44,HLOOKUP('global formule'!DW1,'oct nov 2024'!$A$3:$BL$4,2,FALSE),FALSE),"") | DX15: =IFERROR(VLOOKUP($A$15,'oct nov 2024'!$A$5:$BL$44,HLOOKUP('global formule'!DX1,'oct nov 2024'!$A$3:$BL$4,2,FALSE),FALSE),"") | DY15: =IFERROR(VLOOKUP($A$15,'oct nov 2024'!$A$5:$BL$44,HLOOKUP('global formule'!DY1,'oct nov 2024'!$A$3:$BL$4,2,FALSE),FALSE),"") | ... GA15: =IFERROR(VLOOKUP($A$15,'oct nov 2024'!$A$5:$BL$44,HLOOKUP('global formule'!GA1,'oct nov 2024'!$A$3:$BL$4,2,FALSE),FALSE),"") | GC15: =IFERROR(VLOOKUP($A$15,#REF!,HLOOKUP('global formule'!GC1,#REF!,2,FALSE),FALSE),"") | GD15: =IFERROR(VLOOKUP($A$15,#REF!,HLOOKUP('global formule'!GD1,#REF!,2,FALSE),FALSE),"") | GE15: =IFERROR(VLOOKUP($A$15,#REF!,HLOOKUP('global formule'!GE1,#REF!,2,FALSE),FALSE),"") | GF15: =IFERROR(VLOOKUP($A$15,#REF!,HLOOKUP('global formule'!GF1,#REF!,2,FALSE),FALSE),"") | GG15: =IFERROR(VLOOKUP($A$15,#REF!,HLOOKUP('global formule'!GG1,#REF!,2,FALSE),FALSE),"") | GH15: =IFERROR(VLOOKUP($A$15,#REF!,HLOOKUP('global formule'!GH1,#REF!,2,FALSE),FALSE),"") | GI15: =IFERROR(VLOOKUP($A$15,#REF!,HLOOKUP('global formule'!GI1,#REF!,2,FALSE),FALSE),"") | GJ15: =IFERROR(VLOOKUP($A$15,#REF!,HLOOKUP('global formule'!GJ1,#REF!,2,FALSE),FALSE),"") | ... HE15: =IFERROR(VLOOKUP($A$15,#REF!,HLOOKUP('global formule'!HE1,#REF!,2,FALSE),FALSE),"")
