Workbook

Sheet Tableau
A1: Golf Université Corpo Championnatde match play | V1: ay
B5: 1/8 avant fin avril | E5: 1/4 avant fin mai | H5: 1/2 avant fin juin | K5: Finale debut juillet | N5: 1/2 | Q5: 1/4 | T5: 1/8
A7: 1 | B7: ='Liste des joueurs'!B3 -> AMADON Philippe | T7: ='Liste des joueurs'!B4 -> COPPENS Pierre | U7: 3
A8: 32 | B8: ='Liste des joueurs'!B33 -> ZANIN Carole | T8: ='Liste des joueurs'!B31 -> MIRAMAND Claude | U8: 30
A9: 14 | B9: ='Liste des joueurs'!B15 -> CASSIERE François | T9: ='Liste des joueurs'!B17 -> AMADON Marie Paule | U9: 16
A10: 19 | B10: ='Liste des joueurs'!B20 -> MOULINAT Yves | T10: ='Liste des joueurs'!B18 -> CHAFFRAIX Sebastien | U10: 17
A12: 12 | B12: ='Liste des joueurs'!B13 -> VILLAUME Pascal | T12: ='Liste des joueurs'!B11 -> AWITOR Oscar | U12: 10
A13: 21 | B13: ='Liste des joueurs'!B22 -> VACHER Damien | T13: ='Liste des joueurs'!B24 -> MAURICE Yao | U13: 23
A14: 5 | B14: ='Liste des joueurs'!B6 -> LASSEIGNE Claudine | T14: ='Liste des joueurs'!B9 -> DUPONT Marc | U14: 8
A15: 28 | B15: ='Liste des joueurs'!B29 -> CARPENTIER Alain | T15: ='Liste des joueurs'!B27 -> ROUSSEAU Remi | U15: 25
A17: 7 | B17: ='Liste des joueurs'!B8 -> RAYNAUD Pierre | T17: ='Liste des joueurs'!B7 -> MOULINAT Valentin | U17: 6
A18: 26 | B18: ='Liste des joueurs'!B27 -> ROUSSEAU Remi | T18: ='Liste des joueurs'!B28 -> CAUMONT Pierre | U18: 27
A19: 9 | B19: ='Liste des joueurs'!B10 -> RALET Patrick | T19: ='Liste des joueurs'!B12 -> KOUISS Naouel | U19: 11
A20: 24 | B20: ='Liste des joueurs'!B25 -> GALPIER Cyril | T20: ='Liste des joueurs'!B23 -> GACHON Francoise | U20: 22
A22: 15 | B22: ='Liste des joueurs'!B16 -> DUTILLOY Herve | T22: ='Liste des joueurs'!B14 -> ROUGIER Nicole | U22: 13
A23: 18 | B23: ='Liste des joueurs'!B19 -> AMADON Roland | T23: ='Liste des joueurs'!B21 -> EVERLE Sophie | U23: 20
A24: 29 | B24: ='Liste des joueurs'!B30 -> GELAS Yvonne | T24: ='Liste des joueurs'!B32 -> VIALA Renaud | U24: 31
A25: 4 | B25: ='Liste des joueurs'!B5 -> HEELS Geoffrey | T25: ='Liste des joueurs'!B4 -> COPPENS Pierre | U25: 2

Sheet Liste des joueurs
A1: Liste des joueurs
A3: 1 | B3: =C3&" "&D3 -> AMADON Philippe | C3: AMADON | D3: Philippe | E3: 06.4
A4: 2 | B4: =C4&" "&D4 -> COPPENS Pierre | C4: COPPENS | D4: Pierre | E4: 10.2
A5: 3 | B5: =C5&" "&D5 -> HEELS Geoffrey | C5: HEELS | D5: Geoffrey | E5: 11.8
A6: 4 | B6: =C6&" "&D6 -> LASSEIGNE Claudine | C6: LASSEIGNE | D6: Claudine | E6: 12.3
A7: 5 | B7: =C7&" "&D7 -> MOULINAT Valentin | C7: MOULINAT | D7: Valentin | E7: 12.5
A8: 6 | B8: =C8&" "&D8 -> RAYNAUD Pierre | C8: RAYNAUD | D8: Pierre | E8: 12.5
A9: 7 | B9: =C9&" "&D9 -> DUPONT Marc | C9: DUPONT | D9: Marc | E9: 13.2
A10: 8 | B10: =C10&" "&D10 -> RALET Patrick | C10: RALET | D10: Patrick | E10: 14.2
A11: 9 | B11: =C11&" "&D11 -> AWITOR Oscar | C11: AWITOR | D11: Oscar | E11: 14.4
A12: 10 | B12: =C12&" "&D12 -> KOUISS Naouel | C12: KOUISS | D12: Naouel | E12: 15.1
A13: 11 | B13: =C13&" "&D13 -> VILLAUME Pascal | C13: VILLAUME | D13: Pascal | E13: 16.0
A14: 12 | B14: =C14&" "&D14 -> ROUGIER Nicole | C14: ROUGIER | D14: Nicole | E14: 17.7
... A33: 31 | B33: =C33&" "&D33 -> ZANIN Carole | C33: ZANIN | D33: Carole | E33: 54.0
A34: 32 | B34: =C34&" "&D34
