Workbook

Sheet Playlist Variété
A1: BANANA SPLIT | E1: =ROUND(RAND(),6)+ROW()/100000000 -> 0.15972401
A2: L’AZIZA | E2: =ROUND(RAND(),6)+ROW()/100000000 -> 0.08195902
A3: ETRE UNE FEMME | E3: =ROUND(RAND(),6)+ROW()/100000000 -> 0.33591903
A4: GHOSBUSTERS | E4: =ROUND(RAND(),6)+ROW()/100000000 -> 0.05316104
A5: EYES OF THE TIGGER | E5: =ROUND(RAND(),6)+ROW()/100000000 -> 0.84845805
A6: J’IRAIS OU TU IRAS | E6: =ROUND(RAND(),6)+ROW()/100000000 -> 0.61767206
A7: FOULE SENTIMENTALE | E7: =ROUND(RAND(),6)+ROW()/100000000 -> 0.29603007
A8: TATA YOYO | E8: =ROUND(RAND(),6)+ROW()/100000000 -> 0.35083108
A9: LES AMOUREUX DES BANCS PUBLICS | E9: =ROUND(RAND(),6)+ROW()/100000000 -> 0.13171009
A10: JE NE SUIS PAS UN HEROS | E10: =ROUND(RAND(),6)+ROW()/100000000 -> 0.0025551
A11: LE JERK | E11: =ROUND(RAND(),6)+ROW()/100000000 -> 0.50167511
A12: PADAM PADAM | E12: =ROUND(RAND(),6)+ROW()/100000000 -> 0.29562412
... A90: NOIR, C’EST NOIR | E90: =ROUND(RAND(),6)+ROW()/100000000 -> 0.0622829

Sheet Feuil2
A1: =INDEX('Playlist Variété'!$A$1:$A$90,MATCH(SMALL('Playlist Variété'!$E$1:$E$90,ROW(2:2)),'Playlist Variété'!$E$1:$E$90,0)) -> JE NE SUIS PAS UN HEROS | B1: =INDEX('Playlist Variété'!$A$1:$A$90,MATCH(SMALL('Playlist Variété'!$E$1:$E$90,ROW(5:5)),'Playlist Variété'!$E$1:$E$90,0)) -> POUR UN FLIRT AVEC TOI | C1: =INDEX('Playlist Variété'!$A$1:$A$90,RAND()*90,1) -> MANUREVA | D1: =INDEX('Playlist Variété'!$A$1:$A$90,RAND()*90,1) -> BANANA SPLIT | E1: =INDEX('Playlist Variété'!$A$1:$A$90,RAND()*90,1) -> CHANTER POUR CEUX | F1: =INDEX('Playlist Variété'!$A$1:$A$90,RAND()*90,1) -> ROCKCOLLECTION | G1: =INDEX('Playlist Variété'!$A$1:$A$90,RAND()*90,1) -> FOR ME FORMIDABLE | H1: =INDEX('Playlist Variété'!$A$1:$A$90,RAND()*90,1) -> EMMENEZ-MOI | I1: =INDEX('Playlist Variété'!$A$1:$A$90,RAND()*90,1) -> IRON LION ZION | J1: =INDEX('Playlist Variété'!$A$1:$A$90,RAND()*90,1) -> DU RHUM DES FEMMES | ... CB1: =INDEX('Playlist Variété'!$A$1:$A$90,RAND()*90,1) -> ELLE A LES YEUX REVOLVER
A2: =INDEX('Playlist Variété'!$A$1:$A$90,MATCH(SMALL('Playlist Variété'!$E$1:$E$90,ROW(3:3)),'Playlist Variété'!$E$1:$E$90,0)) -> EMMENEZ-MOI | B2: =INDEX('Playlist Variété'!$A$1:$A$90,RAND()*90,1) -> FAIS COMME L’OISEAU | C2: =INDEX('Playlist Variété'!$A$1:$A$90,RAND()*90,1) -> DOUCE FRANCE | D2: =INDEX('Playlist Variété'!$A$1:$A$90,RAND()*90,1) -> YMCA | E2: =INDEX('Playlist Variété'!$A$1:$A$90,RAND()*90,1) -> L’AZIZA | F2: =INDEX('Playlist Variété'!$A$1:$A$90,RAND()*90,1) -> FEMME LIBEREE | G2: =INDEX('Playlist Variété'!$A$1:$A$90,RAND()*90,1) -> BORN TO BE ALIVE | H2: =INDEX('Playlist Variété'!$A$1:$A$90,RAND()*90,1) -> 3 NUITS PAR SEMAINE | I2: =INDEX('Playlist Variété'!$A$1:$A$90,RAND()*90,1) -> JE T’AIME A L’ITALIENNE | ... CB2: =INDEX('Playlist Variété'!$A$1:$A$90,RAND()*90,1) -> VOYAGE VOYAGE
A3: =INDEX('Playlist Variété'!$A$1:$A$90,MATCH(SMALL('Playlist Variété'!$E$1:$E$90,ROW(4:4)),'Playlist Variété'!$E$1:$E$90,0)) -> BEAT IT | B3: =INDEX('Playlist Variété'!$A$1:$A$90,RAND()*90,1) -> BEAT IT | C3: =INDEX('Playlist Variété'!$A$1:$A$90,RAND()*90,1) -> BORN TO BE ALIVE | D3: =INDEX('Playlist Variété'!$A$1:$A$90,RAND()*90,1) -> OU SONT LES FEMMES | E3: =INDEX('Playlist Variété'!$A$1:$A$90,RAND()*90,1) -> ETRE UNE FEMME | F3: BEAT IT | G3: =INDEX('Playlist Variété'!$A$1:$A$90,RAND()*90,1) -> LE BLUES DU BUSINESSMAN | H3: =INDEX('Playlist Variété'!$A$1:$A$90,RAND()*90,1) -> LA GROUPIE DU PIANISTE | I3: =INDEX('Playlist Variété'!$A$1:$A$90,RAND()*90,1) -> SORTEZ-LES | J3: =INDEX('Playlist Variété'!$A$1:$A$90,RAND()*90,1) -> FORMIDABLE | K3: =INDEX('Playlist Variété'!$A$1:$A$90,RAND()*90,1) -> LA GROUPIE DU PIANISTE | L3: =INDEX('Playlist Variété'!$A$1:$A$90,RAND()*90,1) -> JE L’AIME A MOURIR | M3: =INDEX('Playlist Variété'!$A$1:$A$90,RAND()*90,1) -> CANARY BAY | N3: =INDEX('Playlist Variété'!$A$1:$A$90,RAND()*90,1) -> LAST NIGHT | ... CB3: =INDEX('Playlist Variété'!$A$1:$A$90,RAND()*90,1) -> RESISTE
A5: =INDEX('Playlist Variété'!$A$1:$A$90,RAND()*90,1) -> AFRICA | B5: =INDEX('Playlist Variété'!$A$1:$A$90,RAND()*90,1) -> DOUCE FRANCE | C5: SORTEZ-LES | D5: =INDEX('Playlist Variété'!$A$1:$A$90,RAND()*90,1) -> T’AS LE LOOK COCO | E5: =INDEX('Playlist Variété'!$A$1:$A$90,RAND()*90,1) -> MARCIA BAILA | F5: =INDEX('Playlist Variété'!$A$1:$A$90,RAND()*90,1) -> RESISTE | G5: =INDEX('Playlist Variété'!$A$1:$A$90,RAND()*90,1) -> MIRZA | H5: =INDEX('Playlist Variété'!$A$1:$A$90,RAND()*90,1) -> LA FEMME CHOCOLAT | I5: =INDEX('Playlist Variété'!$A$1:$A$90,RAND()*90,1) -> LA FEMME CHOCOLAT | J5: =INDEX('Playlist Variété'!$A$1:$A$90,RAND()*90,1) -> RESPECT | K5: =INDEX('Playlist Variété'!$A$1:$A$90,RAND()*90,1) -> CANARY BAY | ... CB5: =INDEX('Playlist Variété'!$A$1:$A$90,RAND()*90,1) -> NEW YORK AVEC TOI
A6: =INDEX('Playlist Variété'!$A$1:$A$90,RAND()*90,1) -> YMCA | B6: =INDEX('Playlist Variété'!$A$1:$A$90,RAND()*90,1) -> MANUREVA | C6: =INDEX('Playlist Variété'!$A$1:$A$90,RAND()*90,1) -> OU SONT LES FEMMES | D6: =INDEX('Playlist Variété'!$A$1:$A$90,RAND()*90,1) -> MA PREFERENCE | E6: =INDEX('Playlist Variété'!$A$1:$A$90,RAND()*90,1) -> MACUMBA | F6: =INDEX('Playlist Variété'!$A$1:$A$90,RAND()*90,1) -> RESPECT | G6: =INDEX('Playlist Variété'!$A$1:$A$90,RAND()*90,1) -> SORTEZ-LES | H6: =INDEX('Playlist Variété'!$A$1:$A$90,RAND()*90,1) -> COMME UN BOOMERANG | ... CB6: =INDEX('Playlist Variété'!$A$1:$A$90,RAND()*90,1) -> BEAT IT
A7: =INDEX('Playlist Variété'!$A$1:$A$90,RAND()*90,1) -> LES AMOUREUX DES BANCS PUBLICS | B7: =INDEX('Playlist Variété'!$A$1:$A$90,RAND()*90,1) -> MEXICO | C7: =INDEX('Playlist Variété'!$A$1:$A$90,RAND()*90,1) -> DU RHUM DES FEMMES | D7: =INDEX('Playlist Variété'!$A$1:$A$90,RAND()*90,1) -> TATA YOYO | E7: =INDEX('Playlist Variété'!$A$1:$A$90,RAND()*90,1) -> A NOS ACTES MANQUES | F7: =INDEX('Playlist Variété'!$A$1:$A$90,RAND()*90,1) -> MACUMBA | G7: =INDEX('Playlist Variété'!$A$1:$A$90,RAND()*90,1) -> 3 NUITS PAR SEMAINE | H7: =INDEX('Playlist Variété'!$A$1:$A$90,RAND()*90,1) -> DOUCE FRANCE | ... CB7: =INDEX('Playlist Variété'!$A$1:$A$90,RAND()*90,1) -> DESTINE
A9: =INDEX('Playlist Variété'!$A$1:$A$90,RAND()*90,1) -> POUR UN FLIRT AVEC TOI | B9: =INDEX('Playlist Variété'!$A$1:$A$90,RAND()*90,1) -> NEW YORK AVEC TOI | C9: =INDEX('Playlist Variété'!$A$1:$A$90,RAND()*90,1) -> MELISSA | D9: =INDEX('Playlist Variété'!$A$1:$A$90,RAND()*90,1) -> TON INVITATION | E9: =INDEX('Playlist Variété'!$A$1:$A$90,RAND()*90,1) -> SORTEZ-LES | F9: =INDEX('Playlist Variété'!$A$1:$A$90,RAND()*90,1) -> YMCA | G9: =INDEX('Playlist Variété'!$A$1:$A$90,RAND()*90,1) -> YMCA | H9: =INDEX('Playlist Variété'!$A$1:$A$90,RAND()*90,1) -> VANINA | ... CB9: =INDEX('Playlist Variété'!$A$1:$A$90,RAND()*90,1) -> A NOS ACTES MANQUES
A10: =INDEX('Playlist Variété'!$A$1:$A$90,RAND()*90,1) -> JE NE SUIS PAS UN HEROS | B10: =INDEX('Playlist Variété'!$A$1:$A$90,RAND()*90,1) -> LET’S DANCE | C10: =INDEX('Playlist Variété'!$A$1:$A$90,RAND()*90,1) -> VANINA | D10: =INDEX('Playlist Variété'!$A$1:$A$90,RAND()*90,1) -> MA DROLE DE VIE | E10: =INDEX('Playlist Variété'!$A$1:$A$90,RAND()*90,1) -> LES SUNLIGHTS DES TROPIQUES | F10: =INDEX('Playlist Variété'!$A$1:$A$90,RAND()*90,1) -> BEAT IT | G10: =INDEX('Playlist Variété'!$A$1:$A$90,RAND()*90,1) -> NEW YORK AVEC TOI | H10: =INDEX('Playlist Variété'!$A$1:$A$90,RAND()*90,1) -> LA GITANE | ... CB10: =INDEX('Playlist Variété'!$A$1:$A$90,RAND()*90,1) -> MON MEC A MOI
A11: =INDEX('Playlist Variété'!$A$1:$A$90,RAND()*90,1) -> IRON LION ZION | B11: =INDEX('Playlist Variété'!$A$1:$A$90,RAND()*90,1) -> GHOSBUSTERS | C11: =INDEX('Playlist Variété'!$A$1:$A$90,RAND()*90,1) -> CANARY BAY | D11: =INDEX('Playlist Variété'!$A$1:$A$90,RAND()*90,1) -> MANUREVA | E11: =INDEX('Playlist Variété'!$A$1:$A$90,RAND()*90,1) -> MA PREFERENCE | F11: =INDEX('Playlist Variété'!$A$1:$A$90,RAND()*90,1) -> SANTIANO | G11: =INDEX('Playlist Variété'!$A$1:$A$90,RAND()*90,1) -> AFRICA | H11: =INDEX('Playlist Variété'!$A$1:$A$90,RAND()*90,1) -> BEAT IT | ... CB11: =INDEX('Playlist Variété'!$A$1:$A$90,RAND()*90,1) -> POUR UN FLIRT AVEC TOI
A13: =INDEX('Playlist Variété'!$A$1:$A$90,RAND()*90,1) -> MON MEC A MOI | B13: =INDEX('Playlist Variété'!$A$1:$A$90,RAND()*90,1) -> IL JOUAIT DU PIANO DEBOUT | C13: =INDEX('Playlist Variété'!$A$1:$A$90,RAND()*90,1) -> EYES OF THE TIGGER | D13: =INDEX('Playlist Variété'!$A$1:$A$90,RAND()*90,1) -> BEAT IT | E13: =INDEX('Playlist Variété'!$A$1:$A$90,RAND()*90,1) -> LAISSEZ-MOI DANSER | F13: =INDEX('Playlist Variété'!$A$1:$A$90,RAND()*90,1) -> COULEUR CAFE | G13: =INDEX('Playlist Variété'!$A$1:$A$90,RAND()*90,1) -> ÇA PLANE POUR MOI | H13: =INDEX('Playlist Variété'!$A$1:$A$90,RAND()*90,1) -> VANINA | ... CB13: =INDEX('Playlist Variété'!$A$1:$A$90,RAND()*90,1) -> BESOIN DE RIEN, ENVIE DE TOI
A14: =INDEX('Playlist Variété'!$A$1:$A$90,RAND()*90,1) -> BESOIN DE RIEN, ENVIE DE TOI | B14: =INDEX('Playlist Variété'!$A$1:$A$90,RAND()*90,1) -> ELLE A LES YEUX REVOLVER | C14: =INDEX('Playlist Variété'!$A$1:$A$90,RAND()*90,1) -> LA FEMME CHOCOLAT | D14: =INDEX('Playlist Variété'!$A$1:$A$90,RAND()*90,1) -> EMMENEZ-MOI | E14: =INDEX('Playlist Variété'!$A$1:$A$90,RAND()*90,1) -> BEAT IT | F14: =INDEX('Playlist Variété'!$A$1:$A$90,RAND()*90,1) -> LES AMOUREUX DES BANCS PUBLICS | G14: =INDEX('Playlist Variété'!$A$1:$A$90,RAND()*90,1) -> IL JOUAIT DU PIANO DEBOUT | H14: =INDEX('Playlist Variété'!$A$1:$A$90,RAND()*90,1) -> YMCA | ... CB14: =INDEX('Playlist Variété'!$A$1:$A$90,RAND()*90,1) -> RETIENS LA NUIT
A15: =INDEX('Playlist Variété'!$A$1:$A$90,RAND()*90,1) -> LES DEMONS DE MINUIT | B15: =INDEX('Playlist Variété'!$A$1:$A$90,RAND()*90,1) -> SANTIANO | C15: =INDEX('Playlist Variété'!$A$1:$A$90,RAND()*90,1) -> MARCIA BAILA | D15: =INDEX('Playlist Variété'!$A$1:$A$90,RAND()*90,1) -> LA FOULE | E15: =INDEX('Playlist Variété'!$A$1:$A$90,RAND()*90,1) -> LAISSEZ-MOI DANSER | F15: =INDEX('Playlist Variété'!$A$1:$A$90,RAND()*90,1) -> DESTINE | G15: =INDEX('Playlist Variété'!$A$1:$A$90,RAND()*90,1) -> LES DEMONS DE MINUIT | H15: =INDEX('Playlist Variété'!$A$1:$A$90,RAND()*90,1) -> TOI MON TOIT | ... CB15: =INDEX('Playlist Variété'!$A$1:$A$90,RAND()*90,1) -> AFRICA
A17: =INDEX('Playlist Variété'!$A$1:$A$90,RAND()*90,1) -> ROCKCOLLECTION | B17: =INDEX('Playlist Variété'!$A$1:$A$90,RAND()*90,1) -> LE JERK | C17: =INDEX('Playlist Variété'!$A$1:$A$90,RAND()*90,1) -> RESISTE | D17: =INDEX('Playlist Variété'!$A$1:$A$90,RAND()*90,1) -> COMME UN BOOMERANG | E17: =INDEX('Playlist Variété'!$A$1:$A$90,RAND()*90,1) -> LA LAMBADA | F17: =INDEX('Playlist Variété'!$A$1:$A$90,RAND()*90,1) -> BOHEMIAN RAPSODY | G17: =INDEX('Playlist Variété'!$A$1:$A$90,RAND()*90,1) -> LA FEMME CHOCOLAT | H17: =INDEX('Playlist Variété'!$A$1:$A$90,RAND()*90,1) -> MIRZA | ... CB17: =INDEX('Playlist Variété'!$A$1:$A$90,RAND()*90,1) -> LAISSEZ-MOI DANSER
A18: =INDEX('Playlist Variété'!$A$1:$A$90,RAND()*90,1) -> LES DEMONS DE MINUIT | B18: =INDEX('Playlist Variété'!$A$1:$A$90,RAND()*90,1) -> LA FEMME CHOCOLAT | C18: =INDEX('Playlist Variété'!$A$1:$A$90,RAND()*90,1) -> LA VALSE A 1000 TEMPS | D18: =INDEX('Playlist Variété'!$A$1:$A$90,RAND()*90,1) -> SANTIANO | E18: =INDEX('Playlist Variété'!$A$1:$A$90,RAND()*90,1) -> EYES OF THE TIGGER | F18: =INDEX('Playlist Variété'!$A$1:$A$90,RAND()*90,1) -> TON INVITATION | G18: =INDEX('Playlist Variété'!$A$1:$A$90,RAND()*90,1) -> IRON LION ZION | H18: =INDEX('Playlist Variété'!$A$1:$A$90,RAND()*90,1) -> LA GROUPIE DU PIANISTE | ... CB18: =INDEX('Playlist Variété'!$A$1:$A$90,RAND()*90,1) -> MIRZA
A19: =INDEX('Playlist Variété'!$A$1:$A$90,RAND()*90,1) -> MANUREVA | B19: =INDEX('Playlist Variété'!$A$1:$A$90,RAND()*90,1) -> SORTEZ-LES | C19: =INDEX('Playlist Variété'!$A$1:$A$90,RAND()*90,1) -> CHANTE, DANSE ET METS TES BASKETS | D19: =INDEX('Playlist Variété'!$A$1:$A$90,RAND()*90,1) -> TON INVITATION | E19: =INDEX('Playlist Variété'!$A$1:$A$90,RAND()*90,1) -> EMMENEZ-MOI | F19: =INDEX('Playlist Variété'!$A$1:$A$90,RAND()*90,1) -> LA VALSE A 1000 TEMPS | G19: =INDEX('Playlist Variété'!$A$1:$A$90,RAND()*90,1) -> 3 NUITS PAR SEMAINE | H19: =INDEX('Playlist Variété'!$A$1:$A$90,RAND()*90,1) -> LES DEMONS DE MINUIT | ... CB19: =INDEX('Playlist Variété'!$A$1:$A$90,RAND()*90,1) -> RESPECT
A21: =INDEX('Playlist Variété'!$A$1:$A$90,RAND()*90,1) -> MARCIA BAILA | B21: =INDEX('Playlist Variété'!$A$1:$A$90,RAND()*90,1) -> TETRIS | C21: =INDEX('Playlist Variété'!$A$1:$A$90,RAND()*90,1) -> JE T’AIME A L’ITALIENNE | D21: =INDEX('Playlist Variété'!$A$1:$A$90,RAND()*90,1) -> LA POUPEE QUI FAIT NON | E21: =INDEX('Playlist Variété'!$A$1:$A$90,RAND()*90,1) -> LAISSEZ-MOI DANSER | F21: =INDEX('Playlist Variété'!$A$1:$A$90,RAND()*90,1) -> LA FEMME CHOCOLAT | G21: =INDEX('Playlist Variété'!$A$1:$A$90,RAND()*90,1) -> COULEUR MENTHE À L’EAU | H21: =INDEX('Playlist Variété'!$A$1:$A$90,RAND()*90,1) -> IL JOUAIT DU PIANO DEBOUT | ... CB21: =INDEX('Playlist Variété'!$A$1:$A$90,RAND()*90,1) -> TETRIS
... A95: =INDEX('Playlist Variété'!$A$1:$A$90,RAND()*90,1) -> CHANTER POUR CEUX | B95: =INDEX('Playlist Variété'!$A$1:$A$90,RAND()*90,1) -> JE MARCHE SEUL | C95: =INDEX('Playlist Variété'!$A$1:$A$90,RAND()*90,1) -> JE MARCHE SEUL | D95: =INDEX('Playlist Variété'!$A$1:$A$90,RAND()*90,1) -> FEMME LIBEREE | E95: =INDEX('Playlist Variété'!$A$1:$A$90,RAND()*90,1) -> POUR UN FLIRT AVEC TOI | F95: =INDEX('Playlist Variété'!$A$1:$A$90,RAND()*90,1) -> CHANTE, DANSE ET METS TES BASKETS | G95: =INDEX('Playlist Variété'!$A$1:$A$90,RAND()*90,1) -> TON INVITATION | H95: =INDEX('Playlist Variété'!$A$1:$A$90,RAND()*90,1) -> LET’S DANCE | ... CB95: =INDEX('Playlist Variété'!$A$1:$A$90,RAND()*90,1) -> FAIS PAS CI FAIS PAS CA

Sheet Feuil1
