Workbook
Name Anomalie_engin_moteur: Feuil2!$B$2:$B$14
Name Anomalie_matériel_remorqué: Feuil2!$C$2:$C$14
Name Anomalie_signalisation: Feuil2!$D$2:$D$14
Name Comportement_incorrect_en_urgence: Feuil2!$E$2:$E$14
Name Départ_sans_ordre__sf_manoeuvre: Feuil2!$F$2:$F$14
Name Erreur_en_manoeuvre: Feuil2!$G$2:$G$14
Name Erreur_sur_anomalie_de_signalisation: Feuil2!$H$2:$H$14
Name Erreur_sur_mauvaise_direction: Feuil2!$I$2:$I$14
Name Evénements_de_type_divers: Feuil2!$J$2:$J$14
Name famille: Feuil2!$B$1:$W$1
Name Fréquence: Fréquence!$A$2:$A$5
Name FUA__sf_anomalie: Feuil2!$K$2:$K$14
Name Installations_de_traction_électrique: Feuil2!$L$2:$L$14
Name Maitrise: Maitrise!$A$2:$A$5
Name Mauvaise_exécution_d_arrêt: Feuil2!$M$2:$M$14
Name Mauvaise_exécution_d_arrêt_sur_VS: Feuil2!$N$2:$N$14
Name Non_respect_marche_à_vue: Feuil2!$O$2:$O$14
Name Non_respect_règles_de_traction_élect.: Feuil2!$P$2:$P$14
Name Non_respect_règles_frein: Feuil2!$Q$2:$Q$14
Name Non_respect_signal_d_arrêt: Feuil2!$R$2:$R$14
Name Non_respect_vitesse_limite_sf_FUA: Feuil2!$S$2:$S$4
Name Omission_d_arrêt: Feuil2!$T$2:$T$14
Name Procédures_générales: Feuil2!$U$2:$U$14
Name Régularité__qualité: Feuil2!$V$2:$V$14
Name Voie: Feuil2!$W$2:$W$14

Sheet Gravité
A1: Nature | B1: Classe | C1: Gravité
A2: Anomalie engin moteur | B2: Avaries diverses | C2: 2
A3: Anomalie engin moteur | B3: Avarie mécanique (sf frein) | C3: 2
A4: Anomalie engin moteur | B4: Avarie traction | C4: 2
A5: Anomalie engin moteur | B5: Incident divers cause indéterminée | C5: 1
A6: Anomalie engin moteur | B6: Anomalie frein hors essai | C6: 2
A7: Anomalie matériel remorqué | B7: Détection de boite chaude | C7: 2
A8: Anomalie signalisation | B8: Fermeture inopinée | C8: 4
A9: Anomalie signalisation | B9: Répétition sur signal | C9: 1
A10: Anomalie signalisation | B10: Anomalie KVB/KVBP sur signal | C10: 2
A11: Anomalie signalisation | B11: Aspect anormal | C11: 3
A12: Anomalie signalisation | B12: Explosion de détonateurs | C12: 2
A13: Anomalie signalisation | B13: Signal éteint | C13: 3
... A86: Voie | B86: Divers | C86: 1

Sheet Feuil2
B1: Anomalie_engin_moteur | C1: Anomalie_matériel_remorqué | D1: Anomalie_signalisation | E1: Comportement_incorrect_en_urgence | F1: Départ_sans_ordre__sf_manoeuvre | G1: Erreur_en_manoeuvre | H1: Erreur_sur_anomalie_de_signalisation | I1: Erreur_sur_mauvaise_direction | J1: Evénements_de_type_divers | K1: FUA__sf_anomalie | L1: Installations_de_traction_électrique | M1: Mauvaise_exécution_d_arrêt | N1: Mauvaise_exécution_d_arrêt_sur_VS | O1: Non_respect_marche_à_vue | P1: Non_respect_règles_de_traction_élect. | Q1: Non_respect_règles_frein | R1: Non_respect_signal_d_arrêt | S1: Non_respect_vitesse_limite_sf_FUA | T1: Omission_d_arrêt | U1: Procédures_générales | V1: Régularité__qualité | W1: Voie
B2: Avaries diverses | C2: Détection de boite chaude | D2: Fermeture inopinée | E2: SAR | F2: Divers | G2: Engagement croisements | H2: Anomalie diverse | I2: Arrêt avant aiguille | J2: Cause extérieure diverse | K2: KVB/KVBP:FU conduite | L2: Divers | M2: Voiture(s) hors quai | N2: Engagement croisement sur VS | O2: Arrêt accidentel | P2: Coupez courant | Q2: Mauvaise immobilisation | R2: Carré | S2: < à 15 km/h | T2: Oubli (avec lecture FT) | U2: Non respect VISA (sf FUA) | V2: * | W2: Choc ou mouvement anormal
B3: Avarie mécanique (sf frein) | D3: Répétition sur signal | E3: Anomalie de répétition | G3: Non respect pancarte ARRET | H3: Signal anormal ou position douteuse | I3: Pas d'arrêt | J3: Acte de malveillance | K3: Répétition optique des signaux | M3: à quai | O3: Arrêt >3mn (sf FUA) | P3: Baissez panto | Q3: Oubli frein direct | R3: Signal d'arrêt à main | S3: sur LTV | T3: Report Mauvaise Exécution d'Arrêt | U3: Réception SAR | W3: Répétition hors signal
B4: Avarie traction | D4: Anomalie KVB/KVBP sur signal | E4: Obstacle | G4: Incidents divers | I4: Arrêt après aiguille | J4: Divagation de bestiaux | K4: Veille automatique | M4: Choc heurtoir | O4: Sémaphore de BAL | Q4: Surveillance des manomètres | S4: >= 15 km/h | T4: Divers | U4: Arrêt par erreur | W4: PN ouvert
B5: Incident divers cause indéterminée | D5: Aspect anormal | E5: Avarie astérisquée | J5: Accident de personne | K5: KVB/KVBP:FU indéterminé | O5: Anomalie de signalisation | Q5: Mauvaise utilisation (sf arrêt) | T5: non lecture fiche train (ou tardive) | U5: Procédures Diverses | W5: Anomalie KVB/KVBP
B6: Anomalie frein hors essai | D6: Explosion de détonateurs | E6: SAL | J6: Conditions climatiques | K6: DAAT | O6: Divers | Q6: Oubli frein à main sur cabine REV | U6: Circulation en avance (sf VU) | W6: Divers
D7: Signal éteint | E7: Choc ou mouvement anormal | O7: Signal de sortie non visible | U7: Réception ordre
E8: Divers KVB, DAAT, TVM ou VA | O8: Feu rouge clignotant | U8: Réception bulletin
U9: Conduite aberrante
U10: Divers
U11: Isolement injustifié
U12: Appel d'arrêt d'urgence GSM-GFU
U13: Utilisation de l'EM (hors anomalie)
U14: Explosion de pétards

Sheet Cartographie
A1: Natures | B1: Classes | C1: Gravité | D1: Fréquence | E1: Coeff | F1: Maitrise | G1: Coeff | H1: Criticité
A2: Anomalie_engin_moteur | B2: Avaries diverses | C2: =INDEX(Gravité!C2:'Gravité'!C86,SUMPRODUCT(ROW(Gravité!A2:'Gravité'!A86)*( Gravité!A2:'Gravité'!A86=A2)*( Gravité!B2:'Gravité'!B86=B2))-1,1) -> #VALUE! | F2: Risque identifié . Plan d'action déployé, pilotage en cours. Tous les ADC sont informés | G2: =VLOOKUP(F2,Maitrise!A2:B5,2) -> 1 | H2: =G2*E2*C2 -> #VALUE!
F3: Risque identifié. Plan d'actions en cours de rédaction. Peu d'ADC sont informés | G3: =VLOOKUP(F3,Maitrise!A2:B5,2) -> 3 | H3: =G3*E3*C3 -> 0
F4: Risque identifié. Plan d'actions en cours de rédaction. Peu d'ADC sont informés | G4: =VLOOKUP(F4,Maitrise!A2:B5,2) -> 3 | H4: =G4*E4*C4 -> 0
F5: Risque non identifié ou identifié mais pas d'action | G5: =VLOOKUP(F5,Maitrise!A2:B5,2) -> 4 | H5: =G5*E5*C5 -> 0
F6: Risque identifié . Plan d'action déployé, pilotage en cours. Tous les ADC sont informés | G6: =VLOOKUP(F6,Maitrise!A2:B5,2) -> 1 | H6: =G6*E6*C6 -> 0
G7: =IF(C2,0,1) -> #VALUE! | H7: =G7*E7*C7 -> #VALUE!
G8: =VLOOKUP(F8,Maitrise!A2:B5,2) -> #N/A | H8: =G8*E8*C8 -> #N/A
G9: =VLOOKUP(F9,Maitrise!A2:B5,2) -> #N/A | H9: =G9*E9*C9 -> #N/A
G10: =VLOOKUP(F10,Maitrise!A2:B5,2) -> #N/A | H10: =G10*E10*C10 -> #N/A
G11: =VLOOKUP(F11,Maitrise!A2:B5,2) -> #N/A | H11: =G11*E11*C11 -> #N/A
G12: =VLOOKUP(F12,Maitrise!A2:B5,2) -> #N/A | H12: =G12*E12*C12 -> #N/A
G13: =VLOOKUP(F13,Maitrise!A2:B5,2) -> #N/A | H13: =G13*E13*C13 -> #N/A
G14: =VLOOKUP(F14,Maitrise!A2:B5,2) -> #N/A | H14: =G14*E14*C14 -> #N/A
G15: =VLOOKUP(F15,Maitrise!A2:B5,2) -> #N/A | H15: =G15*E15*C15 -> #N/A
G16: =VLOOKUP(F16,Maitrise!A2:B5,2) -> #N/A | H16: =G16*E16*C16 -> #N/A
G17: =VLOOKUP(F17,Maitrise!A2:B5,2) -> #N/A | H17: =G17*E17*C17 -> #N/A
G18: =VLOOKUP(F18,Maitrise!A2:B5,2) -> #N/A | H18: =G18*E18*C18 -> #N/A
G19: =VLOOKUP(F19,Maitrise!A2:B5,2) -> #N/A | H19: =G19*E19*C19 -> #N/A
G20: =VLOOKUP(F20,Maitrise!A2:B5,2) -> #N/A | H20: =G20*E20*C20 -> #N/A
G21: =VLOOKUP(F21,Maitrise!A2:B5,2) -> #N/A | H21: =G21*E21*C21 -> #N/A
G22: =VLOOKUP(F22,Maitrise!A2:B5,2) -> #N/A | H22: =G22*E22*C22 -> #N/A
G23: =VLOOKUP(F23,Maitrise!A2:B5,2) -> #N/A | H23: =G23*E23*C23 -> #N/A
G24: =VLOOKUP(F24,Maitrise!A2:B5,2) -> #N/A | H24: =G24*E24*C24 -> #N/A
G25: =VLOOKUP(F25,Maitrise!A2:B5,2) -> #N/A | H25: =G25*E25*C25 -> #N/A
G26: =VLOOKUP(F26,Maitrise!A2:B5,2) -> #N/A | H26: =G26*E26*C26 -> #N/A
G27: =VLOOKUP(F27,Maitrise!A26:B29,2) -> #N/A | H27: =G27*E27*C27 -> #N/A
G28: =VLOOKUP(F28,Maitrise!A28:B31,2) -> #N/A | H28: =G28*E28*C28 -> #N/A
G29: =VLOOKUP(F29,Maitrise!A28:B31,2) -> #N/A | H29: =G29*E29*C29 -> #N/A
G30: =VLOOKUP(F30,Maitrise!A30:B33,2) -> #N/A | H30: =G30*E30*C30 -> #N/A
G31: =VLOOKUP(F31,Maitrise!A30:B33,2) -> #N/A | H31: =G31*E31*C31 -> #N/A
G32: =VLOOKUP(F32,Maitrise!A32:B35,2) -> #N/A | H32: =G32*E32*C32 -> #N/A
G33: =VLOOKUP(F33,Maitrise!A32:B35,2) -> #N/A | H33: =G33*E33*C33 -> #N/A
G34: =VLOOKUP(F34,Maitrise!A34:B37,2) -> #N/A | H34: =G34*E34*C34 -> #N/A
G35: =VLOOKUP(F35,Maitrise!A34:B37,2) -> #N/A | H35: =G35*E35*C35 -> #N/A
G36: =VLOOKUP(F36,Maitrise!A36:B39,2) -> #N/A | H36: =G36*E36*C36 -> #N/A
G37: =VLOOKUP(F37,Maitrise!A36:B39,2) -> #N/A | H37: =G37*E37*C37 -> #N/A
G38: =VLOOKUP(F38,Maitrise!A38:B41,2) -> #N/A | H38: =G38*E38*C38 -> #N/A
G39: =VLOOKUP(F39,Maitrise!A38:B41,2) -> #N/A | H39: =G39*E39*C39 -> #N/A
G40: =VLOOKUP(F40,Maitrise!A40:B43,2) -> #N/A | H40: =G40*E40*C40 -> #N/A
...

Sheet Fréquence
A1: Fréquence | B1: Coeff
A2: Fréquent : 1 à 3 fois par mois | B2: 3
A3: Occasionnel : moins d'une fois par mois | B3: 2
A4: Rare : maximum 1 fois par an | B4: 1
A5: Très fréquent : 1 à 2 fois par semaine | B5: 4

Sheet Maitrise
A1: Maitrise | B1: Coeff
A2: Risque identifié . Plan d'action déployé, pilotage en cours. Tous les ADC sont informés | B2: 1
A3: Risque identifié. Plan d'actions en cours de rédaction. Peu d'ADC sont informés | B3: 3
A4: Risque identifié. Plan d'actions en cours. Tous les ADC ne sont pas informés | B4: 2
A5: Risque non identifié ou identifié mais pas d'action | B5: 4
