Workbook

Sheet Sheet1
B1: Statut | C1: Name | D1: Note
B2: =IF(D2/20>0.5,"Accepted","Refused") -> Accepted | C2: Nicolas | D2: 20
B3: =IF(D3/20>0.5,"Accepted","Refused") -> Refused | C3: Jean | D3: 8
B4: =IF(D4/20>0.5,"Accepted","Refused") -> Refused | C4: Cédric | D4: 10
B5: =IF(D5/20>0.5,"Accepted","Refused") -> Accepted | C5: David | D5: 15
B6: =IF(D6/20>0.5,"Accepted","Refused") -> Accepted | C6: Luc | D6: 12

Sheet Sheet2
A1: Méthode 1 | C1: Name | D1: Note | M1: Valeur | N1: Accepted
C2: =IF(Sheet1!B2="Accepted",Sheet1!C2,"pas ok") -> Nicolas | D2: =IF(Sheet1!B2="Accepted",Sheet1!D2,"pas ok") -> 20
C3: =IF(Sheet1!B3="Accepted",Sheet1!C3,"-") -> - | D3: =IF(Sheet1!B3="Accepted",Sheet1!D3,"-") -> -
C4: =IF(Sheet1!B4="Accepted",Sheet1!C4,"-") -> - | D4: =IF(Sheet1!B4="Accepted",Sheet1!D4,"-") -> -
C5: =IF(Sheet1!B5="Accepted",Sheet1!C5,"pas ok") -> David | D5: =IF(Sheet1!B5="Accepted",Sheet1!D5,"pas ok") -> 15
C6: =IF(Sheet1!B6="Accepted",Sheet1!C6,"pas ok") -> Luc | D6: =IF(Sheet1!B6="Accepted",Sheet1!D6,"pas ok") -> 12
A12: Méthode | C12: =VLOOKUP($N$1,Sheet1!$B2:$D$41,2,FALSE) -> Nicolas | D12: =VLOOKUP($N$1,Sheet1!$B2:$D2,3,FALSE) -> 20
A13: vLookup | C13: =VLOOKUP($N$1,Sheet1!$B3:$D$41,2,FALSE) -> David | D13: =VLOOKUP($N$1,Sheet1!$B3:$D3,3,FALSE) -> #N/A
C14: =VLOOKUP($N$1,Sheet1!$B4:$D$41,2,FALSE) -> David | D14: =VLOOKUP($N$1,Sheet1!$B4:$D4,3,FALSE) -> #N/A
C15: =VLOOKUP($N$1,Sheet1!$B5:$D$41,2,FALSE) -> David | D15: =VLOOKUP($N$1,Sheet1!$B5:$D5,3,FALSE) -> 15
C16: =VLOOKUP($N$1,Sheet1!$B6:$D$41,2,FALSE) -> Luc | D16: =VLOOKUP($N$1,Sheet1!$B6:$D6,3,FALSE) -> 12
C17: =VLOOKUP($N$1,Sheet1!$B7:$D$41,2,FALSE) -> #N/A | D17: =VLOOKUP($N$1,Sheet1!$B7:$D7,3,FALSE) -> #N/A
C18: =VLOOKUP($N$1,Sheet1!$B8:$D$41,2,FALSE) -> #N/A | D18: =VLOOKUP($N$1,Sheet1!$B8:$D8,3,FALSE) -> #N/A
C19: =VLOOKUP($N$1,Sheet1!$B9:$D$41,2,FALSE) -> #N/A | D19: =VLOOKUP($N$1,Sheet1!$B9:$D9,3,FALSE) -> #N/A

Sheet Sheet3
C1: Name | D1: Note
C2: =VLOOKUP($S$3,Sheet1!$B2:$D$41,2,FALSE) -> Nicolas | D2: =VLOOKUP($S$3,Sheet1!$B2:$D$41,3,FALSE) -> 20
C3: =VLOOKUP($S$3,Sheet1!$B3:$D$41,2,FALSE) -> David | D3: =VLOOKUP($S$3,Sheet1!$B3:$D$41,3,FALSE) -> 15 | Q3: Valeur cherchée | S3: Accepted | T3: 1 | U3: 2 | V3: 3
C4: =VLOOKUP($S$3,Sheet1!$B4:$D$41,2,FALSE) -> David | D4: =VLOOKUP($S$3,Sheet1!$B4:$D$41,3,FALSE) -> 15
C5: =VLOOKUP($S$3,Sheet1!$B5:$D$41,2,FALSE) -> David | D5: =VLOOKUP($S$3,Sheet1!$B5:$D$41,3,FALSE) -> 15
C6: =VLOOKUP($S$3,Sheet1!$B6:$D$41,2,FALSE) -> Luc | D6: =VLOOKUP($S$3,Sheet1!$B6:$D$41,3,FALSE) -> 12
C7: =VLOOKUP($S$3,Sheet1!$B7:$D$41,2,FALSE) -> #N/A | D7: =VLOOKUP($S$3,Sheet1!$B7:$D$41,3,FALSE) -> #N/A
C8: =VLOOKUP($S$3,Sheet1!$B8:$D$41,2,FALSE) -> #N/A | D8: =VLOOKUP($S$3,Sheet1!$B8:$D$41,3,FALSE) -> #N/A
C9: =VLOOKUP($S$3,Sheet1!$B9:$D$41,2,FALSE) -> #N/A | D9: =VLOOKUP($S$3,Sheet1!$B9:$D$41,3,FALSE) -> #N/A
C10: =VLOOKUP($S$3,Sheet1!$B10:$D$41,2,FALSE) -> #N/A | D10: =VLOOKUP($S$3,Sheet1!$B10:$D$41,3,FALSE) -> #N/A
C11: =VLOOKUP($S$3,Sheet1!$B11:$D$41,2,FALSE) -> #N/A | D11: =VLOOKUP($S$3,Sheet1!$B11:$D$41,3,FALSE) -> #N/A
C12: =VLOOKUP($S$3,Sheet1!$B12:$D$41,2,FALSE) -> #N/A | D12: =VLOOKUP($S$3,Sheet1!$B12:$D$41,3,FALSE) -> #N/A
C13: =VLOOKUP($S$3,Sheet1!$B13:$D$41,2,FALSE) -> #N/A | D13: =VLOOKUP($S$3,Sheet1!$B13:$D$41,3,FALSE) -> #N/A
C14: =VLOOKUP($S$3,Sheet1!$B14:$D$41,2,FALSE) -> #N/A | D14: =VLOOKUP($S$3,Sheet1!$B14:$D$41,3,FALSE) -> #N/A
C15: =VLOOKUP($S$3,Sheet1!$B15:$D$41,2,FALSE) -> #N/A | D15: =VLOOKUP($S$3,Sheet1!$B15:$D$41,3,FALSE) -> #N/A
C16: =VLOOKUP($S$3,Sheet1!$B16:$D$41,2,FALSE) -> #N/A | D16: =VLOOKUP($S$3,Sheet1!$B16:$D$41,3,FALSE) -> #N/A
