Workbook
Name ANNEE: Feuil1!$AI$1
Name ASCN: Feuil1!#REF!
Name COMPETENCES: 'Listes déroulantes'!$D$2:$E$7
Name DIVERS: 'Listes déroulantes'!$D$12:$E$15
Name EXPERTISE: 'Listes déroulantes'!$J$2:$K$7
Name FORMAC: 'Listes déroulantes'!$D$18:$E$20
Name FORMAQ: 'Listes déroulantes'!$D$23:$E$25
Name GRADE_a: Feuil1!#REF!
Name GRADE_b: Feuil1!#REF!
Name GRADE_c: Feuil1!#REF!
Name GRADES: 'Listes déroulantes'!$A$28:$A$46
Name OBJECTIF: 'Listes déroulantes'!$A$2:$B$5
Name OBJECTIFS: 'Listes déroulantes'!$A$2:$B$6
Name PROJETS: 'Listes déroulantes'!$A$12:$B$15
Name QUALITES: 'Listes déroulantes'!$G$2:$H$7
Name VAL_GRADES: 'Listes déroulantes'!$A$28:$B$46

Sheet Feuil1
T1: "Devenu sans objet" et "non évalué" ne sont pas pris en compte dans la moyenne | AI1: 2021
AJ2: Ancienneté dans le corps au 31/12/ | AN2: Ancienneté dans l'établissement au 31/12/
H3: APPRECIATION DE LA VALEUR PROFESSIONNELLE | V3: CONDUITE DE PROJETS ET ENCADREMENT | AI3: ANCIENNETÉ DANS LE CORPS | AM3: ANCIENNETÉ DANS L'ETABLISSEMENT | AQ3: PARCOURS PROFESSIONNEL | AX3: TOTAL | AZ3: C | BE3: E | BJ3: M
A4: Code | B4: Statut | C4: Nom | D4: Prénom | E4: Code grade | F4: Grade | G4: Entretien d'évaluation réalisé | H4: Réalisation des objectifs | I4: Rslt en pts | J4: Moyenne de la réalisation des objectifs | K4: Compétences et connaissances professionnelles et techniques | L4: Rslt en pts | N4: Moyenne compétences professionnelles et techniques | O4: Manière de servir et qualités relationnelles | P4: Rslt en pts | Q4: Moyenne manière de servir et qualités relationnelles | R4: Capacité d'expertise, capacité d'encadrement ou à exercer des fonctions d'un niveau supérieur | S4: Rslt en pts | T4: Moyenne Capacité d'expertise, capacité d'encadrement | U4: Cotation sur 40 | V4: Participation active à un groupe de travail | W4: Rslt en pts | X4: Engagement dans un projet de l'établissement | Y4: Rslt en pts | Z4: Production de supports, d'écrits | AA4: Rslt en pts | AB4: Portage d'une référence | AC4: Rslt en pts | AD4: Encadrement de stagiaires | AE4: Rslt en pts | AF4: Encadrement d'agents en contrat aidé | AG4: Rslt en pts | AH4: Cotation sur 30 | AI4: Date entrée dans le corps | AJ4: =DATE(ANNEE,12,31) -> 44561 | AK4: =CONCATENATE(AJ2,ANNEE) -> Ancienneté dans le corps au 31/12/2021 | AL4: Cotation sur 10 +5ans = 2,5 +10ans = 5 +15ans = 7,5 +20 ans = 10 | AM4: Date entrée dans l'établissement | AN4: =DATE(ANNEE,12,31) -> 44561 | AO4: =CONCATENATE(AN2,ANNEE) -> Ancienneté dans l'établissement au 31/12/2021 | AP4: Cotation sur 10 < 10ans = 5 >10ans = 10 | AQ4: Divers : mobilités interne (jour/nuit, chgement de services), disponibilité, assiduité au travail (4 pts) | AR4: Rslt en pts | AS4: Formation continue (2 pts) | AT4: Rslt en pts | AU4: Formations qualifiantes (4 pts) | AV4: Rslt en pts | AW4: Cotation sur 10 | AX4: Cotation sur 100 | AZ4: =MAX(AZ5:AZ485) -> 66.4375 | BA4: =MAX(BA5:BA485) -> 65.583333 | BB4: =MAX(BB5:BB485) -> 64.472222 | BE4: =MAX(BE5:BE485) -> 63.083333 | BF4: =MAX(BF5:BF485) -> 54.402778 | BG4: =MAX(BG5:BG485) -> 52.848214 | BJ4: =MAX(BJ5:BJ485) -> 67.666667 | BK4: =MAX(BK5:BK485) -> 64.201389 | BL4: =MAX(BL5:BL485) -> 62.597222
A5: =CONCATENATE(E5,LEFT(C5,2),RIGHT(C5,2),UPPER((LEFT(D5,3)))) -> AAg01JAD | B5: Titulaire | C5: Agent 01 | D5: Jade | E5: =VLOOKUP($F5,'Listes déroulantes'!$A$28:$B$46,2) -> A | F5: Adjoint administratif | U5: =J6+N6+Q6+T6 -> 26.666667 | AH5: =W6+Y6+AA6+AC6+AE6+AG6 -> 2.5 | AL5: =IF(AK6<5,"0",IF(AK6<10,"2,5",IF(AK6<15,"5",IF(AK6<20,"7,5","10")))) -> 5 | AP5: =IF(AO6<10,5,10) -> 10 | AW5: =AR6+AT6+AV6 -> 2 | AX5: =IF(G5="Oui",U5+AP5+AL5+AH5+AW5,((AP5+AL5+AH5+AW5)*100)/60) -> 32.5 | AZ5: =IF(E5=AZ$3,AX5,0) -> 0 | BA5: =IF(AZ5=AZ$4,AZ5-60,AZ5) -> 0 | BB5: =IF(BA5=BA$4,BA5-60,BA5) -> 0 | BC5: =IF(AZ5=$AZ$4,1,IF(BA5=$BA$4,1,IF(BB5=$BB$4,1,0))) -> 0 | BE5: =IF(E5=BE$3,AX5,0) -> 0 | BF5: =IF(BE5=BE$4,BE5-60,BE5) -> 0 | BG5: =IF(BF5=BF$4,BF5-60,BF5) -> 0 | BH5: =IF(BE5=$BE$4,1,IF(BF5=$BF$4,1,IF(BG5=$BG$4,1,0))) -> 0 | BJ5: =IF(E5=BJ$3,AX5,0) -> 0 | BK5: =IF(BJ5=BJ$4,BJ5-60,BJ5) -> 0 | BL5: =IF(BK5=BK$4,BK5-60,BK5) -> 0 | BM5: =IF(BJ5=$BJ$4,1,IF(BK5=$BK$4,1,IF(BL5=$BL$4,1,0))) -> 0
A6: =CONCATENATE(E6,LEFT(C6,2),RIGHT(C6,2),UPPER((LEFT(D6,3)))) | H6: Atteint | I6: =VLOOKUP(H6,OBJECTIFS,2) -> 10 | J6: =AVERAGE(I6:I10) -> 8.75 | K6: Expert | L6: =VLOOKUP(K6,COMPETENCES,2) -> 10 | M6: =IF(L6="-",0,IF(L6=0,0,1)) -> 1 | N6: =IF(L6<>"-",SUM(L6:L19)/SUM(M6:M19),IF(L7<>"-",SUM(L6:L19)/SUM(M6:M19),IF(L8<>"-",SUM(L6:L19)/SUM(M6:M19),IF(L9<>"-",SUM(L6:L19)/SUM(M6:M19),IF(L10<>"-",SUM(L6:L19)/SUM(M6:M19),IF(L11<>"-",SUM(L6:L19)/SUM(M6:M19),IF(L12<>"-",SUM(L6:L19)/SUM(M6:M19),IF(L13<>"-",SUM(L6:L19)/SUM(M6:M19),IF(L14<>"-",SUM(L6:L19)/SUM(M6:M19),IF(L15<>"-",SUM(L6:L19)/SUM(M6:M19),IF(L16<>"-",SUM(L6:L19)/SUM(M6:M19),IF(L17<>"-",SUM(L6:L19)/SUM(M6:M19),IF(L18<>"-",SUM(L6:L19)/SUM(M6:M19),IF(L19<>"-",SUM(L6:L19)/SUM(M6:M19),0)))))))))))))) -> 6.6666667 | O6: Insatisfaisant | P6: =VLOOKUP(O6,QUALITES,2) -> 5 | Q6: =IF(P6<>"-",AVERAGE(P6:P13),IF(P7<>"-",AVERAGE(P6:P13),IF(P8<>"-",AVERAGE(P6:P13),IF(P9<>"-",AVERAGE(P6:P13),IF(P10<>"-",AVERAGE(P6:P13),IF(P11<>"-",AVERAGE(P6:P13),IF(P12<>"-",AVERAGE(P6:P13),IF(P13<>"-",AVERAGE(P6:P13),0)))))))) -> 6.25 | R6: A développer | S6: =VLOOKUP(R6,EXPERTISE,2) -> 2.5 | T6: =IF(S6<>"-",AVERAGE(S6:S16),IF(S7<>"-",AVERAGE(S6:S16),IF(S8<>"-",AVERAGE(S6:S16),IF(S9<>"-",AVERAGE(S6:S16),IF(S10<>"-",AVERAGE(S6:S16),IF(S11<>"-",AVERAGE(S6:S16),IF(S12<>"-",AVERAGE(S6:S16),IF(S13<>"-",AVERAGE(S6:S16),IF(S14<>"-",AVERAGE(S6:S16),IF(S15<>"-",AVERAGE(S6:S16),IF(S16<>"-",AVERAGE(S6:S16),0))))))))))) -> 5 | V6: Sans objet | W6: =VLOOKUP(V6,PROJETS,2) -> 0 | X6: Satisfaisant | Y6: =VLOOKUP(X6,PROJETS,2) -> 2.5 | Z6: Sans objet | AA6: =VLOOKUP(Z6,PROJETS,2) -> 0 | AB6: Sans objet | AC6: =VLOOKUP(AB6,PROJETS,2) -> 0 | AD6: Sans objet | AE6: =VLOOKUP(AD6,PROJETS,2) -> 0 | AF6: Sans objet | AG6: =VLOOKUP(AF6,PROJETS,2) -> 0 | AI6: 39302 | AJ6: =AJ4 -> 44561 | AK6: =(AJ6-AI6)/365 -> 14.408219 | AM6: 35309 | AN6: =AN4 -> 44561 | AO6: =(AN6-AM6)/365 -> 25.347945 | AQ6: Satisfaisant | AR6: =VLOOKUP(AQ6,DIVERS,2) -> 2 | AS6: Sans objet | AT6: =VLOOKUP(AS6,FORMAC,2) -> 0 | AU6: Sans objet | AV6: =VLOOKUP(AU6,FORMAQ,2) -> 0 | AZ6: =IF(E6=AZ$3,AX6,0) -> 0 | BA6: =IF(AZ6=AZ$4,AZ6-60,AZ6) -> 0 | BB6: =IF(BA6=BA$4,BA6-60,BA6) -> 0 | BC6: =IF(AZ6=$AZ$4,1,IF(BA6=$BA$4,1,IF(BB6=$BB$4,1,0))) -> 0 | BE6: =IF(E6=BE$3,AX6,0) -> 0 | BF6: =IF(BE6=BE$4,BE6-60,BE6) -> 0 | BG6: =IF(BF6=BF$4,BF6-60,BF6) -> 0 | BH6: =IF(BE6=$BE$4,1,IF(BF6=$BF$4,1,IF(BG6=$BG$4,1,0))) -> 0 | BJ6: =IF(E6=BJ$3,AX6,0) -> 0 | BK6: =IF(BJ6=BJ$4,BJ6-60,BJ6) -> 0 | BL6: =IF(BK6=BK$4,BK6-60,BK6) -> 0 | BM6: =IF(BJ6=$BJ$4,1,IF(BK6=$BK$4,1,IF(BL6=$BL$4,1,0))) -> 0
A7: =CONCATENATE(E7,LEFT(C7,2),RIGHT(C7,2),UPPER((LEFT(D7,3)))) | H7: Atteint | I7: =VLOOKUP(H7,OBJECTIFS,2) -> 10 | K7: Pratique courante | L7: =VLOOKUP(K7,COMPETENCES,2) -> 5 | M7: =IF(L7="-",0,IF(L7=0,0,1)) -> 1 | O7: Non évalué | P7: =VLOOKUP(O7,QUALITES,2) -> - | R7: Pratique courante | S7: =VLOOKUP(R7,EXPERTISE,2) -> 5 | AZ7: =IF(E7=AZ$3,AX7,0) -> 0 | BA7: =IF(AZ7=AZ$4,AZ7-60,AZ7) -> 0 | BB7: =IF(BA7=BA$4,BA7-60,BA7) -> 0 | BC7: =IF(AZ7=$AZ$4,1,IF(BA7=$BA$4,1,IF(BB7=$BB$4,1,0))) -> 0 | BE7: =IF(E7=BE$3,AX7,0) -> 0 | BF7: =IF(BE7=BE$4,BE7-60,BE7) -> 0 | BG7: =IF(BF7=BF$4,BF7-60,BF7) -> 0 | BH7: =IF(BE7=$BE$4,1,IF(BF7=$BF$4,1,IF(BG7=$BG$4,1,0))) -> 0 | BJ7: =IF(E7=BJ$3,AX7,0) -> 0 | BK7: =IF(BJ7=BJ$4,BJ7-60,BJ7) -> 0 | BL7: =IF(BK7=BK$4,BK7-60,BK7) -> 0 | BM7: =IF(BJ7=$BJ$4,1,IF(BK7=$BK$4,1,IF(BL7=$BL$4,1,0))) -> 0
A8: =CONCATENATE(E8,LEFT(C8,2),RIGHT(C8,2),UPPER((LEFT(D8,3)))) | H8: Partiellement atteint | I8: =VLOOKUP(H8,OBJECTIFS,2) -> 5 | K8: Pratique courante | L8: =VLOOKUP(K8,COMPETENCES,2) -> 5 | M8: =IF(L8="-",0,IF(L8=0,0,1)) -> 1 | O8: Satisfaisant | P8: =VLOOKUP(O8,QUALITES,2) -> 7.5 | R8: Maitrise | S8: =VLOOKUP(R8,EXPERTISE,2) -> 7.5 | AZ8: =IF(E8=AZ$3,AX8,0) -> 0 | BA8: =IF(AZ8=AZ$4,AZ8-60,AZ8) -> 0 | BB8: =IF(BA8=BA$4,BA8-60,BA8) -> 0 | BC8: =IF(AZ8=$AZ$4,1,IF(BA8=$BA$4,1,IF(BB8=$BB$4,1,0))) -> 0 | BE8: =IF(E8=BE$3,AX8,0) -> 0 | BF8: =IF(BE8=BE$4,BE8-60,BE8) -> 0 | BG8: =IF(BF8=BF$4,BF8-60,BF8) -> 0 | BH8: =IF(BE8=$BE$4,1,IF(BF8=$BF$4,1,IF(BG8=$BG$4,1,0))) -> 0 | BJ8: =IF(E8=BJ$3,AX8,0) -> 0 | BK8: =IF(BJ8=BJ$4,BJ8-60,BJ8) -> 0 | BL8: =IF(BK8=BK$4,BK8-60,BK8) -> 0 | BM8: =IF(BJ8=$BJ$4,1,IF(BK8=$BK$4,1,IF(BL8=$BL$4,1,0))) -> 0
A9: =CONCATENATE(E9,LEFT(C9,2),RIGHT(C9,2),UPPER((LEFT(D9,3)))) | H9: Atteint | I9: =VLOOKUP(H9,OBJECTIFS,2) -> 10 | K9: Non évalué | L9: =VLOOKUP(K9,COMPETENCES,2) -> - | M9: =IF(L9="-",0,IF(L9=0,0,1)) -> 0 | O9: . | P9: =VLOOKUP(O9,QUALITES,2) -> - | R9: . | S9: =VLOOKUP(R9,EXPERTISE,2) -> - | AZ9: =IF(E9=AZ$3,AX9,0) -> 0 | BA9: =IF(AZ9=AZ$4,AZ9-60,AZ9) -> 0 | BB9: =IF(BA9=BA$4,BA9-60,BA9) -> 0 | BC9: =IF(AZ9=$AZ$4,1,IF(BA9=$BA$4,1,IF(BB9=$BB$4,1,0))) -> 0 | BE9: =IF(E9=BE$3,AX9,0) -> 0 | BF9: =IF(BE9=BE$4,BE9-60,BE9) -> 0 | BG9: =IF(BF9=BF$4,BF9-60,BF9) -> 0 | BH9: =IF(BE9=$BE$4,1,IF(BF9=$BF$4,1,IF(BG9=$BG$4,1,0))) -> 0 | BJ9: =IF(E9=BJ$3,AX9,0) -> 0 | BK9: =IF(BJ9=BJ$4,BJ9-60,BJ9) -> 0 | BL9: =IF(BK9=BK$4,BK9-60,BK9) -> 0 | BM9: =IF(BJ9=$BJ$4,1,IF(BK9=$BK$4,1,IF(BL9=$BL$4,1,0))) -> 0
A10: =CONCATENATE(E10,LEFT(C10,2),RIGHT(C10,2),UPPER((LEFT(D10,3)))) | H10: . | I10: =VLOOKUP(H10,OBJECTIFS,2) -> - | K10: Non évalué | L10: =VLOOKUP(K10,COMPETENCES,2) -> - | M10: =IF(L10="-",0,IF(L10=0,0,1)) -> 0 | O10: . | P10: =VLOOKUP(O10,QUALITES,2) -> - | R10: . | S10: =VLOOKUP(R10,EXPERTISE,2) -> - | AZ10: =IF(E10=AZ$3,AX10,0) -> 0 | BA10: =IF(AZ10=AZ$4,AZ10-60,AZ10) -> 0 | BB10: =IF(BA10=BA$4,BA10-60,BA10) -> 0 | BC10: =IF(AZ10=$AZ$4,1,IF(BA10=$BA$4,1,IF(BB10=$BB$4,1,0))) -> 0 | BE10: =IF(E10=BE$3,AX10,0) -> 0 | BF10: =IF(BE10=BE$4,BE10-60,BE10) -> 0 | BG10: =IF(BF10=BF$4,BF10-60,BF10) -> 0 | BH10: =IF(BE10=$BE$4,1,IF(BF10=$BF$4,1,IF(BG10=$BG$4,1,0))) -> 0 | BJ10: =IF(E10=BJ$3,AX10,0) -> 0 | BK10: =IF(BJ10=BJ$4,BJ10-60,BJ10) -> 0 | BL10: =IF(BK10=BK$4,BK10-60,BK10) -> 0 | BM10: =IF(BJ10=$BJ$4,1,IF(BK10=$BK$4,1,IF(BL10=$BL$4,1,0))) -> 0
A11: =CONCATENATE(E11,LEFT(C11,2),RIGHT(C11,2),UPPER((LEFT(D11,3)))) | K11: Non évalué | L11: =VLOOKUP(K11,COMPETENCES,2) -> - | M11: =IF(L11="-",0,IF(L11=0,0,1)) -> 0 | O11: . | P11: =VLOOKUP(O11,QUALITES,2) -> - | R11: . | S11: =VLOOKUP(R11,EXPERTISE,2) -> - | AZ11: =IF(E11=AZ$3,AX11,0) -> 0 | BA11: =IF(AZ11=AZ$4,AZ11-60,AZ11) -> 0 | BB11: =IF(BA11=BA$4,BA11-60,BA11) -> 0 | BC11: =IF(AZ11=$AZ$4,1,IF(BA11=$BA$4,1,IF(BB11=$BB$4,1,0))) -> 0 | BE11: =IF(E11=BE$3,AX11,0) -> 0 | BF11: =IF(BE11=BE$4,BE11-60,BE11) -> 0 | BG11: =IF(BF11=BF$4,BF11-60,BF11) -> 0 | BH11: =IF(BE11=$BE$4,1,IF(BF11=$BF$4,1,IF(BG11=$BG$4,1,0))) -> 0 | BJ11: =IF(E11=BJ$3,AX11,0) -> 0 | BK11: =IF(BJ11=BJ$4,BJ11-60,BJ11) -> 0 | BL11: =IF(BK11=BK$4,BK11-60,BK11) -> 0 | BM11: =IF(BJ11=$BJ$4,1,IF(BK11=$BK$4,1,IF(BL11=$BL$4,1,0))) -> 0
A12: =CONCATENATE(E12,LEFT(C12,2),RIGHT(C12,2),UPPER((LEFT(D12,3)))) | K12: . | L12: =VLOOKUP(K12,COMPETENCES,2) -> - | M12: =IF(L12="-",0,IF(L12=0,0,1)) -> 0 | O12: . | P12: =VLOOKUP(O12,QUALITES,2) -> - | R12: . | S12: =VLOOKUP(R12,EXPERTISE,2) -> - | AZ12: =IF(E12=AZ$3,AX12,0) -> 0 | BA12: =IF(AZ12=AZ$4,AZ12-60,AZ12) -> 0 | BB12: =IF(BA12=BA$4,BA12-60,BA12) -> 0 | BC12: =IF(AZ12=$AZ$4,1,IF(BA12=$BA$4,1,IF(BB12=$BB$4,1,0))) -> 0 | BE12: =IF(E12=BE$3,AX12,0) -> 0 | BF12: =IF(BE12=BE$4,BE12-60,BE12) -> 0 | BG12: =IF(BF12=BF$4,BF12-60,BF12) -> 0 | BH12: =IF(BE12=$BE$4,1,IF(BF12=$BF$4,1,IF(BG12=$BG$4,1,0))) -> 0 | BJ12: =IF(E12=BJ$3,AX12,0) -> 0 | BK12: =IF(BJ12=BJ$4,BJ12-60,BJ12) -> 0 | BL12: =IF(BK12=BK$4,BK12-60,BK12) -> 0 | BM12: =IF(BJ12=$BJ$4,1,IF(BK12=$BK$4,1,IF(BL12=$BL$4,1,0))) -> 0
A13: =CONCATENATE(E13,LEFT(C13,2),RIGHT(C13,2),UPPER((LEFT(D13,3)))) | K13: . | L13: =VLOOKUP(K13,COMPETENCES,2) -> - | M13: =IF(L13="-",0,IF(L13=0,0,1)) -> 0 | O13: . | P13: =VLOOKUP(O13,QUALITES,2) -> - | R13: . | S13: =VLOOKUP(R13,EXPERTISE,2) -> - | AZ13: =IF(E13=AZ$3,AX13,0) -> 0 | BA13: =IF(AZ13=AZ$4,AZ13-60,AZ13) -> 0 | BB13: =IF(BA13=BA$4,BA13-60,BA13) -> 0 | BC13: =IF(AZ13=$AZ$4,1,IF(BA13=$BA$4,1,IF(BB13=$BB$4,1,0))) -> 0 | BE13: =IF(E13=BE$3,AX13,0) -> 0 | BF13: =IF(BE13=BE$4,BE13-60,BE13) -> 0 | BG13: =IF(BF13=BF$4,BF13-60,BF13) -> 0 | BH13: =IF(BE13=$BE$4,1,IF(BF13=$BF$4,1,IF(BG13=$BG$4,1,0))) -> 0 | BJ13: =IF(E13=BJ$3,AX13,0) -> 0 | BK13: =IF(BJ13=BJ$4,BJ13-60,BJ13) -> 0 | BL13: =IF(BK13=BK$4,BK13-60,BK13) -> 0 | BM13: =IF(BJ13=$BJ$4,1,IF(BK13=$BK$4,1,IF(BL13=$BL$4,1,0))) -> 0
A14: =CONCATENATE(E14,LEFT(C14,2),RIGHT(C14,2),UPPER((LEFT(D14,3)))) | K14: . | L14: =VLOOKUP(K14,COMPETENCES,2) -> - | M14: =IF(L14="-",0,IF(L14=0,0,1)) -> 0 | R14: . | S14: =VLOOKUP(R14,EXPERTISE,2) -> - | AZ14: =IF(E14=AZ$3,AX14,0) -> 0 | BA14: =IF(AZ14=AZ$4,AZ14-60,AZ14) -> 0 | BB14: =IF(BA14=BA$4,BA14-60,BA14) -> 0 | BC14: =IF(AZ14=$AZ$4,1,IF(BA14=$BA$4,1,IF(BB14=$BB$4,1,0))) -> 0 | BE14: =IF(E14=BE$3,AX14,0) -> 0 | BF14: =IF(BE14=BE$4,BE14-60,BE14) -> 0 | BG14: =IF(BF14=BF$4,BF14-60,BF14) -> 0 | BH14: =IF(BE14=$BE$4,1,IF(BF14=$BF$4,1,IF(BG14=$BG$4,1,0))) -> 0 | BJ14: =IF(E14=BJ$3,AX14,0) -> 0 | BK14: =IF(BJ14=BJ$4,BJ14-60,BJ14) -> 0 | BL14: =IF(BK14=BK$4,BK14-60,BK14) -> 0 | BM14: =IF(BJ14=$BJ$4,1,IF(BK14=$BK$4,1,IF(BL14=$BL$4,1,0))) -> 0
A15: =CONCATENATE(E15,LEFT(C15,2),RIGHT(C15,2),UPPER((LEFT(D15,3)))) | K15: . | L15: =VLOOKUP(K15,COMPETENCES,2) -> - | M15: =IF(L15="-",0,IF(L15=0,0,1)) -> 0 | R15: . | S15: =VLOOKUP(R15,EXPERTISE,2) -> - | AZ15: =IF(E15=AZ$3,AX15,0) -> 0 | BA15: =IF(AZ15=AZ$4,AZ15-60,AZ15) -> 0 | BB15: =IF(BA15=BA$4,BA15-60,BA15) -> 0 | BC15: =IF(AZ15=$AZ$4,1,IF(BA15=$BA$4,1,IF(BB15=$BB$4,1,0))) -> 0 | BE15: =IF(E15=BE$3,AX15,0) -> 0 | BF15: =IF(BE15=BE$4,BE15-60,BE15) -> 0 | BG15: =IF(BF15=BF$4,BF15-60,BF15) -> 0 | BH15: =IF(BE15=$BE$4,1,IF(BF15=$BF$4,1,IF(BG15=$BG$4,1,0))) -> 0 | BJ15: =IF(E15=BJ$3,AX15,0) -> 0 | BK15: =IF(BJ15=BJ$4,BJ15-60,BJ15) -> 0 | BL15: =IF(BK15=BK$4,BK15-60,BK15) -> 0 | BM15: =IF(BJ15=$BJ$4,1,IF(BK15=$BK$4,1,IF(BL15=$BL$4,1,0))) -> 0
A16: =CONCATENATE(E16,LEFT(C16,2),RIGHT(C16,2),UPPER((LEFT(D16,3)))) | K16: . | L16: =VLOOKUP(K16,COMPETENCES,2) -> - | M16: =IF(L16="-",0,IF(L16=0,0,1)) -> 0 | R16: . | S16: =VLOOKUP(R16,EXPERTISE,2) -> - | AZ16: =IF(E16=AZ$3,AX16,0) -> 0 | BA16: =IF(AZ16=AZ$4,AZ16-60,AZ16) -> 0 | BB16: =IF(BA16=BA$4,BA16-60,BA16) -> 0 | BC16: =IF(AZ16=$AZ$4,1,IF(BA16=$BA$4,1,IF(BB16=$BB$4,1,0))) -> 0 | BE16: =IF(E16=BE$3,AX16,0) -> 0 | BF16: =IF(BE16=BE$4,BE16-60,BE16) -> 0 | BG16: =IF(BF16=BF$4,BF16-60,BF16) -> 0 | BH16: =IF(BE16=$BE$4,1,IF(BF16=$BF$4,1,IF(BG16=$BG$4,1,0))) -> 0 | BJ16: =IF(E16=BJ$3,AX16,0) -> 0 | BK16: =IF(BJ16=BJ$4,BJ16-60,BJ16) -> 0 | BL16: =IF(BK16=BK$4,BK16-60,BK16) -> 0 | BM16: =IF(BJ16=$BJ$4,1,IF(BK16=$BK$4,1,IF(BL16=$BL$4,1,0))) -> 0
A17: =CONCATENATE(E17,LEFT(C17,2),RIGHT(C17,2),UPPER((LEFT(D17,3)))) | K17: . | L17: =VLOOKUP(K17,COMPETENCES,2) -> - | M17: =IF(L17="-",0,IF(L17=0,0,1)) -> 0 | AZ17: =IF(E17=AZ$3,AX17,0) -> 0 | BA17: =IF(AZ17=AZ$4,AZ17-60,AZ17) -> 0 | BB17: =IF(BA17=BA$4,BA17-60,BA17) -> 0 | BC17: =IF(AZ17=$AZ$4,1,IF(BA17=$BA$4,1,IF(BB17=$BB$4,1,0))) -> 0 | BE17: =IF(E17=BE$3,AX17,0) -> 0 | BF17: =IF(BE17=BE$4,BE17-60,BE17) -> 0 | BG17: =IF(BF17=BF$4,BF17-60,BF17) -> 0 | BH17: =IF(BE17=$BE$4,1,IF(BF17=$BF$4,1,IF(BG17=$BG$4,1,0))) -> 0 | BJ17: =IF(E17=BJ$3,AX17,0) -> 0 | BK17: =IF(BJ17=BJ$4,BJ17-60,BJ17) -> 0 | BL17: =IF(BK17=BK$4,BK17-60,BK17) -> 0 | BM17: =IF(BJ17=$BJ$4,1,IF(BK17=$BK$4,1,IF(BL17=$BL$4,1,0))) -> 0
A18: =CONCATENATE(E18,LEFT(C18,2),RIGHT(C18,2),UPPER((LEFT(D18,3)))) | K18: . | L18: =VLOOKUP(K18,COMPETENCES,2) -> - | M18: =IF(L18="-",0,IF(L18=0,0,1)) -> 0 | AZ18: =IF(E18=AZ$3,AX18,0) -> 0 | BA18: =IF(AZ18=AZ$4,AZ18-60,AZ18) -> 0 | BB18: =IF(BA18=BA$4,BA18-60,BA18) -> 0 | BC18: =IF(AZ18=$AZ$4,1,IF(BA18=$BA$4,1,IF(BB18=$BB$4,1,0))) -> 0 | BE18: =IF(E18=BE$3,AX18,0) -> 0 | BF18: =IF(BE18=BE$4,BE18-60,BE18) -> 0 | BG18: =IF(BF18=BF$4,BF18-60,BF18) -> 0 | BH18: =IF(BE18=$BE$4,1,IF(BF18=$BF$4,1,IF(BG18=$BG$4,1,0))) -> 0 | BJ18: =IF(E18=BJ$3,AX18,0) -> 0 | BK18: =IF(BJ18=BJ$4,BJ18-60,BJ18) -> 0 | BL18: =IF(BK18=BK$4,BK18-60,BK18) -> 0 | BM18: =IF(BJ18=$BJ$4,1,IF(BK18=$BK$4,1,IF(BL18=$BL$4,1,0))) -> 0
A19: =CONCATENATE(E19,LEFT(C19,2),RIGHT(C19,2),UPPER((LEFT(D19,3)))) | K19: . | L19: =VLOOKUP(K19,COMPETENCES,2) -> - | M19: =IF(L19="-",0,IF(L19=0,0,1)) -> 0 | AZ19: =IF(E19=AZ$3,AX19,0) -> 0 | BA19: =IF(AZ19=AZ$4,AZ19-60,AZ19) -> 0 | BB19: =IF(BA19=BA$4,BA19-60,BA19) -> 0 | BC19: =IF(AZ19=$AZ$4,1,IF(BA19=$BA$4,1,IF(BB19=$BB$4,1,0))) -> 0 | BE19: =IF(E19=BE$3,AX19,0) -> 0 | BF19: =IF(BE19=BE$4,BE19-60,BE19) -> 0 | BG19: =IF(BF19=BF$4,BF19-60,BF19) -> 0 | BH19: =IF(BE19=$BE$4,1,IF(BF19=$BF$4,1,IF(BG19=$BG$4,1,0))) -> 0 | BJ19: =IF(E19=BJ$3,AX19,0) -> 0 | BK19: =IF(BJ19=BJ$4,BJ19-60,BJ19) -> 0 | BL19: =IF(BK19=BK$4,BK19-60,BK19) -> 0 | BM19: =IF(BJ19=$BJ$4,1,IF(BK19=$BK$4,1,IF(BL19=$BL$4,1,0))) -> 0
A20: =CONCATENATE(E20,LEFT(C20,2),RIGHT(C20,2),UPPER((LEFT(D20,3)))) | K20: . | AZ20: =IF(E20=AZ$3,AX20,0) -> 0 | BA20: =IF(AZ20=AZ$4,AZ20-60,AZ20) -> 0 | BB20: =IF(BA20=BA$4,BA20-60,BA20) -> 0 | BC20: =IF(AZ20=$AZ$4,1,IF(BA20=$BA$4,1,IF(BB20=$BB$4,1,0))) -> 0 | BE20: =IF(E20=BE$3,AX20,0) -> 0 | BF20: =IF(BE20=BE$4,BE20-60,BE20) -> 0 | BG20: =IF(BF20=BF$4,BF20-60,BF20) -> 0 | BH20: =IF(BE20=$BE$4,1,IF(BF20=$BF$4,1,IF(BG20=$BG$4,1,0))) -> 0 | BJ20: =IF(E20=BJ$3,AX20,0) -> 0 | BK20: =IF(BJ20=BJ$4,BJ20-60,BJ20) -> 0 | BL20: =IF(BK20=BK$4,BK20-60,BK20) -> 0 | BM20: =IF(BJ20=$BJ$4,1,IF(BK20=$BK$4,1,IF(BL20=$BL$4,1,0))) -> 0
A21: =CONCATENATE(E21,LEFT(C21,2),RIGHT(C21,2),UPPER((LEFT(D21,3)))) -> BAg02LÉO | B21: Titulaire | C21: Agent 02 | D21: Léo | E21: =VLOOKUP($F21,'Listes déroulantes'!$A$28:$B$46,2) -> B | F21: Aide-soignant cl. supérieure | U21: =J22+N22+Q22+T22 -> 33.125 | AH21: =W22+Y22+AA22+AC22+AE22+AG22 -> 2.5 | AL21: =IF(AK22<5,"0",IF(AK22<10,"2,5",IF(AK22<15,"5",IF(AK22<20,"7,5","10")))) -> 10 | AP21: =IF(AO22<10,5,10) -> 10 | AW21: =AR22+AT22+AV22 -> 2 | AX21: =U21+AP21+AL21+AH21+AW21 -> 57.625 | AZ21: =IF(E21=AZ$3,AX21,0) -> 0 | BA21: =IF(AZ21=AZ$4,AZ21-60,AZ21) -> 0 | BB21: =IF(BA21=BA$4,BA21-60,BA21) -> 0 | BC21: =IF(AZ21=$AZ$4,1,IF(BA21=$BA$4,1,IF(BB21=$BB$4,1,0))) -> 0 | BE21: =IF(E21=BE$3,AX21,0) -> 0 | BF21: =IF(BE21=BE$4,BE21-60,BE21) -> 0 | BG21: =IF(BF21=BF$4,BF21-60,BF21) -> 0 | BH21: =IF(BE21=$BE$4,1,IF(BF21=$BF$4,1,IF(BG21=$BG$4,1,0))) -> 0 | BJ21: =IF(E21=BJ$3,AX21,0) -> 0 | BK21: =IF(BJ21=BJ$4,BJ21-60,BJ21) -> 0 | BL21: =IF(BK21=BK$4,BK21-60,BK21) -> 0 | BM21: =IF(BJ21=$BJ$4,1,IF(BK21=$BK$4,1,IF(BL21=$BL$4,1,0))) -> 0
A22: =CONCATENATE(E22,LEFT(C22,2),RIGHT(C22,2),UPPER((LEFT(D22,3)))) | H22: Partiellement atteint | I22: =VLOOKUP(H22,OBJECTIFS,2) -> 5 | J22: =AVERAGE(I22:I26) -> 7.5 | K22: Maitrise | L22: =VLOOKUP(K22,COMPETENCES,2) -> 7.5 | M22: =IF(L22="-",0,IF(L22=0,0,1)) -> 1 | N22: =SUM(L22:L35)/SUM(M22:M35) -> 8.75 | O22: Très satisfaisant | P22: =VLOOKUP(O22,QUALITES,2) -> 10 | Q22: =AVERAGE(P22:P29) -> 9.0625 | R22: Maitrise | S22: =VLOOKUP(R22,EXPERTISE,2) -> 7.5 | T22: =AVERAGE(S22:S32) -> 7.8125 | V22: Sans objet | W22: =VLOOKUP(V22,PROJETS,2) -> 0 | X22: Satisfaisant | Y22: =VLOOKUP(X22,PROJETS,2) -> 2.5 | Z22: Sans objet | AA22: =VLOOKUP(Z22,PROJETS,2) -> 0 | AB22: Sans objet | AC22: =VLOOKUP(AB22,PROJETS,2) -> 0 | AD22: Sans objet | AE22: =VLOOKUP(AD22,PROJETS,2) -> 0 | AF22: Sans objet | AG22: =VLOOKUP(AF22,PROJETS,2) -> 0 | AI22: 34731 | AJ22: =AJ4 -> 44561 | AK22: =(AJ22-AI22)/365 -> 26.931507 | AM22: 32891 | AN22: =AN4 -> 44561 | AO22: =(AN22-AM22)/365 -> 31.972603 | AQ22: Satisfaisant | AR22: =VLOOKUP(AQ22,DIVERS,2) -> 2 | AS22: Sans objet | AT22: =VLOOKUP(AS22,FORMAC,2) -> 0 | AU22: Sans objet | AV22: =VLOOKUP(AU22,FORMAQ,2) -> 0 | AZ22: =IF(E22=AZ$3,AX22,0) -> 0 | BA22: =IF(AZ22=AZ$4,AZ22-60,AZ22) -> 0 | BB22: =IF(BA22=BA$4,BA22-60,BA22) -> 0 | BC22: =IF(AZ22=$AZ$4,1,IF(BA22=$BA$4,1,IF(BB22=$BB$4,1,0))) -> 0 | BE22: =IF(E22=BE$3,AX22,0) -> 0 | BF22: =IF(BE22=BE$4,BE22-60,BE22) -> 0 | BG22: =IF(BF22=BF$4,BF22-60,BF22) -> 0 | BH22: =IF(BE22=$BE$4,1,IF(BF22=$BF$4,1,IF(BG22=$BG$4,1,0))) -> 0 | BJ22: =IF(E22=BJ$3,AX22,0) -> 0 | BK22: =IF(BJ22=BJ$4,BJ22-60,BJ22) -> 0 | BL22: =IF(BK22=BK$4,BK22-60,BK22) -> 0 | BM22: =IF(BJ22=$BJ$4,1,IF(BK22=$BK$4,1,IF(BL22=$BL$4,1,0))) -> 0
A23: =CONCATENATE(E23,LEFT(C23,2),RIGHT(C23,2),UPPER((LEFT(D23,3)))) | H23: Atteint | I23: =VLOOKUP(H23,OBJECTIFS,2) -> 10 | K23: Expert | L23: =VLOOKUP(K23,COMPETENCES,2) -> 10 | M23: =IF(L23="-",0,IF(L23=0,0,1)) -> 1 | O23: Très satisfaisant | P23: =VLOOKUP(O23,QUALITES,2) -> 10 | R23: Maitrise | S23: =VLOOKUP(R23,EXPERTISE,2) -> 7.5 | AZ23: =IF(E23=AZ$3,AX23,0) -> 0 | BA23: =IF(AZ23=AZ$4,AZ23-60,AZ23) -> 0 | BB23: =IF(BA23=BA$4,BA23-60,BA23) -> 0 | BC23: =IF(AZ23=$AZ$4,1,IF(BA23=$BA$4,1,IF(BB23=$BB$4,1,0))) -> 0 | BE23: =IF(E23=BE$3,AX23,0) -> 0 | BF23: =IF(BE23=BE$4,BE23-60,BE23) -> 0 | BG23: =IF(BF23=BF$4,BF23-60,BF23) -> 0 | BH23: =IF(BE23=$BE$4,1,IF(BF23=$BF$4,1,IF(BG23=$BG$4,1,0))) -> 0 | BJ23: =IF(E23=BJ$3,AX23,0) -> 0 | BK23: =IF(BJ23=BJ$4,BJ23-60,BJ23) -> 0 | BL23: =IF(BK23=BK$4,BK23-60,BK23) -> 0 | BM23: =IF(BJ23=$BJ$4,1,IF(BK23=$BK$4,1,IF(BL23=$BL$4,1,0))) -> 0
A24: =CONCATENATE(E24,LEFT(C24,2),RIGHT(C24,2),UPPER((LEFT(D24,3)))) | H24: . | I24: =VLOOKUP(H24,OBJECTIFS,2) -> - | K24: Maitrise | L24: =VLOOKUP(K24,COMPETENCES,2) -> 7.5 | M24: =IF(L24="-",0,IF(L24=0,0,1)) -> 1 | O24: Satisfaisant | P24: =VLOOKUP(O24,QUALITES,2) -> 7.5 | R24: Maitrise | S24: =VLOOKUP(R24,EXPERTISE,2) -> 7.5 | AZ24: =IF(E24=AZ$3,AX24,0) -> 0 | BA24: =IF(AZ24=AZ$4,AZ24-60,AZ24) -> 0 | BB24: =IF(BA24=BA$4,BA24-60,BA24) -> 0 | BC24: =IF(AZ24=$AZ$4,1,IF(BA24=$BA$4,1,IF(BB24=$BB$4,1,0))) -> 0 | BE24: =IF(E24=BE$3,AX24,0) -> 0 | BF24: =IF(BE24=BE$4,BE24-60,BE24) -> 0 | BG24: =IF(BF24=BF$4,BF24-60,BF24) -> 0 | BH24: =IF(BE24=$BE$4,1,IF(BF24=$BF$4,1,IF(BG24=$BG$4,1,0))) -> 0 | BJ24: =IF(E24=BJ$3,AX24,0) -> 0 | BK24: =IF(BJ24=BJ$4,BJ24-60,BJ24) -> 0 | BL24: =IF(BK24=BK$4,BK24-60,BK24) -> 0 | BM24: =IF(BJ24=$BJ$4,1,IF(BK24=$BK$4,1,IF(BL24=$BL$4,1,0))) -> 0
A25: =CONCATENATE(E25,LEFT(C25,2),RIGHT(C25,2),UPPER((LEFT(D25,3)))) | H25: . | I25: =VLOOKUP(H25,OBJECTIFS,2) -> - | K25: Expert | L25: =VLOOKUP(K25,COMPETENCES,2) -> 10 | M25: =IF(L25="-",0,IF(L25=0,0,1)) -> 1 | O25: Satisfaisant | P25: =VLOOKUP(O25,QUALITES,2) -> 7.5 | R25: Maitrise | S25: =VLOOKUP(R25,EXPERTISE,2) -> 7.5 | AZ25: =IF(E25=AZ$3,AX25,0) -> 0 | BA25: =IF(AZ25=AZ$4,AZ25-60,AZ25) -> 0 | BB25: =IF(BA25=BA$4,BA25-60,BA25) -> 0 | BC25: =IF(AZ25=$AZ$4,1,IF(BA25=$BA$4,1,IF(BB25=$BB$4,1,0))) -> 0 | BE25: =IF(E25=BE$3,AX25,0) -> 0 | BF25: =IF(BE25=BE$4,BE25-60,BE25) -> 0 | BG25: =IF(BF25=BF$4,BF25-60,BF25) -> 0 | BH25: =IF(BE25=$BE$4,1,IF(BF25=$BF$4,1,IF(BG25=$BG$4,1,0))) -> 0 | BJ25: =IF(E25=BJ$3,AX25,0) -> 0 | BK25: =IF(BJ25=BJ$4,BJ25-60,BJ25) -> 0 | BL25: =IF(BK25=BK$4,BK25-60,BK25) -> 0 | BM25: =IF(BJ25=$BJ$4,1,IF(BK25=$BK$4,1,IF(BL25=$BL$4,1,0))) -> 0
A26: =CONCATENATE(E26,LEFT(C26,2),RIGHT(C26,2),UPPER((LEFT(D26,3)))) | H26: . | I26: =VLOOKUP(H26,OBJECTIFS,2) -> - | K26: Maitrise | L26: =VLOOKUP(K26,COMPETENCES,2) -> 7.5 | M26: =IF(L26="-",0,IF(L26=0,0,1)) -> 1 | O26: Très satisfaisant | P26: =VLOOKUP(O26,QUALITES,2) -> 10 | R26: Non évalué | S26: =VLOOKUP(R26,EXPERTISE,2) -> - | AZ26: =IF(E26=AZ$3,AX26,0) -> 0 | BA26: =IF(AZ26=AZ$4,AZ26-60,AZ26) -> 0 | BB26: =IF(BA26=BA$4,BA26-60,BA26) -> 0 | BC26: =IF(AZ26=$AZ$4,1,IF(BA26=$BA$4,1,IF(BB26=$BB$4,1,0))) -> 0 | BE26: =IF(E26=BE$3,AX26,0) -> 0 | BF26: =IF(BE26=BE$4,BE26-60,BE26) -> 0 | BG26: =IF(BF26=BF$4,BF26-60,BF26) -> 0 | BH26: =IF(BE26=$BE$4,1,IF(BF26=$BF$4,1,IF(BG26=$BG$4,1,0))) -> 0 | BJ26: =IF(E26=BJ$3,AX26,0) -> 0 | BK26: =IF(BJ26=BJ$4,BJ26-60,BJ26) -> 0 | BL26: =IF(BK26=BK$4,BK26-60,BK26) -> 0 | BM26: =IF(BJ26=$BJ$4,1,IF(BK26=$BK$4,1,IF(BL26=$BL$4,1,0))) -> 0
A27: =CONCATENATE(E27,LEFT(C27,2),RIGHT(C27,2),UPPER((LEFT(D27,3)))) | K27: Expert | L27: =VLOOKUP(K27,COMPETENCES,2) -> 10 | M27: =IF(L27="-",0,IF(L27=0,0,1)) -> 1 | O27: Très satisfaisant | P27: =VLOOKUP(O27,QUALITES,2) -> 10 | R27: Expert | S27: =VLOOKUP(R27,EXPERTISE,2) -> 10 | AZ27: =IF(E27=AZ$3,AX27,0) -> 0 | BA27: =IF(AZ27=AZ$4,AZ27-60,AZ27) -> 0 | BB27: =IF(BA27=BA$4,BA27-60,BA27) -> 0 | BC27: =IF(AZ27=$AZ$4,1,IF(BA27=$BA$4,1,IF(BB27=$BB$4,1,0))) -> 0 | BE27: =IF(E27=BE$3,AX27,0) -> 0 | BF27: =IF(BE27=BE$4,BE27-60,BE27) -> 0 | BG27: =IF(BF27=BF$4,BF27-60,BF27) -> 0 | BH27: =IF(BE27=$BE$4,1,IF(BF27=$BF$4,1,IF(BG27=$BG$4,1,0))) -> 0 | BJ27: =IF(E27=BJ$3,AX27,0) -> 0 | BK27: =IF(BJ27=BJ$4,BJ27-60,BJ27) -> 0 | BL27: =IF(BK27=BK$4,BK27-60,BK27) -> 0 | BM27: =IF(BJ27=$BJ$4,1,IF(BK27=$BK$4,1,IF(BL27=$BL$4,1,0))) -> 0
A28: =CONCATENATE(E28,LEFT(C28,2),RIGHT(C28,2),UPPER((LEFT(D28,3)))) | K28: Expert | L28: =VLOOKUP(K28,COMPETENCES,2) -> 10 | M28: =IF(L28="-",0,IF(L28=0,0,1)) -> 1 | O28: Satisfaisant | P28: =VLOOKUP(O28,QUALITES,2) -> 7.5 | R28: Non évalué | S28: =VLOOKUP(R28,EXPERTISE,2) -> - | AZ28: =IF(E28=AZ$3,AX28,0) -> 0 | BA28: =IF(AZ28=AZ$4,AZ28-60,AZ28) -> 0 | BB28: =IF(BA28=BA$4,BA28-60,BA28) -> 0 | BC28: =IF(AZ28=$AZ$4,1,IF(BA28=$BA$4,1,IF(BB28=$BB$4,1,0))) -> 0 | BE28: =IF(E28=BE$3,AX28,0) -> 0 | BF28: =IF(BE28=BE$4,BE28-60,BE28) -> 0 | BG28: =IF(BF28=BF$4,BF28-60,BF28) -> 0 | BH28: =IF(BE28=$BE$4,1,IF(BF28=$BF$4,1,IF(BG28=$BG$4,1,0))) -> 0 | BJ28: =IF(E28=BJ$3,AX28,0) -> 0 | BK28: =IF(BJ28=BJ$4,BJ28-60,BJ28) -> 0 | BL28: =IF(BK28=BK$4,BK28-60,BK28) -> 0 | BM28: =IF(BJ28=$BJ$4,1,IF(BK28=$BK$4,1,IF(BL28=$BL$4,1,0))) -> 0
A29: =CONCATENATE(E29,LEFT(C29,2),RIGHT(C29,2),UPPER((LEFT(D29,3)))) | K29: Maitrise | L29: =VLOOKUP(K29,COMPETENCES,2) -> 7.5 | M29: =IF(L29="-",0,IF(L29=0,0,1)) -> 1 | O29: Très satisfaisant | P29: =VLOOKUP(O29,QUALITES,2) -> 10 | R29: Maitrise | S29: =VLOOKUP(R29,EXPERTISE,2) -> 7.5 | AZ29: =IF(E29=AZ$3,AX29,0) -> 0 | BA29: =IF(AZ29=AZ$4,AZ29-60,AZ29) -> 0 | BB29: =IF(BA29=BA$4,BA29-60,BA29) -> 0 | BC29: =IF(AZ29=$AZ$4,1,IF(BA29=$BA$4,1,IF(BB29=$BB$4,1,0))) -> 0 | BE29: =IF(E29=BE$3,AX29,0) -> 0 | BF29: =IF(BE29=BE$4,BE29-60,BE29) -> 0 | BG29: =IF(BF29=BF$4,BF29-60,BF29) -> 0 | BH29: =IF(BE29=$BE$4,1,IF(BF29=$BF$4,1,IF(BG29=$BG$4,1,0))) -> 0 | BJ29: =IF(E29=BJ$3,AX29,0) -> 0 | BK29: =IF(BJ29=BJ$4,BJ29-60,BJ29) -> 0 | BL29: =IF(BK29=BK$4,BK29-60,BK29) -> 0 | BM29: =IF(BJ29=$BJ$4,1,IF(BK29=$BK$4,1,IF(BL29=$BL$4,1,0))) -> 0
A30: =CONCATENATE(E30,LEFT(C30,2),RIGHT(C30,2),UPPER((LEFT(D30,3)))) | K30: Expert | L30: =VLOOKUP(K30,COMPETENCES,2) -> 10 | M30: =IF(L30="-",0,IF(L30=0,0,1)) -> 1 | R30: Maitrise | S30: =VLOOKUP(R30,EXPERTISE,2) -> 7.5 | AZ30: =IF(E30=AZ$3,AX30,0) -> 0 | BA30: =IF(AZ30=AZ$4,AZ30-60,AZ30) -> 0 | BB30: =IF(BA30=BA$4,BA30-60,BA30) -> 0 | BC30: =IF(AZ30=$AZ$4,1,IF(BA30=$BA$4,1,IF(BB30=$BB$4,1,0))) -> 0 | BE30: =IF(E30=BE$3,AX30,0) -> 0 | BF30: =IF(BE30=BE$4,BE30-60,BE30) -> 0 | BG30: =IF(BF30=BF$4,BF30-60,BF30) -> 0 | BH30: =IF(BE30=$BE$4,1,IF(BF30=$BF$4,1,IF(BG30=$BG$4,1,0))) -> 0 | BJ30: =IF(E30=BJ$3,AX30,0) -> 0 | BK30: =IF(BJ30=BJ$4,BJ30-60,BJ30) -> 0 | BL30: =IF(BK30=BK$4,BK30-60,BK30) -> 0 | BM30: =IF(BJ30=$BJ$4,1,IF(BK30=$BK$4,1,IF(BL30=$BL$4,1,0))) -> 0
A31: =CONCATENATE(E31,LEFT(C31,2),RIGHT(C31,2),UPPER((LEFT(D31,3)))) | K31: Maitrise | L31: =VLOOKUP(K31,COMPETENCES,2) -> 7.5 | M31: =IF(L31="-",0,IF(L31=0,0,1)) -> 1 | R31: Non évalué | S31: =VLOOKUP(R31,EXPERTISE,2) -> - | AZ31: =IF(E31=AZ$3,AX31,0) -> 0 | BA31: =IF(AZ31=AZ$4,AZ31-60,AZ31) -> 0 | BB31: =IF(BA31=BA$4,BA31-60,BA31) -> 0 | BC31: =IF(AZ31=$AZ$4,1,IF(BA31=$BA$4,1,IF(BB31=$BB$4,1,0))) -> 0 | BE31: =IF(E31=BE$3,AX31,0) -> 0 | BF31: =IF(BE31=BE$4,BE31-60,BE31) -> 0 | BG31: =IF(BF31=BF$4,BF31-60,BF31) -> 0 | BH31: =IF(BE31=$BE$4,1,IF(BF31=$BF$4,1,IF(BG31=$BG$4,1,0))) -> 0 | BJ31: =IF(E31=BJ$3,AX31,0) -> 0 | BK31: =IF(BJ31=BJ$4,BJ31-60,BJ31) -> 0 | BL31: =IF(BK31=BK$4,BK31-60,BK31) -> 0 | BM31: =IF(BJ31=$BJ$4,1,IF(BK31=$BK$4,1,IF(BL31=$BL$4,1,0))) -> 0
A32: =CONCATENATE(E32,LEFT(C32,2),RIGHT(C32,2),UPPER((LEFT(D32,3)))) | K32: . | L32: =VLOOKUP(K32,COMPETENCES,2) -> - | M32: =IF(L32="-",0,IF(L32=0,0,1)) -> 0 | R32: Maitrise | S32: =VLOOKUP(R32,EXPERTISE,2) -> 7.5 | AZ32: =IF(E32=AZ$3,AX32,0) -> 0 | BA32: =IF(AZ32=AZ$4,AZ32-60,AZ32) -> 0 | BB32: =IF(BA32=BA$4,BA32-60,BA32) -> 0 | BC32: =IF(AZ32=$AZ$4,1,IF(BA32=$BA$4,1,IF(BB32=$BB$4,1,0))) -> 0 | BE32: =IF(E32=BE$3,AX32,0) -> 0 | BF32: =IF(BE32=BE$4,BE32-60,BE32) -> 0 | BG32: =IF(BF32=BF$4,BF32-60,BF32) -> 0 | BH32: =IF(BE32=$BE$4,1,IF(BF32=$BF$4,1,IF(BG32=$BG$4,1,0))) -> 0 | BJ32: =IF(E32=BJ$3,AX32,0) -> 0 | BK32: =IF(BJ32=BJ$4,BJ32-60,BJ32) -> 0 | BL32: =IF(BK32=BK$4,BK32-60,BK32) -> 0 | BM32: =IF(BJ32=$BJ$4,1,IF(BK32=$BK$4,1,IF(BL32=$BL$4,1,0))) -> 0
A33: =CONCATENATE(E33,LEFT(C33,2),RIGHT(C33,2),UPPER((LEFT(D33,3)))) | K33: . | L33: =VLOOKUP(K33,COMPETENCES,2) -> - | M33: =IF(L33="-",0,IF(L33=0,0,1)) -> 0 | AZ33: =IF(E33=AZ$3,AX33,0) -> 0 | BA33: =IF(AZ33=AZ$4,AZ33-60,AZ33) -> 0 | BB33: =IF(BA33=BA$4,BA33-60,BA33) -> 0 | BC33: =IF(AZ33=$AZ$4,1,IF(BA33=$BA$4,1,IF(BB33=$BB$4,1,0))) -> 0 | BE33: =IF(E33=BE$3,AX33,0) -> 0 | BF33: =IF(BE33=BE$4,BE33-60,BE33) -> 0 | BG33: =IF(BF33=BF$4,BF33-60,BF33) -> 0 | BH33: =IF(BE33=$BE$4,1,IF(BF33=$BF$4,1,IF(BG33=$BG$4,1,0))) -> 0 | BJ33: =IF(E33=BJ$3,AX33,0) -> 0 | BK33: =IF(BJ33=BJ$4,BJ33-60,BJ33) -> 0 | BL33: =IF(BK33=BK$4,BK33-60,BK33) -> 0 | BM33: =IF(BJ33=$BJ$4,1,IF(BK33=$BK$4,1,IF(BL33=$BL$4,1,0))) -> 0
A34: =CONCATENATE(E34,LEFT(C34,2),RIGHT(C34,2),UPPER((LEFT(D34,3)))) | K34: . | L34: =VLOOKUP(K34,COMPETENCES,2) -> - | M34: =IF(L34="-",0,IF(L34=0,0,1)) -> 0 | AZ34: =IF(E34=AZ$3,AX34,0) -> 0 | BA34: =IF(AZ34=AZ$4,AZ34-60,AZ34) -> 0 | BB34: =IF(BA34=BA$4,BA34-60,BA34) -> 0 | BC34: =IF(AZ34=$AZ$4,1,IF(BA34=$BA$4,1,IF(BB34=$BB$4,1,0))) -> 0 | BE34: =IF(E34=BE$3,AX34,0) -> 0 | BF34: =IF(BE34=BE$4,BE34-60,BE34) -> 0 | BG34: =IF(BF34=BF$4,BF34-60,BF34) -> 0 | BH34: =IF(BE34=$BE$4,1,IF(BF34=$BF$4,1,IF(BG34=$BG$4,1,0))) -> 0 | BJ34: =IF(E34=BJ$3,AX34,0) -> 0 | BK34: =IF(BJ34=BJ$4,BJ34-60,BJ34) -> 0 | BL34: =IF(BK34=BK$4,BK34-60,BK34) -> 0 | BM34: =IF(BJ34=$BJ$4,1,IF(BK34=$BK$4,1,IF(BL34=$BL$4,1,0))) -> 0
A35: =CONCATENATE(E35,LEFT(C35,2),RIGHT(C35,2),UPPER((LEFT(D35,3)))) | K35: . | L35: =VLOOKUP(K35,COMPETENCES,2) -> - | M35: =IF(L35="-",0,IF(L35=0,0,1)) -> 0 | AZ35: =IF(E35=AZ$3,AX35,0) -> 0 | BA35: =IF(AZ35=AZ$4,AZ35-60,AZ35) -> 0 | BB35: =IF(BA35=BA$4,BA35-60,BA35) -> 0 | BC35: =IF(AZ35=$AZ$4,1,IF(BA35=$BA$4,1,IF(BB35=$BB$4,1,0))) -> 0 | BE35: =IF(E35=BE$3,AX35,0) -> 0 | BF35: =IF(BE35=BE$4,BE35-60,BE35) -> 0 | BG35: =IF(BF35=BF$4,BF35-60,BF35) -> 0 | BH35: =IF(BE35=$BE$4,1,IF(BF35=$BF$4,1,IF(BG35=$BG$4,1,0))) -> 0 | BJ35: =IF(E35=BJ$3,AX35,0) -> 0 | BK35: =IF(BJ35=BJ$4,BJ35-60,BJ35) -> 0 | BL35: =IF(BK35=BK$4,BK35-60,BK35) -> 0 | BM35: =IF(BJ35=$BJ$4,1,IF(BK35=$BK$4,1,IF(BL35=$BL$4,1,0))) -> 0
A36: =CONCATENATE(E36,LEFT(C36,2),RIGHT(C36,2),UPPER((LEFT(D36,3)))) | AZ36: =IF(E36=AZ$3,AX36,0) -> 0 | BA36: =IF(AZ36=AZ$4,AZ36-60,AZ36) -> 0 | BB36: =IF(BA36=BA$4,BA36-60,BA36) -> 0 | BC36: =IF(AZ36=$AZ$4,1,IF(BA36=$BA$4,1,IF(BB36=$BB$4,1,0))) -> 0 | BE36: =IF(E36=BE$3,AX36,0) -> 0 | BF36: =IF(BE36=BE$4,BE36-60,BE36) -> 0 | BG36: =IF(BF36=BF$4,BF36-60,BF36) -> 0 | BH36: =IF(BE36=$BE$4,1,IF(BF36=$BF$4,1,IF(BG36=$BG$4,1,0))) -> 0 | BJ36: =IF(E36=BJ$3,AX36,0) -> 0 | BK36: =IF(BJ36=BJ$4,BJ36-60,BJ36) -> 0 | BL36: =IF(BK36=BK$4,BK36-60,BK36) -> 0 | BM36: =IF(BJ36=$BJ$4,1,IF(BK36=$BK$4,1,IF(BL36=$BL$4,1,0))) -> 0
A37: =CONCATENATE(E37,LEFT(C37,2),RIGHT(C37,2),UPPER((LEFT(D37,3)))) -> BAg03EMM | B37: Titulaire | C37: Agent 03 | D37: Emma | E37: =VLOOKUP($F37,'Listes déroulantes'!$A$28:$B$46,2) -> B | F37: Aide-soignant cl. supérieure | U37: =J38+N38+Q38+T38 -> 38.131944 | AH37: =W38+Y38+AA38+AC38+AE38+AG38 -> 7.5 | AL37: =IF(AK38<5,"0",IF(AK38<10,"2,5",IF(AK38<15,"5",IF(AK38<20,"7,5","10")))) -> 10 | AP37: =IF(AO38<10,5,10) -> 10 | AW37: =AR38+AT38+AV38 -> 4 | AX37: =U37+AP37+AL37+AH37+AW37 -> 69.631944 | AZ37: =IF(E37=AZ$3,AX37,0) -> 0 | BA37: =IF(AZ37=AZ$4,AZ37-60,AZ37) -> 0 | BB37: =IF(BA37=BA$4,BA37-60,BA37) -> 0 | BC37: =IF(AZ37=$AZ$4,1,IF(BA37=$BA$4,1,IF(BB37=$BB$4,1,0))) -> 0 | BE37: =IF(E37=BE$3,AX37,0) -> 0 | BF37: =IF(BE37=BE$4,BE37-60,BE37) -> 0 | BG37: =IF(BF37=BF$4,BF37-60,BF37) -> 0 | BH37: =IF(BE37=$BE$4,1,IF(BF37=$BF$4,1,IF(BG37=$BG$4,1,0))) -> 0 | BJ37: =IF(E37=BJ$3,AX37,0) -> 0 | BK37: =IF(BJ37=BJ$4,BJ37-60,BJ37) -> 0 | BL37: =IF(BK37=BK$4,BK37-60,BK37) -> 0 | BM37: =IF(BJ37=$BJ$4,1,IF(BK37=$BK$4,1,IF(BL37=$BL$4,1,0))) -> 0
A38: =CONCATENATE(E38,LEFT(C38,2),RIGHT(C38,2),UPPER((LEFT(D38,3)))) | H38: Atteint | I38: =VLOOKUP(H38,OBJECTIFS,2) -> 10 | J38: =AVERAGE(I38:I42) -> 10 | K38: Maitrise | L38: =VLOOKUP(K38,COMPETENCES,2) -> 7.5 | M38: =IF(L38="-",0,IF(L38=0,0,1)) -> 1 | N38: =SUM(L38:L51)/SUM(M38:M51) -> 9 | O38: Très satisfaisant | P38: =VLOOKUP(O38,QUALITES,2) -> 10 | Q38: =AVERAGE(P38:P45) -> 9.6875 | R38: Expert | S38: =VLOOKUP(R38,EXPERTISE,2) -> 10 | T38: =AVERAGE(S38:S48) -> 9.4444444 | V38: Satisfaisant | W38: =VLOOKUP(V38,PROJETS,2) -> 2.5 | X38: Sans objet | Y38: =VLOOKUP(X38,PROJETS,2) -> 0 | Z38: Satisfaisant | AA38: =VLOOKUP(Z38,PROJETS,2) -> 2.5 | AB38: Sans objet | AC38: =VLOOKUP(AB38,PROJETS,2) -> 0 | AD38: Satisfaisant | AE38: =VLOOKUP(AD38,PROJETS,2) -> 2.5 | AF38: Sans objet | AG38: =VLOOKUP(AF38,PROJETS,2) -> 0 | AI38: 36620 | AJ38: =AJ4 -> 44561 | AK38: =(AJ38-AI38)/365 -> 21.756164 | AM38: 35863 | AN38: =AN4 -> 44561 | AO38: =(AN38-AM38)/365 -> 23.830137 | AQ38: Satisfaisant | AR38: =VLOOKUP(AQ38,DIVERS,2) -> 2 | AS38: Satisfaisant | AT38: =VLOOKUP(AS38,FORMAC,2) -> 2 | AU38: Sans objet | AV38: =VLOOKUP(AU38,FORMAQ,2) -> 0 | AZ38: =IF(E38=AZ$3,AX38,0) -> 0 | BA38: =IF(AZ38=AZ$4,AZ38-60,AZ38) -> 0 | BB38: =IF(BA38=BA$4,BA38-60,BA38) -> 0 | BC38: =IF(AZ38=$AZ$4,1,IF(BA38=$BA$4,1,IF(BB38=$BB$4,1,0))) -> 0 | BE38: =IF(E38=BE$3,AX38,0) -> 0 | BF38: =IF(BE38=BE$4,BE38-60,BE38) -> 0 | BG38: =IF(BF38=BF$4,BF38-60,BF38) -> 0 | BH38: =IF(BE38=$BE$4,1,IF(BF38=$BF$4,1,IF(BG38=$BG$4,1,0))) -> 0 | BJ38: =IF(E38=BJ$3,AX38,0) -> 0 | BK38: =IF(BJ38=BJ$4,BJ38-60,BJ38) -> 0 | BL38: =IF(BK38=BK$4,BK38-60,BK38) -> 0 | BM38: =IF(BJ38=$BJ$4,1,IF(BK38=$BK$4,1,IF(BL38=$BL$4,1,0))) -> 0
A39: =CONCATENATE(E39,LEFT(C39,2),RIGHT(C39,2),UPPER((LEFT(D39,3)))) | H39: Atteint | I39: =VLOOKUP(H39,OBJECTIFS,2) -> 10 | K39: Expert | L39: =VLOOKUP(K39,COMPETENCES,2) -> 10 | M39: =IF(L39="-",0,IF(L39=0,0,1)) -> 1 | O39: Très satisfaisant | P39: =VLOOKUP(O39,QUALITES,2) -> 10 | R39: Expert | S39: =VLOOKUP(R39,EXPERTISE,2) -> 10 | AZ39: =IF(E39=AZ$3,AX39,0) -> 0 | BA39: =IF(AZ39=AZ$4,AZ39-60,AZ39) -> 0 | BB39: =IF(BA39=BA$4,BA39-60,BA39) -> 0 | BC39: =IF(AZ39=$AZ$4,1,IF(BA39=$BA$4,1,IF(BB39=$BB$4,1,0))) -> 0 | BE39: =IF(E39=BE$3,AX39,0) -> 0 | BF39: =IF(BE39=BE$4,BE39-60,BE39) -> 0 | BG39: =IF(BF39=BF$4,BF39-60,BF39) -> 0 | BH39: =IF(BE39=$BE$4,1,IF(BF39=$BF$4,1,IF(BG39=$BG$4,1,0))) -> 0 | BJ39: =IF(E39=BJ$3,AX39,0) -> 0 | BK39: =IF(BJ39=BJ$4,BJ39-60,BJ39) -> 0 | BL39: =IF(BK39=BK$4,BK39-60,BK39) -> 0 | BM39: =IF(BJ39=$BJ$4,1,IF(BK39=$BK$4,1,IF(BL39=$BL$4,1,0))) -> 0
A40: =CONCATENATE(E40,LEFT(C40,2),RIGHT(C40,2),UPPER((LEFT(D40,3)))) | H40: . | I40: =VLOOKUP(H40,OBJECTIFS,2) -> - | K40: Maitrise | L40: =VLOOKUP(K40,COMPETENCES,2) -> 7.5 | M40: =IF(L40="-",0,IF(L40=0,0,1)) -> 1 | O40: Très satisfaisant | P40: =VLOOKUP(O40,QUALITES,2) -> 10 | R40: Expert | S40: =VLOOKUP(R40,EXPERTISE,2) -> 10 | AZ40: =IF(E40=AZ$3,AX40,0) -> 0 | BA40: =IF(AZ40=AZ$4,AZ40-60,AZ40) -> 0 | BB40: =IF(BA40=BA$4,BA40-60,BA40) -> 0 | BC40: =IF(AZ40=$AZ$4,1,IF(BA40=$BA$4,1,IF(BB40=$BB$4,1,0))) -> 0 | BE40: =IF(E40=BE$3,AX40,0) -> 0 | BF40: =IF(BE40=BE$4,BE40-60,BE40) -> 0 | BG40: =IF(BF40=BF$4,BF40-60,BF40) -> 0 | BH40: =IF(BE40=$BE$4,1,IF(BF40=$BF$4,1,IF(BG40=$BG$4,1,0))) -> 0 | BJ40: =IF(E40=BJ$3,AX40,0) -> 0 | BK40: =IF(BJ40=BJ$4,BJ40-60,BJ40) -> 0 | BL40: =IF(BK40=BK$4,BK40-60,BK40) -> 0 | BM40: =IF(BJ40=$BJ$4,1,IF(BK40=$BK$4,1,IF(BL40=$BL$4,1,0))) -> 0
...

Sheet Feuil2
A1: Realisation des obj
B3: Cotation | C3: Nombre de croix | D3: Total | E3: Total
A4: Atteint | B4: 10 | C4: 3 | D4: =C4*B4 -> 30 | E4: =D8/C8 -> 7
A5: Partiellement | B5: 5 | C5: 1 | D5: =C5*B5 -> 5
A6: non atteint | B6: 0 | C6: 1 | D6: =C6*B6 -> 0
A7: Sans objet
C8: =SUM(C4:C7) -> 5 | D8: =SUM(D4:D7) -> 35

Sheet Listes déroulantes
A1: Réalisation des objectifs | B1: Cotation | D1: Compétences et connaissances relationnelles et techniques | E1: Cotation | G1: Manière de servir et qualités relationnelles | H1: Cotation | J1: Capacité d'expertise et le cas échéant, capacité d'encadrement | K1: Cotation
A2: . | B2: - | D2: . | E2: - | G2: . | H2: - | J2: . | K2: -
A3: Atteint | B3: 10 | D3: A développer | E3: 2.5 | G3: Insatisfaisant | H3: 5 | J3: A développer | K3: 2.5
A4: Devenu sans objet | B4: - | D4: Expert | E4: 10 | G4: Non évalué | H4: - | J4: Expert | K4: 10
A5: Non atteint | B5: 0 | D5: Maitrise | E5: 7.5 | G5: Satisfaisant | H5: 7.5 | J5: Maitrise | K5: 7.5
A6: Partiellement atteint | B6: 5 | D6: Non évalué | E6: - | G6: Très insatisfaisant | H6: 2.5 | J6: Non évalué | K6: -
D7: Pratique courante | E7: 5 | G7: Très satisfaisant | H7: 10 | J7: Pratique courante | K7: 5
A11: Conduite de projets et encadrement | B11: Cotation | D11: Parcours pro - Divers | E11: Cotation
A12: . | B12: 0 | D12: . | E12: 0
A13: Sans objet | B13: 0 | D13: Sans objet | E13: 0
A14: Satisfaisant | B14: 2.5 | D14: Satisfaisant | E14: 2
A15: Très satisfaisant | B15: 5 | D15: Très satisfaisant | E15: 4
D17: Parcours pro - Formation C | E17: Cotation
A18: Oui | D18: . | E18: 0
A19: Non | D19: Sans objet | E19: 0
D20: Satisfaisant | E20: 2
D22: Parcours pro - Formation Q | E22: Cotation
D23: . | E23: 0
D24: Sans objet | E24: 0
D25: Satisfaisant | E25: 4
A27: Grades | B27: Code
A28: Adjoint administratif | B28: A
A29: Aide-soignant cl. supérieure | B29: B
A30: Aide-soignant classe normale | B30: C
A31: Animateur ppal 1ère classe | B31: D
A32: ASHQ Classe normale | B32: E
A33: ASHQ Classe supérieure | B33: F | D33: Si ajout d'un grade, le mettre à la suite dans la limite des lignes déjà crées. Et faire un tri de A à Z
A34: Attachée | B34: G
A35: Cadre de santé paramédical | B35: H
A36: Directeur ESSMS hors classe | B36: I
A37: Infirmier Classe Supérieure | B37: J
A38: Infirmier gén. & spéc : 1e grade | B38: K
A39: Ouvrier principal 1ème classe | B39: L
A40: Ouvrier principal 2ème classe | B40: M
A41: Technicien hospitalier | B41: N
A42: Technicien hospitalier supérieur | B42: O
B43: P
B44: Q
B45: R
B46: S
