Workbook
Name ANNEE: Feuil1!$AI$1
Name ASCN: Feuil1!#REF!
Name COMPETENCES: 'Listes déroulantes'!$D$2:$E$7
Name DIVERS: 'Listes déroulantes'!$D$12:$E$15
Name EXPERTISE: 'Listes déroulantes'!$J$2:$K$7
Name FORMAC: 'Listes déroulantes'!$D$18:$E$20
Name FORMAQ: 'Listes déroulantes'!$D$23:$E$25
Name GRADE_a: Feuil1!#REF!
Name GRADE_b: Feuil1!#REF!
Name GRADE_c: Feuil1!#REF!
Name GRADES: 'Listes déroulantes'!$A$28:$A$46
Name OBJECTIF: 'Listes déroulantes'!$A$2:$B$5
Name OBJECTIFS: 'Listes déroulantes'!$A$2:$B$6
Name PROJETS: 'Listes déroulantes'!$A$12:$B$15
Name QUALITES: 'Listes déroulantes'!$G$2:$H$7
Name VAL_GRADES: 'Listes déroulantes'!$A$28:$B$46

Sheet Feuil1
T1: "Devenu sans objet" et "non évalué" ne sont pas pris en compte dans la moyenne | AI1: 2021
AJ2: Ancienneté dans le corps au 31/12/ | AN2: Ancienneté dans l'établissement au 31/12/
H3: APPRECIATION DE LA VALEUR PROFESSIONNELLE | V3: CONDUITE DE PROJETS ET ENCADREMENT | AI3: ANCIENNETÉ DANS LE CORPS | AM3: ANCIENNETÉ DANS L'ETABLISSEMENT | AQ3: PARCOURS PROFESSIONNEL | AX3: TOTAL | AZ3: C | BE3: E | BJ3: M
A4: Code | B4: Statut | C4: Nom | D4: Prénom | E4: Code grade | F4: Grade | G4: Entretien d'évaluation réalisé | H4: Réalisation des objectifs | I4: Rslt en pts | J4: Moyenne de la réalisation des objectifs | K4: Compétences et connaissances professionnelles et techniques | L4: Rslt en pts | N4: Moyenne compétences professionnelles et techniques | O4: Manière de servir et qualités relationnelles | P4: Rslt en pts | Q4: Moyenne manière de servir et qualités relationnelles | R4: Capacité d'expertise, capacité d'encadrement ou à exercer des fonctions d'un niveau supérieur | S4: Rslt en pts | T4: Moyenne Capacité d'expertise, capacité d'encadrement | U4: Cotation sur 40 | V4: Participation active à un groupe de travail | W4: Rslt en pts | X4: Engagement dans un projet de l'établissement | Y4: Rslt en pts | Z4: Production de supports, d'écrits | AA4: Rslt en pts | AB4: Portage d'une référence | AC4: Rslt en pts | AD4: Encadrement de stagiaires | AE4: Rslt en pts | AF4: Encadrement d'agents en contrat aidé | AG4: Rslt en pts | AH4: Cotation sur 30 | AI4: Date entrée dans le corps | AJ4: =DATE(ANNEE,12,31) -> 44561 | AK4: =CONCATENATE(AJ2,ANNEE) -> Ancienneté dans le corps au 31/12/2021 | AL4: Cotation sur 10 +5ans = 2,5 +10ans = 5 +15ans = 7,5 +20 ans = 10 | AM4: Date entrée dans l'établissement | AN4: =DATE(ANNEE,12,31) -> 44561 | AO4: =CONCATENATE(AN2,ANNEE) -> Ancienneté dans l'établissement au 31/12/2021 | AP4: Cotation sur 10 < 10ans = 5 >10ans = 10 | AQ4: Divers : mobilités interne (jour/nuit, chgement de services), disponibilité, assiduité au travail (4 pts) | AR4: Rslt en pts | AS4: Formation continue (2 pts) | AT4: Rslt en pts | AU4: Formations qualifiantes (4 pts) | AV4: Rslt en pts | AW4: Cotation sur 10 | AX4: Cotation sur 100 | AZ4: =MAX(AZ5:AZ485) -> 66.4375 | BA4: =MAX(BA5:BA485) -> 65.583333 | BB4: =MAX(BB5:BB485) -> 64.472222 | BE4: =MAX(BE5:BE485) -> 63.083333 | BF4: =MAX(BF5:BF485) -> 54.402778 | BG4: =MAX(BG5:BG485) -> 52.848214 | BJ4: =MAX(BJ5:BJ485) -> 67.666667 | BK4: =MAX(BK5:BK485) -> 64.201389 | BL4: =MAX(BL5:BL485) -> 62.597222
A5: =CONCATENATE(E5,LEFT(C5,2),RIGHT(C5,2),UPPER((LEFT(D5,3)))) -> AAg01JAD | B5: Titulaire | C5: Agent 01 | D5: Jade | E5: =VLOOKUP($F5,'Listes déroulantes'!$A$28:$B$46,2) -> A | F5: Adjoint administratif | U5: =J6+N6+Q6+T6 -> 26.666667 | AH5: =W6+Y6+AA6+AC6+AE6+AG6 -> 2.5 | AL5: =IF(AK6<5,"0",IF(AK6<10,"2,5",IF(AK6<15,"5",IF(AK6<20,"7,5","10")))) -> 5 | AP5: =IF(AO6<10,5,10) -> 10 | AW5: =AR6+AT6+AV6 -> 2 | AX5: =IF(G5="Oui",U5+AP5+AL5+AH5+AW5,((AP5+AL5+AH5+AW5)*100)/60) -> 32.5 | AZ5: =IF(E5=AZ$3,AX5,0) -> 0 | BA5: =IF(AZ5=AZ$4,AZ5-60,AZ5) -> 0 | BB5: =IF(BA5=BA$4,BA5-60,BA5) -> 0 | BC5: =IF(AZ5=$AZ$4,1,IF(BA5=$BA$4,1,IF(BB5=$BB$4,1,0))) -> 0 | BE5: =IF(E5=BE$3,AX5,0) -> 0 | BF5: =IF(BE5=BE$4,BE5-60,BE5) -> 0 | BG5: =IF(BF5=BF$4,BF5-60,BF5) -> 0 | BH5: =IF(BE5=$BE$4,1,IF(BF5=$BF$4,1,IF(BG5=$BG$4,1,0))) -> 0 | BJ5: =IF(E5=BJ$3,AX5,0) -> 0 | BK5: =IF(BJ5=BJ$4,BJ5-60,BJ5) -> 0 | BL5: =IF(BK5=BK$4,BK5-60,BK5) -> 0 | BM5: =IF(BJ5=$BJ$4,1,IF(BK5=$BK$4,1,IF(BL5=$BL$4,1,0))) -> 0
A6: =CONCATENATE(E6,LEFT(C6,2),RIGHT(C6,2),UPPER((LEFT(D6,3)))) | H6: Atteint | I6: =VLOOKUP(H6,OBJECTIFS,2) -> 10 | J6: =AVERAGE(I6:I10) -> 8.75 | K6: Expert | L6: =VLOOKUP(K6,COMPETENCES,2) -> 10 | M6: =IF(L6="-",0,IF(L6=0,0,1)) -> 1 | N6: =IF(L6<>"-",SUM(L6:L19)/SUM(M6:M19),IF(L7<>"-",SUM(L6:L19)/SUM(M6:M19),IF(L8<>"-",SUM(L6:L19)/SUM(M6:M19),IF(L9<>"-",SUM(L6:L19)/SUM(M6:M19),IF(L10<>"-",SUM(L6:L19)/SUM(M6:M19),IF(L11<>"-",SUM(L6:L19)/SUM(M6:M19),IF(L12<>"-",SUM(L6:L19)/SUM(M6:M19),IF(L13<>"-",SUM(L6:L19)/SUM(M6:M19),IF(L14<>"-",SUM(L6:L19)/SUM(M6:M19),IF(L15<>"-",SUM(L6:L19)/SUM(M6:M19),IF(L16<>"-",SUM(L6:L19)/SUM(M6:M19),IF(L17<>"-",SUM(L6:L19)/SUM(M6:M19),IF(L18<>"-",SUM(L6:L19)/SUM(M6:M19),IF(L19<>"-",SUM(L6:L19)/SUM(M6:M19),0)))))))))))))) -> 6.6666667 | O6: Insatisfaisant | P6: =VLOOKUP(O6,QUALITES,2) -> 5 | Q6: =IF(P6<>"-",AVERAGE(P6:P13),IF(P7<>"-",AVERAGE(P6:P13),IF(P8<>"-",AVERAGE(P6:P13),IF(P9<>"-",AVERAGE(P6:P13),IF(P10<>"-",AVERAGE(P6:P13),IF(P11<>"-",AVERAGE(P6:P13),IF(P12<>"-",AVERAGE(P6:P13),IF(P13<>"-",AVERAGE(P6:P13),0)))))))) -> 6.25 | R6: A développer | S6: =VLOOKUP(R6,EXPERTISE,2) -> 2.5 | T6: =IF(S6<>"-",AVERAGE(S6:S16),IF(S7<>"-",AVERAGE(S6:S16),IF(S8<>"-",AVERAGE(S6:S16),IF(S9<>"-",AVERAGE(S6:S16),IF(S10<>"-",AVERAGE(S6:S16),IF(S11<>"-",AVERAGE(S6:S16),IF(S12<>"-",AVERAGE(S6:S16),IF(S13<>"-",AVERAGE(S6:S16),IF(S14<>"-",AVERAGE(S6:S16),IF(S15<>"-",AVERAGE(S6:S16),IF(S16<>"-",AVERAGE(S6:S16),0))))))))))) -> 5 | V6: Sans objet | W6: =VLOOKUP(V6,PROJETS,2) -> 0 | X6: Satisfaisant | Y6: =VLOOKUP(X6,PROJETS,2) -> 2.5 | Z6: Sans objet | AA6: =VLOOKUP(Z6,PROJETS,2) -> 0 | AB6: Sans objet | AC6: =VLOOKUP(AB6,PROJETS,2) -> 0 | AD6: Sans objet | AE6: =VLOOKUP(AD6,PROJETS,2) -> 0 | AF6: Sans objet | AG6: =VLOOKUP(AF6,PROJETS,2) -> 0 | AI6: 39302 | AJ6: =AJ4 -> 44561 | AK6: =(AJ6-AI6)/365 -> 14.408219 | AM6: 35309 | AN6: =AN4 -> 44561 | AO6: =(AN6-AM6)/365 -> 25.347945 | AQ6: Satisfaisant | AR6: =VLOOKUP(AQ6,DIVERS,2) -> 2 | AS6: Sans objet | AT6: =VLOOKUP(AS6,FORMAC,2) -> 0 | AU6: Sans objet | AV6: =VLOOKUP(AU6,FORMAQ,2) -> 0 | AZ6: =IF(E6=AZ$3,AX6,0) -> 0 | BA6: =IF(AZ6=AZ$4,AZ6-60,AZ6) -> 0 | BB6: =IF(BA6=BA$4,BA6-60,BA6) -> 0 | BC6: =IF(AZ6=$AZ$4,1,IF(BA6=$BA$4,1,IF(BB6=$BB$4,1,0))) -> 0 | BE6: =IF(E6=BE$3,AX6,0) -> 0 | BF6: =IF(BE6=BE$4,BE6-60,BE6) -> 0 | BG6: =IF(BF6=BF$4,BF6-60,BF6) -> 0 | BH6: =IF(BE6=$BE$4,1,IF(BF6=$BF$4,1,IF(BG6=$BG$4,1,0))) -> 0 | BJ6: =IF(E6=BJ$3,AX6,0) -> 0 | BK6: =IF(BJ6=BJ$4,BJ6-60,BJ6) -> 0 | BL6: =IF(BK6=BK$4,BK6-60,BK6) -> 0 | BM6: =IF(BJ6=$BJ$4,1,IF(BK6=$BK$4,1,IF(BL6=$BL$4,1,0))) -> 0
A7: =CONCATENATE(E7,LEFT(C7,2),RIGHT(C7,2),UPPER((LEFT(D7,3)))) | H7: Atteint | I7: =VLOOKUP(H7,OBJECTIFS,2) -> 10 | K7: Pratique courante | L7: =VLOOKUP(K7,COMPETENCES,2) -> 5 | M7: =IF(L7="-",0,IF(L7=0,0,1)) -> 1 | O7: Non évalué | P7: =VLOOKUP(O7,QUALITES,2) -> - | R7: Pratique courante | S7: =VLOOKUP(R7,EXPERTISE,2) -> 5 | AZ7: =IF(E7=AZ$3,AX7,0) -> 0 | BA7: =IF(AZ7=AZ$4,AZ7-60,AZ7) -> 0 | BB7: =IF(BA7=BA$4,BA7-60,BA7) -> 0 | BC7: =IF(AZ7=$AZ$4,1,IF(BA7=$BA$4,1,IF(BB7=$BB$4,1,0))) -> 0 | BE7: =IF(E7=BE$3,AX7,0) -> 0 | BF7: =IF(BE7=BE$4,BE7-60,BE7) -> 0 | BG7: =IF(BF7=BF$4,BF7-60,BF7) -> 0 | BH7: =IF(BE7=$BE$4,1,IF(BF7=$BF$4,1,IF(BG7=$BG$4,1,0))) -> 0 | BJ7: =IF(E7=BJ$3,AX7,0) -> 0 | BK7: =IF(BJ7=BJ$4,BJ7-60,BJ7) -> 0 | BL7: =IF(BK7=BK$4,BK7-60,BK7) -> 0 | BM7: =IF(BJ7=$BJ$4,1,IF(BK7=$BK$4,1,IF(BL7=$BL$4,1,0))) -> 0
A8: =CONCATENATE(E8,LEFT(C8,2),RIGHT(C8,2),UPPER((LEFT(D8,3)))) | H8: Partiellement atteint | I8: =VLOOKUP(H8,OBJECTIFS,2) -> 5 | K8: Pratique courante | L8: =VLOOKUP(K8,COMPETENCES,2) -> 5 | M8: =IF(L8="-",0,IF(L8=0,0,1)) -> 1 | O8: Satisfaisant | P8: =VLOOKUP(O8,QUALITES,2) -> 7.5 | R8: Maitrise | S8: =VLOOKUP(R8,EXPERTISE,2) -> 7.5 | AZ8: =IF(E8=AZ$3,AX8,0) -> 0 | BA8: =IF(AZ8=AZ$4,AZ8-60,AZ8) -> 0 | BB8: =IF(BA8=BA$4,BA8-60,BA8) -> 0 | BC8: =IF(AZ8=$AZ$4,1,IF(BA8=$BA$4,1,IF(BB8=$BB$4,1,0))) -> 0 | BE8: =IF(E8=BE$3,AX8,0) -> 0 | BF8: =IF(BE8=BE$4,BE8-60,BE8) -> 0 | BG8: =IF(BF8=BF$4,BF8-60,BF8) -> 0 | BH8: =IF(BE8=$BE$4,1,IF(BF8=$BF$4,1,IF(BG8=$BG$4,1,0))) -> 0 | BJ8: =IF(E8=BJ$3,AX8,0) -> 0 | BK8: =IF(BJ8=BJ$4,BJ8-60,BJ8) -> 0 | BL8: =IF(BK8=BK$4,BK8-60,BK8) -> 0 | BM8: =IF(BJ8=$BJ$4,1,IF(BK8=$BK$4,1,IF(BL8=$BL$4,1,0))) -> 0
A9: =CONCATENATE(E9,LEFT(C9,2),RIGHT(C9,2),UPPER((LEFT(D9,3)))) | H9: Atteint | I9: =VLOOKUP(H9,OBJECTIFS,2) -> 10 | K9: Non évalué | L9: =VLOOKUP(K9,COMPETENCES,2) -> - | M9: =IF(L9="-",0,IF(L9=0,0,1)) -> 0 | O9: . | P9: =VLOOKUP(O9,QUALITES,2) -> - | R9: . | S9: =VLOOKUP(R9,EXPERTISE,2) -> - | AZ9: =IF(E9=AZ$3,AX9,0) -> 0 | BA9: =IF(AZ9=AZ$4,AZ9-60,AZ9) -> 0 | BB9: =IF(BA9=BA$4,BA9-60,BA9) -> 0 | BC9: =IF(AZ9=$AZ$4,1,IF(BA9=$BA$4,1,IF(BB9=$BB$4,1,0))) -> 0 | BE9: =IF(E9=BE$3,AX9,0) -> 0 | BF9: =IF(BE9=BE$4,BE9-60,BE9) -> 0 | BG9: =IF(BF9=BF$4,BF9-60,BF9) -> 0 | BH9: =IF(BE9=$BE$4,1,IF(BF9=$BF$4,1,IF(BG9=$BG$4,1,0))) -> 0 | BJ9: =IF(E9=BJ$3,AX9,0) -> 0 | BK9: =IF(BJ9=BJ$4,BJ9-60,BJ9) -> 0 | BL9: =IF(BK9=BK$4,BK9-60,BK9) -> 0 | BM9: =IF(BJ9=$BJ$4,1,IF(BK9=$BK$4,1,IF(BL9=$BL$4,1,0))) -> 0
A10: =CONCATENATE(E10,LEFT(C10,2),RIGHT(C10,2),UPPER((LEFT(D10,3)))) | H10: . | I10: =VLOOKUP(H10,OBJECTIFS,2) -> - | K10: Non évalué | L10: =VLOOKUP(K10,COMPETENCES,2) -> - | M10: =IF(L10="-",0,IF(L10=0,0,1)) -> 0 | O10: . | P10: =VLOOKUP(O10,QUALITES,2) -> - | R10: . | S10: =VLOOKUP(R10,EXPERTISE,2) -> - | AZ10: =IF(E10=AZ$3,AX10,0) -> 0 | BA10: =IF(AZ10=AZ$4,AZ10-60,AZ10) -> 0 | BB10: =IF(BA10=BA$4,BA10-60,BA10) -> 0 | BC10: =IF(AZ10=$AZ$4,1,IF(BA10=$BA$4,1,IF(BB10=$BB$4,1,0))) -> 0 | BE10: =IF(E10=BE$3,AX10,0) -> 0 | BF10: =IF(BE10=BE$4,BE10-60,BE10) -> 0 | BG10: =IF(BF10=BF$4,BF10-60,BF10) -> 0 | BH10: =IF(BE10=$BE$4,1,IF(BF10=$BF$4,1,IF(BG10=$BG$4,1,0))) -> 0 | BJ10: =IF(E10=BJ$3,AX10,0) -> 0 | BK10: =IF(BJ10=BJ$4,BJ10-60,BJ10) -> 0 | BL10: =IF(BK10=BK$4,BK10-60,BK10) -> 0 | BM10: =IF(BJ10=$BJ$4,1,IF(BK10=$BK$4,1,IF(BL10=$BL$4,1,0))) -> 0
A11: =CONCATENATE(E11,LEFT(C11,2),RIGHT(C11,2),UPPER((LEFT(D11,3)))) | K11: Non évalué | L11: =VLOOKUP(K11,COMPETENCES,2) -> - | M11: =IF(L11="-",0,IF(L11=0,0,1)) -> 0 | O11: . | P11: =VLOOKUP(O11,QUALITES,2) -> - | R11: . | S11: =VLOOKUP(R11,EXPERTISE,2) -> - | AZ11: =IF(E11=AZ$3,AX11,0) -> 0 | BA11: =IF(AZ11=AZ$4,AZ11-60,AZ11) -> 0 | BB11: =IF(BA11=BA$4,BA11-60,BA11) -> 0 | BC11: =IF(AZ11=$AZ$4,1,IF(BA11=$BA$4,1,IF(BB11=$BB$4,1,0))) -> 0 | BE11: =IF(E11=BE$3,AX11,0) -> 0 | BF11: =IF(BE11=BE$4,BE11-60,BE11) -> 0 | BG11: =IF(BF11=BF$4,BF11-60,BF11) -> 0 | BH11: =IF(BE11=$BE$4,1,IF(BF11=$BF$4,1,IF(BG11=$BG$4,1,0))) -> 0 | BJ11: =IF(E11=BJ$3,AX11,0) -> 0 | BK11: =IF(BJ11=BJ$4,BJ11-60,BJ11) -> 0 | BL11: =IF(BK11=BK$4,BK11-60,BK11) -> 0 | BM11: =IF(BJ11=$BJ$4,1,IF(BK11=$BK$4,1,IF(BL11=$BL$4,1,0))) -> 0
A12: =CONCATENATE(E12,LEFT(C12,2),RIGHT(C12,2),UPPER((LEFT(D12,3)))) | K12: . | L12: =VLOOKUP(K12,COMPETENCES,2) -> - | M12: =IF(L12="-",0,IF(L12=0,0,1)) -> 0 | O12: . | P12: =VLOOKUP(O12,QUALITES,2) -> - | R12: . | S12: =VLOOKUP(R12,EXPERTISE,2) -> - | AZ12: =IF(E12=AZ$3,AX12,0) -> 0 | BA12: =IF(AZ12=AZ$4,AZ12-60,AZ12) -> 0 | BB12: =IF(BA12=BA$4,BA12-60,BA12) -> 0 | BC12: =IF(AZ12=$AZ$4,1,IF(BA12=$BA$4,1,IF(BB12=$BB$4,1,0))) -> 0 | BE12: =IF(E12=BE$3,AX12,0) -> 0 | BF12: =IF(BE12=BE$4,BE12-60,BE12) -> 0 | BG12: =IF(BF12=BF$4,BF12-60,BF12) -> 0 | BH12: =IF(BE12=$BE$4,1,IF(BF12=$BF$4,1,IF(BG12=$BG$4,1,0))) -> 0 | BJ12: =IF(E12=BJ$3,AX12,0) -> 0 | BK12: =IF(BJ12=BJ$4,BJ12-60,BJ12) -> 0 | BL12: =IF(BK12=BK$4,BK12-60,BK12) -> 0 | BM12: =IF(BJ12=$BJ$4,1,IF(BK12=$BK$4,1,IF(BL12=$BL$4,1,0))) -> 0
A13: =CONCATENATE(E13,LEFT(C13,2),RIGHT(C13,2),UPPER((LEFT(D13,3)))) | K13: . | L13: =VLOOKUP(K13,COMPETENCES,2) -> - | M13: =IF(L13="-",0,IF(L13=0,0,1)) -> 0 | O13: . | P13: =VLOOKUP(O13,QUALITES,2) -> - | R13: . | S13: =VLOOKUP(R13,EXPERTISE,2) -> - | AZ13: =IF(E13=AZ$3,AX13,0) -> 0 | BA13: =IF(AZ13=AZ$4,AZ13-60,AZ13) -> 0 | BB13: =IF(BA13=BA$4,BA13-60,BA13) -> 0 | BC13: =IF(AZ13=$AZ$4,1,IF(BA13=$BA$4,1,IF(BB13=$BB$4,1,0))) -> 0 | BE13: =IF(E13=BE$3,AX13,0) -> 0 | BF13: =IF(BE13=BE$4,BE13-60,BE13) -> 0 | BG13: =IF(BF13=BF$4,BF13-60,BF13) -> 0 | BH13: =IF(BE13=$BE$4,1,IF(BF13=$BF$4,1,IF(BG13=$BG$4,1,0))) -> 0 | BJ13: =IF(E13=BJ$3,AX13,0) -> 0 | BK13: =IF(BJ13=BJ$4,BJ13-60,BJ13) -> 0 | BL13: =IF(BK13=BK$4,BK13-60,BK13) -> 0 | BM13: =IF(BJ13=$BJ$4,1,IF(BK13=$BK$4,1,IF(BL13=$BL$4,1,0))) -> 0
A14: =CONCATENATE(E14,LEFT(C14,2),RIGHT(C14,2),UPPER((LEFT(D14,3)))) | K14: . | L14: =VLOOKUP(K14,COMPETENCES,2) -> - | M14: =IF(L14="-",0,IF(L14=0,0,1)) -> 0 | R14: . | S14: =VLOOKUP(R14,EXPERTISE,2) -> - | AZ14: =IF(E14=AZ$3,AX14,0) -> 0 | BA14: =IF(AZ14=AZ$4,AZ14-60,AZ14) -> 0 | BB14: =IF(BA14=BA$4,BA14-60,BA14) -> 0 | BC14: =IF(AZ14=$AZ$4,1,IF(BA14=$BA$4,1,IF(BB14=$BB$4,1,0))) -> 0 | BE14: =IF(E14=BE$3,AX14,0) -> 0 | BF14: =IF(BE14=BE$4,BE14-60,BE14) -> 0 | BG14: =IF(BF14=BF$4,BF14-60,BF14) -> 0 | BH14: =IF(BE14=$BE$4,1,IF(BF14=$BF$4,1,IF(BG14=$BG$4,1,0))) -> 0 | BJ14: =IF(E14=BJ$3,AX14,0) -> 0 | BK14: =IF(BJ14=BJ$4,BJ14-60,BJ14) -> 0 | BL14: =IF(BK14=BK$4,BK14-60,BK14) -> 0 | BM14: =IF(BJ14=$BJ$4,1,IF(BK14=$BK$4,1,IF(BL14=$BL$4,1,0))) -> 0
A15: =CONCATENATE(E15,LEFT(C15,2),RIGHT(C15,2),UPPER((LEFT(D15,3)))) | K15: . | L15: =VLOOKUP(K15,COMPETENCES,2) -> - | M15: =IF(L15="-",0,IF(L15=0,0,1)) -> 0 | R15: . | S15: =VLOOKUP(R15,EXPERTISE,2) -> - | AZ15: =IF(E15=AZ$3,AX15,0) -> 0 | BA15: =IF(AZ15=AZ$4,AZ15-60,AZ15) -> 0 | BB15: =IF(BA15=BA$4,BA15-60,BA15) -> 0 | BC15: =IF(AZ15=$AZ$4,1,IF(BA15=$BA$4,1,IF(BB15=$BB$4,1,0))) -> 0 | BE15: =IF(E15=BE$3,AX15,0) -> 0 | BF15: =IF(BE15=BE$4,BE15-60,BE15) -> 0 | BG15: =IF(BF15=BF$4,BF15-60,BF15) -> 0 | BH15: =IF(BE15=$BE$4,1,IF(BF15=$BF$4,1,IF(BG15=$BG$4,1,0))) -> 0 | BJ15: =IF(E15=BJ$3,AX15,0) -> 0 | BK15: =IF(BJ15=BJ$4,BJ15-60,BJ15) -> 0 | BL15: =IF(BK15=BK$4,BK15-60,BK15) -> 0 | BM15: =IF(BJ15=$BJ$4,1,IF(BK15=$BK$4,1,IF(BL15=$BL$4,1,0))) -> 0
A16: =CONCATENATE(E16,LEFT(C16,2),RIGHT(C16,2),UPPER((LEFT(D16,3)))) | K16: . | L16: =VLOOKUP(K16,COMPETENCES,2) -> - | M16: =IF(L16="-",0,IF(L16=0,0,1)) -> 0 | R16: . | S16: =VLOOKUP(R16,EXPERTISE,2) -> - | AZ16: =IF(E16=AZ$3,AX16,0) -> 0 | BA16: =IF(AZ16=AZ$4,AZ16-60,AZ16) -> 0 | BB16: =IF(BA16=BA$4,BA16-60,BA16) -> 0 | BC16: =IF(AZ16=$AZ$4,1,IF(BA16=$BA$4,1,IF(BB16=$BB$4,1,0))) -> 0 | BE16: =IF(E16=BE$3,AX16,0) -> 0 | BF16: =IF(BE16=BE$4,BE16-60,BE16) -> 0 | BG16: =IF(BF16=BF$4,BF16-60,BF16) -> 0 | BH16: =IF(BE16=$BE$4,1,IF(BF16=$BF$4,1,IF(BG16=$BG$4,1,0))) -> 0 | BJ16: =IF(E16=BJ$3,AX16,0) -> 0 | BK16: =IF(BJ16=BJ$4,BJ16-60,BJ16) -> 0 | BL16: =IF(BK16=BK$4,BK16-60,BK16) -> 0 | BM16: =IF(BJ16=$BJ$4,1,IF(BK16=$BK$4,1,IF(BL16=$BL$4,1,0))) -> 0
A17: =CONCATENATE(E17,LEFT(C17,2),RIGHT(C17,2),UPPER((LEFT(D17,3)))) | K17: . | L17: =VLOOKUP(K17,COMPETENCES,2) -> - | M17: =IF(L17="-",0,IF(L17=0,0,1)) -> 0 | AZ17: =IF(E17=AZ$3,AX17,0) -> 0 | BA17: =IF(AZ17=AZ$4,AZ17-60,AZ17) -> 0 | BB17: =IF(BA17=BA$4,BA17-60,BA17) -> 0 | BC17: =IF(AZ17=$AZ$4,1,IF(BA17=$BA$4,1,IF(BB17=$BB$4,1,0))) -> 0 | BE17: =IF(E17=BE$3,AX17,0) -> 0 | BF17: =IF(BE17=BE$4,BE17-60,BE17) -> 0 | BG17: =IF(BF17=BF$4,BF17-60,BF17) -> 0 | BH17: =IF(BE17=$BE$4,1,IF(BF17=$BF$4,1,IF(BG17=$BG$4,1,0))) -> 0 | BJ17: =IF(E17=BJ$3,AX17,0) -> 0 | BK17: =IF(BJ17=BJ$4,BJ17-60,BJ17) -> 0 | BL17: =IF(BK17=BK$4,BK17-60,BK17) -> 0 | BM17: =IF(BJ17=$BJ$4,1,IF(BK17=$BK$4,1,IF(BL17=$BL$4,1,0))) -> 0
A18: =CONCATENATE(E18,LEFT(C18,2),RIGHT(C18,2),UPPER((LEFT(D18,3)))) | K18: . | L18: =VLOOKUP(K18,COMPETENCES,2) -> - | M18: =IF(L18="-",0,IF(L18=0,0,1)) -> 0 | AZ18: =IF(E18=AZ$3,AX18,0) -> 0 | BA18: =IF(AZ18=AZ$4,AZ18-60,AZ18) -> 0 | BB18: =IF(BA18=BA$4,BA18-60,BA18) -> 0 | BC18: =IF(AZ18=$AZ$4,1,IF(BA18=$BA$4,1,IF(BB18=$BB$4,1,0))) -> 0 | BE18: =IF(E18=BE$3,AX18,0) -> 0 | BF18: =IF(BE18=BE$4,BE18-60,BE18) -> 0 | BG18: =IF(BF18=BF$4,BF18-60,BF18) -> 0 | BH18: =IF(BE18=$BE$4,1,IF(BF18=$BF$4,1,IF(BG18=$BG$4,1,0))) -> 0 | BJ18: =IF(E18=BJ$3,AX18,0) -> 0 | BK18: =IF(BJ18=BJ$4,BJ18-60,BJ18) -> 0 | BL18: =IF(BK18=BK$4,BK18-60,BK18) -> 0 | BM18: =IF(BJ18=$BJ$4,1,IF(BK18=$BK$4,1,IF(BL18=$BL$4,1,0))) -> 0
A19: =CONCATENATE(E19,LEFT(C19,2),RIGHT(C19,2),UPPER((LEFT(D19,3)))) | K19: . | L19: =VLOOKUP(K19,COMPETENCES,2) -> - | M19: =IF(L19="-",0,IF(L19=0,0,1)) -> 0 | AZ19: =IF(E19=AZ$3,AX19,0) -> 0 | BA19: =IF(AZ19=AZ$4,AZ19-60,AZ19) -> 0 | BB19: =IF(BA19=BA$4,BA19-60,BA19) -> 0 | BC19: =IF(AZ19=$AZ$4,1,IF(BA19=$BA$4,1,IF(BB19=$BB$4,1,0))) -> 0 | BE19: =IF(E19=BE$3,AX19,0) -> 0 | BF19: =IF(BE19=BE$4,BE19-60,BE19) -> 0 | BG19: =IF(BF19=BF$4,BF19-60,BF19) -> 0 | BH19: =IF(BE19=$BE$4,1,IF(BF19=$BF$4,1,IF(BG19=$BG$4,1,0))) -> 0 | BJ19: =IF(E19=BJ$3,AX19,0) -> 0 | BK19: =IF(BJ19=BJ$4,BJ19-60,BJ19) -> 0 | BL19: =IF(BK19=BK$4,BK19-60,BK19) -> 0 | BM19: =IF(BJ19=$BJ$4,1,IF(BK19=$BK$4,1,IF(BL19=$BL$4,1,0))) -> 0
A20: =CONCATENATE(E20,LEFT(C20,2),RIGHT(C20,2),UPPER((LEFT(D20,3)))) | K20: . | AZ20: =IF(E20=AZ$3,AX20,0) -> 0 | BA20: =IF(AZ20=AZ$4,AZ20-60,AZ20) -> 0 | BB20: =IF(BA20=BA$4,BA20-60,BA20) -> 0 | BC20: =IF(AZ20=$AZ$4,1,IF(BA20=$BA$4,1,IF(BB20=$BB$4,1,0))) -> 0 | BE20: =IF(E20=BE$3,AX20,0) -> 0 | BF20: =IF(BE20=BE$4,BE20-60,BE20) -> 0 | BG20: =IF(BF20=BF$4,BF20-60,BF20) -> 0 | BH20: =IF(BE20=$BE$4,1,IF(BF20=$BF$4,1,IF(BG20=$BG$4,1,0))) -> 0 | BJ20: =IF(E20=BJ$3,AX20,0) -> 0 | BK20: =IF(BJ20=BJ$4,BJ20-60,BJ20) -> 0 | BL20: =IF(BK20=BK$4,BK20-60,BK20) -> 0 | BM20: =IF(BJ20=$BJ$4,1,IF(BK20=$BK$4,1,IF(BL20=$BL$4,1,0))) -> 0
A21: =CONCATENATE(E21,LEFT(C21,2),RIGHT(C21,2),UPPER((LEFT(D21,3)))) -> BAg02LÉO | B21: Titulaire | C21: Agent 02 | D21: Léo | E21: =VLOOKUP($F21,'Listes déroulantes'!$A$28:$B$46,2) -> B | F21: Aide-soignant cl. supérieure | U21: =J22+N22+Q22+T22 -> 33.125 | AH21: =W22+Y22+AA22+AC22+AE22+AG22 -> 2.5 | AL21: =IF(AK22<5,"0",IF(AK22<10,"2,5",IF(AK22<15,"5",IF(AK22<20,"7,5","10")))) -> 10 | AP21: =IF(AO22<10,5,10) -> 10 | AW21: =AR22+AT22+AV22 -> 2 | AX21: =U21+AP21+AL21+AH21+AW21 -> 57.625 | AZ21: =IF(E21=AZ$3,AX21,0) -> 0 | BA21: =IF(AZ21=AZ$4,AZ21-60,AZ21) -> 0 | BB21: =IF(BA21=BA$4,BA21-60,BA21) -> 0 | BC21: =IF(AZ21=$AZ$4,1,IF(BA21=$BA$4,1,IF(BB21=$BB$4,1,0))) -> 0 | BE21: =IF(E21=BE$3,AX21,0) -> 0 | BF21: =IF(BE21=BE$4,BE21-60,BE21) -> 0 | BG21: =IF(BF21=BF$4,BF21-60,BF21) -> 0 | BH21: =IF(BE21=$BE$4,1,IF(BF21=$BF$4,1,IF(BG21=$BG$4,1,0))) -> 0 | BJ21: =IF(E21=BJ$3,AX21,0) -> 0 | BK21: =IF(BJ21=BJ$4,BJ21-60,BJ21) -> 0 | BL21: =IF(BK21=BK$4,BK21-60,BK21) -> 0 | BM21: =IF(BJ21=$BJ$4,1,IF(BK21=$BK$4,1,IF(BL21=$BL$4,1,0))) -> 0
A22: =CONCATENATE(E22,LEFT(C22,2),RIGHT(C22,2),UPPER((LEFT(D22,3)))) | H22: Partiellement atteint | I22: =VLOOKUP(H22,OBJECTIFS,2) -> 5 | J22: =AVERAGE(I22:I26) -> 7.5 | K22: Maitrise | L22: =VLOOKUP(K22,COMPETENCES,2) -> 7.5 | M22: =IF(L22="-",0,IF(L22=0,0,1)) -> 1 | N22: =SUM(L22:L35)/SUM(M22:M35) -> 8.75 | O22: Très satisfaisant | P22: =VLOOKUP(O22,QUALITES,2) -> 10 | Q22: =AVERAGE(P22:P29) -> 9.0625 | R22: Maitrise | S22: =VLOOKUP(R22,EXPERTISE,2) -> 7.5 | T22: =AVERAGE(S22:S32) -> 7.8125 | V22: Sans objet | W22: =VLOOKUP(V22,PROJETS,2) -> 0 | X22: Satisfaisant | Y22: =VLOOKUP(X22,PROJETS,2) -> 2.5 | Z22: Sans objet | AA22: =VLOOKUP(Z22,PROJETS,2) -> 0 | AB22: Sans objet | AC22: =VLOOKUP(AB22,PROJETS,2) -> 0 | AD22: Sans objet | AE22: =VLOOKUP(AD22,PROJETS,2) -> 0 | AF22: Sans objet | AG22: =VLOOKUP(AF22,PROJETS,2) -> 0 | AI22: 34731 | AJ22: =AJ4 -> 44561 | AK22: =(AJ22-AI22)/365 -> 26.931507 | AM22: 32891 | AN22: =AN4 -> 44561 | AO22: =(AN22-AM22)/365 -> 31.972603 | AQ22: Satisfaisant | AR22: =VLOOKUP(AQ22,DIVERS,2) -> 2 | AS22: Sans objet | AT22: =VLOOKUP(AS22,FORMAC,2) -> 0 | AU22: Sans objet | AV22: =VLOOKUP(AU22,FORMAQ,2) -> 0 | AZ22: =IF(E22=AZ$3,AX22,0) -> 0 | BA22: =IF(AZ22=AZ$4,AZ22-60,AZ22) -> 0 | BB22: =IF(BA22=BA$4,BA22-60,BA22) -> 0 | BC22: =IF(AZ22=$AZ$4,1,IF(BA22=$BA$4,1,IF(BB22=$BB$4,1,0))) -> 0 | BE22: =IF(E22=BE$3,AX22,0) -> 0 | BF22: =IF(BE22=BE$4,BE22-60,BE22) -> 0 | BG22: =IF(BF22=BF$4,BF22-60,BF22) -> 0 | BH22: =IF(BE22=$BE$4,1,IF(BF22=$BF$4,1,IF(BG22=$BG$4,1,0))) -> 0 | BJ22: =IF(E22=BJ$3,AX22,0) -> 0 | BK22: =IF(BJ22=BJ$4,BJ22-60,BJ22) -> 0 | BL22: =IF(BK22=BK$4,BK22-60,BK22) -> 0 | BM22: =IF(BJ22=$BJ$4,1,IF(BK22=$BK$4,1,IF(BL22=$BL$4,1,0))) -> 0
A23: =CONCATENATE(E23,LEFT(C23,2),RIGHT(C23,2),UPPER((LEFT(D23,3)))) | H23: Atteint | I23: =VLOOKUP(H23,OBJECTIFS,2) -> 10 | K23: Expert | L23: =VLOOKUP(K23,COMPETENCES,2) -> 10 | M23: =IF(L23="-",0,IF(L23=0,0,1)) -> 1 | O23: Très satisfaisant | P23: =VLOOKUP(O23,QUALITES,2) -> 10 | R23: Maitrise | S23: =VLOOKUP(R23,EXPERTISE,2) -> 7.5 | AZ23: =IF(E23=AZ$3,AX23,0) -> 0 | BA23: =IF(AZ23=AZ$4,AZ23-60,AZ23) -> 0 | BB23: =IF(BA23=BA$4,BA23-60,BA23) -> 0 | BC23: =IF(AZ23=$AZ$4,1,IF(BA23=$BA$4,1,IF(BB23=$BB$4,1,0))) -> 0 | BE23: =IF(E23=BE$3,AX23,0) -> 0 | BF23: =IF(BE23=BE$4,BE23-60,BE23) -> 0 | BG23: =IF(BF23=BF$4,BF23-60,BF23) -> 0 | BH23: =IF(BE23=$BE$4,1,IF(BF23=$BF$4,1,IF(BG23=$BG$4,1,0))) -> 0 | BJ23: =IF(E23=BJ$3,AX23,0) -> 0 | BK23: =IF(BJ23=BJ$4,BJ23-60,BJ23) -> 0 | BL23: =IF(BK23=BK$4,BK23-60,BK23) -> 0 | BM23: =IF(BJ23=$BJ$4,1,IF(BK23=$BK$4,1,IF(BL23=$BL$4,1,0))) -> 0
A24: =CONCATENATE(E24,LEFT(C24,2),RIGHT(C24,2),UPPER((LEFT(D24,3)))) | H24: . | I24: =VLOOKUP(H24,OBJECTIFS,2) -> - | K24: Maitrise | L24: =VLOOKUP(K24,COMPETENCES,2) -> 7.5 | M24: =IF(L24="-",0,IF(L24=0,0,1)) -> 1 | O24: Satisfaisant | P24: =VLOOKUP(O24,QUALITES,2) -> 7.5 | R24: Maitrise | S24: =VLOOKUP(R24,EXPERTISE,2) -> 7.5 | AZ24: =IF(E24=AZ$3,AX24,0) -> 0 | BA24: =IF(AZ24=AZ$4,AZ24-60,AZ24) -> 0 | BB24: =IF(BA24=BA$4,BA24-60,BA24) -> 0 | BC24: =IF(AZ24=$AZ$4,1,IF(BA24=$BA$4,1,IF(BB24=$BB$4,1,0))) -> 0 | BE24: =IF(E24=BE$3,AX24,0) -> 0 | BF24: =IF(BE24=BE$4,BE24-60,BE24) -> 0 | BG24: =IF(BF24=BF$4,BF24-60,BF24) -> 0 | BH24: =IF(BE24=$BE$4,1,IF(BF24=$BF$4,1,IF(BG24=$BG$4,1,0))) -> 0 | BJ24: =IF(E24=BJ$3,AX24,0) -> 0 | BK24: =IF(BJ24=BJ$4,BJ24-60,BJ24) -> 0 | BL24: =IF(BK24=BK$4,BK24-60,BK24) -> 0 | BM24: =IF(BJ24=$BJ$4,1,IF(BK24=$BK$4,1,IF(BL24=$BL$4,1,0))) -> 0
A25: =CONCATENATE(E25,LEFT(C25,2),RIGHT(C25,2),UPPER((LEFT(D25,3)))) | H25: . | I25: =VLOOKUP(H25,OBJECTIFS,2) -> - | K25: Expert | L25: =VLOOKUP(K25,COMPETENCES,2) -> 10 | M25: =IF(L25="-",0,IF(L25=0,0,1)) -> 1 | O25: Satisfaisant | P25: =VLOOKUP(O25,QUALITES,2) -> 7.5 | R25: Maitrise | S25: =VLOOKUP(R25,EXPERTISE,2) -> 7.5 | AZ25: =IF(E25=AZ$3,AX25,0) -> 0 | BA25: =IF(AZ25=AZ$4,AZ25-60,AZ25) -> 0 | BB25: =IF(BA25=BA$4,BA25-60,BA25) -> 0 | BC25: =IF(AZ25=$AZ$4,1,IF(BA25=$BA$4,1,IF(BB25=$BB$4,1,0))) -> 0 | BE25: =IF(E25=BE$3,AX25,0) -> 0 | BF25: =IF(BE25=BE$4,BE25-60,BE25) -> 0 | BG25: =IF(BF25=BF$4,BF25-60,BF25) -> 0 | BH25: =IF(BE25=$BE$4,1,IF(BF25=$BF$4,1,IF(BG25=$BG$4,1,0))) -> 0 | BJ25: =IF(E25=BJ$3,AX25,0) -> 0 | BK25: =IF(BJ25=BJ$4,BJ25-60,BJ25) -> 0 | BL25: =IF(BK25=BK$4,BK25-60,BK25) -> 0 | BM25: =IF(BJ25=$BJ$4,1,IF(BK25=$BK$4,1,IF(BL25=$BL$4,1,0))) -> 0
A26: =CONCATENATE(E26,LEFT(C26,2),RIGHT(C26,2),UPPER((LEFT(D26,3)))) | H26: . | I26: =VLOOKUP(H26,OBJECTIFS,2) -> - | K26: Maitrise | L26: =VLOOKUP(K26,COMPETENCES,2) -> 7.5 | M26: =IF(L26="-",0,IF(L26=0,0,1)) -> 1 | O26: Très satisfaisant | P26: =VLOOKUP(O26,QUALITES,2) -> 10 | R26: Non évalué | S26: =VLOOKUP(R26,EXPERTISE,2) -> - | AZ26: =IF(E26=AZ$3,AX26,0) -> 0 | BA26: =IF(AZ26=AZ$4,AZ26-60,AZ26) -> 0 | BB26: =IF(BA26=BA$4,BA26-60,BA26) -> 0 | BC26: =IF(AZ26=$AZ$4,1,IF(BA26=$BA$4,1,IF(BB26=$BB$4,1,0))) -> 0 | BE26: =IF(E26=BE$3,AX26,0) -> 0 | BF26: =IF(BE26=BE$4,BE26-60,BE26) -> 0 | BG26: =IF(BF26=BF$4,BF26-60,BF26) -> 0 | BH26: =IF(BE26=$BE$4,1,IF(BF26=$BF$4,1,IF(BG26=$BG$4,1,0))) -> 0 | BJ26: =IF(E26=BJ$3,AX26,0) -> 0 | BK26: =IF(BJ26=BJ$4,BJ26-60,BJ26) -> 0 | BL26: =IF(BK26=BK$4,BK26-60,BK26) -> 0 | BM26: =IF(BJ26=$BJ$4,1,IF(BK26=$BK$4,1,IF(BL26=$BL$4,1,0))) -> 0
A27: =CONCATENATE(E27,LEFT(C27,2),RIGHT(C27,2),UPPER((LEFT(D27,3)))) | K27: Expert | L27: =VLOOKUP(K27,COMPETENCES,2) -> 10 | M27: =IF(L27="-",0,IF(L27=0,0,1)) -> 1 | O27: Très satisfaisant | P27: =VLOOKUP(O27,QUALITES,2) -> 10 | R27: Expert | S27: =VLOOKUP(R27,EXPERTISE,2) -> 10 | AZ27: =IF(E27=AZ$3,AX27,0) -> 0 | BA27: =IF(AZ27=AZ$4,AZ27-60,AZ27) -> 0 | BB27: =IF(BA27=BA$4,BA27-60,BA27) -> 0 | BC27: =IF(AZ27=$AZ$4,1,IF(BA27=$BA$4,1,IF(BB27=$BB$4,1,0))) -> 0 | BE27: =IF(E27=BE$3,AX27,0) -> 0 | BF27: =IF(BE27=BE$4,BE27-60,BE27) -> 0 | BG27: =IF(BF27=BF$4,BF27-60,BF27) -> 0 | BH27: =IF(BE27=$BE$4,1,IF(BF27=$BF$4,1,IF(BG27=$BG$4,1,0))) -> 0 | BJ27: =IF(E27=BJ$3,AX27,0) -> 0 | BK27: =IF(BJ27=BJ$4,BJ27-60,BJ27) -> 0 | BL27: =IF(BK27=BK$4,BK27-60,BK27) -> 0 | BM27: =IF(BJ27=$BJ$4,1,IF(BK27=$BK$4,1,IF(BL27=$BL$4,1,0))) -> 0
A28: =CONCATENATE(E28,LEFT(C28,2),RIGHT(C28,2),UPPER((LEFT(D28,3)))) | K28: Expert | L28: =VLOOKUP(K28,COMPETENCES,2) -> 10 | M28: =IF(L28="-",0,IF(L28=0,0,1)) -> 1 | O28: Satisfaisant | P28: =VLOOKUP(O28,QUALITES,2) -> 7.5 | R28: Non évalué | S28: =VLOOKUP(R28,EXPERTISE,2) -> - | AZ28: =IF(E28=AZ$3,AX28,0) -> 0 | BA28: =IF(AZ28=AZ$4,AZ28-60,AZ28) -> 0 | BB28: =IF(BA28=BA$4,BA28-60,BA28) -> 0 | BC28: =IF(AZ28=$AZ$4,1,IF(BA28=$BA$4,1,IF(BB28=$BB$4,1,0))) -> 0 | BE28: =IF(E28=BE$3,AX28,0) -> 0 | BF28: =IF(BE28=BE$4,BE28-60,BE28) -> 0 | BG28: =IF(BF28=BF$4,BF28-60,BF28) -> 0 | BH28: =IF(BE28=$BE$4,1,IF(BF28=$BF$4,1,IF(BG28=$BG$4,1,0))) -> 0 | BJ28: =IF(E28=BJ$3,AX28,0) -> 0 | BK28: =IF(BJ28=BJ$4,BJ28-60,BJ28) -> 0 | BL28: =IF(BK28=BK$4,BK28-60,BK28) -> 0 | BM28: =IF(BJ28=$BJ$4,1,IF(BK28=$BK$4,1,IF(BL28=$BL$4,1,0))) -> 0
A29: =CONCATENATE(E29,LEFT(C29,2),RIGHT(C29,2),UPPER((LEFT(D29,3)))) | K29: Maitrise | L29: =VLOOKUP(K29,COMPETENCES,2) -> 7.5 | M29: =IF(L29="-",0,IF(L29=0,0,1)) -> 1 | O29: Très satisfaisant | P29: =VLOOKUP(O29,QUALITES,2) -> 10 | R29: Maitrise | S29: =VLOOKUP(R29,EXPERTISE,2) -> 7.5 | AZ29: =IF(E29=AZ$3,AX29,0) -> 0 | BA29: =IF(AZ29=AZ$4,AZ29-60,AZ29) -> 0 | BB29: =IF(BA29=BA$4,BA29-60,BA29) -> 0 | BC29: =IF(AZ29=$AZ$4,1,IF(BA29=$BA$4,1,IF(BB29=$BB$4,1,0))) -> 0 | BE29: =IF(E29=BE$3,AX29,0) -> 0 | BF29: =IF(BE29=BE$4,BE29-60,BE29) -> 0 | BG29: =IF(BF29=BF$4,BF29-60,BF29) -> 0 | BH29: =IF(BE29=$BE$4,1,IF(BF29=$BF$4,1,IF(BG29=$BG$4,1,0))) -> 0 | BJ29: =IF(E29=BJ$3,AX29,0) -> 0 | BK29: =IF(BJ29=BJ$4,BJ29-60,BJ29) -> 0 | BL29: =IF(BK29=BK$4,BK29-60,BK29) -> 0 | BM29: =IF(BJ29=$BJ$4,1,IF(BK29=$BK$4,1,IF(BL29=$BL$4,1,0))) -> 0
A30: =CONCATENATE(E30,LEFT(C30,2),RIGHT(C30,2),UPPER((LEFT(D30,3)))) | K30: Expert | L30: =VLOOKUP(K30,COMPETENCES,2) -> 10 | M30: =IF(L30="-",0,IF(L30=0,0,1)) -> 1 | R30: Maitrise | S30: =VLOOKUP(R30,EXPERTISE,2) -> 7.5 | AZ30: =IF(E30=AZ$3,AX30,0) -> 0 | BA30: =IF(AZ30=AZ$4,AZ30-60,AZ30) -> 0 | BB30: =IF(BA30=BA$4,BA30-60,BA30) -> 0 | BC30: =IF(AZ30=$AZ$4,1,IF(BA30=$BA$4,1,IF(BB30=$BB$4,1,0))) -> 0 | BE30: =IF(E30=BE$3,AX30,0) -> 0 | BF30: =IF(BE30=BE$4,BE30-60,BE30) -> 0 | BG30: =IF(BF30=BF$4,BF30-60,BF30) -> 0 | BH30: =IF(BE30=$BE$4,1,IF(BF30=$BF$4,1,IF(BG30=$BG$4,1,0))) -> 0 | BJ30: =IF(E30=BJ$3,AX30,0) -> 0 | BK30: =IF(BJ30=BJ$4,BJ30-60,BJ30) -> 0 | BL30: =IF(BK30=BK$4,BK30-60,BK30) -> 0 | BM30: =IF(BJ30=$BJ$4,1,IF(BK30=$BK$4,1,IF(BL30=$BL$4,1,0))) -> 0
A31: =CONCATENATE(E31,LEFT(C31,2),RIGHT(C31,2),UPPER((LEFT(D31,3)))) | K31: Maitrise | L31: =VLOOKUP(K31,COMPETENCES,2) -> 7.5 | M31: =IF(L31="-",0,IF(L31=0,0,1)) -> 1 | R31: Non évalué | S31: =VLOOKUP(R31,EXPERTISE,2) -> - | AZ31: =IF(E31=AZ$3,AX31,0) -> 0 | BA31: =IF(AZ31=AZ$4,AZ31-60,AZ31) -> 0 | BB31: =IF(BA31=BA$4,BA31-60,BA31) -> 0 | BC31: =IF(AZ31=$AZ$4,1,IF(BA31=$BA$4,1,IF(BB31=$BB$4,1,0))) -> 0 | BE31: =IF(E31=BE$3,AX31,0) -> 0 | BF31: =IF(BE31=BE$4,BE31-60,BE31) -> 0 | BG31: =IF(BF31=BF$4,BF31-60,BF31) -> 0 | BH31: =IF(BE31=$BE$4,1,IF(BF31=$BF$4,1,IF(BG31=$BG$4,1,0))) -> 0 | BJ31: =IF(E31=BJ$3,AX31,0) -> 0 | BK31: =IF(BJ31=BJ$4,BJ31-60,BJ31) -> 0 | BL31: =IF(BK31=BK$4,BK31-60,BK31) -> 0 | BM31: =IF(BJ31=$BJ$4,1,IF(BK31=$BK$4,1,IF(BL31=$BL$4,1,0))) -> 0
A32: =CONCATENATE(E32,LEFT(C32,2),RIGHT(C32,2),UPPER((LEFT(D32,3)))) | K32: . | L32: =VLOOKUP(K32,COMPETENCES,2) -> - | M32: =IF(L32="-",0,IF(L32=0,0,1)) -> 0 | R32: Maitrise | S32: =VLOOKUP(R32,EXPERTISE,2) -> 7.5 | AZ32: =IF(E32=AZ$3,AX32,0) -> 0 | BA32: =IF(AZ32=AZ$4,AZ32-60,AZ32) -> 0 | BB32: =IF(BA32=BA$4,BA32-60,BA32) -> 0 | BC32: =IF(AZ32=$AZ$4,1,IF(BA32=$BA$4,1,IF(BB32=$BB$4,1,0))) -> 0 | BE32: =IF(E32=BE$3,AX32,0) -> 0 | BF32: =IF(BE32=BE$4,BE32-60,BE32) -> 0 | BG32: =IF(BF32=BF$4,BF32-60,BF32) -> 0 | BH32: =IF(BE32=$BE$4,1,IF(BF32=$BF$4,1,IF(BG32=$BG$4,1,0))) -> 0 | BJ32: =IF(E32=BJ$3,AX32,0) -> 0 | BK32: =IF(BJ32=BJ$4,BJ32-60,BJ32) -> 0 | BL32: =IF(BK32=BK$4,BK32-60,BK32) -> 0 | BM32: =IF(BJ32=$BJ$4,1,IF(BK32=$BK$4,1,IF(BL32=$BL$4,1,0))) -> 0
A33: =CONCATENATE(E33,LEFT(C33,2),RIGHT(C33,2),UPPER((LEFT(D33,3)))) | K33: . | L33: =VLOOKUP(K33,COMPETENCES,2) -> - | M33: =IF(L33="-",0,IF(L33=0,0,1)) -> 0 | AZ33: =IF(E33=AZ$3,AX33,0) -> 0 | BA33: =IF(AZ33=AZ$4,AZ33-60,AZ33) -> 0 | BB33: =IF(BA33=BA$4,BA33-60,BA33) -> 0 | BC33: =IF(AZ33=$AZ$4,1,IF(BA33=$BA$4,1,IF(BB33=$BB$4,1,0))) -> 0 | BE33: =IF(E33=BE$3,AX33,0) -> 0 | BF33: =IF(BE33=BE$4,BE33-60,BE33) -> 0 | BG33: =IF(BF33=BF$4,BF33-60,BF33) -> 0 | BH33: =IF(BE33=$BE$4,1,IF(BF33=$BF$4,1,IF(BG33=$BG$4,1,0))) -> 0 | BJ33: =IF(E33=BJ$3,AX33,0) -> 0 | BK33: =IF(BJ33=BJ$4,BJ33-60,BJ33) -> 0 | BL33: =IF(BK33=BK$4,BK33-60,BK33) -> 0 | BM33: =IF(BJ33=$BJ$4,1,IF(BK33=$BK$4,1,IF(BL33=$BL$4,1,0))) -> 0
A34: =CONCATENATE(E34,LEFT(C34,2),RIGHT(C34,2),UPPER((LEFT(D34,3)))) | K34: . | L34: =VLOOKUP(K34,COMPETENCES,2) -> - | M34: =IF(L34="-",0,IF(L34=0,0,1)) -> 0 | AZ34: =IF(E34=AZ$3,AX34,0) -> 0 | BA34: =IF(AZ34=AZ$4,AZ34-60,AZ34) -> 0 | BB34: =IF(BA34=BA$4,BA34-60,BA34) -> 0 | BC34: =IF(AZ34=$AZ$4,1,IF(BA34=$BA$4,1,IF(BB34=$BB$4,1,0))) -> 0 | BE34: =IF(E34=BE$3,AX34,0) -> 0 | BF34: =IF(BE34=BE$4,BE34-60,BE34) -> 0 | BG34: =IF(BF34=BF$4,BF34-60,BF34) -> 0 | BH34: =IF(BE34=$BE$4,1,IF(BF34=$BF$4,1,IF(BG34=$BG$4,1,0))) -> 0 | BJ34: =IF(E34=BJ$3,AX34,0) -> 0 | BK34: =IF(BJ34=BJ$4,BJ34-60,BJ34) -> 0 | BL34: =IF(BK34=BK$4,BK34-60,BK34) -> 0 | BM34: =IF(BJ34=$BJ$4,1,IF(BK34=$BK$4,1,IF(BL34=$BL$4,1,0))) -> 0
A35: =CONCATENATE(E35,LEFT(C35,2),RIGHT(C35,2),UPPER((LEFT(D35,3)))) | K35: . | L35: =VLOOKUP(K35,COMPETENCES,2) -> - | M35: =IF(L35="-",0,IF(L35=0,0,1)) -> 0 | AZ35: =IF(E35=AZ$3,AX35,0) -> 0 | BA35: =IF(AZ35=AZ$4,AZ35-60,AZ35) -> 0 | BB35: =IF(BA35=BA$4,BA35-60,BA35) -> 0 | BC35: =IF(AZ35=$AZ$4,1,IF(BA35=$BA$4,1,IF(BB35=$BB$4,1,0))) -> 0 | BE35: =IF(E35=BE$3,AX35,0) -> 0 | BF35: =IF(BE35=BE$4,BE35-60,BE35) -> 0 | BG35: =IF(BF35=BF$4,BF35-60,BF35) -> 0 | BH35: =IF(BE35=$BE$4,1,IF(BF35=$BF$4,1,IF(BG35=$BG$4,1,0))) -> 0 | BJ35: =IF(E35=BJ$3,AX35,0) -> 0 | BK35: =IF(BJ35=BJ$4,BJ35-60,BJ35) -> 0 | BL35: =IF(BK35=BK$4,BK35-60,BK35) -> 0 | BM35: =IF(BJ35=$BJ$4,1,IF(BK35=$BK$4,1,IF(BL35=$BL$4,1,0))) -> 0
A36: =CONCATENATE(E36,LEFT(C36,2),RIGHT(C36,2),UPPER((LEFT(D36,3)))) | AZ36: =IF(E36=AZ$3,AX36,0) -> 0 | BA36: =IF(AZ36=AZ$4,AZ36-60,AZ36) -> 0 | BB36: =IF(BA36=BA$4,BA36-60,BA36) -> 0 | BC36: =IF(AZ36=$AZ$4,1,IF(BA36=$BA$4,1,IF(BB36=$BB$4,1,0))) -> 0 | BE36: =IF(E36=BE$3,AX36,0) -> 0 | BF36: =IF(BE36=BE$4,BE36-60,BE36) -> 0 | BG36: =IF(BF36=BF$4,BF36-60,BF36) -> 0 | BH36: =IF(BE36=$BE$4,1,IF(BF36=$BF$4,1,IF(BG36=$BG$4,1,0))) -> 0 | BJ36: =IF(E36=BJ$3,AX36,0) -> 0 | BK36: =IF(BJ36=BJ$4,BJ36-60,BJ36) -> 0 | BL36: =IF(BK36=BK$4,BK36-60,BK36) -> 0 | BM36: =IF(BJ36=$BJ$4,1,IF(BK36=$BK$4,1,IF(BL36=$BL$4,1,0))) -> 0
A37: =CONCATENATE(E37,LEFT(C37,2),RIGHT(C37,2),UPPER((LEFT(D37,3)))) -> BAg03EMM | B37: Titulaire | C37: Agent 03 | D37: Emma | E37: =VLOOKUP($F37,'Listes déroulantes'!$A$28:$B$46,2) -> B | F37: Aide-soignant cl. supérieure | U37: =J38+N38+Q38+T38 -> 38.131944 | AH37: =W38+Y38+AA38+AC38+AE38+AG38 -> 7.5 | AL37: =IF(AK38<5,"0",IF(AK38<10,"2,5",IF(AK38<15,"5",IF(AK38<20,"7,5","10")))) -> 10 | AP37: =IF(AO38<10,5,10) -> 10 | AW37: =AR38+AT38+AV38 -> 4 | AX37: =U37+AP37+AL37+AH37+AW37 -> 69.631944 | AZ37: =IF(E37=AZ$3,AX37,0) -> 0 | BA37: =IF(AZ37=AZ$4,AZ37-60,AZ37) -> 0 | BB37: =IF(BA37=BA$4,BA37-60,BA37) -> 0 | BC37: =IF(AZ37=$AZ$4,1,IF(BA37=$BA$4,1,IF(BB37=$BB$4,1,0))) -> 0 | BE37: =IF(E37=BE$3,AX37,0) -> 0 | BF37: =IF(BE37=BE$4,BE37-60,BE37) -> 0 | BG37: =IF(BF37=BF$4,BF37-60,BF37) -> 0 | BH37: =IF(BE37=$BE$4,1,IF(BF37=$BF$4,1,IF(BG37=$BG$4,1,0))) -> 0 | BJ37: =IF(E37=BJ$3,AX37,0) -> 0 | BK37: =IF(BJ37=BJ$4,BJ37-60,BJ37) -> 0 | BL37: =IF(BK37=BK$4,BK37-60,BK37) -> 0 | BM37: =IF(BJ37=$BJ$4,1,IF(BK37=$BK$4,1,IF(BL37=$BL$4,1,0))) -> 0
A38: =CONCATENATE(E38,LEFT(C38,2),RIGHT(C38,2),UPPER((LEFT(D38,3)))) | H38: Atteint | I38: =VLOOKUP(H38,OBJECTIFS,2) -> 10 | J38: =AVERAGE(I38:I42) -> 10 | K38: Maitrise | L38: =VLOOKUP(K38,COMPETENCES,2) -> 7.5 | M38: =IF(L38="-",0,IF(L38=0,0,1)) -> 1 | N38: =SUM(L38:L51)/SUM(M38:M51) -> 9 | O38: Très satisfaisant | P38: =VLOOKUP(O38,QUALITES,2) -> 10 | Q38: =AVERAGE(P38:P45) -> 9.6875 | R38: Expert | S38: =VLOOKUP(R38,EXPERTISE,2) -> 10 | T38: =AVERAGE(S38:S48) -> 9.4444444 | V38: Satisfaisant | W38: =VLOOKUP(V38,PROJETS,2) -> 2.5 | X38: Sans objet | Y38: =VLOOKUP(X38,PROJETS,2) -> 0 | Z38: Satisfaisant | AA38: =VLOOKUP(Z38,PROJETS,2) -> 2.5 | AB38: Sans objet | AC38: =VLOOKUP(AB38,PROJETS,2) -> 0 | AD38: Satisfaisant | AE38: =VLOOKUP(AD38,PROJETS,2) -> 2.5 | AF38: Sans objet | AG38: =VLOOKUP(AF38,PROJETS,2) -> 0 | AI38: 36620 | AJ38: =AJ4 -> 44561 | AK38: =(AJ38-AI38)/365 -> 21.756164 | AM38: 35863 | AN38: =AN4 -> 44561 | AO38: =(AN38-AM38)/365 -> 23.830137 | AQ38: Satisfaisant | AR38: =VLOOKUP(AQ38,DIVERS,2) -> 2 | AS38: Satisfaisant | AT38: =VLOOKUP(AS38,FORMAC,2) -> 2 | AU38: Sans objet | AV38: =VLOOKUP(AU38,FORMAQ,2) -> 0 | AZ38: =IF(E38=AZ$3,AX38,0) -> 0 | BA38: =IF(AZ38=AZ$4,AZ38-60,AZ38) -> 0 | BB38: =IF(BA38=BA$4,BA38-60,BA38) -> 0 | BC38: =IF(AZ38=$AZ$4,1,IF(BA38=$BA$4,1,IF(BB38=$BB$4,1,0))) -> 0 | BE38: =IF(E38=BE$3,AX38,0) -> 0 | BF38: =IF(BE38=BE$4,BE38-60,BE38) -> 0 | BG38: =IF(BF38=BF$4,BF38-60,BF38) -> 0 | BH38: =IF(BE38=$BE$4,1,IF(BF38=$BF$4,1,IF(BG38=$BG$4,1,0))) -> 0 | BJ38: =IF(E38=BJ$3,AX38,0) -> 0 | BK38: =IF(BJ38=BJ$4,BJ38-60,BJ38) -> 0 | BL38: =IF(BK38=BK$4,BK38-60,BK38) -> 0 | BM38: =IF(BJ38=$BJ$4,1,IF(BK38=$BK$4,1,IF(BL38=$BL$4,1,0))) -> 0
A39: =CONCATENATE(E39,LEFT(C39,2),RIGHT(C39,2),UPPER((LEFT(D39,3)))) | H39: Atteint | I39: =VLOOKUP(H39,OBJECTIFS,2) -> 10 | K39: Expert | L39: =VLOOKUP(K39,COMPETENCES,2) -> 10 | M39: =IF(L39="-",0,IF(L39=0,0,1)) -> 1 | O39: Très satisfaisant | P39: =VLOOKUP(O39,QUALITES,2) -> 10 | R39: Expert | S39: =VLOOKUP(R39,EXPERTISE,2) -> 10 | AZ39: =IF(E39=AZ$3,AX39,0) -> 0 | BA39: =IF(AZ39=AZ$4,AZ39-60,AZ39) -> 0 | BB39: =IF(BA39=BA$4,BA39-60,BA39) -> 0 | BC39: =IF(AZ39=$AZ$4,1,IF(BA39=$BA$4,1,IF(BB39=$BB$4,1,0))) -> 0 | BE39: =IF(E39=BE$3,AX39,0) -> 0 | BF39: =IF(BE39=BE$4,BE39-60,BE39) -> 0 | BG39: =IF(BF39=BF$4,BF39-60,BF39) -> 0 | BH39: =IF(BE39=$BE$4,1,IF(BF39=$BF$4,1,IF(BG39=$BG$4,1,0))) -> 0 | BJ39: =IF(E39=BJ$3,AX39,0) -> 0 | BK39: =IF(BJ39=BJ$4,BJ39-60,BJ39) -> 0 | BL39: =IF(BK39=BK$4,BK39-60,BK39) -> 0 | BM39: =IF(BJ39=$BJ$4,1,IF(BK39=$BK$4,1,IF(BL39=$BL$4,1,0))) -> 0
A40: =CONCATENATE(E40,LEFT(C40,2),RIGHT(C40,2),UPPER((LEFT(D40,3)))) | H40: . | I40: =VLOOKUP(H40,OBJECTIFS,2) -> - | K40: Maitrise | L40: =VLOOKUP(K40,COMPETENCES,2) -> 7.5 | M40: =IF(L40="-",0,IF(L40=0,0,1)) -> 1 | O40: Très satisfaisant | P40: =VLOOKUP(O40,QUALITES,2) -> 10 | R40: Expert | S40: =VLOOKUP(R40,EXPERTISE,2) -> 10 | AZ40: =IF(E40=AZ$3,AX40,0) -> 0 | BA40: =IF(AZ40=AZ$4,AZ40-60,AZ40) -> 0 | BB40: =IF(BA40=BA$4,BA40-60,BA40) -> 0 | BC40: =IF(AZ40=$AZ$4,1,IF(BA40=$BA$4,1,IF(BB40=$BB$4,1,0))) -> 0 | BE40: =IF(E40=BE$3,AX40,0) -> 0 | BF40: =IF(BE40=BE$4,BE40-60,BE40) -> 0 | BG40: =IF(BF40=BF$4,BF40-60,BF40) -> 0 | BH40: =IF(BE40=$BE$4,1,IF(BF40=$BF$4,1,IF(BG40=$BG$4,1,0))) -> 0 | BJ40: =IF(E40=BJ$3,AX40,0) -> 0 | BK40: =IF(BJ40=BJ$4,BJ40-60,BJ40) -> 0 | BL40: =IF(BK40=BK$4,BK40-60,BK40) -> 0 | BM40: =IF(BJ40=$BJ$4,1,IF(BK40=$BK$4,1,IF(BL40=$BL$4,1,0))) -> 0
A41: =CONCATENATE(E41,LEFT(C41,2),RIGHT(C41,2),UPPER((LEFT(D41,3)))) | H41: . | I41: =VLOOKUP(H41,OBJECTIFS,2) -> - | K41: Expert | L41: =VLOOKUP(K41,COMPETENCES,2) -> 10 | M41: =IF(L41="-",0,IF(L41=0,0,1)) -> 1 | O41: Très satisfaisant | P41: =VLOOKUP(O41,QUALITES,2) -> 10 | R41: Maitrise | S41: =VLOOKUP(R41,EXPERTISE,2) -> 7.5 | AZ41: =IF(E41=AZ$3,AX41,0) -> 0 | BA41: =IF(AZ41=AZ$4,AZ41-60,AZ41) -> 0 | BB41: =IF(BA41=BA$4,BA41-60,BA41) -> 0 | BC41: =IF(AZ41=$AZ$4,1,IF(BA41=$BA$4,1,IF(BB41=$BB$4,1,0))) -> 0 | BE41: =IF(E41=BE$3,AX41,0) -> 0 | BF41: =IF(BE41=BE$4,BE41-60,BE41) -> 0 | BG41: =IF(BF41=BF$4,BF41-60,BF41) -> 0 | BH41: =IF(BE41=$BE$4,1,IF(BF41=$BF$4,1,IF(BG41=$BG$4,1,0))) -> 0 | BJ41: =IF(E41=BJ$3,AX41,0) -> 0 | BK41: =IF(BJ41=BJ$4,BJ41-60,BJ41) -> 0 | BL41: =IF(BK41=BK$4,BK41-60,BK41) -> 0 | BM41: =IF(BJ41=$BJ$4,1,IF(BK41=$BK$4,1,IF(BL41=$BL$4,1,0))) -> 0
A42: =CONCATENATE(E42,LEFT(C42,2),RIGHT(C42,2),UPPER((LEFT(D42,3)))) | H42: . | I42: =VLOOKUP(H42,OBJECTIFS,2) -> - | K42: Expert | L42: =VLOOKUP(K42,COMPETENCES,2) -> 10 | M42: =IF(L42="-",0,IF(L42=0,0,1)) -> 1 | O42: Satisfaisant | P42: =VLOOKUP(O42,QUALITES,2) -> 7.5 | R42: Non évalué | S42: =VLOOKUP(R42,EXPERTISE,2) -> - | AZ42: =IF(E42=AZ$3,AX42,0) -> 0 | BA42: =IF(AZ42=AZ$4,AZ42-60,AZ42) -> 0 | BB42: =IF(BA42=BA$4,BA42-60,BA42) -> 0 | BC42: =IF(AZ42=$AZ$4,1,IF(BA42=$BA$4,1,IF(BB42=$BB$4,1,0))) -> 0 | BE42: =IF(E42=BE$3,AX42,0) -> 0 | BF42: =IF(BE42=BE$4,BE42-60,BE42) -> 0 | BG42: =IF(BF42=BF$4,BF42-60,BF42) -> 0 | BH42: =IF(BE42=$BE$4,1,IF(BF42=$BF$4,1,IF(BG42=$BG$4,1,0))) -> 0 | BJ42: =IF(E42=BJ$3,AX42,0) -> 0 | BK42: =IF(BJ42=BJ$4,BJ42-60,BJ42) -> 0 | BL42: =IF(BK42=BK$4,BK42-60,BK42) -> 0 | BM42: =IF(BJ42=$BJ$4,1,IF(BK42=$BK$4,1,IF(BL42=$BL$4,1,0))) -> 0
A43: =CONCATENATE(E43,LEFT(C43,2),RIGHT(C43,2),UPPER((LEFT(D43,3)))) | K43: Maitrise | L43: =VLOOKUP(K43,COMPETENCES,2) -> 7.5 | M43: =IF(L43="-",0,IF(L43=0,0,1)) -> 1 | O43: Très satisfaisant | P43: =VLOOKUP(O43,QUALITES,2) -> 10 | R43: Expert | S43: =VLOOKUP(R43,EXPERTISE,2) -> 10 | AZ43: =IF(E43=AZ$3,AX43,0) -> 0 | BA43: =IF(AZ43=AZ$4,AZ43-60,AZ43) -> 0 | BB43: =IF(BA43=BA$4,BA43-60,BA43) -> 0 | BC43: =IF(AZ43=$AZ$4,1,IF(BA43=$BA$4,1,IF(BB43=$BB$4,1,0))) -> 0 | BE43: =IF(E43=BE$3,AX43,0) -> 0 | BF43: =IF(BE43=BE$4,BE43-60,BE43) -> 0 | BG43: =IF(BF43=BF$4,BF43-60,BF43) -> 0 | BH43: =IF(BE43=$BE$4,1,IF(BF43=$BF$4,1,IF(BG43=$BG$4,1,0))) -> 0 | BJ43: =IF(E43=BJ$3,AX43,0) -> 0 | BK43: =IF(BJ43=BJ$4,BJ43-60,BJ43) -> 0 | BL43: =IF(BK43=BK$4,BK43-60,BK43) -> 0 | BM43: =IF(BJ43=$BJ$4,1,IF(BK43=$BK$4,1,IF(BL43=$BL$4,1,0))) -> 0
A44: =CONCATENATE(E44,LEFT(C44,2),RIGHT(C44,2),UPPER((LEFT(D44,3)))) | K44: Expert | L44: =VLOOKUP(K44,COMPETENCES,2) -> 10 | M44: =IF(L44="-",0,IF(L44=0,0,1)) -> 1 | O44: Très satisfaisant | P44: =VLOOKUP(O44,QUALITES,2) -> 10 | R44: Maitrise | S44: =VLOOKUP(R44,EXPERTISE,2) -> 7.5 | AZ44: =IF(E44=AZ$3,AX44,0) -> 0 | BA44: =IF(AZ44=AZ$4,AZ44-60,AZ44) -> 0 | BB44: =IF(BA44=BA$4,BA44-60,BA44) -> 0 | BC44: =IF(AZ44=$AZ$4,1,IF(BA44=$BA$4,1,IF(BB44=$BB$4,1,0))) -> 0 | BE44: =IF(E44=BE$3,AX44,0) -> 0 | BF44: =IF(BE44=BE$4,BE44-60,BE44) -> 0 | BG44: =IF(BF44=BF$4,BF44-60,BF44) -> 0 | BH44: =IF(BE44=$BE$4,1,IF(BF44=$BF$4,1,IF(BG44=$BG$4,1,0))) -> 0 | BJ44: =IF(E44=BJ$3,AX44,0) -> 0 | BK44: =IF(BJ44=BJ$4,BJ44-60,BJ44) -> 0 | BL44: =IF(BK44=BK$4,BK44-60,BK44) -> 0 | BM44: =IF(BJ44=$BJ$4,1,IF(BK44=$BK$4,1,IF(BL44=$BL$4,1,0))) -> 0
A45: =CONCATENATE(E45,LEFT(C45,2),RIGHT(C45,2),UPPER((LEFT(D45,3)))) | K45: Maitrise | L45: =VLOOKUP(K45,COMPETENCES,2) -> 7.5 | M45: =IF(L45="-",0,IF(L45=0,0,1)) -> 1 | O45: Très satisfaisant | P45: =VLOOKUP(O45,QUALITES,2) -> 10 | R45: Expert | S45: =VLOOKUP(R45,EXPERTISE,2) -> 10 | AZ45: =IF(E45=AZ$3,AX45,0) -> 0 | BA45: =IF(AZ45=AZ$4,AZ45-60,AZ45) -> 0 | BB45: =IF(BA45=BA$4,BA45-60,BA45) -> 0 | BC45: =IF(AZ45=$AZ$4,1,IF(BA45=$BA$4,1,IF(BB45=$BB$4,1,0))) -> 0 | BE45: =IF(E45=BE$3,AX45,0) -> 0 | BF45: =IF(BE45=BE$4,BE45-60,BE45) -> 0 | BG45: =IF(BF45=BF$4,BF45-60,BF45) -> 0 | BH45: =IF(BE45=$BE$4,1,IF(BF45=$BF$4,1,IF(BG45=$BG$4,1,0))) -> 0 | BJ45: =IF(E45=BJ$3,AX45,0) -> 0 | BK45: =IF(BJ45=BJ$4,BJ45-60,BJ45) -> 0 | BL45: =IF(BK45=BK$4,BK45-60,BK45) -> 0 | BM45: =IF(BJ45=$BJ$4,1,IF(BK45=$BK$4,1,IF(BL45=$BL$4,1,0))) -> 0
A46: =CONCATENATE(E46,LEFT(C46,2),RIGHT(C46,2),UPPER((LEFT(D46,3)))) | K46: Expert | L46: =VLOOKUP(K46,COMPETENCES,2) -> 10 | M46: =IF(L46="-",0,IF(L46=0,0,1)) -> 1 | R46: Expert | S46: =VLOOKUP(R46,EXPERTISE,2) -> 10 | AZ46: =IF(E46=AZ$3,AX46,0) -> 0 | BA46: =IF(AZ46=AZ$4,AZ46-60,AZ46) -> 0 | BB46: =IF(BA46=BA$4,BA46-60,BA46) -> 0 | BC46: =IF(AZ46=$AZ$4,1,IF(BA46=$BA$4,1,IF(BB46=$BB$4,1,0))) -> 0 | BE46: =IF(E46=BE$3,AX46,0) -> 0 | BF46: =IF(BE46=BE$4,BE46-60,BE46) -> 0 | BG46: =IF(BF46=BF$4,BF46-60,BF46) -> 0 | BH46: =IF(BE46=$BE$4,1,IF(BF46=$BF$4,1,IF(BG46=$BG$4,1,0))) -> 0 | BJ46: =IF(E46=BJ$3,AX46,0) -> 0 | BK46: =IF(BJ46=BJ$4,BJ46-60,BJ46) -> 0 | BL46: =IF(BK46=BK$4,BK46-60,BK46) -> 0 | BM46: =IF(BJ46=$BJ$4,1,IF(BK46=$BK$4,1,IF(BL46=$BL$4,1,0))) -> 0
A47: =CONCATENATE(E47,LEFT(C47,2),RIGHT(C47,2),UPPER((LEFT(D47,3)))) | K47: Expert | L47: =VLOOKUP(K47,COMPETENCES,2) -> 10 | M47: =IF(L47="-",0,IF(L47=0,0,1)) -> 1 | R47: Non évalué | S47: =VLOOKUP(R47,EXPERTISE,2) -> - | AZ47: =IF(E47=AZ$3,AX47,0) -> 0 | BA47: =IF(AZ47=AZ$4,AZ47-60,AZ47) -> 0 | BB47: =IF(BA47=BA$4,BA47-60,BA47) -> 0 | BC47: =IF(AZ47=$AZ$4,1,IF(BA47=$BA$4,1,IF(BB47=$BB$4,1,0))) -> 0 | BE47: =IF(E47=BE$3,AX47,0) -> 0 | BF47: =IF(BE47=BE$4,BE47-60,BE47) -> 0 | BG47: =IF(BF47=BF$4,BF47-60,BF47) -> 0 | BH47: =IF(BE47=$BE$4,1,IF(BF47=$BF$4,1,IF(BG47=$BG$4,1,0))) -> 0 | BJ47: =IF(E47=BJ$3,AX47,0) -> 0 | BK47: =IF(BJ47=BJ$4,BJ47-60,BJ47) -> 0 | BL47: =IF(BK47=BK$4,BK47-60,BK47) -> 0 | BM47: =IF(BJ47=$BJ$4,1,IF(BK47=$BK$4,1,IF(BL47=$BL$4,1,0))) -> 0
A48: =CONCATENATE(E48,LEFT(C48,2),RIGHT(C48,2),UPPER((LEFT(D48,3)))) | K48: . | L48: =VLOOKUP(K48,COMPETENCES,2) -> - | M48: =IF(L48="-",0,IF(L48=0,0,1)) -> 0 | R48: Expert | S48: =VLOOKUP(R48,EXPERTISE,2) -> 10 | AZ48: =IF(E48=AZ$3,AX48,0) -> 0 | BA48: =IF(AZ48=AZ$4,AZ48-60,AZ48) -> 0 | BB48: =IF(BA48=BA$4,BA48-60,BA48) -> 0 | BC48: =IF(AZ48=$AZ$4,1,IF(BA48=$BA$4,1,IF(BB48=$BB$4,1,0))) -> 0 | BE48: =IF(E48=BE$3,AX48,0) -> 0 | BF48: =IF(BE48=BE$4,BE48-60,BE48) -> 0 | BG48: =IF(BF48=BF$4,BF48-60,BF48) -> 0 | BH48: =IF(BE48=$BE$4,1,IF(BF48=$BF$4,1,IF(BG48=$BG$4,1,0))) -> 0 | BJ48: =IF(E48=BJ$3,AX48,0) -> 0 | BK48: =IF(BJ48=BJ$4,BJ48-60,BJ48) -> 0 | BL48: =IF(BK48=BK$4,BK48-60,BK48) -> 0 | BM48: =IF(BJ48=$BJ$4,1,IF(BK48=$BK$4,1,IF(BL48=$BL$4,1,0))) -> 0
A49: =CONCATENATE(E49,LEFT(C49,2),RIGHT(C49,2),UPPER((LEFT(D49,3)))) | K49: . | L49: =VLOOKUP(K49,COMPETENCES,2) -> - | M49: =IF(L49="-",0,IF(L49=0,0,1)) -> 0 | AZ49: =IF(E49=AZ$3,AX49,0) -> 0 | BA49: =IF(AZ49=AZ$4,AZ49-60,AZ49) -> 0 | BB49: =IF(BA49=BA$4,BA49-60,BA49) -> 0 | BC49: =IF(AZ49=$AZ$4,1,IF(BA49=$BA$4,1,IF(BB49=$BB$4,1,0))) -> 0 | BE49: =IF(E49=BE$3,AX49,0) -> 0 | BF49: =IF(BE49=BE$4,BE49-60,BE49) -> 0 | BG49: =IF(BF49=BF$4,BF49-60,BF49) -> 0 | BH49: =IF(BE49=$BE$4,1,IF(BF49=$BF$4,1,IF(BG49=$BG$4,1,0))) -> 0 | BJ49: =IF(E49=BJ$3,AX49,0) -> 0 | BK49: =IF(BJ49=BJ$4,BJ49-60,BJ49) -> 0 | BL49: =IF(BK49=BK$4,BK49-60,BK49) -> 0 | BM49: =IF(BJ49=$BJ$4,1,IF(BK49=$BK$4,1,IF(BL49=$BL$4,1,0))) -> 0
A50: =CONCATENATE(E50,LEFT(C50,2),RIGHT(C50,2),UPPER((LEFT(D50,3)))) | K50: . | L50: =VLOOKUP(K50,COMPETENCES,2) -> - | M50: =IF(L50="-",0,IF(L50=0,0,1)) -> 0 | AZ50: =IF(E50=AZ$3,AX50,0) -> 0 | BA50: =IF(AZ50=AZ$4,AZ50-60,AZ50) -> 0 | BB50: =IF(BA50=BA$4,BA50-60,BA50) -> 0 | BC50: =IF(AZ50=$AZ$4,1,IF(BA50=$BA$4,1,IF(BB50=$BB$4,1,0))) -> 0 | BE50: =IF(E50=BE$3,AX50,0) -> 0 | BF50: =IF(BE50=BE$4,BE50-60,BE50) -> 0 | BG50: =IF(BF50=BF$4,BF50-60,BF50) -> 0 | BH50: =IF(BE50=$BE$4,1,IF(BF50=$BF$4,1,IF(BG50=$BG$4,1,0))) -> 0 | BJ50: =IF(E50=BJ$3,AX50,0) -> 0 | BK50: =IF(BJ50=BJ$4,BJ50-60,BJ50) -> 0 | BL50: =IF(BK50=BK$4,BK50-60,BK50) -> 0 | BM50: =IF(BJ50=$BJ$4,1,IF(BK50=$BK$4,1,IF(BL50=$BL$4,1,0))) -> 0
A51: =CONCATENATE(E51,LEFT(C51,2),RIGHT(C51,2),UPPER((LEFT(D51,3)))) | K51: . | L51: =VLOOKUP(K51,COMPETENCES,2) -> - | M51: =IF(L51="-",0,IF(L51=0,0,1)) -> 0 | AZ51: =IF(E51=AZ$3,AX51,0) -> 0 | BA51: =IF(AZ51=AZ$4,AZ51-60,AZ51) -> 0 | BB51: =IF(BA51=BA$4,BA51-60,BA51) -> 0 | BC51: =IF(AZ51=$AZ$4,1,IF(BA51=$BA$4,1,IF(BB51=$BB$4,1,0))) -> 0 | BE51: =IF(E51=BE$3,AX51,0) -> 0 | BF51: =IF(BE51=BE$4,BE51-60,BE51) -> 0 | BG51: =IF(BF51=BF$4,BF51-60,BF51) -> 0 | BH51: =IF(BE51=$BE$4,1,IF(BF51=$BF$4,1,IF(BG51=$BG$4,1,0))) -> 0 | BJ51: =IF(E51=BJ$3,AX51,0) -> 0 | BK51: =IF(BJ51=BJ$4,BJ51-60,BJ51) -> 0 | BL51: =IF(BK51=BK$4,BK51-60,BK51) -> 0 | BM51: =IF(BJ51=$BJ$4,1,IF(BK51=$BK$4,1,IF(BL51=$BL$4,1,0))) -> 0
A52: =CONCATENATE(E52,LEFT(C52,2),RIGHT(C52,2),UPPER((LEFT(D52,3)))) | AZ52: =IF(E52=AZ$3,AX52,0) -> 0 | BA52: =IF(AZ52=AZ$4,AZ52-60,AZ52) -> 0 | BB52: =IF(BA52=BA$4,BA52-60,BA52) -> 0 | BC52: =IF(AZ52=$AZ$4,1,IF(BA52=$BA$4,1,IF(BB52=$BB$4,1,0))) -> 0 | BE52: =IF(E52=BE$3,AX52,0) -> 0 | BF52: =IF(BE52=BE$4,BE52-60,BE52) -> 0 | BG52: =IF(BF52=BF$4,BF52-60,BF52) -> 0 | BH52: =IF(BE52=$BE$4,1,IF(BF52=$BF$4,1,IF(BG52=$BG$4,1,0))) -> 0 | BJ52: =IF(E52=BJ$3,AX52,0) -> 0 | BK52: =IF(BJ52=BJ$4,BJ52-60,BJ52) -> 0 | BL52: =IF(BK52=BK$4,BK52-60,BK52) -> 0 | BM52: =IF(BJ52=$BJ$4,1,IF(BK52=$BK$4,1,IF(BL52=$BL$4,1,0))) -> 0
A53: =CONCATENATE(E53,LEFT(C53,2),RIGHT(C53,2),UPPER((LEFT(D53,3)))) -> BAg04MIA | B53: Titulaire | C53: Agent 04 | D53: Mia | E53: =VLOOKUP($F53,'Listes déroulantes'!$A$28:$B$46,2) -> B | F53: Aide-soignant cl. supérieure | U53: =J54+N54+Q54+T54 -> 32.8125 | AH53: =W54+Y54+AA54+AC54+AE54+AG54 -> 7.5 | AL53: =IF(AK54<5,"0",IF(AK54<10,"2,5",IF(AK54<15,"5",IF(AK54<20,"7,5","10")))) -> 7,5 | AP53: =IF(AO54<10,5,10) -> 10 | AW53: =AR54+AT54+AV54 -> 4 | AX53: =U53+AP53+AL53+AH53+AW53 -> 61.8125 | AZ53: =IF(E53=AZ$3,AX53,0) -> 0 | BA53: =IF(AZ53=AZ$4,AZ53-60,AZ53) -> 0 | BB53: =IF(BA53=BA$4,BA53-60,BA53) -> 0 | BC53: =IF(AZ53=$AZ$4,1,IF(BA53=$BA$4,1,IF(BB53=$BB$4,1,0))) -> 0 | BE53: =IF(E53=BE$3,AX53,0) -> 0 | BF53: =IF(BE53=BE$4,BE53-60,BE53) -> 0 | BG53: =IF(BF53=BF$4,BF53-60,BF53) -> 0 | BH53: =IF(BE53=$BE$4,1,IF(BF53=$BF$4,1,IF(BG53=$BG$4,1,0))) -> 0 | BJ53: =IF(E53=BJ$3,AX53,0) -> 0 | BK53: =IF(BJ53=BJ$4,BJ53-60,BJ53) -> 0 | BL53: =IF(BK53=BK$4,BK53-60,BK53) -> 0 | BM53: =IF(BJ53=$BJ$4,1,IF(BK53=$BK$4,1,IF(BL53=$BL$4,1,0))) -> 0
A54: =CONCATENATE(E54,LEFT(C54,2),RIGHT(C54,2),UPPER((LEFT(D54,3)))) | H54: Atteint | I54: =VLOOKUP(H54,OBJECTIFS,2) -> 10 | J54: =AVERAGE(I54:I58) -> 5 | K54: Expert | L54: =VLOOKUP(K54,COMPETENCES,2) -> 10 | M54: =IF(L54="-",0,IF(L54=0,0,1)) -> 1 | N54: =SUM(L54:L67)/SUM(M54:M67) -> 9.25 | O54: Très satisfaisant | P54: =VLOOKUP(O54,QUALITES,2) -> 10 | Q54: =AVERAGE(P54:P61) -> 9.0625 | R54: Expert | S54: =VLOOKUP(R54,EXPERTISE,2) -> 10 | T54: =AVERAGE(S54:S64) -> 9.5 | V54: Satisfaisant | W54: =VLOOKUP(V54,PROJETS,2) -> 2.5 | X54: Sans objet | Y54: =VLOOKUP(X54,PROJETS,2) -> 0 | Z54: Sans objet | AA54: =VLOOKUP(Z54,PROJETS,2) -> 0 | AB54: Sans objet | AC54: =VLOOKUP(AB54,PROJETS,2) -> 0 | AD54: Très satisfaisant | AE54: =VLOOKUP(AD54,PROJETS,2) -> 5 | AF54: Sans objet | AG54: =VLOOKUP(AF54,PROJETS,2) -> 0 | AI54: 38018 | AJ54: =AJ4 -> 44561 | AK54: =(AJ54-AI54)/365 -> 17.926027 | AM54: 32753 | AN54: =AN4 -> 44561 | AO54: =(AN54-AM54)/365 -> 32.350685 | AQ54: Sans objet | AR54: =VLOOKUP(AQ54,DIVERS,2) -> 0 | AS54: Sans objet | AT54: =VLOOKUP(AS54,FORMAC,2) -> 0 | AU54: Satisfaisant | AV54: =VLOOKUP(AU54,FORMAQ,2) -> 4 | AZ54: =IF(E54=AZ$3,AX54,0) -> 0 | BA54: =IF(AZ54=AZ$4,AZ54-60,AZ54) -> 0 | BB54: =IF(BA54=BA$4,BA54-60,BA54) -> 0 | BC54: =IF(AZ54=$AZ$4,1,IF(BA54=$BA$4,1,IF(BB54=$BB$4,1,0))) -> 0 | BE54: =IF(E54=BE$3,AX54,0) -> 0 | BF54: =IF(BE54=BE$4,BE54-60,BE54) -> 0 | BG54: =IF(BF54=BF$4,BF54-60,BF54) -> 0 | BH54: =IF(BE54=$BE$4,1,IF(BF54=$BF$4,1,IF(BG54=$BG$4,1,0))) -> 0 | BJ54: =IF(E54=BJ$3,AX54,0) -> 0 | BK54: =IF(BJ54=BJ$4,BJ54-60,BJ54) -> 0 | BL54: =IF(BK54=BK$4,BK54-60,BK54) -> 0 | BM54: =IF(BJ54=$BJ$4,1,IF(BK54=$BK$4,1,IF(BL54=$BL$4,1,0))) -> 0
A55: =CONCATENATE(E55,LEFT(C55,2),RIGHT(C55,2),UPPER((LEFT(D55,3)))) | H55: Non atteint | I55: =VLOOKUP(H55,OBJECTIFS,2) -> 0 | K55: Expert | L55: =VLOOKUP(K55,COMPETENCES,2) -> 10 | M55: =IF(L55="-",0,IF(L55=0,0,1)) -> 1 | O55: Très satisfaisant | P55: =VLOOKUP(O55,QUALITES,2) -> 10 | R55: Expert | S55: =VLOOKUP(R55,EXPERTISE,2) -> 10 | AZ55: =IF(E55=AZ$3,AX55,0) -> 0 | BA55: =IF(AZ55=AZ$4,AZ55-60,AZ55) -> 0 | BB55: =IF(BA55=BA$4,BA55-60,BA55) -> 0 | BC55: =IF(AZ55=$AZ$4,1,IF(BA55=$BA$4,1,IF(BB55=$BB$4,1,0))) -> 0 | BE55: =IF(E55=BE$3,AX55,0) -> 0 | BF55: =IF(BE55=BE$4,BE55-60,BE55) -> 0 | BG55: =IF(BF55=BF$4,BF55-60,BF55) -> 0 | BH55: =IF(BE55=$BE$4,1,IF(BF55=$BF$4,1,IF(BG55=$BG$4,1,0))) -> 0 | BJ55: =IF(E55=BJ$3,AX55,0) -> 0 | BK55: =IF(BJ55=BJ$4,BJ55-60,BJ55) -> 0 | BL55: =IF(BK55=BK$4,BK55-60,BK55) -> 0 | BM55: =IF(BJ55=$BJ$4,1,IF(BK55=$BK$4,1,IF(BL55=$BL$4,1,0))) -> 0
A56: =CONCATENATE(E56,LEFT(C56,2),RIGHT(C56,2),UPPER((LEFT(D56,3)))) | H56: Devenu sans objet | I56: =VLOOKUP(H56,OBJECTIFS,2) -> - | K56: Expert | L56: =VLOOKUP(K56,COMPETENCES,2) -> 10 | M56: =IF(L56="-",0,IF(L56=0,0,1)) -> 1 | O56: Très satisfaisant | P56: =VLOOKUP(O56,QUALITES,2) -> 10 | R56: Maitrise | S56: =VLOOKUP(R56,EXPERTISE,2) -> 7.5 | AZ56: =IF(E56=AZ$3,AX56,0) -> 0 | BA56: =IF(AZ56=AZ$4,AZ56-60,AZ56) -> 0 | BB56: =IF(BA56=BA$4,BA56-60,BA56) -> 0 | BC56: =IF(AZ56=$AZ$4,1,IF(BA56=$BA$4,1,IF(BB56=$BB$4,1,0))) -> 0 | BE56: =IF(E56=BE$3,AX56,0) -> 0 | BF56: =IF(BE56=BE$4,BE56-60,BE56) -> 0 | BG56: =IF(BF56=BF$4,BF56-60,BF56) -> 0 | BH56: =IF(BE56=$BE$4,1,IF(BF56=$BF$4,1,IF(BG56=$BG$4,1,0))) -> 0 | BJ56: =IF(E56=BJ$3,AX56,0) -> 0 | BK56: =IF(BJ56=BJ$4,BJ56-60,BJ56) -> 0 | BL56: =IF(BK56=BK$4,BK56-60,BK56) -> 0 | BM56: =IF(BJ56=$BJ$4,1,IF(BK56=$BK$4,1,IF(BL56=$BL$4,1,0))) -> 0
A57: =CONCATENATE(E57,LEFT(C57,2),RIGHT(C57,2),UPPER((LEFT(D57,3)))) | H57: Partiellement atteint | I57: =VLOOKUP(H57,OBJECTIFS,2) -> 5 | K57: Expert | L57: =VLOOKUP(K57,COMPETENCES,2) -> 10 | M57: =IF(L57="-",0,IF(L57=0,0,1)) -> 1 | O57: Satisfaisant | P57: =VLOOKUP(O57,QUALITES,2) -> 7.5 | R57: Expert | S57: =VLOOKUP(R57,EXPERTISE,2) -> 10 | AZ57: =IF(E57=AZ$3,AX57,0) -> 0 | BA57: =IF(AZ57=AZ$4,AZ57-60,AZ57) -> 0 | BB57: =IF(BA57=BA$4,BA57-60,BA57) -> 0 | BC57: =IF(AZ57=$AZ$4,1,IF(BA57=$BA$4,1,IF(BB57=$BB$4,1,0))) -> 0 | BE57: =IF(E57=BE$3,AX57,0) -> 0 | BF57: =IF(BE57=BE$4,BE57-60,BE57) -> 0 | BG57: =IF(BF57=BF$4,BF57-60,BF57) -> 0 | BH57: =IF(BE57=$BE$4,1,IF(BF57=$BF$4,1,IF(BG57=$BG$4,1,0))) -> 0 | BJ57: =IF(E57=BJ$3,AX57,0) -> 0 | BK57: =IF(BJ57=BJ$4,BJ57-60,BJ57) -> 0 | BL57: =IF(BK57=BK$4,BK57-60,BK57) -> 0 | BM57: =IF(BJ57=$BJ$4,1,IF(BK57=$BK$4,1,IF(BL57=$BL$4,1,0))) -> 0
A58: =CONCATENATE(E58,LEFT(C58,2),RIGHT(C58,2),UPPER((LEFT(D58,3)))) | H58: Partiellement atteint | I58: =VLOOKUP(H58,OBJECTIFS,2) -> 5 | K58: Expert | L58: =VLOOKUP(K58,COMPETENCES,2) -> 10 | M58: =IF(L58="-",0,IF(L58=0,0,1)) -> 1 | O58: Satisfaisant | P58: =VLOOKUP(O58,QUALITES,2) -> 7.5 | R58: Expert | S58: =VLOOKUP(R58,EXPERTISE,2) -> 10 | AZ58: =IF(E58=AZ$3,AX58,0) -> 0 | BA58: =IF(AZ58=AZ$4,AZ58-60,AZ58) -> 0 | BB58: =IF(BA58=BA$4,BA58-60,BA58) -> 0 | BC58: =IF(AZ58=$AZ$4,1,IF(BA58=$BA$4,1,IF(BB58=$BB$4,1,0))) -> 0 | BE58: =IF(E58=BE$3,AX58,0) -> 0 | BF58: =IF(BE58=BE$4,BE58-60,BE58) -> 0 | BG58: =IF(BF58=BF$4,BF58-60,BF58) -> 0 | BH58: =IF(BE58=$BE$4,1,IF(BF58=$BF$4,1,IF(BG58=$BG$4,1,0))) -> 0 | BJ58: =IF(E58=BJ$3,AX58,0) -> 0 | BK58: =IF(BJ58=BJ$4,BJ58-60,BJ58) -> 0 | BL58: =IF(BK58=BK$4,BK58-60,BK58) -> 0 | BM58: =IF(BJ58=$BJ$4,1,IF(BK58=$BK$4,1,IF(BL58=$BL$4,1,0))) -> 0
A59: =CONCATENATE(E59,LEFT(C59,2),RIGHT(C59,2),UPPER((LEFT(D59,3)))) | K59: Maitrise | L59: =VLOOKUP(K59,COMPETENCES,2) -> 7.5 | M59: =IF(L59="-",0,IF(L59=0,0,1)) -> 1 | O59: Satisfaisant | P59: =VLOOKUP(O59,QUALITES,2) -> 7.5 | R59: Expert | S59: =VLOOKUP(R59,EXPERTISE,2) -> 10 | AZ59: =IF(E59=AZ$3,AX59,0) -> 0 | BA59: =IF(AZ59=AZ$4,AZ59-60,AZ59) -> 0 | BB59: =IF(BA59=BA$4,BA59-60,BA59) -> 0 | BC59: =IF(AZ59=$AZ$4,1,IF(BA59=$BA$4,1,IF(BB59=$BB$4,1,0))) -> 0 | BE59: =IF(E59=BE$3,AX59,0) -> 0 | BF59: =IF(BE59=BE$4,BE59-60,BE59) -> 0 | BG59: =IF(BF59=BF$4,BF59-60,BF59) -> 0 | BH59: =IF(BE59=$BE$4,1,IF(BF59=$BF$4,1,IF(BG59=$BG$4,1,0))) -> 0 | BJ59: =IF(E59=BJ$3,AX59,0) -> 0 | BK59: =IF(BJ59=BJ$4,BJ59-60,BJ59) -> 0 | BL59: =IF(BK59=BK$4,BK59-60,BK59) -> 0 | BM59: =IF(BJ59=$BJ$4,1,IF(BK59=$BK$4,1,IF(BL59=$BL$4,1,0))) -> 0
A60: =CONCATENATE(E60,LEFT(C60,2),RIGHT(C60,2),UPPER((LEFT(D60,3)))) | K60: Expert | L60: =VLOOKUP(K60,COMPETENCES,2) -> 10 | M60: =IF(L60="-",0,IF(L60=0,0,1)) -> 1 | O60: Très satisfaisant | P60: =VLOOKUP(O60,QUALITES,2) -> 10 | R60: Expert | S60: =VLOOKUP(R60,EXPERTISE,2) -> 10 | AZ60: =IF(E60=AZ$3,AX60,0) -> 0 | BA60: =IF(AZ60=AZ$4,AZ60-60,AZ60) -> 0 | BB60: =IF(BA60=BA$4,BA60-60,BA60) -> 0 | BC60: =IF(AZ60=$AZ$4,1,IF(BA60=$BA$4,1,IF(BB60=$BB$4,1,0))) -> 0 | BE60: =IF(E60=BE$3,AX60,0) -> 0 | BF60: =IF(BE60=BE$4,BE60-60,BE60) -> 0 | BG60: =IF(BF60=BF$4,BF60-60,BF60) -> 0 | BH60: =IF(BE60=$BE$4,1,IF(BF60=$BF$4,1,IF(BG60=$BG$4,1,0))) -> 0 | BJ60: =IF(E60=BJ$3,AX60,0) -> 0 | BK60: =IF(BJ60=BJ$4,BJ60-60,BJ60) -> 0 | BL60: =IF(BK60=BK$4,BK60-60,BK60) -> 0 | BM60: =IF(BJ60=$BJ$4,1,IF(BK60=$BK$4,1,IF(BL60=$BL$4,1,0))) -> 0
A61: =CONCATENATE(E61,LEFT(C61,2),RIGHT(C61,2),UPPER((LEFT(D61,3)))) | K61: Maitrise | L61: =VLOOKUP(K61,COMPETENCES,2) -> 7.5 | M61: =IF(L61="-",0,IF(L61=0,0,1)) -> 1 | O61: Très satisfaisant | P61: =VLOOKUP(O61,QUALITES,2) -> 10 | R61: Expert | S61: =VLOOKUP(R61,EXPERTISE,2) -> 10 | AZ61: =IF(E61=AZ$3,AX61,0) -> 0 | BA61: =IF(AZ61=AZ$4,AZ61-60,AZ61) -> 0 | BB61: =IF(BA61=BA$4,BA61-60,BA61) -> 0 | BC61: =IF(AZ61=$AZ$4,1,IF(BA61=$BA$4,1,IF(BB61=$BB$4,1,0))) -> 0 | BE61: =IF(E61=BE$3,AX61,0) -> 0 | BF61: =IF(BE61=BE$4,BE61-60,BE61) -> 0 | BG61: =IF(BF61=BF$4,BF61-60,BF61) -> 0 | BH61: =IF(BE61=$BE$4,1,IF(BF61=$BF$4,1,IF(BG61=$BG$4,1,0))) -> 0 | BJ61: =IF(E61=BJ$3,AX61,0) -> 0 | BK61: =IF(BJ61=BJ$4,BJ61-60,BJ61) -> 0 | BL61: =IF(BK61=BK$4,BK61-60,BK61) -> 0 | BM61: =IF(BJ61=$BJ$4,1,IF(BK61=$BK$4,1,IF(BL61=$BL$4,1,0))) -> 0
A62: =CONCATENATE(E62,LEFT(C62,2),RIGHT(C62,2),UPPER((LEFT(D62,3)))) | K62: Expert | L62: =VLOOKUP(K62,COMPETENCES,2) -> 10 | M62: =IF(L62="-",0,IF(L62=0,0,1)) -> 1 | R62: Expert | S62: =VLOOKUP(R62,EXPERTISE,2) -> 10 | AZ62: =IF(E62=AZ$3,AX62,0) -> 0 | BA62: =IF(AZ62=AZ$4,AZ62-60,AZ62) -> 0 | BB62: =IF(BA62=BA$4,BA62-60,BA62) -> 0 | BC62: =IF(AZ62=$AZ$4,1,IF(BA62=$BA$4,1,IF(BB62=$BB$4,1,0))) -> 0 | BE62: =IF(E62=BE$3,AX62,0) -> 0 | BF62: =IF(BE62=BE$4,BE62-60,BE62) -> 0 | BG62: =IF(BF62=BF$4,BF62-60,BF62) -> 0 | BH62: =IF(BE62=$BE$4,1,IF(BF62=$BF$4,1,IF(BG62=$BG$4,1,0))) -> 0 | BJ62: =IF(E62=BJ$3,AX62,0) -> 0 | BK62: =IF(BJ62=BJ$4,BJ62-60,BJ62) -> 0 | BL62: =IF(BK62=BK$4,BK62-60,BK62) -> 0 | BM62: =IF(BJ62=$BJ$4,1,IF(BK62=$BK$4,1,IF(BL62=$BL$4,1,0))) -> 0
A63: =CONCATENATE(E63,LEFT(C63,2),RIGHT(C63,2),UPPER((LEFT(D63,3)))) | K63: Maitrise | L63: =VLOOKUP(K63,COMPETENCES,2) -> 7.5 | M63: =IF(L63="-",0,IF(L63=0,0,1)) -> 1 | R63: Non évalué | S63: =VLOOKUP(R63,EXPERTISE,2) -> - | AZ63: =IF(E63=AZ$3,AX63,0) -> 0 | BA63: =IF(AZ63=AZ$4,AZ63-60,AZ63) -> 0 | BB63: =IF(BA63=BA$4,BA63-60,BA63) -> 0 | BC63: =IF(AZ63=$AZ$4,1,IF(BA63=$BA$4,1,IF(BB63=$BB$4,1,0))) -> 0 | BE63: =IF(E63=BE$3,AX63,0) -> 0 | BF63: =IF(BE63=BE$4,BE63-60,BE63) -> 0 | BG63: =IF(BF63=BF$4,BF63-60,BF63) -> 0 | BH63: =IF(BE63=$BE$4,1,IF(BF63=$BF$4,1,IF(BG63=$BG$4,1,0))) -> 0 | BJ63: =IF(E63=BJ$3,AX63,0) -> 0 | BK63: =IF(BJ63=BJ$4,BJ63-60,BJ63) -> 0 | BL63: =IF(BK63=BK$4,BK63-60,BK63) -> 0 | BM63: =IF(BJ63=$BJ$4,1,IF(BK63=$BK$4,1,IF(BL63=$BL$4,1,0))) -> 0
A64: =CONCATENATE(E64,LEFT(C64,2),RIGHT(C64,2),UPPER((LEFT(D64,3)))) | K64: . | L64: =VLOOKUP(K64,COMPETENCES,2) -> - | M64: =IF(L64="-",0,IF(L64=0,0,1)) -> 0 | R64: Maitrise | S64: =VLOOKUP(R64,EXPERTISE,2) -> 7.5 | AZ64: =IF(E64=AZ$3,AX64,0) -> 0 | BA64: =IF(AZ64=AZ$4,AZ64-60,AZ64) -> 0 | BB64: =IF(BA64=BA$4,BA64-60,BA64) -> 0 | BC64: =IF(AZ64=$AZ$4,1,IF(BA64=$BA$4,1,IF(BB64=$BB$4,1,0))) -> 0 | BE64: =IF(E64=BE$3,AX64,0) -> 0 | BF64: =IF(BE64=BE$4,BE64-60,BE64) -> 0 | BG64: =IF(BF64=BF$4,BF64-60,BF64) -> 0 | BH64: =IF(BE64=$BE$4,1,IF(BF64=$BF$4,1,IF(BG64=$BG$4,1,0))) -> 0 | BJ64: =IF(E64=BJ$3,AX64,0) -> 0 | BK64: =IF(BJ64=BJ$4,BJ64-60,BJ64) -> 0 | BL64: =IF(BK64=BK$4,BK64-60,BK64) -> 0 | BM64: =IF(BJ64=$BJ$4,1,IF(BK64=$BK$4,1,IF(BL64=$BL$4,1,0))) -> 0
A65: =CONCATENATE(E65,LEFT(C65,2),RIGHT(C65,2),UPPER((LEFT(D65,3)))) | K65: . | L65: =VLOOKUP(K65,COMPETENCES,2) -> - | M65: =IF(L65="-",0,IF(L65=0,0,1)) -> 0 | AZ65: =IF(E65=AZ$3,AX65,0) -> 0 | BA65: =IF(AZ65=AZ$4,AZ65-60,AZ65) -> 0 | BB65: =IF(BA65=BA$4,BA65-60,BA65) -> 0 | BC65: =IF(AZ65=$AZ$4,1,IF(BA65=$BA$4,1,IF(BB65=$BB$4,1,0))) -> 0 | BE65: =IF(E65=BE$3,AX65,0) -> 0 | BF65: =IF(BE65=BE$4,BE65-60,BE65) -> 0 | BG65: =IF(BF65=BF$4,BF65-60,BF65) -> 0 | BH65: =IF(BE65=$BE$4,1,IF(BF65=$BF$4,1,IF(BG65=$BG$4,1,0))) -> 0 | BJ65: =IF(E65=BJ$3,AX65,0) -> 0 | BK65: =IF(BJ65=BJ$4,BJ65-60,BJ65) -> 0 | BL65: =IF(BK65=BK$4,BK65-60,BK65) -> 0 | BM65: =IF(BJ65=$BJ$4,1,IF(BK65=$BK$4,1,IF(BL65=$BL$4,1,0))) -> 0
A66: =CONCATENATE(E66,LEFT(C66,2),RIGHT(C66,2),UPPER((LEFT(D66,3)))) | K66: . | L66: =VLOOKUP(K66,COMPETENCES,2) -> - | M66: =IF(L66="-",0,IF(L66=0,0,1)) -> 0 | AZ66: =IF(E66=AZ$3,AX66,0) -> 0 | BA66: =IF(AZ66=AZ$4,AZ66-60,AZ66) -> 0 | BB66: =IF(BA66=BA$4,BA66-60,BA66) -> 0 | BC66: =IF(AZ66=$AZ$4,1,IF(BA66=$BA$4,1,IF(BB66=$BB$4,1,0))) -> 0 | BE66: =IF(E66=BE$3,AX66,0) -> 0 | BF66: =IF(BE66=BE$4,BE66-60,BE66) -> 0 | BG66: =IF(BF66=BF$4,BF66-60,BF66) -> 0 | BH66: =IF(BE66=$BE$4,1,IF(BF66=$BF$4,1,IF(BG66=$BG$4,1,0))) -> 0 | BJ66: =IF(E66=BJ$3,AX66,0) -> 0 | BK66: =IF(BJ66=BJ$4,BJ66-60,BJ66) -> 0 | BL66: =IF(BK66=BK$4,BK66-60,BK66) -> 0 | BM66: =IF(BJ66=$BJ$4,1,IF(BK66=$BK$4,1,IF(BL66=$BL$4,1,0))) -> 0
A67: =CONCATENATE(E67,LEFT(C67,2),RIGHT(C67,2),UPPER((LEFT(D67,3)))) | K67: . | L67: =VLOOKUP(K67,COMPETENCES,2) -> - | M67: =IF(L67="-",0,IF(L67=0,0,1)) -> 0 | AZ67: =IF(E67=AZ$3,AX67,0) -> 0 | BA67: =IF(AZ67=AZ$4,AZ67-60,AZ67) -> 0 | BB67: =IF(BA67=BA$4,BA67-60,BA67) -> 0 | BC67: =IF(AZ67=$AZ$4,1,IF(BA67=$BA$4,1,IF(BB67=$BB$4,1,0))) -> 0 | BE67: =IF(E67=BE$3,AX67,0) -> 0 | BF67: =IF(BE67=BE$4,BE67-60,BE67) -> 0 | BG67: =IF(BF67=BF$4,BF67-60,BF67) -> 0 | BH67: =IF(BE67=$BE$4,1,IF(BF67=$BF$4,1,IF(BG67=$BG$4,1,0))) -> 0 | BJ67: =IF(E67=BJ$3,AX67,0) -> 0 | BK67: =IF(BJ67=BJ$4,BJ67-60,BJ67) -> 0 | BL67: =IF(BK67=BK$4,BK67-60,BK67) -> 0 | BM67: =IF(BJ67=$BJ$4,1,IF(BK67=$BK$4,1,IF(BL67=$BL$4,1,0))) -> 0
A68: =CONCATENATE(E68,LEFT(C68,2),RIGHT(C68,2),UPPER((LEFT(D68,3)))) | AZ68: =IF(E68=AZ$3,AX68,0) -> 0 | BA68: =IF(AZ68=AZ$4,AZ68-60,AZ68) -> 0 | BB68: =IF(BA68=BA$4,BA68-60,BA68) -> 0 | BC68: =IF(AZ68=$AZ$4,1,IF(BA68=$BA$4,1,IF(BB68=$BB$4,1,0))) -> 0 | BE68: =IF(E68=BE$3,AX68,0) -> 0 | BF68: =IF(BE68=BE$4,BE68-60,BE68) -> 0 | BG68: =IF(BF68=BF$4,BF68-60,BF68) -> 0 | BH68: =IF(BE68=$BE$4,1,IF(BF68=$BF$4,1,IF(BG68=$BG$4,1,0))) -> 0 | BJ68: =IF(E68=BJ$3,AX68,0) -> 0 | BK68: =IF(BJ68=BJ$4,BJ68-60,BJ68) -> 0 | BL68: =IF(BK68=BK$4,BK68-60,BK68) -> 0 | BM68: =IF(BJ68=$BJ$4,1,IF(BK68=$BK$4,1,IF(BL68=$BL$4,1,0))) -> 0
A69: =CONCATENATE(E69,LEFT(C69,2),RIGHT(C69,2),UPPER((LEFT(D69,3)))) -> CAg05ALI | B69: Titulaire | C69: Agent 05 | D69: Alice | E69: =VLOOKUP($F69,'Listes déroulantes'!$A$28:$B$46,2) -> C | F69: Aide-soignant classe normale | U69: =J70+N70+Q70+T70 -> 33.972222 | AH69: =W70+Y70+AA70+AC70+AE70+AG70 -> 5 | AL69: =IF(AK70<5,"0",IF(AK70<10,"2,5",IF(AK70<15,"5",IF(AK70<20,"7,5","10")))) -> 7,5 | AP69: =IF(AO70<10,5,10) -> 10 | AW69: =AR70+AT70+AV70 -> 8 | AX69: =U69+AP69+AL69+AH69+AW69 -> 64.472222 | AZ69: =IF(E69=AZ$3,AX69,0) -> 64.472222 | BA69: =IF(AZ69=AZ$4,AZ69-60,AZ69) -> 64.472222 | BB69: =IF(BA69=BA$4,BA69-60,BA69) -> 64.472222 | BC69: =IF(AZ69=$AZ$4,1,IF(BA69=$BA$4,1,IF(BB69=$BB$4,1,0))) -> 1 | BE69: =IF(E69=BE$3,AX69,0) -> 0 | BF69: =IF(BE69=BE$4,BE69-60,BE69) -> 0 | BG69: =IF(BF69=BF$4,BF69-60,BF69) -> 0 | BH69: =IF(BE69=$BE$4,1,IF(BF69=$BF$4,1,IF(BG69=$BG$4,1,0))) -> 0 | BJ69: =IF(E69=BJ$3,AX69,0) -> 0 | BK69: =IF(BJ69=BJ$4,BJ69-60,BJ69) -> 0 | BL69: =IF(BK69=BK$4,BK69-60,BK69) -> 0 | BM69: =IF(BJ69=$BJ$4,1,IF(BK69=$BK$4,1,IF(BL69=$BL$4,1,0))) -> 0
A70: =CONCATENATE(E70,LEFT(C70,2),RIGHT(C70,2),UPPER((LEFT(D70,3)))) | H70: Non atteint | I70: =VLOOKUP(H70,OBJECTIFS,2) -> 0 | J70: =AVERAGE(I70:I74) -> 5 | K70: Expert | L70: =VLOOKUP(K70,COMPETENCES,2) -> 10 | M70: =IF(L70="-",0,IF(L70=0,0,1)) -> 1 | N70: =SUM(L70:L83)/SUM(M70:M83) -> 9.25 | O70: Très satisfaisant | P70: =VLOOKUP(O70,QUALITES,2) -> 10 | Q70: =AVERAGE(P70:P77) -> 10 | R70: Expert | S70: =VLOOKUP(R70,EXPERTISE,2) -> 10 | T70: =AVERAGE(S70:S80) -> 9.7222222 | V70: Satisfaisant | W70: =VLOOKUP(V70,PROJETS,2) -> 2.5 | X70: Satisfaisant | Y70: =VLOOKUP(X70,PROJETS,2) -> 2.5 | Z70: Sans objet | AA70: =VLOOKUP(Z70,PROJETS,2) -> 0 | AB70: Sans objet | AC70: =VLOOKUP(AB70,PROJETS,2) -> 0 | AD70: Sans objet | AE70: =VLOOKUP(AD70,PROJETS,2) -> 0 | AF70: Sans objet | AG70: =VLOOKUP(AF70,PROJETS,2) -> 0 | AI70: 37683 | AJ70: =AJ4 -> 44561 | AK70: =(AJ70-AI70)/365 -> 18.843836 | AM70: 37683 | AN70: =AN4 -> 44561 | AO70: =(AN70-AM70)/365 -> 18.843836 | AQ70: Satisfaisant | AR70: =VLOOKUP(AQ70,DIVERS,2) -> 2 | AS70: Satisfaisant | AT70: =VLOOKUP(AS70,FORMAC,2) -> 2 | AU70: Satisfaisant | AV70: =VLOOKUP(AU70,FORMAQ,2) -> 4 | AZ70: =IF(E70=AZ$3,AX70,0) -> 0 | BA70: =IF(AZ70=AZ$4,AZ70-60,AZ70) -> 0 | BB70: =IF(BA70=BA$4,BA70-60,BA70) -> 0 | BC70: =IF(AZ70=$AZ$4,1,IF(BA70=$BA$4,1,IF(BB70=$BB$4,1,0))) -> 0 | BE70: =IF(E70=BE$3,AX70,0) -> 0 | BF70: =IF(BE70=BE$4,BE70-60,BE70) -> 0 | BG70: =IF(BF70=BF$4,BF70-60,BF70) -> 0 | BH70: =IF(BE70=$BE$4,1,IF(BF70=$BF$4,1,IF(BG70=$BG$4,1,0))) -> 0 | BJ70: =IF(E70=BJ$3,AX70,0) -> 0 | BK70: =IF(BJ70=BJ$4,BJ70-60,BJ70) -> 0 | BL70: =IF(BK70=BK$4,BK70-60,BK70) -> 0 | BM70: =IF(BJ70=$BJ$4,1,IF(BK70=$BK$4,1,IF(BL70=$BL$4,1,0))) -> 0
A71: =CONCATENATE(E71,LEFT(C71,2),RIGHT(C71,2),UPPER((LEFT(D71,3)))) | H71: Atteint | I71: =VLOOKUP(H71,OBJECTIFS,2) -> 10 | K71: Expert | L71: =VLOOKUP(K71,COMPETENCES,2) -> 10 | M71: =IF(L71="-",0,IF(L71=0,0,1)) -> 1 | O71: Très satisfaisant | P71: =VLOOKUP(O71,QUALITES,2) -> 10 | R71: Expert | S71: =VLOOKUP(R71,EXPERTISE,2) -> 10 | AZ71: =IF(E71=AZ$3,AX71,0) -> 0 | BA71: =IF(AZ71=AZ$4,AZ71-60,AZ71) -> 0 | BB71: =IF(BA71=BA$4,BA71-60,BA71) -> 0 | BC71: =IF(AZ71=$AZ$4,1,IF(BA71=$BA$4,1,IF(BB71=$BB$4,1,0))) -> 0 | BE71: =IF(E71=BE$3,AX71,0) -> 0 | BF71: =IF(BE71=BE$4,BE71-60,BE71) -> 0 | BG71: =IF(BF71=BF$4,BF71-60,BF71) -> 0 | BH71: =IF(BE71=$BE$4,1,IF(BF71=$BF$4,1,IF(BG71=$BG$4,1,0))) -> 0 | BJ71: =IF(E71=BJ$3,AX71,0) -> 0 | BK71: =IF(BJ71=BJ$4,BJ71-60,BJ71) -> 0 | BL71: =IF(BK71=BK$4,BK71-60,BK71) -> 0 | BM71: =IF(BJ71=$BJ$4,1,IF(BK71=$BK$4,1,IF(BL71=$BL$4,1,0))) -> 0
A72: =CONCATENATE(E72,LEFT(C72,2),RIGHT(C72,2),UPPER((LEFT(D72,3)))) | H72: . | I72: =VLOOKUP(H72,OBJECTIFS,2) -> - | K72: Expert | L72: =VLOOKUP(K72,COMPETENCES,2) -> 10 | M72: =IF(L72="-",0,IF(L72=0,0,1)) -> 1 | O72: Très satisfaisant | P72: =VLOOKUP(O72,QUALITES,2) -> 10 | R72: Expert | S72: =VLOOKUP(R72,EXPERTISE,2) -> 10 | AZ72: =IF(E72=AZ$3,AX72,0) -> 0 | BA72: =IF(AZ72=AZ$4,AZ72-60,AZ72) -> 0 | BB72: =IF(BA72=BA$4,BA72-60,BA72) -> 0 | BC72: =IF(AZ72=$AZ$4,1,IF(BA72=$BA$4,1,IF(BB72=$BB$4,1,0))) -> 0 | BE72: =IF(E72=BE$3,AX72,0) -> 0 | BF72: =IF(BE72=BE$4,BE72-60,BE72) -> 0 | BG72: =IF(BF72=BF$4,BF72-60,BF72) -> 0 | BH72: =IF(BE72=$BE$4,1,IF(BF72=$BF$4,1,IF(BG72=$BG$4,1,0))) -> 0 | BJ72: =IF(E72=BJ$3,AX72,0) -> 0 | BK72: =IF(BJ72=BJ$4,BJ72-60,BJ72) -> 0 | BL72: =IF(BK72=BK$4,BK72-60,BK72) -> 0 | BM72: =IF(BJ72=$BJ$4,1,IF(BK72=$BK$4,1,IF(BL72=$BL$4,1,0))) -> 0
A73: =CONCATENATE(E73,LEFT(C73,2),RIGHT(C73,2),UPPER((LEFT(D73,3)))) | H73: . | I73: =VLOOKUP(H73,OBJECTIFS,2) -> - | K73: Expert | L73: =VLOOKUP(K73,COMPETENCES,2) -> 10 | M73: =IF(L73="-",0,IF(L73=0,0,1)) -> 1 | O73: Très satisfaisant | P73: =VLOOKUP(O73,QUALITES,2) -> 10 | R73: Expert | S73: =VLOOKUP(R73,EXPERTISE,2) -> 10 | AZ73: =IF(E73=AZ$3,AX73,0) -> 0 | BA73: =IF(AZ73=AZ$4,AZ73-60,AZ73) -> 0 | BB73: =IF(BA73=BA$4,BA73-60,BA73) -> 0 | BC73: =IF(AZ73=$AZ$4,1,IF(BA73=$BA$4,1,IF(BB73=$BB$4,1,0))) -> 0 | BE73: =IF(E73=BE$3,AX73,0) -> 0 | BF73: =IF(BE73=BE$4,BE73-60,BE73) -> 0 | BG73: =IF(BF73=BF$4,BF73-60,BF73) -> 0 | BH73: =IF(BE73=$BE$4,1,IF(BF73=$BF$4,1,IF(BG73=$BG$4,1,0))) -> 0 | BJ73: =IF(E73=BJ$3,AX73,0) -> 0 | BK73: =IF(BJ73=BJ$4,BJ73-60,BJ73) -> 0 | BL73: =IF(BK73=BK$4,BK73-60,BK73) -> 0 | BM73: =IF(BJ73=$BJ$4,1,IF(BK73=$BK$4,1,IF(BL73=$BL$4,1,0))) -> 0
A74: =CONCATENATE(E74,LEFT(C74,2),RIGHT(C74,2),UPPER((LEFT(D74,3)))) | H74: . | I74: =VLOOKUP(H74,OBJECTIFS,2) -> - | K74: Expert | L74: =VLOOKUP(K74,COMPETENCES,2) -> 10 | M74: =IF(L74="-",0,IF(L74=0,0,1)) -> 1 | O74: Très satisfaisant | P74: =VLOOKUP(O74,QUALITES,2) -> 10 | R74: Non évalué | S74: =VLOOKUP(R74,EXPERTISE,2) -> - | AZ74: =IF(E74=AZ$3,AX74,0) -> 0 | BA74: =IF(AZ74=AZ$4,AZ74-60,AZ74) -> 0 | BB74: =IF(BA74=BA$4,BA74-60,BA74) -> 0 | BC74: =IF(AZ74=$AZ$4,1,IF(BA74=$BA$4,1,IF(BB74=$BB$4,1,0))) -> 0 | BE74: =IF(E74=BE$3,AX74,0) -> 0 | BF74: =IF(BE74=BE$4,BE74-60,BE74) -> 0 | BG74: =IF(BF74=BF$4,BF74-60,BF74) -> 0 | BH74: =IF(BE74=$BE$4,1,IF(BF74=$BF$4,1,IF(BG74=$BG$4,1,0))) -> 0 | BJ74: =IF(E74=BJ$3,AX74,0) -> 0 | BK74: =IF(BJ74=BJ$4,BJ74-60,BJ74) -> 0 | BL74: =IF(BK74=BK$4,BK74-60,BK74) -> 0 | BM74: =IF(BJ74=$BJ$4,1,IF(BK74=$BK$4,1,IF(BL74=$BL$4,1,0))) -> 0
A75: =CONCATENATE(E75,LEFT(C75,2),RIGHT(C75,2),UPPER((LEFT(D75,3)))) | K75: Maitrise | L75: =VLOOKUP(K75,COMPETENCES,2) -> 7.5 | M75: =IF(L75="-",0,IF(L75=0,0,1)) -> 1 | O75: Très satisfaisant | P75: =VLOOKUP(O75,QUALITES,2) -> 10 | R75: Expert | S75: =VLOOKUP(R75,EXPERTISE,2) -> 10 | AZ75: =IF(E75=AZ$3,AX75,0) -> 0 | BA75: =IF(AZ75=AZ$4,AZ75-60,AZ75) -> 0 | BB75: =IF(BA75=BA$4,BA75-60,BA75) -> 0 | BC75: =IF(AZ75=$AZ$4,1,IF(BA75=$BA$4,1,IF(BB75=$BB$4,1,0))) -> 0 | BE75: =IF(E75=BE$3,AX75,0) -> 0 | BF75: =IF(BE75=BE$4,BE75-60,BE75) -> 0 | BG75: =IF(BF75=BF$4,BF75-60,BF75) -> 0 | BH75: =IF(BE75=$BE$4,1,IF(BF75=$BF$4,1,IF(BG75=$BG$4,1,0))) -> 0 | BJ75: =IF(E75=BJ$3,AX75,0) -> 0 | BK75: =IF(BJ75=BJ$4,BJ75-60,BJ75) -> 0 | BL75: =IF(BK75=BK$4,BK75-60,BK75) -> 0 | BM75: =IF(BJ75=$BJ$4,1,IF(BK75=$BK$4,1,IF(BL75=$BL$4,1,0))) -> 0
A76: =CONCATENATE(E76,LEFT(C76,2),RIGHT(C76,2),UPPER((LEFT(D76,3)))) | K76: Expert | L76: =VLOOKUP(K76,COMPETENCES,2) -> 10 | M76: =IF(L76="-",0,IF(L76=0,0,1)) -> 1 | O76: Très satisfaisant | P76: =VLOOKUP(O76,QUALITES,2) -> 10 | R76: Maitrise | S76: =VLOOKUP(R76,EXPERTISE,2) -> 7.5 | AZ76: =IF(E76=AZ$3,AX76,0) -> 0 | BA76: =IF(AZ76=AZ$4,AZ76-60,AZ76) -> 0 | BB76: =IF(BA76=BA$4,BA76-60,BA76) -> 0 | BC76: =IF(AZ76=$AZ$4,1,IF(BA76=$BA$4,1,IF(BB76=$BB$4,1,0))) -> 0 | BE76: =IF(E76=BE$3,AX76,0) -> 0 | BF76: =IF(BE76=BE$4,BE76-60,BE76) -> 0 | BG76: =IF(BF76=BF$4,BF76-60,BF76) -> 0 | BH76: =IF(BE76=$BE$4,1,IF(BF76=$BF$4,1,IF(BG76=$BG$4,1,0))) -> 0 | BJ76: =IF(E76=BJ$3,AX76,0) -> 0 | BK76: =IF(BJ76=BJ$4,BJ76-60,BJ76) -> 0 | BL76: =IF(BK76=BK$4,BK76-60,BK76) -> 0 | BM76: =IF(BJ76=$BJ$4,1,IF(BK76=$BK$4,1,IF(BL76=$BL$4,1,0))) -> 0
A77: =CONCATENATE(E77,LEFT(C77,2),RIGHT(C77,2),UPPER((LEFT(D77,3)))) | K77: Maitrise | L77: =VLOOKUP(K77,COMPETENCES,2) -> 7.5 | M77: =IF(L77="-",0,IF(L77=0,0,1)) -> 1 | O77: Très satisfaisant | P77: =VLOOKUP(O77,QUALITES,2) -> 10 | R77: Expert | S77: =VLOOKUP(R77,EXPERTISE,2) -> 10 | AZ77: =IF(E77=AZ$3,AX77,0) -> 0 | BA77: =IF(AZ77=AZ$4,AZ77-60,AZ77) -> 0 | BB77: =IF(BA77=BA$4,BA77-60,BA77) -> 0 | BC77: =IF(AZ77=$AZ$4,1,IF(BA77=$BA$4,1,IF(BB77=$BB$4,1,0))) -> 0 | BE77: =IF(E77=BE$3,AX77,0) -> 0 | BF77: =IF(BE77=BE$4,BE77-60,BE77) -> 0 | BG77: =IF(BF77=BF$4,BF77-60,BF77) -> 0 | BH77: =IF(BE77=$BE$4,1,IF(BF77=$BF$4,1,IF(BG77=$BG$4,1,0))) -> 0 | BJ77: =IF(E77=BJ$3,AX77,0) -> 0 | BK77: =IF(BJ77=BJ$4,BJ77-60,BJ77) -> 0 | BL77: =IF(BK77=BK$4,BK77-60,BK77) -> 0 | BM77: =IF(BJ77=$BJ$4,1,IF(BK77=$BK$4,1,IF(BL77=$BL$4,1,0))) -> 0
A78: =CONCATENATE(E78,LEFT(C78,2),RIGHT(C78,2),UPPER((LEFT(D78,3)))) | K78: Expert | L78: =VLOOKUP(K78,COMPETENCES,2) -> 10 | M78: =IF(L78="-",0,IF(L78=0,0,1)) -> 1 | R78: Expert | S78: =VLOOKUP(R78,EXPERTISE,2) -> 10 | AZ78: =IF(E78=AZ$3,AX78,0) -> 0 | BA78: =IF(AZ78=AZ$4,AZ78-60,AZ78) -> 0 | BB78: =IF(BA78=BA$4,BA78-60,BA78) -> 0 | BC78: =IF(AZ78=$AZ$4,1,IF(BA78=$BA$4,1,IF(BB78=$BB$4,1,0))) -> 0 | BE78: =IF(E78=BE$3,AX78,0) -> 0 | BF78: =IF(BE78=BE$4,BE78-60,BE78) -> 0 | BG78: =IF(BF78=BF$4,BF78-60,BF78) -> 0 | BH78: =IF(BE78=$BE$4,1,IF(BF78=$BF$4,1,IF(BG78=$BG$4,1,0))) -> 0 | BJ78: =IF(E78=BJ$3,AX78,0) -> 0 | BK78: =IF(BJ78=BJ$4,BJ78-60,BJ78) -> 0 | BL78: =IF(BK78=BK$4,BK78-60,BK78) -> 0 | BM78: =IF(BJ78=$BJ$4,1,IF(BK78=$BK$4,1,IF(BL78=$BL$4,1,0))) -> 0
A79: =CONCATENATE(E79,LEFT(C79,2),RIGHT(C79,2),UPPER((LEFT(D79,3)))) | K79: Maitrise | L79: =VLOOKUP(K79,COMPETENCES,2) -> 7.5 | M79: =IF(L79="-",0,IF(L79=0,0,1)) -> 1 | R79: Non évalué | S79: =VLOOKUP(R79,EXPERTISE,2) -> - | AZ79: =IF(E79=AZ$3,AX79,0) -> 0 | BA79: =IF(AZ79=AZ$4,AZ79-60,AZ79) -> 0 | BB79: =IF(BA79=BA$4,BA79-60,BA79) -> 0 | BC79: =IF(AZ79=$AZ$4,1,IF(BA79=$BA$4,1,IF(BB79=$BB$4,1,0))) -> 0 | BE79: =IF(E79=BE$3,AX79,0) -> 0 | BF79: =IF(BE79=BE$4,BE79-60,BE79) -> 0 | BG79: =IF(BF79=BF$4,BF79-60,BF79) -> 0 | BH79: =IF(BE79=$BE$4,1,IF(BF79=$BF$4,1,IF(BG79=$BG$4,1,0))) -> 0 | BJ79: =IF(E79=BJ$3,AX79,0) -> 0 | BK79: =IF(BJ79=BJ$4,BJ79-60,BJ79) -> 0 | BL79: =IF(BK79=BK$4,BK79-60,BK79) -> 0 | BM79: =IF(BJ79=$BJ$4,1,IF(BK79=$BK$4,1,IF(BL79=$BL$4,1,0))) -> 0
A80: =CONCATENATE(E80,LEFT(C80,2),RIGHT(C80,2),UPPER((LEFT(D80,3)))) | K80: . | L80: =VLOOKUP(K80,COMPETENCES,2) -> - | M80: =IF(L80="-",0,IF(L80=0,0,1)) -> 0 | R80: Expert | S80: =VLOOKUP(R80,EXPERTISE,2) -> 10 | AZ80: =IF(E80=AZ$3,AX80,0) -> 0 | BA80: =IF(AZ80=AZ$4,AZ80-60,AZ80) -> 0 | BB80: =IF(BA80=BA$4,BA80-60,BA80) -> 0 | BC80: =IF(AZ80=$AZ$4,1,IF(BA80=$BA$4,1,IF(BB80=$BB$4,1,0))) -> 0 | BE80: =IF(E80=BE$3,AX80,0) -> 0 | BF80: =IF(BE80=BE$4,BE80-60,BE80) -> 0 | BG80: =IF(BF80=BF$4,BF80-60,BF80) -> 0 | BH80: =IF(BE80=$BE$4,1,IF(BF80=$BF$4,1,IF(BG80=$BG$4,1,0))) -> 0 | BJ80: =IF(E80=BJ$3,AX80,0) -> 0 | BK80: =IF(BJ80=BJ$4,BJ80-60,BJ80) -> 0 | BL80: =IF(BK80=BK$4,BK80-60,BK80) -> 0 | BM80: =IF(BJ80=$BJ$4,1,IF(BK80=$BK$4,1,IF(BL80=$BL$4,1,0))) -> 0
A81: =CONCATENATE(E81,LEFT(C81,2),RIGHT(C81,2),UPPER((LEFT(D81,3)))) | K81: . | L81: =VLOOKUP(K81,COMPETENCES,2) -> - | M81: =IF(L81="-",0,IF(L81=0,0,1)) -> 0 | AZ81: =IF(E81=AZ$3,AX81,0) -> 0 | BA81: =IF(AZ81=AZ$4,AZ81-60,AZ81) -> 0 | BB81: =IF(BA81=BA$4,BA81-60,BA81) -> 0 | BC81: =IF(AZ81=$AZ$4,1,IF(BA81=$BA$4,1,IF(BB81=$BB$4,1,0))) -> 0 | BE81: =IF(E81=BE$3,AX81,0) -> 0 | BF81: =IF(BE81=BE$4,BE81-60,BE81) -> 0 | BG81: =IF(BF81=BF$4,BF81-60,BF81) -> 0 | BH81: =IF(BE81=$BE$4,1,IF(BF81=$BF$4,1,IF(BG81=$BG$4,1,0))) -> 0 | BJ81: =IF(E81=BJ$3,AX81,0) -> 0 | BK81: =IF(BJ81=BJ$4,BJ81-60,BJ81) -> 0 | BL81: =IF(BK81=BK$4,BK81-60,BK81) -> 0 | BM81: =IF(BJ81=$BJ$4,1,IF(BK81=$BK$4,1,IF(BL81=$BL$4,1,0))) -> 0
A82: =CONCATENATE(E82,LEFT(C82,2),RIGHT(C82,2),UPPER((LEFT(D82,3)))) | K82: . | L82: =VLOOKUP(K82,COMPETENCES,2) -> - | M82: =IF(L82="-",0,IF(L82=0,0,1)) -> 0 | AZ82: =IF(E82=AZ$3,AX82,0) -> 0 | BA82: =IF(AZ82=AZ$4,AZ82-60,AZ82) -> 0 | BB82: =IF(BA82=BA$4,BA82-60,BA82) -> 0 | BC82: =IF(AZ82=$AZ$4,1,IF(BA82=$BA$4,1,IF(BB82=$BB$4,1,0))) -> 0 | BE82: =IF(E82=BE$3,AX82,0) -> 0 | BF82: =IF(BE82=BE$4,BE82-60,BE82) -> 0 | BG82: =IF(BF82=BF$4,BF82-60,BF82) -> 0 | BH82: =IF(BE82=$BE$4,1,IF(BF82=$BF$4,1,IF(BG82=$BG$4,1,0))) -> 0 | BJ82: =IF(E82=BJ$3,AX82,0) -> 0 | BK82: =IF(BJ82=BJ$4,BJ82-60,BJ82) -> 0 | BL82: =IF(BK82=BK$4,BK82-60,BK82) -> 0 | BM82: =IF(BJ82=$BJ$4,1,IF(BK82=$BK$4,1,IF(BL82=$BL$4,1,0))) -> 0
A83: =CONCATENATE(E83,LEFT(C83,2),RIGHT(C83,2),UPPER((LEFT(D83,3)))) | K83: . | L83: =VLOOKUP(K83,COMPETENCES,2) -> - | M83: =IF(L83="-",0,IF(L83=0,0,1)) -> 0 | AZ83: =IF(E83=AZ$3,AX83,0) -> 0 | BA83: =IF(AZ83=AZ$4,AZ83-60,AZ83) -> 0 | BB83: =IF(BA83=BA$4,BA83-60,BA83) -> 0 | BC83: =IF(AZ83=$AZ$4,1,IF(BA83=$BA$4,1,IF(BB83=$BB$4,1,0))) -> 0 | BE83: =IF(E83=BE$3,AX83,0) -> 0 | BF83: =IF(BE83=BE$4,BE83-60,BE83) -> 0 | BG83: =IF(BF83=BF$4,BF83-60,BF83) -> 0 | BH83: =IF(BE83=$BE$4,1,IF(BF83=$BF$4,1,IF(BG83=$BG$4,1,0))) -> 0 | BJ83: =IF(E83=BJ$3,AX83,0) -> 0 | BK83: =IF(BJ83=BJ$4,BJ83-60,BJ83) -> 0 | BL83: =IF(BK83=BK$4,BK83-60,BK83) -> 0 | BM83: =IF(BJ83=$BJ$4,1,IF(BK83=$BK$4,1,IF(BL83=$BL$4,1,0))) -> 0
A84: =CONCATENATE(E84,LEFT(C84,2),RIGHT(C84,2),UPPER((LEFT(D84,3)))) | AZ84: =IF(E84=AZ$3,AX84,0) -> 0 | BA84: =IF(AZ84=AZ$4,AZ84-60,AZ84) -> 0 | BB84: =IF(BA84=BA$4,BA84-60,BA84) -> 0 | BC84: =IF(AZ84=$AZ$4,1,IF(BA84=$BA$4,1,IF(BB84=$BB$4,1,0))) -> 0 | BE84: =IF(E84=BE$3,AX84,0) -> 0 | BF84: =IF(BE84=BE$4,BE84-60,BE84) -> 0 | BG84: =IF(BF84=BF$4,BF84-60,BF84) -> 0 | BH84: =IF(BE84=$BE$4,1,IF(BF84=$BF$4,1,IF(BG84=$BG$4,1,0))) -> 0 | BJ84: =IF(E84=BJ$3,AX84,0) -> 0 | BK84: =IF(BJ84=BJ$4,BJ84-60,BJ84) -> 0 | BL84: =IF(BK84=BK$4,BK84-60,BK84) -> 0 | BM84: =IF(BJ84=$BJ$4,1,IF(BK84=$BK$4,1,IF(BL84=$BL$4,1,0))) -> 0
A85: =CONCATENATE(E85,LEFT(C85,2),RIGHT(C85,2),UPPER((LEFT(D85,3)))) -> CAg06ROS | B85: Titulaire | C85: Agent 06 | D85: Rose | E85: =VLOOKUP($F85,'Listes déroulantes'!$A$28:$B$46,2) -> C | F85: Aide-soignant classe normale | U85: =J86+N86+Q86+T86 -> 35.4375 | AH85: =W86+Y86+AA86+AC86+AE86+AG86 -> 7.5 | AL85: =IF(AK86<5,"0",IF(AK86<10,"2,5",IF(AK86<15,"5",IF(AK86<20,"7,5","10")))) -> 7,5 | AP85: =IF(AO86<10,5,10) -> 10 | AW85: =AR86+AT86+AV86 -> 6 | AX85: =U85+AP85+AL85+AH85+AW85 -> 66.4375 | AZ85: =IF(E85=AZ$3,AX85,0) -> 66.4375 | BA85: =IF(AZ85=AZ$4,AZ85-60,AZ85) -> 6.4375 | BB85: =IF(BA85=BA$4,BA85-60,BA85) -> 6.4375 | BC85: =IF(AZ85=$AZ$4,1,IF(BA85=$BA$4,1,IF(BB85=$BB$4,1,0))) -> 1 | BE85: =IF(E85=BE$3,AX85,0) -> 0 | BF85: =IF(BE85=BE$4,BE85-60,BE85) -> 0 | BG85: =IF(BF85=BF$4,BF85-60,BF85) -> 0 | BH85: =IF(BE85=$BE$4,1,IF(BF85=$BF$4,1,IF(BG85=$BG$4,1,0))) -> 0 | BJ85: =IF(E85=BJ$3,AX85,0) -> 0 | BK85: =IF(BJ85=BJ$4,BJ85-60,BJ85) -> 0 | BL85: =IF(BK85=BK$4,BK85-60,BK85) -> 0 | BM85: =IF(BJ85=$BJ$4,1,IF(BK85=$BK$4,1,IF(BL85=$BL$4,1,0))) -> 0
A86: =CONCATENATE(E86,LEFT(C86,2),RIGHT(C86,2),UPPER((LEFT(D86,3)))) | H86: Partiellement atteint | I86: =VLOOKUP(H86,OBJECTIFS,2) -> 5 | J86: =AVERAGE(I86:I90) -> 7.5 | K86: Expert | L86: =VLOOKUP(K86,COMPETENCES,2) -> 10 | M86: =IF(L86="-",0,IF(L86=0,0,1)) -> 1 | N86: =SUM(L86:L99)/SUM(M86:M99) -> 9.25 | O86: Très satisfaisant | P86: =VLOOKUP(O86,QUALITES,2) -> 10 | Q86: =AVERAGE(P86:P93) -> 9.6875 | R86: Expert | S86: =VLOOKUP(R86,EXPERTISE,2) -> 10 | T86: =AVERAGE(S86:S96) -> 9 | V86: Satisfaisant | W86: =VLOOKUP(V86,PROJETS,2) -> 2.5 | X86: Satisfaisant | Y86: =VLOOKUP(X86,PROJETS,2) -> 2.5 | Z86: Sans objet | AA86: =VLOOKUP(Z86,PROJETS,2) -> 0 | AB86: Sans objet | AC86: =VLOOKUP(AB86,PROJETS,2) -> 0 | AD86: Satisfaisant | AE86: =VLOOKUP(AD86,PROJETS,2) -> 2.5 | AF86: Sans objet | AG86: =VLOOKUP(AF86,PROJETS,2) -> 0 | AI86: 37500 | AJ86: =AJ4 -> 44561 | AK86: =(AJ86-AI86)/365 -> 19.345205 | AM86: 35521 | AN86: =AN4 -> 44561 | AO86: =(AN86-AM86)/365 -> 24.767123 | AQ86: Sans objet | AR86: =VLOOKUP(AQ86,DIVERS,2) -> 0 | AS86: Satisfaisant | AT86: =VLOOKUP(AS86,FORMAC,2) -> 2 | AU86: Satisfaisant | AV86: =VLOOKUP(AU86,FORMAQ,2) -> 4 | AZ86: =IF(E86=AZ$3,AX86,0) -> 0 | BA86: =IF(AZ86=AZ$4,AZ86-60,AZ86) -> 0 | BB86: =IF(BA86=BA$4,BA86-60,BA86) -> 0 | BC86: =IF(AZ86=$AZ$4,1,IF(BA86=$BA$4,1,IF(BB86=$BB$4,1,0))) -> 0 | BE86: =IF(E86=BE$3,AX86,0) -> 0 | BF86: =IF(BE86=BE$4,BE86-60,BE86) -> 0 | BG86: =IF(BF86=BF$4,BF86-60,BF86) -> 0 | BH86: =IF(BE86=$BE$4,1,IF(BF86=$BF$4,1,IF(BG86=$BG$4,1,0))) -> 0 | BJ86: =IF(E86=BJ$3,AX86,0) -> 0 | BK86: =IF(BJ86=BJ$4,BJ86-60,BJ86) -> 0 | BL86: =IF(BK86=BK$4,BK86-60,BK86) -> 0 | BM86: =IF(BJ86=$BJ$4,1,IF(BK86=$BK$4,1,IF(BL86=$BL$4,1,0))) -> 0
A87: =CONCATENATE(E87,LEFT(C87,2),RIGHT(C87,2),UPPER((LEFT(D87,3)))) | H87: Atteint | I87: =VLOOKUP(H87,OBJECTIFS,2) -> 10 | K87: Expert | L87: =VLOOKUP(K87,COMPETENCES,2) -> 10 | M87: =IF(L87="-",0,IF(L87=0,0,1)) -> 1 | O87: Très satisfaisant | P87: =VLOOKUP(O87,QUALITES,2) -> 10 | R87: Maitrise | S87: =VLOOKUP(R87,EXPERTISE,2) -> 7.5 | AZ87: =IF(E87=AZ$3,AX87,0) -> 0 | BA87: =IF(AZ87=AZ$4,AZ87-60,AZ87) -> 0 | BB87: =IF(BA87=BA$4,BA87-60,BA87) -> 0 | BC87: =IF(AZ87=$AZ$4,1,IF(BA87=$BA$4,1,IF(BB87=$BB$4,1,0))) -> 0 | BE87: =IF(E87=BE$3,AX87,0) -> 0 | BF87: =IF(BE87=BE$4,BE87-60,BE87) -> 0 | BG87: =IF(BF87=BF$4,BF87-60,BF87) -> 0 | BH87: =IF(BE87=$BE$4,1,IF(BF87=$BF$4,1,IF(BG87=$BG$4,1,0))) -> 0 | BJ87: =IF(E87=BJ$3,AX87,0) -> 0 | BK87: =IF(BJ87=BJ$4,BJ87-60,BJ87) -> 0 | BL87: =IF(BK87=BK$4,BK87-60,BK87) -> 0 | BM87: =IF(BJ87=$BJ$4,1,IF(BK87=$BK$4,1,IF(BL87=$BL$4,1,0))) -> 0
A88: =CONCATENATE(E88,LEFT(C88,2),RIGHT(C88,2),UPPER((LEFT(D88,3)))) | H88: . | I88: =VLOOKUP(H88,OBJECTIFS,2) -> - | K88: Expert | L88: =VLOOKUP(K88,COMPETENCES,2) -> 10 | M88: =IF(L88="-",0,IF(L88=0,0,1)) -> 1 | O88: Très satisfaisant | P88: =VLOOKUP(O88,QUALITES,2) -> 10 | R88: Expert | S88: =VLOOKUP(R88,EXPERTISE,2) -> 10 | AZ88: =IF(E88=AZ$3,AX88,0) -> 0 | BA88: =IF(AZ88=AZ$4,AZ88-60,AZ88) -> 0 | BB88: =IF(BA88=BA$4,BA88-60,BA88) -> 0 | BC88: =IF(AZ88=$AZ$4,1,IF(BA88=$BA$4,1,IF(BB88=$BB$4,1,0))) -> 0 | BE88: =IF(E88=BE$3,AX88,0) -> 0 | BF88: =IF(BE88=BE$4,BE88-60,BE88) -> 0 | BG88: =IF(BF88=BF$4,BF88-60,BF88) -> 0 | BH88: =IF(BE88=$BE$4,1,IF(BF88=$BF$4,1,IF(BG88=$BG$4,1,0))) -> 0 | BJ88: =IF(E88=BJ$3,AX88,0) -> 0 | BK88: =IF(BJ88=BJ$4,BJ88-60,BJ88) -> 0 | BL88: =IF(BK88=BK$4,BK88-60,BK88) -> 0 | BM88: =IF(BJ88=$BJ$4,1,IF(BK88=$BK$4,1,IF(BL88=$BL$4,1,0))) -> 0
A89: =CONCATENATE(E89,LEFT(C89,2),RIGHT(C89,2),UPPER((LEFT(D89,3)))) | H89: . | I89: =VLOOKUP(H89,OBJECTIFS,2) -> - | K89: Expert | L89: =VLOOKUP(K89,COMPETENCES,2) -> 10 | M89: =IF(L89="-",0,IF(L89=0,0,1)) -> 1 | O89: Très satisfaisant | P89: =VLOOKUP(O89,QUALITES,2) -> 10 | R89: Expert | S89: =VLOOKUP(R89,EXPERTISE,2) -> 10 | AZ89: =IF(E89=AZ$3,AX89,0) -> 0 | BA89: =IF(AZ89=AZ$4,AZ89-60,AZ89) -> 0 | BB89: =IF(BA89=BA$4,BA89-60,BA89) -> 0 | BC89: =IF(AZ89=$AZ$4,1,IF(BA89=$BA$4,1,IF(BB89=$BB$4,1,0))) -> 0 | BE89: =IF(E89=BE$3,AX89,0) -> 0 | BF89: =IF(BE89=BE$4,BE89-60,BE89) -> 0 | BG89: =IF(BF89=BF$4,BF89-60,BF89) -> 0 | BH89: =IF(BE89=$BE$4,1,IF(BF89=$BF$4,1,IF(BG89=$BG$4,1,0))) -> 0 | BJ89: =IF(E89=BJ$3,AX89,0) -> 0 | BK89: =IF(BJ89=BJ$4,BJ89-60,BJ89) -> 0 | BL89: =IF(BK89=BK$4,BK89-60,BK89) -> 0 | BM89: =IF(BJ89=$BJ$4,1,IF(BK89=$BK$4,1,IF(BL89=$BL$4,1,0))) -> 0
A90: =CONCATENATE(E90,LEFT(C90,2),RIGHT(C90,2),UPPER((LEFT(D90,3)))) | H90: . | I90: =VLOOKUP(H90,OBJECTIFS,2) -> - | K90: Expert | L90: =VLOOKUP(K90,COMPETENCES,2) -> 10 | M90: =IF(L90="-",0,IF(L90=0,0,1)) -> 1 | O90: Satisfaisant | P90: =VLOOKUP(O90,QUALITES,2) -> 7.5 | R90: Expert | S90: =VLOOKUP(R90,EXPERTISE,2) -> 10 | AZ90: =IF(E90=AZ$3,AX90,0) -> 0 | BA90: =IF(AZ90=AZ$4,AZ90-60,AZ90) -> 0 | BB90: =IF(BA90=BA$4,BA90-60,BA90) -> 0 | BC90: =IF(AZ90=$AZ$4,1,IF(BA90=$BA$4,1,IF(BB90=$BB$4,1,0))) -> 0 | BE90: =IF(E90=BE$3,AX90,0) -> 0 | BF90: =IF(BE90=BE$4,BE90-60,BE90) -> 0 | BG90: =IF(BF90=BF$4,BF90-60,BF90) -> 0 | BH90: =IF(BE90=$BE$4,1,IF(BF90=$BF$4,1,IF(BG90=$BG$4,1,0))) -> 0 | BJ90: =IF(E90=BJ$3,AX90,0) -> 0 | BK90: =IF(BJ90=BJ$4,BJ90-60,BJ90) -> 0 | BL90: =IF(BK90=BK$4,BK90-60,BK90) -> 0 | BM90: =IF(BJ90=$BJ$4,1,IF(BK90=$BK$4,1,IF(BL90=$BL$4,1,0))) -> 0
A91: =CONCATENATE(E91,LEFT(C91,2),RIGHT(C91,2),UPPER((LEFT(D91,3)))) | K91: Maitrise | L91: =VLOOKUP(K91,COMPETENCES,2) -> 7.5 | M91: =IF(L91="-",0,IF(L91=0,0,1)) -> 1 | O91: Très satisfaisant | P91: =VLOOKUP(O91,QUALITES,2) -> 10 | R91: Maitrise | S91: =VLOOKUP(R91,EXPERTISE,2) -> 7.5 | AZ91: =IF(E91=AZ$3,AX91,0) -> 0 | BA91: =IF(AZ91=AZ$4,AZ91-60,AZ91) -> 0 | BB91: =IF(BA91=BA$4,BA91-60,BA91) -> 0 | BC91: =IF(AZ91=$AZ$4,1,IF(BA91=$BA$4,1,IF(BB91=$BB$4,1,0))) -> 0 | BE91: =IF(E91=BE$3,AX91,0) -> 0 | BF91: =IF(BE91=BE$4,BE91-60,BE91) -> 0 | BG91: =IF(BF91=BF$4,BF91-60,BF91) -> 0 | BH91: =IF(BE91=$BE$4,1,IF(BF91=$BF$4,1,IF(BG91=$BG$4,1,0))) -> 0 | BJ91: =IF(E91=BJ$3,AX91,0) -> 0 | BK91: =IF(BJ91=BJ$4,BJ91-60,BJ91) -> 0 | BL91: =IF(BK91=BK$4,BK91-60,BK91) -> 0 | BM91: =IF(BJ91=$BJ$4,1,IF(BK91=$BK$4,1,IF(BL91=$BL$4,1,0))) -> 0
A92: =CONCATENATE(E92,LEFT(C92,2),RIGHT(C92,2),UPPER((LEFT(D92,3)))) | K92: Maitrise | L92: =VLOOKUP(K92,COMPETENCES,2) -> 7.5 | M92: =IF(L92="-",0,IF(L92=0,0,1)) -> 1 | O92: Très satisfaisant | P92: =VLOOKUP(O92,QUALITES,2) -> 10 | R92: Expert | S92: =VLOOKUP(R92,EXPERTISE,2) -> 10 | AZ92: =IF(E92=AZ$3,AX92,0) -> 0 | BA92: =IF(AZ92=AZ$4,AZ92-60,AZ92) -> 0 | BB92: =IF(BA92=BA$4,BA92-60,BA92) -> 0 | BC92: =IF(AZ92=$AZ$4,1,IF(BA92=$BA$4,1,IF(BB92=$BB$4,1,0))) -> 0 | BE92: =IF(E92=BE$3,AX92,0) -> 0 | BF92: =IF(BE92=BE$4,BE92-60,BE92) -> 0 | BG92: =IF(BF92=BF$4,BF92-60,BF92) -> 0 | BH92: =IF(BE92=$BE$4,1,IF(BF92=$BF$4,1,IF(BG92=$BG$4,1,0))) -> 0 | BJ92: =IF(E92=BJ$3,AX92,0) -> 0 | BK92: =IF(BJ92=BJ$4,BJ92-60,BJ92) -> 0 | BL92: =IF(BK92=BK$4,BK92-60,BK92) -> 0 | BM92: =IF(BJ92=$BJ$4,1,IF(BK92=$BK$4,1,IF(BL92=$BL$4,1,0))) -> 0
A93: =CONCATENATE(E93,LEFT(C93,2),RIGHT(C93,2),UPPER((LEFT(D93,3)))) | K93: Expert | L93: =VLOOKUP(K93,COMPETENCES,2) -> 10 | M93: =IF(L93="-",0,IF(L93=0,0,1)) -> 1 | O93: Très satisfaisant | P93: =VLOOKUP(O93,QUALITES,2) -> 10 | R93: Maitrise | S93: =VLOOKUP(R93,EXPERTISE,2) -> 7.5 | AZ93: =IF(E93=AZ$3,AX93,0) -> 0 | BA93: =IF(AZ93=AZ$4,AZ93-60,AZ93) -> 0 | BB93: =IF(BA93=BA$4,BA93-60,BA93) -> 0 | BC93: =IF(AZ93=$AZ$4,1,IF(BA93=$BA$4,1,IF(BB93=$BB$4,1,0))) -> 0 | BE93: =IF(E93=BE$3,AX93,0) -> 0 | BF93: =IF(BE93=BE$4,BE93-60,BE93) -> 0 | BG93: =IF(BF93=BF$4,BF93-60,BF93) -> 0 | BH93: =IF(BE93=$BE$4,1,IF(BF93=$BF$4,1,IF(BG93=$BG$4,1,0))) -> 0 | BJ93: =IF(E93=BJ$3,AX93,0) -> 0 | BK93: =IF(BJ93=BJ$4,BJ93-60,BJ93) -> 0 | BL93: =IF(BK93=BK$4,BK93-60,BK93) -> 0 | BM93: =IF(BJ93=$BJ$4,1,IF(BK93=$BK$4,1,IF(BL93=$BL$4,1,0))) -> 0
A94: =CONCATENATE(E94,LEFT(C94,2),RIGHT(C94,2),UPPER((LEFT(D94,3)))) | K94: Expert | L94: =VLOOKUP(K94,COMPETENCES,2) -> 10 | M94: =IF(L94="-",0,IF(L94=0,0,1)) -> 1 | R94: Maitrise | S94: =VLOOKUP(R94,EXPERTISE,2) -> 7.5 | AZ94: =IF(E94=AZ$3,AX94,0) -> 0 | BA94: =IF(AZ94=AZ$4,AZ94-60,AZ94) -> 0 | BB94: =IF(BA94=BA$4,BA94-60,BA94) -> 0 | BC94: =IF(AZ94=$AZ$4,1,IF(BA94=$BA$4,1,IF(BB94=$BB$4,1,0))) -> 0 | BE94: =IF(E94=BE$3,AX94,0) -> 0 | BF94: =IF(BE94=BE$4,BE94-60,BE94) -> 0 | BG94: =IF(BF94=BF$4,BF94-60,BF94) -> 0 | BH94: =IF(BE94=$BE$4,1,IF(BF94=$BF$4,1,IF(BG94=$BG$4,1,0))) -> 0 | BJ94: =IF(E94=BJ$3,AX94,0) -> 0 | BK94: =IF(BJ94=BJ$4,BJ94-60,BJ94) -> 0 | BL94: =IF(BK94=BK$4,BK94-60,BK94) -> 0 | BM94: =IF(BJ94=$BJ$4,1,IF(BK94=$BK$4,1,IF(BL94=$BL$4,1,0))) -> 0
A95: =CONCATENATE(E95,LEFT(C95,2),RIGHT(C95,2),UPPER((LEFT(D95,3)))) | K95: Maitrise | L95: =VLOOKUP(K95,COMPETENCES,2) -> 7.5 | M95: =IF(L95="-",0,IF(L95=0,0,1)) -> 1 | R95: Non évalué | S95: =VLOOKUP(R95,EXPERTISE,2) -> - | AZ95: =IF(E95=AZ$3,AX95,0) -> 0 | BA95: =IF(AZ95=AZ$4,AZ95-60,AZ95) -> 0 | BB95: =IF(BA95=BA$4,BA95-60,BA95) -> 0 | BC95: =IF(AZ95=$AZ$4,1,IF(BA95=$BA$4,1,IF(BB95=$BB$4,1,0))) -> 0 | BE95: =IF(E95=BE$3,AX95,0) -> 0 | BF95: =IF(BE95=BE$4,BE95-60,BE95) -> 0 | BG95: =IF(BF95=BF$4,BF95-60,BF95) -> 0 | BH95: =IF(BE95=$BE$4,1,IF(BF95=$BF$4,1,IF(BG95=$BG$4,1,0))) -> 0 | BJ95: =IF(E95=BJ$3,AX95,0) -> 0 | BK95: =IF(BJ95=BJ$4,BJ95-60,BJ95) -> 0 | BL95: =IF(BK95=BK$4,BK95-60,BK95) -> 0 | BM95: =IF(BJ95=$BJ$4,1,IF(BK95=$BK$4,1,IF(BL95=$BL$4,1,0))) -> 0
A96: =CONCATENATE(E96,LEFT(C96,2),RIGHT(C96,2),UPPER((LEFT(D96,3)))) | K96: . | L96: =VLOOKUP(K96,COMPETENCES,2) -> - | M96: =IF(L96="-",0,IF(L96=0,0,1)) -> 0 | R96: Expert | S96: =VLOOKUP(R96,EXPERTISE,2) -> 10 | AZ96: =IF(E96=AZ$3,AX96,0) -> 0 | BA96: =IF(AZ96=AZ$4,AZ96-60,AZ96) -> 0 | BB96: =IF(BA96=BA$4,BA96-60,BA96) -> 0 | BC96: =IF(AZ96=$AZ$4,1,IF(BA96=$BA$4,1,IF(BB96=$BB$4,1,0))) -> 0 | BE96: =IF(E96=BE$3,AX96,0) -> 0 | BF96: =IF(BE96=BE$4,BE96-60,BE96) -> 0 | BG96: =IF(BF96=BF$4,BF96-60,BF96) -> 0 | BH96: =IF(BE96=$BE$4,1,IF(BF96=$BF$4,1,IF(BG96=$BG$4,1,0))) -> 0 | BJ96: =IF(E96=BJ$3,AX96,0) -> 0 | BK96: =IF(BJ96=BJ$4,BJ96-60,BJ96) -> 0 | BL96: =IF(BK96=BK$4,BK96-60,BK96) -> 0 | BM96: =IF(BJ96=$BJ$4,1,IF(BK96=$BK$4,1,IF(BL96=$BL$4,1,0))) -> 0
A97: =CONCATENATE(E97,LEFT(C97,2),RIGHT(C97,2),UPPER((LEFT(D97,3)))) | K97: . | L97: =VLOOKUP(K97,COMPETENCES,2) -> - | M97: =IF(L97="-",0,IF(L97=0,0,1)) -> 0 | AZ97: =IF(E97=AZ$3,AX97,0) -> 0 | BA97: =IF(AZ97=AZ$4,AZ97-60,AZ97) -> 0 | BB97: =IF(BA97=BA$4,BA97-60,BA97) -> 0 | BC97: =IF(AZ97=$AZ$4,1,IF(BA97=$BA$4,1,IF(BB97=$BB$4,1,0))) -> 0 | BE97: =IF(E97=BE$3,AX97,0) -> 0 | BF97: =IF(BE97=BE$4,BE97-60,BE97) -> 0 | BG97: =IF(BF97=BF$4,BF97-60,BF97) -> 0 | BH97: =IF(BE97=$BE$4,1,IF(BF97=$BF$4,1,IF(BG97=$BG$4,1,0))) -> 0 | BJ97: =IF(E97=BJ$3,AX97,0) -> 0 | BK97: =IF(BJ97=BJ$4,BJ97-60,BJ97) -> 0 | BL97: =IF(BK97=BK$4,BK97-60,BK97) -> 0 | BM97: =IF(BJ97=$BJ$4,1,IF(BK97=$BK$4,1,IF(BL97=$BL$4,1,0))) -> 0
A98: =CONCATENATE(E98,LEFT(C98,2),RIGHT(C98,2),UPPER((LEFT(D98,3)))) | K98: . | L98: =VLOOKUP(K98,COMPETENCES,2) -> - | M98: =IF(L98="-",0,IF(L98=0,0,1)) -> 0 | AZ98: =IF(E98=AZ$3,AX98,0) -> 0 | BA98: =IF(AZ98=AZ$4,AZ98-60,AZ98) -> 0 | BB98: =IF(BA98=BA$4,BA98-60,BA98) -> 0 | BC98: =IF(AZ98=$AZ$4,1,IF(BA98=$BA$4,1,IF(BB98=$BB$4,1,0))) -> 0 | BE98: =IF(E98=BE$3,AX98,0) -> 0 | BF98: =IF(BE98=BE$4,BE98-60,BE98) -> 0 | BG98: =IF(BF98=BF$4,BF98-60,BF98) -> 0 | BH98: =IF(BE98=$BE$4,1,IF(BF98=$BF$4,1,IF(BG98=$BG$4,1,0))) -> 0 | BJ98: =IF(E98=BJ$3,AX98,0) -> 0 | BK98: =IF(BJ98=BJ$4,BJ98-60,BJ98) -> 0 | BL98: =IF(BK98=BK$4,BK98-60,BK98) -> 0 | BM98: =IF(BJ98=$BJ$4,1,IF(BK98=$BK$4,1,IF(BL98=$BL$4,1,0))) -> 0
A99: =CONCATENATE(E99,LEFT(C99,2),RIGHT(C99,2),UPPER((LEFT(D99,3)))) | K99: . | L99: =VLOOKUP(K99,COMPETENCES,2) -> - | M99: =IF(L99="-",0,IF(L99=0,0,1)) -> 0 | AZ99: =IF(E99=AZ$3,AX99,0) -> 0 | BA99: =IF(AZ99=AZ$4,AZ99-60,AZ99) -> 0 | BB99: =IF(BA99=BA$4,BA99-60,BA99) -> 0 | BC99: =IF(AZ99=$AZ$4,1,IF(BA99=$BA$4,1,IF(BB99=$BB$4,1,0))) -> 0 | BE99: =IF(E99=BE$3,AX99,0) -> 0 | BF99: =IF(BE99=BE$4,BE99-60,BE99) -> 0 | BG99: =IF(BF99=BF$4,BF99-60,BF99) -> 0 | BH99: =IF(BE99=$BE$4,1,IF(BF99=$BF$4,1,IF(BG99=$BG$4,1,0))) -> 0 | BJ99: =IF(E99=BJ$3,AX99,0) -> 0 | BK99: =IF(BJ99=BJ$4,BJ99-60,BJ99) -> 0 | BL99: =IF(BK99=BK$4,BK99-60,BK99) -> 0 | BM99: =IF(BJ99=$BJ$4,1,IF(BK99=$BK$4,1,IF(BL99=$BL$4,1,0))) -> 0
A100: =CONCATENATE(E100,LEFT(C100,2),RIGHT(C100,2),UPPER((LEFT(D100,3)))) | AZ100: =IF(E100=AZ$3,AX100,0) -> 0 | BA100: =IF(AZ100=AZ$4,AZ100-60,AZ100) -> 0 | BB100: =IF(BA100=BA$4,BA100-60,BA100) -> 0 | BC100: =IF(AZ100=$AZ$4,1,IF(BA100=$BA$4,1,IF(BB100=$BB$4,1,0))) -> 0 | BE100: =IF(E100=BE$3,AX100,0) -> 0 | BF100: =IF(BE100=BE$4,BE100-60,BE100) -> 0 | BG100: =IF(BF100=BF$4,BF100-60,BF100) -> 0 | BH100: =IF(BE100=$BE$4,1,IF(BF100=$BF$4,1,IF(BG100=$BG$4,1,0))) -> 0 | BJ100: =IF(E100=BJ$3,AX100,0) -> 0 | BK100: =IF(BJ100=BJ$4,BJ100-60,BJ100) -> 0 | BL100: =IF(BK100=BK$4,BK100-60,BK100) -> 0 | BM100: =IF(BJ100=$BJ$4,1,IF(BK100=$BK$4,1,IF(BL100=$BL$4,1,0))) -> 0
...

Sheet Feuil2
A1: Realisation des obj
B3: Cotation | C3: Nombre de croix | D3: Total | E3: Total
A4: Atteint | B4: 10 | C4: 3 | D4: =C4*B4 -> 30 | E4: =D8/C8 -> 7
A5: Partiellement | B5: 5 | C5: 1 | D5: =C5*B5 -> 5
A6: non atteint | B6: 0 | C6: 1 | D6: =C6*B6 -> 0
A7: Sans objet
C8: =SUM(C4:C7) -> 5 | D8: =SUM(D4:D7) -> 35

Sheet Listes déroulantes
A1: Réalisation des objectifs | B1: Cotation | D1: Compétences et connaissances relationnelles et techniques | E1: Cotation | G1: Manière de servir et qualités relationnelles | H1: Cotation | J1: Capacité d'expertise et le cas échéant, capacité d'encadrement | K1: Cotation
A2: . | B2: - | D2: . | E2: - | G2: . | H2: - | J2: . | K2: -
A3: Atteint | B3: 10 | D3: A développer | E3: 2.5 | G3: Insatisfaisant | H3: 5 | J3: A développer | K3: 2.5
A4: Devenu sans objet | B4: - | D4: Expert | E4: 10 | G4: Non évalué | H4: - | J4: Expert | K4: 10
A5: Non atteint | B5: 0 | D5: Maitrise | E5: 7.5 | G5: Satisfaisant | H5: 7.5 | J5: Maitrise | K5: 7.5
A6: Partiellement atteint | B6: 5 | D6: Non évalué | E6: - | G6: Très insatisfaisant | H6: 2.5 | J6: Non évalué | K6: -
D7: Pratique courante | E7: 5 | G7: Très satisfaisant | H7: 10 | J7: Pratique courante | K7: 5
A11: Conduite de projets et encadrement | B11: Cotation | D11: Parcours pro - Divers | E11: Cotation
A12: . | B12: 0 | D12: . | E12: 0
A13: Sans objet | B13: 0 | D13: Sans objet | E13: 0
A14: Satisfaisant | B14: 2.5 | D14: Satisfaisant | E14: 2
A15: Très satisfaisant | B15: 5 | D15: Très satisfaisant | E15: 4
D17: Parcours pro - Formation C | E17: Cotation
A18: Oui | D18: . | E18: 0
A19: Non | D19: Sans objet | E19: 0
D20: Satisfaisant | E20: 2
D22: Parcours pro - Formation Q | E22: Cotation
D23: . | E23: 0
D24: Sans objet | E24: 0
D25: Satisfaisant | E25: 4
A27: Grades | B27: Code
A28: Adjoint administratif | B28: A
A29: Aide-soignant cl. supérieure | B29: B
A30: Aide-soignant classe normale | B30: C
A31: Animateur ppal 1ère classe | B31: D
A32: ASHQ Classe normale | B32: E
A33: ASHQ Classe supérieure | B33: F | D33: Si ajout d'un grade, le mettre à la suite dans la limite des lignes déjà crées. Et faire un tri de A à Z
A34: Attachée | B34: G
A35: Cadre de santé paramédical | B35: H
A36: Directeur ESSMS hors classe | B36: I
A37: Infirmier Classe Supérieure | B37: J
A38: Infirmier gén. & spéc : 1e grade | B38: K
A39: Ouvrier principal 1ème classe | B39: L
A40: Ouvrier principal 2ème classe | B40: M
A41: Technicien hospitalier | B41: N
A42: Technicien hospitalier supérieur | B42: O
B43: P
B44: Q
B45: R
B46: S
