Workbook

Sheet Maternelle
B1: Semaine 1 | G1: Semaine 2 | L1: Semaine 3 | Q1: Semaine 4
A2: Maternelle | B2: =Cumulatif!A4 -> 25 | C2: =Cumulatif!B4 -> 26 | D2: =Cumulatif!C4 -> 27 | E2: =Cumulatif!D4 -> 28 | F2: =Cumulatif!E4 -> 29 | G2: =Cumulatif!F4 -> 1 | H2: =Cumulatif!G4 -> 2 | I2: =Cumulatif!H4 -> 3 | ... U2: =Cumulatif!T4 -> 19
A3: AGATHE LAMBERT | V3: =SUM(AK3:BD3) -> 0 | AK3: =((IF(B3="j",1,0))+(IF(B3="p",1,0)))+(IF(B3=1,1,0)) -> 0 | AL3: =((IF(C3="j",1,0))+(IF(C3="p",1,0)))+(IF(C3=1,1,0)) -> 0 | AM3: =((IF(D3="j",1,0))+(IF(D3="p",1,0)))+(IF(D3=1,1,0)) -> 0 | AN3: =((IF(E3="j",1,0))+(IF(E3="p",1,0)))+(IF(E3=1,1,0)) -> 0 | AO3: =((IF(F3="j",1,0))+(IF(F3="p",1,0)))+(IF(F3=1,1,0)) -> 0 | AP3: =((IF(G3="j",1,0))+(IF(G3="p",1,0)))+(IF(G3=1,1,0)) -> 0 | AQ3: =((IF(H3="j",1,0))+(IF(H3="p",1,0)))+(IF(H3=1,1,0)) -> 0 | AR3: =((IF(I3="j",1,0))+(IF(I3="p",1,0)))+(IF(I3=1,1,0)) -> 0 | ... BD3: =((IF(U3="j",1,0))+(IF(U3="p",1,0)))+(IF(U3=1,1,0)) -> 0
A4: ALEXIA COTÉ | S4: 1 | V4: =SUM(AK4:BD4) -> 1 | AK4: =((IF(B4="j",1,0))+(IF(B4="p",1,0)))+(IF(B4=1,1,0)) -> 0 | AL4: =((IF(C4="j",1,0))+(IF(C4="p",1,0)))+(IF(C4=1,1,0)) -> 0 | AM4: =((IF(D4="j",1,0))+(IF(D4="p",1,0)))+(IF(D4=1,1,0)) -> 0 | AN4: =((IF(E4="j",1,0))+(IF(E4="p",1,0)))+(IF(E4=1,1,0)) -> 0 | AO4: =((IF(F4="j",1,0))+(IF(F4="p",1,0)))+(IF(F4=1,1,0)) -> 0 | AP4: =((IF(G4="j",1,0))+(IF(G4="p",1,0)))+(IF(G4=1,1,0)) -> 0 | AQ4: =((IF(H4="j",1,0))+(IF(H4="p",1,0)))+(IF(H4=1,1,0)) -> 0 | AR4: =((IF(I4="j",1,0))+(IF(I4="p",1,0)))+(IF(I4=1,1,0)) -> 0 | ... BD4: =((IF(U4="j",1,0))+(IF(U4="p",1,0)))+(IF(U4=1,1,0)) -> 0
A5: ANTOINE LECLERC | V5: =SUM(AK5:BD5) -> 0 | AK5: =((IF(B5="j",1,0))+(IF(B5="p",1,0)))+(IF(B5=1,1,0)) -> 0 | AL5: =((IF(C5="j",1,0))+(IF(C5="p",1,0)))+(IF(C5=1,1,0)) -> 0 | AM5: =((IF(D5="j",1,0))+(IF(D5="p",1,0)))+(IF(D5=1,1,0)) -> 0 | AN5: =((IF(E5="j",1,0))+(IF(E5="p",1,0)))+(IF(E5=1,1,0)) -> 0 | AO5: =((IF(F5="j",1,0))+(IF(F5="p",1,0)))+(IF(F5=1,1,0)) -> 0 | AP5: =((IF(G5="j",1,0))+(IF(G5="p",1,0)))+(IF(G5=1,1,0)) -> 0 | AQ5: =((IF(H5="j",1,0))+(IF(H5="p",1,0)))+(IF(H5=1,1,0)) -> 0 | AR5: =((IF(I5="j",1,0))+(IF(I5="p",1,0)))+(IF(I5=1,1,0)) -> 0 | ... BD5: =((IF(U5="j",1,0))+(IF(U5="p",1,0)))+(IF(U5=1,1,0)) -> 0
A6: ARNAUD CLICHÉ | V6: =SUM(AK6:BD6) -> 0 | AK6: =((IF(B6="j",1,0))+(IF(B6="p",1,0)))+(IF(B6=1,1,0)) -> 0 | AL6: =((IF(C6="j",1,0))+(IF(C6="p",1,0)))+(IF(C6=1,1,0)) -> 0 | AM6: =((IF(D6="j",1,0))+(IF(D6="p",1,0)))+(IF(D6=1,1,0)) -> 0 | AN6: =((IF(E6="j",1,0))+(IF(E6="p",1,0)))+(IF(E6=1,1,0)) -> 0 | AO6: =((IF(F6="j",1,0))+(IF(F6="p",1,0)))+(IF(F6=1,1,0)) -> 0 | AP6: =((IF(G6="j",1,0))+(IF(G6="p",1,0)))+(IF(G6=1,1,0)) -> 0 | AQ6: =((IF(H6="j",1,0))+(IF(H6="p",1,0)))+(IF(H6=1,1,0)) -> 0 | AR6: =((IF(I6="j",1,0))+(IF(I6="p",1,0)))+(IF(I6=1,1,0)) -> 0 | ... BD6: =((IF(U6="j",1,0))+(IF(U6="p",1,0)))+(IF(U6=1,1,0)) -> 0
A7: BRUNO MARTIN | V7: =SUM(AK7:BD7) -> 0 | AK7: =((IF(B7="j",1,0))+(IF(B7="p",1,0)))+(IF(B7=1,1,0)) -> 0 | AL7: =((IF(C7="j",1,0))+(IF(C7="p",1,0)))+(IF(C7=1,1,0)) -> 0 | AM7: =((IF(D7="j",1,0))+(IF(D7="p",1,0)))+(IF(D7=1,1,0)) -> 0 | AN7: =((IF(E7="j",1,0))+(IF(E7="p",1,0)))+(IF(E7=1,1,0)) -> 0 | AO7: =((IF(F7="j",1,0))+(IF(F7="p",1,0)))+(IF(F7=1,1,0)) -> 0 | AP7: =((IF(G7="j",1,0))+(IF(G7="p",1,0)))+(IF(G7=1,1,0)) -> 0 | AQ7: =((IF(H7="j",1,0))+(IF(H7="p",1,0)))+(IF(H7=1,1,0)) -> 0 | AR7: =((IF(I7="j",1,0))+(IF(I7="p",1,0)))+(IF(I7=1,1,0)) -> 0 | ... BD7: =((IF(U7="j",1,0))+(IF(U7="p",1,0)))+(IF(U7=1,1,0)) -> 0
A8: CAMÉLIA BOURGAULT | V8: =SUM(AK8:BD8) -> 0 | AK8: =((IF(B8="j",1,0))+(IF(B8="p",1,0)))+(IF(B8=1,1,0)) -> 0 | AL8: =((IF(C8="j",1,0))+(IF(C8="p",1,0)))+(IF(C8=1,1,0)) -> 0 | AM8: =((IF(D8="j",1,0))+(IF(D8="p",1,0)))+(IF(D8=1,1,0)) -> 0 | AN8: =((IF(E8="j",1,0))+(IF(E8="p",1,0)))+(IF(E8=1,1,0)) -> 0 | AO8: =((IF(F8="j",1,0))+(IF(F8="p",1,0)))+(IF(F8=1,1,0)) -> 0 | AP8: =((IF(G8="j",1,0))+(IF(G8="p",1,0)))+(IF(G8=1,1,0)) -> 0 | AQ8: =((IF(H8="j",1,0))+(IF(H8="p",1,0)))+(IF(H8=1,1,0)) -> 0 | AR8: =((IF(I8="j",1,0))+(IF(I8="p",1,0)))+(IF(I8=1,1,0)) -> 0 | ... BD8: =((IF(U8="j",1,0))+(IF(U8="p",1,0)))+(IF(U8=1,1,0)) -> 0
A9: CÉDRIC DESCHAMBREAULT | S9: 1 | V9: =SUM(AK9:BD9) -> 1 | AK9: =((IF(B9="j",1,0))+(IF(B9="p",1,0)))+(IF(B9=1,1,0)) -> 0 | AL9: =((IF(C9="j",1,0))+(IF(C9="p",1,0)))+(IF(C9=1,1,0)) -> 0 | AM9: =((IF(D9="j",1,0))+(IF(D9="p",1,0)))+(IF(D9=1,1,0)) -> 0 | AN9: =((IF(E9="j",1,0))+(IF(E9="p",1,0)))+(IF(E9=1,1,0)) -> 0 | AO9: =((IF(F9="j",1,0))+(IF(F9="p",1,0)))+(IF(F9=1,1,0)) -> 0 | AP9: =((IF(G9="j",1,0))+(IF(G9="p",1,0)))+(IF(G9=1,1,0)) -> 0 | AQ9: =((IF(H9="j",1,0))+(IF(H9="p",1,0)))+(IF(H9=1,1,0)) -> 0 | AR9: =((IF(I9="j",1,0))+(IF(I9="p",1,0)))+(IF(I9=1,1,0)) -> 0 | ... BD9: =((IF(U9="j",1,0))+(IF(U9="p",1,0)))+(IF(U9=1,1,0)) -> 0
A10: ISAAC DUFOUR | V10: =SUM(AK10:BD10) -> 0 | AK10: =((IF(B10="j",1,0))+(IF(B10="p",1,0)))+(IF(B10=1,1,0)) -> 0 | AL10: =((IF(C10="j",1,0))+(IF(C10="p",1,0)))+(IF(C10=1,1,0)) -> 0 | AM10: =((IF(D10="j",1,0))+(IF(D10="p",1,0)))+(IF(D10=1,1,0)) -> 0 | AN10: =((IF(E10="j",1,0))+(IF(E10="p",1,0)))+(IF(E10=1,1,0)) -> 0 | AO10: =((IF(F10="j",1,0))+(IF(F10="p",1,0)))+(IF(F10=1,1,0)) -> 0 | AP10: =((IF(G10="j",1,0))+(IF(G10="p",1,0)))+(IF(G10=1,1,0)) -> 0 | AQ10: =((IF(H10="j",1,0))+(IF(H10="p",1,0)))+(IF(H10=1,1,0)) -> 0 | AR10: =((IF(I10="j",1,0))+(IF(I10="p",1,0)))+(IF(I10=1,1,0)) -> 0 | ... BD10: =((IF(U10="j",1,0))+(IF(U10="p",1,0)))+(IF(U10=1,1,0)) -> 0
A11: MEGAN DOYON | V11: =SUM(AK11:BD11) -> 0 | AK11: =((IF(B11="j",1,0))+(IF(B11="p",1,0)))+(IF(B11=1,1,0)) -> 0 | AL11: =((IF(C11="j",1,0))+(IF(C11="p",1,0)))+(IF(C11=1,1,0)) -> 0 | AM11: =((IF(D11="j",1,0))+(IF(D11="p",1,0)))+(IF(D11=1,1,0)) -> 0 | AN11: =((IF(E11="j",1,0))+(IF(E11="p",1,0)))+(IF(E11=1,1,0)) -> 0 | AO11: =((IF(F11="j",1,0))+(IF(F11="p",1,0)))+(IF(F11=1,1,0)) -> 0 | AP11: =((IF(G11="j",1,0))+(IF(G11="p",1,0)))+(IF(G11=1,1,0)) -> 0 | AQ11: =((IF(H11="j",1,0))+(IF(H11="p",1,0)))+(IF(H11=1,1,0)) -> 0 | AR11: =((IF(I11="j",1,0))+(IF(I11="p",1,0)))+(IF(I11=1,1,0)) -> 0 | ... BD11: =((IF(U11="j",1,0))+(IF(U11="p",1,0)))+(IF(U11=1,1,0)) -> 0
A12: MICHAEL JR. OUELLETTE | V12: =SUM(AK12:BD12) -> 0 | AK12: =((IF(B12="j",1,0))+(IF(B12="p",1,0)))+(IF(B12=1,1,0)) -> 0 | AL12: =((IF(C12="j",1,0))+(IF(C12="p",1,0)))+(IF(C12=1,1,0)) -> 0 | AM12: =((IF(D12="j",1,0))+(IF(D12="p",1,0)))+(IF(D12=1,1,0)) -> 0 | AN12: =((IF(E12="j",1,0))+(IF(E12="p",1,0)))+(IF(E12=1,1,0)) -> 0 | AO12: =((IF(F12="j",1,0))+(IF(F12="p",1,0)))+(IF(F12=1,1,0)) -> 0 | AP12: =((IF(G12="j",1,0))+(IF(G12="p",1,0)))+(IF(G12=1,1,0)) -> 0 | AQ12: =((IF(H12="j",1,0))+(IF(H12="p",1,0)))+(IF(H12=1,1,0)) -> 0 | AR12: =((IF(I12="j",1,0))+(IF(I12="p",1,0)))+(IF(I12=1,1,0)) -> 0 | ... BD12: =((IF(U12="j",1,0))+(IF(U12="p",1,0)))+(IF(U12=1,1,0)) -> 0
A13: MYLAN COTÉ | V13: =SUM(AK13:BD13) -> 0 | AK13: =((IF(B13="j",1,0))+(IF(B13="p",1,0)))+(IF(B13=1,1,0)) -> 0 | AL13: =((IF(C13="j",1,0))+(IF(C13="p",1,0)))+(IF(C13=1,1,0)) -> 0 | AM13: =((IF(D13="j",1,0))+(IF(D13="p",1,0)))+(IF(D13=1,1,0)) -> 0 | AN13: =((IF(E13="j",1,0))+(IF(E13="p",1,0)))+(IF(E13=1,1,0)) -> 0 | AO13: =((IF(F13="j",1,0))+(IF(F13="p",1,0)))+(IF(F13=1,1,0)) -> 0 | AP13: =((IF(G13="j",1,0))+(IF(G13="p",1,0)))+(IF(G13=1,1,0)) -> 0 | AQ13: =((IF(H13="j",1,0))+(IF(H13="p",1,0)))+(IF(H13=1,1,0)) -> 0 | AR13: =((IF(I13="j",1,0))+(IF(I13="p",1,0)))+(IF(I13=1,1,0)) -> 0 | ... BD13: =((IF(U13="j",1,0))+(IF(U13="p",1,0)))+(IF(U13=1,1,0)) -> 0
A14: SAMUEL GAGNÉ | V14: =SUM(AK14:BD14) -> 0 | AK14: =((IF(B14="j",1,0))+(IF(B14="p",1,0)))+(IF(B14=1,1,0)) -> 0 | AL14: =((IF(C14="j",1,0))+(IF(C14="p",1,0)))+(IF(C14=1,1,0)) -> 0 | AM14: =((IF(D14="j",1,0))+(IF(D14="p",1,0)))+(IF(D14=1,1,0)) -> 0 | AN14: =((IF(E14="j",1,0))+(IF(E14="p",1,0)))+(IF(E14=1,1,0)) -> 0 | AO14: =((IF(F14="j",1,0))+(IF(F14="p",1,0)))+(IF(F14=1,1,0)) -> 0 | AP14: =((IF(G14="j",1,0))+(IF(G14="p",1,0)))+(IF(G14=1,1,0)) -> 0 | AQ14: =((IF(H14="j",1,0))+(IF(H14="p",1,0)))+(IF(H14=1,1,0)) -> 0 | AR14: =((IF(I14="j",1,0))+(IF(I14="p",1,0)))+(IF(I14=1,1,0)) -> 0 | ... BD14: =((IF(U14="j",1,0))+(IF(U14="p",1,0)))+(IF(U14=1,1,0)) -> 0
A15: SAMUEL QUIRION | S15: 1 | V15: =SUM(AK15:BD15) -> 1 | AK15: =((IF(B15="j",1,0))+(IF(B15="p",1,0)))+(IF(B15=1,1,0)) -> 0 | AL15: =((IF(C15="j",1,0))+(IF(C15="p",1,0)))+(IF(C15=1,1,0)) -> 0 | AM15: =((IF(D15="j",1,0))+(IF(D15="p",1,0)))+(IF(D15=1,1,0)) -> 0 | AN15: =((IF(E15="j",1,0))+(IF(E15="p",1,0)))+(IF(E15=1,1,0)) -> 0 | AO15: =((IF(F15="j",1,0))+(IF(F15="p",1,0)))+(IF(F15=1,1,0)) -> 0 | AP15: =((IF(G15="j",1,0))+(IF(G15="p",1,0)))+(IF(G15=1,1,0)) -> 0 | AQ15: =((IF(H15="j",1,0))+(IF(H15="p",1,0)))+(IF(H15=1,1,0)) -> 0 | AR15: =((IF(I15="j",1,0))+(IF(I15="p",1,0)))+(IF(I15=1,1,0)) -> 0 | ... BD15: =((IF(U15="j",1,0))+(IF(U15="p",1,0)))+(IF(U15=1,1,0)) -> 0
A16: STEVEN PLANTE-CARRIERE | V16: =SUM(AK16:BD16) -> 0 | AK16: =((IF(B16="j",1,0))+(IF(B16="p",1,0)))+(IF(B16=1,1,0)) -> 0 | AL16: =((IF(C16="j",1,0))+(IF(C16="p",1,0)))+(IF(C16=1,1,0)) -> 0 | AM16: =((IF(D16="j",1,0))+(IF(D16="p",1,0)))+(IF(D16=1,1,0)) -> 0 | AN16: =((IF(E16="j",1,0))+(IF(E16="p",1,0)))+(IF(E16=1,1,0)) -> 0 | AO16: =((IF(F16="j",1,0))+(IF(F16="p",1,0)))+(IF(F16=1,1,0)) -> 0 | AP16: =((IF(G16="j",1,0))+(IF(G16="p",1,0)))+(IF(G16=1,1,0)) -> 0 | AQ16: =((IF(H16="j",1,0))+(IF(H16="p",1,0)))+(IF(H16=1,1,0)) -> 0 | AR16: =((IF(I16="j",1,0))+(IF(I16="p",1,0)))+(IF(I16=1,1,0)) -> 0 | ... BD16: =((IF(U16="j",1,0))+(IF(U16="p",1,0)))+(IF(U16=1,1,0)) -> 0
A17: ULRICK LALANCETTE | V17: =SUM(AK17:BD17) -> 0 | AK17: =((IF(B17="j",1,0))+(IF(B17="p",1,0)))+(IF(B17=1,1,0)) -> 0 | AL17: =((IF(C17="j",1,0))+(IF(C17="p",1,0)))+(IF(C17=1,1,0)) -> 0 | AM17: =((IF(D17="j",1,0))+(IF(D17="p",1,0)))+(IF(D17=1,1,0)) -> 0 | AN17: =((IF(E17="j",1,0))+(IF(E17="p",1,0)))+(IF(E17=1,1,0)) -> 0 | AO17: =((IF(F17="j",1,0))+(IF(F17="p",1,0)))+(IF(F17=1,1,0)) -> 0 | AP17: =((IF(G17="j",1,0))+(IF(G17="p",1,0)))+(IF(G17=1,1,0)) -> 0 | AQ17: =((IF(H17="j",1,0))+(IF(H17="p",1,0)))+(IF(H17=1,1,0)) -> 0 | AR17: =((IF(I17="j",1,0))+(IF(I17="p",1,0)))+(IF(I17=1,1,0)) -> 0 | ... BD17: =((IF(U17="j",1,0))+(IF(U17="p",1,0)))+(IF(U17=1,1,0)) -> 0
A18: ROGER | B18: 1 | D18: 1 | H18: 1 | V18: =SUM(AK18:BD18) -> 3 | AK18: =((IF(B18="j",1,0))+(IF(B18="p",1,0)))+(IF(B18=1,1,0)) -> 1 | AL18: =((IF(C18="j",1,0))+(IF(C18="p",1,0)))+(IF(C18=1,1,0)) -> 0 | AM18: =((IF(D18="j",1,0))+(IF(D18="p",1,0)))+(IF(D18=1,1,0)) -> 1 | AN18: =((IF(E18="j",1,0))+(IF(E18="p",1,0)))+(IF(E18=1,1,0)) -> 0 | AO18: =((IF(F18="j",1,0))+(IF(F18="p",1,0)))+(IF(F18=1,1,0)) -> 0 | AP18: =((IF(G18="j",1,0))+(IF(G18="p",1,0)))+(IF(G18=1,1,0)) -> 0 | AQ18: =((IF(H18="j",1,0))+(IF(H18="p",1,0)))+(IF(H18=1,1,0)) -> 1 | AR18: =((IF(I18="j",1,0))+(IF(I18="p",1,0)))+(IF(I18=1,1,0)) -> 0 | ... BD18: =((IF(U18="j",1,0))+(IF(U18="p",1,0)))+(IF(U18=1,1,0)) -> 0
V19: =SUM(AK19:BD19) -> 0 | AK19: =((IF(B19="j",1,0))+(IF(B19="p",1,0)))+(IF(B19=1,1,0)) -> 0 | AL19: =((IF(C19="j",1,0))+(IF(C19="p",1,0)))+(IF(C19=1,1,0)) -> 0 | AM19: =((IF(D19="j",1,0))+(IF(D19="p",1,0)))+(IF(D19=1,1,0)) -> 0 | AN19: =((IF(E19="j",1,0))+(IF(E19="p",1,0)))+(IF(E19=1,1,0)) -> 0 | AO19: =((IF(F19="j",1,0))+(IF(F19="p",1,0)))+(IF(F19=1,1,0)) -> 0 | AP19: =((IF(G19="j",1,0))+(IF(G19="p",1,0)))+(IF(G19=1,1,0)) -> 0 | AQ19: =((IF(H19="j",1,0))+(IF(H19="p",1,0)))+(IF(H19=1,1,0)) -> 0 | AR19: =((IF(I19="j",1,0))+(IF(I19="p",1,0)))+(IF(I19=1,1,0)) -> 0 | ... BD19: =((IF(U19="j",1,0))+(IF(U19="p",1,0)))+(IF(U19=1,1,0)) -> 0
V20: =SUM(AK20:BD20) -> 0 | AK20: =((IF(B20="j",1,0))+(IF(B20="p",1,0)))+(IF(B20=1,1,0)) -> 0 | AL20: =((IF(C20="j",1,0))+(IF(C20="p",1,0)))+(IF(C20=1,1,0)) -> 0 | AM20: =((IF(D20="j",1,0))+(IF(D20="p",1,0)))+(IF(D20=1,1,0)) -> 0 | AN20: =((IF(E20="j",1,0))+(IF(E20="p",1,0)))+(IF(E20=1,1,0)) -> 0 | AO20: =((IF(F20="j",1,0))+(IF(F20="p",1,0)))+(IF(F20=1,1,0)) -> 0 | AP20: =((IF(G20="j",1,0))+(IF(G20="p",1,0)))+(IF(G20=1,1,0)) -> 0 | AQ20: =((IF(H20="j",1,0))+(IF(H20="p",1,0)))+(IF(H20=1,1,0)) -> 0 | AR20: =((IF(I20="j",1,0))+(IF(I20="p",1,0)))+(IF(I20=1,1,0)) -> 0 | ... BD20: =((IF(U20="j",1,0))+(IF(U20="p",1,0)))+(IF(U20=1,1,0)) -> 0
V21: =SUM(AK21:BD21) -> 0 | AK21: =((IF(B21="j",1,0))+(IF(B21="p",1,0)))+(IF(B21=1,1,0)) -> 0 | AL21: =((IF(C21="j",1,0))+(IF(C21="p",1,0)))+(IF(C21=1,1,0)) -> 0 | AM21: =((IF(D21="j",1,0))+(IF(D21="p",1,0)))+(IF(D21=1,1,0)) -> 0 | AN21: =((IF(E21="j",1,0))+(IF(E21="p",1,0)))+(IF(E21=1,1,0)) -> 0 | AO21: =((IF(F21="j",1,0))+(IF(F21="p",1,0)))+(IF(F21=1,1,0)) -> 0 | AP21: =((IF(G21="j",1,0))+(IF(G21="p",1,0)))+(IF(G21=1,1,0)) -> 0 | AQ21: =((IF(H21="j",1,0))+(IF(H21="p",1,0)))+(IF(H21=1,1,0)) -> 0 | AR21: =((IF(I21="j",1,0))+(IF(I21="p",1,0)))+(IF(I21=1,1,0)) -> 0 | ... BD21: =((IF(U21="j",1,0))+(IF(U21="p",1,0)))+(IF(U21=1,1,0)) -> 0
V22: =SUM(AK22:BD22) -> 0 | AK22: =((IF(B22="j",1,0))+(IF(B22="p",1,0)))+(IF(B22=1,1,0)) -> 0 | AL22: =((IF(C22="j",1,0))+(IF(C22="p",1,0)))+(IF(C22=1,1,0)) -> 0 | AM22: =((IF(D22="j",1,0))+(IF(D22="p",1,0)))+(IF(D22=1,1,0)) -> 0 | AN22: =((IF(E22="j",1,0))+(IF(E22="p",1,0)))+(IF(E22=1,1,0)) -> 0 | AO22: =((IF(F22="j",1,0))+(IF(F22="p",1,0)))+(IF(F22=1,1,0)) -> 0 | AP22: =((IF(G22="j",1,0))+(IF(G22="p",1,0)))+(IF(G22=1,1,0)) -> 0 | AQ22: =((IF(H22="j",1,0))+(IF(H22="p",1,0)))+(IF(H22=1,1,0)) -> 0 | AR22: =((IF(I22="j",1,0))+(IF(I22="p",1,0)))+(IF(I22=1,1,0)) -> 0 | ... BD22: =((IF(U22="j",1,0))+(IF(U22="p",1,0)))+(IF(U22=1,1,0)) -> 0
V23: =SUM(AK23:BD23) -> 0 | AK23: =((IF(B23="j",1,0))+(IF(B23="p",1,0)))+(IF(B23=1,1,0)) -> 0 | AL23: =((IF(C23="j",1,0))+(IF(C23="p",1,0)))+(IF(C23=1,1,0)) -> 0 | AM23: =((IF(D23="j",1,0))+(IF(D23="p",1,0)))+(IF(D23=1,1,0)) -> 0 | AN23: =((IF(E23="j",1,0))+(IF(E23="p",1,0)))+(IF(E23=1,1,0)) -> 0 | AO23: =((IF(F23="j",1,0))+(IF(F23="p",1,0)))+(IF(F23=1,1,0)) -> 0 | AP23: =((IF(G23="j",1,0))+(IF(G23="p",1,0)))+(IF(G23=1,1,0)) -> 0 | AQ23: =((IF(H23="j",1,0))+(IF(H23="p",1,0)))+(IF(H23=1,1,0)) -> 0 | AR23: =((IF(I23="j",1,0))+(IF(I23="p",1,0)))+(IF(I23=1,1,0)) -> 0 | ... BD23: =((IF(U23="j",1,0))+(IF(U23="p",1,0)))+(IF(U23=1,1,0)) -> 0
V24: =SUM(AK24:BD24) -> 0 | AK24: =((IF(B24="j",1,0))+(IF(B24="p",1,0)))+(IF(B24=1,1,0)) -> 0 | AL24: =((IF(C24="j",1,0))+(IF(C24="p",1,0)))+(IF(C24=1,1,0)) -> 0 | AM24: =((IF(D24="j",1,0))+(IF(D24="p",1,0)))+(IF(D24=1,1,0)) -> 0 | AN24: =((IF(E24="j",1,0))+(IF(E24="p",1,0)))+(IF(E24=1,1,0)) -> 0 | AO24: =((IF(F24="j",1,0))+(IF(F24="p",1,0)))+(IF(F24=1,1,0)) -> 0 | AP24: =((IF(G24="j",1,0))+(IF(G24="p",1,0)))+(IF(G24=1,1,0)) -> 0 | AQ24: =((IF(H24="j",1,0))+(IF(H24="p",1,0)))+(IF(H24=1,1,0)) -> 0 | AR24: =((IF(I24="j",1,0))+(IF(I24="p",1,0)))+(IF(I24=1,1,0)) -> 0 | ... BD24: =((IF(U24="j",1,0))+(IF(U24="p",1,0)))+(IF(U24=1,1,0)) -> 0
V25: =SUM(AK25:BD25) -> 0 | AK25: =((IF(B25="j",1,0))+(IF(B25="p",1,0)))+(IF(B25=1,1,0)) -> 0 | AL25: =((IF(C25="j",1,0))+(IF(C25="p",1,0)))+(IF(C25=1,1,0)) -> 0 | AM25: =((IF(D25="j",1,0))+(IF(D25="p",1,0)))+(IF(D25=1,1,0)) -> 0 | AN25: =((IF(E25="j",1,0))+(IF(E25="p",1,0)))+(IF(E25=1,1,0)) -> 0 | AO25: =((IF(F25="j",1,0))+(IF(F25="p",1,0)))+(IF(F25=1,1,0)) -> 0 | AP25: =((IF(G25="j",1,0))+(IF(G25="p",1,0)))+(IF(G25=1,1,0)) -> 0 | AQ25: =((IF(H25="j",1,0))+(IF(H25="p",1,0)))+(IF(H25=1,1,0)) -> 0 | AR25: =((IF(I25="j",1,0))+(IF(I25="p",1,0)))+(IF(I25=1,1,0)) -> 0 | ... BD25: =((IF(U25="j",1,0))+(IF(U25="p",1,0)))+(IF(U25=1,1,0)) -> 0
V26: =SUM(AK26:BD26) -> 0 | AK26: =((IF(B26="j",1,0))+(IF(B26="p",1,0)))+(IF(B26=1,1,0)) -> 0 | AL26: =((IF(C26="j",1,0))+(IF(C26="p",1,0)))+(IF(C26=1,1,0)) -> 0 | AM26: =((IF(D26="j",1,0))+(IF(D26="p",1,0)))+(IF(D26=1,1,0)) -> 0 | AN26: =((IF(E26="j",1,0))+(IF(E26="p",1,0)))+(IF(E26=1,1,0)) -> 0 | AO26: =((IF(F26="j",1,0))+(IF(F26="p",1,0)))+(IF(F26=1,1,0)) -> 0 | AP26: =((IF(G26="j",1,0))+(IF(G26="p",1,0)))+(IF(G26=1,1,0)) -> 0 | AQ26: =((IF(H26="j",1,0))+(IF(H26="p",1,0)))+(IF(H26=1,1,0)) -> 0 | AR26: =((IF(I26="j",1,0))+(IF(I26="p",1,0)))+(IF(I26=1,1,0)) -> 0 | ... BD26: =((IF(U26="j",1,0))+(IF(U26="p",1,0)))+(IF(U26=1,1,0)) -> 0
V27: =SUM(AK27:BD27) -> 0 | AK27: =((IF(B27="j",1,0))+(IF(B27="p",1,0)))+(IF(B27=1,1,0)) -> 0 | AL27: =((IF(C27="j",1,0))+(IF(C27="p",1,0)))+(IF(C27=1,1,0)) -> 0 | AM27: =((IF(D27="j",1,0))+(IF(D27="p",1,0)))+(IF(D27=1,1,0)) -> 0 | AN27: =((IF(E27="j",1,0))+(IF(E27="p",1,0)))+(IF(E27=1,1,0)) -> 0 | AO27: =((IF(F27="j",1,0))+(IF(F27="p",1,0)))+(IF(F27=1,1,0)) -> 0 | AP27: =((IF(G27="j",1,0))+(IF(G27="p",1,0)))+(IF(G27=1,1,0)) -> 0 | AQ27: =((IF(H27="j",1,0))+(IF(H27="p",1,0)))+(IF(H27=1,1,0)) -> 0 | AR27: =((IF(I27="j",1,0))+(IF(I27="p",1,0)))+(IF(I27=1,1,0)) -> 0 | ... BD27: =((IF(U27="j",1,0))+(IF(U27="p",1,0)))+(IF(U27=1,1,0)) -> 0
V28: =SUM(AK28:BD28) -> 0 | AK28: =((IF(B28="j",1,0))+(IF(B28="p",1,0)))+(IF(B28=1,1,0)) -> 0 | AL28: =((IF(C28="j",1,0))+(IF(C28="p",1,0)))+(IF(C28=1,1,0)) -> 0 | AM28: =((IF(D28="j",1,0))+(IF(D28="p",1,0)))+(IF(D28=1,1,0)) -> 0 | AN28: =((IF(E28="j",1,0))+(IF(E28="p",1,0)))+(IF(E28=1,1,0)) -> 0 | AO28: =((IF(F28="j",1,0))+(IF(F28="p",1,0)))+(IF(F28=1,1,0)) -> 0 | AP28: =((IF(G28="j",1,0))+(IF(G28="p",1,0)))+(IF(G28=1,1,0)) -> 0 | AQ28: =((IF(H28="j",1,0))+(IF(H28="p",1,0)))+(IF(H28=1,1,0)) -> 0 | AR28: =((IF(I28="j",1,0))+(IF(I28="p",1,0)))+(IF(I28=1,1,0)) -> 0 | ... BD28: =((IF(U28="j",1,0))+(IF(U28="p",1,0)))+(IF(U28=1,1,0)) -> 0
V29: =SUM(AK29:BD29) -> 0 | AK29: =((IF(B29="j",1,0))+(IF(B29="p",1,0)))+(IF(B29=1,1,0)) -> 0 | AL29: =((IF(C29="j",1,0))+(IF(C29="p",1,0)))+(IF(C29=1,1,0)) -> 0 | AM29: =((IF(D29="j",1,0))+(IF(D29="p",1,0)))+(IF(D29=1,1,0)) -> 0 | AN29: =((IF(E29="j",1,0))+(IF(E29="p",1,0)))+(IF(E29=1,1,0)) -> 0 | AO29: =((IF(F29="j",1,0))+(IF(F29="p",1,0)))+(IF(F29=1,1,0)) -> 0 | AP29: =((IF(G29="j",1,0))+(IF(G29="p",1,0)))+(IF(G29=1,1,0)) -> 0 | AQ29: =((IF(H29="j",1,0))+(IF(H29="p",1,0)))+(IF(H29=1,1,0)) -> 0 | AR29: =((IF(I29="j",1,0))+(IF(I29="p",1,0)))+(IF(I29=1,1,0)) -> 0 | ... BD29: =((IF(U29="j",1,0))+(IF(U29="p",1,0)))+(IF(U29=1,1,0)) -> 0
V30: =SUM(AK30:BD30) -> 0 | AK30: =((IF(B30="j",1,0))+(IF(B30="p",1,0)))+(IF(B30=1,1,0)) -> 0 | AL30: =((IF(C30="j",1,0))+(IF(C30="p",1,0)))+(IF(C30=1,1,0)) -> 0 | AM30: =((IF(D30="j",1,0))+(IF(D30="p",1,0)))+(IF(D30=1,1,0)) -> 0 | AN30: =((IF(E30="j",1,0))+(IF(E30="p",1,0)))+(IF(E30=1,1,0)) -> 0 | AO30: =((IF(F30="j",1,0))+(IF(F30="p",1,0)))+(IF(F30=1,1,0)) -> 0 | AP30: =((IF(G30="j",1,0))+(IF(G30="p",1,0)))+(IF(G30=1,1,0)) -> 0 | AQ30: =((IF(H30="j",1,0))+(IF(H30="p",1,0)))+(IF(H30=1,1,0)) -> 0 | AR30: =((IF(I30="j",1,0))+(IF(I30="p",1,0)))+(IF(I30=1,1,0)) -> 0 | ... BD30: =((IF(U30="j",1,0))+(IF(U30="p",1,0)))+(IF(U30=1,1,0)) -> 0
... V85: =SUM(AK85:BD85) -> 0 | AK85: =((IF(B85="j",1,0))+(IF(B85="p",1,0)))+(IF(B85=1,1,0)) -> 0 | AL85: =((IF(C85="j",1,0))+(IF(C85="p",1,0)))+(IF(C85=1,1,0)) -> 0 | AM85: =((IF(D85="j",1,0))+(IF(D85="p",1,0)))+(IF(D85=1,1,0)) -> 0 | AN85: =((IF(E85="j",1,0))+(IF(E85="p",1,0)))+(IF(E85=1,1,0)) -> 0 | AO85: =((IF(F85="j",1,0))+(IF(F85="p",1,0)))+(IF(F85=1,1,0)) -> 0 | AP85: =((IF(G85="j",1,0))+(IF(G85="p",1,0)))+(IF(G85=1,1,0)) -> 0 | AQ85: =((IF(H85="j",1,0))+(IF(H85="p",1,0)))+(IF(H85=1,1,0)) -> 0 | AR85: =((IF(I85="j",1,0))+(IF(I85="p",1,0)))+(IF(I85=1,1,0)) -> 0 | ... BD85: =((IF(U85="j",1,0))+(IF(U85="p",1,0)))+(IF(U85=1,1,0)) -> 0
A86: TOTAUX | B86: =SUM(AK3:AK85) -> 1 | C86: =SUM(AL3:AL85) -> 0 | D86: =SUM(AM3:AM85) -> 1 | E86: =SUM(AN3:AN85) -> 0 | F86: =SUM(AO3:AO85) -> 0 | G86: =SUM(AP3:AP85) -> 0 | H86: =SUM(AQ3:AQ85) -> 1 | I86: =SUM(AR3:AR85) -> 0 | ... U86: =SUM(BD3:BD85) -> 0

Sheet 1er
B1: Semaine 1 | G1: Semaine 2 | L1: Semaine 3 | Q1: Semaine 4
A2: 1ère année | B2: =Cumulatif!A4 -> 25 | C2: =Cumulatif!B4 -> 26 | D2: =Cumulatif!C4 -> 27 | E2: =Cumulatif!D4 -> 28 | F2: =Cumulatif!E4 -> 29 | G2: =Cumulatif!F4 -> 1 | H2: =Cumulatif!G4 -> 2 | I2: =Cumulatif!H4 -> 3 | ... U2: =Cumulatif!T4 -> 19
A3: ALEXA BRUNELLE | S3: 1 | V3: =SUM(AK3:BD3) -> 1 | AK3: =((IF(B3="j",1,0))+(IF(B3="p",1,0)))+(IF(B3=1,1,0)) -> 0 | AL3: =((IF(C3="j",1,0))+(IF(C3="p",1,0)))+(IF(C3=1,1,0)) -> 0 | AM3: =((IF(D3="j",1,0))+(IF(D3="p",1,0)))+(IF(D3=1,1,0)) -> 0 | AN3: =((IF(E3="j",1,0))+(IF(E3="p",1,0)))+(IF(E3=1,1,0)) -> 0 | AO3: =((IF(F3="j",1,0))+(IF(F3="p",1,0)))+(IF(F3=1,1,0)) -> 0 | AP3: =((IF(G3="j",1,0))+(IF(G3="p",1,0)))+(IF(G3=1,1,0)) -> 0 | AQ3: =((IF(H3="j",1,0))+(IF(H3="p",1,0)))+(IF(H3=1,1,0)) -> 0 | AR3: =((IF(I3="j",1,0))+(IF(I3="p",1,0)))+(IF(I3=1,1,0)) -> 0 | ... BD3: =((IF(U3="j",1,0))+(IF(U3="p",1,0)))+(IF(U3=1,1,0)) -> 0
A4: ALICE PATRY | V4: =SUM(AK4:BD4) -> 0 | AK4: =((IF(B4="j",1,0))+(IF(B4="p",1,0)))+(IF(B4=1,1,0)) -> 0 | AL4: =((IF(C4="j",1,0))+(IF(C4="p",1,0)))+(IF(C4=1,1,0)) -> 0 | AM4: =((IF(D4="j",1,0))+(IF(D4="p",1,0)))+(IF(D4=1,1,0)) -> 0 | AN4: =((IF(E4="j",1,0))+(IF(E4="p",1,0)))+(IF(E4=1,1,0)) -> 0 | AO4: =((IF(F4="j",1,0))+(IF(F4="p",1,0)))+(IF(F4=1,1,0)) -> 0 | AP4: =((IF(G4="j",1,0))+(IF(G4="p",1,0)))+(IF(G4=1,1,0)) -> 0 | AQ4: =((IF(H4="j",1,0))+(IF(H4="p",1,0)))+(IF(H4=1,1,0)) -> 0 | AR4: =((IF(I4="j",1,0))+(IF(I4="p",1,0)))+(IF(I4=1,1,0)) -> 0 | ... BD4: =((IF(U4="j",1,0))+(IF(U4="p",1,0)))+(IF(U4=1,1,0)) -> 0
A5: CHRISTOPHER DEBENATH | V5: =SUM(AK5:BD5) -> 0 | AK5: =((IF(B5="j",1,0))+(IF(B5="p",1,0)))+(IF(B5=1,1,0)) -> 0 | AL5: =((IF(C5="j",1,0))+(IF(C5="p",1,0)))+(IF(C5=1,1,0)) -> 0 | AM5: =((IF(D5="j",1,0))+(IF(D5="p",1,0)))+(IF(D5=1,1,0)) -> 0 | AN5: =((IF(E5="j",1,0))+(IF(E5="p",1,0)))+(IF(E5=1,1,0)) -> 0 | AO5: =((IF(F5="j",1,0))+(IF(F5="p",1,0)))+(IF(F5=1,1,0)) -> 0 | AP5: =((IF(G5="j",1,0))+(IF(G5="p",1,0)))+(IF(G5=1,1,0)) -> 0 | AQ5: =((IF(H5="j",1,0))+(IF(H5="p",1,0)))+(IF(H5=1,1,0)) -> 0 | AR5: =((IF(I5="j",1,0))+(IF(I5="p",1,0)))+(IF(I5=1,1,0)) -> 0 | ... BD5: =((IF(U5="j",1,0))+(IF(U5="p",1,0)))+(IF(U5=1,1,0)) -> 0
A6: HAMADY SOW | S6: 1 | V6: =SUM(AK6:BD6) -> 1 | AK6: =((IF(B6="j",1,0))+(IF(B6="p",1,0)))+(IF(B6=1,1,0)) -> 0 | AL6: =((IF(C6="j",1,0))+(IF(C6="p",1,0)))+(IF(C6=1,1,0)) -> 0 | AM6: =((IF(D6="j",1,0))+(IF(D6="p",1,0)))+(IF(D6=1,1,0)) -> 0 | AN6: =((IF(E6="j",1,0))+(IF(E6="p",1,0)))+(IF(E6=1,1,0)) -> 0 | AO6: =((IF(F6="j",1,0))+(IF(F6="p",1,0)))+(IF(F6=1,1,0)) -> 0 | AP6: =((IF(G6="j",1,0))+(IF(G6="p",1,0)))+(IF(G6=1,1,0)) -> 0 | AQ6: =((IF(H6="j",1,0))+(IF(H6="p",1,0)))+(IF(H6=1,1,0)) -> 0 | AR6: =((IF(I6="j",1,0))+(IF(I6="p",1,0)))+(IF(I6=1,1,0)) -> 0 | ... BD6: =((IF(U6="j",1,0))+(IF(U6="p",1,0)))+(IF(U6=1,1,0)) -> 0
A7: LAURENCE BEAULIEU | V7: =SUM(AK7:BD7) -> 0 | AK7: =((IF(B7="j",1,0))+(IF(B7="p",1,0)))+(IF(B7=1,1,0)) -> 0 | AL7: =((IF(C7="j",1,0))+(IF(C7="p",1,0)))+(IF(C7=1,1,0)) -> 0 | AM7: =((IF(D7="j",1,0))+(IF(D7="p",1,0)))+(IF(D7=1,1,0)) -> 0 | AN7: =((IF(E7="j",1,0))+(IF(E7="p",1,0)))+(IF(E7=1,1,0)) -> 0 | AO7: =((IF(F7="j",1,0))+(IF(F7="p",1,0)))+(IF(F7=1,1,0)) -> 0 | AP7: =((IF(G7="j",1,0))+(IF(G7="p",1,0)))+(IF(G7=1,1,0)) -> 0 | AQ7: =((IF(H7="j",1,0))+(IF(H7="p",1,0)))+(IF(H7=1,1,0)) -> 0 | AR7: =((IF(I7="j",1,0))+(IF(I7="p",1,0)))+(IF(I7=1,1,0)) -> 0 | ... BD7: =((IF(U7="j",1,0))+(IF(U7="p",1,0)))+(IF(U7=1,1,0)) -> 0
A8: LOICK LAJEUNESSE | S8: 1 | V8: =SUM(AK8:BD8) -> 1 | AK8: =((IF(B8="j",1,0))+(IF(B8="p",1,0)))+(IF(B8=1,1,0)) -> 0 | AL8: =((IF(C8="j",1,0))+(IF(C8="p",1,0)))+(IF(C8=1,1,0)) -> 0 | AM8: =((IF(D8="j",1,0))+(IF(D8="p",1,0)))+(IF(D8=1,1,0)) -> 0 | AN8: =((IF(E8="j",1,0))+(IF(E8="p",1,0)))+(IF(E8=1,1,0)) -> 0 | AO8: =((IF(F8="j",1,0))+(IF(F8="p",1,0)))+(IF(F8=1,1,0)) -> 0 | AP8: =((IF(G8="j",1,0))+(IF(G8="p",1,0)))+(IF(G8=1,1,0)) -> 0 | AQ8: =((IF(H8="j",1,0))+(IF(H8="p",1,0)))+(IF(H8=1,1,0)) -> 0 | AR8: =((IF(I8="j",1,0))+(IF(I8="p",1,0)))+(IF(I8=1,1,0)) -> 0 | ... BD8: =((IF(U8="j",1,0))+(IF(U8="p",1,0)))+(IF(U8=1,1,0)) -> 0
A9: MAIKA LAJEUNESSE | S9: 1 | V9: =SUM(AK9:BD9) -> 1 | AK9: =((IF(B9="j",1,0))+(IF(B9="p",1,0)))+(IF(B9=1,1,0)) -> 0 | AL9: =((IF(C9="j",1,0))+(IF(C9="p",1,0)))+(IF(C9=1,1,0)) -> 0 | AM9: =((IF(D9="j",1,0))+(IF(D9="p",1,0)))+(IF(D9=1,1,0)) -> 0 | AN9: =((IF(E9="j",1,0))+(IF(E9="p",1,0)))+(IF(E9=1,1,0)) -> 0 | AO9: =((IF(F9="j",1,0))+(IF(F9="p",1,0)))+(IF(F9=1,1,0)) -> 0 | AP9: =((IF(G9="j",1,0))+(IF(G9="p",1,0)))+(IF(G9=1,1,0)) -> 0 | AQ9: =((IF(H9="j",1,0))+(IF(H9="p",1,0)))+(IF(H9=1,1,0)) -> 0 | AR9: =((IF(I9="j",1,0))+(IF(I9="p",1,0)))+(IF(I9=1,1,0)) -> 0 | ... BD9: =((IF(U9="j",1,0))+(IF(U9="p",1,0)))+(IF(U9=1,1,0)) -> 0
A10: Mathis Lecompte | V10: =SUM(AK10:BD10) -> 0 | AK10: =((IF(B10="j",1,0))+(IF(B10="p",1,0)))+(IF(B10=1,1,0)) -> 0 | AL10: =((IF(C10="j",1,0))+(IF(C10="p",1,0)))+(IF(C10=1,1,0)) -> 0 | AM10: =((IF(D10="j",1,0))+(IF(D10="p",1,0)))+(IF(D10=1,1,0)) -> 0 | AN10: =((IF(E10="j",1,0))+(IF(E10="p",1,0)))+(IF(E10=1,1,0)) -> 0 | AO10: =((IF(F10="j",1,0))+(IF(F10="p",1,0)))+(IF(F10=1,1,0)) -> 0 | AP10: =((IF(G10="j",1,0))+(IF(G10="p",1,0)))+(IF(G10=1,1,0)) -> 0 | AQ10: =((IF(H10="j",1,0))+(IF(H10="p",1,0)))+(IF(H10=1,1,0)) -> 0 | AR10: =((IF(I10="j",1,0))+(IF(I10="p",1,0)))+(IF(I10=1,1,0)) -> 0 | ... BD10: =((IF(U10="j",1,0))+(IF(U10="p",1,0)))+(IF(U10=1,1,0)) -> 0
A11: Mick-Ange Milien | V11: =SUM(AK11:BD11) -> 0 | AK11: =((IF(B11="j",1,0))+(IF(B11="p",1,0)))+(IF(B11=1,1,0)) -> 0 | AL11: =((IF(C11="j",1,0))+(IF(C11="p",1,0)))+(IF(C11=1,1,0)) -> 0 | AM11: =((IF(D11="j",1,0))+(IF(D11="p",1,0)))+(IF(D11=1,1,0)) -> 0 | AN11: =((IF(E11="j",1,0))+(IF(E11="p",1,0)))+(IF(E11=1,1,0)) -> 0 | AO11: =((IF(F11="j",1,0))+(IF(F11="p",1,0)))+(IF(F11=1,1,0)) -> 0 | AP11: =((IF(G11="j",1,0))+(IF(G11="p",1,0)))+(IF(G11=1,1,0)) -> 0 | AQ11: =((IF(H11="j",1,0))+(IF(H11="p",1,0)))+(IF(H11=1,1,0)) -> 0 | AR11: =((IF(I11="j",1,0))+(IF(I11="p",1,0)))+(IF(I11=1,1,0)) -> 0 | ... BD11: =((IF(U11="j",1,0))+(IF(U11="p",1,0)))+(IF(U11=1,1,0)) -> 0
V12: =SUM(AK12:BD12) -> 0 | AK12: =((IF(B12="j",1,0))+(IF(B12="p",1,0)))+(IF(B12=1,1,0)) -> 0 | AL12: =((IF(C12="j",1,0))+(IF(C12="p",1,0)))+(IF(C12=1,1,0)) -> 0 | AM12: =((IF(D12="j",1,0))+(IF(D12="p",1,0)))+(IF(D12=1,1,0)) -> 0 | AN12: =((IF(E12="j",1,0))+(IF(E12="p",1,0)))+(IF(E12=1,1,0)) -> 0 | AO12: =((IF(F12="j",1,0))+(IF(F12="p",1,0)))+(IF(F12=1,1,0)) -> 0 | AP12: =((IF(G12="j",1,0))+(IF(G12="p",1,0)))+(IF(G12=1,1,0)) -> 0 | AQ12: =((IF(H12="j",1,0))+(IF(H12="p",1,0)))+(IF(H12=1,1,0)) -> 0 | AR12: =((IF(I12="j",1,0))+(IF(I12="p",1,0)))+(IF(I12=1,1,0)) -> 0 | ... BD12: =((IF(U12="j",1,0))+(IF(U12="p",1,0)))+(IF(U12=1,1,0)) -> 0
V13: =SUM(AK13:BD13) -> 0 | AK13: =((IF(B13="j",1,0))+(IF(B13="p",1,0)))+(IF(B13=1,1,0)) -> 0 | AL13: =((IF(C13="j",1,0))+(IF(C13="p",1,0)))+(IF(C13=1,1,0)) -> 0 | AM13: =((IF(D13="j",1,0))+(IF(D13="p",1,0)))+(IF(D13=1,1,0)) -> 0 | AN13: =((IF(E13="j",1,0))+(IF(E13="p",1,0)))+(IF(E13=1,1,0)) -> 0 | AO13: =((IF(F13="j",1,0))+(IF(F13="p",1,0)))+(IF(F13=1,1,0)) -> 0 | AP13: =((IF(G13="j",1,0))+(IF(G13="p",1,0)))+(IF(G13=1,1,0)) -> 0 | AQ13: =((IF(H13="j",1,0))+(IF(H13="p",1,0)))+(IF(H13=1,1,0)) -> 0 | AR13: =((IF(I13="j",1,0))+(IF(I13="p",1,0)))+(IF(I13=1,1,0)) -> 0 | ... BD13: =((IF(U13="j",1,0))+(IF(U13="p",1,0)))+(IF(U13=1,1,0)) -> 0
V14: =SUM(AK14:BD14) -> 0 | AK14: =((IF(B14="j",1,0))+(IF(B14="p",1,0)))+(IF(B14=1,1,0)) -> 0 | AL14: =((IF(C14="j",1,0))+(IF(C14="p",1,0)))+(IF(C14=1,1,0)) -> 0 | AM14: =((IF(D14="j",1,0))+(IF(D14="p",1,0)))+(IF(D14=1,1,0)) -> 0 | AN14: =((IF(E14="j",1,0))+(IF(E14="p",1,0)))+(IF(E14=1,1,0)) -> 0 | AO14: =((IF(F14="j",1,0))+(IF(F14="p",1,0)))+(IF(F14=1,1,0)) -> 0 | AP14: =((IF(G14="j",1,0))+(IF(G14="p",1,0)))+(IF(G14=1,1,0)) -> 0 | AQ14: =((IF(H14="j",1,0))+(IF(H14="p",1,0)))+(IF(H14=1,1,0)) -> 0 | AR14: =((IF(I14="j",1,0))+(IF(I14="p",1,0)))+(IF(I14=1,1,0)) -> 0 | ... BD14: =((IF(U14="j",1,0))+(IF(U14="p",1,0)))+(IF(U14=1,1,0)) -> 0
V15: =SUM(AK15:BD15) -> 0 | AK15: =((IF(B15="j",1,0))+(IF(B15="p",1,0)))+(IF(B15=1,1,0)) -> 0 | AL15: =((IF(C15="j",1,0))+(IF(C15="p",1,0)))+(IF(C15=1,1,0)) -> 0 | AM15: =((IF(D15="j",1,0))+(IF(D15="p",1,0)))+(IF(D15=1,1,0)) -> 0 | AN15: =((IF(E15="j",1,0))+(IF(E15="p",1,0)))+(IF(E15=1,1,0)) -> 0 | AO15: =((IF(F15="j",1,0))+(IF(F15="p",1,0)))+(IF(F15=1,1,0)) -> 0 | AP15: =((IF(G15="j",1,0))+(IF(G15="p",1,0)))+(IF(G15=1,1,0)) -> 0 | AQ15: =((IF(H15="j",1,0))+(IF(H15="p",1,0)))+(IF(H15=1,1,0)) -> 0 | AR15: =((IF(I15="j",1,0))+(IF(I15="p",1,0)))+(IF(I15=1,1,0)) -> 0 | ... BD15: =((IF(U15="j",1,0))+(IF(U15="p",1,0)))+(IF(U15=1,1,0)) -> 0
V16: =SUM(AK16:BD16) -> 0 | AK16: =((IF(B16="j",1,0))+(IF(B16="p",1,0)))+(IF(B16=1,1,0)) -> 0 | AL16: =((IF(C16="j",1,0))+(IF(C16="p",1,0)))+(IF(C16=1,1,0)) -> 0 | AM16: =((IF(D16="j",1,0))+(IF(D16="p",1,0)))+(IF(D16=1,1,0)) -> 0 | AN16: =((IF(E16="j",1,0))+(IF(E16="p",1,0)))+(IF(E16=1,1,0)) -> 0 | AO16: =((IF(F16="j",1,0))+(IF(F16="p",1,0)))+(IF(F16=1,1,0)) -> 0 | AP16: =((IF(G16="j",1,0))+(IF(G16="p",1,0)))+(IF(G16=1,1,0)) -> 0 | AQ16: =((IF(H16="j",1,0))+(IF(H16="p",1,0)))+(IF(H16=1,1,0)) -> 0 | AR16: =((IF(I16="j",1,0))+(IF(I16="p",1,0)))+(IF(I16=1,1,0)) -> 0 | ... BD16: =((IF(U16="j",1,0))+(IF(U16="p",1,0)))+(IF(U16=1,1,0)) -> 0
V17: =SUM(AK17:BD17) -> 0 | AK17: =((IF(B17="j",1,0))+(IF(B17="p",1,0)))+(IF(B17=1,1,0)) -> 0 | AL17: =((IF(C17="j",1,0))+(IF(C17="p",1,0)))+(IF(C17=1,1,0)) -> 0 | AM17: =((IF(D17="j",1,0))+(IF(D17="p",1,0)))+(IF(D17=1,1,0)) -> 0 | AN17: =((IF(E17="j",1,0))+(IF(E17="p",1,0)))+(IF(E17=1,1,0)) -> 0 | AO17: =((IF(F17="j",1,0))+(IF(F17="p",1,0)))+(IF(F17=1,1,0)) -> 0 | AP17: =((IF(G17="j",1,0))+(IF(G17="p",1,0)))+(IF(G17=1,1,0)) -> 0 | AQ17: =((IF(H17="j",1,0))+(IF(H17="p",1,0)))+(IF(H17=1,1,0)) -> 0 | AR17: =((IF(I17="j",1,0))+(IF(I17="p",1,0)))+(IF(I17=1,1,0)) -> 0 | ... BD17: =((IF(U17="j",1,0))+(IF(U17="p",1,0)))+(IF(U17=1,1,0)) -> 0
V18: =SUM(AK18:BD18) -> 0 | AK18: =((IF(B18="j",1,0))+(IF(B18="p",1,0)))+(IF(B18=1,1,0)) -> 0 | AL18: =((IF(C18="j",1,0))+(IF(C18="p",1,0)))+(IF(C18=1,1,0)) -> 0 | AM18: =((IF(D18="j",1,0))+(IF(D18="p",1,0)))+(IF(D18=1,1,0)) -> 0 | AN18: =((IF(E18="j",1,0))+(IF(E18="p",1,0)))+(IF(E18=1,1,0)) -> 0 | AO18: =((IF(F18="j",1,0))+(IF(F18="p",1,0)))+(IF(F18=1,1,0)) -> 0 | AP18: =((IF(G18="j",1,0))+(IF(G18="p",1,0)))+(IF(G18=1,1,0)) -> 0 | AQ18: =((IF(H18="j",1,0))+(IF(H18="p",1,0)))+(IF(H18=1,1,0)) -> 0 | AR18: =((IF(I18="j",1,0))+(IF(I18="p",1,0)))+(IF(I18=1,1,0)) -> 0 | ... BD18: =((IF(U18="j",1,0))+(IF(U18="p",1,0)))+(IF(U18=1,1,0)) -> 0
V19: =SUM(AK19:BD19) -> 0 | AK19: =((IF(B19="j",1,0))+(IF(B19="p",1,0)))+(IF(B19=1,1,0)) -> 0 | AL19: =((IF(C19="j",1,0))+(IF(C19="p",1,0)))+(IF(C19=1,1,0)) -> 0 | AM19: =((IF(D19="j",1,0))+(IF(D19="p",1,0)))+(IF(D19=1,1,0)) -> 0 | AN19: =((IF(E19="j",1,0))+(IF(E19="p",1,0)))+(IF(E19=1,1,0)) -> 0 | AO19: =((IF(F19="j",1,0))+(IF(F19="p",1,0)))+(IF(F19=1,1,0)) -> 0 | AP19: =((IF(G19="j",1,0))+(IF(G19="p",1,0)))+(IF(G19=1,1,0)) -> 0 | AQ19: =((IF(H19="j",1,0))+(IF(H19="p",1,0)))+(IF(H19=1,1,0)) -> 0 | AR19: =((IF(I19="j",1,0))+(IF(I19="p",1,0)))+(IF(I19=1,1,0)) -> 0 | ... BD19: =((IF(U19="j",1,0))+(IF(U19="p",1,0)))+(IF(U19=1,1,0)) -> 0
V20: =SUM(AK20:BD20) -> 0 | AK20: =((IF(B20="j",1,0))+(IF(B20="p",1,0)))+(IF(B20=1,1,0)) -> 0 | AL20: =((IF(C20="j",1,0))+(IF(C20="p",1,0)))+(IF(C20=1,1,0)) -> 0 | AM20: =((IF(D20="j",1,0))+(IF(D20="p",1,0)))+(IF(D20=1,1,0)) -> 0 | AN20: =((IF(E20="j",1,0))+(IF(E20="p",1,0)))+(IF(E20=1,1,0)) -> 0 | AO20: =((IF(F20="j",1,0))+(IF(F20="p",1,0)))+(IF(F20=1,1,0)) -> 0 | AP20: =((IF(G20="j",1,0))+(IF(G20="p",1,0)))+(IF(G20=1,1,0)) -> 0 | AQ20: =((IF(H20="j",1,0))+(IF(H20="p",1,0)))+(IF(H20=1,1,0)) -> 0 | AR20: =((IF(I20="j",1,0))+(IF(I20="p",1,0)))+(IF(I20=1,1,0)) -> 0 | ... BD20: =((IF(U20="j",1,0))+(IF(U20="p",1,0)))+(IF(U20=1,1,0)) -> 0
V21: =SUM(AK21:BD21) -> 0 | AK21: =((IF(B21="j",1,0))+(IF(B21="p",1,0)))+(IF(B21=1,1,0)) -> 0 | AL21: =((IF(C21="j",1,0))+(IF(C21="p",1,0)))+(IF(C21=1,1,0)) -> 0 | AM21: =((IF(D21="j",1,0))+(IF(D21="p",1,0)))+(IF(D21=1,1,0)) -> 0 | AN21: =((IF(E21="j",1,0))+(IF(E21="p",1,0)))+(IF(E21=1,1,0)) -> 0 | AO21: =((IF(F21="j",1,0))+(IF(F21="p",1,0)))+(IF(F21=1,1,0)) -> 0 | AP21: =((IF(G21="j",1,0))+(IF(G21="p",1,0)))+(IF(G21=1,1,0)) -> 0 | AQ21: =((IF(H21="j",1,0))+(IF(H21="p",1,0)))+(IF(H21=1,1,0)) -> 0 | AR21: =((IF(I21="j",1,0))+(IF(I21="p",1,0)))+(IF(I21=1,1,0)) -> 0 | ... BD21: =((IF(U21="j",1,0))+(IF(U21="p",1,0)))+(IF(U21=1,1,0)) -> 0
V22: =SUM(AK22:BD22) -> 0 | AK22: =((IF(B22="j",1,0))+(IF(B22="p",1,0)))+(IF(B22=1,1,0)) -> 0 | AL22: =((IF(C22="j",1,0))+(IF(C22="p",1,0)))+(IF(C22=1,1,0)) -> 0 | AM22: =((IF(D22="j",1,0))+(IF(D22="p",1,0)))+(IF(D22=1,1,0)) -> 0 | AN22: =((IF(E22="j",1,0))+(IF(E22="p",1,0)))+(IF(E22=1,1,0)) -> 0 | AO22: =((IF(F22="j",1,0))+(IF(F22="p",1,0)))+(IF(F22=1,1,0)) -> 0 | AP22: =((IF(G22="j",1,0))+(IF(G22="p",1,0)))+(IF(G22=1,1,0)) -> 0 | AQ22: =((IF(H22="j",1,0))+(IF(H22="p",1,0)))+(IF(H22=1,1,0)) -> 0 | AR22: =((IF(I22="j",1,0))+(IF(I22="p",1,0)))+(IF(I22=1,1,0)) -> 0 | ... BD22: =((IF(U22="j",1,0))+(IF(U22="p",1,0)))+(IF(U22=1,1,0)) -> 0
V23: =SUM(AK23:BD23) -> 0 | AK23: =((IF(B23="j",1,0))+(IF(B23="p",1,0)))+(IF(B23=1,1,0)) -> 0 | AL23: =((IF(C23="j",1,0))+(IF(C23="p",1,0)))+(IF(C23=1,1,0)) -> 0 | AM23: =((IF(D23="j",1,0))+(IF(D23="p",1,0)))+(IF(D23=1,1,0)) -> 0 | AN23: =((IF(E23="j",1,0))+(IF(E23="p",1,0)))+(IF(E23=1,1,0)) -> 0 | AO23: =((IF(F23="j",1,0))+(IF(F23="p",1,0)))+(IF(F23=1,1,0)) -> 0 | AP23: =((IF(G23="j",1,0))+(IF(G23="p",1,0)))+(IF(G23=1,1,0)) -> 0 | AQ23: =((IF(H23="j",1,0))+(IF(H23="p",1,0)))+(IF(H23=1,1,0)) -> 0 | AR23: =((IF(I23="j",1,0))+(IF(I23="p",1,0)))+(IF(I23=1,1,0)) -> 0 | ... BD23: =((IF(U23="j",1,0))+(IF(U23="p",1,0)))+(IF(U23=1,1,0)) -> 0
... V85: =SUM(AK85:BD85) -> 0 | AK85: =((IF(B85="j",1,0))+(IF(B85="p",1,0)))+(IF(B85=1,1,0)) -> 0 | AL85: =((IF(C85="j",1,0))+(IF(C85="p",1,0)))+(IF(C85=1,1,0)) -> 0 | AM85: =((IF(D85="j",1,0))+(IF(D85="p",1,0)))+(IF(D85=1,1,0)) -> 0 | AN85: =((IF(E85="j",1,0))+(IF(E85="p",1,0)))+(IF(E85=1,1,0)) -> 0 | AO85: =((IF(F85="j",1,0))+(IF(F85="p",1,0)))+(IF(F85=1,1,0)) -> 0 | AP85: =((IF(G85="j",1,0))+(IF(G85="p",1,0)))+(IF(G85=1,1,0)) -> 0 | AQ85: =((IF(H85="j",1,0))+(IF(H85="p",1,0)))+(IF(H85=1,1,0)) -> 0 | AR85: =((IF(I85="j",1,0))+(IF(I85="p",1,0)))+(IF(I85=1,1,0)) -> 0 | ... BD85: =((IF(U85="j",1,0))+(IF(U85="p",1,0)))+(IF(U85=1,1,0)) -> 0
A86: TOTAUX | B86: =SUM(AK3:AK85) -> 0 | C86: =SUM(AL3:AL85) -> 0 | D86: =SUM(AM3:AM85) -> 0 | E86: =SUM(AN3:AN85) -> 0 | F86: =SUM(AO3:AO85) -> 0 | G86: =SUM(AP3:AP85) -> 0 | H86: =SUM(AQ3:AQ85) -> 0 | I86: =SUM(AR3:AR85) -> 0 | ... U86: =SUM(BD3:BD85) -> 0

Sheet 2ème
B1: Semaine 1 | G1: Semaine 2 | L1: Semaine 3 | Q1: Semaine 4
A2: 2ème année | B2: =Cumulatif!A4 -> 25 | C2: =Cumulatif!B4 -> 26 | D2: =Cumulatif!C4 -> 27 | E2: =Cumulatif!D4 -> 28 | F2: =Cumulatif!E4 -> 29 | G2: =Cumulatif!F4 -> 1 | H2: =Cumulatif!G4 -> 2 | I2: =Cumulatif!H4 -> 3 | ... U2: =Cumulatif!T4 -> 19
A3: ALEXIE SAVARD | V3: =SUM(AK3:BD3) -> 0 | AK3: =((IF(B3="j",1,0))+(IF(B3="p",1,0)))+(IF(B3=1,1,0)) -> 0 | AL3: =((IF(C3="j",1,0))+(IF(C3="p",1,0)))+(IF(C3=1,1,0)) -> 0 | AM3: =((IF(D3="j",1,0))+(IF(D3="p",1,0)))+(IF(D3=1,1,0)) -> 0 | AN3: =((IF(E3="j",1,0))+(IF(E3="p",1,0)))+(IF(E3=1,1,0)) -> 0 | AO3: =((IF(F3="j",1,0))+(IF(F3="p",1,0)))+(IF(F3=1,1,0)) -> 0 | AP3: =((IF(G3="j",1,0))+(IF(G3="p",1,0)))+(IF(G3=1,1,0)) -> 0 | AQ3: =((IF(H3="j",1,0))+(IF(H3="p",1,0)))+(IF(H3=1,1,0)) -> 0 | AR3: =((IF(I3="j",1,0))+(IF(I3="p",1,0)))+(IF(I3=1,1,0)) -> 0 | ... BD3: =((IF(U3="j",1,0))+(IF(U3="p",1,0)))+(IF(U3=1,1,0)) -> 0
A4: ALEXY LAROCHE | S4: 1 | V4: =SUM(AK4:BD4) -> 1 | AK4: =((IF(B4="j",1,0))+(IF(B4="p",1,0)))+(IF(B4=1,1,0)) -> 0 | AL4: =((IF(C4="j",1,0))+(IF(C4="p",1,0)))+(IF(C4=1,1,0)) -> 0 | AM4: =((IF(D4="j",1,0))+(IF(D4="p",1,0)))+(IF(D4=1,1,0)) -> 0 | AN4: =((IF(E4="j",1,0))+(IF(E4="p",1,0)))+(IF(E4=1,1,0)) -> 0 | AO4: =((IF(F4="j",1,0))+(IF(F4="p",1,0)))+(IF(F4=1,1,0)) -> 0 | AP4: =((IF(G4="j",1,0))+(IF(G4="p",1,0)))+(IF(G4=1,1,0)) -> 0 | AQ4: =((IF(H4="j",1,0))+(IF(H4="p",1,0)))+(IF(H4=1,1,0)) -> 0 | AR4: =((IF(I4="j",1,0))+(IF(I4="p",1,0)))+(IF(I4=1,1,0)) -> 0 | ... BD4: =((IF(U4="j",1,0))+(IF(U4="p",1,0)))+(IF(U4=1,1,0)) -> 0
A5: AMELIE RAYMOND | B5: 1 | C5: 1 | D5: p | E5: 1 | F5: 1 | H5: 1 | I5: 1 | J5: p | K5: 1 | L5: 1 | M5: 1 | N5: 1 | O5: p | P5: 1 | Q5: p | R5: 1 | S5: 1 | T5: 1 | V5: =SUM(AK5:BD5) -> 18 | AK5: =((IF(B5="j",1,0))+(IF(B5="p",1,0)))+(IF(B5=1,1,0)) -> 1 | AL5: =((IF(C5="j",1,0))+(IF(C5="p",1,0)))+(IF(C5=1,1,0)) -> 1 | AM5: =((IF(D5="j",1,0))+(IF(D5="p",1,0)))+(IF(D5=1,1,0)) -> 1 | AN5: =((IF(E5="j",1,0))+(IF(E5="p",1,0)))+(IF(E5=1,1,0)) -> 1 | AO5: =((IF(F5="j",1,0))+(IF(F5="p",1,0)))+(IF(F5=1,1,0)) -> 1 | AP5: =((IF(G5="j",1,0))+(IF(G5="p",1,0)))+(IF(G5=1,1,0)) -> 0 | AQ5: =((IF(H5="j",1,0))+(IF(H5="p",1,0)))+(IF(H5=1,1,0)) -> 1 | AR5: =((IF(I5="j",1,0))+(IF(I5="p",1,0)))+(IF(I5=1,1,0)) -> 1 | ... BD5: =((IF(U5="j",1,0))+(IF(U5="p",1,0)))+(IF(U5=1,1,0)) -> 0
A6: ANNA STANSWSKA | V6: =SUM(AK6:BD6) -> 0 | AK6: =((IF(B6="j",1,0))+(IF(B6="p",1,0)))+(IF(B6=1,1,0)) -> 0 | AL6: =((IF(C6="j",1,0))+(IF(C6="p",1,0)))+(IF(C6=1,1,0)) -> 0 | AM6: =((IF(D6="j",1,0))+(IF(D6="p",1,0)))+(IF(D6=1,1,0)) -> 0 | AN6: =((IF(E6="j",1,0))+(IF(E6="p",1,0)))+(IF(E6=1,1,0)) -> 0 | AO6: =((IF(F6="j",1,0))+(IF(F6="p",1,0)))+(IF(F6=1,1,0)) -> 0 | AP6: =((IF(G6="j",1,0))+(IF(G6="p",1,0)))+(IF(G6=1,1,0)) -> 0 | AQ6: =((IF(H6="j",1,0))+(IF(H6="p",1,0)))+(IF(H6=1,1,0)) -> 0 | AR6: =((IF(I6="j",1,0))+(IF(I6="p",1,0)))+(IF(I6=1,1,0)) -> 0 | ... BD6: =((IF(U6="j",1,0))+(IF(U6="p",1,0)))+(IF(U6=1,1,0)) -> 0
A7: CHARLOTTE QUIRION | V7: =SUM(AK7:BD7) -> 0 | AK7: =((IF(B7="j",1,0))+(IF(B7="p",1,0)))+(IF(B7=1,1,0)) -> 0 | AL7: =((IF(C7="j",1,0))+(IF(C7="p",1,0)))+(IF(C7=1,1,0)) -> 0 | AM7: =((IF(D7="j",1,0))+(IF(D7="p",1,0)))+(IF(D7=1,1,0)) -> 0 | AN7: =((IF(E7="j",1,0))+(IF(E7="p",1,0)))+(IF(E7=1,1,0)) -> 0 | AO7: =((IF(F7="j",1,0))+(IF(F7="p",1,0)))+(IF(F7=1,1,0)) -> 0 | AP7: =((IF(G7="j",1,0))+(IF(G7="p",1,0)))+(IF(G7=1,1,0)) -> 0 | AQ7: =((IF(H7="j",1,0))+(IF(H7="p",1,0)))+(IF(H7=1,1,0)) -> 0 | AR7: =((IF(I7="j",1,0))+(IF(I7="p",1,0)))+(IF(I7=1,1,0)) -> 0 | ... BD7: =((IF(U7="j",1,0))+(IF(U7="p",1,0)))+(IF(U7=1,1,0)) -> 0
A8: DAVID GRENIER | V8: =SUM(AK8:BD8) -> 0 | AK8: =((IF(B8="j",1,0))+(IF(B8="p",1,0)))+(IF(B8=1,1,0)) -> 0 | AL8: =((IF(C8="j",1,0))+(IF(C8="p",1,0)))+(IF(C8=1,1,0)) -> 0 | AM8: =((IF(D8="j",1,0))+(IF(D8="p",1,0)))+(IF(D8=1,1,0)) -> 0 | AN8: =((IF(E8="j",1,0))+(IF(E8="p",1,0)))+(IF(E8=1,1,0)) -> 0 | AO8: =((IF(F8="j",1,0))+(IF(F8="p",1,0)))+(IF(F8=1,1,0)) -> 0 | AP8: =((IF(G8="j",1,0))+(IF(G8="p",1,0)))+(IF(G8=1,1,0)) -> 0 | AQ8: =((IF(H8="j",1,0))+(IF(H8="p",1,0)))+(IF(H8=1,1,0)) -> 0 | AR8: =((IF(I8="j",1,0))+(IF(I8="p",1,0)))+(IF(I8=1,1,0)) -> 0 | ... BD8: =((IF(U8="j",1,0))+(IF(U8="p",1,0)))+(IF(U8=1,1,0)) -> 0
A9: Dolly Priscilla-Peres | C9: 1 | D9: 1 | H9: 1 | I9: 1 | M9: 1 | N9: 1 | R9: 1 | S9: 1 | V9: =SUM(AK9:BD9) -> 8 | AK9: =((IF(B9="j",1,0))+(IF(B9="p",1,0)))+(IF(B9=1,1,0)) -> 0 | AL9: =((IF(C9="j",1,0))+(IF(C9="p",1,0)))+(IF(C9=1,1,0)) -> 1 | AM9: =((IF(D9="j",1,0))+(IF(D9="p",1,0)))+(IF(D9=1,1,0)) -> 1 | AN9: =((IF(E9="j",1,0))+(IF(E9="p",1,0)))+(IF(E9=1,1,0)) -> 0 | AO9: =((IF(F9="j",1,0))+(IF(F9="p",1,0)))+(IF(F9=1,1,0)) -> 0 | AP9: =((IF(G9="j",1,0))+(IF(G9="p",1,0)))+(IF(G9=1,1,0)) -> 0 | AQ9: =((IF(H9="j",1,0))+(IF(H9="p",1,0)))+(IF(H9=1,1,0)) -> 1 | AR9: =((IF(I9="j",1,0))+(IF(I9="p",1,0)))+(IF(I9=1,1,0)) -> 1 | ... BD9: =((IF(U9="j",1,0))+(IF(U9="p",1,0)))+(IF(U9=1,1,0)) -> 0
A10: EMA LANDRY PAQUETTE | V10: =SUM(AK10:BD10) -> 0 | AK10: =((IF(B10="j",1,0))+(IF(B10="p",1,0)))+(IF(B10=1,1,0)) -> 0 | AL10: =((IF(C10="j",1,0))+(IF(C10="p",1,0)))+(IF(C10=1,1,0)) -> 0 | AM10: =((IF(D10="j",1,0))+(IF(D10="p",1,0)))+(IF(D10=1,1,0)) -> 0 | AN10: =((IF(E10="j",1,0))+(IF(E10="p",1,0)))+(IF(E10=1,1,0)) -> 0 | AO10: =((IF(F10="j",1,0))+(IF(F10="p",1,0)))+(IF(F10=1,1,0)) -> 0 | AP10: =((IF(G10="j",1,0))+(IF(G10="p",1,0)))+(IF(G10=1,1,0)) -> 0 | AQ10: =((IF(H10="j",1,0))+(IF(H10="p",1,0)))+(IF(H10=1,1,0)) -> 0 | AR10: =((IF(I10="j",1,0))+(IF(I10="p",1,0)))+(IF(I10=1,1,0)) -> 0 | ... BD10: =((IF(U10="j",1,0))+(IF(U10="p",1,0)))+(IF(U10=1,1,0)) -> 0
A11: FÉLICIE LALANCETTE | V11: =SUM(AK11:BD11) -> 0 | AK11: =((IF(B11="j",1,0))+(IF(B11="p",1,0)))+(IF(B11=1,1,0)) -> 0 | AL11: =((IF(C11="j",1,0))+(IF(C11="p",1,0)))+(IF(C11=1,1,0)) -> 0 | AM11: =((IF(D11="j",1,0))+(IF(D11="p",1,0)))+(IF(D11=1,1,0)) -> 0 | AN11: =((IF(E11="j",1,0))+(IF(E11="p",1,0)))+(IF(E11=1,1,0)) -> 0 | AO11: =((IF(F11="j",1,0))+(IF(F11="p",1,0)))+(IF(F11=1,1,0)) -> 0 | AP11: =((IF(G11="j",1,0))+(IF(G11="p",1,0)))+(IF(G11=1,1,0)) -> 0 | AQ11: =((IF(H11="j",1,0))+(IF(H11="p",1,0)))+(IF(H11=1,1,0)) -> 0 | AR11: =((IF(I11="j",1,0))+(IF(I11="p",1,0)))+(IF(I11=1,1,0)) -> 0 | ... BD11: =((IF(U11="j",1,0))+(IF(U11="p",1,0)))+(IF(U11=1,1,0)) -> 0
A12: JASMINE LAHMANI | S12: 1 | V12: =SUM(AK12:BD12) -> 1 | AK12: =((IF(B12="j",1,0))+(IF(B12="p",1,0)))+(IF(B12=1,1,0)) -> 0 | AL12: =((IF(C12="j",1,0))+(IF(C12="p",1,0)))+(IF(C12=1,1,0)) -> 0 | AM12: =((IF(D12="j",1,0))+(IF(D12="p",1,0)))+(IF(D12=1,1,0)) -> 0 | AN12: =((IF(E12="j",1,0))+(IF(E12="p",1,0)))+(IF(E12=1,1,0)) -> 0 | AO12: =((IF(F12="j",1,0))+(IF(F12="p",1,0)))+(IF(F12=1,1,0)) -> 0 | AP12: =((IF(G12="j",1,0))+(IF(G12="p",1,0)))+(IF(G12=1,1,0)) -> 0 | AQ12: =((IF(H12="j",1,0))+(IF(H12="p",1,0)))+(IF(H12=1,1,0)) -> 0 | AR12: =((IF(I12="j",1,0))+(IF(I12="p",1,0)))+(IF(I12=1,1,0)) -> 0 | ... BD12: =((IF(U12="j",1,0))+(IF(U12="p",1,0)))+(IF(U12=1,1,0)) -> 0
A13: LÉA GENTES | V13: =SUM(AK13:BD13) -> 0 | AK13: =((IF(B13="j",1,0))+(IF(B13="p",1,0)))+(IF(B13=1,1,0)) -> 0 | AL13: =((IF(C13="j",1,0))+(IF(C13="p",1,0)))+(IF(C13=1,1,0)) -> 0 | AM13: =((IF(D13="j",1,0))+(IF(D13="p",1,0)))+(IF(D13=1,1,0)) -> 0 | AN13: =((IF(E13="j",1,0))+(IF(E13="p",1,0)))+(IF(E13=1,1,0)) -> 0 | AO13: =((IF(F13="j",1,0))+(IF(F13="p",1,0)))+(IF(F13=1,1,0)) -> 0 | AP13: =((IF(G13="j",1,0))+(IF(G13="p",1,0)))+(IF(G13=1,1,0)) -> 0 | AQ13: =((IF(H13="j",1,0))+(IF(H13="p",1,0)))+(IF(H13=1,1,0)) -> 0 | AR13: =((IF(I13="j",1,0))+(IF(I13="p",1,0)))+(IF(I13=1,1,0)) -> 0 | ... BD13: =((IF(U13="j",1,0))+(IF(U13="p",1,0)))+(IF(U13=1,1,0)) -> 0
A14: LÉA PLANTE-CARRIÈRE | V14: =SUM(AK14:BD14) -> 0 | AK14: =((IF(B14="j",1,0))+(IF(B14="p",1,0)))+(IF(B14=1,1,0)) -> 0 | AL14: =((IF(C14="j",1,0))+(IF(C14="p",1,0)))+(IF(C14=1,1,0)) -> 0 | AM14: =((IF(D14="j",1,0))+(IF(D14="p",1,0)))+(IF(D14=1,1,0)) -> 0 | AN14: =((IF(E14="j",1,0))+(IF(E14="p",1,0)))+(IF(E14=1,1,0)) -> 0 | AO14: =((IF(F14="j",1,0))+(IF(F14="p",1,0)))+(IF(F14=1,1,0)) -> 0 | AP14: =((IF(G14="j",1,0))+(IF(G14="p",1,0)))+(IF(G14=1,1,0)) -> 0 | AQ14: =((IF(H14="j",1,0))+(IF(H14="p",1,0)))+(IF(H14=1,1,0)) -> 0 | AR14: =((IF(I14="j",1,0))+(IF(I14="p",1,0)))+(IF(I14=1,1,0)) -> 0 | ... BD14: =((IF(U14="j",1,0))+(IF(U14="p",1,0)))+(IF(U14=1,1,0)) -> 0
A15: MARTIN LECLERC | V15: =SUM(AK15:BD15) -> 0 | AK15: =((IF(B15="j",1,0))+(IF(B15="p",1,0)))+(IF(B15=1,1,0)) -> 0 | AL15: =((IF(C15="j",1,0))+(IF(C15="p",1,0)))+(IF(C15=1,1,0)) -> 0 | AM15: =((IF(D15="j",1,0))+(IF(D15="p",1,0)))+(IF(D15=1,1,0)) -> 0 | AN15: =((IF(E15="j",1,0))+(IF(E15="p",1,0)))+(IF(E15=1,1,0)) -> 0 | AO15: =((IF(F15="j",1,0))+(IF(F15="p",1,0)))+(IF(F15=1,1,0)) -> 0 | AP15: =((IF(G15="j",1,0))+(IF(G15="p",1,0)))+(IF(G15=1,1,0)) -> 0 | AQ15: =((IF(H15="j",1,0))+(IF(H15="p",1,0)))+(IF(H15=1,1,0)) -> 0 | AR15: =((IF(I15="j",1,0))+(IF(I15="p",1,0)))+(IF(I15=1,1,0)) -> 0 | ... BD15: =((IF(U15="j",1,0))+(IF(U15="p",1,0)))+(IF(U15=1,1,0)) -> 0
A16: MEGANE BERGERON | V16: =SUM(AK16:BD16) -> 0 | AK16: =((IF(B16="j",1,0))+(IF(B16="p",1,0)))+(IF(B16=1,1,0)) -> 0 | AL16: =((IF(C16="j",1,0))+(IF(C16="p",1,0)))+(IF(C16=1,1,0)) -> 0 | AM16: =((IF(D16="j",1,0))+(IF(D16="p",1,0)))+(IF(D16=1,1,0)) -> 0 | AN16: =((IF(E16="j",1,0))+(IF(E16="p",1,0)))+(IF(E16=1,1,0)) -> 0 | AO16: =((IF(F16="j",1,0))+(IF(F16="p",1,0)))+(IF(F16=1,1,0)) -> 0 | AP16: =((IF(G16="j",1,0))+(IF(G16="p",1,0)))+(IF(G16=1,1,0)) -> 0 | AQ16: =((IF(H16="j",1,0))+(IF(H16="p",1,0)))+(IF(H16=1,1,0)) -> 0 | AR16: =((IF(I16="j",1,0))+(IF(I16="p",1,0)))+(IF(I16=1,1,0)) -> 0 | ... BD16: =((IF(U16="j",1,0))+(IF(U16="p",1,0)))+(IF(U16=1,1,0)) -> 0
A17: MEGANE DOYON | S17: 1 | V17: =SUM(AK17:BD17) -> 1 | AK17: =((IF(B17="j",1,0))+(IF(B17="p",1,0)))+(IF(B17=1,1,0)) -> 0 | AL17: =((IF(C17="j",1,0))+(IF(C17="p",1,0)))+(IF(C17=1,1,0)) -> 0 | AM17: =((IF(D17="j",1,0))+(IF(D17="p",1,0)))+(IF(D17=1,1,0)) -> 0 | AN17: =((IF(E17="j",1,0))+(IF(E17="p",1,0)))+(IF(E17=1,1,0)) -> 0 | AO17: =((IF(F17="j",1,0))+(IF(F17="p",1,0)))+(IF(F17=1,1,0)) -> 0 | AP17: =((IF(G17="j",1,0))+(IF(G17="p",1,0)))+(IF(G17=1,1,0)) -> 0 | AQ17: =((IF(H17="j",1,0))+(IF(H17="p",1,0)))+(IF(H17=1,1,0)) -> 0 | AR17: =((IF(I17="j",1,0))+(IF(I17="p",1,0)))+(IF(I17=1,1,0)) -> 0 | ... BD17: =((IF(U17="j",1,0))+(IF(U17="p",1,0)))+(IF(U17=1,1,0)) -> 0
A18: NOVALIE BOURGAULT | V18: =SUM(AK18:BD18) -> 0 | AK18: =((IF(B18="j",1,0))+(IF(B18="p",1,0)))+(IF(B18=1,1,0)) -> 0 | AL18: =((IF(C18="j",1,0))+(IF(C18="p",1,0)))+(IF(C18=1,1,0)) -> 0 | AM18: =((IF(D18="j",1,0))+(IF(D18="p",1,0)))+(IF(D18=1,1,0)) -> 0 | AN18: =((IF(E18="j",1,0))+(IF(E18="p",1,0)))+(IF(E18=1,1,0)) -> 0 | AO18: =((IF(F18="j",1,0))+(IF(F18="p",1,0)))+(IF(F18=1,1,0)) -> 0 | AP18: =((IF(G18="j",1,0))+(IF(G18="p",1,0)))+(IF(G18=1,1,0)) -> 0 | AQ18: =((IF(H18="j",1,0))+(IF(H18="p",1,0)))+(IF(H18=1,1,0)) -> 0 | AR18: =((IF(I18="j",1,0))+(IF(I18="p",1,0)))+(IF(I18=1,1,0)) -> 0 | ... BD18: =((IF(U18="j",1,0))+(IF(U18="p",1,0)))+(IF(U18=1,1,0)) -> 0
A19: VINCENT DENAULT | S19: 1 | V19: =SUM(AK19:BD19) -> 1 | AK19: =((IF(B19="j",1,0))+(IF(B19="p",1,0)))+(IF(B19=1,1,0)) -> 0 | AL19: =((IF(C19="j",1,0))+(IF(C19="p",1,0)))+(IF(C19=1,1,0)) -> 0 | AM19: =((IF(D19="j",1,0))+(IF(D19="p",1,0)))+(IF(D19=1,1,0)) -> 0 | AN19: =((IF(E19="j",1,0))+(IF(E19="p",1,0)))+(IF(E19=1,1,0)) -> 0 | AO19: =((IF(F19="j",1,0))+(IF(F19="p",1,0)))+(IF(F19=1,1,0)) -> 0 | AP19: =((IF(G19="j",1,0))+(IF(G19="p",1,0)))+(IF(G19=1,1,0)) -> 0 | AQ19: =((IF(H19="j",1,0))+(IF(H19="p",1,0)))+(IF(H19=1,1,0)) -> 0 | AR19: =((IF(I19="j",1,0))+(IF(I19="p",1,0)))+(IF(I19=1,1,0)) -> 0 | ... BD19: =((IF(U19="j",1,0))+(IF(U19="p",1,0)))+(IF(U19=1,1,0)) -> 0
A20: VIVIANE LAMBERT | V20: =SUM(AK20:BD20) -> 0 | AK20: =((IF(B20="j",1,0))+(IF(B20="p",1,0)))+(IF(B20=1,1,0)) -> 0 | AL20: =((IF(C20="j",1,0))+(IF(C20="p",1,0)))+(IF(C20=1,1,0)) -> 0 | AM20: =((IF(D20="j",1,0))+(IF(D20="p",1,0)))+(IF(D20=1,1,0)) -> 0 | AN20: =((IF(E20="j",1,0))+(IF(E20="p",1,0)))+(IF(E20=1,1,0)) -> 0 | AO20: =((IF(F20="j",1,0))+(IF(F20="p",1,0)))+(IF(F20=1,1,0)) -> 0 | AP20: =((IF(G20="j",1,0))+(IF(G20="p",1,0)))+(IF(G20=1,1,0)) -> 0 | AQ20: =((IF(H20="j",1,0))+(IF(H20="p",1,0)))+(IF(H20=1,1,0)) -> 0 | AR20: =((IF(I20="j",1,0))+(IF(I20="p",1,0)))+(IF(I20=1,1,0)) -> 0 | ... BD20: =((IF(U20="j",1,0))+(IF(U20="p",1,0)))+(IF(U20=1,1,0)) -> 0
V21: =SUM(AK21:BD21) -> 0 | AK21: =((IF(B21="j",1,0))+(IF(B21="p",1,0)))+(IF(B21=1,1,0)) -> 0 | AL21: =((IF(C21="j",1,0))+(IF(C21="p",1,0)))+(IF(C21=1,1,0)) -> 0 | AM21: =((IF(D21="j",1,0))+(IF(D21="p",1,0)))+(IF(D21=1,1,0)) -> 0 | AN21: =((IF(E21="j",1,0))+(IF(E21="p",1,0)))+(IF(E21=1,1,0)) -> 0 | AO21: =((IF(F21="j",1,0))+(IF(F21="p",1,0)))+(IF(F21=1,1,0)) -> 0 | AP21: =((IF(G21="j",1,0))+(IF(G21="p",1,0)))+(IF(G21=1,1,0)) -> 0 | AQ21: =((IF(H21="j",1,0))+(IF(H21="p",1,0)))+(IF(H21=1,1,0)) -> 0 | AR21: =((IF(I21="j",1,0))+(IF(I21="p",1,0)))+(IF(I21=1,1,0)) -> 0 | ... BD21: =((IF(U21="j",1,0))+(IF(U21="p",1,0)))+(IF(U21=1,1,0)) -> 0
V22: =SUM(AK22:BD22) -> 0 | AK22: =((IF(B22="j",1,0))+(IF(B22="p",1,0)))+(IF(B22=1,1,0)) -> 0 | AL22: =((IF(C22="j",1,0))+(IF(C22="p",1,0)))+(IF(C22=1,1,0)) -> 0 | AM22: =((IF(D22="j",1,0))+(IF(D22="p",1,0)))+(IF(D22=1,1,0)) -> 0 | AN22: =((IF(E22="j",1,0))+(IF(E22="p",1,0)))+(IF(E22=1,1,0)) -> 0 | AO22: =((IF(F22="j",1,0))+(IF(F22="p",1,0)))+(IF(F22=1,1,0)) -> 0 | AP22: =((IF(G22="j",1,0))+(IF(G22="p",1,0)))+(IF(G22=1,1,0)) -> 0 | AQ22: =((IF(H22="j",1,0))+(IF(H22="p",1,0)))+(IF(H22=1,1,0)) -> 0 | AR22: =((IF(I22="j",1,0))+(IF(I22="p",1,0)))+(IF(I22=1,1,0)) -> 0 | ... BD22: =((IF(U22="j",1,0))+(IF(U22="p",1,0)))+(IF(U22=1,1,0)) -> 0
V23: =SUM(AK23:BD23) -> 0 | AK23: =((IF(B23="j",1,0))+(IF(B23="p",1,0)))+(IF(B23=1,1,0)) -> 0 | AL23: =((IF(C23="j",1,0))+(IF(C23="p",1,0)))+(IF(C23=1,1,0)) -> 0 | AM23: =((IF(D23="j",1,0))+(IF(D23="p",1,0)))+(IF(D23=1,1,0)) -> 0 | AN23: =((IF(E23="j",1,0))+(IF(E23="p",1,0)))+(IF(E23=1,1,0)) -> 0 | AO23: =((IF(F23="j",1,0))+(IF(F23="p",1,0)))+(IF(F23=1,1,0)) -> 0 | AP23: =((IF(G23="j",1,0))+(IF(G23="p",1,0)))+(IF(G23=1,1,0)) -> 0 | AQ23: =((IF(H23="j",1,0))+(IF(H23="p",1,0)))+(IF(H23=1,1,0)) -> 0 | AR23: =((IF(I23="j",1,0))+(IF(I23="p",1,0)))+(IF(I23=1,1,0)) -> 0 | ... BD23: =((IF(U23="j",1,0))+(IF(U23="p",1,0)))+(IF(U23=1,1,0)) -> 0
V24: =SUM(AK24:BD24) -> 0 | AK24: =((IF(B24="j",1,0))+(IF(B24="p",1,0)))+(IF(B24=1,1,0)) -> 0 | AL24: =((IF(C24="j",1,0))+(IF(C24="p",1,0)))+(IF(C24=1,1,0)) -> 0 | AM24: =((IF(D24="j",1,0))+(IF(D24="p",1,0)))+(IF(D24=1,1,0)) -> 0 | AN24: =((IF(E24="j",1,0))+(IF(E24="p",1,0)))+(IF(E24=1,1,0)) -> 0 | AO24: =((IF(F24="j",1,0))+(IF(F24="p",1,0)))+(IF(F24=1,1,0)) -> 0 | AP24: =((IF(G24="j",1,0))+(IF(G24="p",1,0)))+(IF(G24=1,1,0)) -> 0 | AQ24: =((IF(H24="j",1,0))+(IF(H24="p",1,0)))+(IF(H24=1,1,0)) -> 0 | AR24: =((IF(I24="j",1,0))+(IF(I24="p",1,0)))+(IF(I24=1,1,0)) -> 0 | ... BD24: =((IF(U24="j",1,0))+(IF(U24="p",1,0)))+(IF(U24=1,1,0)) -> 0
V25: =SUM(AK25:BD25) -> 0 | AK25: =((IF(B25="j",1,0))+(IF(B25="p",1,0)))+(IF(B25=1,1,0)) -> 0 | AL25: =((IF(C25="j",1,0))+(IF(C25="p",1,0)))+(IF(C25=1,1,0)) -> 0 | AM25: =((IF(D25="j",1,0))+(IF(D25="p",1,0)))+(IF(D25=1,1,0)) -> 0 | AN25: =((IF(E25="j",1,0))+(IF(E25="p",1,0)))+(IF(E25=1,1,0)) -> 0 | AO25: =((IF(F25="j",1,0))+(IF(F25="p",1,0)))+(IF(F25=1,1,0)) -> 0 | AP25: =((IF(G25="j",1,0))+(IF(G25="p",1,0)))+(IF(G25=1,1,0)) -> 0 | AQ25: =((IF(H25="j",1,0))+(IF(H25="p",1,0)))+(IF(H25=1,1,0)) -> 0 | AR25: =((IF(I25="j",1,0))+(IF(I25="p",1,0)))+(IF(I25=1,1,0)) -> 0 | ... BD25: =((IF(U25="j",1,0))+(IF(U25="p",1,0)))+(IF(U25=1,1,0)) -> 0
V26: =SUM(AK26:BD26) -> 0 | AK26: =((IF(B26="j",1,0))+(IF(B26="p",1,0)))+(IF(B26=1,1,0)) -> 0 | AL26: =((IF(C26="j",1,0))+(IF(C26="p",1,0)))+(IF(C26=1,1,0)) -> 0 | AM26: =((IF(D26="j",1,0))+(IF(D26="p",1,0)))+(IF(D26=1,1,0)) -> 0 | AN26: =((IF(E26="j",1,0))+(IF(E26="p",1,0)))+(IF(E26=1,1,0)) -> 0 | AO26: =((IF(F26="j",1,0))+(IF(F26="p",1,0)))+(IF(F26=1,1,0)) -> 0 | AP26: =((IF(G26="j",1,0))+(IF(G26="p",1,0)))+(IF(G26=1,1,0)) -> 0 | AQ26: =((IF(H26="j",1,0))+(IF(H26="p",1,0)))+(IF(H26=1,1,0)) -> 0 | AR26: =((IF(I26="j",1,0))+(IF(I26="p",1,0)))+(IF(I26=1,1,0)) -> 0 | ... BD26: =((IF(U26="j",1,0))+(IF(U26="p",1,0)))+(IF(U26=1,1,0)) -> 0
V27: =SUM(AK27:BD27) -> 0 | AK27: =((IF(B27="j",1,0))+(IF(B27="p",1,0)))+(IF(B27=1,1,0)) -> 0 | AL27: =((IF(C27="j",1,0))+(IF(C27="p",1,0)))+(IF(C27=1,1,0)) -> 0 | AM27: =((IF(D27="j",1,0))+(IF(D27="p",1,0)))+(IF(D27=1,1,0)) -> 0 | AN27: =((IF(E27="j",1,0))+(IF(E27="p",1,0)))+(IF(E27=1,1,0)) -> 0 | AO27: =((IF(F27="j",1,0))+(IF(F27="p",1,0)))+(IF(F27=1,1,0)) -> 0 | AP27: =((IF(G27="j",1,0))+(IF(G27="p",1,0)))+(IF(G27=1,1,0)) -> 0 | AQ27: =((IF(H27="j",1,0))+(IF(H27="p",1,0)))+(IF(H27=1,1,0)) -> 0 | AR27: =((IF(I27="j",1,0))+(IF(I27="p",1,0)))+(IF(I27=1,1,0)) -> 0 | ... BD27: =((IF(U27="j",1,0))+(IF(U27="p",1,0)))+(IF(U27=1,1,0)) -> 0
V28: =SUM(AK28:BD28) -> 0 | AK28: =((IF(B28="j",1,0))+(IF(B28="p",1,0)))+(IF(B28=1,1,0)) -> 0 | AL28: =((IF(C28="j",1,0))+(IF(C28="p",1,0)))+(IF(C28=1,1,0)) -> 0 | AM28: =((IF(D28="j",1,0))+(IF(D28="p",1,0)))+(IF(D28=1,1,0)) -> 0 | AN28: =((IF(E28="j",1,0))+(IF(E28="p",1,0)))+(IF(E28=1,1,0)) -> 0 | AO28: =((IF(F28="j",1,0))+(IF(F28="p",1,0)))+(IF(F28=1,1,0)) -> 0 | AP28: =((IF(G28="j",1,0))+(IF(G28="p",1,0)))+(IF(G28=1,1,0)) -> 0 | AQ28: =((IF(H28="j",1,0))+(IF(H28="p",1,0)))+(IF(H28=1,1,0)) -> 0 | AR28: =((IF(I28="j",1,0))+(IF(I28="p",1,0)))+(IF(I28=1,1,0)) -> 0 | ... BD28: =((IF(U28="j",1,0))+(IF(U28="p",1,0)))+(IF(U28=1,1,0)) -> 0
V29: =SUM(AK29:BD29) -> 0 | AK29: =((IF(B29="j",1,0))+(IF(B29="p",1,0)))+(IF(B29=1,1,0)) -> 0 | AL29: =((IF(C29="j",1,0))+(IF(C29="p",1,0)))+(IF(C29=1,1,0)) -> 0 | AM29: =((IF(D29="j",1,0))+(IF(D29="p",1,0)))+(IF(D29=1,1,0)) -> 0 | AN29: =((IF(E29="j",1,0))+(IF(E29="p",1,0)))+(IF(E29=1,1,0)) -> 0 | AO29: =((IF(F29="j",1,0))+(IF(F29="p",1,0)))+(IF(F29=1,1,0)) -> 0 | AP29: =((IF(G29="j",1,0))+(IF(G29="p",1,0)))+(IF(G29=1,1,0)) -> 0 | AQ29: =((IF(H29="j",1,0))+(IF(H29="p",1,0)))+(IF(H29=1,1,0)) -> 0 | AR29: =((IF(I29="j",1,0))+(IF(I29="p",1,0)))+(IF(I29=1,1,0)) -> 0 | ... BD29: =((IF(U29="j",1,0))+(IF(U29="p",1,0)))+(IF(U29=1,1,0)) -> 0
V30: =SUM(AK30:BD30) -> 0 | AK30: =((IF(B30="j",1,0))+(IF(B30="p",1,0)))+(IF(B30=1,1,0)) -> 0 | AL30: =((IF(C30="j",1,0))+(IF(C30="p",1,0)))+(IF(C30=1,1,0)) -> 0 | AM30: =((IF(D30="j",1,0))+(IF(D30="p",1,0)))+(IF(D30=1,1,0)) -> 0 | AN30: =((IF(E30="j",1,0))+(IF(E30="p",1,0)))+(IF(E30=1,1,0)) -> 0 | AO30: =((IF(F30="j",1,0))+(IF(F30="p",1,0)))+(IF(F30=1,1,0)) -> 0 | AP30: =((IF(G30="j",1,0))+(IF(G30="p",1,0)))+(IF(G30=1,1,0)) -> 0 | AQ30: =((IF(H30="j",1,0))+(IF(H30="p",1,0)))+(IF(H30=1,1,0)) -> 0 | AR30: =((IF(I30="j",1,0))+(IF(I30="p",1,0)))+(IF(I30=1,1,0)) -> 0 | ... BD30: =((IF(U30="j",1,0))+(IF(U30="p",1,0)))+(IF(U30=1,1,0)) -> 0
V31: =SUM(AK31:BD31) -> 0 | AK31: =((IF(B31="j",1,0))+(IF(B31="p",1,0)))+(IF(B31=1,1,0)) -> 0 | AL31: =((IF(C31="j",1,0))+(IF(C31="p",1,0)))+(IF(C31=1,1,0)) -> 0 | AM31: =((IF(D31="j",1,0))+(IF(D31="p",1,0)))+(IF(D31=1,1,0)) -> 0 | AN31: =((IF(E31="j",1,0))+(IF(E31="p",1,0)))+(IF(E31=1,1,0)) -> 0 | AO31: =((IF(F31="j",1,0))+(IF(F31="p",1,0)))+(IF(F31=1,1,0)) -> 0 | AP31: =((IF(G31="j",1,0))+(IF(G31="p",1,0)))+(IF(G31=1,1,0)) -> 0 | AQ31: =((IF(H31="j",1,0))+(IF(H31="p",1,0)))+(IF(H31=1,1,0)) -> 0 | AR31: =((IF(I31="j",1,0))+(IF(I31="p",1,0)))+(IF(I31=1,1,0)) -> 0 | ... BD31: =((IF(U31="j",1,0))+(IF(U31="p",1,0)))+(IF(U31=1,1,0)) -> 0
V32: =SUM(AK32:BD32) -> 0 | AK32: =((IF(B32="j",1,0))+(IF(B32="p",1,0)))+(IF(B32=1,1,0)) -> 0 | AL32: =((IF(C32="j",1,0))+(IF(C32="p",1,0)))+(IF(C32=1,1,0)) -> 0 | AM32: =((IF(D32="j",1,0))+(IF(D32="p",1,0)))+(IF(D32=1,1,0)) -> 0 | AN32: =((IF(E32="j",1,0))+(IF(E32="p",1,0)))+(IF(E32=1,1,0)) -> 0 | AO32: =((IF(F32="j",1,0))+(IF(F32="p",1,0)))+(IF(F32=1,1,0)) -> 0 | AP32: =((IF(G32="j",1,0))+(IF(G32="p",1,0)))+(IF(G32=1,1,0)) -> 0 | AQ32: =((IF(H32="j",1,0))+(IF(H32="p",1,0)))+(IF(H32=1,1,0)) -> 0 | AR32: =((IF(I32="j",1,0))+(IF(I32="p",1,0)))+(IF(I32=1,1,0)) -> 0 | ... BD32: =((IF(U32="j",1,0))+(IF(U32="p",1,0)))+(IF(U32=1,1,0)) -> 0
... V85: =SUM(AK85:BD85) -> 0 | AK85: =((IF(B85="j",1,0))+(IF(B85="p",1,0)))+(IF(B85=1,1,0)) -> 0 | AL85: =((IF(C85="j",1,0))+(IF(C85="p",1,0)))+(IF(C85=1,1,0)) -> 0 | AM85: =((IF(D85="j",1,0))+(IF(D85="p",1,0)))+(IF(D85=1,1,0)) -> 0 | AN85: =((IF(E85="j",1,0))+(IF(E85="p",1,0)))+(IF(E85=1,1,0)) -> 0 | AO85: =((IF(F85="j",1,0))+(IF(F85="p",1,0)))+(IF(F85=1,1,0)) -> 0 | AP85: =((IF(G85="j",1,0))+(IF(G85="p",1,0)))+(IF(G85=1,1,0)) -> 0 | AQ85: =((IF(H85="j",1,0))+(IF(H85="p",1,0)))+(IF(H85=1,1,0)) -> 0 | AR85: =((IF(I85="j",1,0))+(IF(I85="p",1,0)))+(IF(I85=1,1,0)) -> 0 | ... BD85: =((IF(U85="j",1,0))+(IF(U85="p",1,0)))+(IF(U85=1,1,0)) -> 0
A86: TOTAUX | B86: =SUM(AK3:AK85) -> 1 | C86: =SUM(AL3:AL85) -> 2 | D86: =SUM(AM3:AM85) -> 2 | E86: =SUM(AN3:AN85) -> 1 | F86: =SUM(AO3:AO85) -> 1 | G86: =SUM(AP3:AP85) -> 0 | H86: =SUM(AQ3:AQ85) -> 2 | I86: =SUM(AR3:AR85) -> 2 | ... U86: =SUM(BD3:BD85) -> 0

Sheet 3ème
B1: Semaine 1 | G1: Semaine 2 | L1: Semaine 3 | Q1: Semaine 4
A2: 3ème année | B2: =Cumulatif!A4 -> 25 | C2: =Cumulatif!B4 -> 26 | D2: =Cumulatif!C4 -> 27 | E2: =Cumulatif!D4 -> 28 | F2: =Cumulatif!E4 -> 29 | G2: =Cumulatif!F4 -> 1 | H2: =Cumulatif!G4 -> 2 | I2: =Cumulatif!H4 -> 3 | ... U2: =Cumulatif!T4 -> 19
A3: ALEXI ROY | V3: =SUM(AK3:BD3) -> 0 | AK3: =((IF(B3="j",1,0))+(IF(B3="p",1,0)))+(IF(B3=1,1,0)) -> 0 | AL3: =((IF(C3="j",1,0))+(IF(C3="p",1,0)))+(IF(C3=1,1,0)) -> 0 | AM3: =((IF(D3="j",1,0))+(IF(D3="p",1,0)))+(IF(D3=1,1,0)) -> 0 | AN3: =((IF(E3="j",1,0))+(IF(E3="p",1,0)))+(IF(E3=1,1,0)) -> 0 | AO3: =((IF(F3="j",1,0))+(IF(F3="p",1,0)))+(IF(F3=1,1,0)) -> 0 | AP3: =((IF(G3="j",1,0))+(IF(G3="p",1,0)))+(IF(G3=1,1,0)) -> 0 | AQ3: =((IF(H3="j",1,0))+(IF(H3="p",1,0)))+(IF(H3=1,1,0)) -> 0 | AR3: =((IF(I3="j",1,0))+(IF(I3="p",1,0)))+(IF(I3=1,1,0)) -> 0 | ... BD3: =((IF(U3="j",1,0))+(IF(U3="p",1,0)))+(IF(U3=1,1,0)) -> 0
A4: BENJAMIN CLICHÉ | V4: =SUM(AK4:BD4) -> 0 | AK4: =((IF(B4="j",1,0))+(IF(B4="p",1,0)))+(IF(B4=1,1,0)) -> 0 | AL4: =((IF(C4="j",1,0))+(IF(C4="p",1,0)))+(IF(C4=1,1,0)) -> 0 | AM4: =((IF(D4="j",1,0))+(IF(D4="p",1,0)))+(IF(D4=1,1,0)) -> 0 | AN4: =((IF(E4="j",1,0))+(IF(E4="p",1,0)))+(IF(E4=1,1,0)) -> 0 | AO4: =((IF(F4="j",1,0))+(IF(F4="p",1,0)))+(IF(F4=1,1,0)) -> 0 | AP4: =((IF(G4="j",1,0))+(IF(G4="p",1,0)))+(IF(G4=1,1,0)) -> 0 | AQ4: =((IF(H4="j",1,0))+(IF(H4="p",1,0)))+(IF(H4=1,1,0)) -> 0 | AR4: =((IF(I4="j",1,0))+(IF(I4="p",1,0)))+(IF(I4=1,1,0)) -> 0 | ... BD4: =((IF(U4="j",1,0))+(IF(U4="p",1,0)))+(IF(U4=1,1,0)) -> 0
A5: ÉLYX SEGUIN | V5: =SUM(AK5:BD5) -> 0 | AK5: =((IF(B5="j",1,0))+(IF(B5="p",1,0)))+(IF(B5=1,1,0)) -> 0 | AL5: =((IF(C5="j",1,0))+(IF(C5="p",1,0)))+(IF(C5=1,1,0)) -> 0 | AM5: =((IF(D5="j",1,0))+(IF(D5="p",1,0)))+(IF(D5=1,1,0)) -> 0 | AN5: =((IF(E5="j",1,0))+(IF(E5="p",1,0)))+(IF(E5=1,1,0)) -> 0 | AO5: =((IF(F5="j",1,0))+(IF(F5="p",1,0)))+(IF(F5=1,1,0)) -> 0 | AP5: =((IF(G5="j",1,0))+(IF(G5="p",1,0)))+(IF(G5=1,1,0)) -> 0 | AQ5: =((IF(H5="j",1,0))+(IF(H5="p",1,0)))+(IF(H5=1,1,0)) -> 0 | AR5: =((IF(I5="j",1,0))+(IF(I5="p",1,0)))+(IF(I5=1,1,0)) -> 0 | ... BD5: =((IF(U5="j",1,0))+(IF(U5="p",1,0)))+(IF(U5=1,1,0)) -> 0
A6: ETIENNE LEBEL | V6: =SUM(AK6:BD6) -> 0 | AK6: =((IF(B6="j",1,0))+(IF(B6="p",1,0)))+(IF(B6=1,1,0)) -> 0 | AL6: =((IF(C6="j",1,0))+(IF(C6="p",1,0)))+(IF(C6=1,1,0)) -> 0 | AM6: =((IF(D6="j",1,0))+(IF(D6="p",1,0)))+(IF(D6=1,1,0)) -> 0 | AN6: =((IF(E6="j",1,0))+(IF(E6="p",1,0)))+(IF(E6=1,1,0)) -> 0 | AO6: =((IF(F6="j",1,0))+(IF(F6="p",1,0)))+(IF(F6=1,1,0)) -> 0 | AP6: =((IF(G6="j",1,0))+(IF(G6="p",1,0)))+(IF(G6=1,1,0)) -> 0 | AQ6: =((IF(H6="j",1,0))+(IF(H6="p",1,0)))+(IF(H6=1,1,0)) -> 0 | AR6: =((IF(I6="j",1,0))+(IF(I6="p",1,0)))+(IF(I6=1,1,0)) -> 0 | ... BD6: =((IF(U6="j",1,0))+(IF(U6="p",1,0)))+(IF(U6=1,1,0)) -> 0
A7: HUGO DOYON | S7: 1 | V7: =SUM(AK7:BD7) -> 1 | AK7: =((IF(B7="j",1,0))+(IF(B7="p",1,0)))+(IF(B7=1,1,0)) -> 0 | AL7: =((IF(C7="j",1,0))+(IF(C7="p",1,0)))+(IF(C7=1,1,0)) -> 0 | AM7: =((IF(D7="j",1,0))+(IF(D7="p",1,0)))+(IF(D7=1,1,0)) -> 0 | AN7: =((IF(E7="j",1,0))+(IF(E7="p",1,0)))+(IF(E7=1,1,0)) -> 0 | AO7: =((IF(F7="j",1,0))+(IF(F7="p",1,0)))+(IF(F7=1,1,0)) -> 0 | AP7: =((IF(G7="j",1,0))+(IF(G7="p",1,0)))+(IF(G7=1,1,0)) -> 0 | AQ7: =((IF(H7="j",1,0))+(IF(H7="p",1,0)))+(IF(H7=1,1,0)) -> 0 | AR7: =((IF(I7="j",1,0))+(IF(I7="p",1,0)))+(IF(I7=1,1,0)) -> 0 | ... BD7: =((IF(U7="j",1,0))+(IF(U7="p",1,0)))+(IF(U7=1,1,0)) -> 0
A8: MAXIME GAGNÉ | V8: =SUM(AK8:BD8) -> 0 | AK8: =((IF(B8="j",1,0))+(IF(B8="p",1,0)))+(IF(B8=1,1,0)) -> 0 | AL8: =((IF(C8="j",1,0))+(IF(C8="p",1,0)))+(IF(C8=1,1,0)) -> 0 | AM8: =((IF(D8="j",1,0))+(IF(D8="p",1,0)))+(IF(D8=1,1,0)) -> 0 | AN8: =((IF(E8="j",1,0))+(IF(E8="p",1,0)))+(IF(E8=1,1,0)) -> 0 | AO8: =((IF(F8="j",1,0))+(IF(F8="p",1,0)))+(IF(F8=1,1,0)) -> 0 | AP8: =((IF(G8="j",1,0))+(IF(G8="p",1,0)))+(IF(G8=1,1,0)) -> 0 | AQ8: =((IF(H8="j",1,0))+(IF(H8="p",1,0)))+(IF(H8=1,1,0)) -> 0 | AR8: =((IF(I8="j",1,0))+(IF(I8="p",1,0)))+(IF(I8=1,1,0)) -> 0 | ... BD8: =((IF(U8="j",1,0))+(IF(U8="p",1,0)))+(IF(U8=1,1,0)) -> 0
A9: MEGANE BERGERON | V9: =SUM(AK9:BD9) -> 0 | AK9: =((IF(B9="j",1,0))+(IF(B9="p",1,0)))+(IF(B9=1,1,0)) -> 0 | AL9: =((IF(C9="j",1,0))+(IF(C9="p",1,0)))+(IF(C9=1,1,0)) -> 0 | AM9: =((IF(D9="j",1,0))+(IF(D9="p",1,0)))+(IF(D9=1,1,0)) -> 0 | AN9: =((IF(E9="j",1,0))+(IF(E9="p",1,0)))+(IF(E9=1,1,0)) -> 0 | AO9: =((IF(F9="j",1,0))+(IF(F9="p",1,0)))+(IF(F9=1,1,0)) -> 0 | AP9: =((IF(G9="j",1,0))+(IF(G9="p",1,0)))+(IF(G9=1,1,0)) -> 0 | AQ9: =((IF(H9="j",1,0))+(IF(H9="p",1,0)))+(IF(H9=1,1,0)) -> 0 | AR9: =((IF(I9="j",1,0))+(IF(I9="p",1,0)))+(IF(I9=1,1,0)) -> 0 | ... BD9: =((IF(U9="j",1,0))+(IF(U9="p",1,0)))+(IF(U9=1,1,0)) -> 0
A10: WILLIAM VALLIERES | V10: =SUM(AK10:BD10) -> 0 | AK10: =((IF(B10="j",1,0))+(IF(B10="p",1,0)))+(IF(B10=1,1,0)) -> 0 | AL10: =((IF(C10="j",1,0))+(IF(C10="p",1,0)))+(IF(C10=1,1,0)) -> 0 | AM10: =((IF(D10="j",1,0))+(IF(D10="p",1,0)))+(IF(D10=1,1,0)) -> 0 | AN10: =((IF(E10="j",1,0))+(IF(E10="p",1,0)))+(IF(E10=1,1,0)) -> 0 | AO10: =((IF(F10="j",1,0))+(IF(F10="p",1,0)))+(IF(F10=1,1,0)) -> 0 | AP10: =((IF(G10="j",1,0))+(IF(G10="p",1,0)))+(IF(G10=1,1,0)) -> 0 | AQ10: =((IF(H10="j",1,0))+(IF(H10="p",1,0)))+(IF(H10=1,1,0)) -> 0 | AR10: =((IF(I10="j",1,0))+(IF(I10="p",1,0)))+(IF(I10=1,1,0)) -> 0 | ... BD10: =((IF(U10="j",1,0))+(IF(U10="p",1,0)))+(IF(U10=1,1,0)) -> 0
V11: =SUM(AK11:BD11) -> 0 | AK11: =((IF(B11="j",1,0))+(IF(B11="p",1,0)))+(IF(B11=1,1,0)) -> 0 | AL11: =((IF(C11="j",1,0))+(IF(C11="p",1,0)))+(IF(C11=1,1,0)) -> 0 | AM11: =((IF(D11="j",1,0))+(IF(D11="p",1,0)))+(IF(D11=1,1,0)) -> 0 | AN11: =((IF(E11="j",1,0))+(IF(E11="p",1,0)))+(IF(E11=1,1,0)) -> 0 | AO11: =((IF(F11="j",1,0))+(IF(F11="p",1,0)))+(IF(F11=1,1,0)) -> 0 | AP11: =((IF(G11="j",1,0))+(IF(G11="p",1,0)))+(IF(G11=1,1,0)) -> 0 | AQ11: =((IF(H11="j",1,0))+(IF(H11="p",1,0)))+(IF(H11=1,1,0)) -> 0 | AR11: =((IF(I11="j",1,0))+(IF(I11="p",1,0)))+(IF(I11=1,1,0)) -> 0 | ... BD11: =((IF(U11="j",1,0))+(IF(U11="p",1,0)))+(IF(U11=1,1,0)) -> 0
V12: =SUM(AK12:BD12) -> 0 | AK12: =((IF(B12="j",1,0))+(IF(B12="p",1,0)))+(IF(B12=1,1,0)) -> 0 | AL12: =((IF(C12="j",1,0))+(IF(C12="p",1,0)))+(IF(C12=1,1,0)) -> 0 | AM12: =((IF(D12="j",1,0))+(IF(D12="p",1,0)))+(IF(D12=1,1,0)) -> 0 | AN12: =((IF(E12="j",1,0))+(IF(E12="p",1,0)))+(IF(E12=1,1,0)) -> 0 | AO12: =((IF(F12="j",1,0))+(IF(F12="p",1,0)))+(IF(F12=1,1,0)) -> 0 | AP12: =((IF(G12="j",1,0))+(IF(G12="p",1,0)))+(IF(G12=1,1,0)) -> 0 | AQ12: =((IF(H12="j",1,0))+(IF(H12="p",1,0)))+(IF(H12=1,1,0)) -> 0 | AR12: =((IF(I12="j",1,0))+(IF(I12="p",1,0)))+(IF(I12=1,1,0)) -> 0 | ... BD12: =((IF(U12="j",1,0))+(IF(U12="p",1,0)))+(IF(U12=1,1,0)) -> 0
V13: =SUM(AK13:BD13) -> 0 | AK13: =((IF(B13="j",1,0))+(IF(B13="p",1,0)))+(IF(B13=1,1,0)) -> 0 | AL13: =((IF(C13="j",1,0))+(IF(C13="p",1,0)))+(IF(C13=1,1,0)) -> 0 | AM13: =((IF(D13="j",1,0))+(IF(D13="p",1,0)))+(IF(D13=1,1,0)) -> 0 | AN13: =((IF(E13="j",1,0))+(IF(E13="p",1,0)))+(IF(E13=1,1,0)) -> 0 | AO13: =((IF(F13="j",1,0))+(IF(F13="p",1,0)))+(IF(F13=1,1,0)) -> 0 | AP13: =((IF(G13="j",1,0))+(IF(G13="p",1,0)))+(IF(G13=1,1,0)) -> 0 | AQ13: =((IF(H13="j",1,0))+(IF(H13="p",1,0)))+(IF(H13=1,1,0)) -> 0 | AR13: =((IF(I13="j",1,0))+(IF(I13="p",1,0)))+(IF(I13=1,1,0)) -> 0 | ... BD13: =((IF(U13="j",1,0))+(IF(U13="p",1,0)))+(IF(U13=1,1,0)) -> 0
V14: =SUM(AK14:BD14) -> 0 | AK14: =((IF(B14="j",1,0))+(IF(B14="p",1,0)))+(IF(B14=1,1,0)) -> 0 | AL14: =((IF(C14="j",1,0))+(IF(C14="p",1,0)))+(IF(C14=1,1,0)) -> 0 | AM14: =((IF(D14="j",1,0))+(IF(D14="p",1,0)))+(IF(D14=1,1,0)) -> 0 | AN14: =((IF(E14="j",1,0))+(IF(E14="p",1,0)))+(IF(E14=1,1,0)) -> 0 | AO14: =((IF(F14="j",1,0))+(IF(F14="p",1,0)))+(IF(F14=1,1,0)) -> 0 | AP14: =((IF(G14="j",1,0))+(IF(G14="p",1,0)))+(IF(G14=1,1,0)) -> 0 | AQ14: =((IF(H14="j",1,0))+(IF(H14="p",1,0)))+(IF(H14=1,1,0)) -> 0 | AR14: =((IF(I14="j",1,0))+(IF(I14="p",1,0)))+(IF(I14=1,1,0)) -> 0 | ... BD14: =((IF(U14="j",1,0))+(IF(U14="p",1,0)))+(IF(U14=1,1,0)) -> 0
V15: =SUM(AK15:BD15) -> 0 | AK15: =((IF(B15="j",1,0))+(IF(B15="p",1,0)))+(IF(B15=1,1,0)) -> 0 | AL15: =((IF(C15="j",1,0))+(IF(C15="p",1,0)))+(IF(C15=1,1,0)) -> 0 | AM15: =((IF(D15="j",1,0))+(IF(D15="p",1,0)))+(IF(D15=1,1,0)) -> 0 | AN15: =((IF(E15="j",1,0))+(IF(E15="p",1,0)))+(IF(E15=1,1,0)) -> 0 | AO15: =((IF(F15="j",1,0))+(IF(F15="p",1,0)))+(IF(F15=1,1,0)) -> 0 | AP15: =((IF(G15="j",1,0))+(IF(G15="p",1,0)))+(IF(G15=1,1,0)) -> 0 | AQ15: =((IF(H15="j",1,0))+(IF(H15="p",1,0)))+(IF(H15=1,1,0)) -> 0 | AR15: =((IF(I15="j",1,0))+(IF(I15="p",1,0)))+(IF(I15=1,1,0)) -> 0 | ... BD15: =((IF(U15="j",1,0))+(IF(U15="p",1,0)))+(IF(U15=1,1,0)) -> 0
V16: =SUM(AK16:BD16) -> 0 | AK16: =((IF(B16="j",1,0))+(IF(B16="p",1,0)))+(IF(B16=1,1,0)) -> 0 | AL16: =((IF(C16="j",1,0))+(IF(C16="p",1,0)))+(IF(C16=1,1,0)) -> 0 | AM16: =((IF(D16="j",1,0))+(IF(D16="p",1,0)))+(IF(D16=1,1,0)) -> 0 | AN16: =((IF(E16="j",1,0))+(IF(E16="p",1,0)))+(IF(E16=1,1,0)) -> 0 | AO16: =((IF(F16="j",1,0))+(IF(F16="p",1,0)))+(IF(F16=1,1,0)) -> 0 | AP16: =((IF(G16="j",1,0))+(IF(G16="p",1,0)))+(IF(G16=1,1,0)) -> 0 | AQ16: =((IF(H16="j",1,0))+(IF(H16="p",1,0)))+(IF(H16=1,1,0)) -> 0 | AR16: =((IF(I16="j",1,0))+(IF(I16="p",1,0)))+(IF(I16=1,1,0)) -> 0 | ... BD16: =((IF(U16="j",1,0))+(IF(U16="p",1,0)))+(IF(U16=1,1,0)) -> 0
V17: =SUM(AK17:BD17) -> 0 | AK17: =((IF(B17="j",1,0))+(IF(B17="p",1,0)))+(IF(B17=1,1,0)) -> 0 | AL17: =((IF(C17="j",1,0))+(IF(C17="p",1,0)))+(IF(C17=1,1,0)) -> 0 | AM17: =((IF(D17="j",1,0))+(IF(D17="p",1,0)))+(IF(D17=1,1,0)) -> 0 | AN17: =((IF(E17="j",1,0))+(IF(E17="p",1,0)))+(IF(E17=1,1,0)) -> 0 | AO17: =((IF(F17="j",1,0))+(IF(F17="p",1,0)))+(IF(F17=1,1,0)) -> 0 | AP17: =((IF(G17="j",1,0))+(IF(G17="p",1,0)))+(IF(G17=1,1,0)) -> 0 | AQ17: =((IF(H17="j",1,0))+(IF(H17="p",1,0)))+(IF(H17=1,1,0)) -> 0 | AR17: =((IF(I17="j",1,0))+(IF(I17="p",1,0)))+(IF(I17=1,1,0)) -> 0 | ... BD17: =((IF(U17="j",1,0))+(IF(U17="p",1,0)))+(IF(U17=1,1,0)) -> 0
V18: =SUM(AK18:BD18) -> 0 | AK18: =((IF(B18="j",1,0))+(IF(B18="p",1,0)))+(IF(B18=1,1,0)) -> 0 | AL18: =((IF(C18="j",1,0))+(IF(C18="p",1,0)))+(IF(C18=1,1,0)) -> 0 | AM18: =((IF(D18="j",1,0))+(IF(D18="p",1,0)))+(IF(D18=1,1,0)) -> 0 | AN18: =((IF(E18="j",1,0))+(IF(E18="p",1,0)))+(IF(E18=1,1,0)) -> 0 | AO18: =((IF(F18="j",1,0))+(IF(F18="p",1,0)))+(IF(F18=1,1,0)) -> 0 | AP18: =((IF(G18="j",1,0))+(IF(G18="p",1,0)))+(IF(G18=1,1,0)) -> 0 | AQ18: =((IF(H18="j",1,0))+(IF(H18="p",1,0)))+(IF(H18=1,1,0)) -> 0 | AR18: =((IF(I18="j",1,0))+(IF(I18="p",1,0)))+(IF(I18=1,1,0)) -> 0 | ... BD18: =((IF(U18="j",1,0))+(IF(U18="p",1,0)))+(IF(U18=1,1,0)) -> 0
V19: =SUM(AK19:BD19) -> 0 | AK19: =((IF(B19="j",1,0))+(IF(B19="p",1,0)))+(IF(B19=1,1,0)) -> 0 | AL19: =((IF(C19="j",1,0))+(IF(C19="p",1,0)))+(IF(C19=1,1,0)) -> 0 | AM19: =((IF(D19="j",1,0))+(IF(D19="p",1,0)))+(IF(D19=1,1,0)) -> 0 | AN19: =((IF(E19="j",1,0))+(IF(E19="p",1,0)))+(IF(E19=1,1,0)) -> 0 | AO19: =((IF(F19="j",1,0))+(IF(F19="p",1,0)))+(IF(F19=1,1,0)) -> 0 | AP19: =((IF(G19="j",1,0))+(IF(G19="p",1,0)))+(IF(G19=1,1,0)) -> 0 | AQ19: =((IF(H19="j",1,0))+(IF(H19="p",1,0)))+(IF(H19=1,1,0)) -> 0 | AR19: =((IF(I19="j",1,0))+(IF(I19="p",1,0)))+(IF(I19=1,1,0)) -> 0 | ... BD19: =((IF(U19="j",1,0))+(IF(U19="p",1,0)))+(IF(U19=1,1,0)) -> 0
V20: =SUM(AK20:BD20) -> 0 | AK20: =((IF(B20="j",1,0))+(IF(B20="p",1,0)))+(IF(B20=1,1,0)) -> 0 | AL20: =((IF(C20="j",1,0))+(IF(C20="p",1,0)))+(IF(C20=1,1,0)) -> 0 | AM20: =((IF(D20="j",1,0))+(IF(D20="p",1,0)))+(IF(D20=1,1,0)) -> 0 | AN20: =((IF(E20="j",1,0))+(IF(E20="p",1,0)))+(IF(E20=1,1,0)) -> 0 | AO20: =((IF(F20="j",1,0))+(IF(F20="p",1,0)))+(IF(F20=1,1,0)) -> 0 | AP20: =((IF(G20="j",1,0))+(IF(G20="p",1,0)))+(IF(G20=1,1,0)) -> 0 | AQ20: =((IF(H20="j",1,0))+(IF(H20="p",1,0)))+(IF(H20=1,1,0)) -> 0 | AR20: =((IF(I20="j",1,0))+(IF(I20="p",1,0)))+(IF(I20=1,1,0)) -> 0 | ... BD20: =((IF(U20="j",1,0))+(IF(U20="p",1,0)))+(IF(U20=1,1,0)) -> 0
V21: =SUM(AK21:BD21) -> 0 | AK21: =((IF(B21="j",1,0))+(IF(B21="p",1,0)))+(IF(B21=1,1,0)) -> 0 | AL21: =((IF(C21="j",1,0))+(IF(C21="p",1,0)))+(IF(C21=1,1,0)) -> 0 | AM21: =((IF(D21="j",1,0))+(IF(D21="p",1,0)))+(IF(D21=1,1,0)) -> 0 | AN21: =((IF(E21="j",1,0))+(IF(E21="p",1,0)))+(IF(E21=1,1,0)) -> 0 | AO21: =((IF(F21="j",1,0))+(IF(F21="p",1,0)))+(IF(F21=1,1,0)) -> 0 | AP21: =((IF(G21="j",1,0))+(IF(G21="p",1,0)))+(IF(G21=1,1,0)) -> 0 | AQ21: =((IF(H21="j",1,0))+(IF(H21="p",1,0)))+(IF(H21=1,1,0)) -> 0 | AR21: =((IF(I21="j",1,0))+(IF(I21="p",1,0)))+(IF(I21=1,1,0)) -> 0 | ... BD21: =((IF(U21="j",1,0))+(IF(U21="p",1,0)))+(IF(U21=1,1,0)) -> 0
V22: =SUM(AK22:BD22) -> 0 | AK22: =((IF(B22="j",1,0))+(IF(B22="p",1,0)))+(IF(B22=1,1,0)) -> 0 | AL22: =((IF(C22="j",1,0))+(IF(C22="p",1,0)))+(IF(C22=1,1,0)) -> 0 | AM22: =((IF(D22="j",1,0))+(IF(D22="p",1,0)))+(IF(D22=1,1,0)) -> 0 | AN22: =((IF(E22="j",1,0))+(IF(E22="p",1,0)))+(IF(E22=1,1,0)) -> 0 | AO22: =((IF(F22="j",1,0))+(IF(F22="p",1,0)))+(IF(F22=1,1,0)) -> 0 | AP22: =((IF(G22="j",1,0))+(IF(G22="p",1,0)))+(IF(G22=1,1,0)) -> 0 | AQ22: =((IF(H22="j",1,0))+(IF(H22="p",1,0)))+(IF(H22=1,1,0)) -> 0 | AR22: =((IF(I22="j",1,0))+(IF(I22="p",1,0)))+(IF(I22=1,1,0)) -> 0 | ... BD22: =((IF(U22="j",1,0))+(IF(U22="p",1,0)))+(IF(U22=1,1,0)) -> 0
... V85: =SUM(AK85:BD85) -> 0 | AK85: =((IF(B85="j",1,0))+(IF(B85="p",1,0)))+(IF(B85=1,1,0)) -> 0 | AL85: =((IF(C85="j",1,0))+(IF(C85="p",1,0)))+(IF(C85=1,1,0)) -> 0 | AM85: =((IF(D85="j",1,0))+(IF(D85="p",1,0)))+(IF(D85=1,1,0)) -> 0 | AN85: =((IF(E85="j",1,0))+(IF(E85="p",1,0)))+(IF(E85=1,1,0)) -> 0 | AO85: =((IF(F85="j",1,0))+(IF(F85="p",1,0)))+(IF(F85=1,1,0)) -> 0 | AP85: =((IF(G85="j",1,0))+(IF(G85="p",1,0)))+(IF(G85=1,1,0)) -> 0 | AQ85: =((IF(H85="j",1,0))+(IF(H85="p",1,0)))+(IF(H85=1,1,0)) -> 0 | AR85: =((IF(I85="j",1,0))+(IF(I85="p",1,0)))+(IF(I85=1,1,0)) -> 0 | ... BD85: =((IF(U85="j",1,0))+(IF(U85="p",1,0)))+(IF(U85=1,1,0)) -> 0
A86: TOTAUX | B86: =SUM(AK3:AK85) -> 0 | C86: =SUM(AL3:AL85) -> 0 | D86: =SUM(AM3:AM85) -> 0 | E86: =SUM(AN3:AN85) -> 0 | F86: =SUM(AO3:AO85) -> 0 | G86: =SUM(AP3:AP85) -> 0 | H86: =SUM(AQ3:AQ85) -> 0 | I86: =SUM(AR3:AR85) -> 0 | ... U86: =SUM(BD3:BD85) -> 0

Sheet 4ème
B1: Semaine 1 | G1: Semaine 2 | L1: Semaine 3 | Q1: Semaine 4
A2: 4ème année | B2: =Cumulatif!A4 -> 25 | C2: =Cumulatif!B4 -> 26 | D2: =Cumulatif!C4 -> 27 | E2: =Cumulatif!D4 -> 28 | F2: =Cumulatif!E4 -> 29 | G2: =Cumulatif!F4 -> 1 | H2: =Cumulatif!G4 -> 2 | I2: =Cumulatif!H4 -> 3 | ... U2: =Cumulatif!T4 -> 19
A3: ALEX PINET | V3: =SUM(AK3:BD3) -> 0 | AK3: =((IF(B3="j",1,0))+(IF(B3="p",1,0)))+(IF(B3=1,1,0)) -> 0 | AL3: =((IF(C3="j",1,0))+(IF(C3="p",1,0)))+(IF(C3=1,1,0)) -> 0 | AM3: =((IF(D3="j",1,0))+(IF(D3="p",1,0)))+(IF(D3=1,1,0)) -> 0 | AN3: =((IF(E3="j",1,0))+(IF(E3="p",1,0)))+(IF(E3=1,1,0)) -> 0 | AO3: =((IF(F3="j",1,0))+(IF(F3="p",1,0)))+(IF(F3=1,1,0)) -> 0 | AP3: =((IF(G3="j",1,0))+(IF(G3="p",1,0)))+(IF(G3=1,1,0)) -> 0 | AQ3: =((IF(H3="j",1,0))+(IF(H3="p",1,0)))+(IF(H3=1,1,0)) -> 0 | AR3: =((IF(I3="j",1,0))+(IF(I3="p",1,0)))+(IF(I3=1,1,0)) -> 0 | ... BD3: =((IF(U3="j",1,0))+(IF(U3="p",1,0)))+(IF(U3=1,1,0)) -> 0
A4: ALEXIS RAYMOND | B4: 1 | C4: 1 | D4: 1 | E4: 1 | F4: 1 | H4: 1 | I4: 1 | J4: 1 | K4: 1 | L4: 1 | M4: 1 | N4: 1 | O4: 1 | P4: 1 | Q4: 1 | R4: 1 | S4: 1 | T4: 1 | V4: =SUM(AK4:BD4) -> 18 | AK4: =((IF(B4="j",1,0))+(IF(B4="p",1,0)))+(IF(B4=1,1,0)) -> 1 | AL4: =((IF(C4="j",1,0))+(IF(C4="p",1,0)))+(IF(C4=1,1,0)) -> 1 | AM4: =((IF(D4="j",1,0))+(IF(D4="p",1,0)))+(IF(D4=1,1,0)) -> 1 | AN4: =((IF(E4="j",1,0))+(IF(E4="p",1,0)))+(IF(E4=1,1,0)) -> 1 | AO4: =((IF(F4="j",1,0))+(IF(F4="p",1,0)))+(IF(F4=1,1,0)) -> 1 | AP4: =((IF(G4="j",1,0))+(IF(G4="p",1,0)))+(IF(G4=1,1,0)) -> 0 | AQ4: =((IF(H4="j",1,0))+(IF(H4="p",1,0)))+(IF(H4=1,1,0)) -> 1 | AR4: =((IF(I4="j",1,0))+(IF(I4="p",1,0)))+(IF(I4=1,1,0)) -> 1 | ... BD4: =((IF(U4="j",1,0))+(IF(U4="p",1,0)))+(IF(U4=1,1,0)) -> 0
A5: ALISSON PLANTE CARRIÈRE | V5: =SUM(AK5:BD5) -> 0 | AK5: =((IF(B5="j",1,0))+(IF(B5="p",1,0)))+(IF(B5=1,1,0)) -> 0 | AL5: =((IF(C5="j",1,0))+(IF(C5="p",1,0)))+(IF(C5=1,1,0)) -> 0 | AM5: =((IF(D5="j",1,0))+(IF(D5="p",1,0)))+(IF(D5=1,1,0)) -> 0 | AN5: =((IF(E5="j",1,0))+(IF(E5="p",1,0)))+(IF(E5=1,1,0)) -> 0 | AO5: =((IF(F5="j",1,0))+(IF(F5="p",1,0)))+(IF(F5=1,1,0)) -> 0 | AP5: =((IF(G5="j",1,0))+(IF(G5="p",1,0)))+(IF(G5=1,1,0)) -> 0 | AQ5: =((IF(H5="j",1,0))+(IF(H5="p",1,0)))+(IF(H5=1,1,0)) -> 0 | AR5: =((IF(I5="j",1,0))+(IF(I5="p",1,0)))+(IF(I5=1,1,0)) -> 0 | ... BD5: =((IF(U5="j",1,0))+(IF(U5="p",1,0)))+(IF(U5=1,1,0)) -> 0
A6: EMILIE BOUCHER | V6: =SUM(AK6:BD6) -> 0 | AK6: =((IF(B6="j",1,0))+(IF(B6="p",1,0)))+(IF(B6=1,1,0)) -> 0 | AL6: =((IF(C6="j",1,0))+(IF(C6="p",1,0)))+(IF(C6=1,1,0)) -> 0 | AM6: =((IF(D6="j",1,0))+(IF(D6="p",1,0)))+(IF(D6=1,1,0)) -> 0 | AN6: =((IF(E6="j",1,0))+(IF(E6="p",1,0)))+(IF(E6=1,1,0)) -> 0 | AO6: =((IF(F6="j",1,0))+(IF(F6="p",1,0)))+(IF(F6=1,1,0)) -> 0 | AP6: =((IF(G6="j",1,0))+(IF(G6="p",1,0)))+(IF(G6=1,1,0)) -> 0 | AQ6: =((IF(H6="j",1,0))+(IF(H6="p",1,0)))+(IF(H6=1,1,0)) -> 0 | AR6: =((IF(I6="j",1,0))+(IF(I6="p",1,0)))+(IF(I6=1,1,0)) -> 0 | ... BD6: =((IF(U6="j",1,0))+(IF(U6="p",1,0)))+(IF(U6=1,1,0)) -> 0
A7: MICKY DE LA FONTAINE | V7: =SUM(AK7:BD7) -> 0 | AK7: =((IF(B7="j",1,0))+(IF(B7="p",1,0)))+(IF(B7=1,1,0)) -> 0 | AL7: =((IF(C7="j",1,0))+(IF(C7="p",1,0)))+(IF(C7=1,1,0)) -> 0 | AM7: =((IF(D7="j",1,0))+(IF(D7="p",1,0)))+(IF(D7=1,1,0)) -> 0 | AN7: =((IF(E7="j",1,0))+(IF(E7="p",1,0)))+(IF(E7=1,1,0)) -> 0 | AO7: =((IF(F7="j",1,0))+(IF(F7="p",1,0)))+(IF(F7=1,1,0)) -> 0 | AP7: =((IF(G7="j",1,0))+(IF(G7="p",1,0)))+(IF(G7=1,1,0)) -> 0 | AQ7: =((IF(H7="j",1,0))+(IF(H7="p",1,0)))+(IF(H7=1,1,0)) -> 0 | AR7: =((IF(I7="j",1,0))+(IF(I7="p",1,0)))+(IF(I7=1,1,0)) -> 0 | ... BD7: =((IF(U7="j",1,0))+(IF(U7="p",1,0)))+(IF(U7=1,1,0)) -> 0
A8: PHILIPPE GUERTIN | S8: 1 | V8: =SUM(AK8:BD8) -> 1 | AK8: =((IF(B8="j",1,0))+(IF(B8="p",1,0)))+(IF(B8=1,1,0)) -> 0 | AL8: =((IF(C8="j",1,0))+(IF(C8="p",1,0)))+(IF(C8=1,1,0)) -> 0 | AM8: =((IF(D8="j",1,0))+(IF(D8="p",1,0)))+(IF(D8=1,1,0)) -> 0 | AN8: =((IF(E8="j",1,0))+(IF(E8="p",1,0)))+(IF(E8=1,1,0)) -> 0 | AO8: =((IF(F8="j",1,0))+(IF(F8="p",1,0)))+(IF(F8=1,1,0)) -> 0 | AP8: =((IF(G8="j",1,0))+(IF(G8="p",1,0)))+(IF(G8=1,1,0)) -> 0 | AQ8: =((IF(H8="j",1,0))+(IF(H8="p",1,0)))+(IF(H8=1,1,0)) -> 0 | AR8: =((IF(I8="j",1,0))+(IF(I8="p",1,0)))+(IF(I8=1,1,0)) -> 0 | ... BD8: =((IF(U8="j",1,0))+(IF(U8="p",1,0)))+(IF(U8=1,1,0)) -> 0
A9: SAMUEL BEAULIEU | V9: =SUM(AK9:BD9) -> 0 | AK9: =((IF(B9="j",1,0))+(IF(B9="p",1,0)))+(IF(B9=1,1,0)) -> 0 | AL9: =((IF(C9="j",1,0))+(IF(C9="p",1,0)))+(IF(C9=1,1,0)) -> 0 | AM9: =((IF(D9="j",1,0))+(IF(D9="p",1,0)))+(IF(D9=1,1,0)) -> 0 | AN9: =((IF(E9="j",1,0))+(IF(E9="p",1,0)))+(IF(E9=1,1,0)) -> 0 | AO9: =((IF(F9="j",1,0))+(IF(F9="p",1,0)))+(IF(F9=1,1,0)) -> 0 | AP9: =((IF(G9="j",1,0))+(IF(G9="p",1,0)))+(IF(G9=1,1,0)) -> 0 | AQ9: =((IF(H9="j",1,0))+(IF(H9="p",1,0)))+(IF(H9=1,1,0)) -> 0 | AR9: =((IF(I9="j",1,0))+(IF(I9="p",1,0)))+(IF(I9=1,1,0)) -> 0 | ... BD9: =((IF(U9="j",1,0))+(IF(U9="p",1,0)))+(IF(U9=1,1,0)) -> 0
V10: =SUM(AK10:BD10) -> 0 | AK10: =((IF(B10="j",1,0))+(IF(B10="p",1,0)))+(IF(B10=1,1,0)) -> 0 | AL10: =((IF(C10="j",1,0))+(IF(C10="p",1,0)))+(IF(C10=1,1,0)) -> 0 | AM10: =((IF(D10="j",1,0))+(IF(D10="p",1,0)))+(IF(D10=1,1,0)) -> 0 | AN10: =((IF(E10="j",1,0))+(IF(E10="p",1,0)))+(IF(E10=1,1,0)) -> 0 | AO10: =((IF(F10="j",1,0))+(IF(F10="p",1,0)))+(IF(F10=1,1,0)) -> 0 | AP10: =((IF(G10="j",1,0))+(IF(G10="p",1,0)))+(IF(G10=1,1,0)) -> 0 | AQ10: =((IF(H10="j",1,0))+(IF(H10="p",1,0)))+(IF(H10=1,1,0)) -> 0 | AR10: =((IF(I10="j",1,0))+(IF(I10="p",1,0)))+(IF(I10=1,1,0)) -> 0 | ... BD10: =((IF(U10="j",1,0))+(IF(U10="p",1,0)))+(IF(U10=1,1,0)) -> 0
V11: =SUM(AK11:BD11) -> 0 | AK11: =((IF(B11="j",1,0))+(IF(B11="p",1,0)))+(IF(B11=1,1,0)) -> 0 | AL11: =((IF(C11="j",1,0))+(IF(C11="p",1,0)))+(IF(C11=1,1,0)) -> 0 | AM11: =((IF(D11="j",1,0))+(IF(D11="p",1,0)))+(IF(D11=1,1,0)) -> 0 | AN11: =((IF(E11="j",1,0))+(IF(E11="p",1,0)))+(IF(E11=1,1,0)) -> 0 | AO11: =((IF(F11="j",1,0))+(IF(F11="p",1,0)))+(IF(F11=1,1,0)) -> 0 | AP11: =((IF(G11="j",1,0))+(IF(G11="p",1,0)))+(IF(G11=1,1,0)) -> 0 | AQ11: =((IF(H11="j",1,0))+(IF(H11="p",1,0)))+(IF(H11=1,1,0)) -> 0 | AR11: =((IF(I11="j",1,0))+(IF(I11="p",1,0)))+(IF(I11=1,1,0)) -> 0 | ... BD11: =((IF(U11="j",1,0))+(IF(U11="p",1,0)))+(IF(U11=1,1,0)) -> 0
V12: =SUM(AK12:BD12) -> 0 | AK12: =((IF(B12="j",1,0))+(IF(B12="p",1,0)))+(IF(B12=1,1,0)) -> 0 | AL12: =((IF(C12="j",1,0))+(IF(C12="p",1,0)))+(IF(C12=1,1,0)) -> 0 | AM12: =((IF(D12="j",1,0))+(IF(D12="p",1,0)))+(IF(D12=1,1,0)) -> 0 | AN12: =((IF(E12="j",1,0))+(IF(E12="p",1,0)))+(IF(E12=1,1,0)) -> 0 | AO12: =((IF(F12="j",1,0))+(IF(F12="p",1,0)))+(IF(F12=1,1,0)) -> 0 | AP12: =((IF(G12="j",1,0))+(IF(G12="p",1,0)))+(IF(G12=1,1,0)) -> 0 | AQ12: =((IF(H12="j",1,0))+(IF(H12="p",1,0)))+(IF(H12=1,1,0)) -> 0 | AR12: =((IF(I12="j",1,0))+(IF(I12="p",1,0)))+(IF(I12=1,1,0)) -> 0 | ... BD12: =((IF(U12="j",1,0))+(IF(U12="p",1,0)))+(IF(U12=1,1,0)) -> 0
V13: =SUM(AK13:BD13) -> 0 | AK13: =((IF(B13="j",1,0))+(IF(B13="p",1,0)))+(IF(B13=1,1,0)) -> 0 | AL13: =((IF(C13="j",1,0))+(IF(C13="p",1,0)))+(IF(C13=1,1,0)) -> 0 | AM13: =((IF(D13="j",1,0))+(IF(D13="p",1,0)))+(IF(D13=1,1,0)) -> 0 | AN13: =((IF(E13="j",1,0))+(IF(E13="p",1,0)))+(IF(E13=1,1,0)) -> 0 | AO13: =((IF(F13="j",1,0))+(IF(F13="p",1,0)))+(IF(F13=1,1,0)) -> 0 | AP13: =((IF(G13="j",1,0))+(IF(G13="p",1,0)))+(IF(G13=1,1,0)) -> 0 | AQ13: =((IF(H13="j",1,0))+(IF(H13="p",1,0)))+(IF(H13=1,1,0)) -> 0 | AR13: =((IF(I13="j",1,0))+(IF(I13="p",1,0)))+(IF(I13=1,1,0)) -> 0 | ... BD13: =((IF(U13="j",1,0))+(IF(U13="p",1,0)))+(IF(U13=1,1,0)) -> 0
V14: =SUM(AK14:BD14) -> 0 | AK14: =((IF(B14="j",1,0))+(IF(B14="p",1,0)))+(IF(B14=1,1,0)) -> 0 | AL14: =((IF(C14="j",1,0))+(IF(C14="p",1,0)))+(IF(C14=1,1,0)) -> 0 | AM14: =((IF(D14="j",1,0))+(IF(D14="p",1,0)))+(IF(D14=1,1,0)) -> 0 | AN14: =((IF(E14="j",1,0))+(IF(E14="p",1,0)))+(IF(E14=1,1,0)) -> 0 | AO14: =((IF(F14="j",1,0))+(IF(F14="p",1,0)))+(IF(F14=1,1,0)) -> 0 | AP14: =((IF(G14="j",1,0))+(IF(G14="p",1,0)))+(IF(G14=1,1,0)) -> 0 | AQ14: =((IF(H14="j",1,0))+(IF(H14="p",1,0)))+(IF(H14=1,1,0)) -> 0 | AR14: =((IF(I14="j",1,0))+(IF(I14="p",1,0)))+(IF(I14=1,1,0)) -> 0 | ... BD14: =((IF(U14="j",1,0))+(IF(U14="p",1,0)))+(IF(U14=1,1,0)) -> 0
V15: =SUM(AK15:BD15) -> 0 | AK15: =((IF(B15="j",1,0))+(IF(B15="p",1,0)))+(IF(B15=1,1,0)) -> 0 | AL15: =((IF(C15="j",1,0))+(IF(C15="p",1,0)))+(IF(C15=1,1,0)) -> 0 | AM15: =((IF(D15="j",1,0))+(IF(D15="p",1,0)))+(IF(D15=1,1,0)) -> 0 | AN15: =((IF(E15="j",1,0))+(IF(E15="p",1,0)))+(IF(E15=1,1,0)) -> 0 | AO15: =((IF(F15="j",1,0))+(IF(F15="p",1,0)))+(IF(F15=1,1,0)) -> 0 | AP15: =((IF(G15="j",1,0))+(IF(G15="p",1,0)))+(IF(G15=1,1,0)) -> 0 | AQ15: =((IF(H15="j",1,0))+(IF(H15="p",1,0)))+(IF(H15=1,1,0)) -> 0 | AR15: =((IF(I15="j",1,0))+(IF(I15="p",1,0)))+(IF(I15=1,1,0)) -> 0 | ... BD15: =((IF(U15="j",1,0))+(IF(U15="p",1,0)))+(IF(U15=1,1,0)) -> 0
V16: =SUM(AK16:BD16) -> 0 | AK16: =((IF(B16="j",1,0))+(IF(B16="p",1,0)))+(IF(B16=1,1,0)) -> 0 | AL16: =((IF(C16="j",1,0))+(IF(C16="p",1,0)))+(IF(C16=1,1,0)) -> 0 | AM16: =((IF(D16="j",1,0))+(IF(D16="p",1,0)))+(IF(D16=1,1,0)) -> 0 | AN16: =((IF(E16="j",1,0))+(IF(E16="p",1,0)))+(IF(E16=1,1,0)) -> 0 | AO16: =((IF(F16="j",1,0))+(IF(F16="p",1,0)))+(IF(F16=1,1,0)) -> 0 | AP16: =((IF(G16="j",1,0))+(IF(G16="p",1,0)))+(IF(G16=1,1,0)) -> 0 | AQ16: =((IF(H16="j",1,0))+(IF(H16="p",1,0)))+(IF(H16=1,1,0)) -> 0 | AR16: =((IF(I16="j",1,0))+(IF(I16="p",1,0)))+(IF(I16=1,1,0)) -> 0 | ... BD16: =((IF(U16="j",1,0))+(IF(U16="p",1,0)))+(IF(U16=1,1,0)) -> 0
V17: =SUM(AK17:BD17) -> 0 | AK17: =((IF(B17="j",1,0))+(IF(B17="p",1,0)))+(IF(B17=1,1,0)) -> 0 | AL17: =((IF(C17="j",1,0))+(IF(C17="p",1,0)))+(IF(C17=1,1,0)) -> 0 | AM17: =((IF(D17="j",1,0))+(IF(D17="p",1,0)))+(IF(D17=1,1,0)) -> 0 | AN17: =((IF(E17="j",1,0))+(IF(E17="p",1,0)))+(IF(E17=1,1,0)) -> 0 | AO17: =((IF(F17="j",1,0))+(IF(F17="p",1,0)))+(IF(F17=1,1,0)) -> 0 | AP17: =((IF(G17="j",1,0))+(IF(G17="p",1,0)))+(IF(G17=1,1,0)) -> 0 | AQ17: =((IF(H17="j",1,0))+(IF(H17="p",1,0)))+(IF(H17=1,1,0)) -> 0 | AR17: =((IF(I17="j",1,0))+(IF(I17="p",1,0)))+(IF(I17=1,1,0)) -> 0 | ... BD17: =((IF(U17="j",1,0))+(IF(U17="p",1,0)))+(IF(U17=1,1,0)) -> 0
V18: =SUM(AK18:BD18) -> 0 | AK18: =((IF(B18="j",1,0))+(IF(B18="p",1,0)))+(IF(B18=1,1,0)) -> 0 | AL18: =((IF(C18="j",1,0))+(IF(C18="p",1,0)))+(IF(C18=1,1,0)) -> 0 | AM18: =((IF(D18="j",1,0))+(IF(D18="p",1,0)))+(IF(D18=1,1,0)) -> 0 | AN18: =((IF(E18="j",1,0))+(IF(E18="p",1,0)))+(IF(E18=1,1,0)) -> 0 | AO18: =((IF(F18="j",1,0))+(IF(F18="p",1,0)))+(IF(F18=1,1,0)) -> 0 | AP18: =((IF(G18="j",1,0))+(IF(G18="p",1,0)))+(IF(G18=1,1,0)) -> 0 | AQ18: =((IF(H18="j",1,0))+(IF(H18="p",1,0)))+(IF(H18=1,1,0)) -> 0 | AR18: =((IF(I18="j",1,0))+(IF(I18="p",1,0)))+(IF(I18=1,1,0)) -> 0 | ... BD18: =((IF(U18="j",1,0))+(IF(U18="p",1,0)))+(IF(U18=1,1,0)) -> 0
V19: =SUM(AK19:BD19) -> 0 | AK19: =((IF(B19="j",1,0))+(IF(B19="p",1,0)))+(IF(B19=1,1,0)) -> 0 | AL19: =((IF(C19="j",1,0))+(IF(C19="p",1,0)))+(IF(C19=1,1,0)) -> 0 | AM19: =((IF(D19="j",1,0))+(IF(D19="p",1,0)))+(IF(D19=1,1,0)) -> 0 | AN19: =((IF(E19="j",1,0))+(IF(E19="p",1,0)))+(IF(E19=1,1,0)) -> 0 | AO19: =((IF(F19="j",1,0))+(IF(F19="p",1,0)))+(IF(F19=1,1,0)) -> 0 | AP19: =((IF(G19="j",1,0))+(IF(G19="p",1,0)))+(IF(G19=1,1,0)) -> 0 | AQ19: =((IF(H19="j",1,0))+(IF(H19="p",1,0)))+(IF(H19=1,1,0)) -> 0 | AR19: =((IF(I19="j",1,0))+(IF(I19="p",1,0)))+(IF(I19=1,1,0)) -> 0 | ... BD19: =((IF(U19="j",1,0))+(IF(U19="p",1,0)))+(IF(U19=1,1,0)) -> 0
V20: =SUM(AK20:BD20) -> 0 | AK20: =((IF(B20="j",1,0))+(IF(B20="p",1,0)))+(IF(B20=1,1,0)) -> 0 | AL20: =((IF(C20="j",1,0))+(IF(C20="p",1,0)))+(IF(C20=1,1,0)) -> 0 | AM20: =((IF(D20="j",1,0))+(IF(D20="p",1,0)))+(IF(D20=1,1,0)) -> 0 | AN20: =((IF(E20="j",1,0))+(IF(E20="p",1,0)))+(IF(E20=1,1,0)) -> 0 | AO20: =((IF(F20="j",1,0))+(IF(F20="p",1,0)))+(IF(F20=1,1,0)) -> 0 | AP20: =((IF(G20="j",1,0))+(IF(G20="p",1,0)))+(IF(G20=1,1,0)) -> 0 | AQ20: =((IF(H20="j",1,0))+(IF(H20="p",1,0)))+(IF(H20=1,1,0)) -> 0 | AR20: =((IF(I20="j",1,0))+(IF(I20="p",1,0)))+(IF(I20=1,1,0)) -> 0 | ... BD20: =((IF(U20="j",1,0))+(IF(U20="p",1,0)))+(IF(U20=1,1,0)) -> 0
V21: =SUM(AK21:BD21) -> 0 | AK21: =((IF(B21="j",1,0))+(IF(B21="p",1,0)))+(IF(B21=1,1,0)) -> 0 | AL21: =((IF(C21="j",1,0))+(IF(C21="p",1,0)))+(IF(C21=1,1,0)) -> 0 | AM21: =((IF(D21="j",1,0))+(IF(D21="p",1,0)))+(IF(D21=1,1,0)) -> 0 | AN21: =((IF(E21="j",1,0))+(IF(E21="p",1,0)))+(IF(E21=1,1,0)) -> 0 | AO21: =((IF(F21="j",1,0))+(IF(F21="p",1,0)))+(IF(F21=1,1,0)) -> 0 | AP21: =((IF(G21="j",1,0))+(IF(G21="p",1,0)))+(IF(G21=1,1,0)) -> 0 | AQ21: =((IF(H21="j",1,0))+(IF(H21="p",1,0)))+(IF(H21=1,1,0)) -> 0 | AR21: =((IF(I21="j",1,0))+(IF(I21="p",1,0)))+(IF(I21=1,1,0)) -> 0 | ... BD21: =((IF(U21="j",1,0))+(IF(U21="p",1,0)))+(IF(U21=1,1,0)) -> 0
... V85: =SUM(AK85:BD85) -> 0 | AK85: =((IF(B85="j",1,0))+(IF(B85="p",1,0)))+(IF(B85=1,1,0)) -> 0 | AL85: =((IF(C85="j",1,0))+(IF(C85="p",1,0)))+(IF(C85=1,1,0)) -> 0 | AM85: =((IF(D85="j",1,0))+(IF(D85="p",1,0)))+(IF(D85=1,1,0)) -> 0 | AN85: =((IF(E85="j",1,0))+(IF(E85="p",1,0)))+(IF(E85=1,1,0)) -> 0 | AO85: =((IF(F85="j",1,0))+(IF(F85="p",1,0)))+(IF(F85=1,1,0)) -> 0 | AP85: =((IF(G85="j",1,0))+(IF(G85="p",1,0)))+(IF(G85=1,1,0)) -> 0 | AQ85: =((IF(H85="j",1,0))+(IF(H85="p",1,0)))+(IF(H85=1,1,0)) -> 0 | AR85: =((IF(I85="j",1,0))+(IF(I85="p",1,0)))+(IF(I85=1,1,0)) -> 0 | ... BD85: =((IF(U85="j",1,0))+(IF(U85="p",1,0)))+(IF(U85=1,1,0)) -> 0
A86: TOTAUX | B86: =SUM(AK3:AK85) -> 1 | C86: =SUM(AL3:AL85) -> 1 | D86: =SUM(AM3:AM85) -> 1 | E86: =SUM(AN3:AN85) -> 1 | F86: =SUM(AO3:AO85) -> 1 | G86: =SUM(AP3:AP85) -> 0 | H86: =SUM(AQ3:AQ85) -> 1 | I86: =SUM(AR3:AR85) -> 1 | ... U86: =SUM(BD3:BD85) -> 0

Sheet 5ème
B1: Semaine 1 | G1: Semaine 2 | L1: Semaine 3 | Q1: Semaine 4
A2: 5ème année | B2: =Cumulatif!A4 -> 25 | C2: =Cumulatif!B4 -> 26 | D2: =Cumulatif!C4 -> 27 | E2: =Cumulatif!D4 -> 28 | F2: =Cumulatif!E4 -> 29 | G2: =Cumulatif!F4 -> 1 | H2: =Cumulatif!G4 -> 2 | I2: =Cumulatif!H4 -> 3 | ... U2: =Cumulatif!T4 -> 19
A3: ALEXANDRE DUFOUR | V3: =SUM(AK3:BD3) -> 0 | AK3: =((IF(B3="j",1,0))+(IF(B3="p",1,0)))+(IF(B3=1,1,0)) -> 0 | AL3: =((IF(C3="j",1,0))+(IF(C3="p",1,0)))+(IF(C3=1,1,0)) -> 0 | AM3: =((IF(D3="j",1,0))+(IF(D3="p",1,0)))+(IF(D3=1,1,0)) -> 0 | AN3: =((IF(E3="j",1,0))+(IF(E3="p",1,0)))+(IF(E3=1,1,0)) -> 0 | AO3: =((IF(F3="j",1,0))+(IF(F3="p",1,0)))+(IF(F3=1,1,0)) -> 0 | AP3: =((IF(G3="j",1,0))+(IF(G3="p",1,0)))+(IF(G3=1,1,0)) -> 0 | AQ3: =((IF(H3="j",1,0))+(IF(H3="p",1,0)))+(IF(H3=1,1,0)) -> 0 | AR3: =((IF(I3="j",1,0))+(IF(I3="p",1,0)))+(IF(I3=1,1,0)) -> 0 | ... BD3: =((IF(U3="j",1,0))+(IF(U3="p",1,0)))+(IF(U3=1,1,0)) -> 0
A4: BRITANY SAVARD | V4: =SUM(AK4:BD4) -> 0 | AK4: =((IF(B4="j",1,0))+(IF(B4="p",1,0)))+(IF(B4=1,1,0)) -> 0 | AL4: =((IF(C4="j",1,0))+(IF(C4="p",1,0)))+(IF(C4=1,1,0)) -> 0 | AM4: =((IF(D4="j",1,0))+(IF(D4="p",1,0)))+(IF(D4=1,1,0)) -> 0 | AN4: =((IF(E4="j",1,0))+(IF(E4="p",1,0)))+(IF(E4=1,1,0)) -> 0 | AO4: =((IF(F4="j",1,0))+(IF(F4="p",1,0)))+(IF(F4=1,1,0)) -> 0 | AP4: =((IF(G4="j",1,0))+(IF(G4="p",1,0)))+(IF(G4=1,1,0)) -> 0 | AQ4: =((IF(H4="j",1,0))+(IF(H4="p",1,0)))+(IF(H4=1,1,0)) -> 0 | AR4: =((IF(I4="j",1,0))+(IF(I4="p",1,0)))+(IF(I4=1,1,0)) -> 0 | ... BD4: =((IF(U4="j",1,0))+(IF(U4="p",1,0)))+(IF(U4=1,1,0)) -> 0
A5: CHLOE DENAULT | S5: 1 | V5: =SUM(AK5:BD5) -> 1 | AK5: =((IF(B5="j",1,0))+(IF(B5="p",1,0)))+(IF(B5=1,1,0)) -> 0 | AL5: =((IF(C5="j",1,0))+(IF(C5="p",1,0)))+(IF(C5=1,1,0)) -> 0 | AM5: =((IF(D5="j",1,0))+(IF(D5="p",1,0)))+(IF(D5=1,1,0)) -> 0 | AN5: =((IF(E5="j",1,0))+(IF(E5="p",1,0)))+(IF(E5=1,1,0)) -> 0 | AO5: =((IF(F5="j",1,0))+(IF(F5="p",1,0)))+(IF(F5=1,1,0)) -> 0 | AP5: =((IF(G5="j",1,0))+(IF(G5="p",1,0)))+(IF(G5=1,1,0)) -> 0 | AQ5: =((IF(H5="j",1,0))+(IF(H5="p",1,0)))+(IF(H5=1,1,0)) -> 0 | AR5: =((IF(I5="j",1,0))+(IF(I5="p",1,0)))+(IF(I5=1,1,0)) -> 0 | ... BD5: =((IF(U5="j",1,0))+(IF(U5="p",1,0)))+(IF(U5=1,1,0)) -> 0
A6: ELODIE ROY | V6: =SUM(AK6:BD6) -> 0 | AK6: =((IF(B6="j",1,0))+(IF(B6="p",1,0)))+(IF(B6=1,1,0)) -> 0 | AL6: =((IF(C6="j",1,0))+(IF(C6="p",1,0)))+(IF(C6=1,1,0)) -> 0 | AM6: =((IF(D6="j",1,0))+(IF(D6="p",1,0)))+(IF(D6=1,1,0)) -> 0 | AN6: =((IF(E6="j",1,0))+(IF(E6="p",1,0)))+(IF(E6=1,1,0)) -> 0 | AO6: =((IF(F6="j",1,0))+(IF(F6="p",1,0)))+(IF(F6=1,1,0)) -> 0 | AP6: =((IF(G6="j",1,0))+(IF(G6="p",1,0)))+(IF(G6=1,1,0)) -> 0 | AQ6: =((IF(H6="j",1,0))+(IF(H6="p",1,0)))+(IF(H6=1,1,0)) -> 0 | AR6: =((IF(I6="j",1,0))+(IF(I6="p",1,0)))+(IF(I6=1,1,0)) -> 0 | ... BD6: =((IF(U6="j",1,0))+(IF(U6="p",1,0)))+(IF(U6=1,1,0)) -> 0
A7: FÉLIX GAGNÉ | V7: =SUM(AK7:BD7) -> 0 | AK7: =((IF(B7="j",1,0))+(IF(B7="p",1,0)))+(IF(B7=1,1,0)) -> 0 | AL7: =((IF(C7="j",1,0))+(IF(C7="p",1,0)))+(IF(C7=1,1,0)) -> 0 | AM7: =((IF(D7="j",1,0))+(IF(D7="p",1,0)))+(IF(D7=1,1,0)) -> 0 | AN7: =((IF(E7="j",1,0))+(IF(E7="p",1,0)))+(IF(E7=1,1,0)) -> 0 | AO7: =((IF(F7="j",1,0))+(IF(F7="p",1,0)))+(IF(F7=1,1,0)) -> 0 | AP7: =((IF(G7="j",1,0))+(IF(G7="p",1,0)))+(IF(G7=1,1,0)) -> 0 | AQ7: =((IF(H7="j",1,0))+(IF(H7="p",1,0)))+(IF(H7=1,1,0)) -> 0 | AR7: =((IF(I7="j",1,0))+(IF(I7="p",1,0)))+(IF(I7=1,1,0)) -> 0 | ... BD7: =((IF(U7="j",1,0))+(IF(U7="p",1,0)))+(IF(U7=1,1,0)) -> 0
A8: JASMINE GRENIER | V8: =SUM(AK8:BD8) -> 0 | AK8: =((IF(B8="j",1,0))+(IF(B8="p",1,0)))+(IF(B8=1,1,0)) -> 0 | AL8: =((IF(C8="j",1,0))+(IF(C8="p",1,0)))+(IF(C8=1,1,0)) -> 0 | AM8: =((IF(D8="j",1,0))+(IF(D8="p",1,0)))+(IF(D8=1,1,0)) -> 0 | AN8: =((IF(E8="j",1,0))+(IF(E8="p",1,0)))+(IF(E8=1,1,0)) -> 0 | AO8: =((IF(F8="j",1,0))+(IF(F8="p",1,0)))+(IF(F8=1,1,0)) -> 0 | AP8: =((IF(G8="j",1,0))+(IF(G8="p",1,0)))+(IF(G8=1,1,0)) -> 0 | AQ8: =((IF(H8="j",1,0))+(IF(H8="p",1,0)))+(IF(H8=1,1,0)) -> 0 | AR8: =((IF(I8="j",1,0))+(IF(I8="p",1,0)))+(IF(I8=1,1,0)) -> 0 | ... BD8: =((IF(U8="j",1,0))+(IF(U8="p",1,0)))+(IF(U8=1,1,0)) -> 0
A9: JEREMIE GAUDET | V9: =SUM(AK9:BD9) -> 0 | AK9: =((IF(B9="j",1,0))+(IF(B9="p",1,0)))+(IF(B9=1,1,0)) -> 0 | AL9: =((IF(C9="j",1,0))+(IF(C9="p",1,0)))+(IF(C9=1,1,0)) -> 0 | AM9: =((IF(D9="j",1,0))+(IF(D9="p",1,0)))+(IF(D9=1,1,0)) -> 0 | AN9: =((IF(E9="j",1,0))+(IF(E9="p",1,0)))+(IF(E9=1,1,0)) -> 0 | AO9: =((IF(F9="j",1,0))+(IF(F9="p",1,0)))+(IF(F9=1,1,0)) -> 0 | AP9: =((IF(G9="j",1,0))+(IF(G9="p",1,0)))+(IF(G9=1,1,0)) -> 0 | AQ9: =((IF(H9="j",1,0))+(IF(H9="p",1,0)))+(IF(H9=1,1,0)) -> 0 | AR9: =((IF(I9="j",1,0))+(IF(I9="p",1,0)))+(IF(I9=1,1,0)) -> 0 | ... BD9: =((IF(U9="j",1,0))+(IF(U9="p",1,0)))+(IF(U9=1,1,0)) -> 0
A10: MARIAMA SOW | S10: 1 | V10: =SUM(AK10:BD10) -> 1 | AK10: =((IF(B10="j",1,0))+(IF(B10="p",1,0)))+(IF(B10=1,1,0)) -> 0 | AL10: =((IF(C10="j",1,0))+(IF(C10="p",1,0)))+(IF(C10=1,1,0)) -> 0 | AM10: =((IF(D10="j",1,0))+(IF(D10="p",1,0)))+(IF(D10=1,1,0)) -> 0 | AN10: =((IF(E10="j",1,0))+(IF(E10="p",1,0)))+(IF(E10=1,1,0)) -> 0 | AO10: =((IF(F10="j",1,0))+(IF(F10="p",1,0)))+(IF(F10=1,1,0)) -> 0 | AP10: =((IF(G10="j",1,0))+(IF(G10="p",1,0)))+(IF(G10=1,1,0)) -> 0 | AQ10: =((IF(H10="j",1,0))+(IF(H10="p",1,0)))+(IF(H10=1,1,0)) -> 0 | AR10: =((IF(I10="j",1,0))+(IF(I10="p",1,0)))+(IF(I10=1,1,0)) -> 0 | ... BD10: =((IF(U10="j",1,0))+(IF(U10="p",1,0)))+(IF(U10=1,1,0)) -> 0
A11: MIKE-ANDY MILIEN | V11: =SUM(AK11:BD11) -> 0 | AK11: =((IF(B11="j",1,0))+(IF(B11="p",1,0)))+(IF(B11=1,1,0)) -> 0 | AL11: =((IF(C11="j",1,0))+(IF(C11="p",1,0)))+(IF(C11=1,1,0)) -> 0 | AM11: =((IF(D11="j",1,0))+(IF(D11="p",1,0)))+(IF(D11=1,1,0)) -> 0 | AN11: =((IF(E11="j",1,0))+(IF(E11="p",1,0)))+(IF(E11=1,1,0)) -> 0 | AO11: =((IF(F11="j",1,0))+(IF(F11="p",1,0)))+(IF(F11=1,1,0)) -> 0 | AP11: =((IF(G11="j",1,0))+(IF(G11="p",1,0)))+(IF(G11=1,1,0)) -> 0 | AQ11: =((IF(H11="j",1,0))+(IF(H11="p",1,0)))+(IF(H11=1,1,0)) -> 0 | AR11: =((IF(I11="j",1,0))+(IF(I11="p",1,0)))+(IF(I11=1,1,0)) -> 0 | ... BD11: =((IF(U11="j",1,0))+(IF(U11="p",1,0)))+(IF(U11=1,1,0)) -> 0
A12: PAWEL STANOWSKI | V12: =SUM(AK12:BD12) -> 0 | AK12: =((IF(B12="j",1,0))+(IF(B12="p",1,0)))+(IF(B12=1,1,0)) -> 0 | AL12: =((IF(C12="j",1,0))+(IF(C12="p",1,0)))+(IF(C12=1,1,0)) -> 0 | AM12: =((IF(D12="j",1,0))+(IF(D12="p",1,0)))+(IF(D12=1,1,0)) -> 0 | AN12: =((IF(E12="j",1,0))+(IF(E12="p",1,0)))+(IF(E12=1,1,0)) -> 0 | AO12: =((IF(F12="j",1,0))+(IF(F12="p",1,0)))+(IF(F12=1,1,0)) -> 0 | AP12: =((IF(G12="j",1,0))+(IF(G12="p",1,0)))+(IF(G12=1,1,0)) -> 0 | AQ12: =((IF(H12="j",1,0))+(IF(H12="p",1,0)))+(IF(H12=1,1,0)) -> 0 | AR12: =((IF(I12="j",1,0))+(IF(I12="p",1,0)))+(IF(I12=1,1,0)) -> 0 | ... BD12: =((IF(U12="j",1,0))+(IF(U12="p",1,0)))+(IF(U12=1,1,0)) -> 0
A13: RENAUD TALBOT | V13: =SUM(AK13:BD13) -> 0 | AK13: =((IF(B13="j",1,0))+(IF(B13="p",1,0)))+(IF(B13=1,1,0)) -> 0 | AL13: =((IF(C13="j",1,0))+(IF(C13="p",1,0)))+(IF(C13=1,1,0)) -> 0 | AM13: =((IF(D13="j",1,0))+(IF(D13="p",1,0)))+(IF(D13=1,1,0)) -> 0 | AN13: =((IF(E13="j",1,0))+(IF(E13="p",1,0)))+(IF(E13=1,1,0)) -> 0 | AO13: =((IF(F13="j",1,0))+(IF(F13="p",1,0)))+(IF(F13=1,1,0)) -> 0 | AP13: =((IF(G13="j",1,0))+(IF(G13="p",1,0)))+(IF(G13=1,1,0)) -> 0 | AQ13: =((IF(H13="j",1,0))+(IF(H13="p",1,0)))+(IF(H13=1,1,0)) -> 0 | AR13: =((IF(I13="j",1,0))+(IF(I13="p",1,0)))+(IF(I13=1,1,0)) -> 0 | ... BD13: =((IF(U13="j",1,0))+(IF(U13="p",1,0)))+(IF(U13=1,1,0)) -> 0
A14: SAM LAROCHE | S14: 1 | V14: =SUM(AK14:BD14) -> 1 | AK14: =((IF(B14="j",1,0))+(IF(B14="p",1,0)))+(IF(B14=1,1,0)) -> 0 | AL14: =((IF(C14="j",1,0))+(IF(C14="p",1,0)))+(IF(C14=1,1,0)) -> 0 | AM14: =((IF(D14="j",1,0))+(IF(D14="p",1,0)))+(IF(D14=1,1,0)) -> 0 | AN14: =((IF(E14="j",1,0))+(IF(E14="p",1,0)))+(IF(E14=1,1,0)) -> 0 | AO14: =((IF(F14="j",1,0))+(IF(F14="p",1,0)))+(IF(F14=1,1,0)) -> 0 | AP14: =((IF(G14="j",1,0))+(IF(G14="p",1,0)))+(IF(G14=1,1,0)) -> 0 | AQ14: =((IF(H14="j",1,0))+(IF(H14="p",1,0)))+(IF(H14=1,1,0)) -> 0 | AR14: =((IF(I14="j",1,0))+(IF(I14="p",1,0)))+(IF(I14=1,1,0)) -> 0 | ... BD14: =((IF(U14="j",1,0))+(IF(U14="p",1,0)))+(IF(U14=1,1,0)) -> 0
A15: VINCENT CHIASSON | V15: =SUM(AK15:BD15) -> 0 | AK15: =((IF(B15="j",1,0))+(IF(B15="p",1,0)))+(IF(B15=1,1,0)) -> 0 | AL15: =((IF(C15="j",1,0))+(IF(C15="p",1,0)))+(IF(C15=1,1,0)) -> 0 | AM15: =((IF(D15="j",1,0))+(IF(D15="p",1,0)))+(IF(D15=1,1,0)) -> 0 | AN15: =((IF(E15="j",1,0))+(IF(E15="p",1,0)))+(IF(E15=1,1,0)) -> 0 | AO15: =((IF(F15="j",1,0))+(IF(F15="p",1,0)))+(IF(F15=1,1,0)) -> 0 | AP15: =((IF(G15="j",1,0))+(IF(G15="p",1,0)))+(IF(G15=1,1,0)) -> 0 | AQ15: =((IF(H15="j",1,0))+(IF(H15="p",1,0)))+(IF(H15=1,1,0)) -> 0 | AR15: =((IF(I15="j",1,0))+(IF(I15="p",1,0)))+(IF(I15=1,1,0)) -> 0 | ... BD15: =((IF(U15="j",1,0))+(IF(U15="p",1,0)))+(IF(U15=1,1,0)) -> 0
A16: WILLIAM LAMIRANDE | V16: =SUM(AK16:BD16) -> 0 | AK16: =((IF(B16="j",1,0))+(IF(B16="p",1,0)))+(IF(B16=1,1,0)) -> 0 | AL16: =((IF(C16="j",1,0))+(IF(C16="p",1,0)))+(IF(C16=1,1,0)) -> 0 | AM16: =((IF(D16="j",1,0))+(IF(D16="p",1,0)))+(IF(D16=1,1,0)) -> 0 | AN16: =((IF(E16="j",1,0))+(IF(E16="p",1,0)))+(IF(E16=1,1,0)) -> 0 | AO16: =((IF(F16="j",1,0))+(IF(F16="p",1,0)))+(IF(F16=1,1,0)) -> 0 | AP16: =((IF(G16="j",1,0))+(IF(G16="p",1,0)))+(IF(G16=1,1,0)) -> 0 | AQ16: =((IF(H16="j",1,0))+(IF(H16="p",1,0)))+(IF(H16=1,1,0)) -> 0 | AR16: =((IF(I16="j",1,0))+(IF(I16="p",1,0)))+(IF(I16=1,1,0)) -> 0 | ... BD16: =((IF(U16="j",1,0))+(IF(U16="p",1,0)))+(IF(U16=1,1,0)) -> 0
V17: =SUM(AK17:BD17) -> 0 | AK17: =((IF(B17="j",1,0))+(IF(B17="p",1,0)))+(IF(B17=1,1,0)) -> 0 | AL17: =((IF(C17="j",1,0))+(IF(C17="p",1,0)))+(IF(C17=1,1,0)) -> 0 | AM17: =((IF(D17="j",1,0))+(IF(D17="p",1,0)))+(IF(D17=1,1,0)) -> 0 | AN17: =((IF(E17="j",1,0))+(IF(E17="p",1,0)))+(IF(E17=1,1,0)) -> 0 | AO17: =((IF(F17="j",1,0))+(IF(F17="p",1,0)))+(IF(F17=1,1,0)) -> 0 | AP17: =((IF(G17="j",1,0))+(IF(G17="p",1,0)))+(IF(G17=1,1,0)) -> 0 | AQ17: =((IF(H17="j",1,0))+(IF(H17="p",1,0)))+(IF(H17=1,1,0)) -> 0 | AR17: =((IF(I17="j",1,0))+(IF(I17="p",1,0)))+(IF(I17=1,1,0)) -> 0 | ... BD17: =((IF(U17="j",1,0))+(IF(U17="p",1,0)))+(IF(U17=1,1,0)) -> 0
V18: =SUM(AK18:BD18) -> 0 | AK18: =((IF(B18="j",1,0))+(IF(B18="p",1,0)))+(IF(B18=1,1,0)) -> 0 | AL18: =((IF(C18="j",1,0))+(IF(C18="p",1,0)))+(IF(C18=1,1,0)) -> 0 | AM18: =((IF(D18="j",1,0))+(IF(D18="p",1,0)))+(IF(D18=1,1,0)) -> 0 | AN18: =((IF(E18="j",1,0))+(IF(E18="p",1,0)))+(IF(E18=1,1,0)) -> 0 | AO18: =((IF(F18="j",1,0))+(IF(F18="p",1,0)))+(IF(F18=1,1,0)) -> 0 | AP18: =((IF(G18="j",1,0))+(IF(G18="p",1,0)))+(IF(G18=1,1,0)) -> 0 | AQ18: =((IF(H18="j",1,0))+(IF(H18="p",1,0)))+(IF(H18=1,1,0)) -> 0 | AR18: =((IF(I18="j",1,0))+(IF(I18="p",1,0)))+(IF(I18=1,1,0)) -> 0 | ... BD18: =((IF(U18="j",1,0))+(IF(U18="p",1,0)))+(IF(U18=1,1,0)) -> 0
V19: =SUM(AK19:BD19) -> 0 | AK19: =((IF(B19="j",1,0))+(IF(B19="p",1,0)))+(IF(B19=1,1,0)) -> 0 | AL19: =((IF(C19="j",1,0))+(IF(C19="p",1,0)))+(IF(C19=1,1,0)) -> 0 | AM19: =((IF(D19="j",1,0))+(IF(D19="p",1,0)))+(IF(D19=1,1,0)) -> 0 | AN19: =((IF(E19="j",1,0))+(IF(E19="p",1,0)))+(IF(E19=1,1,0)) -> 0 | AO19: =((IF(F19="j",1,0))+(IF(F19="p",1,0)))+(IF(F19=1,1,0)) -> 0 | AP19: =((IF(G19="j",1,0))+(IF(G19="p",1,0)))+(IF(G19=1,1,0)) -> 0 | AQ19: =((IF(H19="j",1,0))+(IF(H19="p",1,0)))+(IF(H19=1,1,0)) -> 0 | AR19: =((IF(I19="j",1,0))+(IF(I19="p",1,0)))+(IF(I19=1,1,0)) -> 0 | ... BD19: =((IF(U19="j",1,0))+(IF(U19="p",1,0)))+(IF(U19=1,1,0)) -> 0
V20: =SUM(AK20:BD20) -> 0 | AK20: =((IF(B20="j",1,0))+(IF(B20="p",1,0)))+(IF(B20=1,1,0)) -> 0 | AL20: =((IF(C20="j",1,0))+(IF(C20="p",1,0)))+(IF(C20=1,1,0)) -> 0 | AM20: =((IF(D20="j",1,0))+(IF(D20="p",1,0)))+(IF(D20=1,1,0)) -> 0 | AN20: =((IF(E20="j",1,0))+(IF(E20="p",1,0)))+(IF(E20=1,1,0)) -> 0 | AO20: =((IF(F20="j",1,0))+(IF(F20="p",1,0)))+(IF(F20=1,1,0)) -> 0 | AP20: =((IF(G20="j",1,0))+(IF(G20="p",1,0)))+(IF(G20=1,1,0)) -> 0 | AQ20: =((IF(H20="j",1,0))+(IF(H20="p",1,0)))+(IF(H20=1,1,0)) -> 0 | AR20: =((IF(I20="j",1,0))+(IF(I20="p",1,0)))+(IF(I20=1,1,0)) -> 0 | ... BD20: =((IF(U20="j",1,0))+(IF(U20="p",1,0)))+(IF(U20=1,1,0)) -> 0
V21: =SUM(AK21:BD21) -> 0 | AK21: =((IF(B21="j",1,0))+(IF(B21="p",1,0)))+(IF(B21=1,1,0)) -> 0 | AL21: =((IF(C21="j",1,0))+(IF(C21="p",1,0)))+(IF(C21=1,1,0)) -> 0 | AM21: =((IF(D21="j",1,0))+(IF(D21="p",1,0)))+(IF(D21=1,1,0)) -> 0 | AN21: =((IF(E21="j",1,0))+(IF(E21="p",1,0)))+(IF(E21=1,1,0)) -> 0 | AO21: =((IF(F21="j",1,0))+(IF(F21="p",1,0)))+(IF(F21=1,1,0)) -> 0 | AP21: =((IF(G21="j",1,0))+(IF(G21="p",1,0)))+(IF(G21=1,1,0)) -> 0 | AQ21: =((IF(H21="j",1,0))+(IF(H21="p",1,0)))+(IF(H21=1,1,0)) -> 0 | AR21: =((IF(I21="j",1,0))+(IF(I21="p",1,0)))+(IF(I21=1,1,0)) -> 0 | ... BD21: =((IF(U21="j",1,0))+(IF(U21="p",1,0)))+(IF(U21=1,1,0)) -> 0
V22: =SUM(AK22:BD22) -> 0 | AK22: =((IF(B22="j",1,0))+(IF(B22="p",1,0)))+(IF(B22=1,1,0)) -> 0 | AL22: =((IF(C22="j",1,0))+(IF(C22="p",1,0)))+(IF(C22=1,1,0)) -> 0 | AM22: =((IF(D22="j",1,0))+(IF(D22="p",1,0)))+(IF(D22=1,1,0)) -> 0 | AN22: =((IF(E22="j",1,0))+(IF(E22="p",1,0)))+(IF(E22=1,1,0)) -> 0 | AO22: =((IF(F22="j",1,0))+(IF(F22="p",1,0)))+(IF(F22=1,1,0)) -> 0 | AP22: =((IF(G22="j",1,0))+(IF(G22="p",1,0)))+(IF(G22=1,1,0)) -> 0 | AQ22: =((IF(H22="j",1,0))+(IF(H22="p",1,0)))+(IF(H22=1,1,0)) -> 0 | AR22: =((IF(I22="j",1,0))+(IF(I22="p",1,0)))+(IF(I22=1,1,0)) -> 0 | ... BD22: =((IF(U22="j",1,0))+(IF(U22="p",1,0)))+(IF(U22=1,1,0)) -> 0
V23: =SUM(AK23:BD23) -> 0 | AK23: =((IF(B23="j",1,0))+(IF(B23="p",1,0)))+(IF(B23=1,1,0)) -> 0 | AL23: =((IF(C23="j",1,0))+(IF(C23="p",1,0)))+(IF(C23=1,1,0)) -> 0 | AM23: =((IF(D23="j",1,0))+(IF(D23="p",1,0)))+(IF(D23=1,1,0)) -> 0 | AN23: =((IF(E23="j",1,0))+(IF(E23="p",1,0)))+(IF(E23=1,1,0)) -> 0 | AO23: =((IF(F23="j",1,0))+(IF(F23="p",1,0)))+(IF(F23=1,1,0)) -> 0 | AP23: =((IF(G23="j",1,0))+(IF(G23="p",1,0)))+(IF(G23=1,1,0)) -> 0 | AQ23: =((IF(H23="j",1,0))+(IF(H23="p",1,0)))+(IF(H23=1,1,0)) -> 0 | AR23: =((IF(I23="j",1,0))+(IF(I23="p",1,0)))+(IF(I23=1,1,0)) -> 0 | ... BD23: =((IF(U23="j",1,0))+(IF(U23="p",1,0)))+(IF(U23=1,1,0)) -> 0
V24: =SUM(AK24:BD24) -> 0 | AK24: =((IF(B24="j",1,0))+(IF(B24="p",1,0)))+(IF(B24=1,1,0)) -> 0 | AL24: =((IF(C24="j",1,0))+(IF(C24="p",1,0)))+(IF(C24=1,1,0)) -> 0 | AM24: =((IF(D24="j",1,0))+(IF(D24="p",1,0)))+(IF(D24=1,1,0)) -> 0 | AN24: =((IF(E24="j",1,0))+(IF(E24="p",1,0)))+(IF(E24=1,1,0)) -> 0 | AO24: =((IF(F24="j",1,0))+(IF(F24="p",1,0)))+(IF(F24=1,1,0)) -> 0 | AP24: =((IF(G24="j",1,0))+(IF(G24="p",1,0)))+(IF(G24=1,1,0)) -> 0 | AQ24: =((IF(H24="j",1,0))+(IF(H24="p",1,0)))+(IF(H24=1,1,0)) -> 0 | AR24: =((IF(I24="j",1,0))+(IF(I24="p",1,0)))+(IF(I24=1,1,0)) -> 0 | ... BD24: =((IF(U24="j",1,0))+(IF(U24="p",1,0)))+(IF(U24=1,1,0)) -> 0
V25: =SUM(AK25:BD25) -> 0 | AK25: =((IF(B25="j",1,0))+(IF(B25="p",1,0)))+(IF(B25=1,1,0)) -> 0 | AL25: =((IF(C25="j",1,0))+(IF(C25="p",1,0)))+(IF(C25=1,1,0)) -> 0 | AM25: =((IF(D25="j",1,0))+(IF(D25="p",1,0)))+(IF(D25=1,1,0)) -> 0 | AN25: =((IF(E25="j",1,0))+(IF(E25="p",1,0)))+(IF(E25=1,1,0)) -> 0 | AO25: =((IF(F25="j",1,0))+(IF(F25="p",1,0)))+(IF(F25=1,1,0)) -> 0 | AP25: =((IF(G25="j",1,0))+(IF(G25="p",1,0)))+(IF(G25=1,1,0)) -> 0 | AQ25: =((IF(H25="j",1,0))+(IF(H25="p",1,0)))+(IF(H25=1,1,0)) -> 0 | AR25: =((IF(I25="j",1,0))+(IF(I25="p",1,0)))+(IF(I25=1,1,0)) -> 0 | ... BD25: =((IF(U25="j",1,0))+(IF(U25="p",1,0)))+(IF(U25=1,1,0)) -> 0
V26: =SUM(AK26:BD26) -> 0 | AK26: =((IF(B26="j",1,0))+(IF(B26="p",1,0)))+(IF(B26=1,1,0)) -> 0 | AL26: =((IF(C26="j",1,0))+(IF(C26="p",1,0)))+(IF(C26=1,1,0)) -> 0 | AM26: =((IF(D26="j",1,0))+(IF(D26="p",1,0)))+(IF(D26=1,1,0)) -> 0 | AN26: =((IF(E26="j",1,0))+(IF(E26="p",1,0)))+(IF(E26=1,1,0)) -> 0 | AO26: =((IF(F26="j",1,0))+(IF(F26="p",1,0)))+(IF(F26=1,1,0)) -> 0 | AP26: =((IF(G26="j",1,0))+(IF(G26="p",1,0)))+(IF(G26=1,1,0)) -> 0 | AQ26: =((IF(H26="j",1,0))+(IF(H26="p",1,0)))+(IF(H26=1,1,0)) -> 0 | AR26: =((IF(I26="j",1,0))+(IF(I26="p",1,0)))+(IF(I26=1,1,0)) -> 0 | ... BD26: =((IF(U26="j",1,0))+(IF(U26="p",1,0)))+(IF(U26=1,1,0)) -> 0
V27: =SUM(AK27:BD27) -> 0 | AK27: =((IF(B27="j",1,0))+(IF(B27="p",1,0)))+(IF(B27=1,1,0)) -> 0 | AL27: =((IF(C27="j",1,0))+(IF(C27="p",1,0)))+(IF(C27=1,1,0)) -> 0 | AM27: =((IF(D27="j",1,0))+(IF(D27="p",1,0)))+(IF(D27=1,1,0)) -> 0 | AN27: =((IF(E27="j",1,0))+(IF(E27="p",1,0)))+(IF(E27=1,1,0)) -> 0 | AO27: =((IF(F27="j",1,0))+(IF(F27="p",1,0)))+(IF(F27=1,1,0)) -> 0 | AP27: =((IF(G27="j",1,0))+(IF(G27="p",1,0)))+(IF(G27=1,1,0)) -> 0 | AQ27: =((IF(H27="j",1,0))+(IF(H27="p",1,0)))+(IF(H27=1,1,0)) -> 0 | AR27: =((IF(I27="j",1,0))+(IF(I27="p",1,0)))+(IF(I27=1,1,0)) -> 0 | ... BD27: =((IF(U27="j",1,0))+(IF(U27="p",1,0)))+(IF(U27=1,1,0)) -> 0
V28: =SUM(AK28:BD28) -> 0 | AK28: =((IF(B28="j",1,0))+(IF(B28="p",1,0)))+(IF(B28=1,1,0)) -> 0 | AL28: =((IF(C28="j",1,0))+(IF(C28="p",1,0)))+(IF(C28=1,1,0)) -> 0 | AM28: =((IF(D28="j",1,0))+(IF(D28="p",1,0)))+(IF(D28=1,1,0)) -> 0 | AN28: =((IF(E28="j",1,0))+(IF(E28="p",1,0)))+(IF(E28=1,1,0)) -> 0 | AO28: =((IF(F28="j",1,0))+(IF(F28="p",1,0)))+(IF(F28=1,1,0)) -> 0 | AP28: =((IF(G28="j",1,0))+(IF(G28="p",1,0)))+(IF(G28=1,1,0)) -> 0 | AQ28: =((IF(H28="j",1,0))+(IF(H28="p",1,0)))+(IF(H28=1,1,0)) -> 0 | AR28: =((IF(I28="j",1,0))+(IF(I28="p",1,0)))+(IF(I28=1,1,0)) -> 0 | ... BD28: =((IF(U28="j",1,0))+(IF(U28="p",1,0)))+(IF(U28=1,1,0)) -> 0
... V85: =SUM(AK85:BD85) -> 0 | AK85: =((IF(B85="j",1,0))+(IF(B85="p",1,0)))+(IF(B85=1,1,0)) -> 0 | AL85: =((IF(C85="j",1,0))+(IF(C85="p",1,0)))+(IF(C85=1,1,0)) -> 0 | AM85: =((IF(D85="j",1,0))+(IF(D85="p",1,0)))+(IF(D85=1,1,0)) -> 0 | AN85: =((IF(E85="j",1,0))+(IF(E85="p",1,0)))+(IF(E85=1,1,0)) -> 0 | AO85: =((IF(F85="j",1,0))+(IF(F85="p",1,0)))+(IF(F85=1,1,0)) -> 0 | AP85: =((IF(G85="j",1,0))+(IF(G85="p",1,0)))+(IF(G85=1,1,0)) -> 0 | AQ85: =((IF(H85="j",1,0))+(IF(H85="p",1,0)))+(IF(H85=1,1,0)) -> 0 | AR85: =((IF(I85="j",1,0))+(IF(I85="p",1,0)))+(IF(I85=1,1,0)) -> 0 | ... BD85: =((IF(U85="j",1,0))+(IF(U85="p",1,0)))+(IF(U85=1,1,0)) -> 0
A86: TOTAUX | B86: =SUM(AK3:AK85) -> 0 | C86: =SUM(AL3:AL85) -> 0 | D86: =SUM(AM3:AM85) -> 0 | E86: =SUM(AN3:AN85) -> 0 | F86: =SUM(AO3:AO85) -> 0 | G86: =SUM(AP3:AP85) -> 0 | H86: =SUM(AQ3:AQ85) -> 0 | I86: =SUM(AR3:AR85) -> 0 | ... U86: =SUM(BD3:BD85) -> 0

Sheet 6ème
B1: Semaine 1 | G1: Semaine 2 | L1: Semaine 3 | Q1: Semaine 4
A2: 6ème année | B2: =Cumulatif!A4 -> 25 | C2: =Cumulatif!B4 -> 26 | D2: =Cumulatif!C4 -> 27 | E2: =Cumulatif!D4 -> 28 | F2: =Cumulatif!E4 -> 29 | G2: =Cumulatif!F4 -> 1 | H2: =Cumulatif!G4 -> 2 | I2: =Cumulatif!H4 -> 3 | ... U2: =Cumulatif!T4 -> 19
A3: ANAIS DUPONT | V3: =SUM(AK3:BD3) -> 0 | AK3: =((IF(B3="j",1,0))+(IF(B3="p",1,0)))+(IF(B3=1,1,0)) -> 0 | AL3: =((IF(C3="j",1,0))+(IF(C3="p",1,0)))+(IF(C3=1,1,0)) -> 0 | AM3: =((IF(D3="j",1,0))+(IF(D3="p",1,0)))+(IF(D3=1,1,0)) -> 0 | AN3: =((IF(E3="j",1,0))+(IF(E3="p",1,0)))+(IF(E3=1,1,0)) -> 0 | AO3: =((IF(F3="j",1,0))+(IF(F3="p",1,0)))+(IF(F3=1,1,0)) -> 0 | AP3: =((IF(G3="j",1,0))+(IF(G3="p",1,0)))+(IF(G3=1,1,0)) -> 0 | AQ3: =((IF(H3="j",1,0))+(IF(H3="p",1,0)))+(IF(H3=1,1,0)) -> 0 | AR3: =((IF(I3="j",1,0))+(IF(I3="p",1,0)))+(IF(I3=1,1,0)) -> 0 | ... BD3: =((IF(U3="j",1,0))+(IF(U3="p",1,0)))+(IF(U3=1,1,0)) -> 0
A4: ANTOINE BOUCHER | V4: =SUM(AK4:BD4) -> 0 | AK4: =((IF(B4="j",1,0))+(IF(B4="p",1,0)))+(IF(B4=1,1,0)) -> 0 | AL4: =((IF(C4="j",1,0))+(IF(C4="p",1,0)))+(IF(C4=1,1,0)) -> 0 | AM4: =((IF(D4="j",1,0))+(IF(D4="p",1,0)))+(IF(D4=1,1,0)) -> 0 | AN4: =((IF(E4="j",1,0))+(IF(E4="p",1,0)))+(IF(E4=1,1,0)) -> 0 | AO4: =((IF(F4="j",1,0))+(IF(F4="p",1,0)))+(IF(F4=1,1,0)) -> 0 | AP4: =((IF(G4="j",1,0))+(IF(G4="p",1,0)))+(IF(G4=1,1,0)) -> 0 | AQ4: =((IF(H4="j",1,0))+(IF(H4="p",1,0)))+(IF(H4=1,1,0)) -> 0 | AR4: =((IF(I4="j",1,0))+(IF(I4="p",1,0)))+(IF(I4=1,1,0)) -> 0 | ... BD4: =((IF(U4="j",1,0))+(IF(U4="p",1,0)))+(IF(U4=1,1,0)) -> 0
A5: ARTHUR DIDELOT | S5: 1 | V5: =SUM(AK5:BD5) -> 1 | AK5: =((IF(B5="j",1,0))+(IF(B5="p",1,0)))+(IF(B5=1,1,0)) -> 0 | AL5: =((IF(C5="j",1,0))+(IF(C5="p",1,0)))+(IF(C5=1,1,0)) -> 0 | AM5: =((IF(D5="j",1,0))+(IF(D5="p",1,0)))+(IF(D5=1,1,0)) -> 0 | AN5: =((IF(E5="j",1,0))+(IF(E5="p",1,0)))+(IF(E5=1,1,0)) -> 0 | AO5: =((IF(F5="j",1,0))+(IF(F5="p",1,0)))+(IF(F5=1,1,0)) -> 0 | AP5: =((IF(G5="j",1,0))+(IF(G5="p",1,0)))+(IF(G5=1,1,0)) -> 0 | AQ5: =((IF(H5="j",1,0))+(IF(H5="p",1,0)))+(IF(H5=1,1,0)) -> 0 | AR5: =((IF(I5="j",1,0))+(IF(I5="p",1,0)))+(IF(I5=1,1,0)) -> 0 | ... BD5: =((IF(U5="j",1,0))+(IF(U5="p",1,0)))+(IF(U5=1,1,0)) -> 0
A6: FÉLIX MERCIER | V6: =SUM(AK6:BD6) -> 0 | AK6: =((IF(B6="j",1,0))+(IF(B6="p",1,0)))+(IF(B6=1,1,0)) -> 0 | AL6: =((IF(C6="j",1,0))+(IF(C6="p",1,0)))+(IF(C6=1,1,0)) -> 0 | AM6: =((IF(D6="j",1,0))+(IF(D6="p",1,0)))+(IF(D6=1,1,0)) -> 0 | AN6: =((IF(E6="j",1,0))+(IF(E6="p",1,0)))+(IF(E6=1,1,0)) -> 0 | AO6: =((IF(F6="j",1,0))+(IF(F6="p",1,0)))+(IF(F6=1,1,0)) -> 0 | AP6: =((IF(G6="j",1,0))+(IF(G6="p",1,0)))+(IF(G6=1,1,0)) -> 0 | AQ6: =((IF(H6="j",1,0))+(IF(H6="p",1,0)))+(IF(H6=1,1,0)) -> 0 | AR6: =((IF(I6="j",1,0))+(IF(I6="p",1,0)))+(IF(I6=1,1,0)) -> 0 | ... BD6: =((IF(U6="j",1,0))+(IF(U6="p",1,0)))+(IF(U6=1,1,0)) -> 0
A7: Roxane Andriam. Mialy | V7: =SUM(AK7:BD7) -> 0 | AK7: =((IF(B7="j",1,0))+(IF(B7="p",1,0)))+(IF(B7=1,1,0)) -> 0 | AL7: =((IF(C7="j",1,0))+(IF(C7="p",1,0)))+(IF(C7=1,1,0)) -> 0 | AM7: =((IF(D7="j",1,0))+(IF(D7="p",1,0)))+(IF(D7=1,1,0)) -> 0 | AN7: =((IF(E7="j",1,0))+(IF(E7="p",1,0)))+(IF(E7=1,1,0)) -> 0 | AO7: =((IF(F7="j",1,0))+(IF(F7="p",1,0)))+(IF(F7=1,1,0)) -> 0 | AP7: =((IF(G7="j",1,0))+(IF(G7="p",1,0)))+(IF(G7=1,1,0)) -> 0 | AQ7: =((IF(H7="j",1,0))+(IF(H7="p",1,0)))+(IF(H7=1,1,0)) -> 0 | AR7: =((IF(I7="j",1,0))+(IF(I7="p",1,0)))+(IF(I7=1,1,0)) -> 0 | ... BD7: =((IF(U7="j",1,0))+(IF(U7="p",1,0)))+(IF(U7=1,1,0)) -> 0
V8: =SUM(AK8:BD8) -> 0 | AK8: =((IF(B8="j",1,0))+(IF(B8="p",1,0)))+(IF(B8=1,1,0)) -> 0 | AL8: =((IF(C8="j",1,0))+(IF(C8="p",1,0)))+(IF(C8=1,1,0)) -> 0 | AM8: =((IF(D8="j",1,0))+(IF(D8="p",1,0)))+(IF(D8=1,1,0)) -> 0 | AN8: =((IF(E8="j",1,0))+(IF(E8="p",1,0)))+(IF(E8=1,1,0)) -> 0 | AO8: =((IF(F8="j",1,0))+(IF(F8="p",1,0)))+(IF(F8=1,1,0)) -> 0 | AP8: =((IF(G8="j",1,0))+(IF(G8="p",1,0)))+(IF(G8=1,1,0)) -> 0 | AQ8: =((IF(H8="j",1,0))+(IF(H8="p",1,0)))+(IF(H8=1,1,0)) -> 0 | AR8: =((IF(I8="j",1,0))+(IF(I8="p",1,0)))+(IF(I8=1,1,0)) -> 0 | ... BD8: =((IF(U8="j",1,0))+(IF(U8="p",1,0)))+(IF(U8=1,1,0)) -> 0
V9: =SUM(AK9:BD9) -> 0 | AK9: =((IF(B9="j",1,0))+(IF(B9="p",1,0)))+(IF(B9=1,1,0)) -> 0 | AL9: =((IF(C9="j",1,0))+(IF(C9="p",1,0)))+(IF(C9=1,1,0)) -> 0 | AM9: =((IF(D9="j",1,0))+(IF(D9="p",1,0)))+(IF(D9=1,1,0)) -> 0 | AN9: =((IF(E9="j",1,0))+(IF(E9="p",1,0)))+(IF(E9=1,1,0)) -> 0 | AO9: =((IF(F9="j",1,0))+(IF(F9="p",1,0)))+(IF(F9=1,1,0)) -> 0 | AP9: =((IF(G9="j",1,0))+(IF(G9="p",1,0)))+(IF(G9=1,1,0)) -> 0 | AQ9: =((IF(H9="j",1,0))+(IF(H9="p",1,0)))+(IF(H9=1,1,0)) -> 0 | AR9: =((IF(I9="j",1,0))+(IF(I9="p",1,0)))+(IF(I9=1,1,0)) -> 0 | ... BD9: =((IF(U9="j",1,0))+(IF(U9="p",1,0)))+(IF(U9=1,1,0)) -> 0
V10: =SUM(AK10:BD10) -> 0 | AK10: =((IF(B10="j",1,0))+(IF(B10="p",1,0)))+(IF(B10=1,1,0)) -> 0 | AL10: =((IF(C10="j",1,0))+(IF(C10="p",1,0)))+(IF(C10=1,1,0)) -> 0 | AM10: =((IF(D10="j",1,0))+(IF(D10="p",1,0)))+(IF(D10=1,1,0)) -> 0 | AN10: =((IF(E10="j",1,0))+(IF(E10="p",1,0)))+(IF(E10=1,1,0)) -> 0 | AO10: =((IF(F10="j",1,0))+(IF(F10="p",1,0)))+(IF(F10=1,1,0)) -> 0 | AP10: =((IF(G10="j",1,0))+(IF(G10="p",1,0)))+(IF(G10=1,1,0)) -> 0 | AQ10: =((IF(H10="j",1,0))+(IF(H10="p",1,0)))+(IF(H10=1,1,0)) -> 0 | AR10: =((IF(I10="j",1,0))+(IF(I10="p",1,0)))+(IF(I10=1,1,0)) -> 0 | ... BD10: =((IF(U10="j",1,0))+(IF(U10="p",1,0)))+(IF(U10=1,1,0)) -> 0
V11: =SUM(AK11:BD11) -> 0 | AK11: =((IF(B11="j",1,0))+(IF(B11="p",1,0)))+(IF(B11=1,1,0)) -> 0 | AL11: =((IF(C11="j",1,0))+(IF(C11="p",1,0)))+(IF(C11=1,1,0)) -> 0 | AM11: =((IF(D11="j",1,0))+(IF(D11="p",1,0)))+(IF(D11=1,1,0)) -> 0 | AN11: =((IF(E11="j",1,0))+(IF(E11="p",1,0)))+(IF(E11=1,1,0)) -> 0 | AO11: =((IF(F11="j",1,0))+(IF(F11="p",1,0)))+(IF(F11=1,1,0)) -> 0 | AP11: =((IF(G11="j",1,0))+(IF(G11="p",1,0)))+(IF(G11=1,1,0)) -> 0 | AQ11: =((IF(H11="j",1,0))+(IF(H11="p",1,0)))+(IF(H11=1,1,0)) -> 0 | AR11: =((IF(I11="j",1,0))+(IF(I11="p",1,0)))+(IF(I11=1,1,0)) -> 0 | ... BD11: =((IF(U11="j",1,0))+(IF(U11="p",1,0)))+(IF(U11=1,1,0)) -> 0
V12: =SUM(AK12:BD12) -> 0 | AK12: =((IF(B12="j",1,0))+(IF(B12="p",1,0)))+(IF(B12=1,1,0)) -> 0 | AL12: =((IF(C12="j",1,0))+(IF(C12="p",1,0)))+(IF(C12=1,1,0)) -> 0 | AM12: =((IF(D12="j",1,0))+(IF(D12="p",1,0)))+(IF(D12=1,1,0)) -> 0 | AN12: =((IF(E12="j",1,0))+(IF(E12="p",1,0)))+(IF(E12=1,1,0)) -> 0 | AO12: =((IF(F12="j",1,0))+(IF(F12="p",1,0)))+(IF(F12=1,1,0)) -> 0 | AP12: =((IF(G12="j",1,0))+(IF(G12="p",1,0)))+(IF(G12=1,1,0)) -> 0 | AQ12: =((IF(H12="j",1,0))+(IF(H12="p",1,0)))+(IF(H12=1,1,0)) -> 0 | AR12: =((IF(I12="j",1,0))+(IF(I12="p",1,0)))+(IF(I12=1,1,0)) -> 0 | ... BD12: =((IF(U12="j",1,0))+(IF(U12="p",1,0)))+(IF(U12=1,1,0)) -> 0
V13: =SUM(AK13:BD13) -> 0 | AK13: =((IF(B13="j",1,0))+(IF(B13="p",1,0)))+(IF(B13=1,1,0)) -> 0 | AL13: =((IF(C13="j",1,0))+(IF(C13="p",1,0)))+(IF(C13=1,1,0)) -> 0 | AM13: =((IF(D13="j",1,0))+(IF(D13="p",1,0)))+(IF(D13=1,1,0)) -> 0 | AN13: =((IF(E13="j",1,0))+(IF(E13="p",1,0)))+(IF(E13=1,1,0)) -> 0 | AO13: =((IF(F13="j",1,0))+(IF(F13="p",1,0)))+(IF(F13=1,1,0)) -> 0 | AP13: =((IF(G13="j",1,0))+(IF(G13="p",1,0)))+(IF(G13=1,1,0)) -> 0 | AQ13: =((IF(H13="j",1,0))+(IF(H13="p",1,0)))+(IF(H13=1,1,0)) -> 0 | AR13: =((IF(I13="j",1,0))+(IF(I13="p",1,0)))+(IF(I13=1,1,0)) -> 0 | ... BD13: =((IF(U13="j",1,0))+(IF(U13="p",1,0)))+(IF(U13=1,1,0)) -> 0
V14: =SUM(AK14:BD14) -> 0 | AK14: =((IF(B14="j",1,0))+(IF(B14="p",1,0)))+(IF(B14=1,1,0)) -> 0 | AL14: =((IF(C14="j",1,0))+(IF(C14="p",1,0)))+(IF(C14=1,1,0)) -> 0 | AM14: =((IF(D14="j",1,0))+(IF(D14="p",1,0)))+(IF(D14=1,1,0)) -> 0 | AN14: =((IF(E14="j",1,0))+(IF(E14="p",1,0)))+(IF(E14=1,1,0)) -> 0 | AO14: =((IF(F14="j",1,0))+(IF(F14="p",1,0)))+(IF(F14=1,1,0)) -> 0 | AP14: =((IF(G14="j",1,0))+(IF(G14="p",1,0)))+(IF(G14=1,1,0)) -> 0 | AQ14: =((IF(H14="j",1,0))+(IF(H14="p",1,0)))+(IF(H14=1,1,0)) -> 0 | AR14: =((IF(I14="j",1,0))+(IF(I14="p",1,0)))+(IF(I14=1,1,0)) -> 0 | ... BD14: =((IF(U14="j",1,0))+(IF(U14="p",1,0)))+(IF(U14=1,1,0)) -> 0
V15: =SUM(AK15:BD15) -> 0 | AK15: =((IF(B15="j",1,0))+(IF(B15="p",1,0)))+(IF(B15=1,1,0)) -> 0 | AL15: =((IF(C15="j",1,0))+(IF(C15="p",1,0)))+(IF(C15=1,1,0)) -> 0 | AM15: =((IF(D15="j",1,0))+(IF(D15="p",1,0)))+(IF(D15=1,1,0)) -> 0 | AN15: =((IF(E15="j",1,0))+(IF(E15="p",1,0)))+(IF(E15=1,1,0)) -> 0 | AO15: =((IF(F15="j",1,0))+(IF(F15="p",1,0)))+(IF(F15=1,1,0)) -> 0 | AP15: =((IF(G15="j",1,0))+(IF(G15="p",1,0)))+(IF(G15=1,1,0)) -> 0 | AQ15: =((IF(H15="j",1,0))+(IF(H15="p",1,0)))+(IF(H15=1,1,0)) -> 0 | AR15: =((IF(I15="j",1,0))+(IF(I15="p",1,0)))+(IF(I15=1,1,0)) -> 0 | ... BD15: =((IF(U15="j",1,0))+(IF(U15="p",1,0)))+(IF(U15=1,1,0)) -> 0
V16: =SUM(AK16:BD16) -> 0 | AK16: =((IF(B16="j",1,0))+(IF(B16="p",1,0)))+(IF(B16=1,1,0)) -> 0 | AL16: =((IF(C16="j",1,0))+(IF(C16="p",1,0)))+(IF(C16=1,1,0)) -> 0 | AM16: =((IF(D16="j",1,0))+(IF(D16="p",1,0)))+(IF(D16=1,1,0)) -> 0 | AN16: =((IF(E16="j",1,0))+(IF(E16="p",1,0)))+(IF(E16=1,1,0)) -> 0 | AO16: =((IF(F16="j",1,0))+(IF(F16="p",1,0)))+(IF(F16=1,1,0)) -> 0 | AP16: =((IF(G16="j",1,0))+(IF(G16="p",1,0)))+(IF(G16=1,1,0)) -> 0 | AQ16: =((IF(H16="j",1,0))+(IF(H16="p",1,0)))+(IF(H16=1,1,0)) -> 0 | AR16: =((IF(I16="j",1,0))+(IF(I16="p",1,0)))+(IF(I16=1,1,0)) -> 0 | ... BD16: =((IF(U16="j",1,0))+(IF(U16="p",1,0)))+(IF(U16=1,1,0)) -> 0
V17: =SUM(AK17:BD17) -> 0 | AK17: =((IF(B17="j",1,0))+(IF(B17="p",1,0)))+(IF(B17=1,1,0)) -> 0 | AL17: =((IF(C17="j",1,0))+(IF(C17="p",1,0)))+(IF(C17=1,1,0)) -> 0 | AM17: =((IF(D17="j",1,0))+(IF(D17="p",1,0)))+(IF(D17=1,1,0)) -> 0 | AN17: =((IF(E17="j",1,0))+(IF(E17="p",1,0)))+(IF(E17=1,1,0)) -> 0 | AO17: =((IF(F17="j",1,0))+(IF(F17="p",1,0)))+(IF(F17=1,1,0)) -> 0 | AP17: =((IF(G17="j",1,0))+(IF(G17="p",1,0)))+(IF(G17=1,1,0)) -> 0 | AQ17: =((IF(H17="j",1,0))+(IF(H17="p",1,0)))+(IF(H17=1,1,0)) -> 0 | AR17: =((IF(I17="j",1,0))+(IF(I17="p",1,0)))+(IF(I17=1,1,0)) -> 0 | ... BD17: =((IF(U17="j",1,0))+(IF(U17="p",1,0)))+(IF(U17=1,1,0)) -> 0
V18: =SUM(AK18:BD18) -> 0 | AK18: =((IF(B18="j",1,0))+(IF(B18="p",1,0)))+(IF(B18=1,1,0)) -> 0 | AL18: =((IF(C18="j",1,0))+(IF(C18="p",1,0)))+(IF(C18=1,1,0)) -> 0 | AM18: =((IF(D18="j",1,0))+(IF(D18="p",1,0)))+(IF(D18=1,1,0)) -> 0 | AN18: =((IF(E18="j",1,0))+(IF(E18="p",1,0)))+(IF(E18=1,1,0)) -> 0 | AO18: =((IF(F18="j",1,0))+(IF(F18="p",1,0)))+(IF(F18=1,1,0)) -> 0 | AP18: =((IF(G18="j",1,0))+(IF(G18="p",1,0)))+(IF(G18=1,1,0)) -> 0 | AQ18: =((IF(H18="j",1,0))+(IF(H18="p",1,0)))+(IF(H18=1,1,0)) -> 0 | AR18: =((IF(I18="j",1,0))+(IF(I18="p",1,0)))+(IF(I18=1,1,0)) -> 0 | ... BD18: =((IF(U18="j",1,0))+(IF(U18="p",1,0)))+(IF(U18=1,1,0)) -> 0
V19: =SUM(AK19:BD19) -> 0 | AK19: =((IF(B19="j",1,0))+(IF(B19="p",1,0)))+(IF(B19=1,1,0)) -> 0 | AL19: =((IF(C19="j",1,0))+(IF(C19="p",1,0)))+(IF(C19=1,1,0)) -> 0 | AM19: =((IF(D19="j",1,0))+(IF(D19="p",1,0)))+(IF(D19=1,1,0)) -> 0 | AN19: =((IF(E19="j",1,0))+(IF(E19="p",1,0)))+(IF(E19=1,1,0)) -> 0 | AO19: =((IF(F19="j",1,0))+(IF(F19="p",1,0)))+(IF(F19=1,1,0)) -> 0 | AP19: =((IF(G19="j",1,0))+(IF(G19="p",1,0)))+(IF(G19=1,1,0)) -> 0 | AQ19: =((IF(H19="j",1,0))+(IF(H19="p",1,0)))+(IF(H19=1,1,0)) -> 0 | AR19: =((IF(I19="j",1,0))+(IF(I19="p",1,0)))+(IF(I19=1,1,0)) -> 0 | ... BD19: =((IF(U19="j",1,0))+(IF(U19="p",1,0)))+(IF(U19=1,1,0)) -> 0
... V85: =SUM(AK85:BD85) -> 0 | AK85: =((IF(B85="j",1,0))+(IF(B85="p",1,0)))+(IF(B85=1,1,0)) -> 0 | AL85: =((IF(C85="j",1,0))+(IF(C85="p",1,0)))+(IF(C85=1,1,0)) -> 0 | AM85: =((IF(D85="j",1,0))+(IF(D85="p",1,0)))+(IF(D85=1,1,0)) -> 0 | AN85: =((IF(E85="j",1,0))+(IF(E85="p",1,0)))+(IF(E85=1,1,0)) -> 0 | AO85: =((IF(F85="j",1,0))+(IF(F85="p",1,0)))+(IF(F85=1,1,0)) -> 0 | AP85: =((IF(G85="j",1,0))+(IF(G85="p",1,0)))+(IF(G85=1,1,0)) -> 0 | AQ85: =((IF(H85="j",1,0))+(IF(H85="p",1,0)))+(IF(H85=1,1,0)) -> 0 | AR85: =((IF(I85="j",1,0))+(IF(I85="p",1,0)))+(IF(I85=1,1,0)) -> 0 | ... BD85: =((IF(U85="j",1,0))+(IF(U85="p",1,0)))+(IF(U85=1,1,0)) -> 0
A86: TOTAUX | B86: =SUM(AK3:AK85) -> 0 | C86: =SUM(AL3:AL85) -> 0 | D86: =SUM(AM3:AM85) -> 0 | E86: =SUM(AN3:AN85) -> 0 | F86: =SUM(AO3:AO85) -> 0 | G86: =SUM(AP3:AP85) -> 0 | H86: =SUM(AQ3:AQ85) -> 0 | I86: =SUM(AR3:AR85) -> 0 | ... U86: =SUM(BD3:BD85) -> 0

Sheet Cumulatif
A1: Cumulatif
A3: Semaine 1 | F3: Semaine 2 | K3: Semaine 3 | P3: Semaine 4
A4: 25 | B4: 26 | C4: 27 | D4: 28 | E4: 29 | F4: 1 | G4: 2 | H4: 3 | I4: 4 | J4: 5 | K4: 8 | L4: 9 | M4: 10 | N4: 11 | O4: 12 | P4: 15 | Q4: 16 | R4: 17 | S4: 18 | T4: 19
A5: =Maternelle!B86+'1er'!B86+'2ème'!B86+'3ème'!B86+'4ème'!B86+'5ème'!B86+'6ème'!B86 -> 3 | B5: =Maternelle!C86+'1er'!C86+'2ème'!C86+'3ème'!C86+'4ème'!C86+'5ème'!C86+'6ème'!C86 -> 3 | C5: =Maternelle!D86+'1er'!D86+'2ème'!D86+'3ème'!D86+'4ème'!D86+'5ème'!D86+'6ème'!D86 -> 4 | D5: =Maternelle!E86+'1er'!E86+'2ème'!E86+'3ème'!E86+'4ème'!E86+'5ème'!E86+'6ème'!E86 -> 2 | E5: =Maternelle!F86+'1er'!F86+'2ème'!F86+'3ème'!F86+'4ème'!F86+'5ème'!F86+'6ème'!F86 -> 2 | F5: =Maternelle!G86+'1er'!G86+'2ème'!G86+'3ème'!G86+'4ème'!G86+'5ème'!G86+'6ème'!G86 -> 0 | G5: =Maternelle!H86+'1er'!H86+'2ème'!H86+'3ème'!H86+'4ème'!H86+'5ème'!H86+'6ème'!H86 -> 4 | H5: =Maternelle!I86+'1er'!I86+'2ème'!I86+'3ème'!I86+'4ème'!I86+'5ème'!I86+'6ème'!I86 -> 3 | ... T5: =Maternelle!U86+'1er'!U86+'2ème'!U86+'3ème'!U86+'4ème'!U86+'5ème'!U86+'6ème'!U86 -> 0
A7: Cumulatif en ligne
A9: Semaine 1 | F9: Semaine 2 | K9: Semaine 3 | P9: Semaine 4
A10: =A4 -> 25 | B10: =B4 -> 26 | C10: =C4 -> 27 | D10: =D4 -> 28 | E10: =E4 -> 29 | F10: =F4 -> 1 | G10: =G4 -> 2 | H10: =H4 -> 3 | ... T10: =T4 -> 19
A13: Cumulatif total
A15: Semaine 1 | F15: Semaine 2 | K15: Semaine 3 | P15: Semaine 4
A16: =A4 -> 25 | B16: =B4 -> 26 | C16: =C4 -> 27 | D16: =D4 -> 28 | E16: =E4 -> 29 | F16: =F4 -> 1 | G16: =G4 -> 2 | H16: =H4 -> 3 | ... T16: =T4 -> 19
A17: =A11+A5 -> 3 | B17: =B11+B5 -> 3 | C17: =C11+C5 -> 4 | D17: =D11+D5 -> 2 | E17: =E11+E5 -> 2 | F17: =F11+F5 -> 0 | G17: =G11+G5 -> 4 | H17: =H11+H5 -> 3 | ... T17: =T11+T5 -> 0
G20: Moyenne: | I20: =SUM(A17:T17)/COUNTA(A17:T17) -> 3.2

Sheet R du jour
A1: Réservation du jour
G3: 25 | H3: Février 2016
A5: Maternelle | C5: 1er année | E5: 2eme année | G5: 3eme année | I5: 4eme année | K5: 5eme année | M5: 6eme année
A6: =IF(AND(G3=P11,Maternelle!B3>0),Maternelle!A3,IF(AND(G3=Q11,Maternelle!C3>0),Maternelle!A3,IF(AND(G3=R11,Maternelle!D3>0),Maternelle!A3,IF(AND(G3=S11,Maternelle!E3>0),Maternelle!A3,IF(AND(G3=T11,Maternelle!F3>0),Maternelle!A3,IF(AND(G3=U11,Maternelle!G3>0),Maternelle!A3,IF(AND(G3=V11,Maternelle!H3>0),Maternelle!A3,IF(AND(G3=W11,Maternelle!I3>0),Maternelle!A3,IF(AND(G3=X11,Maternelle!J3>0),Maternelle!A3,IF(AND(G3=Y11,Maternelle!K3>0),Maternelle!A3,IF(AND(G3=Z11,Maternelle!L3>0),Maternelle!A3,IF(AND(G3=AA11,Maternelle!M3>0),Maternelle!A3,IF(AND(G3=AB11,Maternelle!N3>0),Maternelle!A3,IF(AND(G3=AC11,Maternelle!O3>0),Maternelle!A3,IF(AND(G3=AD11,Maternelle!P3>0),Maternelle!A3,IF(AND(G3=AE11,Maternelle!Q3>0),Maternelle!A3,IF(AND(G3=AF11,Maternelle!R3>0),Maternelle!A3,IF(AND(G3=AG11,Maternelle!S3>0),Maternelle!A3,IF(AND(G3=AH11,Maternelle!T3>0),Maternelle!A3,IF(AND(G3=AI11,Maternelle!U3>0),Maternelle!A3,IF(AND(G3=AJ11,Maternelle!V3>0),Maternelle!A3,0))))))))))))))))))))) -> 0 | C6: =IF(AND(G3=P11,'1er'!B3>0),'1er'!A3,IF(AND(G3=Q11,'1er'!C3>0),'1er'!A3,IF(AND(G3=R11,'1er'!D3>0),'1er'!A3,IF(AND(G3=S11,'1er'!E3>0),'1er'!A3,IF(AND(G3=T11,'1er'!F3>0),'1er'!A3,IF(AND(G3=U11,'1er'!G3>0),'1er'!A3,IF(AND(G3=V11,'1er'!H3>0),'1er'!A3,IF(AND(G3=W11,'1er'!I3>0),'1er'!A3,IF(AND(G3=X11,'1er'!J3>0),'1er'!A3,IF(AND(G3=Y11,'1er'!K3>0),'1er'!A3,IF(AND(G3=Z11,'1er'!L3>0),'1er'!A3,IF(AND(G3=AA11,'1er'!M3>0),'1er'!A3,IF(AND(G3=AB11,'1er'!N3>0),'1er'!A3,IF(AND(G3=AC11,'1er'!O3>0),'1er'!A3,IF(AND(G3=AD11,'1er'!P3>0),'1er'!A3,IF(AND(G3=AE11,'1er'!Q3>0),'1er'!A3,IF(AND(G3=AF11,'1er'!R3>0),'1er'!A3,IF(AND(G3=AG11,'1er'!S3>0),'1er'!A3,IF(AND(G3=AH11,'1er'!T3>0),'1er'!A3,IF(AND(G3=AI11,'1er'!U3>0),'1er'!A3,IF(AND(G3=AJ11,'1er'!V3>0),'1er'!A3,0))))))))))))))))))))) -> 0 | E6: =IF(AND(G3=P11,'2ème'!B3>0),'2ème'!A3,IF(AND(G3=Q11,'2ème'!C3>0),'2ème'!A3,IF(AND(G3=R11,'2ème'!D3>0),'2ème'!A3,IF(AND(G3=S11,'2ème'!E3>0),'2ème'!A3,IF(AND(G3=T11,'2ème'!F3>0),'2ème'!A3,IF(AND(G3=U11,'2ème'!G3>0),'2ème'!A3,IF(AND(G3=V11,'2ème'!H3>0),'2ème'!A3,IF(AND(G3=W11,'2ème'!I3>0),'2ème'!A3,IF(AND(G3=X11,'2ème'!J3>0),'2ème'!A3,IF(AND(G3=Y11,'2ème'!K3>0),'2ème'!A3,IF(AND(G3=Z11,'2ème'!L3>0),'2ème'!A3,IF(AND(G3=AA11,'2ème'!M3>0),'2ème'!A3,IF(AND(G3=AB11,'2ème'!N3>0),'2ème'!A3,IF(AND(G3=AC11,'2ème'!O3>0),'2ème'!A3,IF(AND(G3=AD11,'2ème'!P3>0),'2ème'!A3,IF(AND(G3=AE11,'2ème'!Q3>0),'2ème'!A3,IF(AND(G3=AF11,'2ème'!R3>0),'2ème'!A3,IF(AND(G3=AG11,'2ème'!S3>0),'2ème'!A3,IF(AND(G3=AH11,'2ème'!T3>0),'2ème'!A3,IF(AND(G3=AI11,'2ème'!U3>0),'2ème'!A3,IF(AND(G3=AJ11,'2ème'!V3>0),'2ème'!A3,0))))))))))))))))))))) -> 0 | G6: =IF(AND(G3=P11,'3ème'!B3>0),'3ème'!A3,IF(AND(G3=Q11,'3ème'!C3>0),'3ème'!A3,IF(AND(G3=R11,'3ème'!D3>0),'3ème'!A3,IF(AND(G3=S11,'3ème'!E3>0),'3ème'!A3,IF(AND(G3=T11,'3ème'!F3>0),'3ème'!A3,IF(AND(G3=U11,'3ème'!G3>0),'3ème'!A3,IF(AND(G3=V11,'3ème'!H3>0),'3ème'!A3,IF(AND(G3=W11,'3ème'!I3>0),'3ème'!A3,IF(AND(G3=X11,'3ème'!J3>0),'3ème'!A3,IF(AND(G3=Y11,'3ème'!K3>0),'3ème'!A3,IF(AND(G3=Z11,'3ème'!L3>0),'3ème'!A3,IF(AND(G3=AA11,'3ème'!M3>0),'3ème'!A3,IF(AND(G3=AB11,'3ème'!N3>0),'3ème'!A3,IF(AND(G3=AC11,'3ème'!O3>0),'3ème'!A3,IF(AND(G3=AD11,'3ème'!P3>0),'3ème'!A3,IF(AND(G3=AE11,'3ème'!Q3>0),'3ème'!A3,IF(AND(G3=AF11,'3ème'!R3>0),'3ème'!A3,IF(AND(G3=AG11,'3ème'!S3>0),'3ème'!A3,IF(AND(G3=AH11,'3ème'!T3>0),'3ème'!A3,IF(AND(G3=AI11,'3ème'!U3>0),'3ème'!A3,IF(AND(G3=AJ11,'3ème'!V3>0),'3ème'!A3,0))))))))))))))))))))) -> 0 | I6: =IF(AND(G3=P11,'4ème'!B3>0),'4ème'!A3,IF(AND(G3=Q11,'4ème'!C3>0),'4ème'!A3,IF(AND(G3=R11,'4ème'!D3>0),'4ème'!A3,IF(AND(G3=S11,'4ème'!E3>0),'4ème'!A3,IF(AND(G3=T11,'4ème'!F3>0),'4ème'!A3,IF(AND(G3=U11,'4ème'!G3>0),'4ème'!A3,IF(AND(G3=V11,'4ème'!H3>0),'4ème'!A3,IF(AND(G3=W11,'4ème'!I3>0),'4ème'!A3,IF(AND(G3=X11,'4ème'!J3>0),'4ème'!A3,IF(AND(G3=Y11,'4ème'!K3>0),'4ème'!A3,IF(AND(G3=Z11,'4ème'!L3>0),'4ème'!A3,IF(AND(G3=AA11,'4ème'!M3>0),'4ème'!A3,IF(AND(G3=AB11,'4ème'!N3>0),'4ème'!A3,IF(AND(G3=AC11,'4ème'!O3>0),'4ème'!A3,IF(AND(G3=AD11,'4ème'!P3>0),'4ème'!A3,IF(AND(G3=AE11,'4ème'!Q3>0),'4ème'!A3,IF(AND(G3=AF11,'4ème'!R3>0),'4ème'!A3,IF(AND(G3=AG11,'4ème'!S3>0),'4ème'!A3,IF(AND(G3=AH11,'4ème'!T3>0),'4ème'!A3,IF(AND(G3=AI11,'4ème'!U3>0),'4ème'!A3,IF(AND(G3=AJ11,'4ème'!V3>0),'4ème'!A3,0))))))))))))))))))))) -> 0 | K6: =IF(AND(G3=P11,'5ème'!B3>0),'5ème'!A3,IF(AND(G3=Q11,'5ème'!C3>0),'5ème'!A3,IF(AND(G3=R11,'5ème'!D3>0),'5ème'!A3,IF(AND(G3=S11,'5ème'!E3>0),'5ème'!A3,IF(AND(G3=T11,'5ème'!F3>0),'5ème'!A3,IF(AND(G3=U11,'5ème'!G3>0),'5ème'!A3,IF(AND(G3=V11,'5ème'!H3>0),'5ème'!A3,IF(AND(G3=W11,'5ème'!I3>0),'5ème'!A3,IF(AND(G3=X11,'5ème'!J3>0),'5ème'!A3,IF(AND(G3=Y11,'5ème'!K3>0),'5ème'!A3,IF(AND(G3=Z11,'5ème'!L3>0),'5ème'!A3,IF(AND(G3=AA11,'5ème'!M3>0),'5ème'!A3,IF(AND(G3=AB11,'5ème'!N3>0),'5ème'!A3,IF(AND(G3=AC11,'5ème'!O3>0),'5ème'!A3,IF(AND(G3=AD11,'5ème'!P3>0),'5ème'!A3,IF(AND(G3=AE11,'5ème'!Q3>0),'5ème'!A3,IF(AND(G3=AF11,'5ème'!R3>0),'5ème'!A3,IF(AND(G3=AG11,'5ème'!S3>0),'5ème'!A3,IF(AND(G3=AH11,'5ème'!T3>0),'5ème'!A3,IF(AND(G3=AI11,'5ème'!U3>0),'5ème'!A3,IF(AND(G3=AJ11,'5ème'!V3>0),'5ème'!A3,0))))))))))))))))))))) -> 0 | M6: =IF(AND(G3=P11,'6ème'!B3>0),'6ème'!A3,IF(AND(G3=Q11,'6ème'!C3>0),'6ème'!A3,IF(AND(G3=R11,'6ème'!D3>0),'6ème'!A3,IF(AND(G3=S11,'6ème'!E3>0),'6ème'!A3,IF(AND(G3=T11,'6ème'!F3>0),'6ème'!A3,IF(AND(G3=U11,'6ème'!G3>0),'6ème'!A3,IF(AND(G3=V11,'6ème'!H3>0),'6ème'!A3,IF(AND(G3=W11,'6ème'!I3>0),'6ème'!A3,IF(AND(G3=X11,'6ème'!J3>0),'6ème'!A3,IF(AND(G3=Y11,'6ème'!K3>0),'6ème'!A3,IF(AND(G3=Z11,'6ème'!L3>0),'6ème'!A3,IF(AND(G3=AA11,'6ème'!M3>0),'6ème'!A3,IF(AND(G3=AB11,'6ème'!N3>0),'6ème'!A3,IF(AND(G3=AC11,'6ème'!O3>0),'6ème'!A3,IF(AND(G3=AD11,'6ème'!P3>0),'6ème'!A3,IF(AND(G3=AE11,'6ème'!Q3>0),'6ème'!A3,IF(AND(G3=AF11,'6ème'!R3>0),'6ème'!A3,IF(AND(G3=AG11,'6ème'!S3>0),'6ème'!A3,IF(AND(G3=AH11,'6ème'!T3>0),'6ème'!A3,IF(AND(G3=AI11,'6ème'!U3>0),'6ème'!A3,IF(AND(G3=AJ11,'6ème'!V3>0),'6ème'!A3,0))))))))))))))))))))) -> 0
A7: =IF(AND(G3=P11,Maternelle!B4>0),Maternelle!A4,IF(AND(G3=Q11,Maternelle!C4>0),Maternelle!A4,IF(AND(G3=R11,Maternelle!D4>0),Maternelle!A4,IF(AND(G3=S11,Maternelle!E4>0),Maternelle!A4,IF(AND(G3=T11,Maternelle!F4>0),Maternelle!A4,IF(AND(G3=U11,Maternelle!G4>0),Maternelle!A4,IF(AND(G3=V11,Maternelle!H4>0),Maternelle!A4,IF(AND(G3=W11,Maternelle!I4>0),Maternelle!A4,IF(AND(G3=X11,Maternelle!J4>0),Maternelle!A4,IF(AND(G3=Y11,Maternelle!K4>0),Maternelle!A4,IF(AND(G3=Z11,Maternelle!L4>0),Maternelle!A4,IF(AND(G3=AA11,Maternelle!M4>0),Maternelle!A4,IF(AND(G3=AB11,Maternelle!N4>0),Maternelle!A4,IF(AND(G3=AC11,Maternelle!O4>0),Maternelle!A4,IF(AND(G3=AD11,Maternelle!P4>0),Maternelle!A4,IF(AND(G3=AE11,Maternelle!Q4>0),Maternelle!A4,IF(AND(G3=AF11,Maternelle!R4>0),Maternelle!A4,IF(AND(G3=AG11,Maternelle!S4>0),Maternelle!A4,IF(AND(G3=AH11,Maternelle!T4>0),Maternelle!A4,IF(AND(G3=AI11,Maternelle!U4>0),Maternelle!A4,IF(AND(G3=AJ11,Maternelle!V4>0),Maternelle!A4,0))))))))))))))))))))) -> 0 | C7: =IF(AND(G3=P11,'1er'!B4>0),'1er'!A4,IF(AND(G3=Q11,'1er'!C4>0),'1er'!A4,IF(AND(G3=R11,'1er'!D4>0),'1er'!A4,IF(AND(G3=S11,'1er'!E4>0),'1er'!A4,IF(AND(G3=T11,'1er'!F4>0),'1er'!A4,IF(AND(G3=U11,'1er'!G4>0),'1er'!A4,IF(AND(G3=V11,'1er'!H4>0),'1er'!A4,IF(AND(G3=W11,'1er'!I4>0),'1er'!A4,IF(AND(G3=X11,'1er'!J4>0),'1er'!A4,IF(AND(G3=Y11,'1er'!K4>0),'1er'!A4,IF(AND(G3=Z11,'1er'!L4>0),'1er'!A4,IF(AND(G3=AA11,'1er'!M4>0),'1er'!A4,IF(AND(G3=AB11,'1er'!N4>0),'1er'!A4,IF(AND(G3=AC11,'1er'!O4>0),'1er'!A4,IF(AND(G3=AD11,'1er'!P4>0),'1er'!A4,IF(AND(G3=AE11,'1er'!Q4>0),'1er'!A4,IF(AND(G3=AF11,'1er'!R4>0),'1er'!A4,IF(AND(G3=AG11,'1er'!S4>0),'1er'!A4,IF(AND(G3=AH11,'1er'!T4>0),'1er'!A4,IF(AND(G3=AI11,'1er'!U4>0),'1er'!A4,IF(AND(G3=AJ11,'1er'!V4>0),'1er'!A4,0))))))))))))))))))))) -> 0 | E7: =IF(AND(G3=P11,'2ème'!B4>0),'2ème'!A4,IF(AND(G3=Q11,'2ème'!C4>0),'2ème'!A4,IF(AND(G3=R11,'2ème'!D4>0),'2ème'!A4,IF(AND(G3=S11,'2ème'!E4>0),'2ème'!A4,IF(AND(G3=T11,'2ème'!F4>0),'2ème'!A4,IF(AND(G3=U11,'2ème'!G4>0),'2ème'!A4,IF(AND(G3=V11,'2ème'!H4>0),'2ème'!A4,IF(AND(G3=W11,'2ème'!I4>0),'2ème'!A4,IF(AND(G3=X11,'2ème'!J4>0),'2ème'!A4,IF(AND(G3=Y11,'2ème'!K4>0),'2ème'!A4,IF(AND(G3=Z11,'2ème'!L4>0),'2ème'!A4,IF(AND(G3=AA11,'2ème'!M4>0),'2ème'!A4,IF(AND(G3=AB11,'2ème'!N4>0),'2ème'!A4,IF(AND(G3=AC11,'2ème'!O4>0),'2ème'!A4,IF(AND(G3=AD11,'2ème'!P4>0),'2ème'!A4,IF(AND(G3=AE11,'2ème'!Q4>0),'2ème'!A4,IF(AND(G3=AF11,'2ème'!R4>0),'2ème'!A4,IF(AND(G3=AG11,'2ème'!S4>0),'2ème'!A4,IF(AND(G3=AH11,'2ème'!T4>0),'2ème'!A4,IF(AND(G3=AI11,'2ème'!U4>0),'2ème'!A4,IF(AND(G3=AJ11,'2ème'!V4>0),'2ème'!A4,0))))))))))))))))))))) -> 0 | G7: =IF(AND(G3=P11,'3ème'!B4>0),'3ème'!A4,IF(AND(G3=Q11,'3ème'!C4>0),'3ème'!A4,IF(AND(G3=R11,'3ème'!D4>0),'3ème'!A4,IF(AND(G3=S11,'3ème'!E4>0),'3ème'!A4,IF(AND(G3=T11,'3ème'!F4>0),'3ème'!A4,IF(AND(G3=U11,'3ème'!G4>0),'3ème'!A4,IF(AND(G3=V11,'3ème'!H4>0),'3ème'!A4,IF(AND(G3=W11,'3ème'!I4>0),'3ème'!A4,IF(AND(G3=X11,'3ème'!J4>0),'3ème'!A4,IF(AND(G3=Y11,'3ème'!K4>0),'3ème'!A4,IF(AND(G3=Z11,'3ème'!L4>0),'3ème'!A4,IF(AND(G3=AA11,'3ème'!M4>0),'3ème'!A4,IF(AND(G3=AB11,'3ème'!N4>0),'3ème'!A4,IF(AND(G3=AC11,'3ème'!O4>0),'3ème'!A4,IF(AND(G3=AD11,'3ème'!P4>0),'3ème'!A4,IF(AND(G3=AE11,'3ème'!Q4>0),'3ème'!A4,IF(AND(G3=AF11,'3ème'!R4>0),'3ème'!A4,IF(AND(G3=AG11,'3ème'!S4>0),'3ème'!A4,IF(AND(G3=AH11,'3ème'!T4>0),'3ème'!A4,IF(AND(G3=AI11,'3ème'!U4>0),'3ème'!A4,IF(AND(G3=AJ11,'3ème'!V4>0),'3ème'!A4,0))))))))))))))))))))) -> 0 | I7: =IF(AND(G3=P11,'4ème'!B4>0),'4ème'!A4,IF(AND(G3=Q11,'4ème'!C4>0),'4ème'!A4,IF(AND(G3=R11,'4ème'!D4>0),'4ème'!A4,IF(AND(G3=S11,'4ème'!E4>0),'4ème'!A4,IF(AND(G3=T11,'4ème'!F4>0),'4ème'!A4,IF(AND(G3=U11,'4ème'!G4>0),'4ème'!A4,IF(AND(G3=V11,'4ème'!H4>0),'4ème'!A4,IF(AND(G3=W11,'4ème'!I4>0),'4ème'!A4,IF(AND(G3=X11,'4ème'!J4>0),'4ème'!A4,IF(AND(G3=Y11,'4ème'!K4>0),'4ème'!A4,IF(AND(G3=Z11,'4ème'!L4>0),'4ème'!A4,IF(AND(G3=AA11,'4ème'!M4>0),'4ème'!A4,IF(AND(G3=AB11,'4ème'!N4>0),'4ème'!A4,IF(AND(G3=AC11,'4ème'!O4>0),'4ème'!A4,IF(AND(G3=AD11,'4ème'!P4>0),'4ème'!A4,IF(AND(G3=AE11,'4ème'!Q4>0),'4ème'!A4,IF(AND(G3=AF11,'4ème'!R4>0),'4ème'!A4,IF(AND(G3=AG11,'4ème'!S4>0),'4ème'!A4,IF(AND(G3=AH11,'4ème'!T4>0),'4ème'!A4,IF(AND(G3=AI11,'4ème'!U4>0),'4ème'!A4,IF(AND(G3=AJ11,'4ème'!V4>0),'4ème'!A4,0))))))))))))))))))))) -> ALEXIS RAYMOND | K7: =IF(AND(G3=P11,'5ème'!B4>0),'5ème'!A4,IF(AND(G3=Q11,'5ème'!C4>0),'5ème'!A4,IF(AND(G3=R11,'5ème'!D4>0),'5ème'!A4,IF(AND(G3=S11,'5ème'!E4>0),'5ème'!A4,IF(AND(G3=T11,'5ème'!F4>0),'5ème'!A4,IF(AND(G3=U11,'5ème'!G3>0),'5ème'!A4,IF(AND(G3=V11,'5ème'!H4>0),'5ème'!A4,IF(AND(G3=W11,'5ème'!I4>0),'5ème'!A4,IF(AND(G3=X11,'5ème'!J4>0),'5ème'!A4,IF(AND(G3=Y11,'5ème'!K4>0),'5ème'!A4,IF(AND(G3=Z11,'5ème'!L4>0),'5ème'!A4,IF(AND(G3=AA11,'5ème'!M4>0),'5ème'!A4,IF(AND(G3=AB11,'5ème'!N4>0),'5ème'!A4,IF(AND(G3=AC11,'5ème'!O4>0),'5ème'!A4,IF(AND(G3=AD11,'5ème'!P4>0),'5ème'!A4,IF(AND(G3=AE11,'5ème'!Q4>0),'5ème'!A4,IF(AND(G3=AF11,'5ème'!R4>0),'5ème'!A4,IF(AND(G3=AG11,'5ème'!S4>0),'5ème'!A4,IF(AND(G3=AH11,'5ème'!T4>0),'5ème'!A4,IF(AND(G3=AI11,'5ème'!U4>0),'5ème'!A4,IF(AND(G3=AJ11,'5ème'!V4>0),'5ème'!A4,0))))))))))))))))))))) -> 0 | M7: =IF(AND(G3=P11,'6ème'!B4>0),'6ème'!A4,IF(AND(G3=Q11,'6ème'!C4>0),'6ème'!A4,IF(AND(G3=R11,'6ème'!D4>0),'6ème'!A4,IF(AND(G3=S11,'6ème'!E4>0),'6ème'!A4,IF(AND(G3=T11,'6ème'!F4>0),'6ème'!A4,IF(AND(G3=U11,'6ème'!G4>0),'6ème'!A4,IF(AND(G3=V11,'6ème'!H4>0),'6ème'!A4,IF(AND(G3=W11,'6ème'!I4>0),'6ème'!A4,IF(AND(G3=X11,'6ème'!J4>0),'6ème'!A4,IF(AND(G3=Y11,'6ème'!K4>0),'6ème'!A4,IF(AND(G3=Z11,'6ème'!L4>0),'6ème'!A4,IF(AND(G3=AA11,'6ème'!M4>0),'6ème'!A4,IF(AND(G3=AB11,'6ème'!N4>0),'6ème'!A4,IF(AND(G3=AC11,'6ème'!O4>0),'6ème'!A4,IF(AND(G3=AD11,'6ème'!P4>0),'6ème'!A4,IF(AND(G3=AE11,'6ème'!Q4>0),'6ème'!A4,IF(AND(G3=AF11,'6ème'!R4>0),'6ème'!A4,IF(AND(G3=AG11,'6ème'!S4>0),'6ème'!A4,IF(AND(G3=AH11,'6ème'!T4>0),'6ème'!A4,IF(AND(G3=AI11,'6ème'!U4>0),'6ème'!A4,IF(AND(G3=AJ11,'6ème'!V4>0),'6ème'!A4,0))))))))))))))))))))) -> 0
A8: =IF(AND(G3=P11,Maternelle!B5>0),Maternelle!A5,IF(AND(G3=Q11,Maternelle!C5>0),Maternelle!A5,IF(AND(G3=R11,Maternelle!D5>0),Maternelle!A5,IF(AND(G3=S11,Maternelle!E5>0),Maternelle!A5,IF(AND(G3=T11,Maternelle!F5>0),Maternelle!A5,IF(AND(G3=U11,Maternelle!G5>0),Maternelle!A5,IF(AND(G3=V11,Maternelle!H5>0),Maternelle!A5,IF(AND(G3=W11,Maternelle!I5>0),Maternelle!A5,IF(AND(G3=X11,Maternelle!J5>0),Maternelle!A5,IF(AND(G3=Y11,Maternelle!K5>0),Maternelle!A5,IF(AND(G3=Z11,Maternelle!L5>0),Maternelle!A5,IF(AND(G3=AA11,Maternelle!M5>0),Maternelle!A5,IF(AND(G3=AB11,Maternelle!N5>0),Maternelle!A5,IF(AND(G3=AC11,Maternelle!O5>0),Maternelle!A5,IF(AND(G3=AD11,Maternelle!P5>0),Maternelle!A5,IF(AND(G3=AE11,Maternelle!Q5>0),Maternelle!A5,IF(AND(G3=AF11,Maternelle!R5>0),Maternelle!A5,IF(AND(G3=AG11,Maternelle!S5>0),Maternelle!A5,IF(AND(G3=AH11,Maternelle!T5>0),Maternelle!A5,IF(AND(G3=AI11,Maternelle!U5>0),Maternelle!A5,IF(AND(G3=AJ11,Maternelle!V5>0),Maternelle!A5,0))))))))))))))))))))) -> 0 | C8: =IF(AND(G3=P11,'1er'!B5>0),'1er'!A5,IF(AND(G3=Q11,'1er'!C5>0),'1er'!A5,IF(AND(G3=R11,'1er'!D5>0),'1er'!A5,IF(AND(G3=S11,'1er'!E5>0),'1er'!A5,IF(AND(G3=T11,'1er'!F5>0),'1er'!A5,IF(AND(G3=U11,'1er'!G5>0),'1er'!A5,IF(AND(G3=V11,'1er'!H5>0),'1er'!A5,IF(AND(G3=W11,'1er'!I5>0),'1er'!A5,IF(AND(G3=X11,'1er'!J5>0),'1er'!A5,IF(AND(G3=Y11,'1er'!K5>0),'1er'!A5,IF(AND(G3=Z11,'1er'!L5>0),'1er'!A5,IF(AND(G3=AA11,'1er'!M5>0),'1er'!A5,IF(AND(G3=AB11,'1er'!N5>0),'1er'!A5,IF(AND(G3=AC11,'1er'!O5>0),'1er'!A5,IF(AND(G3=AD11,'1er'!P5>0),'1er'!A5,IF(AND(G3=AE11,'1er'!Q5>0),'1er'!A5,IF(AND(G3=AF11,'1er'!R5>0),'1er'!A5,IF(AND(G3=AG11,'1er'!S5>0),'1er'!A5,IF(AND(G3=AH11,'1er'!T5>0),'1er'!A5,IF(AND(G3=AI11,'1er'!U5>0),'1er'!A5,IF(AND(G3=AJ11,'1er'!V5>0),'1er'!A5,0))))))))))))))))))))) -> 0 | E8: =IF(AND(G3=P11,'2ème'!B5>0),'2ème'!A5,IF(AND(G3=Q11,'2ème'!C5>0),'2ème'!A5,IF(AND(G3=R11,'2ème'!D5>0),'2ème'!A5,IF(AND(G3=S11,'2ème'!E5>0),'2ème'!A5,IF(AND(G3=T11,'2ème'!F5>0),'2ème'!A5,IF(AND(G3=U11,'2ème'!G5>0),'2ème'!A5,IF(AND(G3=V11,'2ème'!H5>0),'2ème'!A5,IF(AND(G3=W11,'2ème'!I5>0),'2ème'!A5,IF(AND(G3=X11,'2ème'!J5>0),'2ème'!A5,IF(AND(G3=Y11,'2ème'!K5>0),'2ème'!A5,IF(AND(G3=Z11,'2ème'!L5>0),'2ème'!A5,IF(AND(G3=AA11,'2ème'!M5>0),'2ème'!A5,IF(AND(G3=AB11,'2ème'!N5>0),'2ème'!A5,IF(AND(G3=AC11,'2ème'!O5>0),'2ème'!A5,IF(AND(G3=AD11,'2ème'!P5>0),'2ème'!A5,IF(AND(G3=AE11,'2ème'!Q5>0),'2ème'!A5,IF(AND(G3=AF11,'2ème'!R5>0),'2ème'!A5,IF(AND(G3=AG11,'2ème'!S5>0),'2ème'!A5,IF(AND(G3=AH11,'2ème'!T5>0),'2ème'!A5,IF(AND(G3=AI11,'2ème'!U5>0),'2ème'!A5,IF(AND(G3=AJ11,'2ème'!V5>0),'2ème'!A5,0))))))))))))))))))))) -> AMELIE RAYMOND | G8: =IF(AND(G3=P11,'3ème'!B5>0),'3ème'!A5,IF(AND(G3=Q11,'3ème'!C5>0),'3ème'!A5,IF(AND(G3=R11,'3ème'!D5>0),'3ème'!A5,IF(AND(G3=S11,'3ème'!E5>0),'3ème'!A5,IF(AND(G3=T11,'3ème'!F5>0),'3ème'!A5,IF(AND(G3=U11,'3ème'!G5>0),'3ème'!A5,IF(AND(G3=V11,'3ème'!H5>0),'3ème'!A5,IF(AND(G3=W11,'3ème'!I5>0),'3ème'!A5,IF(AND(G3=X11,'3ème'!J5>0),'3ème'!A5,IF(AND(G3=Y11,'3ème'!K5>0),'3ème'!A5,IF(AND(G3=Z11,'3ème'!L5>0),'3ème'!A5,IF(AND(G3=AA11,'3ème'!M5>0),'3ème'!A5,IF(AND(G3=AB11,'3ème'!N5>0),'3ème'!A5,IF(AND(G3=AC11,'3ème'!O5>0),'3ème'!A5,IF(AND(G3=AD11,'3ème'!P5>0),'3ème'!A5,IF(AND(G3=AE11,'3ème'!Q5>0),'3ème'!A5,IF(AND(G3=AF11,'3ème'!R5>0),'3ème'!A5,IF(AND(G3=AG11,'3ème'!S5>0),'3ème'!A5,IF(AND(G3=AH11,'3ème'!T5>0),'3ème'!A5,IF(AND(G3=AI11,'3ème'!U5>0),'3ème'!A5,IF(AND(G3=AJ11,'3ème'!V5>0),'3ème'!A5,0))))))))))))))))))))) -> 0 | I8: =IF(AND(G3=P11,'4ème'!B5>0),'4ème'!A5,IF(AND(G3=Q11,'4ème'!C5>0),'4ème'!A5,IF(AND(G3=R11,'4ème'!D5>0),'4ème'!A5,IF(AND(G3=S11,'4ème'!E5>0),'4ème'!A5,IF(AND(G3=T11,'4ème'!F5>0),'4ème'!A5,IF(AND(G3=U11,'4ème'!G5>0),'4ème'!A5,IF(AND(G3=V11,'4ème'!H5>0),'4ème'!A5,IF(AND(G3=W11,'4ème'!I5>0),'4ème'!A5,IF(AND(G3=X11,'4ème'!J5>0),'4ème'!A5,IF(AND(G3=Y11,'4ème'!K5>0),'4ème'!A5,IF(AND(G3=Z11,'4ème'!L5>0),'4ème'!A5,IF(AND(G3=AA11,'4ème'!M5>0),'4ème'!A5,IF(AND(G3=AB11,'4ème'!N5>0),'4ème'!A5,IF(AND(G3=AC11,'4ème'!O5>0),'4ème'!A5,IF(AND(G3=AD11,'4ème'!P5>0),'4ème'!A5,IF(AND(G3=AE11,'4ème'!Q5>0),'4ème'!A5,IF(AND(G3=AF11,'4ème'!R5>0),'4ème'!A5,IF(AND(G3=AG11,'4ème'!S5>0),'4ème'!A5,IF(AND(G3=AH11,'4ème'!T5>0),'4ème'!A5,IF(AND(G3=AI11,'4ème'!U5>0),'4ème'!A5,IF(AND(G3=AJ11,'4ème'!V5>0),'4ème'!A5,0))))))))))))))))))))) -> 0 | K8: =IF(AND(G3=P11,'5ème'!B5>0),'5ème'!A5,IF(AND(G3=Q11,'5ème'!C5>0),'5ème'!A5,IF(AND(G3=R11,'5ème'!D5>0),'5ème'!A5,IF(AND(G3=S11,'5ème'!E5>0),'5ème'!A5,IF(AND(G3=T11,'5ème'!F5>0),'5ème'!A5,IF(AND(G3=U11,'5ème'!G5>0),'5ème'!A5,IF(AND(G3=V11,'5ème'!H5>0),'5ème'!A5,IF(AND(G3=W11,'5ème'!I5>0),'5ème'!A5,IF(AND(G3=X11,'5ème'!J5>0),'5ème'!A5,IF(AND(G3=Y11,'5ème'!K5>0),'5ème'!A5,IF(AND(G3=Z11,'5ème'!L5>0),'5ème'!A5,IF(AND(G3=AA11,'5ème'!M5>0),'5ème'!A5,IF(AND(G3=AB11,'5ème'!N5>0),'5ème'!A5,IF(AND(G3=AC11,'5ème'!O5>0),'5ème'!A5,IF(AND(G3=AD11,'5ème'!P5>0),'5ème'!A5,IF(AND(G3=AE11,'5ème'!Q5>0),'5ème'!A5,IF(AND(G3=AF11,'5ème'!R5>0),'5ème'!A5,IF(AND(G3=AG11,'5ème'!S5>0),'5ème'!A5,IF(AND(G3=AH11,'5ème'!T5>0),'5ème'!A5,IF(AND(G3=AI11,'5ème'!U5>0),'5ème'!A5,IF(AND(G3=AJ11,'5ème'!V5>0),'5ème'!A5,0))))))))))))))))))))) -> 0 | M8: =IF(AND(G3=P11,'6ème'!B5>0),'6ème'!A5,IF(AND(G3=Q11,'6ème'!C5>0),'6ème'!A5,IF(AND(G3=R11,'6ème'!D5>0),'6ème'!A5,IF(AND(G3=S11,'6ème'!E5>0),'6ème'!A5,IF(AND(G3=T11,'6ème'!F5>0),'6ème'!A5,IF(AND(G3=U11,'6ème'!G5>0),'6ème'!A5,IF(AND(G3=V11,'6ème'!H5>0),'6ème'!A5,IF(AND(G3=W11,'6ème'!I5>0),'6ème'!A5,IF(AND(G3=X11,'6ème'!J5>0),'6ème'!A5,IF(AND(G3=Y11,'6ème'!K5>0),'6ème'!A5,IF(AND(G3=Z11,'6ème'!L5>0),'6ème'!A5,IF(AND(G3=AA11,'6ème'!M5>0),'6ème'!A5,IF(AND(G3=AB11,'6ème'!N5>0),'6ème'!A5,IF(AND(G3=AC11,'6ème'!O5>0),'6ème'!A5,IF(AND(G3=AD11,'6ème'!P5>0),'6ème'!A5,IF(AND(G3=AE11,'6ème'!Q5>0),'6ème'!A5,IF(AND(G3=AF11,'6ème'!R5>0),'6ème'!A5,IF(AND(G3=AG11,'6ème'!S5>0),'6ème'!A5,IF(AND(G3=AH11,'6ème'!T5>0),'6ème'!A5,IF(AND(G3=AI11,'6ème'!U5>0),'6ème'!A5,IF(AND(G3=AJ11,'6ème'!V5>0),'6ème'!A5,0))))))))))))))))))))) -> 0
A9: =IF(AND(G3=P11,Maternelle!B6>0),Maternelle!A6,IF(AND(G3=Q11,Maternelle!C6>0),Maternelle!A6,IF(AND(G3=R11,Maternelle!D6>0),Maternelle!A6,IF(AND(G3=S11,Maternelle!E6>0),Maternelle!A6,IF(AND(G3=T11,Maternelle!F6>0),Maternelle!A6,IF(AND(G3=U11,Maternelle!G6>0),Maternelle!A6,IF(AND(G3=V11,Maternelle!H6>0),Maternelle!A6,IF(AND(G3=W11,Maternelle!I6>0),Maternelle!A6,IF(AND(G3=X11,Maternelle!J6>0),Maternelle!A6,IF(AND(G3=Y11,Maternelle!K6>0),Maternelle!A6,IF(AND(G3=Z11,Maternelle!L6>0),Maternelle!A6,IF(AND(G3=AA11,Maternelle!M6>0),Maternelle!A6,IF(AND(G3=AB11,Maternelle!N6>0),Maternelle!A6,IF(AND(G3=AC11,Maternelle!O6>0),Maternelle!A6,IF(AND(G3=AD11,Maternelle!P6>0),Maternelle!A6,IF(AND(G3=AE11,Maternelle!Q6>0),Maternelle!A6,IF(AND(G3=AF11,Maternelle!R6>0),Maternelle!A6,IF(AND(G3=AG11,Maternelle!S6>0),Maternelle!A6,IF(AND(G3=AH11,Maternelle!T6>0),Maternelle!A6,IF(AND(G3=AI11,Maternelle!U6>0),Maternelle!A6,IF(AND(G3=AJ11,Maternelle!V6>0),Maternelle!A6,0))))))))))))))))))))) -> 0 | C9: =IF(AND(G3=P11,'1er'!B6>0),'1er'!A6,IF(AND(G3=Q11,'1er'!C6>0),'1er'!A6,IF(AND(G3=R11,'1er'!D6>0),'1er'!A6,IF(AND(G3=S11,'1er'!E6>0),'1er'!A6,IF(AND(G3=T11,'1er'!F6>0),'1er'!A6,IF(AND(G3=U11,'1er'!G6>0),'1er'!A6,IF(AND(G3=V11,'1er'!H6>0),'1er'!A6,IF(AND(G3=W11,'1er'!I6>0),'1er'!A6,IF(AND(G3=X11,'1er'!J6>0),'1er'!A6,IF(AND(G3=Y11,'1er'!K6>0),'1er'!A6,IF(AND(G3=Z11,'1er'!L6>0),'1er'!A6,IF(AND(G3=AA11,'1er'!M6>0),'1er'!A6,IF(AND(G3=AB11,'1er'!N6>0),'1er'!A6,IF(AND(G3=AC11,'1er'!O6>0),'1er'!A6,IF(AND(G3=AD11,'1er'!P6>0),'1er'!A6,IF(AND(G3=AE11,'1er'!Q6>0),'1er'!A6,IF(AND(G3=AF11,'1er'!R6>0),'1er'!A6,IF(AND(G3=AG11,'1er'!S6>0),'1er'!A6,IF(AND(G3=AH11,'1er'!T6>0),'1er'!A6,IF(AND(G3=AI11,'1er'!U6>0),'1er'!A6,IF(AND(G3=AJ11,'1er'!V6>0),'1er'!A6,0))))))))))))))))))))) -> 0 | E9: =IF(AND(G3=P11,'2ème'!B6>0),'2ème'!A6,IF(AND(G3=Q11,'2ème'!C6>0),'2ème'!A6,IF(AND(G3=R11,'2ème'!D6>0),'2ème'!A6,IF(AND(G3=S11,'2ème'!E6>0),'2ème'!A6,IF(AND(G3=T11,'2ème'!F6>0),'2ème'!A6,IF(AND(G3=U11,'2ème'!G6>0),'2ème'!A6,IF(AND(G3=V11,'2ème'!H6>0),'2ème'!A6,IF(AND(G3=W11,'2ème'!I6>0),'2ème'!A6,IF(AND(G3=X11,'2ème'!J6>0),'2ème'!A6,IF(AND(G3=Y11,'2ème'!K6>0),'2ème'!A6,IF(AND(G3=Z11,'2ème'!L6>0),'2ème'!A6,IF(AND(G3=AA11,'2ème'!M6>0),'2ème'!A6,IF(AND(G3=AB11,'2ème'!N6>0),'2ème'!A6,IF(AND(G3=AC11,'2ème'!O6>0),'2ème'!A6,IF(AND(G3=AD11,'2ème'!P6>0),'2ème'!A6,IF(AND(G3=AE11,'2ème'!Q6>0),'2ème'!A6,IF(AND(G3=AF11,'2ème'!R6>0),'2ème'!A6,IF(AND(G3=AG11,'2ème'!S6>0),'2ème'!A6,IF(AND(G3=AH11,'2ème'!T6>0),'2ème'!A6,IF(AND(G3=AI11,'2ème'!U6>0),'2ème'!A6,IF(AND(G3=AJ11,'2ème'!V6>0),'2ème'!A6,0))))))))))))))))))))) -> 0 | G9: =IF(AND(G3=P11,'3ème'!B6>0),'3ème'!A6,IF(AND(G3=Q11,'3ème'!C6>0),'3ème'!A6,IF(AND(G3=R11,'3ème'!D6>0),'3ème'!A6,IF(AND(G3=S11,'3ème'!E6>0),'3ème'!A6,IF(AND(G3=T11,'3ème'!F6>0),'3ème'!A6,IF(AND(G3=U11,'3ème'!G6>0),'3ème'!A6,IF(AND(G3=V11,'3ème'!H6>0),'3ème'!A6,IF(AND(G3=W11,'3ème'!I6>0),'3ème'!A6,IF(AND(G3=X11,'3ème'!J6>0),'3ème'!A6,IF(AND(G3=Y11,'3ème'!K6>0),'3ème'!A6,IF(AND(G3=Z11,'3ème'!L6>0),'3ème'!A6,IF(AND(G3=AA11,'3ème'!M6>0),'3ème'!A6,IF(AND(G3=AB11,'3ème'!N6>0),'3ème'!A6,IF(AND(G3=AC11,'3ème'!O6>0),'3ème'!A6,IF(AND(G3=AD11,'3ème'!P6>0),'3ème'!A6,IF(AND(G3=AE11,'3ème'!Q6>0),'3ème'!A6,IF(AND(G3=AF11,'3ème'!R6>0),'3ème'!A6,IF(AND(G3=AG11,'3ème'!S6>0),'3ème'!A6,IF(AND(G3=AH11,'3ème'!T6>0),'3ème'!A6,IF(AND(G3=AI11,'3ème'!U6>0),'3ème'!A6,IF(AND(G3=AJ11,'3ème'!V6>0),'3ème'!A6,0))))))))))))))))))))) -> 0 | I9: =IF(AND(G3=P11,'4ème'!B6>0),'4ème'!A6,IF(AND(G3=Q11,'4ème'!C6>0),'4ème'!A6,IF(AND(G3=R11,'4ème'!D6>0),'4ème'!A6,IF(AND(G3=S11,'4ème'!E6>0),'4ème'!A6,IF(AND(G3=T11,'4ème'!F6>0),'4ème'!A6,IF(AND(G3=U11,'4ème'!G6>0),'4ème'!A6,IF(AND(G3=V11,'4ème'!H6>0),'4ème'!A6,IF(AND(G3=W11,'4ème'!I6>0),'4ème'!A6,IF(AND(G3=X11,'4ème'!J6>0),'4ème'!A6,IF(AND(G3=Y11,'4ème'!K6>0),'4ème'!A6,IF(AND(G3=Z11,'4ème'!L6>0),'4ème'!A6,IF(AND(G3=AA11,'4ème'!M6>0),'4ème'!A6,IF(AND(G3=AB11,'4ème'!N6>0),'4ème'!A6,IF(AND(G3=AC11,'4ème'!O6>0),'4ème'!A6,IF(AND(G3=AD11,'4ème'!P6>0),'4ème'!A6,IF(AND(G3=AE11,'4ème'!Q6>0),'4ème'!A6,IF(AND(G3=AF11,'4ème'!R6>0),'4ème'!A6,IF(AND(G3=AG11,'4ème'!S6>0),'4ème'!A6,IF(AND(G3=AH11,'4ème'!T6>0),'4ème'!A6,IF(AND(G3=AI11,'4ème'!U6>0),'4ème'!A6,IF(AND(G3=AJ11,'4ème'!V6>0),'4ème'!A6,0))))))))))))))))))))) -> 0 | K9: =IF(AND(G3=P11,'5ème'!B6>0),'5ème'!A6,IF(AND(G3=Q11,'5ème'!C6>0),'5ème'!A6,IF(AND(G3=R11,'5ème'!D6>0),'5ème'!A6,IF(AND(G3=S11,'5ème'!E6>0),'5ème'!A6,IF(AND(G3=T11,'5ème'!F6>0),'5ème'!A6,IF(AND(G3=U11,'5ème'!G6>0),'5ème'!A6,IF(AND(G3=V11,'5ème'!H6>0),'5ème'!A6,IF(AND(G3=W11,'5ème'!I6>0),'5ème'!A6,IF(AND(G3=X11,'5ème'!J6>0),'5ème'!A6,IF(AND(G3=Y11,'5ème'!K6>0),'5ème'!A6,IF(AND(G3=Z11,'5ème'!L6>0),'5ème'!A6,IF(AND(G3=AA11,'5ème'!M6>0),'5ème'!A6,IF(AND(G3=AB11,'5ème'!N6>0),'5ème'!A6,IF(AND(G3=AC11,'5ème'!O6>0),'5ème'!A6,IF(AND(G3=AD11,'5ème'!P6>0),'5ème'!A6,IF(AND(G3=AE11,'5ème'!Q6>0),'5ème'!A6,IF(AND(G3=AF11,'5ème'!R6>0),'5ème'!A6,IF(AND(G3=AG11,'5ème'!S6>0),'5ème'!A6,IF(AND(G3=AH11,'5ème'!T6>0),'5ème'!A6,IF(AND(G3=AI11,'5ème'!U6>0),'5ème'!A6,IF(AND(G3=AJ11,'5ème'!V6>0),'5ème'!A6,0))))))))))))))))))))) -> 0 | M9: =IF(AND(G3=P11,'6ème'!B6>0),'6ème'!A6,IF(AND(G3=Q11,'6ème'!C6>0),'6ème'!A6,IF(AND(G3=R11,'6ème'!D6>0),'6ème'!A6,IF(AND(G3=S11,'6ème'!E6>0),'6ème'!A6,IF(AND(G3=T11,'6ème'!F6>0),'6ème'!A6,IF(AND(G3=U11,'6ème'!G6>0),'6ème'!A6,IF(AND(G3=V11,'6ème'!H6>0),'6ème'!A6,IF(AND(G3=W11,'6ème'!I6>0),'6ème'!A6,IF(AND(G3=X11,'6ème'!J6>0),'6ème'!A6,IF(AND(G3=Y11,'6ème'!K6>0),'6ème'!A6,IF(AND(G3=Z11,'6ème'!L6>0),'6ème'!A6,IF(AND(G3=AA11,'6ème'!M6>0),'6ème'!A6,IF(AND(G3=AB11,'6ème'!N6>0),'6ème'!A6,IF(AND(G3=AC11,'6ème'!O6>0),'6ème'!A6,IF(AND(G3=AD11,'6ème'!P6>0),'6ème'!A6,IF(AND(G3=AE11,'6ème'!Q6>0),'6ème'!A6,IF(AND(G3=AF11,'6ème'!R6>0),'6ème'!A6,IF(AND(G3=AG11,'6ème'!S6>0),'6ème'!A6,IF(AND(G3=AH11,'6ème'!T6>0),'6ème'!A6,IF(AND(G3=AI11,'6ème'!U6>0),'6ème'!A6,IF(AND(G3=AJ11,'6ème'!V6>0),'6ème'!A6,0))))))))))))))))))))) -> 0
A10: =IF(AND(G3=P11,Maternelle!B7>0),Maternelle!A7,IF(AND(G3=Q11,Maternelle!C7>0),Maternelle!A7,IF(AND(G3=R11,Maternelle!D7>0),Maternelle!A7,IF(AND(G3=S11,Maternelle!E7>0),Maternelle!A7,IF(AND(G3=T11,Maternelle!F7>0),Maternelle!A7,IF(AND(G3=U11,Maternelle!G7>0),Maternelle!A7,IF(AND(G3=V11,Maternelle!H7>0),Maternelle!A7,IF(AND(G3=W11,Maternelle!I7>0),Maternelle!A7,IF(AND(G3=X11,Maternelle!J7>0),Maternelle!A7,IF(AND(G3=Y11,Maternelle!K7>0),Maternelle!A7,IF(AND(G3=Z11,Maternelle!L7>0),Maternelle!A7,IF(AND(G3=AA11,Maternelle!M7>0),Maternelle!A7,IF(AND(G3=AB11,Maternelle!N7>0),Maternelle!A7,IF(AND(G3=AC11,Maternelle!O7>0),Maternelle!A7,IF(AND(G3=AD11,Maternelle!P7>0),Maternelle!A7,IF(AND(G3=AE11,Maternelle!Q7>0),Maternelle!A7,IF(AND(G3=AF11,Maternelle!R7>0),Maternelle!A7,IF(AND(G3=AG11,Maternelle!S7>0),Maternelle!A7,IF(AND(G3=AH11,Maternelle!T7>0),Maternelle!A7,IF(AND(G3=AI11,Maternelle!U7>0),Maternelle!A7,IF(AND(G3=AJ11,Maternelle!V7>0),Maternelle!A7,0))))))))))))))))))))) -> 0 | C10: =IF(AND(G3=P11,'1er'!B7>0),'1er'!A7,IF(AND(G3=Q11,'1er'!C7>0),'1er'!A7,IF(AND(G3=R11,'1er'!D7>0),'1er'!A7,IF(AND(G3=S11,'1er'!E7>0),'1er'!A7,IF(AND(G3=T11,'1er'!F7>0),'1er'!A7,IF(AND(G3=U11,'1er'!G7>0),'1er'!A7,IF(AND(G3=V11,'1er'!H7>0),'1er'!A7,IF(AND(G3=W11,'1er'!I7>0),'1er'!A7,IF(AND(G3=X11,'1er'!J7>0),'1er'!A7,IF(AND(G3=Y11,'1er'!K7>0),'1er'!A7,IF(AND(G3=Z11,'1er'!L7>0),'1er'!A7,IF(AND(G3=AA11,'1er'!M7>0),'1er'!A7,IF(AND(G3=AB11,'1er'!N7>0),'1er'!A7,IF(AND(G3=AC11,'1er'!O7>0),'1er'!A7,IF(AND(G3=AD11,'1er'!P7>0),'1er'!A7,IF(AND(G3=AE11,'1er'!Q7>0),'1er'!A7,IF(AND(G3=AF11,'1er'!R7>0),'1er'!A7,IF(AND(G3=AG11,'1er'!S7>0),'1er'!A7,IF(AND(G3=AH11,'1er'!T7>0),'1er'!A7,IF(AND(G3=AI11,'1er'!U7>0),'1er'!A7,IF(AND(G3=AJ11,'1er'!V7>0),'1er'!A7,0))))))))))))))))))))) -> 0 | E10: =IF(AND(G3=P11,'2ème'!B7>0),'2ème'!A7,IF(AND(G3=Q11,'2ème'!C7>0),'2ème'!A7,IF(AND(G3=R11,'2ème'!D7>0),'2ème'!A7,IF(AND(G3=S11,'2ème'!E7>0),'2ème'!A7,IF(AND(G3=T11,'2ème'!F7>0),'2ème'!A7,IF(AND(G3=U11,'2ème'!G7>0),'2ème'!A7,IF(AND(G3=V11,'2ème'!H7>0),'2ème'!A7,IF(AND(G3=W11,'2ème'!I7>0),'2ème'!A7,IF(AND(G3=X11,'2ème'!J7>0),'2ème'!A7,IF(AND(G3=Y11,'2ème'!K7>0),'2ème'!A7,IF(AND(G3=Z11,'2ème'!L7>0),'2ème'!A7,IF(AND(G3=AA11,'2ème'!M7>0),'2ème'!A7,IF(AND(G3=AB11,'2ème'!N7>0),'2ème'!A7,IF(AND(G3=AC11,'2ème'!O7>0),'2ème'!A7,IF(AND(G3=AD11,'2ème'!P7>0),'2ème'!A7,IF(AND(G3=AE11,'2ème'!Q7>0),'2ème'!A7,IF(AND(G3=AF11,'2ème'!R7>0),'2ème'!A7,IF(AND(G3=AG11,'2ème'!S7>0),'2ème'!A7,IF(AND(G3=AH11,'2ème'!T7>0),'2ème'!A7,IF(AND(G3=AI11,'2ème'!U7>0),'2ème'!A7,IF(AND(G3=AJ11,'2ème'!V7>0),'2ème'!A7,0))))))))))))))))))))) -> 0 | G10: =IF(AND(G3=P11,'3ème'!B7>0),'3ème'!A7,IF(AND(G3=Q11,'3ème'!C7>0),'3ème'!A7,IF(AND(G3=R11,'3ème'!D7>0),'3ème'!A7,IF(AND(G3=S11,'3ème'!E7>0),'3ème'!A7,IF(AND(G3=T11,'3ème'!F7>0),'3ème'!A7,IF(AND(G3=U11,'3ème'!G7>0),'3ème'!A7,IF(AND(G3=V11,'3ème'!H7>0),'3ème'!A7,IF(AND(G3=W11,'3ème'!I7>0),'3ème'!A7,IF(AND(G3=X11,'3ème'!J7>0),'3ème'!A7,IF(AND(G3=Y11,'3ème'!K7>0),'3ème'!A7,IF(AND(G3=Z11,'3ème'!L7>0),'3ème'!A7,IF(AND(G3=AA11,'3ème'!M7>0),'3ème'!A7,IF(AND(G3=AB11,'3ème'!N7>0),'3ème'!A7,IF(AND(G3=AC11,'3ème'!O7>0),'3ème'!A7,IF(AND(G3=AD11,'3ème'!P7>0),'3ème'!A7,IF(AND(G3=AE11,'3ème'!Q7>0),'3ème'!A7,IF(AND(G3=AF11,'3ème'!R7>0),'3ème'!A7,IF(AND(G3=AG11,'3ème'!S7>0),'3ème'!A7,IF(AND(G3=AH11,'3ème'!T7>0),'3ème'!A7,IF(AND(G3=AI11,'3ème'!U7>0),'3ème'!A7,IF(AND(G3=AJ11,'3ème'!V7>0),'3ème'!A7,0))))))))))))))))))))) -> 0 | I10: =IF(AND(G3=P11,'4ème'!B7>0),'4ème'!A7,IF(AND(G3=Q11,'4ème'!C7>0),'4ème'!A7,IF(AND(G3=R11,'4ème'!D7>0),'4ème'!A7,IF(AND(G3=S11,'4ème'!E7>0),'4ème'!A7,IF(AND(G3=T11,'4ème'!F7>0),'4ème'!A7,IF(AND(G3=U11,'4ème'!G7>0),'4ème'!A7,IF(AND(G3=V11,'4ème'!H7>0),'4ème'!A7,IF(AND(G3=W11,'4ème'!I7>0),'4ème'!A7,IF(AND(G3=X11,'4ème'!J7>0),'4ème'!A7,IF(AND(G3=Y11,'4ème'!K7>0),'4ème'!A7,IF(AND(G3=Z11,'4ème'!L7>0),'4ème'!A7,IF(AND(G3=AA11,'4ème'!M7>0),'4ème'!A7,IF(AND(G3=AB11,'4ème'!N7>0),'4ème'!A7,IF(AND(G3=AC11,'4ème'!O7>0),'4ème'!A7,IF(AND(G3=AD11,'4ème'!P7>0),'4ème'!A7,IF(AND(G3=AE11,'4ème'!Q7>0),'4ème'!A7,IF(AND(G3=AF11,'4ème'!R7>0),'4ème'!A7,IF(AND(G3=AG11,'4ème'!S7>0),'4ème'!A7,IF(AND(G3=AH11,'4ème'!T7>0),'4ème'!A7,IF(AND(G3=AI11,'4ème'!U7>0),'4ème'!A7,IF(AND(G3=AJ11,'4ème'!V7>0),'4ème'!A7,0))))))))))))))))))))) -> 0 | K10: =IF(AND(G3=P11,'5ème'!B7>0),'5ème'!A7,IF(AND(G3=Q11,'5ème'!C7>0),'5ème'!A7,IF(AND(G3=R11,'5ème'!D7>0),'5ème'!A7,IF(AND(G3=S11,'5ème'!E7>0),'5ème'!A7,IF(AND(G3=T11,'5ème'!F7>0),'5ème'!A7,IF(AND(G3=U11,'5ème'!G7>0),'5ème'!A7,IF(AND(G3=V11,'5ème'!H7>0),'5ème'!A7,IF(AND(G3=W11,'5ème'!I7>0),'5ème'!A7,IF(AND(G3=X11,'5ème'!J7>0),'5ème'!A7,IF(AND(G3=Y11,'5ème'!K7>0),'5ème'!A7,IF(AND(G3=Z11,'5ème'!L7>0),'5ème'!A7,IF(AND(G3=AA11,'5ème'!M7>0),'5ème'!A7,IF(AND(G3=AB11,'5ème'!N7>0),'5ème'!A7,IF(AND(G3=AC11,'5ème'!O7>0),'5ème'!A7,IF(AND(G3=AD11,'5ème'!P7>0),'5ème'!A7,IF(AND(G3=AE11,'5ème'!Q7>0),'5ème'!A7,IF(AND(G3=AF11,'5ème'!R7>0),'5ème'!A7,IF(AND(G3=AG11,'5ème'!S7>0),'5ème'!A7,IF(AND(G3=AH11,'5ème'!T7>0),'5ème'!A7,IF(AND(G3=AI11,'5ème'!U7>0),'5ème'!A7,IF(AND(G3=AJ11,'5ème'!V7>0),'5ème'!A7,0))))))))))))))))))))) -> 0 | M10: =IF(AND(G3=P11,'6ème'!B7>0),'6ème'!A7,IF(AND(G3=Q11,'6ème'!C7>0),'6ème'!A7,IF(AND(G3=R11,'6ème'!D7>0),'6ème'!A7,IF(AND(G3=S11,'6ème'!E7>0),'6ème'!A7,IF(AND(G3=T11,'6ème'!F7>0),'6ème'!A7,IF(AND(G3=U11,'6ème'!G7>0),'6ème'!A7,IF(AND(G3=V11,'6ème'!H7>0),'6ème'!A7,IF(AND(G3=W11,'6ème'!I7>0),'6ème'!A7,IF(AND(G3=X11,'6ème'!J7>0),'6ème'!A7,IF(AND(G3=Y11,'6ème'!K7>0),'6ème'!A7,IF(AND(G3=Z11,'6ème'!L7>0),'6ème'!A7,IF(AND(G3=AA11,'6ème'!M7>0),'6ème'!A7,IF(AND(G3=AB11,'6ème'!N7>0),'6ème'!A7,IF(AND(G3=AC11,'6ème'!O7>0),'6ème'!A7,IF(AND(G3=AD11,'6ème'!P7>0),'6ème'!A7,IF(AND(G3=AE11,'6ème'!Q7>0),'6ème'!A7,IF(AND(G3=AF11,'6ème'!R7>0),'6ème'!A7,IF(AND(G3=AG11,'6ème'!S7>0),'6ème'!A7,IF(AND(G3=AH11,'6ème'!T7>0),'6ème'!A7,IF(AND(G3=AI11,'6ème'!U7>0),'6ème'!A7,IF(AND(G3=AJ11,'6ème'!V7>0),'6ème'!A7,0))))))))))))))))))))) -> 0
A11: =IF(AND(G3=P11,Maternelle!B8>0),Maternelle!A8,IF(AND(G3=Q11,Maternelle!C8>0),Maternelle!A8,IF(AND(G3=R11,Maternelle!D8>0),Maternelle!A8,IF(AND(G3=S11,Maternelle!E8>0),Maternelle!A8,IF(AND(G3=T11,Maternelle!F8>0),Maternelle!A8,IF(AND(G3=U11,Maternelle!G8>0),Maternelle!A8,IF(AND(G3=V11,Maternelle!H8>0),Maternelle!A8,IF(AND(G3=W11,Maternelle!I8>0),Maternelle!A8,IF(AND(G3=X11,Maternelle!J8>0),Maternelle!A8,IF(AND(G3=Y11,Maternelle!K8>0),Maternelle!A8,IF(AND(G3=Z11,Maternelle!L8>0),Maternelle!A8,IF(AND(G3=AA11,Maternelle!M8>0),Maternelle!A8,IF(AND(G3=AB11,Maternelle!N8>0),Maternelle!A8,IF(AND(G3=AC11,Maternelle!O8>0),Maternelle!A8,IF(AND(G3=AD11,Maternelle!P8>0),Maternelle!A8,IF(AND(G3=AE11,Maternelle!Q8>0),Maternelle!A8,IF(AND(G3=AF11,Maternelle!R8>0),Maternelle!A8,IF(AND(G3=AG11,Maternelle!S8>0),Maternelle!A8,IF(AND(G3=AH11,Maternelle!T8>0),Maternelle!A8,IF(AND(G3=AI11,Maternelle!U8>0),Maternelle!A8,IF(AND(G3=AJ11,Maternelle!V8>0),Maternelle!A8,0))))))))))))))))))))) -> 0 | C11: =IF(AND(G3=P11,'1er'!B8>0),'1er'!A8,IF(AND(G3=Q11,'1er'!C8>0),'1er'!A8,IF(AND(G3=R11,'1er'!D8>0),'1er'!A8,IF(AND(G3=S11,'1er'!E8>0),'1er'!A8,IF(AND(G3=T11,'1er'!F8>0),'1er'!A8,IF(AND(G3=U11,'1er'!G8>0),'1er'!A8,IF(AND(G3=V11,'1er'!H8>0),'1er'!A8,IF(AND(G3=W11,'1er'!I8>0),'1er'!A8,IF(AND(G3=X11,'1er'!J8>0),'1er'!A8,IF(AND(G3=Y11,'1er'!K8>0),'1er'!A8,IF(AND(G3=Z11,'1er'!L8>0),'1er'!A8,IF(AND(G3=AA11,'1er'!M8>0),'1er'!A8,IF(AND(G3=AB11,'1er'!N8>0),'1er'!A8,IF(AND(G3=AC11,'1er'!O8>0),'1er'!A8,IF(AND(G3=AD11,'1er'!P8>0),'1er'!A8,IF(AND(G3=AE11,'1er'!Q8>0),'1er'!A8,IF(AND(G3=AF11,'1er'!R8>0),'1er'!A8,IF(AND(G3=AG11,'1er'!S8>0),'1er'!A8,IF(AND(G3=AH11,'1er'!T8>0),'1er'!A8,IF(AND(G3=AI11,'1er'!U8>0),'1er'!A8,IF(AND(G3=AJ11,'1er'!V8>0),'1er'!A8,0))))))))))))))))))))) -> 0 | E11: =IF(AND(G3=P11,'2ème'!B8>0),'2ème'!A8,IF(AND(G3=Q11,'2ème'!C8>0),'2ème'!A8,IF(AND(G3=R11,'2ème'!D8>0),'2ème'!A8,IF(AND(G3=S11,'2ème'!E8>0),'2ème'!A8,IF(AND(G3=T11,'2ème'!F8>0),'2ème'!A8,IF(AND(G3=U11,'2ème'!G8>0),'2ème'!A8,IF(AND(G3=V11,'2ème'!H8>0),'2ème'!A8,IF(AND(G3=W11,'2ème'!I8>0),'2ème'!A8,IF(AND(G3=X11,'2ème'!J8>0),'2ème'!A8,IF(AND(G3=Y11,'2ème'!K8>0),'2ème'!A8,IF(AND(G3=Z11,'2ème'!L8>0),'2ème'!A8,IF(AND(G3=AA11,'2ème'!M8>0),'2ème'!A8,IF(AND(G3=AB11,'2ème'!N8>0),'2ème'!A8,IF(AND(G3=AC11,'2ème'!O8>0),'2ème'!A8,IF(AND(G3=AD11,'2ème'!P8>0),'2ème'!A8,IF(AND(G3=AE11,'2ème'!Q8>0),'2ème'!A8,IF(AND(G3=AF11,'2ème'!R8>0),'2ème'!A8,IF(AND(G3=AG11,'2ème'!S8>0),'2ème'!A8,IF(AND(G3=AH11,'2ème'!T8>0),'2ème'!A8,IF(AND(G3=AI11,'2ème'!U8>0),'2ème'!A8,IF(AND(G3=AJ11,'2ème'!V8>0),'2ème'!A8,0))))))))))))))))))))) -> 0 | G11: =IF(AND(G3=P11,'3ème'!B8>0),'3ème'!A8,IF(AND(G3=Q11,'3ème'!C8>0),'3ème'!A8,IF(AND(G3=R11,'3ème'!D8>0),'3ème'!A8,IF(AND(G3=S11,'3ème'!E8>0),'3ème'!A8,IF(AND(G3=T11,'3ème'!F8>0),'3ème'!A8,IF(AND(G3=U11,'3ème'!G8>0),'3ème'!A8,IF(AND(G3=V11,'3ème'!H8>0),'3ème'!A8,IF(AND(G3=W11,'3ème'!I8>0),'3ème'!A8,IF(AND(G3=X11,'3ème'!J8>0),'3ème'!A8,IF(AND(G3=Y11,'3ème'!K8>0),'3ème'!A8,IF(AND(G3=Z11,'3ème'!L8>0),'3ème'!A8,IF(AND(G3=AA11,'3ème'!M8>0),'3ème'!A8,IF(AND(G3=AB11,'3ème'!N8>0),'3ème'!A8,IF(AND(G3=AC11,'3ème'!O8>0),'3ème'!A8,IF(AND(G3=AD11,'3ème'!P8>0),'3ème'!A8,IF(AND(G3=AE11,'3ème'!Q8>0),'3ème'!A8,IF(AND(G3=AF11,'3ème'!R8>0),'3ème'!A8,IF(AND(G3=AG11,'3ème'!S8>0),'3ème'!A8,IF(AND(G3=AH11,'3ème'!T8>0),'3ème'!A8,IF(AND(G3=AI11,'3ème'!U8>0),'3ème'!A8,IF(AND(G3=AJ11,'3ème'!V8>0),'3ème'!A8,0))))))))))))))))))))) -> 0 | I11: =IF(AND(G3=P11,'4ème'!B8>0),'4ème'!A8,IF(AND(G3=Q11,'4ème'!C8>0),'4ème'!A8,IF(AND(G3=R11,'4ème'!D8>0),'4ème'!A8,IF(AND(G3=S11,'4ème'!E8>0),'4ème'!A8,IF(AND(G3=T11,'4ème'!F8>0),'4ème'!A8,IF(AND(G3=U11,'4ème'!G8>0),'4ème'!A8,IF(AND(G3=V11,'4ème'!H8>0),'4ème'!A8,IF(AND(G3=W11,'4ème'!I8>0),'4ème'!A8,IF(AND(G3=X11,'4ème'!J8>0),'4ème'!A8,IF(AND(G3=Y11,'4ème'!K8>0),'4ème'!A8,IF(AND(G3=Z11,'4ème'!L8>0),'4ème'!A8,IF(AND(G3=AA11,'4ème'!M8>0),'4ème'!A8,IF(AND(G3=AB11,'4ème'!N8>0),'4ème'!A8,IF(AND(G3=AC11,'4ème'!O8>0),'4ème'!A8,IF(AND(G3=AD11,'4ème'!P8>0),'4ème'!A8,IF(AND(G3=AE11,'4ème'!Q8>0),'4ème'!A8,IF(AND(G3=AF11,'4ème'!R8>0),'4ème'!A8,IF(AND(G3=AG11,'4ème'!S8>0),'4ème'!A8,IF(AND(G3=AH11,'4ème'!T8>0),'4ème'!A8,IF(AND(G3=AI11,'4ème'!U8>0),'4ème'!A8,IF(AND(G3=AJ11,'4ème'!V8>0),'4ème'!A8,0))))))))))))))))))))) -> 0 | K11: =IF(AND(G3=P11,'5ème'!B8>0),'5ème'!A8,IF(AND(G3=Q11,'5ème'!C8>0),'5ème'!A8,IF(AND(G3=R11,'5ème'!D8>0),'5ème'!A8,IF(AND(G3=S11,'5ème'!E8>0),'5ème'!A8,IF(AND(G3=T11,'5ème'!F8>0),'5ème'!A8,IF(AND(G3=U11,'5ème'!G8>0),'5ème'!A8,IF(AND(G3=V11,'5ème'!H8>0),'5ème'!A8,IF(AND(G3=W11,'5ème'!I8>0),'5ème'!A8,IF(AND(G3=X11,'5ème'!J8>0),'5ème'!A8,IF(AND(G3=Y11,'5ème'!K8>0),'5ème'!A8,IF(AND(G3=Z11,'5ème'!L8>0),'5ème'!A8,IF(AND(G3=AA11,'5ème'!M8>0),'5ème'!A8,IF(AND(G3=AB11,'5ème'!N8>0),'5ème'!A8,IF(AND(G3=AC11,'5ème'!O8>0),'5ème'!A8,IF(AND(G3=AD11,'5ème'!P8>0),'5ème'!A8,IF(AND(G3=AE11,'5ème'!Q8>0),'5ème'!A8,IF(AND(G3=AF11,'5ème'!R8>0),'5ème'!A8,IF(AND(G3=AG11,'5ème'!S8>0),'5ème'!A8,IF(AND(G3=AH11,'5ème'!T8>0),'5ème'!A8,IF(AND(G3=AI11,'5ème'!U8>0),'5ème'!A8,IF(AND(G3=AJ11,'5ème'!V8>0),'5ème'!A8,0))))))))))))))))))))) -> 0 | M11: =IF(AND(G3=P11,'6ème'!B8>0),'6ème'!A8,IF(AND(G3=Q11,'6ème'!C8>0),'6ème'!A8,IF(AND(G3=R11,'6ème'!D8>0),'6ème'!A8,IF(AND(G3=S11,'6ème'!E8>0),'6ème'!A8,IF(AND(G3=T11,'6ème'!F8>0),'6ème'!A8,IF(AND(G3=U11,'6ème'!G8>0),'6ème'!A8,IF(AND(G3=V11,'6ème'!H8>0),'6ème'!A8,IF(AND(G3=W11,'6ème'!I8>0),'6ème'!A8,IF(AND(G3=X11,'6ème'!J8>0),'6ème'!A8,IF(AND(G3=Y11,'6ème'!K8>0),'6ème'!A8,IF(AND(G3=Z11,'6ème'!L8>0),'6ème'!A8,IF(AND(G3=AA11,'6ème'!M8>0),'6ème'!A8,IF(AND(G3=AB11,'6ème'!N8>0),'6ème'!A8,IF(AND(G3=AC11,'6ème'!O8>0),'6ème'!A8,IF(AND(G3=AD11,'6ème'!P8>0),'6ème'!A8,IF(AND(G3=AE11,'6ème'!Q8>0),'6ème'!A8,IF(AND(G3=AF11,'6ème'!R8>0),'6ème'!A8,IF(AND(G3=AG11,'6ème'!S8>0),'6ème'!A8,IF(AND(G3=AH11,'6ème'!T8>0),'6ème'!A8,IF(AND(G3=AI11,'6ème'!U8>0),'6ème'!A8,IF(AND(G3=AJ11,'6ème'!V8>0),'6ème'!A8,0))))))))))))))))))))) -> 0 | O11: Date: | P11: =Cumulatif!A4 -> 25 | Q11: =Cumulatif!B4 -> 26 | R11: =Cumulatif!C4 -> 27 | S11: =Cumulatif!D4 -> 28 | T11: =Cumulatif!E4 -> 29 | U11: =Cumulatif!F4 -> 1 | V11: =Cumulatif!G4 -> 2 | W11: =Cumulatif!H4 -> 3 | ... AJ11: =Cumulatif!U4 -> 0
A12: =IF(AND(G3=P11,Maternelle!B9>0),Maternelle!A9,IF(AND(G3=Q11,Maternelle!C9>0),Maternelle!A9,IF(AND(G3=R11,Maternelle!D9>0),Maternelle!A9,IF(AND(G3=S11,Maternelle!E9>0),Maternelle!A9,IF(AND(G3=T11,Maternelle!F9>0),Maternelle!A9,IF(AND(G3=U11,Maternelle!G9>0),Maternelle!A9,IF(AND(G3=V11,Maternelle!H9>0),Maternelle!A9,IF(AND(G3=W11,Maternelle!I9>0),Maternelle!A9,IF(AND(G3=X11,Maternelle!J9>0),Maternelle!A9,IF(AND(G3=Y11,Maternelle!K9>0),Maternelle!A9,IF(AND(G3=Z11,Maternelle!L9>0),Maternelle!A9,IF(AND(G3=AA11,Maternelle!M9>0),Maternelle!A9,IF(AND(G3=AB11,Maternelle!N9>0),Maternelle!A9,IF(AND(G3=AC11,Maternelle!O9>0),Maternelle!A9,IF(AND(G3=AD11,Maternelle!P9>0),Maternelle!A9,IF(AND(G3=AE11,Maternelle!Q9>0),Maternelle!A9,IF(AND(G3=AF11,Maternelle!R9>0),Maternelle!A9,IF(AND(G3=AG11,Maternelle!S9>0),Maternelle!A9,IF(AND(G3=AH11,Maternelle!T9>0),Maternelle!A9,IF(AND(G3=AI11,Maternelle!U9>0),Maternelle!A9,IF(AND(G3=AJ11,Maternelle!V9>0),Maternelle!A9,0))))))))))))))))))))) -> 0 | C12: =IF(AND(G3=P11,'1er'!B9>0),'1er'!A9,IF(AND(G3=Q11,'1er'!C9>0),'1er'!A9,IF(AND(G3=R11,'1er'!D9>0),'1er'!A9,IF(AND(G3=S11,'1er'!E9>0),'1er'!A9,IF(AND(G3=T11,'1er'!F9>0),'1er'!A9,IF(AND(G3=U11,'1er'!G9>0),'1er'!A9,IF(AND(G3=V11,'1er'!H9>0),'1er'!A9,IF(AND(G3=W11,'1er'!I9>0),'1er'!A9,IF(AND(G3=X11,'1er'!J9>0),'1er'!A9,IF(AND(G3=Y11,'1er'!K9>0),'1er'!A9,IF(AND(G3=Z11,'1er'!L9>0),'1er'!A9,IF(AND(G3=AA11,'1er'!M9>0),'1er'!A9,IF(AND(G3=AB11,'1er'!N9>0),'1er'!A9,IF(AND(G3=AC11,'1er'!O9>0),'1er'!A9,IF(AND(G3=AD11,'1er'!P9>0),'1er'!A9,IF(AND(G3=AE11,'1er'!Q9>0),'1er'!A9,IF(AND(G3=AF11,'1er'!R9>0),'1er'!A9,IF(AND(G3=AG11,'1er'!S9>0),'1er'!A9,IF(AND(G3=AH11,'1er'!T9>0),'1er'!A9,IF(AND(G3=AI11,'1er'!U9>0),'1er'!A9,IF(AND(G3=AJ11,'1er'!V9>0),'1er'!A9,0))))))))))))))))))))) -> 0 | E12: =IF(AND(G3=P11,'2ème'!B9>0),'2ème'!A9,IF(AND(G3=Q11,'2ème'!C9>0),'2ème'!A9,IF(AND(G3=R11,'2ème'!D9>0),'2ème'!A9,IF(AND(G3=S11,'2ème'!E9>0),'2ème'!A9,IF(AND(G3=T11,'2ème'!F9>0),'2ème'!A9,IF(AND(G3=U11,'2ème'!G9>0),'2ème'!A9,IF(AND(G3=V11,'2ème'!H9>0),'2ème'!A9,IF(AND(G3=W11,'2ème'!I9>0),'2ème'!A9,IF(AND(G3=X11,'2ème'!J9>0),'2ème'!A9,IF(AND(G3=Y11,'2ème'!K9>0),'2ème'!A9,IF(AND(G3=Z11,'2ème'!L9>0),'2ème'!A9,IF(AND(G3=AA11,'2ème'!M9>0),'2ème'!A9,IF(AND(G3=AB11,'2ème'!N9>0),'2ème'!A9,IF(AND(G3=AC11,'2ème'!O9>0),'2ème'!A9,IF(AND(G3=AD11,'2ème'!P9>0),'2ème'!A9,IF(AND(G3=AE11,'2ème'!Q9>0),'2ème'!A9,IF(AND(G3=AF11,'2ème'!R9>0),'2ème'!A9,IF(AND(G3=AG11,'2ème'!S9>0),'2ème'!A9,IF(AND(G3=AH11,'2ème'!T9>0),'2ème'!A9,IF(AND(G3=AI11,'2ème'!U9>0),'2ème'!A9,IF(AND(G3=AJ11,'2ème'!V9>0),'2ème'!A9,0))))))))))))))))))))) -> 0 | G12: =IF(AND(G3=P11,'3ème'!B9>0),'3ème'!A9,IF(AND(G3=Q11,'3ème'!C9>0),'3ème'!A9,IF(AND(G3=R11,'3ème'!D9>0),'3ème'!A9,IF(AND(G3=S11,'3ème'!E9>0),'3ème'!A9,IF(AND(G3=T11,'3ème'!F9>0),'3ème'!A9,IF(AND(G3=U11,'3ème'!G9>0),'3ème'!A9,IF(AND(G3=V11,'3ème'!H9>0),'3ème'!A9,IF(AND(G3=W11,'3ème'!I9>0),'3ème'!A9,IF(AND(G3=X11,'3ème'!J9>0),'3ème'!A9,IF(AND(G3=Y11,'3ème'!K9>0),'3ème'!A9,IF(AND(G3=Z11,'3ème'!L9>0),'3ème'!A9,IF(AND(G3=AA11,'3ème'!M9>0),'3ème'!A9,IF(AND(G3=AB11,'3ème'!N9>0),'3ème'!A9,IF(AND(G3=AC11,'3ème'!O9>0),'3ème'!A9,IF(AND(G3=AD11,'3ème'!P9>0),'3ème'!A9,IF(AND(G3=AE11,'3ème'!Q9>0),'3ème'!A9,IF(AND(G3=AF11,'3ème'!R9>0),'3ème'!A9,IF(AND(G3=AG11,'3ème'!S9>0),'3ème'!A9,IF(AND(G3=AH11,'3ème'!T9>0),'3ème'!A9,IF(AND(G3=AI11,'3ème'!U9>0),'3ème'!A9,IF(AND(G3=AJ11,'3ème'!V9>0),'3ème'!A9,0))))))))))))))))))))) -> 0 | I12: =IF(AND(G3=P11,'4ème'!B9>0),'4ème'!A9,IF(AND(G3=Q11,'4ème'!C9>0),'4ème'!A9,IF(AND(G3=R11,'4ème'!D9>0),'4ème'!A9,IF(AND(G3=S11,'4ème'!E9>0),'4ème'!A9,IF(AND(G3=T11,'4ème'!F9>0),'4ème'!A9,IF(AND(G3=U11,'4ème'!G9>0),'4ème'!A9,IF(AND(G3=V11,'4ème'!H9>0),'4ème'!A9,IF(AND(G3=W11,'4ème'!I9>0),'4ème'!A9,IF(AND(G3=X11,'4ème'!J9>0),'4ème'!A9,IF(AND(G3=Y11,'4ème'!K9>0),'4ème'!A9,IF(AND(G3=Z11,'4ème'!L9>0),'4ème'!A9,IF(AND(G3=AA11,'4ème'!M9>0),'4ème'!A9,IF(AND(G3=AB11,'4ème'!N9>0),'4ème'!A9,IF(AND(G3=AC11,'4ème'!O9>0),'4ème'!A9,IF(AND(G3=AD11,'4ème'!P9>0),'4ème'!A9,IF(AND(G3=AE11,'4ème'!Q9>0),'4ème'!A9,IF(AND(G3=AF11,'4ème'!R9>0),'4ème'!A9,IF(AND(G3=AG11,'4ème'!S9>0),'4ème'!A9,IF(AND(G3=AH11,'4ème'!T9>0),'4ème'!A9,IF(AND(G3=AI11,'4ème'!U9>0),'4ème'!A9,IF(AND(G3=AJ11,'4ème'!V9>0),'4ème'!A9,0))))))))))))))))))))) -> 0 | K12: =IF(AND(G3=P11,'5ème'!B9>0),'5ème'!A9,IF(AND(G3=Q11,'5ème'!C9>0),'5ème'!A9,IF(AND(G3=R11,'5ème'!D9>0),'5ème'!A9,IF(AND(G3=S11,'5ème'!E9>0),'5ème'!A9,IF(AND(G3=T11,'5ème'!F9>0),'5ème'!A9,IF(AND(G3=U11,'5ème'!G9>0),'5ème'!A9,IF(AND(G3=V11,'5ème'!H9>0),'5ème'!A9,IF(AND(G3=W11,'5ème'!I9>0),'5ème'!A9,IF(AND(G3=X11,'5ème'!J9>0),'5ème'!A9,IF(AND(G3=Y11,'5ème'!K9>0),'5ème'!A9,IF(AND(G3=Z11,'5ème'!L9>0),'5ème'!A9,IF(AND(G3=AA11,'5ème'!M9>0),'5ème'!A9,IF(AND(G3=AB11,'5ème'!N9>0),'5ème'!A9,IF(AND(G3=AC11,'5ème'!O9>0),'5ème'!A9,IF(AND(G3=AD11,'5ème'!P9>0),'5ème'!A9,IF(AND(G3=AE11,'5ème'!Q9>0),'5ème'!A9,IF(AND(G3=AF11,'5ème'!R9>0),'5ème'!A9,IF(AND(G3=AG11,'5ème'!S9>0),'5ème'!A9,IF(AND(G3=AH11,'5ème'!T9>0),'5ème'!A9,IF(AND(G3=AI11,'5ème'!U9>0),'5ème'!A9,IF(AND(G3=AJ11,'5ème'!V9>0),'5ème'!A9,0))))))))))))))))))))) -> 0 | M12: =IF(AND(G3=P11,'6ème'!B9>0),'6ème'!A9,IF(AND(G3=Q11,'6ème'!C9>0),'6ème'!A9,IF(AND(G3=R11,'6ème'!D9>0),'6ème'!A9,IF(AND(G3=S11,'6ème'!E9>0),'6ème'!A9,IF(AND(G3=T11,'6ème'!F9>0),'6ème'!A9,IF(AND(G3=U11,'6ème'!G9>0),'6ème'!A9,IF(AND(G3=V11,'6ème'!H9>0),'6ème'!A9,IF(AND(G3=W11,'6ème'!I9>0),'6ème'!A9,IF(AND(G3=X11,'6ème'!J9>0),'6ème'!A9,IF(AND(G3=Y11,'6ème'!K9>0),'6ème'!A9,IF(AND(G3=Z11,'6ème'!L9>0),'6ème'!A9,IF(AND(G3=AA11,'6ème'!M9>0),'6ème'!A9,IF(AND(G3=AB11,'6ème'!N9>0),'6ème'!A9,IF(AND(G3=AC11,'6ème'!O9>0),'6ème'!A9,IF(AND(G3=AD11,'6ème'!P9>0),'6ème'!A9,IF(AND(G3=AE11,'6ème'!Q9>0),'6ème'!A9,IF(AND(G3=AF11,'6ème'!R9>0),'6ème'!A9,IF(AND(G3=AG11,'6ème'!S9>0),'6ème'!A9,IF(AND(G3=AH11,'6ème'!T9>0),'6ème'!A9,IF(AND(G3=AI11,'6ème'!U9>0),'6ème'!A9,IF(AND(G3=AJ11,'6ème'!V9>0),'6ème'!A9,0))))))))))))))))))))) -> 0
A13: =IF(AND(G3=P11,Maternelle!B10>0),Maternelle!A10,IF(AND(G3=Q11,Maternelle!C10>0),Maternelle!A10,IF(AND(G3=R11,Maternelle!D10>0),Maternelle!A10,IF(AND(G3=S11,Maternelle!E10>0),Maternelle!A10,IF(AND(G3=T11,Maternelle!F10>0),Maternelle!A10,IF(AND(G3=U11,Maternelle!G10>0),Maternelle!A10,IF(AND(G3=V11,Maternelle!H10>0),Maternelle!A10,IF(AND(G3=W11,Maternelle!I10>0),Maternelle!A10,IF(AND(G3=X11,Maternelle!J10>0),Maternelle!A10,IF(AND(G3=Y11,Maternelle!K10>0),Maternelle!A10,IF(AND(G3=Z11,Maternelle!L10>0),Maternelle!A10,IF(AND(G3=AA11,Maternelle!M10>0),Maternelle!A10,IF(AND(G3=AB11,Maternelle!N10>0),Maternelle!A10,IF(AND(G3=AC11,Maternelle!O10>0),Maternelle!A10,IF(AND(G3=AD11,Maternelle!P10>0),Maternelle!A10,IF(AND(G3=AE11,Maternelle!Q10>0),Maternelle!A10,IF(AND(G3=AF11,Maternelle!R10>0),Maternelle!A10,IF(AND(G3=AG11,Maternelle!S10>0),Maternelle!A10,IF(AND(G3=AH11,Maternelle!T10>0),Maternelle!A10,IF(AND(G3=AI11,Maternelle!U10>0),Maternelle!A10,IF(AND(G3=AJ11,Maternelle!V10>0),Maternelle!A10,0))))))))))))))))))))) -> 0 | C13: =IF(AND(G3=P11,'1er'!B10>0),'1er'!A10,IF(AND(G3=Q11,'1er'!C10>0),'1er'!A10,IF(AND(G3=R11,'1er'!D10>0),'1er'!A10,IF(AND(G3=S11,'1er'!E10>0),'1er'!A10,IF(AND(G3=T11,'1er'!F10>0),'1er'!A10,IF(AND(G3=U11,'1er'!G10>0),'1er'!A10,IF(AND(G3=V11,'1er'!H10>0),'1er'!A10,IF(AND(G3=W11,'1er'!I10>0),'1er'!A10,IF(AND(G3=X11,'1er'!J10>0),'1er'!A10,IF(AND(G3=Y11,'1er'!K10>0),'1er'!A10,IF(AND(G3=Z11,'1er'!L10>0),'1er'!A10,IF(AND(G3=AA11,'1er'!M10>0),'1er'!A10,IF(AND(G3=AB11,'1er'!N10>0),'1er'!A10,IF(AND(G3=AC11,'1er'!O10>0),'1er'!A10,IF(AND(G3=AD11,'1er'!P10>0),'1er'!A10,IF(AND(G3=AE11,'1er'!Q10>0),'1er'!A10,IF(AND(G3=AF11,'1er'!R10>0),'1er'!A10,IF(AND(G3=AG11,'1er'!S10>0),'1er'!A10,IF(AND(G3=AH11,'1er'!T10>0),'1er'!A10,IF(AND(G3=AI11,'1er'!U10>0),'1er'!A10,IF(AND(G3=AJ11,'1er'!V10>0),'1er'!A10,0))))))))))))))))))))) -> 0 | E13: =IF(AND(G3=P11,'2ème'!B10>0),'2ème'!A10,IF(AND(G3=Q11,'2ème'!C10>0),'2ème'!A10,IF(AND(G3=R11,'2ème'!D10>0),'2ème'!A10,IF(AND(G3=S11,'2ème'!E10>0),'2ème'!A10,IF(AND(G3=T11,'2ème'!F10>0),'2ème'!A10,IF(AND(G3=U11,'2ème'!G10>0),'2ème'!A10,IF(AND(G3=V11,'2ème'!H10>0),'2ème'!A10,IF(AND(G3=W11,'2ème'!I10>0),'2ème'!A10,IF(AND(G3=X11,'2ème'!J10>0),'2ème'!A10,IF(AND(G3=Y11,'2ème'!K10>0),'2ème'!A10,IF(AND(G3=Z11,'2ème'!L10>0),'2ème'!A10,IF(AND(G3=AA11,'2ème'!M10>0),'2ème'!A10,IF(AND(G3=AB11,'2ème'!N10>0),'2ème'!A10,IF(AND(G3=AC11,'2ème'!O10>0),'2ème'!A10,IF(AND(G3=AD11,'2ème'!P10>0),'2ème'!A10,IF(AND(G3=AE11,'2ème'!Q10>0),'2ème'!A10,IF(AND(G3=AF11,'2ème'!R10>0),'2ème'!A10,IF(AND(G3=AG11,'2ème'!S10>0),'2ème'!A10,IF(AND(G3=AH11,'2ème'!T10>0),'2ème'!A10,IF(AND(G3=AI11,'2ème'!U10>0),'2ème'!A10,IF(AND(G3=AJ11,'2ème'!V10>0),'2ème'!A10,0))))))))))))))))))))) -> 0 | G13: =IF(AND(G3=P11,'3ème'!B10>0),'3ème'!A10,IF(AND(G3=Q11,'3ème'!C10>0),'3ème'!A10,IF(AND(G3=R11,'3ème'!D10>0),'3ème'!A10,IF(AND(G3=S11,'3ème'!E10>0),'3ème'!A10,IF(AND(G3=T11,'3ème'!F10>0),'3ème'!A10,IF(AND(G3=U11,'3ème'!G10>0),'3ème'!A10,IF(AND(G3=V11,'3ème'!H10>0),'3ème'!A10,IF(AND(G3=W11,'3ème'!I10>0),'3ème'!A10,IF(AND(G3=X11,'3ème'!J10>0),'3ème'!A10,IF(AND(G3=Y11,'3ème'!K10>0),'3ème'!A10,IF(AND(G3=Z11,'3ème'!L10>0),'3ème'!A10,IF(AND(G3=AA11,'3ème'!M10>0),'3ème'!A10,IF(AND(G3=AB11,'3ème'!N10>0),'3ème'!A10,IF(AND(G3=AC11,'3ème'!O10>0),'3ème'!A10,IF(AND(G3=AD11,'3ème'!P10>0),'3ème'!A10,IF(AND(G3=AE11,'3ème'!Q10>0),'3ème'!A10,IF(AND(G3=AF11,'3ème'!R10>0),'3ème'!A10,IF(AND(G3=AG11,'3ème'!S10>0),'3ème'!A10,IF(AND(G3=AH11,'3ème'!T10>0),'3ème'!A10,IF(AND(G3=AI11,'3ème'!U10>0),'3ème'!A10,IF(AND(G3=AJ11,'3ème'!V10>0),'3ème'!A10,0))))))))))))))))))))) -> 0 | I13: =IF(AND(G3=P11,'4ème'!B10>0),'4ème'!A10,IF(AND(G3=Q11,'4ème'!C10>0),'4ème'!A10,IF(AND(G3=R11,'4ème'!D10>0),'4ème'!A10,IF(AND(G3=S11,'4ème'!E10>0),'4ème'!A10,IF(AND(G3=T11,'4ème'!F10>0),'4ème'!A10,IF(AND(G3=U11,'4ème'!G10>0),'4ème'!A10,IF(AND(G3=V11,'4ème'!H10>0),'4ème'!A10,IF(AND(G3=W11,'4ème'!I10>0),'4ème'!A10,IF(AND(G3=X11,'4ème'!J10>0),'4ème'!A10,IF(AND(G3=Y11,'4ème'!K10>0),'4ème'!A10,IF(AND(G3=Z11,'4ème'!L10>0),'4ème'!A10,IF(AND(G3=AA11,'4ème'!M10>0),'4ème'!A10,IF(AND(G3=AB11,'4ème'!N10>0),'4ème'!A10,IF(AND(G3=AC11,'4ème'!O10>0),'4ème'!A10,IF(AND(G3=AD11,'4ème'!P10>0),'4ème'!A10,IF(AND(G3=AE11,'4ème'!Q10>0),'4ème'!A10,IF(AND(G3=AF11,'4ème'!R10>0),'4ème'!A10,IF(AND(G3=AG11,'4ème'!S10>0),'4ème'!A10,IF(AND(G3=AH11,'4ème'!T10>0),'4ème'!A10,IF(AND(G3=AI11,'4ème'!U10>0),'4ème'!A10,IF(AND(G3=AJ11,'4ème'!V10>0),'4ème'!A10,0))))))))))))))))))))) -> 0 | K13: =IF(AND(G3=P11,'5ème'!B10>0),'5ème'!A10,IF(AND(G3=Q11,'5ème'!C10>0),'5ème'!A10,IF(AND(G3=R11,'5ème'!D10>0),'5ème'!A10,IF(AND(G3=S11,'5ème'!E10>0),'5ème'!A10,IF(AND(G3=T11,'5ème'!F10>0),'5ème'!A10,IF(AND(G3=U11,'5ème'!G10>0),'5ème'!A10,IF(AND(G3=V11,'5ème'!H10>0),'5ème'!A10,IF(AND(G3=W11,'5ème'!I10>0),'5ème'!A10,IF(AND(G3=X11,'5ème'!J10>0),'5ème'!A10,IF(AND(G3=Y11,'5ème'!K10>0),'5ème'!A10,IF(AND(G3=Z11,'5ème'!L10>0),'5ème'!A10,IF(AND(G3=AA11,'5ème'!M10>0),'5ème'!A10,IF(AND(G3=AB11,'5ème'!N10>0),'5ème'!A10,IF(AND(G3=AC11,'5ème'!O10>0),'5ème'!A10,IF(AND(G3=AD11,'5ème'!P10>0),'5ème'!A10,IF(AND(G3=AE11,'5ème'!Q10>0),'5ème'!A10,IF(AND(G3=AF11,'5ème'!R10>0),'5ème'!A10,IF(AND(G3=AG11,'5ème'!S10>0),'5ème'!A10,IF(AND(G3=AH11,'5ème'!T10>0),'5ème'!A10,IF(AND(G3=AI11,'5ème'!U10>0),'5ème'!A10,IF(AND(G3=AJ11,'5ème'!V10>0),'5ème'!A10,0))))))))))))))))))))) -> 0 | M13: =IF(AND(G3=P11,'6ème'!B10>0),'6ème'!A10,IF(AND(G3=Q11,'6ème'!C10>0),'6ème'!A10,IF(AND(G3=R11,'6ème'!D10>0),'6ème'!A10,IF(AND(G3=S11,'6ème'!E10>0),'6ème'!A10,IF(AND(G3=T11,'6ème'!F10>0),'6ème'!A10,IF(AND(G3=U11,'6ème'!G10>0),'6ème'!A10,IF(AND(G3=V11,'6ème'!H10>0),'6ème'!A10,IF(AND(G3=W11,'6ème'!I10>0),'6ème'!A10,IF(AND(G3=X11,'6ème'!J10>0),'6ème'!A10,IF(AND(G3=Y11,'6ème'!K10>0),'6ème'!A10,IF(AND(G3=Z11,'6ème'!L10>0),'6ème'!A10,IF(AND(G3=AA11,'6ème'!M10>0),'6ème'!A10,IF(AND(G3=AB11,'6ème'!N10>0),'6ème'!A10,IF(AND(G3=AC11,'6ème'!O10>0),'6ème'!A10,IF(AND(G3=AD11,'6ème'!P10>0),'6ème'!A10,IF(AND(G3=AE11,'6ème'!Q10>0),'6ème'!A10,IF(AND(G3=AF11,'6ème'!R10>0),'6ème'!A10,IF(AND(G3=AG11,'6ème'!S10>0),'6ème'!A10,IF(AND(G3=AH11,'6ème'!T10>0),'6ème'!A10,IF(AND(G3=AI11,'6ème'!U10>0),'6ème'!A10,IF(AND(G3=AJ11,'6ème'!V10>0),'6ème'!A10,0))))))))))))))))))))) -> 0
A14: =IF(AND(G3=P11,Maternelle!B11>0),Maternelle!A11,IF(AND(G3=Q11,Maternelle!C11>0),Maternelle!A11,IF(AND(G3=R11,Maternelle!D11>0),Maternelle!A11,IF(AND(G3=S11,Maternelle!E11>0),Maternelle!A11,IF(AND(G3=T11,Maternelle!F11>0),Maternelle!A11,IF(AND(G3=U11,Maternelle!G11>0),Maternelle!A11,IF(AND(G3=V11,Maternelle!H11>0),Maternelle!A11,IF(AND(G3=W11,Maternelle!I11>0),Maternelle!A11,IF(AND(G3=X11,Maternelle!J11>0),Maternelle!A11,IF(AND(G3=Y11,Maternelle!K11>0),Maternelle!A11,IF(AND(G3=Z11,Maternelle!L11>0),Maternelle!A11,IF(AND(G3=AA11,Maternelle!M11>0),Maternelle!A11,IF(AND(G3=AB11,Maternelle!N11>0),Maternelle!A11,IF(AND(G3=AC11,Maternelle!O11>0),Maternelle!A11,IF(AND(G3=AD11,Maternelle!P11>0),Maternelle!A11,IF(AND(G3=AE11,Maternelle!Q11>0),Maternelle!A11,IF(AND(G3=AF11,Maternelle!R11>0),Maternelle!A11,IF(AND(G3=AG11,Maternelle!S11>0),Maternelle!A11,IF(AND(G3=AH11,Maternelle!T11>0),Maternelle!A11,IF(AND(G3=AI11,Maternelle!U11>0),Maternelle!A11,IF(AND(G3=AJ11,Maternelle!V11>0),Maternelle!A11,0))))))))))))))))))))) -> 0 | C14: =IF(AND(G3=P11,'1er'!B11>0),'1er'!A11,IF(AND(G3=Q11,'1er'!C11>0),'1er'!A11,IF(AND(G3=R11,'1er'!D11>0),'1er'!A11,IF(AND(G3=S11,'1er'!E11>0),'1er'!A11,IF(AND(G3=T11,'1er'!F11>0),'1er'!A11,IF(AND(G3=U11,'1er'!G11>0),'1er'!A11,IF(AND(G3=V11,'1er'!H11>0),'1er'!A11,IF(AND(G3=W11,'1er'!I11>0),'1er'!A11,IF(AND(G3=X11,'1er'!J11>0),'1er'!A11,IF(AND(G3=Y11,'1er'!K11>0),'1er'!A11,IF(AND(G3=Z11,'1er'!L11>0),'1er'!A11,IF(AND(G3=AA11,'1er'!M11>0),'1er'!A11,IF(AND(G3=AB11,'1er'!N11>0),'1er'!A11,IF(AND(G3=AC11,'1er'!O11>0),'1er'!A11,IF(AND(G3=AD11,'1er'!P11>0),'1er'!A11,IF(AND(G3=AE11,'1er'!Q11>0),'1er'!A11,IF(AND(G3=AF11,'1er'!R11>0),'1er'!A11,IF(AND(G3=AG11,'1er'!S11>0),'1er'!A11,IF(AND(G3=AH11,'1er'!T11>0),'1er'!A11,IF(AND(G3=AI11,'1er'!U11>0),'1er'!A11,IF(AND(G3=AJ11,'1er'!V11>0),'1er'!A11,0))))))))))))))))))))) -> 0 | E14: =IF(AND(G3=P11,'2ème'!B11>0),'2ème'!A11,IF(AND(G3=Q11,'2ème'!C11>0),'2ème'!A11,IF(AND(G3=R11,'2ème'!D11>0),'2ème'!A11,IF(AND(G3=S11,'2ème'!E11>0),'2ème'!A11,IF(AND(G3=T11,'2ème'!F11>0),'2ème'!A11,IF(AND(G3=U11,'2ème'!G11>0),'2ème'!A11,IF(AND(G3=V11,'2ème'!H11>0),'2ème'!A11,IF(AND(G3=W11,'2ème'!I11>0),'2ème'!A11,IF(AND(G3=X11,'2ème'!J11>0),'2ème'!A11,IF(AND(G3=Y11,'2ème'!K11>0),'2ème'!A11,IF(AND(G3=Z11,'2ème'!L11>0),'2ème'!A11,IF(AND(G3=AA11,'2ème'!M11>0),'2ème'!A11,IF(AND(G3=AB11,'2ème'!N11>0),'2ème'!A11,IF(AND(G3=AC11,'2ème'!O11>0),'2ème'!A11,IF(AND(G3=AD11,'2ème'!P11>0),'2ème'!A11,IF(AND(G3=AE11,'2ème'!Q11>0),'2ème'!A11,IF(AND(G3=AF11,'2ème'!R11>0),'2ème'!A11,IF(AND(G3=AG11,'2ème'!S11>0),'2ème'!A11,IF(AND(G3=AH11,'2ème'!T11>0),'2ème'!A11,IF(AND(G3=AI11,'2ème'!U11>0),'2ème'!A11,IF(AND(G3=AJ11,'2ème'!V11>0),'2ème'!A11,0))))))))))))))))))))) -> 0 | G14: =IF(AND(G3=P11,'3ème'!B11>0),'3ème'!A11,IF(AND(G3=Q11,'3ème'!C11>0),'3ème'!A11,IF(AND(G3=R11,'3ème'!D11>0),'3ème'!A11,IF(AND(G3=S11,'3ème'!E11>0),'3ème'!A11,IF(AND(G3=T11,'3ème'!F11>0),'3ème'!A11,IF(AND(G3=U11,'3ème'!G11>0),'3ème'!A11,IF(AND(G3=V11,'3ème'!H11>0),'3ème'!A11,IF(AND(G3=W11,'3ème'!I11>0),'3ème'!A11,IF(AND(G3=X11,'3ème'!J11>0),'3ème'!A11,IF(AND(G3=Y11,'3ème'!K11>0),'3ème'!A11,IF(AND(G3=Z11,'3ème'!L11>0),'3ème'!A11,IF(AND(G3=AA11,'3ème'!M11>0),'3ème'!A11,IF(AND(G3=AB11,'3ème'!N11>0),'3ème'!A11,IF(AND(G3=AC11,'3ème'!O11>0),'3ème'!A11,IF(AND(G3=AD11,'3ème'!P11>0),'3ème'!A11,IF(AND(G3=AE11,'3ème'!Q11>0),'3ème'!A11,IF(AND(G3=AF11,'3ème'!R11>0),'3ème'!A11,IF(AND(G3=AG11,'3ème'!S11>0),'3ème'!A11,IF(AND(G3=AH11,'3ème'!T11>0),'3ème'!A11,IF(AND(G3=AI11,'3ème'!U11>0),'3ème'!A11,IF(AND(G3=AJ11,'3ème'!V11>0),'3ème'!A11,0))))))))))))))))))))) -> 0 | I14: =IF(AND(G3=P11,'4ème'!B11>0),'4ème'!A11,IF(AND(G3=Q11,'4ème'!C11>0),'4ème'!A11,IF(AND(G3=R11,'4ème'!D11>0),'4ème'!A11,IF(AND(G3=S11,'4ème'!E11>0),'4ème'!A11,IF(AND(G3=T11,'4ème'!F11>0),'4ème'!A11,IF(AND(G3=U11,'4ème'!G11>0),'4ème'!A11,IF(AND(G3=V11,'4ème'!H11>0),'4ème'!A11,IF(AND(G3=W11,'4ème'!I11>0),'4ème'!A11,IF(AND(G3=X11,'4ème'!J11>0),'4ème'!A11,IF(AND(G3=Y11,'4ème'!K11>0),'4ème'!A11,IF(AND(G3=Z11,'4ème'!L11>0),'4ème'!A11,IF(AND(G3=AA11,'4ème'!M11>0),'4ème'!A11,IF(AND(G3=AB11,'4ème'!N11>0),'4ème'!A11,IF(AND(G3=AC11,'4ème'!O11>0),'4ème'!A11,IF(AND(G3=AD11,'4ème'!P11>0),'4ème'!A11,IF(AND(G3=AE11,'4ème'!Q11>0),'4ème'!A11,IF(AND(G3=AF11,'4ème'!R11>0),'4ème'!A11,IF(AND(G3=AG11,'4ème'!S11>0),'4ème'!A11,IF(AND(G3=AH11,'4ème'!T11>0),'4ème'!A11,IF(AND(G3=AI11,'4ème'!U11>0),'4ème'!A11,IF(AND(G3=AJ11,'4ème'!V11>0),'4ème'!A11,0))))))))))))))))))))) -> 0 | K14: =IF(AND(G3=P11,'5ème'!B11>0),'5ème'!A11,IF(AND(G3=Q11,'5ème'!C11>0),'5ème'!A11,IF(AND(G3=R11,'5ème'!D11>0),'5ème'!A11,IF(AND(G3=S11,'5ème'!E11>0),'5ème'!A11,IF(AND(G3=T11,'5ème'!F11>0),'5ème'!A11,IF(AND(G3=U11,'5ème'!G11>0),'5ème'!A11,IF(AND(G3=V11,'5ème'!H11>0),'5ème'!A11,IF(AND(G3=W11,'5ème'!I11>0),'5ème'!A11,IF(AND(G3=X11,'5ème'!J11>0),'5ème'!A11,IF(AND(G3=Y11,'5ème'!K11>0),'5ème'!A11,IF(AND(G3=Z11,'5ème'!L11>0),'5ème'!A11,IF(AND(G3=AA11,'5ème'!M11>0),'5ème'!A11,IF(AND(G3=AB11,'5ème'!N11>0),'5ème'!A11,IF(AND(G3=AC11,'5ème'!O11>0),'5ème'!A11,IF(AND(G3=AD11,'5ème'!P11>0),'5ème'!A11,IF(AND(G3=AE11,'5ème'!Q11>0),'5ème'!A11,IF(AND(G3=AF11,'5ème'!R11>0),'5ème'!A11,IF(AND(G3=AG11,'5ème'!S11>0),'5ème'!A11,IF(AND(G3=AH11,'5ème'!T11>0),'5ème'!A11,IF(AND(G3=AI11,'5ème'!U11>0),'5ème'!A11,IF(AND(G3=AJ11,'5ème'!V11>0),'5ème'!A11,0))))))))))))))))))))) -> 0 | M14: =IF(AND(G3=P11,'6ème'!B11>0),'6ème'!A11,IF(AND(G3=Q11,'6ème'!C11>0),'6ème'!A11,IF(AND(G3=R11,'6ème'!D11>0),'6ème'!A11,IF(AND(G3=S11,'6ème'!E11>0),'6ème'!A11,IF(AND(G3=T11,'6ème'!F11>0),'6ème'!A11,IF(AND(G3=U11,'6ème'!G11>0),'6ème'!A11,IF(AND(G3=V11,'6ème'!H11>0),'6ème'!A11,IF(AND(G3=W11,'6ème'!I11>0),'6ème'!A11,IF(AND(G3=X11,'6ème'!J11>0),'6ème'!A11,IF(AND(G3=Y11,'6ème'!K11>0),'6ème'!A11,IF(AND(G3=Z11,'6ème'!L11>0),'6ème'!A11,IF(AND(G3=AA11,'6ème'!M11>0),'6ème'!A11,IF(AND(G3=AB11,'6ème'!N11>0),'6ème'!A11,IF(AND(G3=AC11,'6ème'!O11>0),'6ème'!A11,IF(AND(G3=AD11,'6ème'!P11>0),'6ème'!A11,IF(AND(G3=AE11,'6ème'!Q11>0),'6ème'!A11,IF(AND(G3=AF11,'6ème'!R11>0),'6ème'!A11,IF(AND(G3=AG11,'6ème'!S11>0),'6ème'!A11,IF(AND(G3=AH11,'6ème'!T11>0),'6ème'!A11,IF(AND(G3=AI11,'6ème'!U11>0),'6ème'!A11,IF(AND(G3=AJ11,'6ème'!V11>0),'6ème'!A11,0))))))))))))))))))))) -> 0
A15: =IF(AND(G3=P11,Maternelle!B12>0),Maternelle!A12,IF(AND(G3=Q11,Maternelle!C12>0),Maternelle!A12,IF(AND(G3=R11,Maternelle!D12>0),Maternelle!A12,IF(AND(G3=S11,Maternelle!E12>0),Maternelle!A12,IF(AND(G3=T11,Maternelle!F12>0),Maternelle!A12,IF(AND(G3=U11,Maternelle!G12>0),Maternelle!A12,IF(AND(G3=V11,Maternelle!H12>0),Maternelle!A12,IF(AND(G3=W11,Maternelle!I12>0),Maternelle!A12,IF(AND(G3=X11,Maternelle!J12>0),Maternelle!A12,IF(AND(G3=Y11,Maternelle!K12>0),Maternelle!A12,IF(AND(G3=Z11,Maternelle!L12>0),Maternelle!A12,IF(AND(G3=AA11,Maternelle!M12>0),Maternelle!A12,IF(AND(G3=AB11,Maternelle!N12>0),Maternelle!A12,IF(AND(G3=AC11,Maternelle!O12>0),Maternelle!A12,IF(AND(G3=AD11,Maternelle!P12>0),Maternelle!A12,IF(AND(G3=AE11,Maternelle!Q12>0),Maternelle!A12,IF(AND(G3=AF11,Maternelle!R12>0),Maternelle!A12,IF(AND(G3=AG11,Maternelle!S12>0),Maternelle!A12,IF(AND(G3=AH11,Maternelle!T12>0),Maternelle!A12,IF(AND(G3=AI11,Maternelle!U12>0),Maternelle!A12,IF(AND(G3=AJ11,Maternelle!V12>0),Maternelle!A12,0))))))))))))))))))))) -> 0 | C15: =IF(AND(G3=P11,'1er'!B12>0),'1er'!A12,IF(AND(G3=Q11,'1er'!C12>0),'1er'!A12,IF(AND(G3=R11,'1er'!D12>0),'1er'!A12,IF(AND(G3=S11,'1er'!E12>0),'1er'!A12,IF(AND(G3=T11,'1er'!F12>0),'1er'!A12,IF(AND(G3=U11,'1er'!G12>0),'1er'!A12,IF(AND(G3=V11,'1er'!H12>0),'1er'!A12,IF(AND(G3=W11,'1er'!I12>0),'1er'!A12,IF(AND(G3=X11,'1er'!J12>0),'1er'!A12,IF(AND(G3=Y11,'1er'!K12>0),'1er'!A12,IF(AND(G3=Z11,'1er'!L12>0),'1er'!A12,IF(AND(G3=AA11,'1er'!M12>0),'1er'!A12,IF(AND(G3=AB11,'1er'!N12>0),'1er'!A12,IF(AND(G3=AC11,'1er'!O12>0),'1er'!A12,IF(AND(G3=AD11,'1er'!P12>0),'1er'!A12,IF(AND(G3=AE11,'1er'!Q12>0),'1er'!A12,IF(AND(G3=AF11,'1er'!R12>0),'1er'!A12,IF(AND(G3=AG11,'1er'!S12>0),'1er'!A12,IF(AND(G3=AH11,'1er'!T12>0),'1er'!A12,IF(AND(G3=AI11,'1er'!U12>0),'1er'!A12,IF(AND(G3=AJ11,'1er'!V12>0),'1er'!A12,0))))))))))))))))))))) -> 0 | E15: =IF(AND(G3=P11,'2ème'!B12>0),'2ème'!A12,IF(AND(G3=Q11,'2ème'!C12>0),'2ème'!A12,IF(AND(G3=R11,'2ème'!D12>0),'2ème'!A12,IF(AND(G3=S11,'2ème'!E12>0),'2ème'!A12,IF(AND(G3=T11,'2ème'!F12>0),'2ème'!A12,IF(AND(G3=U11,'2ème'!G12>0),'2ème'!A12,IF(AND(G3=V11,'2ème'!H12>0),'2ème'!A12,IF(AND(G3=W11,'2ème'!I12>0),'2ème'!A12,IF(AND(G3=X11,'2ème'!J12>0),'2ème'!A12,IF(AND(G3=Y11,'2ème'!K12>0),'2ème'!A12,IF(AND(G3=Z11,'2ème'!L12>0),'2ème'!A12,IF(AND(G3=AA11,'2ème'!M12>0),'2ème'!A12,IF(AND(G3=AB11,'2ème'!N12>0),'2ème'!A12,IF(AND(G3=AC11,'2ème'!O12>0),'2ème'!A12,IF(AND(G3=AD11,'2ème'!P12>0),'2ème'!A12,IF(AND(G3=AE11,'2ème'!Q12>0),'2ème'!A12,IF(AND(G3=AF11,'2ème'!R12>0),'2ème'!A12,IF(AND(G3=AG11,'2ème'!S12>0),'2ème'!A12,IF(AND(G3=AH11,'2ème'!T12>0),'2ème'!A12,IF(AND(G3=AI11,'2ème'!U12>0),'2ème'!A12,IF(AND(G3=AJ11,'2ème'!V12>0),'2ème'!A12,0))))))))))))))))))))) -> 0 | G15: =IF(AND(G3=P11,'3ème'!B12>0),'3ème'!A12,IF(AND(G3=Q11,'3ème'!C12>0),'3ème'!A12,IF(AND(G3=R11,'3ème'!D12>0),'3ème'!A12,IF(AND(G3=S11,'3ème'!E12>0),'3ème'!A12,IF(AND(G3=T11,'3ème'!F12>0),'3ème'!A12,IF(AND(G3=U11,'3ème'!G12>0),'3ème'!A12,IF(AND(G3=V11,'3ème'!H12>0),'3ème'!A12,IF(AND(G3=W11,'3ème'!I12>0),'3ème'!A12,IF(AND(G3=X11,'3ème'!J12>0),'3ème'!A12,IF(AND(G3=Y11,'3ème'!K12>0),'3ème'!A12,IF(AND(G3=Z11,'3ème'!L12>0),'3ème'!A12,IF(AND(G3=AA11,'3ème'!M12>0),'3ème'!A12,IF(AND(G3=AB11,'3ème'!N12>0),'3ème'!A12,IF(AND(G3=AC11,'3ème'!O12>0),'3ème'!A12,IF(AND(G3=AD11,'3ème'!P12>0),'3ème'!A12,IF(AND(G3=AE11,'3ème'!Q12>0),'3ème'!A12,IF(AND(G3=AF11,'3ème'!R12>0),'3ème'!A12,IF(AND(G3=AG11,'3ème'!S12>0),'3ème'!A12,IF(AND(G3=AH11,'3ème'!T12>0),'3ème'!A12,IF(AND(G3=AI11,'3ème'!U12>0),'3ème'!A12,IF(AND(G3=AJ11,'3ème'!V12>0),'3ème'!A12,0))))))))))))))))))))) -> 0 | I15: =IF(AND(G3=P11,'4ème'!B12>0),'4ème'!A12,IF(AND(G3=Q11,'4ème'!C12>0),'4ème'!A12,IF(AND(G3=R11,'4ème'!D12>0),'4ème'!A12,IF(AND(G3=S11,'4ème'!E12>0),'4ème'!A12,IF(AND(G3=T11,'4ème'!F12>0),'4ème'!A12,IF(AND(G3=U11,'4ème'!G12>0),'4ème'!A12,IF(AND(G3=V11,'4ème'!H12>0),'4ème'!A12,IF(AND(G3=W11,'4ème'!I12>0),'4ème'!A12,IF(AND(G3=X11,'4ème'!J12>0),'4ème'!A12,IF(AND(G3=Y11,'4ème'!K12>0),'4ème'!A12,IF(AND(G3=Z11,'4ème'!L12>0),'4ème'!A12,IF(AND(G3=AA11,'4ème'!M12>0),'4ème'!A12,IF(AND(G3=AB11,'4ème'!N12>0),'4ème'!A12,IF(AND(G3=AC11,'4ème'!O12>0),'4ème'!A12,IF(AND(G3=AD11,'4ème'!P12>0),'4ème'!A12,IF(AND(G3=AE11,'4ème'!Q12>0),'4ème'!A12,IF(AND(G3=AF11,'4ème'!R12>0),'4ème'!A12,IF(AND(G3=AG11,'4ème'!S12>0),'4ème'!A12,IF(AND(G3=AH11,'4ème'!T12>0),'4ème'!A12,IF(AND(G3=AI11,'4ème'!U12>0),'4ème'!A12,IF(AND(G3=AJ11,'4ème'!V12>0),'4ème'!A12,0))))))))))))))))))))) -> 0 | K15: =IF(AND(G3=P11,'5ème'!B12>0),'5ème'!A12,IF(AND(G3=Q11,'5ème'!C12>0),'5ème'!A12,IF(AND(G3=R11,'5ème'!D12>0),'5ème'!A12,IF(AND(G3=S11,'5ème'!E12>0),'5ème'!A12,IF(AND(G3=T11,'5ème'!F12>0),'5ème'!A12,IF(AND(G3=U11,'5ème'!G12>0),'5ème'!A12,IF(AND(G3=V11,'5ème'!H12>0),'5ème'!A12,IF(AND(G3=W11,'5ème'!I12>0),'5ème'!A12,IF(AND(G3=X11,'5ème'!J12>0),'5ème'!A12,IF(AND(G3=Y11,'5ème'!K12>0),'5ème'!A12,IF(AND(G3=Z11,'5ème'!L12>0),'5ème'!A12,IF(AND(G3=AA11,'5ème'!M12>0),'5ème'!A12,IF(AND(G3=AB11,'5ème'!N12>0),'5ème'!A12,IF(AND(G3=AC11,'5ème'!O12>0),'5ème'!A12,IF(AND(G3=AD11,'5ème'!P12>0),'5ème'!A12,IF(AND(G3=AE11,'5ème'!Q12>0),'5ème'!A12,IF(AND(G3=AF11,'5ème'!R12>0),'5ème'!A12,IF(AND(G3=AG11,'5ème'!S12>0),'5ème'!A12,IF(AND(G3=AH11,'5ème'!T12>0),'5ème'!A12,IF(AND(G3=AI11,'5ème'!U12>0),'5ème'!A12,IF(AND(G3=AJ11,'5ème'!V12>0),'5ème'!A12,0))))))))))))))))))))) -> 0 | M15: =IF(AND(G3=P11,'6ème'!B12>0),'6ème'!A12,IF(AND(G3=Q11,'6ème'!C12>0),'6ème'!A12,IF(AND(G3=R11,'6ème'!D12>0),'6ème'!A12,IF(AND(G3=S11,'6ème'!E12>0),'6ème'!A12,IF(AND(G3=T11,'6ème'!F12>0),'6ème'!A12,IF(AND(G3=U11,'6ème'!G12>0),'6ème'!A12,IF(AND(G3=V11,'6ème'!H12>0),'6ème'!A12,IF(AND(G3=W11,'6ème'!I12>0),'6ème'!A12,IF(AND(G3=X11,'6ème'!J12>0),'6ème'!A12,IF(AND(G3=Y11,'6ème'!K12>0),'6ème'!A12,IF(AND(G3=Z11,'6ème'!L12>0),'6ème'!A12,IF(AND(G3=AA11,'6ème'!M12>0),'6ème'!A12,IF(AND(G3=AB11,'6ème'!N12>0),'6ème'!A12,IF(AND(G3=AC11,'6ème'!O12>0),'6ème'!A12,IF(AND(G3=AD11,'6ème'!P12>0),'6ème'!A12,IF(AND(G3=AE11,'6ème'!Q12>0),'6ème'!A12,IF(AND(G3=AF11,'6ème'!R12>0),'6ème'!A12,IF(AND(G3=AG11,'6ème'!S12>0),'6ème'!A12,IF(AND(G3=AH11,'6ème'!T12>0),'6ème'!A12,IF(AND(G3=AI11,'6ème'!U12>0),'6ème'!A12,IF(AND(G3=AJ11,'6ème'!V12>0),'6ème'!A12,0))))))))))))))))))))) -> 0
A16: =IF(AND(G3=P11,Maternelle!B13>0),Maternelle!A13,IF(AND(G3=Q11,Maternelle!C13>0),Maternelle!A13,IF(AND(G3=R11,Maternelle!D13>0),Maternelle!A13,IF(AND(G3=S11,Maternelle!E13>0),Maternelle!A13,IF(AND(G3=T11,Maternelle!F13>0),Maternelle!A13,IF(AND(G3=U11,Maternelle!G13>0),Maternelle!A13,IF(AND(G3=V11,Maternelle!H13>0),Maternelle!A13,IF(AND(G3=W11,Maternelle!I13>0),Maternelle!A13,IF(AND(G3=X11,Maternelle!J13>0),Maternelle!A13,IF(AND(G3=Y11,Maternelle!K13>0),Maternelle!A13,IF(AND(G3=Z11,Maternelle!L13>0),Maternelle!A13,IF(AND(G3=AA11,Maternelle!M13>0),Maternelle!A13,IF(AND(G3=AB11,Maternelle!N13>0),Maternelle!A13,IF(AND(G3=AC11,Maternelle!O13>0),Maternelle!A13,IF(AND(G3=AD11,Maternelle!P13>0),Maternelle!A13,IF(AND(G3=AE11,Maternelle!Q13>0),Maternelle!A13,IF(AND(G3=AF11,Maternelle!R13>0),Maternelle!A13,IF(AND(G3=AG11,Maternelle!S13>0),Maternelle!A13,IF(AND(G3=AH11,Maternelle!T13>0),Maternelle!A13,IF(AND(G3=AI11,Maternelle!U13>0),Maternelle!A13,IF(AND(G3=AJ11,Maternelle!V13>0),Maternelle!A13,0))))))))))))))))))))) -> 0 | C16: =IF(AND(G3=P11,'1er'!B13>0),'1er'!A13,IF(AND(G3=Q11,'1er'!C13>0),'1er'!A13,IF(AND(G3=R11,'1er'!D13>0),'1er'!A13,IF(AND(G3=S11,'1er'!E13>0),'1er'!A13,IF(AND(G3=T11,'1er'!F13>0),'1er'!A13,IF(AND(G3=U11,'1er'!G13>0),'1er'!A13,IF(AND(G3=V11,'1er'!H13>0),'1er'!A13,IF(AND(G3=W11,'1er'!I13>0),'1er'!A13,IF(AND(G3=X11,'1er'!J13>0),'1er'!A13,IF(AND(G3=Y11,'1er'!K13>0),'1er'!A13,IF(AND(G3=Z11,'1er'!L13>0),'1er'!A13,IF(AND(G3=AA11,'1er'!M13>0),'1er'!A13,IF(AND(G3=AB11,'1er'!N13>0),'1er'!A13,IF(AND(G3=AC11,'1er'!O13>0),'1er'!A13,IF(AND(G3=AD11,'1er'!P13>0),'1er'!A13,IF(AND(G3=AE11,'1er'!Q13>0),'1er'!A13,IF(AND(G3=AF11,'1er'!R13>0),'1er'!A13,IF(AND(G3=AG11,'1er'!S13>0),'1er'!A13,IF(AND(G3=AH11,'1er'!T13>0),'1er'!A13,IF(AND(G3=AI11,'1er'!U13>0),'1er'!A13,IF(AND(G3=AJ11,'1er'!V13>0),'1er'!A13,0))))))))))))))))))))) -> 0 | E16: =IF(AND(G3=P11,'2ème'!B13>0),'2ème'!A13,IF(AND(G3=Q11,'2ème'!C13>0),'2ème'!A13,IF(AND(G3=R11,'2ème'!D13>0),'2ème'!A13,IF(AND(G3=S11,'2ème'!E13>0),'2ème'!A13,IF(AND(G3=T11,'2ème'!F13>0),'2ème'!A13,IF(AND(G3=U11,'2ème'!G13>0),'2ème'!A13,IF(AND(G3=V11,'2ème'!H13>0),'2ème'!A13,IF(AND(G3=W11,'2ème'!I13>0),'2ème'!A13,IF(AND(G3=X11,'2ème'!J13>0),'2ème'!A13,IF(AND(G3=Y11,'2ème'!K13>0),'2ème'!A13,IF(AND(G3=Z11,'2ème'!L13>0),'2ème'!A13,IF(AND(G3=AA11,'2ème'!M13>0),'2ème'!A13,IF(AND(G3=AB11,'2ème'!N13>0),'2ème'!A13,IF(AND(G3=AC11,'2ème'!O13>0),'2ème'!A13,IF(AND(G3=AD11,'2ème'!P13>0),'2ème'!A13,IF(AND(G3=AE11,'2ème'!Q13>0),'2ème'!A13,IF(AND(G3=AF11,'2ème'!R13>0),'2ème'!A13,IF(AND(G3=AG11,'2ème'!S13>0),'2ème'!A13,IF(AND(G3=AH11,'2ème'!T13>0),'2ème'!A13,IF(AND(G3=AI11,'2ème'!U13>0),'2ème'!A13,IF(AND(G3=AJ11,'2ème'!V13>0),'2ème'!A13,0))))))))))))))))))))) -> 0 | G16: =IF(AND(G3=P11,'3ème'!B13>0),'3ème'!A13,IF(AND(G3=Q11,'3ème'!C13>0),'3ème'!A13,IF(AND(G3=R11,'3ème'!D13>0),'3ème'!A13,IF(AND(G3=S11,'3ème'!E13>0),'3ème'!A13,IF(AND(G3=T11,'3ème'!F13>0),'3ème'!A13,IF(AND(G3=U11,'3ème'!G13>0),'3ème'!A13,IF(AND(G3=V11,'3ème'!H13>0),'3ème'!A13,IF(AND(G3=W11,'3ème'!I13>0),'3ème'!A13,IF(AND(G3=X11,'3ème'!J13>0),'3ème'!A13,IF(AND(G3=Y11,'3ème'!K13>0),'3ème'!A13,IF(AND(G3=Z11,'3ème'!L13>0),'3ème'!A13,IF(AND(G3=AA11,'3ème'!M13>0),'3ème'!A13,IF(AND(G3=AB11,'3ème'!N13>0),'3ème'!A13,IF(AND(G3=AC11,'3ème'!O13>0),'3ème'!A13,IF(AND(G3=AD11,'3ème'!P13>0),'3ème'!A13,IF(AND(G3=AE11,'3ème'!Q13>0),'3ème'!A13,IF(AND(G3=AF11,'3ème'!R13>0),'3ème'!A13,IF(AND(G3=AG11,'3ème'!S13>0),'3ème'!A13,IF(AND(G3=AH11,'3ème'!T13>0),'3ème'!A13,IF(AND(G3=AI11,'3ème'!U13>0),'3ème'!A13,IF(AND(G3=AJ11,'3ème'!V13>0),'3ème'!A13,0))))))))))))))))))))) -> 0 | I16: =IF(AND(G3=P11,'4ème'!B13>0),'4ème'!A13,IF(AND(G3=Q11,'4ème'!C13>0),'4ème'!A13,IF(AND(G3=R11,'4ème'!D13>0),'4ème'!A13,IF(AND(G3=S11,'4ème'!E13>0),'4ème'!A13,IF(AND(G3=T11,'4ème'!F13>0),'4ème'!A13,IF(AND(G3=U11,'4ème'!G13>0),'4ème'!A13,IF(AND(G3=V11,'4ème'!H13>0),'4ème'!A13,IF(AND(G3=W11,'4ème'!I13>0),'4ème'!A13,IF(AND(G3=X11,'4ème'!J13>0),'4ème'!A13,IF(AND(G3=Y11,'4ème'!K13>0),'4ème'!A13,IF(AND(G3=Z11,'4ème'!L13>0),'4ème'!A13,IF(AND(G3=AA11,'4ème'!M13>0),'4ème'!A13,IF(AND(G3=AB11,'4ème'!N13>0),'4ème'!A13,IF(AND(G3=AC11,'4ème'!O13>0),'4ème'!A13,IF(AND(G3=AD11,'4ème'!P13>0),'4ème'!A13,IF(AND(G3=AE11,'4ème'!Q13>0),'4ème'!A13,IF(AND(G3=AF11,'4ème'!R13>0),'4ème'!A13,IF(AND(G3=AG11,'4ème'!S13>0),'4ème'!A13,IF(AND(G3=AH11,'4ème'!T13>0),'4ème'!A13,IF(AND(G3=AI11,'4ème'!U13>0),'4ème'!A13,IF(AND(G3=AJ11,'4ème'!V13>0),'4ème'!A13,0))))))))))))))))))))) -> 0 | K16: =IF(AND(G3=P11,'5ème'!B13>0),'5ème'!A13,IF(AND(G3=Q11,'5ème'!C13>0),'5ème'!A13,IF(AND(G3=R11,'5ème'!D13>0),'5ème'!A13,IF(AND(G3=S11,'5ème'!E13>0),'5ème'!A13,IF(AND(G3=T11,'5ème'!F13>0),'5ème'!A13,IF(AND(G3=U11,'5ème'!G13>0),'5ème'!A13,IF(AND(G3=V11,'5ème'!H13>0),'5ème'!A13,IF(AND(G3=W11,'5ème'!I13>0),'5ème'!A13,IF(AND(G3=X11,'5ème'!J13>0),'5ème'!A13,IF(AND(G3=Y11,'5ème'!K13>0),'5ème'!A13,IF(AND(G3=Z11,'5ème'!L13>0),'5ème'!A13,IF(AND(G3=AA11,'5ème'!M13>0),'5ème'!A13,IF(AND(G3=AB11,'5ème'!N13>0),'5ème'!A13,IF(AND(G3=AC11,'5ème'!O13>0),'5ème'!A13,IF(AND(G3=AD11,'5ème'!P13>0),'5ème'!A13,IF(AND(G3=AE11,'5ème'!Q13>0),'5ème'!A13,IF(AND(G3=AF11,'5ème'!R13>0),'5ème'!A13,IF(AND(G3=AG11,'5ème'!S13>0),'5ème'!A13,IF(AND(G3=AH11,'5ème'!T13>0),'5ème'!A13,IF(AND(G3=AI11,'5ème'!U13>0),'5ème'!A13,IF(AND(G3=AJ11,'5ème'!V13>0),'5ème'!A13,0))))))))))))))))))))) -> 0 | M16: =IF(AND(G3=P11,'6ème'!B13>0),'6ème'!A13,IF(AND(G3=Q11,'6ème'!C13>0),'6ème'!A13,IF(AND(G3=R11,'6ème'!D13>0),'6ème'!A13,IF(AND(G3=S11,'6ème'!E13>0),'6ème'!A13,IF(AND(G3=T11,'6ème'!F13>0),'6ème'!A13,IF(AND(G3=U11,'6ème'!G13>0),'6ème'!A13,IF(AND(G3=V11,'6ème'!H13>0),'6ème'!A13,IF(AND(G3=W11,'6ème'!I13>0),'6ème'!A13,IF(AND(G3=X11,'6ème'!J13>0),'6ème'!A13,IF(AND(G3=Y11,'6ème'!K13>0),'6ème'!A13,IF(AND(G3=Z11,'6ème'!L13>0),'6ème'!A13,IF(AND(G3=AA11,'6ème'!M13>0),'6ème'!A13,IF(AND(G3=AB11,'6ème'!N13>0),'6ème'!A13,IF(AND(G3=AC11,'6ème'!O13>0),'6ème'!A13,IF(AND(G3=AD11,'6ème'!P13>0),'6ème'!A13,IF(AND(G3=AE11,'6ème'!Q13>0),'6ème'!A13,IF(AND(G3=AF11,'6ème'!R13>0),'6ème'!A13,IF(AND(G3=AG11,'6ème'!S13>0),'6ème'!A13,IF(AND(G3=AH11,'6ème'!T13>0),'6ème'!A13,IF(AND(G3=AI11,'6ème'!U13>0),'6ème'!A13,IF(AND(G3=AJ11,'6ème'!V13>0),'6ème'!A13,0))))))))))))))))))))) -> 0
A17: =IF(AND(G3=P11,Maternelle!B14>0),Maternelle!A14,IF(AND(G3=Q11,Maternelle!C14>0),Maternelle!A14,IF(AND(G3=R11,Maternelle!D14>0),Maternelle!A14,IF(AND(G3=S11,Maternelle!E14>0),Maternelle!A14,IF(AND(G3=T11,Maternelle!F14>0),Maternelle!A14,IF(AND(G3=U11,Maternelle!G14>0),Maternelle!A14,IF(AND(G3=V11,Maternelle!H14>0),Maternelle!A14,IF(AND(G3=W11,Maternelle!I14>0),Maternelle!A14,IF(AND(G3=X11,Maternelle!J14>0),Maternelle!A14,IF(AND(G3=Y11,Maternelle!K14>0),Maternelle!A14,IF(AND(G3=Z11,Maternelle!L14>0),Maternelle!A14,IF(AND(G3=AA11,Maternelle!M14>0),Maternelle!A14,IF(AND(G3=AB11,Maternelle!N14>0),Maternelle!A14,IF(AND(G3=AC11,Maternelle!O14>0),Maternelle!A14,IF(AND(G3=AD11,Maternelle!P14>0),Maternelle!A14,IF(AND(G3=AE11,Maternelle!Q14>0),Maternelle!A14,IF(AND(G3=AF11,Maternelle!R14>0),Maternelle!A14,IF(AND(G3=AG11,Maternelle!S14>0),Maternelle!A14,IF(AND(G3=AH11,Maternelle!T14>0),Maternelle!A14,IF(AND(G3=AI11,Maternelle!U14>0),Maternelle!A14,IF(AND(G3=AJ11,Maternelle!V14>0),Maternelle!A14,0))))))))))))))))))))) -> 0 | C17: =IF(AND(G3=P11,'1er'!B14>0),'1er'!A14,IF(AND(G3=Q11,'1er'!C14>0),'1er'!A14,IF(AND(G3=R11,'1er'!D14>0),'1er'!A14,IF(AND(G3=S11,'1er'!E14>0),'1er'!A14,IF(AND(G3=T11,'1er'!F14>0),'1er'!A14,IF(AND(G3=U11,'1er'!G14>0),'1er'!A14,IF(AND(G3=V11,'1er'!H14>0),'1er'!A14,IF(AND(G3=W11,'1er'!I14>0),'1er'!A14,IF(AND(G3=X11,'1er'!J14>0),'1er'!A14,IF(AND(G3=Y11,'1er'!K14>0),'1er'!A14,IF(AND(G3=Z11,'1er'!L14>0),'1er'!A14,IF(AND(G3=AA11,'1er'!M14>0),'1er'!A14,IF(AND(G3=AB11,'1er'!N14>0),'1er'!A14,IF(AND(G3=AC11,'1er'!O14>0),'1er'!A14,IF(AND(G3=AD11,'1er'!P14>0),'1er'!A14,IF(AND(G3=AE11,'1er'!Q14>0),'1er'!A14,IF(AND(G3=AF11,'1er'!R14>0),'1er'!A14,IF(AND(G3=AG11,'1er'!S14>0),'1er'!A14,IF(AND(G3=AH11,'1er'!T14>0),'1er'!A14,IF(AND(G3=AI11,'1er'!U14>0),'1er'!A14,IF(AND(G3=AJ11,'1er'!V14>0),'1er'!A14,0))))))))))))))))))))) -> 0 | E17: =IF(AND(G3=P11,'2ème'!B14>0),'2ème'!A14,IF(AND(G3=Q11,'2ème'!C14>0),'2ème'!A14,IF(AND(G3=R11,'2ème'!D14>0),'2ème'!A14,IF(AND(G3=S11,'2ème'!E14>0),'2ème'!A14,IF(AND(G3=T11,'2ème'!F14>0),'2ème'!A14,IF(AND(G3=U11,'2ème'!G14>0),'2ème'!A14,IF(AND(G3=V11,'2ème'!H14>0),'2ème'!A14,IF(AND(G3=W11,'2ème'!I14>0),'2ème'!A14,IF(AND(G3=X11,'2ème'!J14>0),'2ème'!A14,IF(AND(G3=Y11,'2ème'!K14>0),'2ème'!A14,IF(AND(G3=Z11,'2ème'!L14>0),'2ème'!A14,IF(AND(G3=AA11,'2ème'!M14>0),'2ème'!A14,IF(AND(G3=AB11,'2ème'!N14>0),'2ème'!A14,IF(AND(G3=AC11,'2ème'!O14>0),'2ème'!A14,IF(AND(G3=AD11,'2ème'!P14>0),'2ème'!A14,IF(AND(G3=AE11,'2ème'!Q14>0),'2ème'!A14,IF(AND(G3=AF11,'2ème'!R14>0),'2ème'!A14,IF(AND(G3=AG11,'2ème'!S14>0),'2ème'!A14,IF(AND(G3=AH11,'2ème'!T14>0),'2ème'!A14,IF(AND(G3=AI11,'2ème'!U14>0),'2ème'!A14,IF(AND(G3=AJ11,'2ème'!V14>0),'2ème'!A14,0))))))))))))))))))))) -> 0 | G17: =IF(AND(G3=P11,'3ème'!B14>0),'3ème'!A14,IF(AND(G3=Q11,'3ème'!C14>0),'3ème'!A14,IF(AND(G3=R11,'3ème'!D14>0),'3ème'!A14,IF(AND(G3=S11,'3ème'!E14>0),'3ème'!A14,IF(AND(G3=T11,'3ème'!F14>0),'3ème'!A14,IF(AND(G3=U11,'3ème'!G14>0),'3ème'!A14,IF(AND(G3=V11,'3ème'!H14>0),'3ème'!A14,IF(AND(G3=W11,'3ème'!I14>0),'3ème'!A14,IF(AND(G3=X11,'3ème'!J14>0),'3ème'!A14,IF(AND(G3=Y11,'3ème'!K14>0),'3ème'!A14,IF(AND(G3=Z11,'3ème'!L14>0),'3ème'!A14,IF(AND(G3=AA11,'3ème'!M14>0),'3ème'!A14,IF(AND(G3=AB11,'3ème'!N14>0),'3ème'!A14,IF(AND(G3=AC11,'3ème'!O14>0),'3ème'!A14,IF(AND(G3=AD11,'3ème'!P14>0),'3ème'!A14,IF(AND(G3=AE11,'3ème'!Q14>0),'3ème'!A14,IF(AND(G3=AF11,'3ème'!R14>0),'3ème'!A14,IF(AND(G3=AG11,'3ème'!S14>0),'3ème'!A14,IF(AND(G3=AH11,'3ème'!T14>0),'3ème'!A14,IF(AND(G3=AI11,'3ème'!U14>0),'3ème'!A14,IF(AND(G3=AJ11,'3ème'!V14>0),'3ème'!A14,0))))))))))))))))))))) -> 0 | I17: =IF(AND(G3=P11,'4ème'!B14>0),'4ème'!A14,IF(AND(G3=Q11,'4ème'!C14>0),'4ème'!A14,IF(AND(G3=R11,'4ème'!D14>0),'4ème'!A14,IF(AND(G3=S11,'4ème'!E14>0),'4ème'!A14,IF(AND(G3=T11,'4ème'!F14>0),'4ème'!A14,IF(AND(G3=U11,'4ème'!G14>0),'4ème'!A14,IF(AND(G3=V11,'4ème'!H14>0),'4ème'!A14,IF(AND(G3=W11,'4ème'!I14>0),'4ème'!A14,IF(AND(G3=X11,'4ème'!J14>0),'4ème'!A14,IF(AND(G3=Y11,'4ème'!K14>0),'4ème'!A14,IF(AND(G3=Z11,'4ème'!L14>0),'4ème'!A14,IF(AND(G3=AA11,'4ème'!M14>0),'4ème'!A14,IF(AND(G3=AB11,'4ème'!N14>0),'4ème'!A14,IF(AND(G3=AC11,'4ème'!O14>0),'4ème'!A14,IF(AND(G3=AD11,'4ème'!P14>0),'4ème'!A14,IF(AND(G3=AE11,'4ème'!Q14>0),'4ème'!A14,IF(AND(G3=AF11,'4ème'!R14>0),'4ème'!A14,IF(AND(G3=AG11,'4ème'!S14>0),'4ème'!A14,IF(AND(G3=AH11,'4ème'!T14>0),'4ème'!A14,IF(AND(G3=AI11,'4ème'!U14>0),'4ème'!A14,IF(AND(G3=AJ11,'4ème'!V14>0),'4ème'!A14,0))))))))))))))))))))) -> 0 | K17: =IF(AND(G3=P11,'5ème'!B14>0),'5ème'!A14,IF(AND(G3=Q11,'5ème'!C14>0),'5ème'!A14,IF(AND(G3=R11,'5ème'!D14>0),'5ème'!A14,IF(AND(G3=S11,'5ème'!E14>0),'5ème'!A14,IF(AND(G3=T11,'5ème'!F14>0),'5ème'!A14,IF(AND(G3=U11,'5ème'!G14>0),'5ème'!A14,IF(AND(G3=V11,'5ème'!H14>0),'5ème'!A14,IF(AND(G3=W11,'5ème'!I14>0),'5ème'!A14,IF(AND(G3=X11,'5ème'!J14>0),'5ème'!A14,IF(AND(G3=Y11,'5ème'!K14>0),'5ème'!A14,IF(AND(G3=Z11,'5ème'!L14>0),'5ème'!A14,IF(AND(G3=AA11,'5ème'!M14>0),'5ème'!A14,IF(AND(G3=AB11,'5ème'!N14>0),'5ème'!A14,IF(AND(G3=AC11,'5ème'!O14>0),'5ème'!A14,IF(AND(G3=AD11,'5ème'!P14>0),'5ème'!A14,IF(AND(G3=AE11,'5ème'!Q14>0),'5ème'!A14,IF(AND(G3=AF11,'5ème'!R14>0),'5ème'!A14,IF(AND(G3=AG11,'5ème'!S14>0),'5ème'!A14,IF(AND(G3=AH11,'5ème'!T14>0),'5ème'!A14,IF(AND(G3=AI11,'5ème'!U14>0),'5ème'!A14,IF(AND(G3=AJ11,'5ème'!V14>0),'5ème'!A14,0))))))))))))))))))))) -> 0 | M17: =IF(AND(G3=P11,'6ème'!B14>0),'6ème'!A14,IF(AND(G3=Q11,'6ème'!C14>0),'6ème'!A14,IF(AND(G3=R11,'6ème'!D14>0),'6ème'!A14,IF(AND(G3=S11,'6ème'!E14>0),'6ème'!A14,IF(AND(G3=T11,'6ème'!F14>0),'6ème'!A14,IF(AND(G3=U11,'6ème'!G14>0),'6ème'!A14,IF(AND(G3=V11,'6ème'!H14>0),'6ème'!A14,IF(AND(G3=W11,'6ème'!I14>0),'6ème'!A14,IF(AND(G3=X11,'6ème'!J14>0),'6ème'!A14,IF(AND(G3=Y11,'6ème'!K14>0),'6ème'!A14,IF(AND(G3=Z11,'6ème'!L14>0),'6ème'!A14,IF(AND(G3=AA11,'6ème'!M14>0),'6ème'!A14,IF(AND(G3=AB11,'6ème'!N14>0),'6ème'!A14,IF(AND(G3=AC11,'6ème'!O14>0),'6ème'!A14,IF(AND(G3=AD11,'6ème'!P14>0),'6ème'!A14,IF(AND(G3=AE11,'6ème'!Q14>0),'6ème'!A14,IF(AND(G3=AF11,'6ème'!R14>0),'6ème'!A14,IF(AND(G3=AG11,'6ème'!S14>0),'6ème'!A14,IF(AND(G3=AH11,'6ème'!T14>0),'6ème'!A14,IF(AND(G3=AI11,'6ème'!U14>0),'6ème'!A14,IF(AND(G3=AJ11,'6ème'!V14>0),'6ème'!A14,0))))))))))))))))))))) -> 0
A18: =IF(AND(G3=P11,Maternelle!B15>0),Maternelle!A15,IF(AND(G3=Q11,Maternelle!C15>0),Maternelle!A15,IF(AND(G3=R11,Maternelle!D15>0),Maternelle!A15,IF(AND(G3=S11,Maternelle!E15>0),Maternelle!A15,IF(AND(G3=T11,Maternelle!F15>0),Maternelle!A15,IF(AND(G3=U11,Maternelle!G15>0),Maternelle!A15,IF(AND(G3=V11,Maternelle!H15>0),Maternelle!A15,IF(AND(G3=W11,Maternelle!I15>0),Maternelle!A15,IF(AND(G3=X11,Maternelle!J15>0),Maternelle!A15,IF(AND(G3=Y11,Maternelle!K15>0),Maternelle!A15,IF(AND(G3=Z11,Maternelle!L15>0),Maternelle!A15,IF(AND(G3=AA11,Maternelle!M15>0),Maternelle!A15,IF(AND(G3=AB11,Maternelle!N15>0),Maternelle!A15,IF(AND(G3=AC11,Maternelle!O15>0),Maternelle!A15,IF(AND(G3=AD11,Maternelle!P15>0),Maternelle!A15,IF(AND(G3=AE11,Maternelle!Q15>0),Maternelle!A15,IF(AND(G3=AF11,Maternelle!R15>0),Maternelle!A15,IF(AND(G3=AG11,Maternelle!S15>0),Maternelle!A15,IF(AND(G3=AH11,Maternelle!T15>0),Maternelle!A15,IF(AND(G3=AI11,Maternelle!U15>0),Maternelle!A15,IF(AND(G3=AJ11,Maternelle!V15>0),Maternelle!A15,0))))))))))))))))))))) -> 0 | C18: =IF(AND(G3=P11,'1er'!B15>0),'1er'!A15,IF(AND(G3=Q11,'1er'!C15>0),'1er'!A15,IF(AND(G3=R11,'1er'!D15>0),'1er'!A15,IF(AND(G3=S11,'1er'!E15>0),'1er'!A15,IF(AND(G3=T11,'1er'!F15>0),'1er'!A15,IF(AND(G3=U11,'1er'!G15>0),'1er'!A15,IF(AND(G3=V11,'1er'!H15>0),'1er'!A15,IF(AND(G3=W11,'1er'!I15>0),'1er'!A15,IF(AND(G3=X11,'1er'!J15>0),'1er'!A15,IF(AND(G3=Y11,'1er'!K15>0),'1er'!A15,IF(AND(G3=Z11,'1er'!L15>0),'1er'!A15,IF(AND(G3=AA11,'1er'!M15>0),'1er'!A15,IF(AND(G3=AB11,'1er'!N15>0),'1er'!A15,IF(AND(G3=AC11,'1er'!O15>0),'1er'!A15,IF(AND(G3=AD11,'1er'!P15>0),'1er'!A15,IF(AND(G3=AE11,'1er'!Q15>0),'1er'!A15,IF(AND(G3=AF11,'1er'!R15>0),'1er'!A15,IF(AND(G3=AG11,'1er'!S15>0),'1er'!A15,IF(AND(G3=AH11,'1er'!T15>0),'1er'!A15,IF(AND(G3=AI11,'1er'!U15>0),'1er'!A15,IF(AND(G3=AJ11,'1er'!V15>0),'1er'!A15,0))))))))))))))))))))) -> 0 | E18: =IF(AND(G3=P11,'2ème'!B15>0),'2ème'!A15,IF(AND(G3=Q11,'2ème'!C15>0),'2ème'!A15,IF(AND(G3=R11,'2ème'!D15>0),'2ème'!A15,IF(AND(G3=S11,'2ème'!E15>0),'2ème'!A15,IF(AND(G3=T11,'2ème'!F15>0),'2ème'!A15,IF(AND(G3=U11,'2ème'!G15>0),'2ème'!A15,IF(AND(G3=V11,'2ème'!H15>0),'2ème'!A15,IF(AND(G3=W11,'2ème'!I15>0),'2ème'!A15,IF(AND(G3=X11,'2ème'!J15>0),'2ème'!A15,IF(AND(G3=Y11,'2ème'!K15>0),'2ème'!A15,IF(AND(G3=Z11,'2ème'!L15>0),'2ème'!A15,IF(AND(G3=AA11,'2ème'!M15>0),'2ème'!A15,IF(AND(G3=AB11,'2ème'!N15>0),'2ème'!A15,IF(AND(G3=AC11,'2ème'!O15>0),'2ème'!A15,IF(AND(G3=AD11,'2ème'!P15>0),'2ème'!A15,IF(AND(G3=AE11,'2ème'!Q15>0),'2ème'!A15,IF(AND(G3=AF11,'2ème'!R15>0),'2ème'!A15,IF(AND(G3=AG11,'2ème'!S15>0),'2ème'!A15,IF(AND(G3=AH11,'2ème'!T15>0),'2ème'!A15,IF(AND(G3=AI11,'2ème'!U15>0),'2ème'!A15,IF(AND(G3=AJ11,'2ème'!V15>0),'2ème'!A15,0))))))))))))))))))))) -> 0 | G18: =IF(AND(G3=P11,'3ème'!B15>0),'3ème'!A15,IF(AND(G3=Q11,'3ème'!C15>0),'3ème'!A15,IF(AND(G3=R11,'3ème'!D15>0),'3ème'!A15,IF(AND(G3=S11,'3ème'!E15>0),'3ème'!A15,IF(AND(G3=T11,'3ème'!F15>0),'3ème'!A15,IF(AND(G3=U11,'3ème'!G15>0),'3ème'!A15,IF(AND(G3=V11,'3ème'!H15>0),'3ème'!A15,IF(AND(G3=W11,'3ème'!I15>0),'3ème'!A15,IF(AND(G3=X11,'3ème'!J15>0),'3ème'!A15,IF(AND(G3=Y11,'3ème'!K15>0),'3ème'!A15,IF(AND(G3=Z11,'3ème'!L15>0),'3ème'!A15,IF(AND(G3=AA11,'3ème'!M15>0),'3ème'!A15,IF(AND(G3=AB11,'3ème'!N15>0),'3ème'!A15,IF(AND(G3=AC11,'3ème'!O15>0),'3ème'!A15,IF(AND(G3=AD11,'3ème'!P15>0),'3ème'!A15,IF(AND(G3=AE11,'3ème'!Q15>0),'3ème'!A15,IF(AND(G3=AF11,'3ème'!R15>0),'3ème'!A15,IF(AND(G3=AG11,'3ème'!S15>0),'3ème'!A15,IF(AND(G3=AH11,'3ème'!T15>0),'3ème'!A15,IF(AND(G3=AI11,'3ème'!U15>0),'3ème'!A15,IF(AND(G3=AJ11,'3ème'!V15>0),'3ème'!A15,0))))))))))))))))))))) -> 0 | I18: =IF(AND(G3=P11,'4ème'!B15>0),'4ème'!A15,IF(AND(G3=Q11,'4ème'!C15>0),'4ème'!A15,IF(AND(G3=R11,'4ème'!D15>0),'4ème'!A15,IF(AND(G3=S11,'4ème'!E15>0),'4ème'!A15,IF(AND(G3=T11,'4ème'!F15>0),'4ème'!A15,IF(AND(G3=U11,'4ème'!G15>0),'4ème'!A15,IF(AND(G3=V11,'4ème'!H15>0),'4ème'!A15,IF(AND(G3=W11,'4ème'!I15>0),'4ème'!A15,IF(AND(G3=X11,'4ème'!J15>0),'4ème'!A15,IF(AND(G3=Y11,'4ème'!K15>0),'4ème'!A15,IF(AND(G3=Z11,'4ème'!L15>0),'4ème'!A15,IF(AND(G3=AA11,'4ème'!M15>0),'4ème'!A15,IF(AND(G3=AB11,'4ème'!N15>0),'4ème'!A15,IF(AND(G3=AC11,'4ème'!O15>0),'4ème'!A15,IF(AND(G3=AD11,'4ème'!P15>0),'4ème'!A15,IF(AND(G3=AE11,'4ème'!Q15>0),'4ème'!A15,IF(AND(G3=AF11,'4ème'!R15>0),'4ème'!A15,IF(AND(G3=AG11,'4ème'!S15>0),'4ème'!A15,IF(AND(G3=AH11,'4ème'!T15>0),'4ème'!A15,IF(AND(G3=AI11,'4ème'!U15>0),'4ème'!A15,IF(AND(G3=AJ11,'4ème'!V15>0),'4ème'!A15,0))))))))))))))))))))) -> 0 | K18: =IF(AND(G3=P11,'5ème'!B15>0),'5ème'!A15,IF(AND(G3=Q11,'5ème'!C15>0),'5ème'!A15,IF(AND(G3=R11,'5ème'!D15>0),'5ème'!A15,IF(AND(G3=S11,'5ème'!E15>0),'5ème'!A15,IF(AND(G3=T11,'5ème'!F15>0),'5ème'!A15,IF(AND(G3=U11,'5ème'!G15>0),'5ème'!A15,IF(AND(G3=V11,'5ème'!H15>0),'5ème'!A15,IF(AND(G3=W11,'5ème'!I15>0),'5ème'!A15,IF(AND(G3=X11,'5ème'!J15>0),'5ème'!A15,IF(AND(G3=Y11,'5ème'!K15>0),'5ème'!A15,IF(AND(G3=Z11,'5ème'!L15>0),'5ème'!A15,IF(AND(G3=AA11,'5ème'!M15>0),'5ème'!A15,IF(AND(G3=AB11,'5ème'!N15>0),'5ème'!A15,IF(AND(G3=AC11,'5ème'!O15>0),'5ème'!A15,IF(AND(G3=AD11,'5ème'!P15>0),'5ème'!A15,IF(AND(G3=AE11,'5ème'!Q15>0),'5ème'!A15,IF(AND(G3=AF11,'5ème'!R15>0),'5ème'!A15,IF(AND(G3=AG11,'5ème'!S15>0),'5ème'!A15,IF(AND(G3=AH11,'5ème'!T15>0),'5ème'!A15,IF(AND(G3=AI11,'5ème'!U15>0),'5ème'!A15,IF(AND(G3=AJ11,'5ème'!V15>0),'5ème'!A15,0))))))))))))))))))))) -> 0 | M18: =IF(AND(G3=P11,'6ème'!B15>0),'6ème'!A15,IF(AND(G3=Q11,'6ème'!C15>0),'6ème'!A15,IF(AND(G3=R11,'6ème'!D15>0),'6ème'!A15,IF(AND(G3=S11,'6ème'!E15>0),'6ème'!A15,IF(AND(G3=T11,'6ème'!F15>0),'6ème'!A15,IF(AND(G3=U11,'6ème'!G15>0),'6ème'!A15,IF(AND(G3=V11,'6ème'!H15>0),'6ème'!A15,IF(AND(G3=W11,'6ème'!I15>0),'6ème'!A15,IF(AND(G3=X11,'6ème'!J15>0),'6ème'!A15,IF(AND(G3=Y11,'6ème'!K15>0),'6ème'!A15,IF(AND(G3=Z11,'6ème'!L15>0),'6ème'!A15,IF(AND(G3=AA11,'6ème'!M15>0),'6ème'!A15,IF(AND(G3=AB11,'6ème'!N15>0),'6ème'!A15,IF(AND(G3=AC11,'6ème'!O15>0),'6ème'!A15,IF(AND(G3=AD11,'6ème'!P15>0),'6ème'!A15,IF(AND(G3=AE11,'6ème'!Q15>0),'6ème'!A15,IF(AND(G3=AF11,'6ème'!R15>0),'6ème'!A15,IF(AND(G3=AG11,'6ème'!S15>0),'6ème'!A15,IF(AND(G3=AH11,'6ème'!T15>0),'6ème'!A15,IF(AND(G3=AI11,'6ème'!U15>0),'6ème'!A15,IF(AND(G3=AJ11,'6ème'!V15>0),'6ème'!A15,0))))))))))))))))))))) -> 0
A19: =IF(AND(G3=P11,Maternelle!B16>0),Maternelle!A16,IF(AND(G3=Q11,Maternelle!C16>0),Maternelle!A16,IF(AND(G3=R11,Maternelle!D16>0),Maternelle!A16,IF(AND(G3=S11,Maternelle!E16>0),Maternelle!A16,IF(AND(G3=T11,Maternelle!F16>0),Maternelle!A16,IF(AND(G3=U11,Maternelle!G16>0),Maternelle!A16,IF(AND(G3=V11,Maternelle!H16>0),Maternelle!A16,IF(AND(G3=W11,Maternelle!I16>0),Maternelle!A16,IF(AND(G3=X11,Maternelle!J16>0),Maternelle!A16,IF(AND(G3=Y11,Maternelle!K16>0),Maternelle!A16,IF(AND(G3=Z11,Maternelle!L16>0),Maternelle!A16,IF(AND(G3=AA11,Maternelle!M16>0),Maternelle!A16,IF(AND(G3=AB11,Maternelle!N16>0),Maternelle!A16,IF(AND(G3=AC11,Maternelle!O16>0),Maternelle!A16,IF(AND(G3=AD11,Maternelle!P16>0),Maternelle!A16,IF(AND(G3=AE11,Maternelle!Q16>0),Maternelle!A16,IF(AND(G3=AF11,Maternelle!R16>0),Maternelle!A16,IF(AND(G3=AG11,Maternelle!S16>0),Maternelle!A16,IF(AND(G3=AH11,Maternelle!T16>0),Maternelle!A16,IF(AND(G3=AI11,Maternelle!U16>0),Maternelle!A16,IF(AND(G3=AJ11,Maternelle!V16>0),Maternelle!A16,0))))))))))))))))))))) -> 0 | C19: =IF(AND(G3=P11,'1er'!B16>0),'1er'!A16,IF(AND(G3=Q11,'1er'!C16>0),'1er'!A16,IF(AND(G3=R11,'1er'!D16>0),'1er'!A16,IF(AND(G3=S11,'1er'!E16>0),'1er'!A16,IF(AND(G3=T11,'1er'!F16>0),'1er'!A16,IF(AND(G3=U11,'1er'!G16>0),'1er'!A16,IF(AND(G3=V11,'1er'!H16>0),'1er'!A16,IF(AND(G3=W11,'1er'!I16>0),'1er'!A16,IF(AND(G3=X11,'1er'!J16>0),'1er'!A16,IF(AND(G3=Y11,'1er'!K16>0),'1er'!A16,IF(AND(G3=Z11,'1er'!L16>0),'1er'!A16,IF(AND(G3=AA11,'1er'!M16>0),'1er'!A16,IF(AND(G3=AB11,'1er'!N16>0),'1er'!A16,IF(AND(G3=AC11,'1er'!O16>0),'1er'!A16,IF(AND(G3=AD11,'1er'!P16>0),'1er'!A16,IF(AND(G3=AE11,'1er'!Q16>0),'1er'!A16,IF(AND(G3=AF11,'1er'!R16>0),'1er'!A16,IF(AND(G3=AG11,'1er'!S16>0),'1er'!A16,IF(AND(G3=AH11,'1er'!T16>0),'1er'!A16,IF(AND(G3=AI11,'1er'!U16>0),'1er'!A16,IF(AND(G3=AJ11,'1er'!V16>0),'1er'!A16,0))))))))))))))))))))) -> 0 | E19: =IF(AND(G3=P11,'2ème'!B16>0),'2ème'!A16,IF(AND(G3=Q11,'2ème'!C16>0),'2ème'!A16,IF(AND(G3=R11,'2ème'!D16>0),'2ème'!A16,IF(AND(G3=S11,'2ème'!E16>0),'2ème'!A16,IF(AND(G3=T11,'2ème'!F16>0),'2ème'!A16,IF(AND(G3=U11,'2ème'!G16>0),'2ème'!A16,IF(AND(G3=V11,'2ème'!H16>0),'2ème'!A16,IF(AND(G3=W11,'2ème'!I16>0),'2ème'!A16,IF(AND(G3=X11,'2ème'!J16>0),'2ème'!A16,IF(AND(G3=Y11,'2ème'!K16>0),'2ème'!A16,IF(AND(G3=Z11,'2ème'!L16>0),'2ème'!A16,IF(AND(G3=AA11,'2ème'!M16>0),'2ème'!A16,IF(AND(G3=AB11,'2ème'!N16>0),'2ème'!A16,IF(AND(G3=AC11,'2ème'!O16>0),'2ème'!A16,IF(AND(G3=AD11,'2ème'!P16>0),'2ème'!A16,IF(AND(G3=AE11,'2ème'!Q16>0),'2ème'!A16,IF(AND(G3=AF11,'2ème'!R16>0),'2ème'!A16,IF(AND(G3=AG11,'2ème'!S16>0),'2ème'!A16,IF(AND(G3=AH11,'2ème'!T16>0),'2ème'!A16,IF(AND(G3=AI11,'2ème'!U16>0),'2ème'!A16,IF(AND(G3=AJ11,'2ème'!V16>0),'2ème'!A16,0))))))))))))))))))))) -> 0 | G19: =IF(AND(G3=P11,'3ème'!B16>0),'3ème'!A16,IF(AND(G3=Q11,'3ème'!C16>0),'3ème'!A16,IF(AND(G3=R11,'3ème'!D16>0),'3ème'!A16,IF(AND(G3=S11,'3ème'!E16>0),'3ème'!A16,IF(AND(G3=T11,'3ème'!F16>0),'3ème'!A16,IF(AND(G3=U11,'3ème'!G16>0),'3ème'!A16,IF(AND(G3=V11,'3ème'!H16>0),'3ème'!A16,IF(AND(G3=W11,'3ème'!I16>0),'3ème'!A16,IF(AND(G3=X11,'3ème'!J16>0),'3ème'!A16,IF(AND(G3=Y11,'3ème'!K16>0),'3ème'!A16,IF(AND(G3=Z11,'3ème'!L16>0),'3ème'!A16,IF(AND(G3=AA11,'3ème'!M16>0),'3ème'!A16,IF(AND(G3=AB11,'3ème'!N16>0),'3ème'!A16,IF(AND(G3=AC11,'3ème'!O16>0),'3ème'!A16,IF(AND(G3=AD11,'3ème'!P16>0),'3ème'!A16,IF(AND(G3=AE11,'3ème'!Q16>0),'3ème'!A16,IF(AND(G3=AF11,'3ème'!R16>0),'3ème'!A16,IF(AND(G3=AG11,'3ème'!S16>0),'3ème'!A16,IF(AND(G3=AH11,'3ème'!T16>0),'3ème'!A16,IF(AND(G3=AI11,'3ème'!U16>0),'3ème'!A16,IF(AND(G3=AJ11,'3ème'!V16>0),'3ème'!A16,0))))))))))))))))))))) -> 0 | I19: =IF(AND(G3=P11,'4ème'!B16>0),'4ème'!A16,IF(AND(G3=Q11,'4ème'!C16>0),'4ème'!A16,IF(AND(G3=R11,'4ème'!D16>0),'4ème'!A16,IF(AND(G3=S11,'4ème'!E16>0),'4ème'!A16,IF(AND(G3=T11,'4ème'!F16>0),'4ème'!A16,IF(AND(G3=U11,'4ème'!G16>0),'4ème'!A16,IF(AND(G3=V11,'4ème'!H16>0),'4ème'!A16,IF(AND(G3=W11,'4ème'!I16>0),'4ème'!A16,IF(AND(G3=X11,'4ème'!J16>0),'4ème'!A16,IF(AND(G3=Y11,'4ème'!K16>0),'4ème'!A16,IF(AND(G3=Z11,'4ème'!L16>0),'4ème'!A16,IF(AND(G3=AA11,'4ème'!M16>0),'4ème'!A16,IF(AND(G3=AB11,'4ème'!N16>0),'4ème'!A16,IF(AND(G3=AC11,'4ème'!O16>0),'4ème'!A16,IF(AND(G3=AD11,'4ème'!P16>0),'4ème'!A16,IF(AND(G3=AE11,'4ème'!Q16>0),'4ème'!A16,IF(AND(G3=AF11,'4ème'!R16>0),'4ème'!A16,IF(AND(G3=AG11,'4ème'!S16>0),'4ème'!A16,IF(AND(G3=AH11,'4ème'!T16>0),'4ème'!A16,IF(AND(G3=AI11,'4ème'!U16>0),'4ème'!A16,IF(AND(G3=AJ11,'4ème'!V16>0),'4ème'!A16,0))))))))))))))))))))) -> 0 | K19: =IF(AND(G3=P11,'5ème'!B16>0),'5ème'!A16,IF(AND(G3=Q11,'5ème'!C16>0),'5ème'!A16,IF(AND(G3=R11,'5ème'!D16>0),'5ème'!A16,IF(AND(G3=S11,'5ème'!E16>0),'5ème'!A16,IF(AND(G3=T11,'5ème'!F16>0),'5ème'!A16,IF(AND(G3=U11,'5ème'!G16>0),'5ème'!A16,IF(AND(G3=V11,'5ème'!H16>0),'5ème'!A16,IF(AND(G3=W11,'5ème'!I16>0),'5ème'!A16,IF(AND(G3=X11,'5ème'!J16>0),'5ème'!A16,IF(AND(G3=Y11,'5ème'!K16>0),'5ème'!A16,IF(AND(G3=Z11,'5ème'!L16>0),'5ème'!A16,IF(AND(G3=AA11,'5ème'!M16>0),'5ème'!A16,IF(AND(G3=AB11,'5ème'!N16>0),'5ème'!A16,IF(AND(G3=AC11,'5ème'!O16>0),'5ème'!A16,IF(AND(G3=AD11,'5ème'!P16>0),'5ème'!A16,IF(AND(G3=AE11,'5ème'!Q16>0),'5ème'!A16,IF(AND(G3=AF11,'5ème'!R16>0),'5ème'!A16,IF(AND(G3=AG11,'5ème'!S16>0),'5ème'!A16,IF(AND(G3=AH11,'5ème'!T16>0),'5ème'!A16,IF(AND(G3=AI11,'5ème'!U16>0),'5ème'!A16,IF(AND(G3=AJ11,'5ème'!V16>0),'5ème'!A16,0))))))))))))))))))))) -> 0 | M19: =IF(AND(G3=P11,'6ème'!B16>0),'6ème'!A16,IF(AND(G3=Q11,'6ème'!C16>0),'6ème'!A16,IF(AND(G3=R11,'6ème'!D16>0),'6ème'!A16,IF(AND(G3=S11,'6ème'!E16>0),'6ème'!A16,IF(AND(G3=T11,'6ème'!F16>0),'6ème'!A16,IF(AND(G3=U11,'6ème'!G16>0),'6ème'!A16,IF(AND(G3=V11,'6ème'!H16>0),'6ème'!A16,IF(AND(G3=W11,'6ème'!I16>0),'6ème'!A16,IF(AND(G3=X11,'6ème'!J16>0),'6ème'!A16,IF(AND(G3=Y11,'6ème'!K16>0),'6ème'!A16,IF(AND(G3=Z11,'6ème'!L16>0),'6ème'!A16,IF(AND(G3=AA11,'6ème'!M16>0),'6ème'!A16,IF(AND(G3=AB11,'6ème'!N16>0),'6ème'!A16,IF(AND(G3=AC11,'6ème'!O16>0),'6ème'!A16,IF(AND(G3=AD11,'6ème'!P16>0),'6ème'!A16,IF(AND(G3=AE11,'6ème'!Q16>0),'6ème'!A16,IF(AND(G3=AF11,'6ème'!R16>0),'6ème'!A16,IF(AND(G3=AG11,'6ème'!S16>0),'6ème'!A16,IF(AND(G3=AH11,'6ème'!T16>0),'6ème'!A16,IF(AND(G3=AI11,'6ème'!U16>0),'6ème'!A16,IF(AND(G3=AJ11,'6ème'!V16>0),'6ème'!A16,0))))))))))))))))))))) -> 0
