Workbook

Sheet Maternelle
B1: Semaine 1 | G1: Semaine 2 | L1: Semaine 3 | Q1: Semaine 4
A2: Maternelle | B2: =Cumulatif!A4 -> 25 | C2: =Cumulatif!B4 -> 26 | D2: =Cumulatif!C4 -> 27 | E2: =Cumulatif!D4 -> 28 | F2: =Cumulatif!E4 -> 29 | G2: =Cumulatif!F4 -> 1 | H2: =Cumulatif!G4 -> 2 | I2: =Cumulatif!H4 -> 3 | ... U2: =Cumulatif!T4 -> 19
A3: AGATHE LAMBERT | V3: =SUM(AK3:BD3) -> 0 | AK3: =((IF(B3="j",1,0))+(IF(B3="p",1,0)))+(IF(B3=1,1,0)) -> 0 | AL3: =((IF(C3="j",1,0))+(IF(C3="p",1,0)))+(IF(C3=1,1,0)) -> 0 | AM3: =((IF(D3="j",1,0))+(IF(D3="p",1,0)))+(IF(D3=1,1,0)) -> 0 | AN3: =((IF(E3="j",1,0))+(IF(E3="p",1,0)))+(IF(E3=1,1,0)) -> 0 | AO3: =((IF(F3="j",1,0))+(IF(F3="p",1,0)))+(IF(F3=1,1,0)) -> 0 | AP3: =((IF(G3="j",1,0))+(IF(G3="p",1,0)))+(IF(G3=1,1,0)) -> 0 | AQ3: =((IF(H3="j",1,0))+(IF(H3="p",1,0)))+(IF(H3=1,1,0)) -> 0 | AR3: =((IF(I3="j",1,0))+(IF(I3="p",1,0)))+(IF(I3=1,1,0)) -> 0 | ... BD3: =((IF(U3="j",1,0))+(IF(U3="p",1,0)))+(IF(U3=1,1,0)) -> 0
A4: ALEXIA COTÉ | S4: 1 | V4: =SUM(AK4:BD4) -> 1 | AK4: =((IF(B4="j",1,0))+(IF(B4="p",1,0)))+(IF(B4=1,1,0)) -> 0 | AL4: =((IF(C4="j",1,0))+(IF(C4="p",1,0)))+(IF(C4=1,1,0)) -> 0 | AM4: =((IF(D4="j",1,0))+(IF(D4="p",1,0)))+(IF(D4=1,1,0)) -> 0 | AN4: =((IF(E4="j",1,0))+(IF(E4="p",1,0)))+(IF(E4=1,1,0)) -> 0 | AO4: =((IF(F4="j",1,0))+(IF(F4="p",1,0)))+(IF(F4=1,1,0)) -> 0 | AP4: =((IF(G4="j",1,0))+(IF(G4="p",1,0)))+(IF(G4=1,1,0)) -> 0 | AQ4: =((IF(H4="j",1,0))+(IF(H4="p",1,0)))+(IF(H4=1,1,0)) -> 0 | AR4: =((IF(I4="j",1,0))+(IF(I4="p",1,0)))+(IF(I4=1,1,0)) -> 0 | ... BD4: =((IF(U4="j",1,0))+(IF(U4="p",1,0)))+(IF(U4=1,1,0)) -> 0
A5: ANTOINE LECLERC | V5: =SUM(AK5:BD5) -> 0 | AK5: =((IF(B5="j",1,0))+(IF(B5="p",1,0)))+(IF(B5=1,1,0)) -> 0 | AL5: =((IF(C5="j",1,0))+(IF(C5="p",1,0)))+(IF(C5=1,1,0)) -> 0 | AM5: =((IF(D5="j",1,0))+(IF(D5="p",1,0)))+(IF(D5=1,1,0)) -> 0 | AN5: =((IF(E5="j",1,0))+(IF(E5="p",1,0)))+(IF(E5=1,1,0)) -> 0 | AO5: =((IF(F5="j",1,0))+(IF(F5="p",1,0)))+(IF(F5=1,1,0)) -> 0 | AP5: =((IF(G5="j",1,0))+(IF(G5="p",1,0)))+(IF(G5=1,1,0)) -> 0 | AQ5: =((IF(H5="j",1,0))+(IF(H5="p",1,0)))+(IF(H5=1,1,0)) -> 0 | AR5: =((IF(I5="j",1,0))+(IF(I5="p",1,0)))+(IF(I5=1,1,0)) -> 0 | ... BD5: =((IF(U5="j",1,0))+(IF(U5="p",1,0)))+(IF(U5=1,1,0)) -> 0
A6: ARNAUD CLICHÉ | V6: =SUM(AK6:BD6) -> 0 | AK6: =((IF(B6="j",1,0))+(IF(B6="p",1,0)))+(IF(B6=1,1,0)) -> 0 | AL6: =((IF(C6="j",1,0))+(IF(C6="p",1,0)))+(IF(C6=1,1,0)) -> 0 | AM6: =((IF(D6="j",1,0))+(IF(D6="p",1,0)))+(IF(D6=1,1,0)) -> 0 | AN6: =((IF(E6="j",1,0))+(IF(E6="p",1,0)))+(IF(E6=1,1,0)) -> 0 | AO6: =((IF(F6="j",1,0))+(IF(F6="p",1,0)))+(IF(F6=1,1,0)) -> 0 | AP6: =((IF(G6="j",1,0))+(IF(G6="p",1,0)))+(IF(G6=1,1,0)) -> 0 | AQ6: =((IF(H6="j",1,0))+(IF(H6="p",1,0)))+(IF(H6=1,1,0)) -> 0 | AR6: =((IF(I6="j",1,0))+(IF(I6="p",1,0)))+(IF(I6=1,1,0)) -> 0 | ... BD6: =((IF(U6="j",1,0))+(IF(U6="p",1,0)))+(IF(U6=1,1,0)) -> 0
A7: BRUNO MARTIN | V7: =SUM(AK7:BD7) -> 0 | AK7: =((IF(B7="j",1,0))+(IF(B7="p",1,0)))+(IF(B7=1,1,0)) -> 0 | AL7: =((IF(C7="j",1,0))+(IF(C7="p",1,0)))+(IF(C7=1,1,0)) -> 0 | AM7: =((IF(D7="j",1,0))+(IF(D7="p",1,0)))+(IF(D7=1,1,0)) -> 0 | AN7: =((IF(E7="j",1,0))+(IF(E7="p",1,0)))+(IF(E7=1,1,0)) -> 0 | AO7: =((IF(F7="j",1,0))+(IF(F7="p",1,0)))+(IF(F7=1,1,0)) -> 0 | AP7: =((IF(G7="j",1,0))+(IF(G7="p",1,0)))+(IF(G7=1,1,0)) -> 0 | AQ7: =((IF(H7="j",1,0))+(IF(H7="p",1,0)))+(IF(H7=1,1,0)) -> 0 | AR7: =((IF(I7="j",1,0))+(IF(I7="p",1,0)))+(IF(I7=1,1,0)) -> 0 | ... BD7: =((IF(U7="j",1,0))+(IF(U7="p",1,0)))+(IF(U7=1,1,0)) -> 0
A8: CAMÉLIA BOURGAULT | V8: =SUM(AK8:BD8) -> 0 | AK8: =((IF(B8="j",1,0))+(IF(B8="p",1,0)))+(IF(B8=1,1,0)) -> 0 | AL8: =((IF(C8="j",1,0))+(IF(C8="p",1,0)))+(IF(C8=1,1,0)) -> 0 | AM8: =((IF(D8="j",1,0))+(IF(D8="p",1,0)))+(IF(D8=1,1,0)) -> 0 | AN8: =((IF(E8="j",1,0))+(IF(E8="p",1,0)))+(IF(E8=1,1,0)) -> 0 | AO8: =((IF(F8="j",1,0))+(IF(F8="p",1,0)))+(IF(F8=1,1,0)) -> 0 | AP8: =((IF(G8="j",1,0))+(IF(G8="p",1,0)))+(IF(G8=1,1,0)) -> 0 | AQ8: =((IF(H8="j",1,0))+(IF(H8="p",1,0)))+(IF(H8=1,1,0)) -> 0 | AR8: =((IF(I8="j",1,0))+(IF(I8="p",1,0)))+(IF(I8=1,1,0)) -> 0 | ... BD8: =((IF(U8="j",1,0))+(IF(U8="p",1,0)))+(IF(U8=1,1,0)) -> 0
A9: CÉDRIC DESCHAMBREAULT | S9: 1 | V9: =SUM(AK9:BD9) -> 1 | AK9: =((IF(B9="j",1,0))+(IF(B9="p",1,0)))+(IF(B9=1,1,0)) -> 0 | AL9: =((IF(C9="j",1,0))+(IF(C9="p",1,0)))+(IF(C9=1,1,0)) -> 0 | AM9: =((IF(D9="j",1,0))+(IF(D9="p",1,0)))+(IF(D9=1,1,0)) -> 0 | AN9: =((IF(E9="j",1,0))+(IF(E9="p",1,0)))+(IF(E9=1,1,0)) -> 0 | AO9: =((IF(F9="j",1,0))+(IF(F9="p",1,0)))+(IF(F9=1,1,0)) -> 0 | AP9: =((IF(G9="j",1,0))+(IF(G9="p",1,0)))+(IF(G9=1,1,0)) -> 0 | AQ9: =((IF(H9="j",1,0))+(IF(H9="p",1,0)))+(IF(H9=1,1,0)) -> 0 | AR9: =((IF(I9="j",1,0))+(IF(I9="p",1,0)))+(IF(I9=1,1,0)) -> 0 | ... BD9: =((IF(U9="j",1,0))+(IF(U9="p",1,0)))+(IF(U9=1,1,0)) -> 0
A10: ISAAC DUFOUR | V10: =SUM(AK10:BD10) -> 0 | AK10: =((IF(B10="j",1,0))+(IF(B10="p",1,0)))+(IF(B10=1,1,0)) -> 0 | AL10: =((IF(C10="j",1,0))+(IF(C10="p",1,0)))+(IF(C10=1,1,0)) -> 0 | AM10: =((IF(D10="j",1,0))+(IF(D10="p",1,0)))+(IF(D10=1,1,0)) -> 0 | AN10: =((IF(E10="j",1,0))+(IF(E10="p",1,0)))+(IF(E10=1,1,0)) -> 0 | AO10: =((IF(F10="j",1,0))+(IF(F10="p",1,0)))+(IF(F10=1,1,0)) -> 0 | AP10: =((IF(G10="j",1,0))+(IF(G10="p",1,0)))+(IF(G10=1,1,0)) -> 0 | AQ10: =((IF(H10="j",1,0))+(IF(H10="p",1,0)))+(IF(H10=1,1,0)) -> 0 | AR10: =((IF(I10="j",1,0))+(IF(I10="p",1,0)))+(IF(I10=1,1,0)) -> 0 | ... BD10: =((IF(U10="j",1,0))+(IF(U10="p",1,0)))+(IF(U10=1,1,0)) -> 0
A11: MEGAN DOYON | V11: =SUM(AK11:BD11) -> 0 | AK11: =((IF(B11="j",1,0))+(IF(B11="p",1,0)))+(IF(B11=1,1,0)) -> 0 | AL11: =((IF(C11="j",1,0))+(IF(C11="p",1,0)))+(IF(C11=1,1,0)) -> 0 | AM11: =((IF(D11="j",1,0))+(IF(D11="p",1,0)))+(IF(D11=1,1,0)) -> 0 | AN11: =((IF(E11="j",1,0))+(IF(E11="p",1,0)))+(IF(E11=1,1,0)) -> 0 | AO11: =((IF(F11="j",1,0))+(IF(F11="p",1,0)))+(IF(F11=1,1,0)) -> 0 | AP11: =((IF(G11="j",1,0))+(IF(G11="p",1,0)))+(IF(G11=1,1,0)) -> 0 | AQ11: =((IF(H11="j",1,0))+(IF(H11="p",1,0)))+(IF(H11=1,1,0)) -> 0 | AR11: =((IF(I11="j",1,0))+(IF(I11="p",1,0)))+(IF(I11=1,1,0)) -> 0 | ... BD11: =((IF(U11="j",1,0))+(IF(U11="p",1,0)))+(IF(U11=1,1,0)) -> 0
A12: MICHAEL JR. OUELLETTE | V12: =SUM(AK12:BD12) -> 0 | AK12: =((IF(B12="j",1,0))+(IF(B12="p",1,0)))+(IF(B12=1,1,0)) -> 0 | AL12: =((IF(C12="j",1,0))+(IF(C12="p",1,0)))+(IF(C12=1,1,0)) -> 0 | AM12: =((IF(D12="j",1,0))+(IF(D12="p",1,0)))+(IF(D12=1,1,0)) -> 0 | AN12: =((IF(E12="j",1,0))+(IF(E12="p",1,0)))+(IF(E12=1,1,0)) -> 0 | AO12: =((IF(F12="j",1,0))+(IF(F12="p",1,0)))+(IF(F12=1,1,0)) -> 0 | AP12: =((IF(G12="j",1,0))+(IF(G12="p",1,0)))+(IF(G12=1,1,0)) -> 0 | AQ12: =((IF(H12="j",1,0))+(IF(H12="p",1,0)))+(IF(H12=1,1,0)) -> 0 | AR12: =((IF(I12="j",1,0))+(IF(I12="p",1,0)))+(IF(I12=1,1,0)) -> 0 | ... BD12: =((IF(U12="j",1,0))+(IF(U12="p",1,0)))+(IF(U12=1,1,0)) -> 0
A13: MYLAN COTÉ | V13: =SUM(AK13:BD13) -> 0 | AK13: =((IF(B13="j",1,0))+(IF(B13="p",1,0)))+(IF(B13=1,1,0)) -> 0 | AL13: =((IF(C13="j",1,0))+(IF(C13="p",1,0)))+(IF(C13=1,1,0)) -> 0 | AM13: =((IF(D13="j",1,0))+(IF(D13="p",1,0)))+(IF(D13=1,1,0)) -> 0 | AN13: =((IF(E13="j",1,0))+(IF(E13="p",1,0)))+(IF(E13=1,1,0)) -> 0 | AO13: =((IF(F13="j",1,0))+(IF(F13="p",1,0)))+(IF(F13=1,1,0)) -> 0 | AP13: =((IF(G13="j",1,0))+(IF(G13="p",1,0)))+(IF(G13=1,1,0)) -> 0 | AQ13: =((IF(H13="j",1,0))+(IF(H13="p",1,0)))+(IF(H13=1,1,0)) -> 0 | AR13: =((IF(I13="j",1,0))+(IF(I13="p",1,0)))+(IF(I13=1,1,0)) -> 0 | ... BD13: =((IF(U13="j",1,0))+(IF(U13="p",1,0)))+(IF(U13=1,1,0)) -> 0
A14: SAMUEL GAGNÉ | V14: =SUM(AK14:BD14) -> 0 | AK14: =((IF(B14="j",1,0))+(IF(B14="p",1,0)))+(IF(B14=1,1,0)) -> 0 | AL14: =((IF(C14="j",1,0))+(IF(C14="p",1,0)))+(IF(C14=1,1,0)) -> 0 | AM14: =((IF(D14="j",1,0))+(IF(D14="p",1,0)))+(IF(D14=1,1,0)) -> 0 | AN14: =((IF(E14="j",1,0))+(IF(E14="p",1,0)))+(IF(E14=1,1,0)) -> 0 | AO14: =((IF(F14="j",1,0))+(IF(F14="p",1,0)))+(IF(F14=1,1,0)) -> 0 | AP14: =((IF(G14="j",1,0))+(IF(G14="p",1,0)))+(IF(G14=1,1,0)) -> 0 | AQ14: =((IF(H14="j",1,0))+(IF(H14="p",1,0)))+(IF(H14=1,1,0)) -> 0 | AR14: =((IF(I14="j",1,0))+(IF(I14="p",1,0)))+(IF(I14=1,1,0)) -> 0 | ... BD14: =((IF(U14="j",1,0))+(IF(U14="p",1,0)))+(IF(U14=1,1,0)) -> 0
A15: SAMUEL QUIRION | S15: 1 | V15: =SUM(AK15:BD15) -> 1 | AK15: =((IF(B15="j",1,0))+(IF(B15="p",1,0)))+(IF(B15=1,1,0)) -> 0 | AL15: =((IF(C15="j",1,0))+(IF(C15="p",1,0)))+(IF(C15=1,1,0)) -> 0 | AM15: =((IF(D15="j",1,0))+(IF(D15="p",1,0)))+(IF(D15=1,1,0)) -> 0 | AN15: =((IF(E15="j",1,0))+(IF(E15="p",1,0)))+(IF(E15=1,1,0)) -> 0 | AO15: =((IF(F15="j",1,0))+(IF(F15="p",1,0)))+(IF(F15=1,1,0)) -> 0 | AP15: =((IF(G15="j",1,0))+(IF(G15="p",1,0)))+(IF(G15=1,1,0)) -> 0 | AQ15: =((IF(H15="j",1,0))+(IF(H15="p",1,0)))+(IF(H15=1,1,0)) -> 0 | AR15: =((IF(I15="j",1,0))+(IF(I15="p",1,0)))+(IF(I15=1,1,0)) -> 0 | ... BD15: =((IF(U15="j",1,0))+(IF(U15="p",1,0)))+(IF(U15=1,1,0)) -> 0
A16: STEVEN PLANTE-CARRIERE | V16: =SUM(AK16:BD16) -> 0 | AK16: =((IF(B16="j",1,0))+(IF(B16="p",1,0)))+(IF(B16=1,1,0)) -> 0 | AL16: =((IF(C16="j",1,0))+(IF(C16="p",1,0)))+(IF(C16=1,1,0)) -> 0 | AM16: =((IF(D16="j",1,0))+(IF(D16="p",1,0)))+(IF(D16=1,1,0)) -> 0 | AN16: =((IF(E16="j",1,0))+(IF(E16="p",1,0)))+(IF(E16=1,1,0)) -> 0 | AO16: =((IF(F16="j",1,0))+(IF(F16="p",1,0)))+(IF(F16=1,1,0)) -> 0 | AP16: =((IF(G16="j",1,0))+(IF(G16="p",1,0)))+(IF(G16=1,1,0)) -> 0 | AQ16: =((IF(H16="j",1,0))+(IF(H16="p",1,0)))+(IF(H16=1,1,0)) -> 0 | AR16: =((IF(I16="j",1,0))+(IF(I16="p",1,0)))+(IF(I16=1,1,0)) -> 0 | ... BD16: =((IF(U16="j",1,0))+(IF(U16="p",1,0)))+(IF(U16=1,1,0)) -> 0
A17: ULRICK LALANCETTE | V17: =SUM(AK17:BD17) -> 0 | AK17: =((IF(B17="j",1,0))+(IF(B17="p",1,0)))+(IF(B17=1,1,0)) -> 0 | AL17: =((IF(C17="j",1,0))+(IF(C17="p",1,0)))+(IF(C17=1,1,0)) -> 0 | AM17: =((IF(D17="j",1,0))+(IF(D17="p",1,0)))+(IF(D17=1,1,0)) -> 0 | AN17: =((IF(E17="j",1,0))+(IF(E17="p",1,0)))+(IF(E17=1,1,0)) -> 0 | AO17: =((IF(F17="j",1,0))+(IF(F17="p",1,0)))+(IF(F17=1,1,0)) -> 0 | AP17: =((IF(G17="j",1,0))+(IF(G17="p",1,0)))+(IF(G17=1,1,0)) -> 0 | AQ17: =((IF(H17="j",1,0))+(IF(H17="p",1,0)))+(IF(H17=1,1,0)) -> 0 | AR17: =((IF(I17="j",1,0))+(IF(I17="p",1,0)))+(IF(I17=1,1,0)) -> 0 | ... BD17: =((IF(U17="j",1,0))+(IF(U17="p",1,0)))+(IF(U17=1,1,0)) -> 0
A18: ROGER | B18: 1 | D18: 1 | H18: 1 | V18: =SUM(AK18:BD18) -> 3 | AK18: =((IF(B18="j",1,0))+(IF(B18="p",1,0)))+(IF(B18=1,1,0)) -> 1 | AL18: =((IF(C18="j",1,0))+(IF(C18="p",1,0)))+(IF(C18=1,1,0)) -> 0 | AM18: =((IF(D18="j",1,0))+(IF(D18="p",1,0)))+(IF(D18=1,1,0)) -> 1 | AN18: =((IF(E18="j",1,0))+(IF(E18="p",1,0)))+(IF(E18=1,1,0)) -> 0 | AO18: =((IF(F18="j",1,0))+(IF(F18="p",1,0)))+(IF(F18=1,1,0)) -> 0 | AP18: =((IF(G18="j",1,0))+(IF(G18="p",1,0)))+(IF(G18=1,1,0)) -> 0 | AQ18: =((IF(H18="j",1,0))+(IF(H18="p",1,0)))+(IF(H18=1,1,0)) -> 1 | AR18: =((IF(I18="j",1,0))+(IF(I18="p",1,0)))+(IF(I18=1,1,0)) -> 0 | ... BD18: =((IF(U18="j",1,0))+(IF(U18="p",1,0)))+(IF(U18=1,1,0)) -> 0
V19: =SUM(AK19:BD19) -> 0 | AK19: =((IF(B19="j",1,0))+(IF(B19="p",1,0)))+(IF(B19=1,1,0)) -> 0 | AL19: =((IF(C19="j",1,0))+(IF(C19="p",1,0)))+(IF(C19=1,1,0)) -> 0 | AM19: =((IF(D19="j",1,0))+(IF(D19="p",1,0)))+(IF(D19=1,1,0)) -> 0 | AN19: =((IF(E19="j",1,0))+(IF(E19="p",1,0)))+(IF(E19=1,1,0)) -> 0 | AO19: =((IF(F19="j",1,0))+(IF(F19="p",1,0)))+(IF(F19=1,1,0)) -> 0 | AP19: =((IF(G19="j",1,0))+(IF(G19="p",1,0)))+(IF(G19=1,1,0)) -> 0 | AQ19: =((IF(H19="j",1,0))+(IF(H19="p",1,0)))+(IF(H19=1,1,0)) -> 0 | AR19: =((IF(I19="j",1,0))+(IF(I19="p",1,0)))+(IF(I19=1,1,0)) -> 0 | ... BD19: =((IF(U19="j",1,0))+(IF(U19="p",1,0)))+(IF(U19=1,1,0)) -> 0
V20: =SUM(AK20:BD20) -> 0 | AK20: =((IF(B20="j",1,0))+(IF(B20="p",1,0)))+(IF(B20=1,1,0)) -> 0 | AL20: =((IF(C20="j",1,0))+(IF(C20="p",1,0)))+(IF(C20=1,1,0)) -> 0 | AM20: =((IF(D20="j",1,0))+(IF(D20="p",1,0)))+(IF(D20=1,1,0)) -> 0 | AN20: =((IF(E20="j",1,0))+(IF(E20="p",1,0)))+(IF(E20=1,1,0)) -> 0 | AO20: =((IF(F20="j",1,0))+(IF(F20="p",1,0)))+(IF(F20=1,1,0)) -> 0 | AP20: =((IF(G20="j",1,0))+(IF(G20="p",1,0)))+(IF(G20=1,1,0)) -> 0 | AQ20: =((IF(H20="j",1,0))+(IF(H20="p",1,0)))+(IF(H20=1,1,0)) -> 0 | AR20: =((IF(I20="j",1,0))+(IF(I20="p",1,0)))+(IF(I20=1,1,0)) -> 0 | ... BD20: =((IF(U20="j",1,0))+(IF(U20="p",1,0)))+(IF(U20=1,1,0)) -> 0
V21: =SUM(AK21:BD21) -> 0 | AK21: =((IF(B21="j",1,0))+(IF(B21="p",1,0)))+(IF(B21=1,1,0)) -> 0 | AL21: =((IF(C21="j",1,0))+(IF(C21="p",1,0)))+(IF(C21=1,1,0)) -> 0 | AM21: =((IF(D21="j",1,0))+(IF(D21="p",1,0)))+(IF(D21=1,1,0)) -> 0 | AN21: =((IF(E21="j",1,0))+(IF(E21="p",1,0)))+(IF(E21=1,1,0)) -> 0 | AO21: =((IF(F21="j",1,0))+(IF(F21="p",1,0)))+(IF(F21=1,1,0)) -> 0 | AP21: =((IF(G21="j",1,0))+(IF(G21="p",1,0)))+(IF(G21=1,1,0)) -> 0 | AQ21: =((IF(H21="j",1,0))+(IF(H21="p",1,0)))+(IF(H21=1,1,0)) -> 0 | AR21: =((IF(I21="j",1,0))+(IF(I21="p",1,0)))+(IF(I21=1,1,0)) -> 0 | ... BD21: =((IF(U21="j",1,0))+(IF(U21="p",1,0)))+(IF(U21=1,1,0)) -> 0
V22: =SUM(AK22:BD22) -> 0 | AK22: =((IF(B22="j",1,0))+(IF(B22="p",1,0)))+(IF(B22=1,1,0)) -> 0 | AL22: =((IF(C22="j",1,0))+(IF(C22="p",1,0)))+(IF(C22=1,1,0)) -> 0 | AM22: =((IF(D22="j",1,0))+(IF(D22="p",1,0)))+(IF(D22=1,1,0)) -> 0 | AN22: =((IF(E22="j",1,0))+(IF(E22="p",1,0)))+(IF(E22=1,1,0)) -> 0 | AO22: =((IF(F22="j",1,0))+(IF(F22="p",1,0)))+(IF(F22=1,1,0)) -> 0 | AP22: =((IF(G22="j",1,0))+(IF(G22="p",1,0)))+(IF(G22=1,1,0)) -> 0 | AQ22: =((IF(H22="j",1,0))+(IF(H22="p",1,0)))+(IF(H22=1,1,0)) -> 0 | AR22: =((IF(I22="j",1,0))+(IF(I22="p",1,0)))+(IF(I22=1,1,0)) -> 0 | ... BD22: =((IF(U22="j",1,0))+(IF(U22="p",1,0)))+(IF(U22=1,1,0)) -> 0
V23: =SUM(AK23:BD23) -> 0 | AK23: =((IF(B23="j",1,0))+(IF(B23="p",1,0)))+(IF(B23=1,1,0)) -> 0 | AL23: =((IF(C23="j",1,0))+(IF(C23="p",1,0)))+(IF(C23=1,1,0)) -> 0 | AM23: =((IF(D23="j",1,0))+(IF(D23="p",1,0)))+(IF(D23=1,1,0)) -> 0 | AN23: =((IF(E23="j",1,0))+(IF(E23="p",1,0)))+(IF(E23=1,1,0)) -> 0 | AO23: =((IF(F23="j",1,0))+(IF(F23="p",1,0)))+(IF(F23=1,1,0)) -> 0 | AP23: =((IF(G23="j",1,0))+(IF(G23="p",1,0)))+(IF(G23=1,1,0)) -> 0 | AQ23: =((IF(H23="j",1,0))+(IF(H23="p",1,0)))+(IF(H23=1,1,0)) -> 0 | AR23: =((IF(I23="j",1,0))+(IF(I23="p",1,0)))+(IF(I23=1,1,0)) -> 0 | ... BD23: =((IF(U23="j",1,0))+(IF(U23="p",1,0)))+(IF(U23=1,1,0)) -> 0
V24: =SUM(AK24:BD24) -> 0 | AK24: =((IF(B24="j",1,0))+(IF(B24="p",1,0)))+(IF(B24=1,1,0)) -> 0 | AL24: =((IF(C24="j",1,0))+(IF(C24="p",1,0)))+(IF(C24=1,1,0)) -> 0 | AM24: =((IF(D24="j",1,0))+(IF(D24="p",1,0)))+(IF(D24=1,1,0)) -> 0 | AN24: =((IF(E24="j",1,0))+(IF(E24="p",1,0)))+(IF(E24=1,1,0)) -> 0 | AO24: =((IF(F24="j",1,0))+(IF(F24="p",1,0)))+(IF(F24=1,1,0)) -> 0 | AP24: =((IF(G24="j",1,0))+(IF(G24="p",1,0)))+(IF(G24=1,1,0)) -> 0 | AQ24: =((IF(H24="j",1,0))+(IF(H24="p",1,0)))+(IF(H24=1,1,0)) -> 0 | AR24: =((IF(I24="j",1,0))+(IF(I24="p",1,0)))+(IF(I24=1,1,0)) -> 0 | ... BD24: =((IF(U24="j",1,0))+(IF(U24="p",1,0)))+(IF(U24=1,1,0)) -> 0
V25: =SUM(AK25:BD25) -> 0 | AK25: =((IF(B25="j",1,0))+(IF(B25="p",1,0)))+(IF(B25=1,1,0)) -> 0 | AL25: =((IF(C25="j",1,0))+(IF(C25="p",1,0)))+(IF(C25=1,1,0)) -> 0 | AM25: =((IF(D25="j",1,0))+(IF(D25="p",1,0)))+(IF(D25=1,1,0)) -> 0 | AN25: =((IF(E25="j",1,0))+(IF(E25="p",1,0)))+(IF(E25=1,1,0)) -> 0 | AO25: =((IF(F25="j",1,0))+(IF(F25="p",1,0)))+(IF(F25=1,1,0)) -> 0 | AP25: =((IF(G25="j",1,0))+(IF(G25="p",1,0)))+(IF(G25=1,1,0)) -> 0 | AQ25: =((IF(H25="j",1,0))+(IF(H25="p",1,0)))+(IF(H25=1,1,0)) -> 0 | AR25: =((IF(I25="j",1,0))+(IF(I25="p",1,0)))+(IF(I25=1,1,0)) -> 0 | ... BD25: =((IF(U25="j",1,0))+(IF(U25="p",1,0)))+(IF(U25=1,1,0)) -> 0
V26: =SUM(AK26:BD26) -> 0 | AK26: =((IF(B26="j",1,0))+(IF(B26="p",1,0)))+(IF(B26=1,1,0)) -> 0 | AL26: =((IF(C26="j",1,0))+(IF(C26="p",1,0)))+(IF(C26=1,1,0)) -> 0 | AM26: =((IF(D26="j",1,0))+(IF(D26="p",1,0)))+(IF(D26=1,1,0)) -> 0 | AN26: =((IF(E26="j",1,0))+(IF(E26="p",1,0)))+(IF(E26=1,1,0)) -> 0 | AO26: =((IF(F26="j",1,0))+(IF(F26="p",1,0)))+(IF(F26=1,1,0)) -> 0 | AP26: =((IF(G26="j",1,0))+(IF(G26="p",1,0)))+(IF(G26=1,1,0)) -> 0 | AQ26: =((IF(H26="j",1,0))+(IF(H26="p",1,0)))+(IF(H26=1,1,0)) -> 0 | AR26: =((IF(I26="j",1,0))+(IF(I26="p",1,0)))+(IF(I26=1,1,0)) -> 0 | ... BD26: =((IF(U26="j",1,0))+(IF(U26="p",1,0)))+(IF(U26=1,1,0)) -> 0
V27: =SUM(AK27:BD27) -> 0 | AK27: =((IF(B27="j",1,0))+(IF(B27="p",1,0)))+(IF(B27=1,1,0)) -> 0 | AL27: =((IF(C27="j",1,0))+(IF(C27="p",1,0)))+(IF(C27=1,1,0)) -> 0 | AM27: =((IF(D27="j",1,0))+(IF(D27="p",1,0)))+(IF(D27=1,1,0)) -> 0 | AN27: =((IF(E27="j",1,0))+(IF(E27="p",1,0)))+(IF(E27=1,1,0)) -> 0 | AO27: =((IF(F27="j",1,0))+(IF(F27="p",1,0)))+(IF(F27=1,1,0)) -> 0 | AP27: =((IF(G27="j",1,0))+(IF(G27="p",1,0)))+(IF(G27=1,1,0)) -> 0 | AQ27: =((IF(H27="j",1,0))+(IF(H27="p",1,0)))+(IF(H27=1,1,0)) -> 0 | AR27: =((IF(I27="j",1,0))+(IF(I27="p",1,0)))+(IF(I27=1,1,0)) -> 0 | ... BD27: =((IF(U27="j",1,0))+(IF(U27="p",1,0)))+(IF(U27=1,1,0)) -> 0
V28: =SUM(AK28:BD28) -> 0 | AK28: =((IF(B28="j",1,0))+(IF(B28="p",1,0)))+(IF(B28=1,1,0)) -> 0 | AL28: =((IF(C28="j",1,0))+(IF(C28="p",1,0)))+(IF(C28=1,1,0)) -> 0 | AM28: =((IF(D28="j",1,0))+(IF(D28="p",1,0)))+(IF(D28=1,1,0)) -> 0 | AN28: =((IF(E28="j",1,0))+(IF(E28="p",1,0)))+(IF(E28=1,1,0)) -> 0 | AO28: =((IF(F28="j",1,0))+(IF(F28="p",1,0)))+(IF(F28=1,1,0)) -> 0 | AP28: =((IF(G28="j",1,0))+(IF(G28="p",1,0)))+(IF(G28=1,1,0)) -> 0 | AQ28: =((IF(H28="j",1,0))+(IF(H28="p",1,0)))+(IF(H28=1,1,0)) -> 0 | AR28: =((IF(I28="j",1,0))+(IF(I28="p",1,0)))+(IF(I28=1,1,0)) -> 0 | ... BD28: =((IF(U28="j",1,0))+(IF(U28="p",1,0)))+(IF(U28=1,1,0)) -> 0
V29: =SUM(AK29:BD29) -> 0 | AK29: =((IF(B29="j",1,0))+(IF(B29="p",1,0)))+(IF(B29=1,1,0)) -> 0 | AL29: =((IF(C29="j",1,0))+(IF(C29="p",1,0)))+(IF(C29=1,1,0)) -> 0 | AM29: =((IF(D29="j",1,0))+(IF(D29="p",1,0)))+(IF(D29=1,1,0)) -> 0 | AN29: =((IF(E29="j",1,0))+(IF(E29="p",1,0)))+(IF(E29=1,1,0)) -> 0 | AO29: =((IF(F29="j",1,0))+(IF(F29="p",1,0)))+(IF(F29=1,1,0)) -> 0 | AP29: =((IF(G29="j",1,0))+(IF(G29="p",1,0)))+(IF(G29=1,1,0)) -> 0 | AQ29: =((IF(H29="j",1,0))+(IF(H29="p",1,0)))+(IF(H29=1,1,0)) -> 0 | AR29: =((IF(I29="j",1,0))+(IF(I29="p",1,0)))+(IF(I29=1,1,0)) -> 0 | ... BD29: =((IF(U29="j",1,0))+(IF(U29="p",1,0)))+(IF(U29=1,1,0)) -> 0
V30: =SUM(AK30:BD30) -> 0 | AK30: =((IF(B30="j",1,0))+(IF(B30="p",1,0)))+(IF(B30=1,1,0)) -> 0 | AL30: =((IF(C30="j",1,0))+(IF(C30="p",1,0)))+(IF(C30=1,1,0)) -> 0 | AM30: =((IF(D30="j",1,0))+(IF(D30="p",1,0)))+(IF(D30=1,1,0)) -> 0 | AN30: =((IF(E30="j",1,0))+(IF(E30="p",1,0)))+(IF(E30=1,1,0)) -> 0 | AO30: =((IF(F30="j",1,0))+(IF(F30="p",1,0)))+(IF(F30=1,1,0)) -> 0 | AP30: =((IF(G30="j",1,0))+(IF(G30="p",1,0)))+(IF(G30=1,1,0)) -> 0 | AQ30: =((IF(H30="j",1,0))+(IF(H30="p",1,0)))+(IF(H30=1,1,0)) -> 0 | AR30: =((IF(I30="j",1,0))+(IF(I30="p",1,0)))+(IF(I30=1,1,0)) -> 0 | ... BD30: =((IF(U30="j",1,0))+(IF(U30="p",1,0)))+(IF(U30=1,1,0)) -> 0
... V85: =SUM(AK85:BD85) -> 0 | AK85: =((IF(B85="j",1,0))+(IF(B85="p",1,0)))+(IF(B85=1,1,0)) -> 0 | AL85: =((IF(C85="j",1,0))+(IF(C85="p",1,0)))+(IF(C85=1,1,0)) -> 0 | AM85: =((IF(D85="j",1,0))+(IF(D85="p",1,0)))+(IF(D85=1,1,0)) -> 0 | AN85: =((IF(E85="j",1,0))+(IF(E85="p",1,0)))+(IF(E85=1,1,0)) -> 0 | AO85: =((IF(F85="j",1,0))+(IF(F85="p",1,0)))+(IF(F85=1,1,0)) -> 0 | AP85: =((IF(G85="j",1,0))+(IF(G85="p",1,0)))+(IF(G85=1,1,0)) -> 0 | AQ85: =((IF(H85="j",1,0))+(IF(H85="p",1,0)))+(IF(H85=1,1,0)) -> 0 | AR85: =((IF(I85="j",1,0))+(IF(I85="p",1,0)))+(IF(I85=1,1,0)) -> 0 | ... BD85: =((IF(U85="j",1,0))+(IF(U85="p",1,0)))+(IF(U85=1,1,0)) -> 0
A86: TOTAUX | B86: =SUM(AK3:AK85) -> 1 | C86: =SUM(AL3:AL85) -> 0 | D86: =SUM(AM3:AM85) -> 1 | E86: =SUM(AN3:AN85) -> 0 | F86: =SUM(AO3:AO85) -> 0 | G86: =SUM(AP3:AP85) -> 0 | H86: =SUM(AQ3:AQ85) -> 1 | I86: =SUM(AR3:AR85) -> 0 | ... U86: =SUM(BD3:BD85) -> 0

Sheet 1er
B1: Semaine 1 | G1: Semaine 2 | L1: Semaine 3 | Q1: Semaine 4
A2: 1ère année | B2: =Cumulatif!A4 -> 25 | C2: =Cumulatif!B4 -> 26 | D2: =Cumulatif!C4 -> 27 | E2: =Cumulatif!D4 -> 28 | F2: =Cumulatif!E4 -> 29 | G2: =Cumulatif!F4 -> 1 | H2: =Cumulatif!G4 -> 2 | I2: =Cumulatif!H4 -> 3 | ... U2: =Cumulatif!T4 -> 19
A3: ALEXA BRUNELLE | S3: 1 | V3: =SUM(AK3:BD3) -> 1 | AK3: =((IF(B3="j",1,0))+(IF(B3="p",1,0)))+(IF(B3=1,1,0)) -> 0 | AL3: =((IF(C3="j",1,0))+(IF(C3="p",1,0)))+(IF(C3=1,1,0)) -> 0 | AM3: =((IF(D3="j",1,0))+(IF(D3="p",1,0)))+(IF(D3=1,1,0)) -> 0 | AN3: =((IF(E3="j",1,0))+(IF(E3="p",1,0)))+(IF(E3=1,1,0)) -> 0 | AO3: =((IF(F3="j",1,0))+(IF(F3="p",1,0)))+(IF(F3=1,1,0)) -> 0 | AP3: =((IF(G3="j",1,0))+(IF(G3="p",1,0)))+(IF(G3=1,1,0)) -> 0 | AQ3: =((IF(H3="j",1,0))+(IF(H3="p",1,0)))+(IF(H3=1,1,0)) -> 0 | AR3: =((IF(I3="j",1,0))+(IF(I3="p",1,0)))+(IF(I3=1,1,0)) -> 0 | ... BD3: =((IF(U3="j",1,0))+(IF(U3="p",1,0)))+(IF(U3=1,1,0)) -> 0
A4: ALICE PATRY | V4: =SUM(AK4:BD4) -> 0 | AK4: =((IF(B4="j",1,0))+(IF(B4="p",1,0)))+(IF(B4=1,1,0)) -> 0 | AL4: =((IF(C4="j",1,0))+(IF(C4="p",1,0)))+(IF(C4=1,1,0)) -> 0 | AM4: =((IF(D4="j",1,0))+(IF(D4="p",1,0)))+(IF(D4=1,1,0)) -> 0 | AN4: =((IF(E4="j",1,0))+(IF(E4="p",1,0)))+(IF(E4=1,1,0)) -> 0 | AO4: =((IF(F4="j",1,0))+(IF(F4="p",1,0)))+(IF(F4=1,1,0)) -> 0 | AP4: =((IF(G4="j",1,0))+(IF(G4="p",1,0)))+(IF(G4=1,1,0)) -> 0 | AQ4: =((IF(H4="j",1,0))+(IF(H4="p",1,0)))+(IF(H4=1,1,0)) -> 0 | AR4: =((IF(I4="j",1,0))+(IF(I4="p",1,0)))+(IF(I4=1,1,0)) -> 0 | ... BD4: =((IF(U4="j",1,0))+(IF(U4="p",1,0)))+(IF(U4=1,1,0)) -> 0
A5: CHRISTOPHER DEBENATH | V5: =SUM(AK5:BD5) -> 0 | AK5: =((IF(B5="j",1,0))+(IF(B5="p",1,0)))+(IF(B5=1,1,0)) -> 0 | AL5: =((IF(C5="j",1,0))+(IF(C5="p",1,0)))+(IF(C5=1,1,0)) -> 0 | AM5: =((IF(D5="j",1,0))+(IF(D5="p",1,0)))+(IF(D5=1,1,0)) -> 0 | AN5: =((IF(E5="j",1,0))+(IF(E5="p",1,0)))+(IF(E5=1,1,0)) -> 0 | AO5: =((IF(F5="j",1,0))+(IF(F5="p",1,0)))+(IF(F5=1,1,0)) -> 0 | AP5: =((IF(G5="j",1,0))+(IF(G5="p",1,0)))+(IF(G5=1,1,0)) -> 0 | AQ5: =((IF(H5="j",1,0))+(IF(H5="p",1,0)))+(IF(H5=1,1,0)) -> 0 | AR5: =((IF(I5="j",1,0))+(IF(I5="p",1,0)))+(IF(I5=1,1,0)) -> 0 | ... BD5: =((IF(U5="j",1,0))+(IF(U5="p",1,0)))+(IF(U5=1,1,0)) -> 0
A6: HAMADY SOW | S6: 1 | V6: =SUM(AK6:BD6) -> 1 | AK6: =((IF(B6="j",1,0))+(IF(B6="p",1,0)))+(IF(B6=1,1,0)) -> 0 | AL6: =((IF(C6="j",1,0))+(IF(C6="p",1,0)))+(IF(C6=1,1,0)) -> 0 | AM6: =((IF(D6="j",1,0))+(IF(D6="p",1,0)))+(IF(D6=1,1,0)) -> 0 | AN6: =((IF(E6="j",1,0))+(IF(E6="p",1,0)))+(IF(E6=1,1,0)) -> 0 | AO6: =((IF(F6="j",1,0))+(IF(F6="p",1,0)))+(IF(F6=1,1,0)) -> 0 | AP6: =((IF(G6="j",1,0))+(IF(G6="p",1,0)))+(IF(G6=1,1,0)) -> 0 | AQ6: =((IF(H6="j",1,0))+(IF(H6="p",1,0)))+(IF(H6=1,1,0)) -> 0 | AR6: =((IF(I6="j",1,0))+(IF(I6="p",1,0)))+(IF(I6=1,1,0)) -> 0 | ... BD6: =((IF(U6="j",1,0))+(IF(U6="p",1,0)))+(IF(U6=1,1,0)) -> 0
A7: LAURENCE BEAULIEU | V7: =SUM(AK7:BD7) -> 0 | AK7: =((IF(B7="j",1,0))+(IF(B7="p",1,0)))+(IF(B7=1,1,0)) -> 0 | AL7: =((IF(C7="j",1,0))+(IF(C7="p",1,0)))+(IF(C7=1,1,0)) -> 0 | AM7: =((IF(D7="j",1,0))+(IF(D7="p",1,0)))+(IF(D7=1,1,0)) -> 0 | AN7: =((IF(E7="j",1,0))+(IF(E7="p",1,0)))+(IF(E7=1,1,0)) -> 0 | AO7: =((IF(F7="j",1,0))+(IF(F7="p",1,0)))+(IF(F7=1,1,0)) -> 0 | AP7: =((IF(G7="j",1,0))+(IF(G7="p",1,0)))+(IF(G7=1,1,0)) -> 0 | AQ7: =((IF(H7="j",1,0))+(IF(H7="p",1,0)))+(IF(H7=1,1,0)) -> 0 | AR7: =((IF(I7="j",1,0))+(IF(I7="p",1,0)))+(IF(I7=1,1,0)) -> 0 | ... BD7: =((IF(U7="j",1,0))+(IF(U7="p",1,0)))+(IF(U7=1,1,0)) -> 0
A8: LOICK LAJEUNESSE | S8: 1 | V8: =SUM(AK8:BD8) -> 1 | AK8: =((IF(B8="j",1,0))+(IF(B8="p",1,0)))+(IF(B8=1,1,0)) -> 0 | AL8: =((IF(C8="j",1,0))+(IF(C8="p",1,0)))+(IF(C8=1,1,0)) -> 0 | AM8: =((IF(D8="j",1,0))+(IF(D8="p",1,0)))+(IF(D8=1,1,0)) -> 0 | AN8: =((IF(E8="j",1,0))+(IF(E8="p",1,0)))+(IF(E8=1,1,0)) -> 0 | AO8: =((IF(F8="j",1,0))+(IF(F8="p",1,0)))+(IF(F8=1,1,0)) -> 0 | AP8: =((IF(G8="j",1,0))+(IF(G8="p",1,0)))+(IF(G8=1,1,0)) -> 0 | AQ8: =((IF(H8="j",1,0))+(IF(H8="p",1,0)))+(IF(H8=1,1,0)) -> 0 | AR8: =((IF(I8="j",1,0))+(IF(I8="p",1,0)))+(IF(I8=1,1,0)) -> 0 | ... BD8: =((IF(U8="j",1,0))+(IF(U8="p",1,0)))+(IF(U8=1,1,0)) -> 0
A9: MAIKA LAJEUNESSE | S9: 1 | V9: =SUM(AK9:BD9) -> 1 | AK9: =((IF(B9="j",1,0))+(IF(B9="p",1,0)))+(IF(B9=1,1,0)) -> 0 | AL9: =((IF(C9="j",1,0))+(IF(C9="p",1,0)))+(IF(C9=1,1,0)) -> 0 | AM9: =((IF(D9="j",1,0))+(IF(D9="p",1,0)))+(IF(D9=1,1,0)) -> 0 | AN9: =((IF(E9="j",1,0))+(IF(E9="p",1,0)))+(IF(E9=1,1,0)) -> 0 | AO9: =((IF(F9="j",1,0))+(IF(F9="p",1,0)))+(IF(F9=1,1,0)) -> 0 | AP9: =((IF(G9="j",1,0))+(IF(G9="p",1,0)))+(IF(G9=1,1,0)) -> 0 | AQ9: =((IF(H9="j",1,0))+(IF(H9="p",1,0)))+(IF(H9=1,1,0)) -> 0 | AR9: =((IF(I9="j",1,0))+(IF(I9="p",1,0)))+(IF(I9=1,1,0)) -> 0 | ... BD9: =((IF(U9="j",1,0))+(IF(U9="p",1,0)))+(IF(U9=1,1,0)) -> 0
A10: Mathis Lecompte | V10: =SUM(AK10:BD10) -> 0 | AK10: =((IF(B10="j",1,0))+(IF(B10="p",1,0)))+(IF(B10=1,1,0)) -> 0 | AL10: =((IF(C10="j",1,0))+(IF(C10="p",1,0)))+(IF(C10=1,1,0)) -> 0 | AM10: =((IF(D10="j",1,0))+(IF(D10="p",1,0)))+(IF(D10=1,1,0)) -> 0 | AN10: =((IF(E10="j",1,0))+(IF(E10="p",1,0)))+(IF(E10=1,1,0)) -> 0 | AO10: =((IF(F10="j",1,0))+(IF(F10="p",1,0)))+(IF(F10=1,1,0)) -> 0 | AP10: =((IF(G10="j",1,0))+(IF(G10="p",1,0)))+(IF(G10=1,1,0)) -> 0 | AQ10: =((IF(H10="j",1,0))+(IF(H10="p",1,0)))+(IF(H10=1,1,0)) -> 0 | AR10: =((IF(I10="j",1,0))+(IF(I10="p",1,0)))+(IF(I10=1,1,0)) -> 0 | ... BD10: =((IF(U10="j",1,0))+(IF(U10="p",1,0)))+(IF(U10=1,1,0)) -> 0
A11: Mick-Ange Milien | V11: =SUM(AK11:BD11) -> 0 | AK11: =((IF(B11="j",1,0))+(IF(B11="p",1,0)))+(IF(B11=1,1,0)) -> 0 | AL11: =((IF(C11="j",1,0))+(IF(C11="p",1,0)))+(IF(C11=1,1,0)) -> 0 | AM11: =((IF(D11="j",1,0))+(IF(D11="p",1,0)))+(IF(D11=1,1,0)) -> 0 | AN11: =((IF(E11="j",1,0))+(IF(E11="p",1,0)))+(IF(E11=1,1,0)) -> 0 | AO11: =((IF(F11="j",1,0))+(IF(F11="p",1,0)))+(IF(F11=1,1,0)) -> 0 | AP11: =((IF(G11="j",1,0))+(IF(G11="p",1,0)))+(IF(G11=1,1,0)) -> 0 | AQ11: =((IF(H11="j",1,0))+(IF(H11="p",1,0)))+(IF(H11=1,1,0)) -> 0 | AR11: =((IF(I11="j",1,0))+(IF(I11="p",1,0)))+(IF(I11=1,1,0)) -> 0 | ... BD11: =((IF(U11="j",1,0))+(IF(U11="p",1,0)))+(IF(U11=1,1,0)) -> 0
V12: =SUM(AK12:BD12) -> 0 | AK12: =((IF(B12="j",1,0))+(IF(B12="p",1,0)))+(IF(B12=1,1,0)) -> 0 | AL12: =((IF(C12="j",1,0))+(IF(C12="p",1,0)))+(IF(C12=1,1,0)) -> 0 | AM12: =((IF(D12="j",1,0))+(IF(D12="p",1,0)))+(IF(D12=1,1,0)) -> 0 | AN12: =((IF(E12="j",1,0))+(IF(E12="p",1,0)))+(IF(E12=1,1,0)) -> 0 | AO12: =((IF(F12="j",1,0))+(IF(F12="p",1,0)))+(IF(F12=1,1,0)) -> 0 | AP12: =((IF(G12="j",1,0))+(IF(G12="p",1,0)))+(IF(G12=1,1,0)) -> 0 | AQ12: =((IF(H12="j",1,0))+(IF(H12="p",1,0)))+(IF(H12=1,1,0)) -> 0 | AR12: =((IF(I12="j",1,0))+(IF(I12="p",1,0)))+(IF(I12=1,1,0)) -> 0 | ... BD12: =((IF(U12="j",1,0))+(IF(U12="p",1,0)))+(IF(U12=1,1,0)) -> 0
V13: =SUM(AK13:BD13) -> 0 | AK13: =((IF(B13="j",1,0))+(IF(B13="p",1,0)))+(IF(B13=1,1,0)) -> 0 | AL13: =((IF(C13="j",1,0))+(IF(C13="p",1,0)))+(IF(C13=1,1,0)) -> 0 | AM13: =((IF(D13="j",1,0))+(IF(D13="p",1,0)))+(IF(D13=1,1,0)) -> 0 | AN13: =((IF(E13="j",1,0))+(IF(E13="p",1,0)))+(IF(E13=1,1,0)) -> 0 | AO13: =((IF(F13="j",1,0))+(IF(F13="p",1,0)))+(IF(F13=1,1,0)) -> 0 | AP13: =((IF(G13="j",1,0))+(IF(G13="p",1,0)))+(IF(G13=1,1,0)) -> 0 | AQ13: =((IF(H13="j",1,0))+(IF(H13="p",1,0)))+(IF(H13=1,1,0)) -> 0 | AR13: =((IF(I13="j",1,0))+(IF(I13="p",1,0)))+(IF(I13=1,1,0)) -> 0 | ... BD13: =((IF(U13="j",1,0))+(IF(U13="p",1,0)))+(IF(U13=1,1,0)) -> 0
V14: =SUM(AK14:BD14) -> 0 | AK14: =((IF(B14="j",1,0))+(IF(B14="p",1,0)))+(IF(B14=1,1,0)) -> 0 | AL14: =((IF(C14="j",1,0))+(IF(C14="p",1,0)))+(IF(C14=1,1,0)) -> 0 | AM14: =((IF(D14="j",1,0))+(IF(D14="p",1,0)))+(IF(D14=1,1,0)) -> 0 | AN14: =((IF(E14="j",1,0))+(IF(E14="p",1,0)))+(IF(E14=1,1,0)) -> 0 | AO14: =((IF(F14="j",1,0))+(IF(F14="p",1,0)))+(IF(F14=1,1,0)) -> 0 | AP14: =((IF(G14="j",1,0))+(IF(G14="p",1,0)))+(IF(G14=1,1,0)) -> 0 | AQ14: =((IF(H14="j",1,0))+(IF(H14="p",1,0)))+(IF(H14=1,1,0)) -> 0 | AR14: =((IF(I14="j",1,0))+(IF(I14="p",1,0)))+(IF(I14=1,1,0)) -> 0 | ... BD14: =((IF(U14="j",1,0))+(IF(U14="p",1,0)))+(IF(U14=1,1,0)) -> 0
V15: =SUM(AK15:BD15) -> 0 | AK15: =((IF(B15="j",1,0))+(IF(B15="p",1,0)))+(IF(B15=1,1,0)) -> 0 | AL15: =((IF(C15="j",1,0))+(IF(C15="p",1,0)))+(IF(C15=1,1,0)) -> 0 | AM15: =((IF(D15="j",1,0))+(IF(D15="p",1,0)))+(IF(D15=1,1,0)) -> 0 | AN15: =((IF(E15="j",1,0))+(IF(E15="p",1,0)))+(IF(E15=1,1,0)) -> 0 | AO15: =((IF(F15="j",1,0))+(IF(F15="p",1,0)))+(IF(F15=1,1,0)) -> 0 | AP15: =((IF(G15="j",1,0))+(IF(G15="p",1,0)))+(IF(G15=1,1,0)) -> 0 | AQ15: =((IF(H15="j",1,0))+(IF(H15="p",1,0)))+(IF(H15=1,1,0)) -> 0 | AR15: =((IF(I15="j",1,0))+(IF(I15="p",1,0)))+(IF(I15=1,1,0)) -> 0 | ... BD15: =((IF(U15="j",1,0))+(IF(U15="p",1,0)))+(IF(U15=1,1,0)) -> 0
V16: =SUM(AK16:BD16) -> 0 | AK16: =((IF(B16="j",1,0))+(IF(B16="p",1,0)))+(IF(B16=1,1,0)) -> 0 | AL16: =((IF(C16="j",1,0))+(IF(C16="p",1,0)))+(IF(C16=1,1,0)) -> 0 | AM16: =((IF(D16="j",1,0))+(IF(D16="p",1,0)))+(IF(D16=1,1,0)) -> 0 | AN16: =((IF(E16="j",1,0))+(IF(E16="p",1,0)))+(IF(E16=1,1,0)) -> 0 | AO16: =((IF(F16="j",1,0))+(IF(F16="p",1,0)))+(IF(F16=1,1,0)) -> 0 | AP16: =((IF(G16="j",1,0))+(IF(G16="p",1,0)))+(IF(G16=1,1,0)) -> 0 | AQ16: =((IF(H16="j",1,0))+(IF(H16="p",1,0)))+(IF(H16=1,1,0)) -> 0 | AR16: =((IF(I16="j",1,0))+(IF(I16="p",1,0)))+(IF(I16=1,1,0)) -> 0 | ... BD16: =((IF(U16="j",1,0))+(IF(U16="p",1,0)))+(IF(U16=1,1,0)) -> 0
V17: =SUM(AK17:BD17) -> 0 | AK17: =((IF(B17="j",1,0))+(IF(B17="p",1,0)))+(IF(B17=1,1,0)) -> 0 | AL17: =((IF(C17="j",1,0))+(IF(C17="p",1,0)))+(IF(C17=1,1,0)) -> 0 | AM17: =((IF(D17="j",1,0))+(IF(D17="p",1,0)))+(IF(D17=1,1,0)) -> 0 | AN17: =((IF(E17="j",1,0))+(IF(E17="p",1,0)))+(IF(E17=1,1,0)) -> 0 | AO17: =((IF(F17="j",1,0))+(IF(F17="p",1,0)))+(IF(F17=1,1,0)) -> 0 | AP17: =((IF(G17="j",1,0))+(IF(G17="p",1,0)))+(IF(G17=1,1,0)) -> 0 | AQ17: =((IF(H17="j",1,0))+(IF(H17="p",1,0)))+(IF(H17=1,1,0)) -> 0 | AR17: =((IF(I17="j",1,0))+(IF(I17="p",1,0)))+(IF(I17=1,1,0)) -> 0 | ... BD17: =((IF(U17="j",1,0))+(IF(U17="p",1,0)))+(IF(U17=1,1,0)) -> 0
V18: =SUM(AK18:BD18) -> 0 | AK18: =((IF(B18="j",1,0))+(IF(B18="p",1,0)))+(IF(B18=1,1,0)) -> 0 | AL18: =((IF(C18="j",1,0))+(IF(C18="p",1,0)))+(IF(C18=1,1,0)) -> 0 | AM18: =((IF(D18="j",1,0))+(IF(D18="p",1,0)))+(IF(D18=1,1,0)) -> 0 | AN18: =((IF(E18="j",1,0))+(IF(E18="p",1,0)))+(IF(E18=1,1,0)) -> 0 | AO18: =((IF(F18="j",1,0))+(IF(F18="p",1,0)))+(IF(F18=1,1,0)) -> 0 | AP18: =((IF(G18="j",1,0))+(IF(G18="p",1,0)))+(IF(G18=1,1,0)) -> 0 | AQ18: =((IF(H18="j",1,0))+(IF(H18="p",1,0)))+(IF(H18=1,1,0)) -> 0 | AR18: =((IF(I18="j",1,0))+(IF(I18="p",1,0)))+(IF(I18=1,1,0)) -> 0 | ... BD18: =((IF(U18="j",1,0))+(IF(U18="p",1,0)))+(IF(U18=1,1,0)) -> 0
V19: =SUM(AK19:BD19) -> 0 | AK19: =((IF(B19="j",1,0))+(IF(B19="p",1,0)))+(IF(B19=1,1,0)) -> 0 | AL19: =((IF(C19="j",1,0))+(IF(C19="p",1,0)))+(IF(C19=1,1,0)) -> 0 | AM19: =((IF(D19="j",1,0))+(IF(D19="p",1,0)))+(IF(D19=1,1,0)) -> 0 | AN19: =((IF(E19="j",1,0))+(IF(E19="p",1,0)))+(IF(E19=1,1,0)) -> 0 | AO19: =((IF(F19="j",1,0))+(IF(F19="p",1,0)))+(IF(F19=1,1,0)) -> 0 | AP19: =((IF(G19="j",1,0))+(IF(G19="p",1,0)))+(IF(G19=1,1,0)) -> 0 | AQ19: =((IF(H19="j",1,0))+(IF(H19="p",1,0)))+(IF(H19=1,1,0)) -> 0 | AR19: =((IF(I19="j",1,0))+(IF(I19="p",1,0)))+(IF(I19=1,1,0)) -> 0 | ... BD19: =((IF(U19="j",1,0))+(IF(U19="p",1,0)))+(IF(U19=1,1,0)) -> 0
V20: =SUM(AK20:BD20) -> 0 | AK20: =((IF(B20="j",1,0))+(IF(B20="p",1,0)))+(IF(B20=1,1,0)) -> 0 | AL20: =((IF(C20="j",1,0))+(IF(C20="p",1,0)))+(IF(C20=1,1,0)) -> 0 | AM20: =((IF(D20="j",1,0))+(IF(D20="p",1,0)))+(IF(D20=1,1,0)) -> 0 | AN20: =((IF(E20="j",1,0))+(IF(E20="p",1,0)))+(IF(E20=1,1,0)) -> 0 | AO20: =((IF(F20="j",1,0))+(IF(F20="p",1,0)))+(IF(F20=1,1,0)) -> 0 | AP20: =((IF(G20="j",1,0))+(IF(G20="p",1,0)))+(IF(G20=1,1,0)) -> 0 | AQ20: =((IF(H20="j",1,0))+(IF(H20="p",1,0)))+(IF(H20=1,1,0)) -> 0 | AR20: =((IF(I20="j",1,0))+(IF(I20="p",1,0)))+(IF(I20=1,1,0)) -> 0 | ... BD20: =((IF(U20="j",1,0))+(IF(U20="p",1,0)))+(IF(U20=1,1,0)) -> 0
V21: =SUM(AK21:BD21) -> 0 | AK21: =((IF(B21="j",1,0))+(IF(B21="p",1,0)))+(IF(B21=1,1,0)) -> 0 | AL21: =((IF(C21="j",1,0))+(IF(C21="p",1,0)))+(IF(C21=1,1,0)) -> 0 | AM21: =((IF(D21="j",1,0))+(IF(D21="p",1,0)))+(IF(D21=1,1,0)) -> 0 | AN21: =((IF(E21="j",1,0))+(IF(E21="p",1,0)))+(IF(E21=1,1,0)) -> 0 | AO21: =((IF(F21="j",1,0))+(IF(F21="p",1,0)))+(IF(F21=1,1,0)) -> 0 | AP21: =((IF(G21="j",1,0))+(IF(G21="p",1,0)))+(IF(G21=1,1,0)) -> 0 | AQ21: =((IF(H21="j",1,0))+(IF(H21="p",1,0)))+(IF(H21=1,1,0)) -> 0 | AR21: =((IF(I21="j",1,0))+(IF(I21="p",1,0)))+(IF(I21=1,1,0)) -> 0 | ... BD21: =((IF(U21="j",1,0))+(IF(U21="p",1,0)))+(IF(U21=1,1,0)) -> 0
V22: =SUM(AK22:BD22) -> 0 | AK22: =((IF(B22="j",1,0))+(IF(B22="p",1,0)))+(IF(B22=1,1,0)) -> 0 | AL22: =((IF(C22="j",1,0))+(IF(C22="p",1,0)))+(IF(C22=1,1,0)) -> 0 | AM22: =((IF(D22="j",1,0))+(IF(D22="p",1,0)))+(IF(D22=1,1,0)) -> 0 | AN22: =((IF(E22="j",1,0))+(IF(E22="p",1,0)))+(IF(E22=1,1,0)) -> 0 | AO22: =((IF(F22="j",1,0))+(IF(F22="p",1,0)))+(IF(F22=1,1,0)) -> 0 | AP22: =((IF(G22="j",1,0))+(IF(G22="p",1,0)))+(IF(G22=1,1,0)) -> 0 | AQ22: =((IF(H22="j",1,0))+(IF(H22="p",1,0)))+(IF(H22=1,1,0)) -> 0 | AR22: =((IF(I22="j",1,0))+(IF(I22="p",1,0)))+(IF(I22=1,1,0)) -> 0 | ... BD22: =((IF(U22="j",1,0))+(IF(U22="p",1,0)))+(IF(U22=1,1,0)) -> 0
V23: =SUM(AK23:BD23) -> 0 | AK23: =((IF(B23="j",1,0))+(IF(B23="p",1,0)))+(IF(B23=1,1,0)) -> 0 | AL23: =((IF(C23="j",1,0))+(IF(C23="p",1,0)))+(IF(C23=1,1,0)) -> 0 | AM23: =((IF(D23="j",1,0))+(IF(D23="p",1,0)))+(IF(D23=1,1,0)) -> 0 | AN23: =((IF(E23="j",1,0))+(IF(E23="p",1,0)))+(IF(E23=1,1,0)) -> 0 | AO23: =((IF(F23="j",1,0))+(IF(F23="p",1,0)))+(IF(F23=1,1,0)) -> 0 | AP23: =((IF(G23="j",1,0))+(IF(G23="p",1,0)))+(IF(G23=1,1,0)) -> 0 | AQ23: =((IF(H23="j",1,0))+(IF(H23="p",1,0)))+(IF(H23=1,1,0)) -> 0 | AR23: =((IF(I23="j",1,0))+(IF(I23="p",1,0)))+(IF(I23=1,1,0)) -> 0 | ... BD23: =((IF(U23="j",1,0))+(IF(U23="p",1,0)))+(IF(U23=1,1,0)) -> 0
... V85: =SUM(AK85:BD85) -> 0 | AK85: =((IF(B85="j",1,0))+(IF(B85="p",1,0)))+(IF(B85=1,1,0)) -> 0 | AL85: =((IF(C85="j",1,0))+(IF(C85="p",1,0)))+(IF(C85=1,1,0)) -> 0 | AM85: =((IF(D85="j",1,0))+(IF(D85="p",1,0)))+(IF(D85=1,1,0)) -> 0 | AN85: =((IF(E85="j",1,0))+(IF(E85="p",1,0)))+(IF(E85=1,1,0)) -> 0 | AO85: =((IF(F85="j",1,0))+(IF(F85="p",1,0)))+(IF(F85=1,1,0)) -> 0 | AP85: =((IF(G85="j",1,0))+(IF(G85="p",1,0)))+(IF(G85=1,1,0)) -> 0 | AQ85: =((IF(H85="j",1,0))+(IF(H85="p",1,0)))+(IF(H85=1,1,0)) -> 0 | AR85: =((IF(I85="j",1,0))+(IF(I85="p",1,0)))+(IF(I85=1,1,0)) -> 0 | ... BD85: =((IF(U85="j",1,0))+(IF(U85="p",1,0)))+(IF(U85=1,1,0)) -> 0
A86: TOTAUX | B86: =SUM(AK3:AK85) -> 0 | C86: =SUM(AL3:AL85) -> 0 | D86: =SUM(AM3:AM85) -> 0 | E86: =SUM(AN3:AN85) -> 0 | F86: =SUM(AO3:AO85) -> 0 | G86: =SUM(AP3:AP85) -> 0 | H86: =SUM(AQ3:AQ85) -> 0 | I86: =SUM(AR3:AR85) -> 0 | ... U86: =SUM(BD3:BD85) -> 0

Sheet 2ème
B1: Semaine 1 | G1: Semaine 2 | L1: Semaine 3 | Q1: Semaine 4
A2: 2ème année | B2: =Cumulatif!A4 -> 25 | C2: =Cumulatif!B4 -> 26 | D2: =Cumulatif!C4 -> 27 | E2: =Cumulatif!D4 -> 28 | F2: =Cumulatif!E4 -> 29 | G2: =Cumulatif!F4 -> 1 | H2: =Cumulatif!G4 -> 2 | I2: =Cumulatif!H4 -> 3 | ... U2: =Cumulatif!T4 -> 19
A3: ALEXIE SAVARD | V3: =SUM(AK3:BD3) -> 0 | AK3: =((IF(B3="j",1,0))+(IF(B3="p",1,0)))+(IF(B3=1,1,0)) -> 0 | AL3: =((IF(C3="j",1,0))+(IF(C3="p",1,0)))+(IF(C3=1,1,0)) -> 0 | AM3: =((IF(D3="j",1,0))+(IF(D3="p",1,0)))+(IF(D3=1,1,0)) -> 0 | AN3: =((IF(E3="j",1,0))+(IF(E3="p",1,0)))+(IF(E3=1,1,0)) -> 0 | AO3: =((IF(F3="j",1,0))+(IF(F3="p",1,0)))+(IF(F3=1,1,0)) -> 0 | AP3: =((IF(G3="j",1,0))+(IF(G3="p",1,0)))+(IF(G3=1,1,0)) -> 0 | AQ3: =((IF(H3="j",1,0))+(IF(H3="p",1,0)))+(IF(H3=1,1,0)) -> 0 | AR3: =((IF(I3="j",1,0))+(IF(I3="p",1,0)))+(IF(I3=1,1,0)) -> 0 | ... BD3: =((IF(U3="j",1,0))+(IF(U3="p",1,0)))+(IF(U3=1,1,0)) -> 0
A4: ALEXY LAROCHE | S4: 1 | V4: =SUM(AK4:BD4) -> 1 | AK4: =((IF(B4="j",1,0))+(IF(B4="p",1,0)))+(IF(B4=1,1,0)) -> 0 | AL4: =((IF(C4="j",1,0))+(IF(C4="p",1,0)))+(IF(C4=1,1,0)) -> 0 | AM4: =((IF(D4="j",1,0))+(IF(D4="p",1,0)))+(IF(D4=1,1,0)) -> 0 | AN4: =((IF(E4="j",1,0))+(IF(E4="p",1,0)))+(IF(E4=1,1,0)) -> 0 | AO4: =((IF(F4="j",1,0))+(IF(F4="p",1,0)))+(IF(F4=1,1,0)) -> 0 | AP4: =((IF(G4="j",1,0))+(IF(G4="p",1,0)))+(IF(G4=1,1,0)) -> 0 | AQ4: =((IF(H4="j",1,0))+(IF(H4="p",1,0)))+(IF(H4=1,1,0)) -> 0 | AR4: =((IF(I4="j",1,0))+(IF(I4="p",1,0)))+(IF(I4=1,1,0)) -> 0 | ... BD4: =((IF(U4="j",1,0))+(IF(U4="p",1,0)))+(IF(U4=1,1,0)) -> 0
A5: AMELIE RAYMOND | B5: 1 | C5: 1 | D5: p | E5: 1 | F5: 1 | H5: 1 | I5: 1 | J5: p | K5: 1 | L5: 1 | M5: 1 | N5: 1 | O5: p | P5: 1 | Q5: p | R5: 1 | S5: 1 | T5: 1 | V5: =SUM(AK5:BD5) -> 18 | AK5: =((IF(B5="j",1,0))+(IF(B5="p",1,0)))+(IF(B5=1,1,0)) -> 1 | AL5: =((IF(C5="j",1,0))+(IF(C5="p",1,0)))+(IF(C5=1,1,0)) -> 1 | AM5: =((IF(D5="j",1,0))+(IF(D5="p",1,0)))+(IF(D5=1,1,0)) -> 1 | AN5: =((IF(E5="j",1,0))+(IF(E5="p",1,0)))+(IF(E5=1,1,0)) -> 1 | AO5: =((IF(F5="j",1,0))+(IF(F5="p",1,0)))+(IF(F5=1,1,0)) -> 1 | AP5: =((IF(G5="j",1,0))+(IF(G5="p",1,0)))+(IF(G5=1,1,0)) -> 0 | AQ5: =((IF(H5="j",1,0))+(IF(H5="p",1,0)))+(IF(H5=1,1,0)) -> 1 | AR5: =((IF(I5="j",1,0))+(IF(I5="p",1,0)))+(IF(I5=1,1,0)) -> 1 | ... BD5: =((IF(U5="j",1,0))+(IF(U5="p",1,0)))+(IF(U5=1,1,0)) -> 0
A6: ANNA STANSWSKA | V6: =SUM(AK6:BD6) -> 0 | AK6: =((IF(B6="j",1,0))+(IF(B6="p",1,0)))+(IF(B6=1,1,0)) -> 0 | AL6: =((IF(C6="j",1,0))+(IF(C6="p",1,0)))+(IF(C6=1,1,0)) -> 0 | AM6: =((IF(D6="j",1,0))+(IF(D6="p",1,0)))+(IF(D6=1,1,0)) -> 0 | AN6: =((IF(E6="j",1,0))+(IF(E6="p",1,0)))+(IF(E6=1,1,0)) -> 0 | AO6: =((IF(F6="j",1,0))+(IF(F6="p",1,0)))+(IF(F6=1,1,0)) -> 0 | AP6: =((IF(G6="j",1,0))+(IF(G6="p",1,0)))+(IF(G6=1,1,0)) -> 0 | AQ6: =((IF(H6="j",1,0))+(IF(H6="p",1,0)))+(IF(H6=1,1,0)) -> 0 | AR6: =((IF(I6="j",1,0))+(IF(I6="p",1,0)))+(IF(I6=1,1,0)) -> 0 | ... BD6: =((IF(U6="j",1,0))+(IF(U6="p",1,0)))+(IF(U6=1,1,0)) -> 0
A7: CHARLOTTE QUIRION | V7: =SUM(AK7:BD7) -> 0 | AK7: =((IF(B7="j",1,0))+(IF(B7="p",1,0)))+(IF(B7=1,1,0)) -> 0 | AL7: =((IF(C7="j",1,0))+(IF(C7="p",1,0)))+(IF(C7=1,1,0)) -> 0 | AM7: =((IF(D7="j",1,0))+(IF(D7="p",1,0)))+(IF(D7=1,1,0)) -> 0 | AN7: =((IF(E7="j",1,0))+(IF(E7="p",1,0)))+(IF(E7=1,1,0)) -> 0 | AO7: =((IF(F7="j",1,0))+(IF(F7="p",1,0)))+(IF(F7=1,1,0)) -> 0 | AP7: =((IF(G7="j",1,0))+(IF(G7="p",1,0)))+(IF(G7=1,1,0)) -> 0 | AQ7: =((IF(H7="j",1,0))+(IF(H7="p",1,0)))+(IF(H7=1,1,0)) -> 0 | AR7: =((IF(I7="j",1,0))+(IF(I7="p",1,0)))+(IF(I7=1,1,0)) -> 0 | ... BD7: =((IF(U7="j",1,0))+(IF(U7="p",1,0)))+(IF(U7=1,1,0)) -> 0
A8: DAVID GRENIER | V8: =SUM(AK8:BD8) -> 0 | AK8: =((IF(B8="j",1,0))+(IF(B8="p",1,0)))+(IF(B8=1,1,0)) -> 0 | AL8: =((IF(C8="j",1,0))+(IF(C8="p",1,0)))+(IF(C8=1,1,0)) -> 0 | AM8: =((IF(D8="j",1,0))+(IF(D8="p",1,0)))+(IF(D8=1,1,0)) -> 0 | AN8: =((IF(E8="j",1,0))+(IF(E8="p",1,0)))+(IF(E8=1,1,0)) -> 0 | AO8: =((IF(F8="j",1,0))+(IF(F8="p",1,0)))+(IF(F8=1,1,0)) -> 0 | AP8: =((IF(G8="j",1,0))+(IF(G8="p",1,0)))+(IF(G8=1,1,0)) -> 0 | AQ8: =((IF(H8="j",1,0))+(IF(H8="p",1,0)))+(IF(H8=1,1,0)) -> 0 | AR8: =((IF(I8="j",1,0))+(IF(I8="p",1,0)))+(IF(I8=1,1,0)) -> 0 | ... BD8: =((IF(U8="j",1,0))+(IF(U8="p",1,0)))+(IF(U8=1,1,0)) -> 0
A9: Dolly Priscilla-Peres | C9: 1 | D9: 1 | H9: 1 | I9: 1 | M9: 1 | N9: 1 | R9: 1 | S9: 1 | V9: =SUM(AK9:BD9) -> 8 | AK9: =((IF(B9="j",1,0))+(IF(B9="p",1,0)))+(IF(B9=1,1,0)) -> 0 | AL9: =((IF(C9="j",1,0))+(IF(C9="p",1,0)))+(IF(C9=1,1,0)) -> 1 | AM9: =((IF(D9="j",1,0))+(IF(D9="p",1,0)))+(IF(D9=1,1,0)) -> 1 | AN9: =((IF(E9="j",1,0))+(IF(E9="p",1,0)))+(IF(E9=1,1,0)) -> 0 | AO9: =((IF(F9="j",1,0))+(IF(F9="p",1,0)))+(IF(F9=1,1,0)) -> 0 | AP9: =((IF(G9="j",1,0))+(IF(G9="p",1,0)))+(IF(G9=1,1,0)) -> 0 | AQ9: =((IF(H9="j",1,0))+(IF(H9="p",1,0)))+(IF(H9=1,1,0)) -> 1 | AR9: =((IF(I9="j",1,0))+(IF(I9="p",1,0)))+(IF(I9=1,1,0)) -> 1 | ... BD9: =((IF(U9="j",1,0))+(IF(U9="p",1,0)))+(IF(U9=1,1,0)) -> 0
A10: EMA LANDRY PAQUETTE | V10: =SUM(AK10:BD10) -> 0 | AK10: =((IF(B10="j",1,0))+(IF(B10="p",1,0)))+(IF(B10=1,1,0)) -> 0 | AL10: =((IF(C10="j",1,0))+(IF(C10="p",1,0)))+(IF(C10=1,1,0)) -> 0 | AM10: =((IF(D10="j",1,0))+(IF(D10="p",1,0)))+(IF(D10=1,1,0)) -> 0 | AN10: =((IF(E10="j",1,0))+(IF(E10="p",1,0)))+(IF(E10=1,1,0)) -> 0 | AO10: =((IF(F10="j",1,0))+(IF(F10="p",1,0)))+(IF(F10=1,1,0)) -> 0 | AP10: =((IF(G10="j",1,0))+(IF(G10="p",1,0)))+(IF(G10=1,1,0)) -> 0 | AQ10: =((IF(H10="j",1,0))+(IF(H10="p",1,0)))+(IF(H10=1,1,0)) -> 0 | AR10: =((IF(I10="j",1,0))+(IF(I10="p",1,0)))+(IF(I10=1,1,0)) -> 0 | ... BD10: =((IF(U10="j",1,0))+(IF(U10="p",1,0)))+(IF(U10=1,1,0)) -> 0
A11: FÉLICIE LALANCETTE | V11: =SUM(AK11:BD11) -> 0 | AK11: =((IF(B11="j",1,0))+(IF(B11="p",1,0)))+(IF(B11=1,1,0)) -> 0 | AL11: =((IF(C11="j",1,0))+(IF(C11="p",1,0)))+(IF(C11=1,1,0)) -> 0 | AM11: =((IF(D11="j",1,0))+(IF(D11="p",1,0)))+(IF(D11=1,1,0)) -> 0 | AN11: =((IF(E11="j",1,0))+(IF(E11="p",1,0)))+(IF(E11=1,1,0)) -> 0 | AO11: =((IF(F11="j",1,0))+(IF(F11="p",1,0)))+(IF(F11=1,1,0)) -> 0 | AP11: =((IF(G11="j",1,0))+(IF(G11="p",1,0)))+(IF(G11=1,1,0)) -> 0 | AQ11: =((IF(H11="j",1,0))+(IF(H11="p",1,0)))+(IF(H11=1,1,0)) -> 0 | AR11: =((IF(I11="j",1,0))+(IF(I11="p",1,0)))+(IF(I11=1,1,0)) -> 0 | ... BD11: =((IF(U11="j",1,0))+(IF(U11="p",1,0)))+(IF(U11=1,1,0)) -> 0
A12: JASMINE LAHMANI | S12: 1 | V12: =SUM(AK12:BD12) -> 1 | AK12: =((IF(B12="j",1,0))+(IF(B12="p",1,0)))+(IF(B12=1,1,0)) -> 0 | AL12: =((IF(C12="j",1,0))+(IF(C12="p",1,0)))+(IF(C12=1,1,0)) -> 0 | AM12: =((IF(D12="j",1,0))+(IF(D12="p",1,0)))+(IF(D12=1,1,0)) -> 0 | AN12: =((IF(E12="j",1,0))+(IF(E12="p",1,0)))+(IF(E12=1,1,0)) -> 0 | AO12: =((IF(F12="j",1,0))+(IF(F12="p",1,0)))+(IF(F12=1,1,0)) -> 0 | AP12: =((IF(G12="j",1,0))+(IF(G12="p",1,0)))+(IF(G12=1,1,0)) -> 0 | AQ12: =((IF(H12="j",1,0))+(IF(H12="p",1,0)))+(IF(H12=1,1,0)) -> 0 | AR12: =((IF(I12="j",1,0))+(IF(I12="p",1,0)))+(IF(I12=1,1,0)) -> 0 | ... BD12: =((IF(U12="j",1,0))+(IF(U12="p",1,0)))+(IF(U12=1,1,0)) -> 0
A13: LÉA GENTES | V13: =SUM(AK13:BD13) -> 0 | AK13: =((IF(B13="j",1,0))+(IF(B13="p",1,0)))+(IF(B13=1,1,0)) -> 0 | AL13: =((IF(C13="j",1,0))+(IF(C13="p",1,0)))+(IF(C13=1,1,0)) -> 0 | AM13: =((IF(D13="j",1,0))+(IF(D13="p",1,0)))+(IF(D13=1,1,0)) -> 0 | AN13: =((IF(E13="j",1,0))+(IF(E13="p",1,0)))+(IF(E13=1,1,0)) -> 0 | AO13: =((IF(F13="j",1,0))+(IF(F13="p",1,0)))+(IF(F13=1,1,0)) -> 0 | AP13: =((IF(G13="j",1,0))+(IF(G13="p",1,0)))+(IF(G13=1,1,0)) -> 0 | AQ13: =((IF(H13="j",1,0))+(IF(H13="p",1,0)))+(IF(H13=1,1,0)) -> 0 | AR13: =((IF(I13="j",1,0))+(IF(I13="p",1,0)))+(IF(I13=1,1,0)) -> 0 | ... BD13: =((IF(U13="j",1,0))+(IF(U13="p",1,0)))+(IF(U13=1,1,0)) -> 0
A14: LÉA PLANTE-CARRIÈRE | V14: =SUM(AK14:BD14) -> 0 | AK14: =((IF(B14="j",1,0))+(IF(B14="p",1,0)))+(IF(B14=1,1,0)) -> 0 | AL14: =((IF(C14="j",1,0))+(IF(C14="p",1,0)))+(IF(C14=1,1,0)) -> 0 | AM14: =((IF(D14="j",1,0))+(IF(D14="p",1,0)))+(IF(D14=1,1,0)) -> 0 | AN14: =((IF(E14="j",1,0))+(IF(E14="p",1,0)))+(IF(E14=1,1,0)) -> 0 | AO14: =((IF(F14="j",1,0))+(IF(F14="p",1,0)))+(IF(F14=1,1,0)) -> 0 | AP14: =((IF(G14="j",1,0))+(IF(G14="p",1,0)))+(IF(G14=1,1,0)) -> 0 | AQ14: =((IF(H14="j",1,0))+(IF(H14="p",1,0)))+(IF(H14=1,1,0)) -> 0 | AR14: =((IF(I14="j",1,0))+(IF(I14="p",1,0)))+(IF(I14=1,1,0)) -> 0 | ... BD14: =((IF(U14="j",1,0))+(IF(U14="p",1,0)))+(IF(U14=1,1,0)) -> 0
A15: MARTIN LECLERC | V15: =SUM(AK15:BD15) -> 0 | AK15: =((IF(B15="j",1,0))+(IF(B15="p",1,0)))+(IF(B15=1,1,0)) -> 0 | AL15: =((IF(C15="j",1,0))+(IF(C15="p",1,0)))+(IF(C15=1,1,0)) -> 0 | AM15: =((IF(D15="j",1,0))+(IF(D15="p",1,0)))+(IF(D15=1,1,0)) -> 0 | AN15: =((IF(E15="j",1,0))+(IF(E15="p",1,0)))+(IF(E15=1,1,0)) -> 0 | AO15: =((IF(F15="j",1,0))+(IF(F15="p",1,0)))+(IF(F15=1,1,0)) -> 0 | AP15: =((IF(G15="j",1,0))+(IF(G15="p",1,0)))+(IF(G15=1,1,0)) -> 0 | AQ15: =((IF(H15="j",1,0))+(IF(H15="p",1,0)))+(IF(H15=1,1,0)) -> 0 | AR15: =((IF(I15="j",1,0))+(IF(I15="p",1,0)))+(IF(I15=1,1,0)) -> 0 | ... BD15: =((IF(U15="j",1,0))+(IF(U15="p",1,0)))+(IF(U15=1,1,0)) -> 0
A16: MEGANE BERGERON | V16: =SUM(AK16:BD16) -> 0 | AK16: =((IF(B16="j",1,0))+(IF(B16="p",1,0)))+(IF(B16=1,1,0)) -> 0 | AL16: =((IF(C16="j",1,0))+(IF(C16="p",1,0)))+(IF(C16=1,1,0)) -> 0 | AM16: =((IF(D16="j",1,0))+(IF(D16="p",1,0)))+(IF(D16=1,1,0)) -> 0 | AN16: =((IF(E16="j",1,0))+(IF(E16="p",1,0)))+(IF(E16=1,1,0)) -> 0 | AO16: =((IF(F16="j",1,0))+(IF(F16="p",1,0)))+(IF(F16=1,1,0)) -> 0 | AP16: =((IF(G16="j",1,0))+(IF(G16="p",1,0)))+(IF(G16=1,1,0)) -> 0 | AQ16: =((IF(H16="j",1,0))+(IF(H16="p",1,0)))+(IF(H16=1,1,0)) -> 0 | AR16: =((IF(I16="j",1,0))+(IF(I16="p",1,0)))+(IF(I16=1,1,0)) -> 0 | ... BD16: =((IF(U16="j",1,0))+(IF(U16="p",1,0)))+(IF(U16=1,1,0)) -> 0
A17: MEGANE DOYON | S17: 1 | V17: =SUM(AK17:BD17) -> 1 | AK17: =((IF(B17="j",1,0))+(IF(B17="p",1,0)))+(IF(B17=1,1,0)) -> 0 | AL17: =((IF(C17="j",1,0))+(IF(C17="p",1,0)))+(IF(C17=1,1,0)) -> 0 | AM17: =((IF(D17="j",1,0))+(IF(D17="p",1,0)))+(IF(D17=1,1,0)) -> 0 | AN17: =((IF(E17="j",1,0))+(IF(E17="p",1,0)))+(IF(E17=1,1,0)) -> 0 | AO17: =((IF(F17="j",1,0))+(IF(F17="p",1,0)))+(IF(F17=1,1,0)) -> 0 | AP17: =((IF(G17="j",1,0))+(IF(G17="p",1,0)))+(IF(G17=1,1,0)) -> 0 | AQ17: =((IF(H17="j",1,0))+(IF(H17="p",1,0)))+(IF(H17=1,1,0)) -> 0 | AR17: =((IF(I17="j",1,0))+(IF(I17="p",1,0)))+(IF(I17=1,1,0)) -> 0 | ... BD17: =((IF(U17="j",1,0))+(IF(U17="p",1,0)))+(IF(U17=1,1,0)) -> 0
A18: NOVALIE BOURGAULT | V18: =SUM(AK18:BD18) -> 0 | AK18: =((IF(B18="j",1,0))+(IF(B18="p",1,0)))+(IF(B18=1,1,0)) -> 0 | AL18: =((IF(C18="j",1,0))+(IF(C18="p",1,0)))+(IF(C18=1,1,0)) -> 0 | AM18: =((IF(D18="j",1,0))+(IF(D18="p",1,0)))+(IF(D18=1,1,0)) -> 0 | AN18: =((IF(E18="j",1,0))+(IF(E18="p",1,0)))+(IF(E18=1,1,0)) -> 0 | AO18: =((IF(F18="j",1,0))+(IF(F18="p",1,0)))+(IF(F18=1,1,0)) -> 0 | AP18: =((IF(G18="j",1,0))+(IF(G18="p",1,0)))+(IF(G18=1,1,0)) -> 0 | AQ18: =((IF(H18="j",1,0))+(IF(H18="p",1,0)))+(IF(H18=1,1,0)) -> 0 | AR18: =((IF(I18="j",1,0))+(IF(I18="p",1,0)))+(IF(I18=1,1,0)) -> 0 | ... BD18: =((IF(U18="j",1,0))+(IF(U18="p",1,0)))+(IF(U18=1,1,0)) -> 0
A19: VINCENT DENAULT | S19: 1 | V19: =SUM(AK19:BD19) -> 1 | AK19: =((IF(B19="j",1,0))+(IF(B19="p",1,0)))+(IF(B19=1,1,0)) -> 0 | AL19: =((IF(C19="j",1,0))+(IF(C19="p",1,0)))+(IF(C19=1,1,0)) -> 0 | AM19: =((IF(D19="j",1,0))+(IF(D19="p",1,0)))+(IF(D19=1,1,0)) -> 0 | AN19: =((IF(E19="j",1,0))+(IF(E19="p",1,0)))+(IF(E19=1,1,0)) -> 0 | AO19: =((IF(F19="j",1,0))+(IF(F19="p",1,0)))+(IF(F19=1,1,0)) -> 0 | AP19: =((IF(G19="j",1,0))+(IF(G19="p",1,0)))+(IF(G19=1,1,0)) -> 0 | AQ19: =((IF(H19="j",1,0))+(IF(H19="p",1,0)))+(IF(H19=1,1,0)) -> 0 | AR19: =((IF(I19="j",1,0))+(IF(I19="p",1,0)))+(IF(I19=1,1,0)) -> 0 | ... BD19: =((IF(U19="j",1,0))+(IF(U19="p",1,0)))+(IF(U19=1,1,0)) -> 0
A20: VIVIANE LAMBERT | V20: =SUM(AK20:BD20) -> 0 | AK20: =((IF(B20="j",1,0))+(IF(B20="p",1,0)))+(IF(B20=1,1,0)) -> 0 | AL20: =((IF(C20="j",1,0))+(IF(C20="p",1,0)))+(IF(C20=1,1,0)) -> 0 | AM20: =((IF(D20="j",1,0))+(IF(D20="p",1,0)))+(IF(D20=1,1,0)) -> 0 | AN20: =((IF(E20="j",1,0))+(IF(E20="p",1,0)))+(IF(E20=1,1,0)) -> 0 | AO20: =((IF(F20="j",1,0))+(IF(F20="p",1,0)))+(IF(F20=1,1,0)) -> 0 | AP20: =((IF(G20="j",1,0))+(IF(G20="p",1,0)))+(IF(G20=1,1,0)) -> 0 | AQ20: =((IF(H20="j",1,0))+(IF(H20="p",1,0)))+(IF(H20=1,1,0)) -> 0 | AR20: =((IF(I20="j",1,0))+(IF(I20="p",1,0)))+(IF(I20=1,1,0)) -> 0 | ... BD20: =((IF(U20="j",1,0))+(IF(U20="p",1,0)))+(IF(U20=1,1,0)) -> 0
V21: =SUM(AK21:BD21) -> 0 | AK21: =((IF(B21="j",1,0))+(IF(B21="p",1,0)))+(IF(B21=1,1,0)) -> 0 | AL21: =((IF(C21="j",1,0))+(IF(C21="p",1,0)))+(IF(C21=1,1,0)) -> 0 | AM21: =((IF(D21="j",1,0))+(IF(D21="p",1,0)))+(IF(D21=1,1,0)) -> 0 | AN21: =((IF(E21="j",1,0))+(IF(E21="p",1,0)))+(IF(E21=1,1,0)) -> 0 | AO21: =((IF(F21="j",1,0))+(IF(F21="p",1,0)))+(IF(F21=1,1,0)) -> 0 | AP21: =((IF(G21="j",1,0))+(IF(G21="p",1,0)))+(IF(G21=1,1,0)) -> 0 | AQ21: =((IF(H21="j",1,0))+(IF(H21="p",1,0)))+(IF(H21=1,1,0)) -> 0 | AR21: =((IF(I21="j",1,0))+(IF(I21="p",1,0)))+(IF(I21=1,1,0)) -> 0 | ... BD21: =((IF(U21="j",1,0))+(IF(U21="p",1,0)))+(IF(U21=1,1,0)) -> 0
V22: =SUM(AK22:BD22) -> 0 | AK22: =((IF(B22="j",1,0))+(IF(B22="p",1,0)))+(IF(B22=1,1,0)) -> 0 | AL22: =((IF(C22="j",1,0))+(IF(C22="p",1,0)))+(IF(C22=1,1,0)) -> 0 | AM22: =((IF(D22="j",1,0))+(IF(D22="p",1,0)))+(IF(D22=1,1,0)) -> 0 | AN22: =((IF(E22="j",1,0))+(IF(E22="p",1,0)))+(IF(E22=1,1,0)) -> 0 | AO22: =((IF(F22="j",1,0))+(IF(F22="p",1,0)))+(IF(F22=1,1,0)) -> 0 | AP22: =((IF(G22="j",1,0))+(IF(G22="p",1,0)))+(IF(G22=1,1,0)) -> 0 | AQ22: =((IF(H22="j",1,0))+(IF(H22="p",1,0)))+(IF(H22=1,1,0)) -> 0 | AR22: =((IF(I22="j",1,0))+(IF(I22="p",1,0)))+(IF(I22=1,1,0)) -> 0 | ... BD22: =((IF(U22="j",1,0))+(IF(U22="p",1,0)))+(IF(U22=1,1,0)) -> 0
V23: =SUM(AK23:BD23) -> 0 | AK23: =((IF(B23="j",1,0))+(IF(B23="p",1,0)))+(IF(B23=1,1,0)) -> 0 | AL23: =((IF(C23="j",1,0))+(IF(C23="p",1,0)))+(IF(C23=1,1,0)) -> 0 | AM23: =((IF(D23="j",1,0))+(IF(D23="p",1,0)))+(IF(D23=1,1,0)) -> 0 | AN23: =((IF(E23="j",1,0))+(IF(E23="p",1,0)))+(IF(E23=1,1,0)) -> 0 | AO23: =((IF(F23="j",1,0))+(IF(F23="p",1,0)))+(IF(F23=1,1,0)) -> 0 | AP23: =((IF(G23="j",1,0))+(IF(G23="p",1,0)))+(IF(G23=1,1,0)) -> 0 | AQ23: =((IF(H23="j",1,0))+(IF(H23="p",1,0)))+(IF(H23=1,1,0)) -> 0 | AR23: =((IF(I23="j",1,0))+(IF(I23="p",1,0)))+(IF(I23=1,1,0)) -> 0 | ... BD23: =((IF(U23="j",1,0))+(IF(U23="p",1,0)))+(IF(U23=1,1,0)) -> 0
V24: =SUM(AK24:BD24) -> 0 | AK24: =((IF(B24="j",1,0))+(IF(B24="p",1,0)))+(IF(B24=1,1,0)) -> 0 | AL24: =((IF(C24="j",1,0))+(IF(C24="p",1,0)))+(IF(C24=1,1,0)) -> 0 | AM24: =((IF(D24="j",1,0))+(IF(D24="p",1,0)))+(IF(D24=1,1,0)) -> 0 | AN24: =((IF(E24="j",1,0))+(IF(E24="p",1,0)))+(IF(E24=1,1,0)) -> 0 | AO24: =((IF(F24="j",1,0))+(IF(F24="p",1,0)))+(IF(F24=1,1,0)) -> 0 | AP24: =((IF(G24="j",1,0))+(IF(G24="p",1,0)))+(IF(G24=1,1,0)) -> 0 | AQ24: =((IF(H24="j",1,0))+(IF(H24="p",1,0)))+(IF(H24=1,1,0)) -> 0 | AR24: =((IF(I24="j",1,0))+(IF(I24="p",1,0)))+(IF(I24=1,1,0)) -> 0 | ... BD24: =((IF(U24="j",1,0))+(IF(U24="p",1,0)))+(IF(U24=1,1,0)) -> 0
V25: =SUM(AK25:BD25) -> 0 | AK25: =((IF(B25="j",1,0))+(IF(B25="p",1,0)))+(IF(B25=1,1,0)) -> 0 | AL25: =((IF(C25="j",1,0))+(IF(C25="p",1,0)))+(IF(C25=1,1,0)) -> 0 | AM25: =((IF(D25="j",1,0))+(IF(D25="p",1,0)))+(IF(D25=1,1,0)) -> 0 | AN25: =((IF(E25="j",1,0))+(IF(E25="p",1,0)))+(IF(E25=1,1,0)) -> 0 | AO25: =((IF(F25="j",1,0))+(IF(F25="p",1,0)))+(IF(F25=1,1,0)) -> 0 | AP25: =((IF(G25="j",1,0))+(IF(G25="p",1,0)))+(IF(G25=1,1,0)) -> 0 | AQ25: =((IF(H25="j",1,0))+(IF(H25="p",1,0)))+(IF(H25=1,1,0)) -> 0 | AR25: =((IF(I25="j",1,0))+(IF(I25="p",1,0)))+(IF(I25=1,1,0)) -> 0 | ... BD25: =((IF(U25="j",1,0))+(IF(U25="p",1,0)))+(IF(U25=1,1,0)) -> 0
V26: =SUM(AK26:BD26) -> 0 | AK26: =((IF(B26="j",1,0))+(IF(B26="p",1,0)))+(IF(B26=1,1,0)) -> 0 | AL26: =((IF(C26="j",1,0))+(IF(C26="p",1,0)))+(IF(C26=1,1,0)) -> 0 | AM26: =((IF(D26="j",1,0))+(IF(D26="p",1,0)))+(IF(D26=1,1,0)) -> 0 | AN26: =((IF(E26="j",1,0))+(IF(E26="p",1,0)))+(IF(E26=1,1,0)) -> 0 | AO26: =((IF(F26="j",1,0))+(IF(F26="p",1,0)))+(IF(F26=1,1,0)) -> 0 | AP26: =((IF(G26="j",1,0))+(IF(G26="p",1,0)))+(IF(G26=1,1,0)) -> 0 | AQ26: =((IF(H26="j",1,0))+(IF(H26="p",1,0)))+(IF(H26=1,1,0)) -> 0 | AR26: =((IF(I26="j",1,0))+(IF(I26="p",1,0)))+(IF(I26=1,1,0)) -> 0 | ... BD26: =((IF(U26="j",1,0))+(IF(U26="p",1,0)))+(IF(U26=1,1,0)) -> 0
V27: =SUM(AK27:BD27) -> 0 | AK27: =((IF(B27="j",1,0))+(IF(B27="p",1,0)))+(IF(B27=1,1,0)) -> 0 | AL27: =((IF(C27="j",1,0))+(IF(C27="p",1,0)))+(IF(C27=1,1,0)) -> 0 | AM27: =((IF(D27="j",1,0))+(IF(D27="p",1,0)))+(IF(D27=1,1,0)) -> 0 | AN27: =((IF(E27="j",1,0))+(IF(E27="p",1,0)))+(IF(E27=1,1,0)) -> 0 | AO27: =((IF(F27="j",1,0))+(IF(F27="p",1,0)))+(IF(F27=1,1,0)) -> 0 | AP27: =((IF(G27="j",1,0))+(IF(G27="p",1,0)))+(IF(G27=1,1,0)) -> 0 | AQ27: =((IF(H27="j",1,0))+(IF(H27="p",1,0)))+(IF(H27=1,1,0)) -> 0 | AR27: =((IF(I27="j",1,0))+(IF(I27="p",1,0)))+(IF(I27=1,1,0)) -> 0 | ... BD27: =((IF(U27="j",1,0))+(IF(U27="p",1,0)))+(IF(U27=1,1,0)) -> 0
V28: =SUM(AK28:BD28) -> 0 | AK28: =((IF(B28="j",1,0))+(IF(B28="p",1,0)))+(IF(B28=1,1,0)) -> 0 | AL28: =((IF(C28="j",1,0))+(IF(C28="p",1,0)))+(IF(C28=1,1,0)) -> 0 | AM28: =((IF(D28="j",1,0))+(IF(D28="p",1,0)))+(IF(D28=1,1,0)) -> 0 | AN28: =((IF(E28="j",1,0))+(IF(E28="p",1,0)))+(IF(E28=1,1,0)) -> 0 | AO28: =((IF(F28="j",1,0))+(IF(F28="p",1,0)))+(IF(F28=1,1,0)) -> 0 | AP28: =((IF(G28="j",1,0))+(IF(G28="p",1,0)))+(IF(G28=1,1,0)) -> 0 | AQ28: =((IF(H28="j",1,0))+(IF(H28="p",1,0)))+(IF(H28=1,1,0)) -> 0 | AR28: =((IF(I28="j",1,0))+(IF(I28="p",1,0)))+(IF(I28=1,1,0)) -> 0 | ... BD28: =((IF(U28="j",1,0))+(IF(U28="p",1,0)))+(IF(U28=1,1,0)) -> 0
V29: =SUM(AK29:BD29) -> 0 | AK29: =((IF(B29="j",1,0))+(IF(B29="p",1,0)))+(IF(B29=1,1,0)) -> 0 | AL29: =((IF(C29="j",1,0))+(IF(C29="p",1,0)))+(IF(C29=1,1,0)) -> 0 | AM29: =((IF(D29="j",1,0))+(IF(D29="p",1,0)))+(IF(D29=1,1,0)) -> 0 | AN29: =((IF(E29="j",1,0))+(IF(E29="p",1,0)))+(IF(E29=1,1,0)) -> 0 | AO29: =((IF(F29="j",1,0))+(IF(F29="p",1,0)))+(IF(F29=1,1,0)) -> 0 | AP29: =((IF(G29="j",1,0))+(IF(G29="p",1,0)))+(IF(G29=1,1,0)) -> 0 | AQ29: =((IF(H29="j",1,0))+(IF(H29="p",1,0)))+(IF(H29=1,1,0)) -> 0 | AR29: =((IF(I29="j",1,0))+(IF(I29="p",1,0)))+(IF(I29=1,1,0)) -> 0 | ... BD29: =((IF(U29="j",1,0))+(IF(U29="p",1,0)))+(IF(U29=1,1,0)) -> 0
V30: =SUM(AK30:BD30) -> 0 | AK30: =((IF(B30="j",1,0))+(IF(B30="p",1,0)))+(IF(B30=1,1,0)) -> 0 | AL30: =((IF(C30="j",1,0))+(IF(C30="p",1,0)))+(IF(C30=1,1,0)) -> 0 | AM30: =((IF(D30="j",1,0))+(IF(D30="p",1,0)))+(IF(D30=1,1,0)) -> 0 | AN30: =((IF(E30="j",1,0))+(IF(E30="p",1,0)))+(IF(E30=1,1,0)) -> 0 | AO30: =((IF(F30="j",1,0))+(IF(F30="p",1,0)))+(IF(F30=1,1,0)) -> 0 | AP30: =((IF(G30="j",1,0))+(IF(G30="p",1,0)))+(IF(G30=1,1,0)) -> 0 | AQ30: =((IF(H30="j",1,0))+(IF(H30="p",1,0)))+(IF(H30=1,1,0)) -> 0 | AR30: =((IF(I30="j",1,0))+(IF(I30="p",1,0)))+(IF(I30=1,1,0)) -> 0 | ... BD30: =((IF(U30="j",1,0))+(IF(U30="p",1,0)))+(IF(U30=1,1,0)) -> 0
V31: =SUM(AK31:BD31) -> 0 | AK31: =((IF(B31="j",1,0))+(IF(B31="p",1,0)))+(IF(B31=1,1,0)) -> 0 | AL31: =((IF(C31="j",1,0))+(IF(C31="p",1,0)))+(IF(C31=1,1,0)) -> 0 | AM31: =((IF(D31="j",1,0))+(IF(D31="p",1,0)))+(IF(D31=1,1,0)) -> 0 | AN31: =((IF(E31="j",1,0))+(IF(E31="p",1,0)))+(IF(E31=1,1,0)) -> 0 | AO31: =((IF(F31="j",1,0))+(IF(F31="p",1,0)))+(IF(F31=1,1,0)) -> 0 | AP31: =((IF(G31="j",1,0))+(IF(G31="p",1,0)))+(IF(G31=1,1,0)) -> 0 | AQ31: =((IF(H31="j",1,0))+(IF(H31="p",1,0)))+(IF(H31=1,1,0)) -> 0 | AR31: =((IF(I31="j",1,0))+(IF(I31="p",1,0)))+(IF(I31=1,1,0)) -> 0 | ... BD31: =((IF(U31="j",1,0))+(IF(U31="p",1,0)))+(IF(U31=1,1,0)) -> 0
V32: =SUM(AK32:BD32) -> 0 | AK32: =((IF(B32="j",1,0))+(IF(B32="p",1,0)))+(IF(B32=1,1,0)) -> 0 | AL32: =((IF(C32="j",1,0))+(IF(C32="p",1,0)))+(IF(C32=1,1,0)) -> 0 | AM32: =((IF(D32="j",1,0))+(IF(D32="p",1,0)))+(IF(D32=1,1,0)) -> 0 | AN32: =((IF(E32="j",1,0))+(IF(E32="p",1,0)))+(IF(E32=1,1,0)) -> 0 | AO32: =((IF(F32="j",1,0))+(IF(F32="p",1,0)))+(IF(F32=1,1,0)) -> 0 | AP32: =((IF(G32="j",1,0))+(IF(G32="p",1,0)))+(IF(G32=1,1,0)) -> 0 | AQ32: =((IF(H32="j",1,0))+(IF(H32="p",1,0)))+(IF(H32=1,1,0)) -> 0 | AR32: =((IF(I32="j",1,0))+(IF(I32="p",1,0)))+(IF(I32=1,1,0)) -> 0 | ... BD32: =((IF(U32="j",1,0))+(IF(U32="p",1,0)))+(IF(U32=1,1,0)) -> 0
... V85: =SUM(AK85:BD85) -> 0 | AK85: =((IF(B85="j",1,0))+(IF(B85="p",1,0)))+(IF(B85=1,1,0)) -> 0 | AL85: =((IF(C85="j",1,0))+(IF(C85="p",1,0)))+(IF(C85=1,1,0)) -> 0 | AM85: =((IF(D85="j",1,0))+(IF(D85="p",1,0)))+(IF(D85=1,1,0)) -> 0 | AN85: =((IF(E85="j",1,0))+(IF(E85="p",1,0)))+(IF(E85=1,1,0)) -> 0 | AO85: =((IF(F85="j",1,0))+(IF(F85="p",1,0)))+(IF(F85=1,1,0)) -> 0 | AP85: =((IF(G85="j",1,0))+(IF(G85="p",1,0)))+(IF(G85=1,1,0)) -> 0 | AQ85: =((IF(H85="j",1,0))+(IF(H85="p",1,0)))+(IF(H85=1,1,0)) -> 0 | AR85: =((IF(I85="j",1,0))+(IF(I85="p",1,0)))+(IF(I85=1,1,0)) -> 0 | ... BD85: =((IF(U85="j",1,0))+(IF(U85="p",1,0)))+(IF(U85=1,1,0)) -> 0
A86: TOTAUX | B86: =SUM(AK3:AK85) -> 1 | C86: =SUM(AL3:AL85) -> 2 | D86: =SUM(AM3:AM85) -> 2 | E86: =SUM(AN3:AN85) -> 1 | F86: =SUM(AO3:AO85) -> 1 | G86: =SUM(AP3:AP85) -> 0 | H86: =SUM(AQ3:AQ85) -> 2 | I86: =SUM(AR3:AR85) -> 2 | ... U86: =SUM(BD3:BD85) -> 0

Sheet 3ème
B1: Semaine 1 | G1: Semaine 2 | L1: Semaine 3 | Q1: Semaine 4
A2: 3ème année | B2: =Cumulatif!A4 -> 25 | C2: =Cumulatif!B4 -> 26 | D2: =Cumulatif!C4 -> 27 | E2: =Cumulatif!D4 -> 28 | F2: =Cumulatif!E4 -> 29 | G2: =Cumulatif!F4 -> 1 | H2: =Cumulatif!G4 -> 2 | I2: =Cumulatif!H4 -> 3 | ... U2: =Cumulatif!T4 -> 19
A3: ALEXI ROY | V3: =SUM(AK3:BD3) -> 0 | AK3: =((IF(B3="j",1,0))+(IF(B3="p",1,0)))+(IF(B3=1,1,0)) -> 0 | AL3: =((IF(C3="j",1,0))+(IF(C3="p",1,0)))+(IF(C3=1,1,0)) -> 0 | AM3: =((IF(D3="j",1,0))+(IF(D3="p",1,0)))+(IF(D3=1,1,0)) -> 0 | AN3: =((IF(E3="j",1,0))+(IF(E3="p",1,0)))+(IF(E3=1,1,0)) -> 0 | AO3: =((IF(F3="j",1,0))+(IF(F3="p",1,0)))+(IF(F3=1,1,0)) -> 0 | AP3: =((IF(G3="j",1,0))+(IF(G3="p",1,0)))+(IF(G3=1,1,0)) -> 0 | AQ3: =((IF(H3="j",1,0))+(IF(H3="p",1,0)))+(IF(H3=1,1,0)) -> 0 | AR3: =((IF(I3="j",1,0))+(IF(I3="p",1,0)))+(IF(I3=1,1,0)) -> 0 | ... BD3: =((IF(U3="j",1,0))+(IF(U3="p",1,0)))+(IF(U3=1,1,0)) -> 0
A4: BENJAMIN CLICHÉ | V4: =SUM(AK4:BD4) -> 0 | AK4: =((IF(B4="j",1,0))+(IF(B4="p",1,0)))+(IF(B4=1,1,0)) -> 0 | AL4: =((IF(C4="j",1,0))+(IF(C4="p",1,0)))+(IF(C4=1,1,0)) -> 0 | AM4: =((IF(D4="j",1,0))+(IF(D4="p",1,0)))+(IF(D4=1,1,0)) -> 0 | AN4: =((IF(E4="j",1,0))+(IF(E4="p",1,0)))+(IF(E4=1,1,0)) -> 0 | AO4: =((IF(F4="j",1,0))+(IF(F4="p",1,0)))+(IF(F4=1,1,0)) -> 0 | AP4: =((IF(G4="j",1,0))+(IF(G4="p",1,0)))+(IF(G4=1,1,0)) -> 0 | AQ4: =((IF(H4="j",1,0))+(IF(H4="p",1,0)))+(IF(H4=1,1,0)) -> 0 | AR4: =((IF(I4="j",1,0))+(IF(I4="p",1,0)))+(IF(I4=1,1,0)) -> 0 | ... BD4: =((IF(U4="j",1,0))+(IF(U4="p",1,0)))+(IF(U4=1,1,0)) -> 0
A5: ÉLYX SEGUIN | V5: =SUM(AK5:BD5) -> 0 | AK5: =((IF(B5="j",1,0))+(IF(B5="p",1,0)))+(IF(B5=1,1,0)) -> 0 | AL5: =((IF(C5="j",1,0))+(IF(C5="p",1,0)))+(IF(C5=1,1,0)) -> 0 | AM5: =((IF(D5="j",1,0))+(IF(D5="p",1,0)))+(IF(D5=1,1,0)) -> 0 | AN5: =((IF(E5="j",1,0))+(IF(E5="p",1,0)))+(IF(E5=1,1,0)) -> 0 | AO5: =((IF(F5="j",1,0))+(IF(F5="p",1,0)))+(IF(F5=1,1,0)) -> 0 | AP5: =((IF(G5="j",1,0))+(IF(G5="p",1,0)))+(IF(G5=1,1,0)) -> 0 | AQ5: =((IF(H5="j",1,0))+(IF(H5="p",1,0)))+(IF(H5=1,1,0)) -> 0 | AR5: =((IF(I5="j",1,0))+(IF(I5="p",1,0)))+(IF(I5=1,1,0)) -> 0 | ... BD5: =((IF(U5="j",1,0))+(IF(U5="p",1,0)))+(IF(U5=1,1,0)) -> 0
A6: ETIENNE LEBEL | V6: =SUM(AK6:BD6) -> 0 | AK6: =((IF(B6="j",1,0))+(IF(B6="p",1,0)))+(IF(B6=1,1,0)) -> 0 | AL6: =((IF(C6="j",1,0))+(IF(C6="p",1,0)))+(IF(C6=1,1,0)) -> 0 | AM6: =((IF(D6="j",1,0))+(IF(D6="p",1,0)))+(IF(D6=1,1,0)) -> 0 | AN6: =((IF(E6="j",1,0))+(IF(E6="p",1,0)))+(IF(E6=1,1,0)) -> 0 | AO6: =((IF(F6="j",1,0))+(IF(F6="p",1,0)))+(IF(F6=1,1,0)) -> 0 | AP6: =((IF(G6="j",1,0))+(IF(G6="p",1,0)))+(IF(G6=1,1,0)) -> 0 | AQ6: =((IF(H6="j",1,0))+(IF(H6="p",1,0)))+(IF(H6=1,1,0)) -> 0 | AR6: =((IF(I6="j",1,0))+(IF(I6="p",1,0)))+(IF(I6=1,1,0)) -> 0 | ... BD6: =((IF(U6="j",1,0))+(IF(U6="p",1,0)))+(IF(U6=1,1,0)) -> 0
A7: HUGO DOYON | S7: 1 | V7: =SUM(AK7:BD7) -> 1 | AK7: =((IF(B7="j",1,0))+(IF(B7="p",1,0)))+(IF(B7=1,1,0)) -> 0 | AL7: =((IF(C7="j",1,0))+(IF(C7="p",1,0)))+(IF(C7=1,1,0)) -> 0 | AM7: =((IF(D7="j",1,0))+(IF(D7="p",1,0)))+(IF(D7=1,1,0)) -> 0 | AN7: =((IF(E7="j",1,0))+(IF(E7="p",1,0)))+(IF(E7=1,1,0)) -> 0 | AO7: =((IF(F7="j",1,0))+(IF(F7="p",1,0)))+(IF(F7=1,1,0)) -> 0 | AP7: =((IF(G7="j",1,0))+(IF(G7="p",1,0)))+(IF(G7=1,1,0)) -> 0 | AQ7: =((IF(H7="j",1,0))+(IF(H7="p",1,0)))+(IF(H7=1,1,0)) -> 0 | AR7: =((IF(I7="j",1,0))+(IF(I7="p",1,0)))+(IF(I7=1,1,0)) -> 0 | ... BD7: =((IF(U7="j",1,0))+(IF(U7="p",1,0)))+(IF(U7=1,1,0)) -> 0
A8: MAXIME GAGNÉ | V8: =SUM(AK8:BD8) -> 0 | AK8: =((IF(B8="j",1,0))+(IF(B8="p",1,0)))+(IF(B8=1,1,0)) -> 0 | AL8: =((IF(C8="j",1,0))+(IF(C8="p",1,0)))+(IF(C8=1,1,0)) -> 0 | AM8: =((IF(D8="j",1,0))+(IF(D8="p",1,0)))+(IF(D8=1,1,0)) -> 0 | AN8: =((IF(E8="j",1,0))+(IF(E8="p",1,0)))+(IF(E8=1,1,0)) -> 0 | AO8: =((IF(F8="j",1,0))+(IF(F8="p",1,0)))+(IF(F8=1,1,0)) -> 0 | AP8: =((IF(G8="j",1,0))+(IF(G8="p",1,0)))+(IF(G8=1,1,0)) -> 0 | AQ8: =((IF(H8="j",1,0))+(IF(H8="p",1,0)))+(IF(H8=1,1,0)) -> 0 | AR8: =((IF(I8="j",1,0))+(IF(I8="p",1,0)))+(IF(I8=1,1,0)) -> 0 | ... BD8: =((IF(U8="j",1,0))+(IF(U8="p",1,0)))+(IF(U8=1,1,0)) -> 0
A9: MEGANE BERGERON | V9: =SUM(AK9:BD9) -> 0 | AK9: =((IF(B9="j",1,0))+(IF(B9="p",1,0)))+(IF(B9=1,1,0)) -> 0 | AL9: =((IF(C9="j",1,0))+(IF(C9="p",1,0)))+(IF(C9=1,1,0)) -> 0 | AM9: =((IF(D9="j",1,0))+(IF(D9="p",1,0)))+(IF(D9=1,1,0)) -> 0 | AN9: =((IF(E9="j",1,0))+(IF(E9="p",1,0)))+(IF(E9=1,1,0)) -> 0 | AO9: =((IF(F9="j",1,0))+(IF(F9="p",1,0)))+(IF(F9=1,1,0)) -> 0 | AP9: =((IF(G9="j",1,0))+(IF(G9="p",1,0)))+(IF(G9=1,1,0)) -> 0 | AQ9: =((IF(H9="j",1,0))+(IF(H9="p",1,0)))+(IF(H9=1,1,0)) -> 0 | AR9: =((IF(I9="j",1,0))+(IF(I9="p",1,0)))+(IF(I9=1,1,0)) -> 0 | ... BD9: =((IF(U9="j",1,0))+(IF(U9="p",1,0)))+(IF(U9=1,1,0)) -> 0
