Workbook
Name Mois: 'Resumé mois'!$G$1

Sheet Resumé mois
A1: TOTAL MOIS | G1: Janvier
E2: Jour | F2: Totaux du jour | G2: Jour | H2: Totaux du jour
A3: Total des ventes | B3: =SUM('1'!L2:M3,'2'!L2:M3,'3'!L2:M3,'4'!L2:M3,'5'!L2:M3,'6'!L2:M3,'7'!L2:M3,'8'!L2:M3,'9'!L2:M3,'10'!L2:M3,'11'!L2:M3,'12'!L2:M3,'13'!L2:M3,'14'!L2:M3,'15'!L2:M3,'16'!L2:M3,'17'!L2:M3,'18'!L2:M3,'19'!L2:M3,'20'!L2:M3,'21'!L2:M3,'22'!L2:M3,'23'!L2:M3,'24'!L2:M3,'25'!L2:M3,'26'!L2:M3,'27'!L2:M3,'28'!L2:M3,'29'!L2:M3,'30'!L2:M3,'31'!L2:M3) -> 672 | F3: =Tableau1203142[[#Totals],[Prix soldé]] -> 18 | H3: ='17'!F100 -> 20
F4: ='2'!F101 -> 40 | H4: ='18'!F100 -> 20
F5: ='3'!F100 -> 18 | H5: ='19'!F100 -> 20
A6: Pourcentage réductions | B6: =AVERAGE('1'!G100,'2'!G101,'3'!G100,'4'!G100,'5'!G100,'6'!G100,'7'!G100,'8'!G100,'9'!G100,'10'!G100,'11'!G100,'12'!G100,'13'!G100,'14'!G100,'15'!G100,'16'!G100,'17'!G100,'18'!G100,'19'!G100,'20'!G100,'21'!G100,'22'!G100,'23'!G100,'24'!G100,'25'!G100,'26'!G100,'27'!G100,'28'!G100,'29'!G100,'30'!G100,'31'!G100) -> 0.22546886 | F6: ='4'!F100 -> 20 | H6: ='20'!F100 -> 20
F7: ='5'!F100 -> 32 | H7: ='21'!F100 -> 20
F8: ='6'!F100 -> 20 | H8: ='22'!F100 -> 20
A9: Nombre vélos | B9: =SUM('1'!L8:M9,'2'!L8:M9,'3'!L8:M9,'4'!L8:M9,'5'!L8:M9,'6'!L8:M9,'7'!L8:M9,'8'!L8:M9,'9'!L8:M9,'10'!L8:M9,'11'!L8:M9,'12'!L8:M9,'13'!L8:M9,'14'!L8:M9,'15'!L8:M9,'16'!L8:M9,'17'!L8:M9,'18'!L8:M9,'19'!L8:M9,'20'!L8:M9,'21'!L8:M9,'22'!L8:M9,'23'!L8:M9,'24'!L8:M9,'25'!L8:M9,'26'!L8:M9,'27'!L8:M9,'28'!L8:M9,'29'!L8:M9,'30'!L8:M9,'31'!L8:M9) -> 3 | F9: ='7'!F100 -> 20 | H9: ='23'!F100 -> 20
F10: ='8'!F100 -> 20 | H10: ='24'!F100 -> 20
F11: ='9'!F100 -> 20 | H11: ='25'!F100 -> 20
F12: ='10'!F100 -> 44 | H12: ='26'!F100 -> 20
F13: ='11'!F100 -> 20 | H13: ='27'!F100 -> 20
F14: ='12'!F100 -> 20 | H14: ='28'!F100 -> 20
F15: ='13'!F100 -> 20 | H15: ='29'!F100 -> 20
F16: ='14'!F100 -> 20 | H16: ='30'!F100 -> 20
F17: ='15'!F100 -> 20 | H17: ='31'!F100 -> 20
F18: ='16'!F100 -> 20

Sheet 1
B1: Caisse 1
B2: Produit | C2: Marque | D2: Compléments | E2: Prix départ | F2: Prix soldé | G2: % réduction | H2: Commentaires | J2: Total journée | L2: =SUM(F2:F98) -> 18
B3: vélo | E3: 20000 | F3: 18 | G3: =IFERROR((E3-F3)/E3,"") -> 0.9991
G4: =IFERROR((E4-F4)/E4,"")
G5: =IFERROR((E5-F5)/E5,"") | J5: Moyenne réduction du jour | L5: =AVERAGE(G2:G98) -> 0.9991
G6: =IFERROR((E6-F6)/E6,"")
B7: vélo | G7: =IFERROR((E7-F7)/E7,"")
G8: =IFERROR((E8-F8)/E8,"") | J8: Nombre vélos | L8: =COUNTIF(B3:B101,"vélo") -> 2
G9: =IFERROR((E9-F9)/E9,"")
G10: =IFERROR((E10-F10)/E10,"")
G11: =IFERROR((E11-F11)/E11,"")
G12: =IFERROR((E12-F12)/E12,"")
G13: =IFERROR((E13-F13)/E13,"")
G14: =IFERROR((E14-F14)/E14,"")
G15: =IFERROR((E15-F15)/E15,"")
G16: =IFERROR((E16-F16)/E16,"")
G17: =IFERROR((E17-F17)/E17,"")
G18: =IFERROR((E18-F18)/E18,"")
G19: =IFERROR((E19-F19)/E19,"")
G20: =IFERROR((E20-F20)/E20,"")
... G99: =IFERROR((E99-F99)/E99,"")
A100: Totaux | B100: Total | E100: =SUM(E2:E98) -> 20000 | F100: =SUM(F2:F98) -> 18 | G100: =AVERAGE(G2:G98) -> 0.9991 | H100: =SUBTOTAL(103,Tableau1203142[Commentaires]) -> 0

Sheet 2
B1: Caisse 2
B2: Produit | C2: Marque | D2: Compléments | E2: Prix départ | F2: Prix soldé | G2: % réduction | H2: Commentaires | J2: Total journée | L2: =F101 -> 40
E3: 50 | F3: 40 | G3: =IFERROR((E3-F3)/E3,"") -> 0.2
J5: Moyenne réduction du jour | L5: =G101 -> 0.2
G6: =IFERROR((E6-F6)/E6,"")
G7: =IFERROR((E7-F7)/E7,"")
G8: =IFERROR((E8-F8)/E8,"") | J8: Nombre vélos | L8: =COUNTIF(B3:B101,"vélo") -> 0
G9: =IFERROR((E9-F9)/E9,"")
G10: =IFERROR((E10-F10)/E10,"")
G11: =IFERROR((E11-F11)/E11,"")
G12: =IFERROR((E12-F12)/E12,"")
G13: =IFERROR((E13-F13)/E13,"")
G14: =IFERROR((E14-F14)/E14,"")
G15: =IFERROR((E15-F15)/E15,"")
G16: =IFERROR((E16-F16)/E16,"")
G17: =IFERROR((E17-F17)/E17,"")
G18: =IFERROR((E18-F18)/E18,"")
G19: =IFERROR((E19-F19)/E19,"")
G20: =IFERROR((E20-F20)/E20,"")
... G100: =IFERROR((E100-F100)/E100,"")
A101: Totaux | E101: =SUM(E3:E100) -> 50 | F101: =SUM(F3:F100) -> 40 | G101: =AVERAGE(G3:G100) -> 0.2

Sheet 3
B1: Caisse 3
B2: Produit | C2: Marque | D2: Compléments | E2: Prix départ | F2: Prix soldé | G2: % réduction | H2: Commentaires | J2: Total journée | L2: =F100 -> 18
B3: vélo | E3: 20 | F3: 18 | G3: =IFERROR((E3-F3)/E3,"") -> 0.1
G4: =IFERROR((E4-F4)/E4,"")
G5: =IFERROR((E5-F5)/E5,"") | J5: Moyenne réduction du jour | L5: =G100 -> 0.1
G6: =IFERROR((E6-F6)/E6,"")
G7: =IFERROR((E7-F7)/E7,"")
G8: =IFERROR((E8-F8)/E8,"") | J8: Nombre vélos | L8: =COUNTIF(B3:B101,"vélo") -> 1
G9: =IFERROR((E9-F9)/E9,"")
G10: =IFERROR((E10-F10)/E10,"")
G11: =IFERROR((E11-F11)/E11,"")
G12: =IFERROR((E12-F12)/E12,"")
G13: =IFERROR((E13-F13)/E13,"")
G14: =IFERROR((E14-F14)/E14,"")
G15: =IFERROR((E15-F15)/E15,"")
G16: =IFERROR((E16-F16)/E16,"")
G17: =IFERROR((E17-F17)/E17,"")
G18: =IFERROR((E18-F18)/E18,"")
G19: =IFERROR((E19-F19)/E19,"")
G20: =IFERROR((E20-F20)/E20,"")
... G99: =IFERROR((E99-F99)/E99,"")
A100: Totaux | E100: =SUM(E3:E99) -> 20 | F100: =SUM(F3:F99) -> 18 | G100: =AVERAGE(G3:G99) -> 0.1

Sheet 4
B1: Caisse 4
B2: Produit | C2: Marque | D2: Compléments | E2: Prix départ | F2: Prix soldé | G2: % réduction | H2: Commentaires | J2: Total journée | L2: =F100 -> 20
E3: 23 | F3: 20 | G3: =IFERROR((E3-F3)/E3,"") -> 0.13043478
G4: =IFERROR((E4-F4)/E4,"")
G5: =IFERROR((E5-F5)/E5,"") | J5: Moyenne réduction du jour | L5: =G100 -> 0.13043478
G6: =IFERROR((E6-F6)/E6,"")
G7: =IFERROR((E7-F7)/E7,"")
G8: =IFERROR((E8-F8)/E8,"") | J8: Nombre vélos | L8: =COUNTIF(B3:B101,"vélo") -> 0
G9: =IFERROR((E9-F9)/E9,"")
G10: =IFERROR((E10-F10)/E10,"")
G11: =IFERROR((E11-F11)/E11,"")
G12: =IFERROR((E12-F12)/E12,"")
G13: =IFERROR((E13-F13)/E13,"")
G14: =IFERROR((E14-F14)/E14,"")
G15: =IFERROR((E15-F15)/E15,"")
G16: =IFERROR((E16-F16)/E16,"")
G17: =IFERROR((E17-F17)/E17,"")
G18: =IFERROR((E18-F18)/E18,"")
G19: =IFERROR((E19-F19)/E19,"")
G20: =IFERROR((E20-F20)/E20,"")
... G99: =IFERROR((E99-F99)/E99,"")
A100: Totaux | E100: =SUM(E3:E99) -> 23 | F100: =SUM(F3:F99) -> 20 | G100: =AVERAGE(G3:G99) -> 0.13043478

Sheet 5
B1: Caisse 5
B2: Produit | C2: Marque | D2: Compléments | E2: Prix départ | F2: Prix soldé | G2: % réduction | H2: Commentaires | J2: Total journée | L2: =F100 -> 32
E3: 50 | F3: 32 | G3: =IFERROR((E3-F3)/E3,"") -> 0.36
G4: =IFERROR((E4-F4)/E4,"")
G5: =IFERROR((E5-F5)/E5,"") | J5: Moyenne réduction du jour | L5: =G100 -> 0.36
G6: =IFERROR((E6-F6)/E6,"")
G7: =IFERROR((E7-F7)/E7,"")
G8: =IFERROR((E8-F8)/E8,"") | J8: Nombre vélos | L8: =COUNTIF(B3:B101,"vélo") -> 0
G9: =IFERROR((E9-F9)/E9,"")
G10: =IFERROR((E10-F10)/E10,"")
G11: =IFERROR((E11-F11)/E11,"")
G12: =IFERROR((E12-F12)/E12,"")
G13: =IFERROR((E13-F13)/E13,"")
G14: =IFERROR((E14-F14)/E14,"")
G15: =IFERROR((E15-F15)/E15,"")
G16: =IFERROR((E16-F16)/E16,"")
G17: =IFERROR((E17-F17)/E17,"")
G18: =IFERROR((E18-F18)/E18,"")
G19: =IFERROR((E19-F19)/E19,"")
G20: =IFERROR((E20-F20)/E20,"")
... G99: =IFERROR((E99-F99)/E99,"")
A100: Totaux | E100: =SUM(E3:E99) -> 50 | F100: =SUM(F3:F99) -> 32 | G100: =AVERAGE(G3:G99) -> 0.36

Sheet 6
B1: Caisse 6
B2: Produit | C2: Marque | D2: Compléments | E2: Prix départ | F2: Prix soldé | G2: % réduction | H2: Commentaires | J2: Total journée | L2: =F100 -> 20
G3: =IFERROR((E3-F3)/E3,"")
G4: =IFERROR((E4-F4)/E4,"")
G5: =IFERROR((E5-F5)/E5,"") | J5: Moyenne réduction du jour | L5: =G100 -> 0.2
G6: =IFERROR((E6-F6)/E6,"")
G7: =IFERROR((E7-F7)/E7,"")
G8: =IFERROR((E8-F8)/E8,"") | J8: Nombre vélos | L8: =COUNTIF(B3:B101,"vélo") -> 0
G9: =IFERROR((E9-F9)/E9,"")
G10: =IFERROR((E10-F10)/E10,"")
G11: =IFERROR((E11-F11)/E11,"")
G12: =IFERROR((E12-F12)/E12,"")
G13: =IFERROR((E13-F13)/E13,"")
G14: =IFERROR((E14-F14)/E14,"")
G15: =IFERROR((E15-F15)/E15,"")
G16: =IFERROR((E16-F16)/E16,"")
E17: 25 | F17: 20 | G17: =IFERROR((E17-F17)/E17,"") -> 0.2
G18: =IFERROR((E18-F18)/E18,"")
G19: =IFERROR((E19-F19)/E19,"")
G20: =IFERROR((E20-F20)/E20,"")
G21: =IFERROR((E21-F21)/E21,"")
G22: =IFERROR((E22-F22)/E22,"")
G23: =IFERROR((E23-F23)/E23,"")
G24: =IFERROR((E24-F24)/E24,"")
G25: =IFERROR((E25-F25)/E25,"")
G26: =IFERROR((E26-F26)/E26,"")
G27: =IFERROR((E27-F27)/E27,"")
G28: =IFERROR((E28-F28)/E28,"")
G29: =IFERROR((E29-F29)/E29,"")
... G99: =IFERROR((E99-F99)/E99,"")
A100: Totaux | E100: =SUM(E3:E99) -> 25 | F100: =SUM(F3:F99) -> 20 | G100: =AVERAGE(G3:G99) -> 0.2

Sheet 7
B1: Caisse 7
B2: Produit | C2: Marque | D2: Compléments | E2: Prix départ | F2: Prix soldé | G2: % réduction | H2: Commentaires | J2: Total journée | L2: =F100 -> 20
G3: =IFERROR((E3-F3)/E3,"")
G4: =IFERROR((E4-F4)/E4,"")
G5: =IFERROR((E5-F5)/E5,"") | J5: Moyenne réduction du jour | L5: =G100 -> 0.2
G6: =IFERROR((E6-F6)/E6,"")
G7: =IFERROR((E7-F7)/E7,"")
G8: =IFERROR((E8-F8)/E8,"") | J8: Nombre vélos | L8: =COUNTIF(B3:B101,"vélo") -> 0
G9: =IFERROR((E9-F9)/E9,"")
G10: =IFERROR((E10-F10)/E10,"")
G11: =IFERROR((E11-F11)/E11,"")
G12: =IFERROR((E12-F12)/E12,"")
G13: =IFERROR((E13-F13)/E13,"")
G14: =IFERROR((E14-F14)/E14,"")
G15: =IFERROR((E15-F15)/E15,"")
G16: =IFERROR((E16-F16)/E16,"")
E17: 25 | F17: 20 | G17: =IFERROR((E17-F17)/E17,"") -> 0.2
G18: =IFERROR((E18-F18)/E18,"")
G19: =IFERROR((E19-F19)/E19,"")
G20: =IFERROR((E20-F20)/E20,"")
G21: =IFERROR((E21-F21)/E21,"")
G22: =IFERROR((E22-F22)/E22,"")
G23: =IFERROR((E23-F23)/E23,"")
G24: =IFERROR((E24-F24)/E24,"")
G25: =IFERROR((E25-F25)/E25,"")
G26: =IFERROR((E26-F26)/E26,"")
G27: =IFERROR((E27-F27)/E27,"")
G28: =IFERROR((E28-F28)/E28,"")
G29: =IFERROR((E29-F29)/E29,"")
... G99: =IFERROR((E99-F99)/E99,"")
A100: Totaux | E100: =SUM(E3:E99) -> 25 | F100: =SUM(F3:F99) -> 20 | G100: =AVERAGE(G3:G99) -> 0.2

Sheet 8
B1: Caisse 8
B2: Produit | C2: Marque | D2: Compléments | E2: Prix départ | F2: Prix soldé | G2: % réduction | H2: Commentaires | J2: Total journée | L2: =F100 -> 20
G3: =IFERROR((E3-F3)/E3,"")
G4: =IFERROR((E4-F4)/E4,"")
G5: =IFERROR((E5-F5)/E5,"") | J5: Moyenne réduction du jour | L5: =G100 -> 0.2
G6: =IFERROR((E6-F6)/E6,"")
G7: =IFERROR((E7-F7)/E7,"")
G8: =IFERROR((E8-F8)/E8,"") | J8: Nombre vélos | L8: =COUNTIF(B3:B101,"vélo") -> 0
G9: =IFERROR((E9-F9)/E9,"")
G10: =IFERROR((E10-F10)/E10,"")
G11: =IFERROR((E11-F11)/E11,"")
G12: =IFERROR((E12-F12)/E12,"")
G13: =IFERROR((E13-F13)/E13,"")
G14: =IFERROR((E14-F14)/E14,"")
G15: =IFERROR((E15-F15)/E15,"")
G16: =IFERROR((E16-F16)/E16,"")
E17: 25 | F17: 20 | G17: =IFERROR((E17-F17)/E17,"") -> 0.2
G18: =IFERROR((E18-F18)/E18,"")
G19: =IFERROR((E19-F19)/E19,"")
G20: =IFERROR((E20-F20)/E20,"")
G21: =IFERROR((E21-F21)/E21,"")
G22: =IFERROR((E22-F22)/E22,"")
G23: =IFERROR((E23-F23)/E23,"")
G24: =IFERROR((E24-F24)/E24,"")
G25: =IFERROR((E25-F25)/E25,"")
G26: =IFERROR((E26-F26)/E26,"")
G27: =IFERROR((E27-F27)/E27,"")
G28: =IFERROR((E28-F28)/E28,"")
G29: =IFERROR((E29-F29)/E29,"")
... G99: =IFERROR((E99-F99)/E99,"")
A100: Totaux | E100: =SUM(E3:E99) -> 25 | F100: =SUM(F3:F99) -> 20 | G100: =AVERAGE(G3:G99) -> 0.2

Sheet 9
B1: Caisse 9
B2: Produit | C2: Marque | D2: Compléments | E2: Prix départ | F2: Prix soldé | G2: % réduction | H2: Commentaires | J2: Total journée | L2: =F100 -> 20
G3: =IFERROR((E3-F3)/E3,"")
G4: =IFERROR((E4-F4)/E4,"")
G5: =IFERROR((E5-F5)/E5,"") | J5: Moyenne réduction du jour | L5: =G100 -> 0.2
G6: =IFERROR((E6-F6)/E6,"")
G7: =IFERROR((E7-F7)/E7,"")
G8: =IFERROR((E8-F8)/E8,"") | J8: Nombre vélos | L8: =COUNTIF(B3:B101,"vélo") -> 0
G9: =IFERROR((E9-F9)/E9,"")
G10: =IFERROR((E10-F10)/E10,"")
G11: =IFERROR((E11-F11)/E11,"")
G12: =IFERROR((E12-F12)/E12,"")
G13: =IFERROR((E13-F13)/E13,"")
G14: =IFERROR((E14-F14)/E14,"")
G15: =IFERROR((E15-F15)/E15,"")
G16: =IFERROR((E16-F16)/E16,"")
E17: 25 | F17: 20 | G17: =IFERROR((E17-F17)/E17,"") -> 0.2
G18: =IFERROR((E18-F18)/E18,"")
G19: =IFERROR((E19-F19)/E19,"")
G20: =IFERROR((E20-F20)/E20,"")
G21: =IFERROR((E21-F21)/E21,"")
G22: =IFERROR((E22-F22)/E22,"")
G23: =IFERROR((E23-F23)/E23,"")
G24: =IFERROR((E24-F24)/E24,"")
G25: =IFERROR((E25-F25)/E25,"")
G26: =IFERROR((E26-F26)/E26,"")
G27: =IFERROR((E27-F27)/E27,"")
G28: =IFERROR((E28-F28)/E28,"")
G29: =IFERROR((E29-F29)/E29,"")
... G99: =IFERROR((E99-F99)/E99,"")
A100: Totaux | E100: =SUM(E3:E99) -> 25 | F100: =SUM(F3:F99) -> 20 | G100: =AVERAGE(G3:G99) -> 0.2

Sheet 10
B1: Caisse 10
B2: Produit | C2: Marque | D2: Compléments | E2: Prix départ | F2: Prix soldé | G2: % réduction | H2: Commentaires | J2: Total journée | L2: =F100 -> 44
E3: 30 | F3: 24 | G3: =IFERROR((E3-F3)/E3,"") -> 0.2
G4: =IFERROR((E4-F4)/E4,"")
G5: =IFERROR((E5-F5)/E5,"") | J5: Moyenne réduction du jour | L5: =G100 -> 0.2
G6: =IFERROR((E6-F6)/E6,"")
G7: =IFERROR((E7-F7)/E7,"")
G8: =IFERROR((E8-F8)/E8,"") | J8: Nombre vélos | L8: =COUNTIF(B3:B101,"vélo") -> 0
G9: =IFERROR((E9-F9)/E9,"")
G10: =IFERROR((E10-F10)/E10,"")
G11: =IFERROR((E11-F11)/E11,"")
G12: =IFERROR((E12-F12)/E12,"")
G13: =IFERROR((E13-F13)/E13,"")
G14: =IFERROR((E14-F14)/E14,"")
G15: =IFERROR((E15-F15)/E15,"")
G16: =IFERROR((E16-F16)/E16,"")
E17: 25 | F17: 20 | G17: =IFERROR((E17-F17)/E17,"") -> 0.2
G18: =IFERROR((E18-F18)/E18,"")
G19: =IFERROR((E19-F19)/E19,"")
G20: =IFERROR((E20-F20)/E20,"")
G21: =IFERROR((E21-F21)/E21,"")
G22: =IFERROR((E22-F22)/E22,"")
G23: =IFERROR((E23-F23)/E23,"")
G24: =IFERROR((E24-F24)/E24,"")
G25: =IFERROR((E25-F25)/E25,"")
G26: =IFERROR((E26-F26)/E26,"")
G27: =IFERROR((E27-F27)/E27,"")
G28: =IFERROR((E28-F28)/E28,"")
G29: =IFERROR((E29-F29)/E29,"")
... G99: =IFERROR((E99-F99)/E99,"")
A100: Totaux | E100: =SUM(E3:E99) -> 55 | F100: =SUM(F3:F99) -> 44 | G100: =AVERAGE(G3:G99) -> 0.2

Sheet 11
B1: Caisse 11
B2: Produit | C2: Marque | D2: Compléments | E2: Prix départ | F2: Prix soldé | G2: % réduction | H2: Commentaires | J2: Total journée | L2: =F100 -> 20
G3: =IFERROR((E3-F3)/E3,"")
G4: =IFERROR((E4-F4)/E4,"")
G5: =IFERROR((E5-F5)/E5,"") | J5: Moyenne réduction du jour | L5: =G100 -> 0.2
G6: =IFERROR((E6-F6)/E6,"")
G7: =IFERROR((E7-F7)/E7,"")
G8: =IFERROR((E8-F8)/E8,"") | J8: Nombre vélos | L8: =COUNTIF(B3:B101,"vélo") -> 0
G9: =IFERROR((E9-F9)/E9,"")
G10: =IFERROR((E10-F10)/E10,"")
G11: =IFERROR((E11-F11)/E11,"")
G12: =IFERROR((E12-F12)/E12,"")
G13: =IFERROR((E13-F13)/E13,"")
G14: =IFERROR((E14-F14)/E14,"")
G15: =IFERROR((E15-F15)/E15,"")
G16: =IFERROR((E16-F16)/E16,"")
E17: 25 | F17: 20 | G17: =IFERROR((E17-F17)/E17,"") -> 0.2
G18: =IFERROR((E18-F18)/E18,"")
G19: =IFERROR((E19-F19)/E19,"")
G20: =IFERROR((E20-F20)/E20,"")
G21: =IFERROR((E21-F21)/E21,"")
G22: =IFERROR((E22-F22)/E22,"")
G23: =IFERROR((E23-F23)/E23,"")
G24: =IFERROR((E24-F24)/E24,"")
G25: =IFERROR((E25-F25)/E25,"")
G26: =IFERROR((E26-F26)/E26,"")
G27: =IFERROR((E27-F27)/E27,"")
G28: =IFERROR((E28-F28)/E28,"")
G29: =IFERROR((E29-F29)/E29,"")
... G99: =IFERROR((E99-F99)/E99,"")
A100: Totaux | E100: =SUM(E3:E99) -> 25 | F100: =SUM(F3:F99) -> 20 | G100: =AVERAGE(G3:G99) -> 0.2

Sheet 12
B1: Caisse 12
B2: Produit | C2: Marque | D2: Compléments | E2: Prix départ | F2: Prix soldé | G2: % réduction | H2: Commentaires | J2: Total journée | L2: =F100 -> 20
G3: =IFERROR((E3-F3)/E3,"")
G4: =IFERROR((E4-F4)/E4,"")
G5: =IFERROR((E5-F5)/E5,"") | J5: Moyenne réduction du jour | L5: =G100 -> 0.2
G6: =IFERROR((E6-F6)/E6,"")
G7: =IFERROR((E7-F7)/E7,"")
G8: =IFERROR((E8-F8)/E8,"") | J8: Nombre vélos | L8: =COUNTIF(B3:B101,"vélo") -> 0
G9: =IFERROR((E9-F9)/E9,"")
G10: =IFERROR((E10-F10)/E10,"")
G11: =IFERROR((E11-F11)/E11,"")
G12: =IFERROR((E12-F12)/E12,"")
G13: =IFERROR((E13-F13)/E13,"")
G14: =IFERROR((E14-F14)/E14,"")
G15: =IFERROR((E15-F15)/E15,"")
G16: =IFERROR((E16-F16)/E16,"")
E17: 25 | F17: 20 | G17: =IFERROR((E17-F17)/E17,"") -> 0.2
G18: =IFERROR((E18-F18)/E18,"")
G19: =IFERROR((E19-F19)/E19,"")
G20: =IFERROR((E20-F20)/E20,"")
G21: =IFERROR((E21-F21)/E21,"")
G22: =IFERROR((E22-F22)/E22,"")
G23: =IFERROR((E23-F23)/E23,"")
G24: =IFERROR((E24-F24)/E24,"")
G25: =IFERROR((E25-F25)/E25,"")
G26: =IFERROR((E26-F26)/E26,"")
G27: =IFERROR((E27-F27)/E27,"")
G28: =IFERROR((E28-F28)/E28,"")
G29: =IFERROR((E29-F29)/E29,"")
... G99: =IFERROR((E99-F99)/E99,"")
A100: Totaux | E100: =SUM(E3:E99) -> 25 | F100: =SUM(F3:F99) -> 20 | G100: =AVERAGE(G3:G99) -> 0.2

Sheet 13
B1: Caisse 13
B2: Produit | C2: Marque | D2: Compléments | E2: Prix départ | F2: Prix soldé | G2: % réduction | H2: Commentaires | J2: Total journée | L2: =F100 -> 20
G3: =IFERROR((E3-F3)/E3,"")
G4: =IFERROR((E4-F4)/E4,"")
G5: =IFERROR((E5-F5)/E5,"") | J5: Moyenne réduction du jour | L5: =G100 -> 0.2
G6: =IFERROR((E6-F6)/E6,"")
G7: =IFERROR((E7-F7)/E7,"")
G8: =IFERROR((E8-F8)/E8,"") | J8: Nombre vélos | L8: =COUNTIF(B3:B101,"vélo") -> 0
G9: =IFERROR((E9-F9)/E9,"")
G10: =IFERROR((E10-F10)/E10,"")
G11: =IFERROR((E11-F11)/E11,"")
G12: =IFERROR((E12-F12)/E12,"")
G13: =IFERROR((E13-F13)/E13,"")
G14: =IFERROR((E14-F14)/E14,"")
G15: =IFERROR((E15-F15)/E15,"")
G16: =IFERROR((E16-F16)/E16,"")
E17: 25 | F17: 20 | G17: =IFERROR((E17-F17)/E17,"") -> 0.2
G18: =IFERROR((E18-F18)/E18,"")
G19: =IFERROR((E19-F19)/E19,"")
G20: =IFERROR((E20-F20)/E20,"")
G21: =IFERROR((E21-F21)/E21,"")
G22: =IFERROR((E22-F22)/E22,"")
G23: =IFERROR((E23-F23)/E23,"")
G24: =IFERROR((E24-F24)/E24,"")
G25: =IFERROR((E25-F25)/E25,"")
G26: =IFERROR((E26-F26)/E26,"")
G27: =IFERROR((E27-F27)/E27,"")
G28: =IFERROR((E28-F28)/E28,"")
G29: =IFERROR((E29-F29)/E29,"")
... G99: =IFERROR((E99-F99)/E99,"")
A100: Totaux | E100: =SUM(E3:E99) -> 25 | F100: =SUM(F3:F99) -> 20 | G100: =AVERAGE(G3:G99) -> 0.2

Sheet 14
B1: Caisse 14
B2: Produit | C2: Marque | D2: Compléments | E2: Prix départ | F2: Prix soldé | G2: % réduction | H2: Commentaires | J2: Total journée | L2: =F100 -> 20
G3: =IFERROR((E3-F3)/E3,"")
G4: =IFERROR((E4-F4)/E4,"")
G5: =IFERROR((E5-F5)/E5,"") | J5: Moyenne réduction du jour | L5: =G100 -> 0.2
G6: =IFERROR((E6-F6)/E6,"")
G7: =IFERROR((E7-F7)/E7,"")
G8: =IFERROR((E8-F8)/E8,"") | J8: Nombre vélos | L8: =COUNTIF(B3:B101,"vélo") -> 0
G9: =IFERROR((E9-F9)/E9,"")
G10: =IFERROR((E10-F10)/E10,"")
G11: =IFERROR((E11-F11)/E11,"")
G12: =IFERROR((E12-F12)/E12,"")
G13: =IFERROR((E13-F13)/E13,"")
G14: =IFERROR((E14-F14)/E14,"")
G15: =IFERROR((E15-F15)/E15,"")
G16: =IFERROR((E16-F16)/E16,"")
E17: 25 | F17: 20 | G17: =IFERROR((E17-F17)/E17,"") -> 0.2
G18: =IFERROR((E18-F18)/E18,"")
G19: =IFERROR((E19-F19)/E19,"")
G20: =IFERROR((E20-F20)/E20,"")
G21: =IFERROR((E21-F21)/E21,"")
G22: =IFERROR((E22-F22)/E22,"")
G23: =IFERROR((E23-F23)/E23,"")
G24: =IFERROR((E24-F24)/E24,"")
G25: =IFERROR((E25-F25)/E25,"")
G26: =IFERROR((E26-F26)/E26,"")
G27: =IFERROR((E27-F27)/E27,"")
G28: =IFERROR((E28-F28)/E28,"")
G29: =IFERROR((E29-F29)/E29,"")
... G99: =IFERROR((E99-F99)/E99,"")
A100: Totaux | E100: =SUM(E3:E99) -> 25 | F100: =SUM(F3:F99) -> 20 | G100: =AVERAGE(G3:G99) -> 0.2

Sheet 15
B1: Caisse 15
B2: Produit | C2: Marque | D2: Compléments | E2: Prix départ | F2: Prix soldé | G2: % réduction | H2: Commentaires | J2: Total journée | L2: =F100 -> 20
G3: =IFERROR((E3-F3)/E3,"")
G4: =IFERROR((E4-F4)/E4,"")
G5: =IFERROR((E5-F5)/E5,"") | J5: Moyenne réduction du jour | L5: =G100 -> 0.2
G6: =IFERROR((E6-F6)/E6,"")
G7: =IFERROR((E7-F7)/E7,"")
G8: =IFERROR((E8-F8)/E8,"") | J8: Nombre vélos | L8: =COUNTIF(B3:B101,"vélo") -> 0
G9: =IFERROR((E9-F9)/E9,"")
G10: =IFERROR((E10-F10)/E10,"")
G11: =IFERROR((E11-F11)/E11,"")
G12: =IFERROR((E12-F12)/E12,"")
G13: =IFERROR((E13-F13)/E13,"")
G14: =IFERROR((E14-F14)/E14,"")
G15: =IFERROR((E15-F15)/E15,"")
G16: =IFERROR((E16-F16)/E16,"")
E17: 25 | F17: 20 | G17: =IFERROR((E17-F17)/E17,"") -> 0.2
G18: =IFERROR((E18-F18)/E18,"")
G19: =IFERROR((E19-F19)/E19,"")
G20: =IFERROR((E20-F20)/E20,"")
G21: =IFERROR((E21-F21)/E21,"")
G22: =IFERROR((E22-F22)/E22,"")
G23: =IFERROR((E23-F23)/E23,"")
G24: =IFERROR((E24-F24)/E24,"")
G25: =IFERROR((E25-F25)/E25,"")
G26: =IFERROR((E26-F26)/E26,"")
G27: =IFERROR((E27-F27)/E27,"")
G28: =IFERROR((E28-F28)/E28,"")
G29: =IFERROR((E29-F29)/E29,"")
... G99: =IFERROR((E99-F99)/E99,"")
A100: Totaux | E100: =SUM(E3:E99) -> 25 | F100: =SUM(F3:F99) -> 20 | G100: =AVERAGE(G3:G99) -> 0.2

Sheet 16
B1: Caisse 16
B2: Produit | C2: Marque | D2: Compléments | E2: Prix départ | F2: Prix soldé | G2: % réduction | H2: Commentaires | J2: Total journée | L2: =F100 -> 20
G3: =IFERROR((E3-F3)/E3,"")
G4: =IFERROR((E4-F4)/E4,"")
G5: =IFERROR((E5-F5)/E5,"") | J5: Moyenne réduction du jour | L5: =G100 -> 0.2
G6: =IFERROR((E6-F6)/E6,"")
G7: =IFERROR((E7-F7)/E7,"")
G8: =IFERROR((E8-F8)/E8,"") | J8: Nombre vélos | L8: =COUNTIF(B3:B101,"vélo") -> 0
G9: =IFERROR((E9-F9)/E9,"")
G10: =IFERROR((E10-F10)/E10,"")
G11: =IFERROR((E11-F11)/E11,"")
G12: =IFERROR((E12-F12)/E12,"")
G13: =IFERROR((E13-F13)/E13,"")
G14: =IFERROR((E14-F14)/E14,"")
G15: =IFERROR((E15-F15)/E15,"")
G16: =IFERROR((E16-F16)/E16,"")
E17: 25 | F17: 20 | G17: =IFERROR((E17-F17)/E17,"") -> 0.2
G18: =IFERROR((E18-F18)/E18,"")
G19: =IFERROR((E19-F19)/E19,"")
G20: =IFERROR((E20-F20)/E20,"")
G21: =IFERROR((E21-F21)/E21,"")
G22: =IFERROR((E22-F22)/E22,"")
G23: =IFERROR((E23-F23)/E23,"")
G24: =IFERROR((E24-F24)/E24,"")
G25: =IFERROR((E25-F25)/E25,"")
G26: =IFERROR((E26-F26)/E26,"")
G27: =IFERROR((E27-F27)/E27,"")
G28: =IFERROR((E28-F28)/E28,"")
G29: =IFERROR((E29-F29)/E29,"")
... G99: =IFERROR((E99-F99)/E99,"")
A100: Totaux | E100: =SUM(E3:E99) -> 25 | F100: =SUM(F3:F99) -> 20 | G100: =AVERAGE(G3:G99) -> 0.2

Sheet 17
B1: Caisse 17
B2: Produit | C2: Marque | D2: Compléments | E2: Prix départ | F2: Prix soldé | G2: % réduction | H2: Commentaires | J2: Total journée | L2: =F100 -> 20
G3: =IFERROR((E3-F3)/E3,"")
G4: =IFERROR((E4-F4)/E4,"")
G5: =IFERROR((E5-F5)/E5,"") | J5: Moyenne réduction du jour | L5: =G100 -> 0.2
G6: =IFERROR((E6-F6)/E6,"")
G7: =IFERROR((E7-F7)/E7,"")
G8: =IFERROR((E8-F8)/E8,"") | J8: Nombre vélos | L8: =COUNTIF(B3:B101,"vélo") -> 0
G9: =IFERROR((E9-F9)/E9,"")
G10: =IFERROR((E10-F10)/E10,"")
G11: =IFERROR((E11-F11)/E11,"")
G12: =IFERROR((E12-F12)/E12,"")
G13: =IFERROR((E13-F13)/E13,"")
G14: =IFERROR((E14-F14)/E14,"")
G15: =IFERROR((E15-F15)/E15,"")
G16: =IFERROR((E16-F16)/E16,"")
E17: 25 | F17: 20 | G17: =IFERROR((E17-F17)/E17,"") -> 0.2
G18: =IFERROR((E18-F18)/E18,"")
G19: =IFERROR((E19-F19)/E19,"")
G20: =IFERROR((E20-F20)/E20,"")
G21: =IFERROR((E21-F21)/E21,"")
G22: =IFERROR((E22-F22)/E22,"")
G23: =IFERROR((E23-F23)/E23,"")
G24: =IFERROR((E24-F24)/E24,"")
G25: =IFERROR((E25-F25)/E25,"")
G26: =IFERROR((E26-F26)/E26,"")
G27: =IFERROR((E27-F27)/E27,"")
G28: =IFERROR((E28-F28)/E28,"")
G29: =IFERROR((E29-F29)/E29,"")
... G99: =IFERROR((E99-F99)/E99,"")
A100: Totaux | E100: =SUM(E3:E99) -> 25 | F100: =SUM(F3:F99) -> 20 | G100: =AVERAGE(G3:G99) -> 0.2

Sheet 18
B1: Caisse 18
B2: Produit | C2: Marque | D2: Compléments | E2: Prix départ | F2: Prix soldé | G2: % réduction | H2: Commentaires | J2: Total journée | L2: =F100 -> 20
G3: =IFERROR((E3-F3)/E3,"")
G4: =IFERROR((E4-F4)/E4,"")
G5: =IFERROR((E5-F5)/E5,"") | J5: Moyenne réduction du jour | L5: =G100 -> 0.2
G6: =IFERROR((E6-F6)/E6,"")
G7: =IFERROR((E7-F7)/E7,"")
G8: =IFERROR((E8-F8)/E8,"") | J8: Nombre vélos | L8: =COUNTIF(B3:B101,"vélo") -> 0
G9: =IFERROR((E9-F9)/E9,"")
G10: =IFERROR((E10-F10)/E10,"")
G11: =IFERROR((E11-F11)/E11,"")
G12: =IFERROR((E12-F12)/E12,"")
G13: =IFERROR((E13-F13)/E13,"")
G14: =IFERROR((E14-F14)/E14,"")
G15: =IFERROR((E15-F15)/E15,"")
G16: =IFERROR((E16-F16)/E16,"")
E17: 25 | F17: 20 | G17: =IFERROR((E17-F17)/E17,"") -> 0.2
G18: =IFERROR((E18-F18)/E18,"")
G19: =IFERROR((E19-F19)/E19,"")
G20: =IFERROR((E20-F20)/E20,"")
G21: =IFERROR((E21-F21)/E21,"")
G22: =IFERROR((E22-F22)/E22,"")
G23: =IFERROR((E23-F23)/E23,"")
G24: =IFERROR((E24-F24)/E24,"")
G25: =IFERROR((E25-F25)/E25,"")
G26: =IFERROR((E26-F26)/E26,"")
G27: =IFERROR((E27-F27)/E27,"")
G28: =IFERROR((E28-F28)/E28,"")
G29: =IFERROR((E29-F29)/E29,"")
... G99: =IFERROR((E99-F99)/E99,"")
A100: Totaux | E100: =SUM(E3:E99) -> 25 | F100: =SUM(F3:F99) -> 20 | G100: =AVERAGE(G3:G99) -> 0.2

Sheet 19
B1: Caisse 19
B2: Produit | C2: Marque | D2: Compléments | E2: Prix départ | F2: Prix soldé | G2: % réduction | H2: Commentaires | J2: Total journée | L2: =F100 -> 20
G3: =IFERROR((E3-F3)/E3,"")
G4: =IFERROR((E4-F4)/E4,"")
G5: =IFERROR((E5-F5)/E5,"") | J5: Moyenne réduction du jour | L5: =G100 -> 0.2
G6: =IFERROR((E6-F6)/E6,"")
G7: =IFERROR((E7-F7)/E7,"")
G8: =IFERROR((E8-F8)/E8,"") | J8: Nombre vélos | L8: =COUNTIF(B3:B101,"vélo") -> 0
G9: =IFERROR((E9-F9)/E9,"")
G10: =IFERROR((E10-F10)/E10,"")
G11: =IFERROR((E11-F11)/E11,"")
G12: =IFERROR((E12-F12)/E12,"")
G13: =IFERROR((E13-F13)/E13,"")
G14: =IFERROR((E14-F14)/E14,"")
G15: =IFERROR((E15-F15)/E15,"")
G16: =IFERROR((E16-F16)/E16,"")
E17: 25 | F17: 20 | G17: =IFERROR((E17-F17)/E17,"") -> 0.2
G18: =IFERROR((E18-F18)/E18,"")
G19: =IFERROR((E19-F19)/E19,"")
G20: =IFERROR((E20-F20)/E20,"")
G21: =IFERROR((E21-F21)/E21,"")
G22: =IFERROR((E22-F22)/E22,"")
G23: =IFERROR((E23-F23)/E23,"")
G24: =IFERROR((E24-F24)/E24,"")
G25: =IFERROR((E25-F25)/E25,"")
G26: =IFERROR((E26-F26)/E26,"")
G27: =IFERROR((E27-F27)/E27,"")
G28: =IFERROR((E28-F28)/E28,"")
G29: =IFERROR((E29-F29)/E29,"")
... G99: =IFERROR((E99-F99)/E99,"")
A100: Totaux | E100: =SUM(E3:E99) -> 25 | F100: =SUM(F3:F99) -> 20 | G100: =AVERAGE(G3:G99) -> 0.2

Sheet 20
B1: Caisse 20
B2: Produit | C2: Marque | D2: Compléments | E2: Prix départ | F2: Prix soldé | G2: % réduction | H2: Commentaires | J2: Total journée | L2: =F100 -> 20
G3: =IFERROR((E3-F3)/E3,"")
G4: =IFERROR((E4-F4)/E4,"")
G5: =IFERROR((E5-F5)/E5,"") | J5: Moyenne réduction du jour | L5: =G100 -> 0.2
G6: =IFERROR((E6-F6)/E6,"")
G7: =IFERROR((E7-F7)/E7,"")
G8: =IFERROR((E8-F8)/E8,"") | J8: Nombre vélos | L8: =COUNTIF(B3:B101,"vélo") -> 0
G9: =IFERROR((E9-F9)/E9,"")
G10: =IFERROR((E10-F10)/E10,"")
G11: =IFERROR((E11-F11)/E11,"")
G12: =IFERROR((E12-F12)/E12,"")
G13: =IFERROR((E13-F13)/E13,"")
G14: =IFERROR((E14-F14)/E14,"")
G15: =IFERROR((E15-F15)/E15,"")
G16: =IFERROR((E16-F16)/E16,"")
E17: 25 | F17: 20 | G17: =IFERROR((E17-F17)/E17,"") -> 0.2
G18: =IFERROR((E18-F18)/E18,"")
G19: =IFERROR((E19-F19)/E19,"")
G20: =IFERROR((E20-F20)/E20,"")
G21: =IFERROR((E21-F21)/E21,"")
G22: =IFERROR((E22-F22)/E22,"")
G23: =IFERROR((E23-F23)/E23,"")
G24: =IFERROR((E24-F24)/E24,"")
G25: =IFERROR((E25-F25)/E25,"")
G26: =IFERROR((E26-F26)/E26,"")
G27: =IFERROR((E27-F27)/E27,"")
G28: =IFERROR((E28-F28)/E28,"")
G29: =IFERROR((E29-F29)/E29,"")
... G99: =IFERROR((E99-F99)/E99,"")
A100: Totaux | E100: =SUM(E3:E99) -> 25 | F100: =SUM(F3:F99) -> 20 | G100: =AVERAGE(G3:G99) -> 0.2

Sheet 21
B1: Caisse 21
B2: Produit | C2: Marque | D2: Compléments | E2: Prix départ | F2: Prix soldé | G2: % réduction | H2: Commentaires | J2: Total journée | L2: =F100 -> 20
G3: =IFERROR((E3-F3)/E3,"")
G4: =IFERROR((E4-F4)/E4,"")
G5: =IFERROR((E5-F5)/E5,"") | J5: Moyenne réduction du jour | L5: =G100 -> 0.2
G6: =IFERROR((E6-F6)/E6,"")
G7: =IFERROR((E7-F7)/E7,"")
G8: =IFERROR((E8-F8)/E8,"") | J8: Nombre vélos | L8: =COUNTIF(B3:B101,"vélo") -> 0
G9: =IFERROR((E9-F9)/E9,"")
G10: =IFERROR((E10-F10)/E10,"")
G11: =IFERROR((E11-F11)/E11,"")
G12: =IFERROR((E12-F12)/E12,"")
G13: =IFERROR((E13-F13)/E13,"")
G14: =IFERROR((E14-F14)/E14,"")
G15: =IFERROR((E15-F15)/E15,"")
G16: =IFERROR((E16-F16)/E16,"")
E17: 25 | F17: 20 | G17: =IFERROR((E17-F17)/E17,"") -> 0.2
G18: =IFERROR((E18-F18)/E18,"")
G19: =IFERROR((E19-F19)/E19,"")
G20: =IFERROR((E20-F20)/E20,"")
G21: =IFERROR((E21-F21)/E21,"")
G22: =IFERROR((E22-F22)/E22,"")
G23: =IFERROR((E23-F23)/E23,"")
G24: =IFERROR((E24-F24)/E24,"")
G25: =IFERROR((E25-F25)/E25,"")
G26: =IFERROR((E26-F26)/E26,"")
G27: =IFERROR((E27-F27)/E27,"")
G28: =IFERROR((E28-F28)/E28,"")
G29: =IFERROR((E29-F29)/E29,"")
... G99: =IFERROR((E99-F99)/E99,"")
A100: Totaux | E100: =SUM(E3:E99) -> 25 | F100: =SUM(F3:F99) -> 20 | G100: =AVERAGE(G3:G99) -> 0.2

Sheet 22
B1: Caisse 22
B2: Produit | C2: Marque | D2: Compléments | E2: Prix départ | F2: Prix soldé | G2: % réduction | H2: Commentaires | J2: Total journée | L2: =F100 -> 20
G3: =IFERROR((E3-F3)/E3,"")
G4: =IFERROR((E4-F4)/E4,"")
G5: =IFERROR((E5-F5)/E5,"") | J5: Moyenne réduction du jour | L5: =G100 -> 0.2
G6: =IFERROR((E6-F6)/E6,"")
G7: =IFERROR((E7-F7)/E7,"")
G8: =IFERROR((E8-F8)/E8,"") | J8: Nombre vélos | L8: =COUNTIF(B3:B101,"vélo") -> 0
G9: =IFERROR((E9-F9)/E9,"")
G10: =IFERROR((E10-F10)/E10,"")
G11: =IFERROR((E11-F11)/E11,"")
G12: =IFERROR((E12-F12)/E12,"")
G13: =IFERROR((E13-F13)/E13,"")
G14: =IFERROR((E14-F14)/E14,"")
G15: =IFERROR((E15-F15)/E15,"")
G16: =IFERROR((E16-F16)/E16,"")
E17: 25 | F17: 20 | G17: =IFERROR((E17-F17)/E17,"") -> 0.2
G18: =IFERROR((E18-F18)/E18,"")
G19: =IFERROR((E19-F19)/E19,"")
G20: =IFERROR((E20-F20)/E20,"")
G21: =IFERROR((E21-F21)/E21,"")
G22: =IFERROR((E22-F22)/E22,"")
G23: =IFERROR((E23-F23)/E23,"")
G24: =IFERROR((E24-F24)/E24,"")
G25: =IFERROR((E25-F25)/E25,"")
G26: =IFERROR((E26-F26)/E26,"")
G27: =IFERROR((E27-F27)/E27,"")
G28: =IFERROR((E28-F28)/E28,"")
G29: =IFERROR((E29-F29)/E29,"")
... G99: =IFERROR((E99-F99)/E99,"")
A100: Totaux | E100: =SUM(E3:E99) -> 25 | F100: =SUM(F3:F99) -> 20 | G100: =AVERAGE(G3:G99) -> 0.2

Sheet 23
B1: Caisse 23
B2: Produit | C2: Marque | D2: Compléments | E2: Prix départ | F2: Prix soldé | G2: % réduction | H2: Commentaires | J2: Total journée | L2: =F100 -> 20
G3: =IFERROR((E3-F3)/E3,"")
G4: =IFERROR((E4-F4)/E4,"")
G5: =IFERROR((E5-F5)/E5,"") | J5: Moyenne réduction du jour | L5: =G100 -> 0.2
G6: =IFERROR((E6-F6)/E6,"")
G7: =IFERROR((E7-F7)/E7,"")
G8: =IFERROR((E8-F8)/E8,"") | J8: Nombre vélos | L8: =COUNTIF(B3:B101,"vélo") -> 0
G9: =IFERROR((E9-F9)/E9,"")
G10: =IFERROR((E10-F10)/E10,"")
G11: =IFERROR((E11-F11)/E11,"")
G12: =IFERROR((E12-F12)/E12,"")
G13: =IFERROR((E13-F13)/E13,"")
G14: =IFERROR((E14-F14)/E14,"")
G15: =IFERROR((E15-F15)/E15,"")
G16: =IFERROR((E16-F16)/E16,"")
E17: 25 | F17: 20 | G17: =IFERROR((E17-F17)/E17,"") -> 0.2
G18: =IFERROR((E18-F18)/E18,"")
G19: =IFERROR((E19-F19)/E19,"")
G20: =IFERROR((E20-F20)/E20,"")
G21: =IFERROR((E21-F21)/E21,"")
G22: =IFERROR((E22-F22)/E22,"")
G23: =IFERROR((E23-F23)/E23,"")
G24: =IFERROR((E24-F24)/E24,"")
G25: =IFERROR((E25-F25)/E25,"")
G26: =IFERROR((E26-F26)/E26,"")
G27: =IFERROR((E27-F27)/E27,"")
G28: =IFERROR((E28-F28)/E28,"")
G29: =IFERROR((E29-F29)/E29,"")
... G99: =IFERROR((E99-F99)/E99,"")
A100: Totaux | E100: =SUM(E3:E99) -> 25 | F100: =SUM(F3:F99) -> 20 | G100: =AVERAGE(G3:G99) -> 0.2

Sheet 24
B1: Caisse 24
B2: Produit | C2: Marque | D2: Compléments | E2: Prix départ | F2: Prix soldé | G2: % réduction | H2: Commentaires | J2: Total journée | L2: =F100 -> 20
G3: =IFERROR((E3-F3)/E3,"")
G4: =IFERROR((E4-F4)/E4,"")
G5: =IFERROR((E5-F5)/E5,"") | J5: Moyenne réduction du jour | L5: =G100 -> 0.2
G6: =IFERROR((E6-F6)/E6,"")
G7: =IFERROR((E7-F7)/E7,"")
G8: =IFERROR((E8-F8)/E8,"") | J8: Nombre vélos | L8: =COUNTIF(B3:B101,"vélo") -> 0
G9: =IFERROR((E9-F9)/E9,"")
G10: =IFERROR((E10-F10)/E10,"")
G11: =IFERROR((E11-F11)/E11,"")
G12: =IFERROR((E12-F12)/E12,"")
G13: =IFERROR((E13-F13)/E13,"")
G14: =IFERROR((E14-F14)/E14,"")
G15: =IFERROR((E15-F15)/E15,"")
G16: =IFERROR((E16-F16)/E16,"")
E17: 25 | F17: 20 | G17: =IFERROR((E17-F17)/E17,"") -> 0.2
G18: =IFERROR((E18-F18)/E18,"")
G19: =IFERROR((E19-F19)/E19,"")
G20: =IFERROR((E20-F20)/E20,"")
G21: =IFERROR((E21-F21)/E21,"")
G22: =IFERROR((E22-F22)/E22,"")
G23: =IFERROR((E23-F23)/E23,"")
G24: =IFERROR((E24-F24)/E24,"")
G25: =IFERROR((E25-F25)/E25,"")
G26: =IFERROR((E26-F26)/E26,"")
G27: =IFERROR((E27-F27)/E27,"")
G28: =IFERROR((E28-F28)/E28,"")
G29: =IFERROR((E29-F29)/E29,"")
... G99: =IFERROR((E99-F99)/E99,"")
A100: Totaux | E100: =SUM(E3:E99) -> 25 | F100: =SUM(F3:F99) -> 20 | G100: =AVERAGE(G3:G99) -> 0.2

Sheet 25
B1: Caisse 25
B2: Produit | C2: Marque | D2: Compléments | E2: Prix départ | F2: Prix soldé | G2: % réduction | H2: Commentaires | J2: Total journée | L2: =F100 -> 20
G3: =IFERROR((E3-F3)/E3,"")
G4: =IFERROR((E4-F4)/E4,"")
G5: =IFERROR((E5-F5)/E5,"") | J5: Moyenne réduction du jour | L5: =G100 -> 0.2
G6: =IFERROR((E6-F6)/E6,"")
G7: =IFERROR((E7-F7)/E7,"")
G8: =IFERROR((E8-F8)/E8,"") | J8: Nombre vélos | L8: =COUNTIF(B3:B101,"vélo") -> 0
G9: =IFERROR((E9-F9)/E9,"")
G10: =IFERROR((E10-F10)/E10,"")
G11: =IFERROR((E11-F11)/E11,"")
G12: =IFERROR((E12-F12)/E12,"")
G13: =IFERROR((E13-F13)/E13,"")
G14: =IFERROR((E14-F14)/E14,"")
G15: =IFERROR((E15-F15)/E15,"")
G16: =IFERROR((E16-F16)/E16,"")
E17: 25 | F17: 20 | G17: =IFERROR((E17-F17)/E17,"") -> 0.2
G18: =IFERROR((E18-F18)/E18,"")
G19: =IFERROR((E19-F19)/E19,"")
G20: =IFERROR((E20-F20)/E20,"")
G21: =IFERROR((E21-F21)/E21,"")
G22: =IFERROR((E22-F22)/E22,"")
G23: =IFERROR((E23-F23)/E23,"")
G24: =IFERROR((E24-F24)/E24,"")
G25: =IFERROR((E25-F25)/E25,"")
G26: =IFERROR((E26-F26)/E26,"")
G27: =IFERROR((E27-F27)/E27,"")
G28: =IFERROR((E28-F28)/E28,"")
G29: =IFERROR((E29-F29)/E29,"")
... G99: =IFERROR((E99-F99)/E99,"")
A100: Totaux | E100: =SUM(E3:E99) -> 25 | F100: =SUM(F3:F99) -> 20 | G100: =AVERAGE(G3:G99) -> 0.2

Sheet 26
B1: Caisse 26
B2: Produit | C2: Marque | D2: Compléments | E2: Prix départ | F2: Prix soldé | G2: % réduction | H2: Commentaires | J2: Total journée | L2: =F100 -> 20
G3: =IFERROR((E3-F3)/E3,"")
G4: =IFERROR((E4-F4)/E4,"")
G5: =IFERROR((E5-F5)/E5,"") | J5: Moyenne réduction du jour | L5: =G100 -> 0.2
G6: =IFERROR((E6-F6)/E6,"")
G7: =IFERROR((E7-F7)/E7,"")
G8: =IFERROR((E8-F8)/E8,"") | J8: Nombre vélos | L8: =COUNTIF(B3:B101,"vélo") -> 0
G9: =IFERROR((E9-F9)/E9,"")
G10: =IFERROR((E10-F10)/E10,"")
G11: =IFERROR((E11-F11)/E11,"")
G12: =IFERROR((E12-F12)/E12,"")
G13: =IFERROR((E13-F13)/E13,"")
G14: =IFERROR((E14-F14)/E14,"")
G15: =IFERROR((E15-F15)/E15,"")
G16: =IFERROR((E16-F16)/E16,"")
E17: 25 | F17: 20 | G17: =IFERROR((E17-F17)/E17,"") -> 0.2
G18: =IFERROR((E18-F18)/E18,"")
G19: =IFERROR((E19-F19)/E19,"")
G20: =IFERROR((E20-F20)/E20,"")
G21: =IFERROR((E21-F21)/E21,"")
G22: =IFERROR((E22-F22)/E22,"")
G23: =IFERROR((E23-F23)/E23,"")
G24: =IFERROR((E24-F24)/E24,"")
G25: =IFERROR((E25-F25)/E25,"")
G26: =IFERROR((E26-F26)/E26,"")
G27: =IFERROR((E27-F27)/E27,"")
G28: =IFERROR((E28-F28)/E28,"")
G29: =IFERROR((E29-F29)/E29,"")
... G99: =IFERROR((E99-F99)/E99,"")
A100: Totaux | E100: =SUM(E3:E99) -> 25 | F100: =SUM(F3:F99) -> 20 | G100: =AVERAGE(G3:G99) -> 0.2

Sheet 27
B1: Caisse 27
B2: Produit | C2: Marque | D2: Compléments | E2: Prix départ | F2: Prix soldé | G2: % réduction | H2: Commentaires | J2: Total journée | L2: =F100 -> 20
G3: =IFERROR((E3-F3)/E3,"")
G4: =IFERROR((E4-F4)/E4,"")
G5: =IFERROR((E5-F5)/E5,"") | J5: Moyenne réduction du jour | L5: =G100 -> 0.2
G6: =IFERROR((E6-F6)/E6,"")
G7: =IFERROR((E7-F7)/E7,"")
G8: =IFERROR((E8-F8)/E8,"") | J8: Nombre vélos | L8: =COUNTIF(B3:B101,"vélo") -> 0
G9: =IFERROR((E9-F9)/E9,"")
G10: =IFERROR((E10-F10)/E10,"")
G11: =IFERROR((E11-F11)/E11,"")
G12: =IFERROR((E12-F12)/E12,"")
G13: =IFERROR((E13-F13)/E13,"")
G14: =IFERROR((E14-F14)/E14,"")
G15: =IFERROR((E15-F15)/E15,"")
G16: =IFERROR((E16-F16)/E16,"")
E17: 25 | F17: 20 | G17: =IFERROR((E17-F17)/E17,"") -> 0.2
G18: =IFERROR((E18-F18)/E18,"")
G19: =IFERROR((E19-F19)/E19,"")
G20: =IFERROR((E20-F20)/E20,"")
G21: =IFERROR((E21-F21)/E21,"")
G22: =IFERROR((E22-F22)/E22,"")
G23: =IFERROR((E23-F23)/E23,"")
G24: =IFERROR((E24-F24)/E24,"")
G25: =IFERROR((E25-F25)/E25,"")
G26: =IFERROR((E26-F26)/E26,"")
G27: =IFERROR((E27-F27)/E27,"")
G28: =IFERROR((E28-F28)/E28,"")
G29: =IFERROR((E29-F29)/E29,"")
... G99: =IFERROR((E99-F99)/E99,"")
A100: Totaux | E100: =SUM(E3:E99) -> 25 | F100: =SUM(F3:F99) -> 20 | G100: =AVERAGE(G3:G99) -> 0.2

Sheet 28
B1: Caisse 28
B2: Produit | C2: Marque | D2: Compléments | E2: Prix départ | F2: Prix soldé | G2: % réduction | H2: Commentaires | J2: Total journée | L2: =F100 -> 20
G3: =IFERROR((E3-F3)/E3,"")
G4: =IFERROR((E4-F4)/E4,"")
G5: =IFERROR((E5-F5)/E5,"") | J5: Moyenne réduction du jour | L5: =G100 -> 0.2
G6: =IFERROR((E6-F6)/E6,"")
G7: =IFERROR((E7-F7)/E7,"")
G8: =IFERROR((E8-F8)/E8,"") | J8: Nombre vélos | L8: =COUNTIF(B3:B101,"vélo") -> 0
G9: =IFERROR((E9-F9)/E9,"")
G10: =IFERROR((E10-F10)/E10,"")
G11: =IFERROR((E11-F11)/E11,"")
G12: =IFERROR((E12-F12)/E12,"")
G13: =IFERROR((E13-F13)/E13,"")
G14: =IFERROR((E14-F14)/E14,"")
G15: =IFERROR((E15-F15)/E15,"")
G16: =IFERROR((E16-F16)/E16,"")
E17: 25 | F17: 20 | G17: =IFERROR((E17-F17)/E17,"") -> 0.2
G18: =IFERROR((E18-F18)/E18,"")
G19: =IFERROR((E19-F19)/E19,"")
G20: =IFERROR((E20-F20)/E20,"")
G21: =IFERROR((E21-F21)/E21,"")
G22: =IFERROR((E22-F22)/E22,"")
G23: =IFERROR((E23-F23)/E23,"")
G24: =IFERROR((E24-F24)/E24,"")
G25: =IFERROR((E25-F25)/E25,"")
G26: =IFERROR((E26-F26)/E26,"")
G27: =IFERROR((E27-F27)/E27,"")
G28: =IFERROR((E28-F28)/E28,"")
G29: =IFERROR((E29-F29)/E29,"")
... G99: =IFERROR((E99-F99)/E99,"")
A100: Totaux | E100: =SUM(E3:E99) -> 25 | F100: =SUM(F3:F99) -> 20 | G100: =AVERAGE(G3:G99) -> 0.2

Sheet 29
B1: Caisse 29
B2: Produit | C2: Marque | D2: Compléments | E2: Prix départ | F2: Prix soldé | G2: % réduction | H2: Commentaires | J2: Total journée | L2: =F100 -> 20
G3: =IFERROR((E3-F3)/E3,"")
G4: =IFERROR((E4-F4)/E4,"")
G5: =IFERROR((E5-F5)/E5,"") | J5: Moyenne réduction du jour | L5: =G100 -> 0.2
G6: =IFERROR((E6-F6)/E6,"")
G7: =IFERROR((E7-F7)/E7,"")
G8: =IFERROR((E8-F8)/E8,"") | J8: Nombre vélos | L8: =COUNTIF(B3:B101,"vélo") -> 0
G9: =IFERROR((E9-F9)/E9,"")
G10: =IFERROR((E10-F10)/E10,"")
G11: =IFERROR((E11-F11)/E11,"")
G12: =IFERROR((E12-F12)/E12,"")
G13: =IFERROR((E13-F13)/E13,"")
G14: =IFERROR((E14-F14)/E14,"")
G15: =IFERROR((E15-F15)/E15,"")
G16: =IFERROR((E16-F16)/E16,"")
E17: 25 | F17: 20 | G17: =IFERROR((E17-F17)/E17,"") -> 0.2
G18: =IFERROR((E18-F18)/E18,"")
G19: =IFERROR((E19-F19)/E19,"")
G20: =IFERROR((E20-F20)/E20,"")
G21: =IFERROR((E21-F21)/E21,"")
G22: =IFERROR((E22-F22)/E22,"")
G23: =IFERROR((E23-F23)/E23,"")
G24: =IFERROR((E24-F24)/E24,"")
G25: =IFERROR((E25-F25)/E25,"")
G26: =IFERROR((E26-F26)/E26,"")
G27: =IFERROR((E27-F27)/E27,"")
G28: =IFERROR((E28-F28)/E28,"")
G29: =IFERROR((E29-F29)/E29,"")
... G99: =IFERROR((E99-F99)/E99,"")
A100: Totaux | E100: =SUM(E3:E99) -> 25 | F100: =SUM(F3:F99) -> 20 | G100: =AVERAGE(G3:G99) -> 0.2

Sheet 30
B1: Caisse 30
B2: Produit | C2: Marque | D2: Compléments | E2: Prix départ | F2: Prix soldé | G2: % réduction | H2: Commentaires | J2: Total journée | L2: =F100 -> 20
G3: =IFERROR((E3-F3)/E3,"")
G4: =IFERROR((E4-F4)/E4,"")
G5: =IFERROR((E5-F5)/E5,"") | J5: Moyenne réduction du jour | L5: =G100 -> 0.2
G6: =IFERROR((E6-F6)/E6,"")
G7: =IFERROR((E7-F7)/E7,"")
G8: =IFERROR((E8-F8)/E8,"") | J8: Nombre vélos | L8: =COUNTIF(B3:B101,"vélo") -> 0
G9: =IFERROR((E9-F9)/E9,"")
G10: =IFERROR((E10-F10)/E10,"")
G11: =IFERROR((E11-F11)/E11,"")
G12: =IFERROR((E12-F12)/E12,"")
G13: =IFERROR((E13-F13)/E13,"")
G14: =IFERROR((E14-F14)/E14,"")
G15: =IFERROR((E15-F15)/E15,"")
G16: =IFERROR((E16-F16)/E16,"")
E17: 25 | F17: 20 | G17: =IFERROR((E17-F17)/E17,"") -> 0.2
G18: =IFERROR((E18-F18)/E18,"")
G19: =IFERROR((E19-F19)/E19,"")
G20: =IFERROR((E20-F20)/E20,"")
G21: =IFERROR((E21-F21)/E21,"")
G22: =IFERROR((E22-F22)/E22,"")
G23: =IFERROR((E23-F23)/E23,"")
G24: =IFERROR((E24-F24)/E24,"")
G25: =IFERROR((E25-F25)/E25,"")
G26: =IFERROR((E26-F26)/E26,"")
G27: =IFERROR((E27-F27)/E27,"")
G28: =IFERROR((E28-F28)/E28,"")
G29: =IFERROR((E29-F29)/E29,"")
... G99: =IFERROR((E99-F99)/E99,"")
A100: Totaux | E100: =SUM(E3:E99) -> 25 | F100: =SUM(F3:F99) -> 20 | G100: =AVERAGE(G3:G99) -> 0.2

Sheet 31
B1: Caisse 31
B2: Produit | C2: Marque | D2: Compléments | E2: Prix départ | F2: Prix soldé | G2: % réduction | H2: Commentaires | J2: Total journée | L2: =F100 -> 20
G3: =IFERROR((E3-F3)/E3,"")
G4: =IFERROR((E4-F4)/E4,"")
G5: =IFERROR((E5-F5)/E5,"") | J5: Moyenne réduction du jour | L5: =G100 -> 0.2
G6: =IFERROR((E6-F6)/E6,"")
G7: =IFERROR((E7-F7)/E7,"")
G8: =IFERROR((E8-F8)/E8,"") | J8: Nombre vélos | L8: =COUNTIF(B3:B101,"vélo") -> 0
G9: =IFERROR((E9-F9)/E9,"")
G10: =IFERROR((E10-F10)/E10,"")
G11: =IFERROR((E11-F11)/E11,"")
G12: =IFERROR((E12-F12)/E12,"")
G13: =IFERROR((E13-F13)/E13,"")
G14: =IFERROR((E14-F14)/E14,"")
G15: =IFERROR((E15-F15)/E15,"")
G16: =IFERROR((E16-F16)/E16,"")
E17: 25 | F17: 20 | G17: =IFERROR((E17-F17)/E17,"") -> 0.2
G18: =IFERROR((E18-F18)/E18,"")
G19: =IFERROR((E19-F19)/E19,"")
G20: =IFERROR((E20-F20)/E20,"")
G21: =IFERROR((E21-F21)/E21,"")
G22: =IFERROR((E22-F22)/E22,"")
G23: =IFERROR((E23-F23)/E23,"")
G24: =IFERROR((E24-F24)/E24,"")
G25: =IFERROR((E25-F25)/E25,"")
G26: =IFERROR((E26-F26)/E26,"")
G27: =IFERROR((E27-F27)/E27,"")
G28: =IFERROR((E28-F28)/E28,"")
G29: =IFERROR((E29-F29)/E29,"")
... G99: =IFERROR((E99-F99)/E99,"")
A100: Totaux | E100: =SUM(E3:E99) -> 25 | F100: =SUM(F3:F99) -> 20 | G100: =AVERAGE(G3:G99) -> 0.2
