Workbook
Name CODES: LEGENDE!$C$2:$C$10
Name JANV4: PLANNING!$F$7
Name METIER1: LEGENDE!$F:$F
Name METIER2: LEGENDE!$G:$G
Name METIER3: LEGENDE!$H:$H
Name METIER4: LEGENDE!$I:$I
Name SEMAINE1: PLANNING!$F$8:$J$8

Sheet PLANNING
G1: JANV 2016 | AI1: FEV 2016 | BJ1: MARS 2016
A2: NOM | B2: CODE | F2: S01 | M2: S02 | T2: S03 | AA2: S04 | AH2: S05 | AO2: S06 | AV2: S07 | BC2: S08 | BJ2: S09 | BQ2: S10 | BX2: S11 | CE2: S12 | CL2: S13 | CS2: S14 | CZ2: S15 | DG2: S16 | DN2: S17
C3: V | D3: S | E3: D | F3: L | G3: M | H3: M | I3: J | J3: V | K3: S | L3: D | M3: L | N3: M | O3: M | P3: J | Q3: V | R3: S | S3: D | T3: L | U3: M | V3: M | W3: J | X3: V | Y3: S | Z3: D | AA3: L | AB3: M | AC3: M | AD3: J | AE3: V | AF3: S | AG3: D | AH3: L | AI3: M | AJ3: M | AK3: J | AL3: V | AM3: S | AN3: D | AO3: L | AP3: M | AQ3: M | AR3: J | AS3: V | AT3: S | AU3: D | AV3: L | AW3: M | AX3: M | AY3: J | AZ3: V | BA3: S | BB3: D | BC3: L | BD3: M | BE3: M | BF3: J | BG3: V | BH3: S | BI3: D | BJ3: L | BK3: M | BL3: M | BM3: J | BN3: V | BO3: S | BP3: D | BQ3: L | BR3: M | BS3: M | BT3: J | BU3: V | BV3: S | BW3: D | BX3: L | BY3: M | BZ3: M | CA3: J | CB3: V | CC3: S | CD3: D | CE3: L | CF3: M | CG3: M | CH3: J | CI3: V | CJ3: S | CK3: D | CL3: L | CM3: M | CN3: M | CO3: J | CP3: V | CQ3: S | CR3: D | CS3: L | CT3: M | CU3: M | CV3: J | CW3: V | CX3: S | CY3: D | CZ3: L | DA3: M | DB3: M | DC3: J | DD3: V | DE3: S | DF3: D | DG3: L | DH3: M | DI3: M | DJ3: J | DK3: V | DL3: S | DM3: D | DN3: L | DO3: M | DP3: M | DQ3: J | DR3: V | DS3: S | DT3: D | DU3: L | DV3: M | DW3: M | DX3: J | DY3: V | DZ3: S | EA3: D | EB3: L | EC3: M | ED3: M | EE3: J | EF3: V | EG3: S | EH3: D | EI3: L | EJ3: M | EK3: M | EL3: J | EM3: V | EN3: S | EO3: D | EP3: L | EQ3: M
C4: 42370 | D4: 42371 | E4: 42372 | F4: 42373 | G4: 42374 | H4: 42375 | I4: 42376 | J4: 42377 | K4: 42378 | L4: 42379 | M4: 42380 | N4: 42381 | O4: 42382 | P4: 42383 | Q4: 42384 | R4: 42385 | S4: 42386 | T4: 42387 | U4: 42388 | V4: 42389 | W4: 42390 | X4: 42391 | Y4: 42392 | Z4: 42393 | AA4: 42394 | AB4: 42395 | AC4: 42396 | AD4: 42397 | AE4: 42398 | AF4: 42399 | AG4: 42400 | AH4: 42401 | AI4: 42402 | AJ4: 42403 | AK4: 42404 | AL4: 42405 | AM4: 42406 | AN4: 42407 | AO4: 42408 | AP4: 42409 | AQ4: 42410 | AR4: 42411 | AS4: 42412 | AT4: 42413 | AU4: 42414 | AV4: 42415 | AW4: 42416 | AX4: 42417 | AY4: 42418 | AZ4: 42419 | BA4: 42420 | BB4: 42421 | BC4: 42422 | BD4: 42423 | BE4: 42424 | BF4: 42425 | BG4: 42426 | BH4: 42427 | BI4: 42428 | BJ4: 42429 | BK4: 42430 | BL4: 42431 | BM4: 42432 | BN4: 42433 | BO4: 42434 | BP4: 42435 | BQ4: 42436 | BR4: 42437 | BS4: 42438 | BT4: 42439 | BU4: 42440 | BV4: 42441 | BW4: 42442 | BX4: 42443 | BY4: 42444 | BZ4: 42445 | CA4: 42446 | CB4: 42447 | CC4: 42448 | CD4: 42449 | CE4: 42450 | CF4: 42451 | CG4: 42452 | CH4: 42453 | CI4: 42454 | CJ4: 42455 | CK4: 42456 | CL4: 42457 | CM4: 42458 | CN4: 42459 | CO4: 42460 | CP4: 42461 | CQ4: 42462 | CR4: 42463 | CS4: 42464 | CT4: 42465 | CU4: 42466 | CV4: 42467 | CW4: 42468 | CX4: 42469 | CY4: 42470 | CZ4: 42471 | DA4: 42472 | DB4: 42473 | DC4: 42474 | DD4: 42475 | DE4: 42476 | DF4: 42477 | DG4: 42478 | DH4: 42479 | DI4: 42480 | DJ4: 42481 | DK4: 42482 | DL4: 42483 | DM4: 42484 | DN4: 42485 | DO4: 42486 | DP4: 42487 | DQ4: 42488 | DR4: 42489 | DS4: 42490 | DT4: 42491 | DU4: 42492 | DV4: 42493 | DW4: 42494 | DX4: 42495 | DY4: 42496 | DZ4: 42497 | EA4: 42498 | EB4: 42499 | EC4: 42500 | ED4: 42501 | EE4: 42502 | EF4: 42503 | EG4: 42504 | EH4: 42505 | EI4: 42506 | EJ4: 42507 | EK4: 42508 | EL4: 42509 | EM4: 42510 | EN4: 42511 | EO4: 42512
A5: =LEGENDE!F1 -> METIER1 | C5: =IFERROR(INDIRECT(ADDRESS(MATCH(C$4,METIER1,0),3,4,1,"LEGENDE")),"") | D5: =IFERROR(INDIRECT(ADDRESS(MATCH(D$4,METIER1,0),3,4,1,"LEGENDE")),"") | E5: =IFERROR(INDIRECT(ADDRESS(MATCH(E$4,METIER1,0),3,4,1,"LEGENDE")),"") | F5: =IFERROR(INDIRECT(ADDRESS(MATCH(F$4,METIER1,0),3,4,1,"LEGENDE")),"") -> E5 | G5: =IFERROR(INDIRECT(ADDRESS(MATCH(G$4,METIER1,0),3,4,1,"LEGENDE")),"") | H5: =IFERROR(INDIRECT(ADDRESS(MATCH(H$4,METIER1,0),3,4,1,"LEGENDE")),"") | I5: =IFERROR(INDIRECT(ADDRESS(MATCH(I$4,METIER1,0),3,4,1,"LEGENDE")),"") | J5: =IFERROR(INDIRECT(ADDRESS(MATCH(J$4,METIER1,0),3,4,1,"LEGENDE")),"") | ... DT5: =IFERROR(INDIRECT(ADDRESS(MATCH(DT$4,METIER1,0),3,4,1,"LEGENDE")),"")
A6: =LEGENDE!G1 -> METIER2 | C6: =IFERROR(INDIRECT(ADDRESS(MATCH(C$4,METIER2,0),3,4,1,"LEGENDE")),"") | D6: =IFERROR(INDIRECT(ADDRESS(MATCH(D$4,METIER2,0),3,4,1,"LEGENDE")),"") | E6: =IFERROR(INDIRECT(ADDRESS(MATCH(E$4,METIER2,0),3,4,1,"LEGENDE")),"") | F6: =IFERROR(INDIRECT(ADDRESS(MATCH(F$4,METIER2,0),3,4,1,"LEGENDE")),"") | G6: =IFERROR(INDIRECT(ADDRESS(MATCH(G$4,METIER2,0),3,4,1,"LEGENDE")),"") -> E1 | H6: =IFERROR(INDIRECT(ADDRESS(MATCH(H$4,METIER2,0),3,4,1,"LEGENDE")),"") -> E2 | I6: =IFERROR(INDIRECT(ADDRESS(MATCH(I$4,METIER2,0),3,4,1,"LEGENDE")),"") | J6: =IFERROR(INDIRECT(ADDRESS(MATCH(J$4,METIER2,0),3,4,1,"LEGENDE")),"") | ... DT6: =IFERROR(INDIRECT(ADDRESS(MATCH(DT$4,METIER2,0),3,4,1,"LEGENDE")),"")
A7: =LEGENDE!H1 -> METIER3 | C7: =IFERROR(INDIRECT(ADDRESS(MATCH(C$4,METIER3,0),3,4,1,"LEGENDE")),"") | D7: =IFERROR(INDIRECT(ADDRESS(MATCH(D$4,METIER3,0),3,4,1,"LEGENDE")),"") | E7: =IFERROR(INDIRECT(ADDRESS(MATCH(E$4,METIER3,0),3,4,1,"LEGENDE")),"") | F7: =IFERROR(INDIRECT(ADDRESS(MATCH(F$4,METIER3,0),3,4,1,"LEGENDE")),"") | G7: =IFERROR(INDIRECT(ADDRESS(MATCH(G$4,METIER3,0),3,4,1,"LEGENDE")),"") | H7: =IFERROR(INDIRECT(ADDRESS(MATCH(H$4,METIER3,0),3,4,1,"LEGENDE")),"") | I7: =IFERROR(INDIRECT(ADDRESS(MATCH(I$4,METIER3,0),3,4,1,"LEGENDE")),"") -> E6 | J7: =IFERROR(INDIRECT(ADDRESS(MATCH(J$4,METIER3,0),3,4,1,"LEGENDE")),"") | ... DT7: =IFERROR(INDIRECT(ADDRESS(MATCH(DT$4,METIER3,0),3,4,1,"LEGENDE")),"")
A8: =LEGENDE!I1 -> METIER4 | C8: =IFERROR(INDIRECT(ADDRESS(MATCH(C$4,METIER4,0),3,4,1,"LEGENDE")),"") | D8: =IFERROR(INDIRECT(ADDRESS(MATCH(D$4,METIER4,0),3,4,1,"LEGENDE")),"") | E8: =IFERROR(INDIRECT(ADDRESS(MATCH(E$4,METIER4,0),3,4,1,"LEGENDE")),"") | F8: =IFERROR(INDIRECT(ADDRESS(MATCH(F$4,METIER4,0),3,4,1,"LEGENDE")),"") | G8: =IFERROR(INDIRECT(ADDRESS(MATCH(G$4,METIER4,0),3,4,1,"LEGENDE")),"") | H8: =IFERROR(INDIRECT(ADDRESS(MATCH(H$4,METIER4,0),3,4,1,"LEGENDE")),"") | I8: =IFERROR(INDIRECT(ADDRESS(MATCH(I$4,METIER4,0),3,4,1,"LEGENDE")),"") | J8: =IFERROR(INDIRECT(ADDRESS(MATCH(J$4,METIER4,0),3,4,1,"LEGENDE")),"") | ... DT8: =IFERROR(INDIRECT(ADDRESS(MATCH(DT$4,METIER4,0),3,4,1,"LEGENDE")),"")
A9: =LEGENDE!J1 -> 0
A10: =LEGENDE!K1 -> 0
A11: =LEGENDE!L1 -> 0

Sheet LEGENDE
C1: CODE | D1: ECHEANCE | F1: METIER1 | G1: METIER2 | H1: METIER3 | I1: METIER4 | M1: CODE
B2: Etape1 | C2: E1 | D2: X1 | E2: 0 | F2: 42401 | G2: 42374 | H2: 42439 | I2: 42482 | M2: E1
B3: Etape2 | C3: E2 | D3: X2 | E3: 0 | F3: 42415 | G3: 42375 | H3: 42444 | I3: 42489 | M3: E2
B5: Etape3 | C5: E3 | D5: X1 OU X2 - 15 JOURS | E5: 15 | F5: =WORKDAY(F2,-E5) -> 42380 | G5: =WORKDAY(G2,-15) -> 42353 | H5: =WORKDAY(H2,-15) -> 42418 | I5: =WORKDAY(I2,-15) -> 42461 | M5: E3
B7: Etape4 | C7: E4 | D7: X1-30 JOURS | E7: 30 | F7: =WORKDAY(F2,-30) -> 42359 | G7: =WORKDAY(G2,-30) -> 42332 | H7: =WORKDAY(H2,-30) -> 42397 | I7: =WORKDAY(I2,-30) -> 42440 | M7: E4
B8: Etape5 | C8: E5 | D8: X2- 30 JOURS | E8: 30 | F8: =WORKDAY(F3,-30) -> 42373 | G8: =WORKDAY(G3,-30) -> 42333 | H8: =WORKDAY(H3,-30) -> 42402 | I8: =WORKDAY(I3,-30) -> 42447 | M8: E5
B10: Etape6 | C10: E6 | D10: X1 OU X2 - 45 JOURS | E10: 45 | F10: =WORKDAY(F2,-45) -> 42338 | G10: =WORKDAY(G2,-45) -> 42311 | H10: =WORKDAY(H2,-45) -> 42376 | I10: =WORKDAY(I2,-45) -> 42419 | M10: E6
