Workbook

Sheet Feuil1
A5: Nom | B5: Accident | C5: Date de l'accident | D5: Date de fin de l'arrêt | E5: Nombre de jours d'arrêt
A6: José | B6: Avec arrêt | C6: 42374 | D6: 42460 | E6: =DATEDIF(C6,D6,"d") -> 86
A7: Marco | B7: Avec arrêt | C7: 42384 | D7: 42386 | E7: =DATEDIF(C7,D7,"d") -> 2
A8: Isa | B8: Avec arrêt | C8: 42375 | D8: 42401 | E8: =DATEDIF(C8,D8,"d") -> 26

Sheet Feuil2
C5: Premier jour du mois | D5: Dernier jour du mois | E5: Nombre d'heures travaillées | F5: Nombre d'accidents avec arrêt | G5: Nombre d'accident sans arrêt | H5: Nombre de jours d'arrêt | I5: TF1 | J5: TF2 | K5: TG | L5: TF3 | M5: TG2
A6: 1 | B6: 2016 | C6: =DATE($B6,A6,1) -> 42370 | D6: =C7-1 -> 42400 | F6: =COUNTIFS(Feuil1!$C$6:$C$50,">"&Feuil2!C6,Feuil1!$C$6:$C$50,"<"&Feuil2!D6,Feuil1!$B$6:$B$50,"=Accident du Travail Avec Arrêt") -> 0 | G6: =COUNTIFS(Feuil1!$C$6:$C$50,">"&Feuil2!D6,Feuil1!$C$6:$C$50,"<"&Feuil2!E6,Feuil1!$B$6:$B$50,"=Accident du Travail Sans Arrêt") -> 0 | H6: =SUMIFS(Feuil1!$E$6:$E$50,Feuil1!$C$6:$C$50,">"&Feuil2!C6,Feuil1!$C$6:$C$50,"<"&Feuil2!D6) -> 114
A7: 2 | B7: 2016 | C7: =DATE($B7,A7,1) -> 42401 | D7: =C8-1 -> 42429 | F7: =COUNTIFS(Feuil1!$C$6:$C$50,">"&Feuil2!C7,Feuil1!$C$6:$C$50,"<"&Feuil2!D7,Feuil1!$B$6:$B$50,"=Accident du Travail Avec Arrêt") -> 0 | G7: =COUNTIFS(Feuil1!$C$6:$C$50,">"&Feuil2!D7,Feuil1!$C$6:$C$50,"<"&Feuil2!E7,Feuil1!$B$6:$B$50,"=Accident du Travail Sans Arrêt") -> 0 | H7: =SUMIFS(Feuil1!$E$6:$E$50,Feuil1!$C$6:$C$50,">"&Feuil2!C7,Feuil1!$C$6:$C$50,"<"&Feuil2!D7) -> 0
A8: 3 | B8: 2016 | C8: =DATE($B8,A8,1) -> 42430 | D8: =C9-1 -> 42460 | F8: =COUNTIFS(Feuil1!$C$6:$C$50,">"&Feuil2!C8,Feuil1!$C$6:$C$50,"<"&Feuil2!D8,Feuil1!$B$6:$B$50,"=Accident du Travail Avec Arrêt") -> 0 | G8: =COUNTIFS(Feuil1!$C$6:$C$50,">"&Feuil2!D8,Feuil1!$C$6:$C$50,"<"&Feuil2!E8,Feuil1!$B$6:$B$50,"=Accident du Travail Sans Arrêt") -> 0 | H8: =SUMIFS(Feuil1!$E$6:$E$50,Feuil1!$C$6:$C$50,">"&Feuil2!C8,Feuil1!$C$6:$C$50,"<"&Feuil2!D8) -> 0
A9: 4 | B9: 2016 | C9: =DATE($B9,A9,1) -> 42461 | D9: =C10-1 -> 42490 | F9: =COUNTIFS(Feuil1!$C$6:$C$50,">"&Feuil2!C9,Feuil1!$C$6:$C$50,"<"&Feuil2!D9,Feuil1!$B$6:$B$50,"=Accident du Travail Avec Arrêt") -> 0 | G9: =COUNTIFS(Feuil1!$C$6:$C$50,">"&Feuil2!D9,Feuil1!$C$6:$C$50,"<"&Feuil2!E9,Feuil1!$B$6:$B$50,"=Accident du Travail Sans Arrêt") -> 0 | H9: =SUMIFS(Feuil1!$E$6:$E$50,Feuil1!$C$6:$C$50,">"&Feuil2!C9,Feuil1!$C$6:$C$50,"<"&Feuil2!D9) -> 0
A10: 5 | B10: 2016 | C10: =DATE($B10,A10,1) -> 42491 | D10: =C11-1 -> 42521 | F10: =COUNTIFS(Feuil1!$C$6:$C$50,">"&Feuil2!C10,Feuil1!$C$6:$C$50,"<"&Feuil2!D10,Feuil1!$B$6:$B$50,"=Accident du Travail Avec Arrêt") -> 0 | G10: =COUNTIFS(Feuil1!$C$6:$C$50,">"&Feuil2!D10,Feuil1!$C$6:$C$50,"<"&Feuil2!E10,Feuil1!$B$6:$B$50,"=Accident du Travail Sans Arrêt") -> 0 | H10: =SUMIFS(Feuil1!$E$6:$E$50,Feuil1!$C$6:$C$50,">"&Feuil2!C10,Feuil1!$C$6:$C$50,"<"&Feuil2!D10) -> 0
A11: 6 | B11: 2016 | C11: =DATE($B11,A11,1) -> 42522 | D11: =C12-1 -> 42551 | F11: =COUNTIFS(Feuil1!$C$6:$C$50,">"&Feuil2!C11,Feuil1!$C$6:$C$50,"<"&Feuil2!D11,Feuil1!$B$6:$B$50,"=Accident du Travail Avec Arrêt") -> 0 | G11: =COUNTIFS(Feuil1!$C$6:$C$50,">"&Feuil2!D11,Feuil1!$C$6:$C$50,"<"&Feuil2!E11,Feuil1!$B$6:$B$50,"=Accident du Travail Sans Arrêt") -> 0 | H11: =SUMIFS(Feuil1!$E$6:$E$50,Feuil1!$C$6:$C$50,">"&Feuil2!C11,Feuil1!$C$6:$C$50,"<"&Feuil2!D11) -> 0
A12: 7 | B12: 2016 | C12: =DATE($B12,A12,1) -> 42552 | D12: =C13-1 -> 42582 | F12: =COUNTIFS(Feuil1!$C$6:$C$50,">"&Feuil2!C12,Feuil1!$C$6:$C$50,"<"&Feuil2!D12,Feuil1!$B$6:$B$50,"=Accident du Travail Avec Arrêt") -> 0 | G12: =COUNTIFS(Feuil1!$C$6:$C$50,">"&Feuil2!D12,Feuil1!$C$6:$C$50,"<"&Feuil2!E12,Feuil1!$B$6:$B$50,"=Accident du Travail Sans Arrêt") -> 0 | H12: =SUMIFS(Feuil1!$E$6:$E$50,Feuil1!$C$6:$C$50,">"&Feuil2!C12,Feuil1!$C$6:$C$50,"<"&Feuil2!D12) -> 0
A13: 8 | B13: 2016 | C13: =DATE($B13,A13,1) -> 42583 | D13: =C14-1 -> 42613 | F13: =COUNTIFS(Feuil1!$C$6:$C$50,">"&Feuil2!C13,Feuil1!$C$6:$C$50,"<"&Feuil2!D13,Feuil1!$B$6:$B$50,"=Accident du Travail Avec Arrêt") -> 0 | G13: =COUNTIFS(Feuil1!$C$6:$C$50,">"&Feuil2!D13,Feuil1!$C$6:$C$50,"<"&Feuil2!E13,Feuil1!$B$6:$B$50,"=Accident du Travail Sans Arrêt") -> 0 | H13: =SUMIFS(Feuil1!$E$6:$E$50,Feuil1!$C$6:$C$50,">"&Feuil2!C13,Feuil1!$C$6:$C$50,"<"&Feuil2!D13) -> 0
A14: 9 | B14: 2016 | C14: =DATE($B14,A14,1) -> 42614 | D14: =C15-1 -> 42643 | F14: =COUNTIFS(Feuil1!$C$6:$C$50,">"&Feuil2!C14,Feuil1!$C$6:$C$50,"<"&Feuil2!D14,Feuil1!$B$6:$B$50,"=Accident du Travail Avec Arrêt") -> 0 | G14: =COUNTIFS(Feuil1!$C$6:$C$50,">"&Feuil2!D14,Feuil1!$C$6:$C$50,"<"&Feuil2!E14,Feuil1!$B$6:$B$50,"=Accident du Travail Sans Arrêt") -> 0 | H14: =SUMIFS(Feuil1!$E$6:$E$50,Feuil1!$C$6:$C$50,">"&Feuil2!C14,Feuil1!$C$6:$C$50,"<"&Feuil2!D14) -> 0
A15: 10 | B15: 2016 | C15: =DATE($B15,A15,1) -> 42644 | D15: =C16-1 -> 42674 | F15: =COUNTIFS(Feuil1!$C$6:$C$50,">"&Feuil2!C15,Feuil1!$C$6:$C$50,"<"&Feuil2!D15,Feuil1!$B$6:$B$50,"=Accident du Travail Avec Arrêt") -> 0 | G15: =COUNTIFS(Feuil1!$C$6:$C$50,">"&Feuil2!D15,Feuil1!$C$6:$C$50,"<"&Feuil2!E15,Feuil1!$B$6:$B$50,"=Accident du Travail Sans Arrêt") -> 0 | H15: =SUMIFS(Feuil1!$E$6:$E$50,Feuil1!$C$6:$C$50,">"&Feuil2!C15,Feuil1!$C$6:$C$50,"<"&Feuil2!D15) -> 0
A16: 11 | B16: 2016 | C16: =DATE($B16,A16,1) -> 42675 | D16: =C17-1 -> 42704 | F16: =COUNTIFS(Feuil1!$C$6:$C$50,">"&Feuil2!C16,Feuil1!$C$6:$C$50,"<"&Feuil2!D16,Feuil1!$B$6:$B$50,"=Accident du Travail Avec Arrêt") -> 0 | G16: =COUNTIFS(Feuil1!$C$6:$C$50,">"&Feuil2!D16,Feuil1!$C$6:$C$50,"<"&Feuil2!E16,Feuil1!$B$6:$B$50,"=Accident du Travail Sans Arrêt") -> 0 | H16: =SUMIFS(Feuil1!$E$6:$E$50,Feuil1!$C$6:$C$50,">"&Feuil2!C16,Feuil1!$C$6:$C$50,"<"&Feuil2!D16) -> 0
A17: 12 | B17: 2016 | C17: =DATE($B17,A17,1) -> 42705 | D17: =C17+30 -> 42735 | F17: =COUNTIFS(Feuil1!$C$6:$C$50,">"&Feuil2!C17,Feuil1!$C$6:$C$50,"<"&Feuil2!D17,Feuil1!$B$6:$B$50,"=Accident du Travail Avec Arrêt") -> 0 | G17: =COUNTIFS(Feuil1!$C$6:$C$50,">"&Feuil2!D17,Feuil1!$C$6:$C$50,"<"&Feuil2!E17,Feuil1!$B$6:$B$50,"=Accident du Travail Sans Arrêt") -> 0 | H17: =SUMIFS(Feuil1!$E$6:$E$50,Feuil1!$C$6:$C$50,">"&Feuil2!C17,Feuil1!$C$6:$C$50,"<"&Feuil2!D17) -> 0

Sheet Feuil3
B2: Accident du Travail Avec Arrêt
B3: Accident du Travail Sans Arrêt
B4: Incident

Sheet Feuil4
