Workbook
Name AGENCE: 'Saisie PS'!$A$3:$A$9
Name AGENCES: 'Saisie PS'!$A$3:$A$9

Sheet Saisie PS
D1: Code risque | E1: 300 | F1: 301 | G1: 302 | H1: 303 | I1: 304 | J1: 305 | K1: 306 | L1: 307 | M1: 308 | N1: 400 | O1: 410 | P1: 411 | Q1: 412 | R1: 413 | S1: 414 | T1: 415 | U1: 416 | V1: 417 | W1: 418
B2: Réponses recues | C2: % réponse | D2: nbre observations totales
A3: BATIMENT | B3: =SUMPRODUCT(('Saisie PS'!$D$15:$D$463="OUI")*('Saisie PS'!$A$15:$A$463="BATIMENT")) -> 0 | C3: =B3/#REF! -> #REF! | D3: =SUMIF('Saisie PS'!$A$15:$A$463,"BATIMENT",'Saisie PS'!#REF!) -> #REF! | E3: =SUMIF($A15:$A$463,"BATIMENT",E15:E463) -> 0 | F3: =SUMIF($A15:$A$463,"BATIMENT",F15:F463) -> 0 | G3: =SUMIF($A15:$A$463,"BATIMENT",G15:G463) -> 0 | H3: =SUMIF($A15:$A$463,"BATIMENT",H15:H463) -> 0 | I3: =SUMIF($A15:$A$463,"BATIMENT",I15:I463) -> 0 | J3: =SUMIF($A15:$A$463,"BATIMENT",J15:J463) -> 0 | K3: =SUMIF($A15:$A$463,"BATIMENT",K15:K463) -> 0 | L3: =SUMIF($A15:$A$463,"BATIMENT",L15:L463) -> 0 | ... W3: =SUMIF($A15:$A$463,"BATIMENT",W15:W463) -> 0
A4: MAINT ROUEN | B4: =SUMPRODUCT(('Saisie PS'!$D$15:$D$463="OUI")*('Saisie PS'!$A$15:$A$463="MAINT ROUEN")) -> 0 | C4: =B4/#REF! -> #REF! | D4: =SUMIF('Saisie PS'!$A$15:$A$463,"MAINT ROUEN",'Saisie PS'!#REF!) -> #REF! | E4: =SUMIF($A15:$A$463,"MAINT ROUEN",E15:E463) -> 0 | F4: =SUMIF($A15:$A$463,"MAINT ROUEN",F15:F463) -> 0 | G4: =SUMIF($A15:$A$463,"MAINT ROUEN",G15:G463) -> 0 | H4: =SUMIF($A15:$A$463,"MAINT ROUEN",H15:H463) -> 0 | I4: =SUMIF($A15:$A$463,"MAINT ROUEN",I15:I463) -> 0 | J4: =SUMIF($A15:$A$463,"MAINT ROUEN",J15:J463) -> 0 | K4: =SUMIF($A15:$A$463,"MAINT ROUEN",K15:K463) -> 0 | L4: =SUMIF($A15:$A$463,"MAINT ROUEN",L15:L463) -> 0 | ... W4: =SUMIF($A15:$A$463,"MAINT ROUEN",W15:W463) -> 0
A5: MAINT LE HAVRE | B5: =SUMPRODUCT(('Saisie PS'!$D$15:$D$463="OUI")*('Saisie PS'!$A$15:$A$463="MAINT LE HAVRE")) -> 0 | C5: =B5/#REF! -> #REF! | D5: =SUMIF('Saisie PS'!$A$15:$A$463,"MAINT LE HAVRE",'Saisie PS'!#REF!) -> #REF! | E5: =SUMIF($A15:$A$463,"MAINT ROUEN",E15:E464) -> 0 | F5: =SUMIF($A15:$A$463,"MAINT ROUEN",F15:F464) -> 0 | G5: =SUMIF($A15:$A$463,"MAINT ROUEN",G15:G464) -> 0 | H5: =SUMIF($A15:$A$463,"MAINT ROUEN",H15:H464) -> 0 | I5: =SUMIF($A15:$A$463,"MAINT ROUEN",I15:I464) -> 0 | J5: =SUMIF($A15:$A$463,"MAINT ROUEN",J15:J464) -> 0 | K5: =SUMIF($A15:$A$463,"MAINT ROUEN",K15:K464) -> 0 | L5: =SUMIF($A15:$A$463,"MAINT ROUEN",L15:L464) -> 0 | ... W5: =SUMIF($A15:$A$463,"MAINT ROUEN",W15:W464) -> 0
A6: MAINT MONDEVILLE | B6: =SUMPRODUCT(('Saisie PS'!$D$15:$D$463="OUI")*('Saisie PS'!$A$15:$A$463="MAINT MONDEVILLE")) -> 0 | C6: =B6/#REF! -> #REF! | D6: =SUMIF('Saisie PS'!$A$15:$A$463,"MAINT MONDEVILLE",'Saisie PS'!#REF!) -> #REF! | E6: =SUMIF($A15:$A$463,"MAINT MONDEVILLE",E15:E463) -> 0 | F6: =SUMIF($A15:$A$463,"MAINT MONDEVILLE",F15:F463) -> 0 | G6: =SUMIF($A15:$A$463,"MAINT MONDEVILLE",G15:G463) -> 0 | H6: =SUMIF($A15:$A$463,"MAINT MONDEVILLE",H15:H463) -> 0 | I6: =SUMIF($A15:$A$463,"MAINT MONDEVILLE",I15:I463) -> 0 | J6: =SUMIF($A15:$A$463,"MAINT MONDEVILLE",J15:J463) -> 0 | K6: =SUMIF($A15:$A$463,"MAINT MONDEVILLE",K15:K463) -> 0 | L6: =SUMIF($A15:$A$463,"MAINT MONDEVILLE",L15:L463) -> 0 | ... W6: =SUMIF($A15:$A$463,"MAINT MONDEVILLE",W15:W463) -> 0
A7: TOTAL MAINTENANCE | B7: =SUM(B4:B6) -> 0 | C7: =B7/#REF! -> #REF! | D7: =SUM(D4:D6) -> #REF! | E7: =SUMIF($A15:$A$465,"MAINT ROUEN",E15:E465)+SUMIF($A15:$A$465,"MAINT LE HAVRE",E15:E465)+SUMIF($A15:$A$465,"MAINT MONDEVILLE",E15:E465) -> 0 | F7: =SUMIF($A15:$A$465,"MAINT ROUEN",F15:F465)+SUMIF($A15:$A$465,"MAINT LE HAVRE",F15:F465)+SUMIF($A15:$A$465,"MAINT MONDEVILLE",F15:F465) -> 0 | G7: =SUMIF($A15:$A$465,"MAINT ROUEN",G15:G465)+SUMIF($A15:$A$465,"MAINT LE HAVRE",G15:G465)+SUMIF($A15:$A$465,"MAINT MONDEVILLE",G15:G465) -> 0 | H7: =SUMIF($A15:$A$465,"MAINT ROUEN",H15:H465)+SUMIF($A15:$A$465,"MAINT LE HAVRE",H15:H465)+SUMIF($A15:$A$465,"MAINT MONDEVILLE",H15:H465) -> 0 | I7: =SUMIF($A15:$A$465,"MAINT ROUEN",I15:I465)+SUMIF($A15:$A$465,"MAINT LE HAVRE",I15:I465)+SUMIF($A15:$A$465,"MAINT MONDEVILLE",I15:I465) -> 0 | J7: =SUMIF($A15:$A$465,"MAINT ROUEN",J15:J465)+SUMIF($A15:$A$465,"MAINT LE HAVRE",J15:J465)+SUMIF($A15:$A$465,"MAINT MONDEVILLE",J15:J465) -> 0 | K7: =SUMIF($A15:$A$465,"MAINT ROUEN",K15:K465)+SUMIF($A15:$A$465,"MAINT LE HAVRE",K15:K465)+SUMIF($A15:$A$465,"MAINT MONDEVILLE",K15:K465) -> 0 | L7: =SUMIF($A15:$A$465,"MAINT ROUEN",L15:L465)+SUMIF($A15:$A$465,"MAINT LE HAVRE",L15:L465)+SUMIF($A15:$A$465,"MAINT MONDEVILLE",L15:L465) -> 0 | ... W7: =SUMIF($A15:$A$465,"MAINT ROUEN",W15:W465)+SUMIF($A15:$A$465,"MAINT LE HAVRE",W15:W465)+SUMIF($A15:$A$465,"MAINT MONDEVILLE",W15:W465) -> 0
A8: TP HARFLEUR | B8: =SUMPRODUCT(('Saisie PS'!$D$15:$D$463="OUI")*('Saisie PS'!$A$15:$A$463="TP HARFLEUR")) -> 0 | C8: =B8/#REF! -> #REF! | D8: =SUMIF('Saisie PS'!$A$15:$A$463,"TP HARFLEUR",'Saisie PS'!#REF!) -> #REF! | E8: =SUMIF($A15:$A$463,"TP HARFLEUR",E15:E463) -> 0 | F8: =SUMIF($A15:$A$463,"TP HARFLEUR",F15:F463) -> 0 | G8: =SUMIF($A15:$A$463,"TP HARFLEUR",G15:G463) -> 0 | H8: =SUMIF($A15:$A$463,"TP HARFLEUR",H15:H463) -> 0 | I8: =SUMIF($A15:$A$463,"TP HARFLEUR",I15:I463) -> 0 | J8: =SUMIF($A15:$A$463,"TP HARFLEUR",J15:J463) -> 0 | K8: =SUMIF($A15:$A$463,"TP HARFLEUR",K15:K463) -> 0 | L8: =SUMIF($A15:$A$463,"TP HARFLEUR",L15:L463) -> 0 | ... W8: =SUMIF($A15:$A$463,"TP HARFLEUR",W15:W463) -> 0
A9: TP PETIT QUEVILLY | B9: =SUMPRODUCT(('Saisie PS'!$D$15:$D$463="OUI")*('Saisie PS'!$A$15:$A$463="TP PETIT QUEVILLY")) -> 0 | C9: =B9/#REF! -> #REF! | D9: =SUMIF('Saisie PS'!$A$15:$A$463,"TP PETIT QUEVILLY",'Saisie PS'!#REF!) -> #REF! | E9: =SUMIF($A15:$A$463,"TP PETIT QUEVILLY",E15:E463) -> 0 | F9: =SUMIF($A15:$A$463,"TP PETIT QUEVILLY",F15:F463) -> 0 | G9: =SUMIF($A15:$A$463,"TP PETIT QUEVILLY",G15:G463) -> 0 | H9: =SUMIF($A15:$A$463,"TP PETIT QUEVILLY",H15:H463) -> 0 | I9: =SUMIF($A15:$A$463,"TP PETIT QUEVILLY",I15:I463) -> 0 | J9: =SUMIF($A15:$A$463,"TP PETIT QUEVILLY",J15:J463) -> 0 | K9: =SUMIF($A15:$A$463,"TP PETIT QUEVILLY",K15:K463) -> 0 | L9: =SUMIF($A15:$A$463,"TP PETIT QUEVILLY",L15:L463) -> 0 | ... W9: =SUMIF($A15:$A$463,"TP PETIT QUEVILLY",W15:W463) -> 0
A10: TOTAL TP | B10: =SUM(B8:B9) -> 0 | C10: =B10/#REF! -> #REF! | D10: =SUM(D8:D9) -> #REF! | E10: =SUMIF($A15:$A$465,"TP HARFLEUR",E15:E468)+SUMIF($A15:$A$465,"TP PETIT QUEVILLY",E15:E468) -> 0 | F10: =SUMIF($A15:$A$465,"TP HARFLEUR",F15:F468)+SUMIF($A15:$A$465,"TP PETIT QUEVILLY",F15:F468) -> 0 | G10: =SUMIF($A15:$A$465,"TP HARFLEUR",G15:G468)+SUMIF($A15:$A$465,"TP PETIT QUEVILLY",G15:G468) -> 0 | H10: =SUMIF($A15:$A$465,"TP HARFLEUR",H15:H468)+SUMIF($A15:$A$465,"TP PETIT QUEVILLY",H15:H468) -> 0 | I10: =SUMIF($A15:$A$465,"TP HARFLEUR",I15:I468)+SUMIF($A15:$A$465,"TP PETIT QUEVILLY",I15:I468) -> 0 | J10: =SUMIF($A15:$A$465,"TP HARFLEUR",J15:J468)+SUMIF($A15:$A$465,"TP PETIT QUEVILLY",J15:J468) -> 0 | K10: =SUMIF($A15:$A$465,"TP HARFLEUR",K15:K468)+SUMIF($A15:$A$465,"TP PETIT QUEVILLY",K15:K468) -> 0 | L10: =SUMIF($A15:$A$465,"TP HARFLEUR",L15:L468)+SUMIF($A15:$A$465,"TP PETIT QUEVILLY",L15:L468) -> 0 | ... W10: =SUMIF($A15:$A$465,"TP HARFLEUR",W15:W468)+SUMIF($A15:$A$465,"TP PETIT QUEVILLY",W15:W468) -> 0
A11: TOTAL REGION | B11: =SUM(B3,B7,B10) -> 0 | C11: =B11/#REF! -> #REF! | D11: =SUM(D3,D7,D10) -> #REF! | E11: =SUM(E15:E463) -> 6 | F11: =SUM(F15:F463) -> 2 | G11: =SUM(G15:G463) -> 0 | H11: =SUM(H15:H463) -> 0 | I11: =SUM(I15:I463) -> 0 | J11: =SUM(J15:J463) -> 0 | K11: =SUM(K15:K463) -> 0 | L11: =SUM(L15:L463) -> 1 | ... W11: =SUM(W15:W463) -> 2
A13: Agence | B13: Par | C13: Date visite | D13: Réponse
A15: GCGCLH | B15: XYX | C15: 42016 | E15: =SUM(F15:W15) -> 2 | F15: 1 | L15: 1
A16: GCGCLH | B16: XXY | C16: 42030 | E16: =SUM(F16:W16) -> 4 | F16: 1 | M16: 1 | W16: 2
E17: =SUM(F17:T17) -> 0
E18: =SUM(F18:T18) -> 0
E19: =SUM(F19:T19) -> 0
E20: =SUM(F20:T20) -> 0
E21: =SUM(F21:T21) -> 0
E22: =SUM(F22:T22) -> 0
E23: =SUM(F23:T23) -> 0
E24: =SUM(F24:T24) -> 0
E25: =SUM(F25:T25) -> 0
E26: =SUM(F26:T26) -> 0
E27: =SUM(F27:T27) -> 0
E28: =SUM(F28:T28) -> 0
... E463: =SUM(F463:T463) -> 0

Sheet Client
A4: informations générales | D4: items questionnables
A5: date | B5: Auditeur | C5: secteur | D5: N° | E5: RCAF | F5: facteur humain | G5: facteur organisationnel | H5: Facteur technique | I5: Dysfonctionnement
A6: 42016 | B6: XYX | C6: GC GCLH | D6: 307 | E6: 2 | F6: oui | I6: des gravats tombent en dehors de la zone balisée
D7: 301 | E7: 4 | F7: oui | I7: le barreau de l'échelle d'accès de l'échafaudage se confond avec une moise
A8: 42030 | B8: XXY | C8: GCGCLH | D8: 301 | I8: l'accès à la fouille n'est pas sécurisé
D9: 418 | I9: les compagnons ne connaissent que partiellement les fonctions du détecteur de gaz
D10: 418 | I10: il y a des purges vapeur à proximité du poste de travail entrainant le risque de brulures
D11: 308 | I11: l'extincteur présent sur le chantier est en fin de validité
A464: PREVENIR EMILIE SI CETTE LIMITE DOIT ETRE DEPASSEE

Sheet Feuil3
