Workbook

Sheet Fiche idée
C3: FICHE IDEE | O3: FICHE IDEE
C5: Zone: | E5: TEM | F5: Date: | G5: 43168 | I5: A remplir par l'émetteur | O5: Zone: | R5: Date: | U5: A remplir par l'émetteur
C6: Problème rencontré: | O6: Problème rencontré:
D7: voici le problème rencontré….
C8: Problématique sécurité: | O8: Problématique sécurité:
C9: Types de gaspillages : temps, qualité, produit, manque d'informations.. | O9: Types de gaspillages : temps, qualité, produit, manque d'informations..
C11: Description détaillée : | O11: Description détaillée :
D12: Description détaillée bla bla bla….
C13: Qui est affecté ? | O13: Qui est affecté ?
D14: Tout le monde Un groupe de personnes Une personne | P14: Tout le monde Un groupe de personnes Une personne
C15: Approche : (travaux proposés pour obtenir des gains de productivité ) | O15: Approche : (travaux proposés pour obtenir des gains de productivité )
D16: Approche ……..
C18: Gains : | I18: A remplir avec le superviseur | O18: Gains : | U18: A remplir avec le superviseur
C22: Problème déjà rencontré ? | F22: Oui Non | O22: Problème déjà rencontré ? | R22: Oui Non
C23: Si oui, solution déjà apportée: | O23: Si oui, solution déjà apportée:
C26: Communication faite en QRQC ? | O26: Communication faite en QRQC ?
D27: EQ1 EQ2 EQ WE EQ Nuit | P27: EQ1 EQ2 EQ WE EQ Nuit
C33: Nom: | F33: Prénom: | I33: A remplir par l'émetteur | O33: Nom: | R33: Prénom: | U33: A remplir par l'émetteur
C34: Proposition d'amélioration : | O34: Proposition d'amélioration :
D35: Place pour schéma, photo ou texte (pour les photos, trombonnes à dispo pour associer à la fiche) | P35: Place pour schéma, photo ou texte (pour les photos, trombonnes à dispo pour associer à la fiche)
D36: TEXTES ou photo
D66: Critères | F66: Note | G66: Commentaires | I66: A remplir au QRAP | P66: Critères | R66: Note | S66: Commentaires | U66: A remplir au QRAP
D67: Adresse un point sécurité | G67: Commentaires……. | P67: Adresse un point sécurité
D68: L'atelier est autonome pour réaliser | P68: L'atelier est autonome pour réaliser
D69: Budget nécessaire | P69: Budget nécessaire
D70: Améliore la qualité du produit | P70: Améliore la qualité du produit
D71: Modifie le process | P71: Modifie le process
D72: Périmètre (référence ou atelier) | P72: Périmètre (référence ou atelier)
D73: Gain de temps | P73: Gain de temps
D74: Rapidité de mise en place | P74: Rapidité de mise en place
D75: TOTAL cotation technique | P75: TOTAL cotation technique
D76: Vote de la prod (50%) | P76: Vote de la prod (50%)
D77: TOTAL cotation Finale | P77: TOTAL cotation Finale

Sheet copie fiche
A2: =CONCATENATE("Zone "&C2&TEXT(C3," - jj/mm/aaaa")) -> Zone TEM - 09/03/2018 | B2: Zone | C2: ='Fiche idée'!E5 -> TEM
A3: =A2 -> Zone TEM - 09/03/2018 | B3: Date | C3: ='Fiche idée'!G5 -> 43168
A4: =A3 -> Zone TEM - 09/03/2018 | B4: Problème rencontré | C4: ='Fiche idée'!D7 -> voici le problème rencontré….
A5: =A4 -> Zone TEM - 09/03/2018 | B5: Problématique sécurité | C5: TRUE
A6: =A5 -> Zone TEM - 09/03/2018 | B6: Types de gaspillages // Transport | C6: FALSE
A7: =A6 -> Zone TEM - 09/03/2018 | B7: Types de gaspillages // Mouvement
A8: =A7 -> Zone TEM - 09/03/2018 | B8: Types de gaspillages // Sur-Qualité
A9: =A8 -> Zone TEM - 09/03/2018 | B9: Types de gaspillages // Défauts
A10: =A9 -> Zone TEM - 09/03/2018 | B10: Types de gaspillages // Attente
A11: =A10 -> Zone TEM - 09/03/2018 | B11: Types de gaspillages // Sur-production
A12: =A11 -> Zone TEM - 09/03/2018 | B12: Types de gaspillages // Stock
A13: =A12 -> Zone TEM - 09/03/2018 | B13: Description détaillée | C13: ='Fiche idée'!D12 -> Description détaillée bla bla bla….
A14: =A13 -> Zone TEM - 09/03/2018 | B14: Qui est affecté ? // Tout le monde
A15: =A14 -> Zone TEM - 09/03/2018 | B15: Qui est affecté ? // Un groupe de personnes
A16: =A15 -> Zone TEM - 09/03/2018 | B16: Qui est affecté ? // Une personne
A17: =A16 -> Zone TEM - 09/03/2018 | B17: Approche | C17: ='Fiche idée'!D16 -> Approche ……..
A18: =A17 -> Zone TEM - 09/03/2018 | B18: Gains // S
A19: =A18 -> Zone TEM - 09/03/2018 | B19: Gains // Q
A20: =A19 -> Zone TEM - 09/03/2018 | B20: Gains // C
A21: =A20 -> Zone TEM - 09/03/2018 | B21: Gains // D
A22: =A21 -> Zone TEM - 09/03/2018 | B22: Gains // P
A23: =A22 -> Zone TEM - 09/03/2018 | B23: Problème déjà rencontré
A24: =A23 -> Zone TEM - 09/03/2018 | B24: Communication faite en QRQC ? // EQ1
A25: =A24 -> Zone TEM - 09/03/2018 | B25: Communication faite en QRQC ? // EQ2
A26: =A25 -> Zone TEM - 09/03/2018 | B26: Communication faite en QRQC ? // EQ WE
A27: =A26 -> Zone TEM - 09/03/2018 | B27: Communication faite en QRQC ? // EQ Nuit
A28: =A27 -> Zone TEM - 09/03/2018 | B28: Proposition d'amélioration : | C28: ='Fiche idée'!D36 -> TEXTES ou photo
A29: =A28 -> Zone TEM - 09/03/2018 | B29: Critères // Adresse un point sécurité | C29: ='Fiche idée'!F67 -> 0
A30: =A29 -> Zone TEM - 09/03/2018 | B30: Critères // L'atelier est autonome pour réaliser | C30: ='Fiche idée'!F68 -> 0
A31: =A30 -> Zone TEM - 09/03/2018 | B31: Critères // Budget nécessaire | C31: ='Fiche idée'!F69 -> 0
A32: =A31 -> Zone TEM - 09/03/2018 | B32: Critères // Améliore la qualité du produit | C32: ='Fiche idée'!F70 -> 0
A33: =A32 -> Zone TEM - 09/03/2018 | B33: Critères // Modifie le process | C33: ='Fiche idée'!F71 -> 0
A34: =A33 -> Zone TEM - 09/03/2018 | B34: Critères // Périmètre (référence ou atelier) | C34: ='Fiche idée'!F72 -> 0
A35: =A34 -> Zone TEM - 09/03/2018 | B35: Critères // Gain de temps | C35: ='Fiche idée'!F73 -> 0
A36: =A35 -> Zone TEM - 09/03/2018 | B36: Critères // Rapidité de mise en place | C36: ='Fiche idée'!F74 -> 0
A37: =A36 -> Zone TEM - 09/03/2018 | B37: Critères // TOTAL cotation technique | C37: ='Fiche idée'!F75 -> 0
A38: =A37 -> Zone TEM - 09/03/2018 | B38: Critères // Vote de la prod (50%) | C38: ='Fiche idée'!F76 -> 0
A39: =A38 -> Zone TEM - 09/03/2018 | B39: Critères // TOTAL cotation Finale | C39: ='Fiche idée'!F77 -> 0
A40: =A39 -> Zone TEM - 09/03/2018 | B40: Critères // Commentaires | C40: ='Fiche idée'!G67 -> Commentaires…….

Sheet Données
A2: Zone TEM - 09/03/2018 | B2: Zone | C2: TEM
A3: Zone TEM - 09/03/2018 | B3: Date | C3: 43168
A4: Zone TEM - 09/03/2018 | B4: Problème rencontré | C4: voici le problème rencontré….
A5: Zone TEM - 09/03/2018 | B5: Problématique sécurité | C5: TRUE
A6: Zone TEM - 09/03/2018 | B6: Types de gaspillages // Transport | C6: FALSE
A7: Zone TEM - 09/03/2018 | B7: Types de gaspillages // Mouvement
A8: Zone TEM - 09/03/2018 | B8: Types de gaspillages // Sur-Qualité
A9: Zone TEM - 09/03/2018 | B9: Types de gaspillages // Défauts
A10: Zone TEM - 09/03/2018 | B10: Types de gaspillages // Attente
A11: Zone TEM - 09/03/2018 | B11: Types de gaspillages // Sur-production
A12: Zone TEM - 09/03/2018 | B12: Types de gaspillages // Stock
A13: Zone TEM - 09/03/2018 | B13: Description détaillée | C13: Description détaillée bla bla bla….
A14: Zone TEM - 09/03/2018 | B14: Qui est affecté ? // Tout le monde
A15: Zone TEM - 09/03/2018 | B15: Qui est affecté ? // Un groupe de personnes
A16: Zone TEM - 09/03/2018 | B16: Qui est affecté ? // Une personne
A17: Zone TEM - 09/03/2018 | B17: Approche | C17: Approche ……..
A18: Zone TEM - 09/03/2018 | B18: Gains // S
A19: Zone TEM - 09/03/2018 | B19: Gains // Q
A20: Zone TEM - 09/03/2018 | B20: Gains // C
A21: Zone TEM - 09/03/2018 | B21: Gains // D
A22: Zone TEM - 09/03/2018 | B22: Gains // P
A23: Zone TEM - 09/03/2018 | B23: Problème déjà rencontré
A24: Zone TEM - 09/03/2018 | B24: Communication faite en QRQC ? // EQ1
A25: Zone TEM - 09/03/2018 | B25: Communication faite en QRQC ? // EQ2
A26: Zone TEM - 09/03/2018 | B26: Communication faite en QRQC ? // EQ WE
A27: Zone TEM - 09/03/2018 | B27: Communication faite en QRQC ? // EQ Nuit
A28: Zone TEM - 09/03/2018 | B28: Proposition d'amélioration : | C28: TEXTES ou photo
A29: Zone TEM - 09/03/2018 | B29: Critères // Adresse un point sécurité | C29: 0
A30: Zone TEM - 09/03/2018 | B30: Critères // L'atelier est autonome pour réaliser | C30: 0
A31: Zone TEM - 09/03/2018 | B31: Critères // Budget nécessaire | C31: 0
A32: Zone TEM - 09/03/2018 | B32: Critères // Améliore la qualité du produit | C32: 0
A33: Zone TEM - 09/03/2018 | B33: Critères // Modifie le process | C33: 0
A34: Zone TEM - 09/03/2018 | B34: Critères // Périmètre (référence ou atelier) | C34: 0
A35: Zone TEM - 09/03/2018 | B35: Critères // Gain de temps | C35: 0
A36: Zone TEM - 09/03/2018 | B36: Critères // Rapidité de mise en place | C36: 0
A37: Zone TEM - 09/03/2018 | B37: Critères // TOTAL cotation technique | C37: 0
A38: Zone TEM - 09/03/2018 | B38: Critères // Vote de la prod (50%) | C38: 0
A39: Zone TEM - 09/03/2018 | B39: Critères // TOTAL cotation Finale | C39: 0
A40: Zone TEM - 09/03/2018 | B40: Critères // Commentaires | C40: Commentaires…….
A41: Zone MCA - 06/03/2018 | B41: Zone | C41: MCA
A42: Zone MCA - 06/03/2019 | B42: Date | C42: 43165
A43: Zone MCA - 06/03/2020 | B43: Problème rencontré | C43: voici le problème rencontré….
A44: Zone MCA - 06/03/2021 | B44: Problématique sécurité | C44: TRUE
A45: Zone MCA - 06/03/2022 | B45: Types de gaspillages // Transport | C45: FALSE
A46: Zone MCA - 06/03/2023 | B46: Types de gaspillages // Mouvement
A47: Zone MCA - 06/03/2024 | B47: Types de gaspillages // Sur-Qualité
A48: Zone MCA - 06/03/2025 | B48: Types de gaspillages // Défauts
A49: Zone MCA - 06/03/2026 | B49: Types de gaspillages // Attente
A50: Zone MCA - 06/03/2027 | B50: Types de gaspillages // Sur-production
A51: Zone MCA - 06/03/2028 | B51: Types de gaspillages // Stock
A52: Zone MCA - 06/03/2029 | B52: Description détaillée | C52: Description détaillée bla bla bla….
A53: Zone MCA - 06/03/2030 | B53: Qui est affecté ? // Tout le monde
A54: Zone MCA - 06/03/2031 | B54: Qui est affecté ? // Un groupe de personnes
A55: Zone MCA - 06/03/2032 | B55: Qui est affecté ? // Une personne
A56: Zone MCA - 06/03/2033 | B56: Approche | C56: Approche ……..
A57: Zone MCA - 06/03/2034 | B57: Gains // S
A58: Zone MCA - 06/03/2035 | B58: Gains // Q
A59: Zone MCA - 06/03/2036 | B59: Gains // C
A60: Zone MCA - 06/03/2037 | B60: Gains // D
A61: Zone MCA - 06/03/2038 | B61: Gains // P
A62: Zone MCA - 06/03/2039 | B62: Problème déjà rencontré
A63: Zone MCA - 06/03/2040 | B63: Communication faite en QRQC ? // EQ1
A64: Zone MCA - 06/03/2041 | B64: Communication faite en QRQC ? // EQ2
A65: Zone MCA - 06/03/2042 | B65: Communication faite en QRQC ? // EQ WE
A66: Zone MCA - 06/03/2043 | B66: Communication faite en QRQC ? // EQ Nuit
A67: Zone MCA - 06/03/2044 | B67: Proposition d'amélioration : | C67: TEXTES ou photo
A68: Zone MCA - 06/03/2045 | B68: Critères // Adresse un point sécurité | C68: 0
A69: Zone MCA - 06/03/2046 | B69: Critères // L'atelier est autonome pour réaliser | C69: 0
A70: Zone MCA - 06/03/2047 | B70: Critères // Budget nécessaire | C70: 0
A71: Zone MCA - 06/03/2048 | B71: Critères // Améliore la qualité du produit | C71: 0
A72: Zone MCA - 06/03/2049 | B72: Critères // Modifie le process | C72: 0
A73: Zone MCA - 06/03/2050 | B73: Critères // Périmètre (référence ou atelier) | C73: 0
A74: Zone MCA - 06/03/2051 | B74: Critères // Gain de temps | C74: 0
A75: Zone MCA - 06/03/2052 | B75: Critères // Rapidité de mise en place | C75: 0
A76: Zone MCA - 06/03/2053 | B76: Critères // TOTAL cotation technique | C76: 0
A77: Zone MCA - 06/03/2054 | B77: Critères // Vote de la prod (50%) | C77: 0
A78: Zone MCA - 06/03/2055 | B78: Critères // TOTAL cotation Finale | C78: 0
A79: Zone MCA - 06/03/2056 | B79: Critères // Commentaires | C79: Commentaires…….

Sheet TDC
